{"text_format":"3","workbook":"xlsx","n_sheets":4,"sheets":["D15","D16","Filtro_","BBDD_"],"not_rendered":{"external_links":1,"defined_names":1,"pivot_tables":1},"read":"whole","date_system":"1900"}

{"sheet":"D15","index":0,"n_rows":149,"n_cols":36,"rows_kept":149,"merged":[[6,1,6,17],[8,1,11,1],[8,2,11,2],[8,3,11,3],[8,4,8,10],[8,11,8,12],[8,13,8,15],[9,4,11,4],[9,5,11,5],[9,6,11,6],[9,7,11,7],[9,8,11,8],[9,9,11,9],[9,10,11,10],[9,11,11,11],[9,12,11,12],[9,13,11,13],[9,14,11,14],[9,15,11,15],[12,1,16,1],[17,1,22,1],[23,1,25,1],[28,1,30,1],[31,1,31,2],[33,1,36,2],[33,3,36,3],[33,4,36,4],[33,5,36,5],[33,6,33,12],[33,13,33,14],[33,15,33,17],[34,6,36,6],[34,7,36,7],[34,8,36,8],[34,9,36,9],[34,10,36,10],[34,11,36,11],[34,12,36,12],[34,13,36,13],[34,14,36,14],[34,15,36,15],[34,16,36,16],[34,17,36,17],[37,1,37,2],[39,1,39,2],[41,1,41,2],[42,1,42,2],[45,1,48,1],[45,2,48,2],[45,3,48,3],[45,4,45,10],[45,11,45,12],[45,13,45,15],[46,4,48,4],[46,5,48,5],[46,6,48,6],[46,7,48,7],[46,8,48,8],[46,9,48,9],[46,10,48,10],[46,11,48,11],[46,12,48,12],[46,13,48,13],[46,14,48,14],[46,15,48,15],[49,1,53,1],[49,16,49,22],[51,16,51,22],[54,1,59,1],[54,16,54,22],[55,16,55,22],[56,16,56,22],[57,16,57,22],[60,1,64,1],[65,1,67,1],[68,1,68,2],[70,1,73,2],[70,3,73,3],[70,4,73,4],[70,5,73,5],[70,6,70,12],[70,13,70,14],[70,15,70,17],[71,6,73,6],[71,7,73,7],[71,8,73,8],[71,9,73,9],[71,10,73,10],[71,11,73,11],[71,12,73,12],[71,13,73,13],[71,14,73,14],[71,15,73,15],[71,16,73,16],[71,17,73,17],[74,1,74,2],[76,1,76,2],[77,1,77,2],[78,1,78,2],[79,1,79,2],[83,1,85,2],[83,3,85,3],[83,4,83,5],[83,6,85,6],[83,7,83,13],[83,14,85,14],[83,15,83,16],[84,4,85,4],[84,5,85,5],[84,7,84,9],[84,10,85,10],[84,11,85,11],[84,12,85,12],[84,13,85,13],[84,15,85,15],[84,16,85,16],[86,1,86,2],[87,1,87,2],[88,1,88,2],[90,1,90,2],[91,1,91,2],[92,1,92,2],[93,1,93,2],[94,1,94,2],[95,1,95,2]]}
[null,"MINISTERIO DE SALUD"]
[null,"SERVICIO SALUD COQUIMBO"]
[null,"SUBDEPTO. DE ESTADISTICAS Y GESTION DE LA INFORMACION"]
[null,"COMUNA/HOSPITAL"]
[null,"MES"]
[null,"AÑO:  2022"]
[null,"REM-D.15 - Programa Nacional de Alimentación Complementaria (PNAC)"]
[null,"Sección A: PNAC - Cantidad distribuida (kg) a personas intrasistema"]
[null,"Subprogramas","Productos","Total","Menores a 6 años",{"$nulls":6},"Gestantes",null,"Mujer con hijo/a menor a 12 meses"]
[{"$nulls":4},"0 - 2 meses","3 - 5 meses","6 - 11 meses","12 - 17 meses"," 18 - 23 meses"," 24 - 47 meses"," 48 - 71 meses","Normal, sobrepeso y obesas","Bajo peso","0-5 meses con Lactancia Materna exclusiva","0-5 meses Lactancia \nmaterna \npredominante, formula predominante o formula exclusiva","6 a 11 meses Lactancia Materna"]
[]
[]
["15010100","Básico","Leche Purita Fortificada (LPF)",{"$f":"IFERROR(VLOOKUP($A13,Filtro_!$A$5:$P$54,2,FALSE),0)","v":{"v":37337,"d":"37,337.0"}},{"$f":"IFERROR(VLOOKUP($A13,Filtro_!$A$5:$P$54,3,FALSE),0)","v":0},{"$f":"IFERROR(VLOOKUP($A13,Filtro_!$A$5:$P$54,4,FALSE),0)","v":0},{"$f":"IFERROR(VLOOKUP($A13,Filtro_!$A$5:$P$54,5,FALSE),0)","v":{"v":1996,"d":"1,996.0"}},{"$f":"IFERROR(VLOOKUP($A13,Filtro_!$A$5:$P$54,6,FALSE),0)","v":{"v":34737,"d":"34,737.0"}},{"$f":"IFERROR(VLOOKUP($A13,Filtro_!$A$5:$P$54,7,FALSE),0)","v":{"v":234,"d":"234.0"}},{"$f":"IFERROR(VLOOKUP($A13,Filtro_!$A$5:$P$54,8,FALSE),0)","v":{"v":12,"d":"12.0"}},{"$f":"IFERROR(VLOOKUP($A13,Filtro_!$A$5:$P$54,9,FALSE),0)","v":{"v":16,"d":"16.0"}},{"$f":"IFERROR(VLOOKUP($A13,Filtro_!$A$5:$P$54,10,FALSE),0)","v":{"v":181,"d":"181.0"}},{"$f":"IFERROR(VLOOKUP($A13,Filtro_!$A$5:$P$54,11,FALSE),0)","v":{"v":0,"d":"0.0"}},{"$f":"IFERROR(VLOOKUP($A13,Filtro_!$A$5:$P$54,12,FALSE),0)","v":{"v":157,"d":"157.0"}},{"$f":"IFERROR(VLOOKUP($A13,Filtro_!$A$5:$P$54,13,FALSE),0)","v":{"v":2,"d":"2.0"}},{"$f":"IFERROR(VLOOKUP($A13,Filtro_!$A$5:$P$54,14,FALSE),0)","v":{"v":6,"d":"6.0"}},{"$f":"AB13&\" \"&AC13","v":" "}]
["15010200",null,"Purita Cereal (PC)",{"$f":"IFERROR(VLOOKUP($A14,Filtro_!$A$5:$P$54,2,FALSE),0)","v":{"v":153600,"d":"153,600.0"}},{"$f":"IFERROR(VLOOKUP($A14,Filtro_!$A$5:$P$54,3,FALSE),0)","v":0},{"$f":"IFERROR(VLOOKUP($A14,Filtro_!$A$5:$P$54,4,FALSE),0)","v":0},{"$f":"IFERROR(VLOOKUP($A14,Filtro_!$A$5:$P$54,5,FALSE),0)","v":0},{"$f":"IFERROR(VLOOKUP($A14,Filtro_!$A$5:$P$54,6,FALSE),0)","v":0},{"$f":"IFERROR(VLOOKUP($A14,Filtro_!$A$5:$P$54,7,FALSE),0)","v":{"v":30394,"d":"30,394.0"}},{"$f":"IFERROR(VLOOKUP($A14,Filtro_!$A$5:$P$54,8,FALSE),0)","v":{"v":67557,"d":"67,557.0"}},{"$f":"IFERROR(VLOOKUP($A14,Filtro_!$A$5:$P$54,9,FALSE),0)","v":{"v":55651,"d":"55,651.0"}},{"$f":"IFERROR(VLOOKUP($A14,Filtro_!$A$5:$P$54,10,FALSE),0)","v":0},{"$f":"IFERROR(VLOOKUP($A14,Filtro_!$A$5:$P$54,11,FALSE),0)","v":0},{"$f":"IFERROR(VLOOKUP($A14,Filtro_!$A$5:$P$54,12,FALSE),0)","v":0},{"$f":"IFERROR(VLOOKUP($A14,Filtro_!$A$5:$P$54,13,FALSE),0)","v":0},{"$f":"IFERROR(VLOOKUP($A14,Filtro_!$A$5:$P$54,14,FALSE),0)","v":0}]
["15080008",null,"Purita Mamá (PM)",{"$f":"IFERROR(VLOOKUP($A15,Filtro_!$A$5:$P$54,2,FALSE),0)","v":{"v":44835,"d":"44835.0"}},{"$f":"IFERROR(VLOOKUP($A15,Filtro_!$A$5:$P$54,3,FALSE),0)","v":{"v":0,"d":"0.000"}},{"$f":"IFERROR(VLOOKUP($A15,Filtro_!$A$5:$P$54,4,FALSE),0)","v":{"v":0,"d":"0.000"}},{"$f":"IFERROR(VLOOKUP($A15,Filtro_!$A$5:$P$54,5,FALSE),0)","v":{"v":0,"d":"0.000"}},{"$f":"IFERROR(VLOOKUP($A15,Filtro_!$A$5:$P$54,6,FALSE),0)","v":{"v":0,"d":"0.000"}},{"$f":"IFERROR(VLOOKUP($A15,Filtro_!$A$5:$P$54,7,FALSE),0)","v":{"v":0,"d":"0.000"}},{"$f":"IFERROR(VLOOKUP($A15,Filtro_!$A$5:$P$54,8,FALSE),0)","v":{"v":0,"d":"0.000"}},{"$f":"IFERROR(VLOOKUP($A15,Filtro_!$A$5:$P$54,9,FALSE),0)","v":{"v":0,"d":"0.000"}},{"$f":"IFERROR(VLOOKUP($A15,Filtro_!$A$5:$P$54,10,FALSE),0)","v":{"v":22493,"d":"22493.0"}},{"$f":"IFERROR(VLOOKUP($A15,Filtro_!$A$5:$P$54,11,FALSE),0)","v":{"v":0,"d":"0.000"}},{"$f":"IFERROR(VLOOKUP($A15,Filtro_!$A$5:$P$54,12,FALSE),0)","v":{"v":15392,"d":"15392.0"}},{"$f":"IFERROR(VLOOKUP($A15,Filtro_!$A$5:$P$54,13,FALSE),0)","v":{"v":1967,"d":"1967.0"}},{"$f":"IFERROR(VLOOKUP($A15,Filtro_!$A$5:$P$54,14,FALSE),0)","v":{"v":4983,"d":"4983.0"}},{"$f":"AB15&\" \"&AC15&\" \"&AD15&\" \"&AE15","v":" No olvide escribir el Nº Correcto según kg por persona que retira alimento de la sección B en el grupo de Gestantes Normal, Sobrepeso y Obesas No olvide escribir el Nº Correcto según kg por persona que retira alimento de la sección B en el grupo de Madre con hijo/a menor a 6 meses con Lactancia materna exclusiva No olvide escribir el Nº Correcto según kg por persona que retira alimento de la sección B en el grupo de Madre con hijo/a menor a 6 meses con Lactancia materna predominante No olvide escribir el Nº Correcto según kg por persona que retira alimento de la sección B en el grupo de Madre con hijo/a menor a 6 meses con Formula predominantes o exclusiva"},{"$nulls":10},{"$f":"IF(L13+L15=N38,\"\",\" No olvide escribir el Nº Correcto según kg por persona que retira alimento de la sección B en el grupo de Gestantes Normal, Sobrepeso y Obesas\")","v":" No olvide escribir el Nº Correcto según kg por persona que retira alimento de la sección B en el grupo de Gestantes Normal, Sobrepeso y Obesas"},{"$f":"IF(N13+N15=(P38*2),\"\",\"No olvide escribir el Nº Correcto según kg por persona que retira alimento de la sección B en el grupo de Madre con hijo/a menor a 6 meses con Lactancia materna exclusiva\")","v":"No olvide escribir el Nº Correcto según kg por persona que retira alimento de la sección B en el grupo de Madre con hijo/a menor a 6 meses con Lactancia materna exclusiva"},{"$f":"IF(O13+O15=Q38,\"\",\"No olvide escribir el Nº Correcto según kg por persona que retira alimento de la sección B en el grupo de Madre con hijo/a menor a 6 meses con Lactancia materna predominante\")","v":"No olvide escribir el Nº Correcto según kg por persona que retira alimento de la sección B en el grupo de Madre con hijo/a menor a 6 meses con Lactancia materna predominante"},{"$f":"IF(P13+P15=R38,\"\",\"No olvide escribir el Nº Correcto según kg por persona que retira alimento de la sección B en el grupo de Madre con hijo/a menor a 6 meses con Formula predominantes o exclusiva\")","v":"No olvide escribir el Nº Correcto según kg por persona que retira alimento de la sección B en el grupo de Madre con hijo/a menor a 6 meses con Formula predominantes o exclusiva"},null,{"$f":"IF(L15=N38,0,1)","v":1},{"$f":"IF(N15=(P38*2),0,1)","v":1},{"$f":"IF(O15=Q38,0,1)","v":1},{"$f":"IF(P15=R38,0,1)","v":1}]
["15900010",null,"Fórmula de Inicio (FI)",{"$f":"IFERROR(VLOOKUP($A16,Filtro_!$A$5:$P$54,2,FALSE),0)","v":{"v":1835321.3000000003,"d":"1835321.300"}},{"$f":"IFERROR(VLOOKUP($A16,Filtro_!$A$5:$P$54,3,FALSE),0)","v":{"v":121514.99999999997,"d":"121515.000"}},{"$f":"IFERROR(VLOOKUP($A16,Filtro_!$A$5:$P$54,4,FALSE),0)","v":{"v":370332.10000000015,"d":"370332.100"}},{"$f":"IFERROR(VLOOKUP($A16,Filtro_!$A$5:$P$54,5,FALSE),0)","v":{"v":1343465.199999999,"d":"1343465.200"}},{"$f":"IFERROR(VLOOKUP($A16,Filtro_!$A$5:$P$54,6,FALSE),0)","v":{"v":0,"d":"0.000"}},{"$f":"IFERROR(VLOOKUP($A16,Filtro_!$A$5:$P$54,7,FALSE),0)","v":{"v":0,"d":"0.000"}},{"$f":"IFERROR(VLOOKUP($A16,Filtro_!$A$5:$P$54,8,FALSE),0)","v":{"v":0,"d":"0.000"}},{"$f":"IFERROR(VLOOKUP($A16,Filtro_!$A$5:$P$54,9,FALSE),0)","v":{"v":0,"d":"0.000"}},{"$f":"IFERROR(VLOOKUP($A16,Filtro_!$A$5:$P$54,10,FALSE),0)","v":{"v":0,"d":"0.000"}},{"$f":"IFERROR(VLOOKUP($A16,Filtro_!$A$5:$P$54,11,FALSE),0)","v":{"v":0,"d":"0.000"}},{"$f":"IFERROR(VLOOKUP($A16,Filtro_!$A$5:$P$54,12,FALSE),0)","v":{"v":0,"d":"0.000"}},{"$f":"IFERROR(VLOOKUP($A16,Filtro_!$A$5:$P$54,13,FALSE),0)","v":{"v":0,"d":"0.000"}},{"$f":"IFERROR(VLOOKUP($A16,Filtro_!$A$5:$P$54,14,FALSE),0)","v":{"v":0,"d":"0.000"}}]
[null,null,"Subtotal",{"$f":"SUM(E17:P17)","v":{"v":2071090.299999999,"d":"2071090.30"}},{"$f":"SUM(E16)","v":{"v":121514.99999999997,"d":"121515.00"}},{"$f":"SUM(F16)","v":{"v":370332.10000000015,"d":"370332.10"}},{"$f":"SUM(G13:G16)","v":{"v":1345461.199999999,"d":"1345461.20"}},{"$f":"SUM(H13)","v":{"v":34737,"d":"34737.00"}},{"$f":"SUM(I13:I14)","v":{"v":30628,"d":"30628.00"}},{"$f":"SUM(J13:J14)","v":{"v":67569,"d":"67569.00"}},{"$f":"SUM(K13:K14)","v":{"v":55667,"d":"55667.00"}},{"$f":"SUM(L13:L16)","v":{"v":22674,"d":"22674.00"}},{"$f":"SUM(M13)","v":{"v":0,"d":"0.00"}},{"$f":"SUM(N13:N16)","v":{"v":15549,"d":"15549.00"}},{"$f":"SUM(O13:O16)","v":{"v":1969,"d":"1969.00"}},{"$f":"SUM(P13:P16)","v":{"v":4989,"d":"4989.00"}}]
["15010300","Refuerzo","Leche Purita Fortificada (LPF)",{"$f":"IFERROR(VLOOKUP($A18,Filtro_!$A$5:$P$54,2,FALSE),0)","v":{"v":826,"d":"826.0"}},{"$f":"IFERROR(VLOOKUP($A18,Filtro_!$A$5:$P$54,3,FALSE),0)","v":0},{"$f":"IFERROR(VLOOKUP($A18,Filtro_!$A$5:$P$54,4,FALSE),0)","v":{"v":0,"d":"0.0"}},{"$f":"IFERROR(VLOOKUP($A18,Filtro_!$A$5:$P$54,5,FALSE),0)","v":{"v":73,"d":"73.0"}},{"$f":"IFERROR(VLOOKUP($A18,Filtro_!$A$5:$P$54,6,FALSE),0)","v":{"v":679,"d":"679.0"}},{"$f":"IFERROR(VLOOKUP($A18,Filtro_!$A$5:$P$54,7,FALSE),0)","v":{"v":74,"d":"74.0"}},{"$f":"IFERROR(VLOOKUP($A18,Filtro_!$A$5:$P$54,8,FALSE),0)","v":{"v":0,"d":"0.0"}},{"$f":"IFERROR(VLOOKUP($A18,Filtro_!$A$5:$P$54,9,FALSE),0)","v":{"v":0,"d":"0.0"}},{"$f":"IFERROR(VLOOKUP($A18,Filtro_!$A$5:$P$54,10,FALSE),0)","v":{"v":0,"d":"0.0"}},{"$f":"IFERROR(VLOOKUP($A18,Filtro_!$A$5:$P$54,11,FALSE),0)","v":{"v":0,"d":"0.0"}},{"$f":"IFERROR(VLOOKUP($A18,Filtro_!$A$5:$P$54,12,FALSE),0)","v":{"v":0,"d":"0.0"}},{"$f":"IFERROR(VLOOKUP($A18,Filtro_!$A$5:$P$54,13,FALSE),0)","v":{"v":0,"d":"0.0"}},{"$f":"IFERROR(VLOOKUP($A18,Filtro_!$A$5:$P$54,14,FALSE),0)","v":{"v":0,"d":"0.0"}},{"$f":"AB18&\" \"&AC18","v":" "},{"$nulls":10},{"$f":"IF(L18 = L23, \"\",\"el valor de la Leche Purita Fortificada (LPF) deben ser igual al subotal Normal, sobrepeso y obesas del gestante\")","v":""}]
["15010400",null,"Purita Cereal (PC)",{"$f":"IFERROR(VLOOKUP($A19,Filtro_!$A$5:$P$54,2,FALSE),0)","v":{"v":3861,"d":"3861.0"}},{"$f":"IFERROR(VLOOKUP($A19,Filtro_!$A$5:$P$54,3,FALSE),0)","v":0},{"$f":"IFERROR(VLOOKUP($A19,Filtro_!$A$5:$P$54,4,FALSE),0)","v":{"v":0,"d":"0.0"}},{"$f":"IFERROR(VLOOKUP($A19,Filtro_!$A$5:$P$54,5,FALSE),0)","v":0},{"$f":"IFERROR(VLOOKUP($A19,Filtro_!$A$5:$P$54,6,FALSE),0)","v":0},{"$f":"IFERROR(VLOOKUP($A19,Filtro_!$A$5:$P$54,7,FALSE),0)","v":{"v":584,"d":"584.0"}},{"$f":"IFERROR(VLOOKUP($A19,Filtro_!$A$5:$P$54,8,FALSE),0)","v":{"v":2166,"d":"2166.0"}},{"$f":"IFERROR(VLOOKUP($A19,Filtro_!$A$5:$P$54,9,FALSE),0)","v":{"v":1111,"d":"1111.0"}},{"$f":"IFERROR(VLOOKUP($A19,Filtro_!$A$5:$P$54,10,FALSE),0)","v":0},{"$f":"IFERROR(VLOOKUP($A19,Filtro_!$A$5:$P$54,11,FALSE),0)","v":0},{"$f":"IFERROR(VLOOKUP($A19,Filtro_!$A$5:$P$54,12,FALSE),0)","v":0},{"$f":"IFERROR(VLOOKUP($A19,Filtro_!$A$5:$P$54,13,FALSE),0)","v":0},{"$f":"IFERROR(VLOOKUP($A19,Filtro_!$A$5:$P$54,14,FALSE),0)","v":0}]
["15010500",null,"Mi Sopita (MS)",{"$f":"IFERROR(VLOOKUP($A20,Filtro_!$A$5:$P$54,2,FALSE),0)","v":5380},{"$f":"IFERROR(VLOOKUP($A20,Filtro_!$A$5:$P$54,3,FALSE),0)","v":0},{"$f":"IFERROR(VLOOKUP($A20,Filtro_!$A$5:$P$54,4,FALSE),0)","v":12},{"$f":"IFERROR(VLOOKUP($A20,Filtro_!$A$5:$P$54,5,FALSE),0)","v":724},{"$f":"IFERROR(VLOOKUP($A20,Filtro_!$A$5:$P$54,6,FALSE),0)","v":698},{"$f":"IFERROR(VLOOKUP($A20,Filtro_!$A$5:$P$54,7,FALSE),0)","v":658},{"$f":"IFERROR(VLOOKUP($A20,Filtro_!$A$5:$P$54,8,FALSE),0)","v":2177},{"$f":"IFERROR(VLOOKUP($A20,Filtro_!$A$5:$P$54,9,FALSE),0)","v":1111},{"$f":"IFERROR(VLOOKUP($A20,Filtro_!$A$5:$P$54,10,FALSE),0)","v":0},{"$f":"IFERROR(VLOOKUP($A20,Filtro_!$A$5:$P$54,11,FALSE),0)","v":0},{"$f":"IFERROR(VLOOKUP($A20,Filtro_!$A$5:$P$54,12,FALSE),0)","v":0},{"$f":"IFERROR(VLOOKUP($A20,Filtro_!$A$5:$P$54,13,FALSE),0)","v":0},{"$f":"IFERROR(VLOOKUP($A20,Filtro_!$A$5:$P$54,14,FALSE),0)","v":0},{"$f":"AB20&\" \"&AC20&\" \"&AD20&\" \"&AE20&\" \"&AB21&\" \"&AC21","v":"     "}]
["15080009",null,"Purita Mamá (PM)",{"$f":"IFERROR(VLOOKUP($A21,Filtro_!$A$5:$P$54,2,FALSE),0)","v":{"v":1411,"d":"1411.0"}},{"$f":"IFERROR(VLOOKUP($A21,Filtro_!$A$5:$P$54,3,FALSE),0)","v":{"v":0,"d":"0.000"}},{"$f":"IFERROR(VLOOKUP($A21,Filtro_!$A$5:$P$54,4,FALSE),0)","v":{"v":0,"d":"0.000"}},{"$f":"IFERROR(VLOOKUP($A21,Filtro_!$A$5:$P$54,5,FALSE),0)","v":{"v":0,"d":"0.000"}},{"$f":"IFERROR(VLOOKUP($A21,Filtro_!$A$5:$P$54,6,FALSE),0)","v":{"v":0,"d":"0.000"}},{"$f":"IFERROR(VLOOKUP($A21,Filtro_!$A$5:$P$54,7,FALSE),0)","v":{"v":0,"d":"0.000"}},{"$f":"IFERROR(VLOOKUP($A21,Filtro_!$A$5:$P$54,8,FALSE),0)","v":{"v":0,"d":"0.000"}},{"$f":"IFERROR(VLOOKUP($A21,Filtro_!$A$5:$P$54,9,FALSE),0)","v":{"v":0,"d":"0.000"}},{"$f":"IFERROR(VLOOKUP($A21,Filtro_!$A$5:$P$54,10,FALSE),0)","v":0},{"$f":"IFERROR(VLOOKUP($A21,Filtro_!$A$5:$P$54,11,FALSE),0)","v":{"v":1221,"d":"1221.0"}},{"$f":"IFERROR(VLOOKUP($A21,Filtro_!$A$5:$P$54,12,FALSE),0)","v":{"v":143,"d":"143.0"}},{"$f":"IFERROR(VLOOKUP($A21,Filtro_!$A$5:$P$54,13,FALSE),0)","v":{"v":34,"d":"34.0"}},{"$f":"IFERROR(VLOOKUP($A21,Filtro_!$A$5:$P$54,14,FALSE),0)","v":{"v":13,"d":"13.0"}}]
["15900020",null,"Fórmula de Inicio (FI)",{"$f":"IFERROR(VLOOKUP($A22,Filtro_!$A$5:$P$54,2,FALSE),0)","v":{"v":26685.50000000001,"d":"26685.500"}},{"$f":"IFERROR(VLOOKUP($A22,Filtro_!$A$5:$P$54,3,FALSE),0)","v":{"v":11366.4,"d":"11366.400"}},{"$f":"IFERROR(VLOOKUP($A22,Filtro_!$A$5:$P$54,4,FALSE),0)","v":{"v":10332.6,"d":"10332.600"}},{"$f":"IFERROR(VLOOKUP($A22,Filtro_!$A$5:$P$54,5,FALSE),0)","v":{"v":4986.500000000002,"d":"4986.500"}},{"$f":"IFERROR(VLOOKUP($A22,Filtro_!$A$5:$P$54,6,FALSE),0)","v":{"v":0,"d":"0.000"}},{"$f":"IFERROR(VLOOKUP($A22,Filtro_!$A$5:$P$54,7,FALSE),0)","v":{"v":0,"d":"0.000"}},{"$f":"IFERROR(VLOOKUP($A22,Filtro_!$A$5:$P$54,8,FALSE),0)","v":{"v":0,"d":"0.000"}},{"$f":"IFERROR(VLOOKUP($A22,Filtro_!$A$5:$P$54,9,FALSE),0)","v":{"v":0,"d":"0.000"}},{"$f":"IFERROR(VLOOKUP($A22,Filtro_!$A$5:$P$54,10,FALSE),0)","v":0},{"$f":"IFERROR(VLOOKUP($A22,Filtro_!$A$5:$P$54,11,FALSE),0)","v":0},{"$f":"IFERROR(VLOOKUP($A22,Filtro_!$A$5:$P$54,12,FALSE),0)","v":0},{"$f":"IFERROR(VLOOKUP($A22,Filtro_!$A$5:$P$54,13,FALSE),0)","v":0},{"$f":"IFERROR(VLOOKUP($A22,Filtro_!$A$5:$P$54,14,FALSE),0)","v":0}]
[null,null,"Subtotal",{"$f":"SUM(E23:P23)","v":{"v":38163.5,"d":"38163.50"}},{"$f":"SUM(E22)","v":{"v":11366.4,"d":"11366.40"}},{"$f":"SUM(F18:F22)","v":{"v":10344.6,"d":"10344.60"}},{"$f":"SUM(G18:G22)","v":{"v":5783.500000000002,"d":"5783.50"}},{"$f":"SUM(H18:H20)","v":{"v":1377,"d":"1377.00"}},{"$f":"SUM(I18:I20)","v":{"v":1316,"d":"1316.00"}},{"$f":"SUM(J18:J20)","v":{"v":4343,"d":"4343.00"}},{"$f":"SUM(K18:K20)","v":{"v":2222,"d":"2222.00"}},{"$f":"SUM(L18)","v":{"v":0,"d":"0.00"}},{"$f":"SUM(M18:M22)","v":{"v":1221,"d":"1221.00"}},{"$f":"SUM(N18:N22)","v":{"v":143,"d":"143.00"}},{"$f":"SUM(O18:O22)","v":{"v":34,"d":"34.00"}},{"$f":"SUM(P18:P22)","v":{"v":13,"d":"13.00"}}]
["15030100","Prematuros ","Fórmula de Prematuros (FP)",{"$f":"IFERROR(VLOOKUP($A24,Filtro_!$A$5:$P$54,2,FALSE),0)","v":{"v":87432.39999999988,"d":"87432.400"}},{"$f":"IFERROR(VLOOKUP($A24,Filtro_!$A$5:$P$54,3,FALSE),0)","v":{"v":36552.4,"d":"36552.400"}},{"$f":"IFERROR(VLOOKUP($A24,Filtro_!$A$5:$P$54,4,FALSE),0)","v":{"v":29339.2,"d":"29339.200"}},{"$f":"IFERROR(VLOOKUP($A24,Filtro_!$A$5:$P$54,5,FALSE),0)","v":{"v":21540.80000000001,"d":"21540.800"}},{"$f":"IFERROR(VLOOKUP($A24,Filtro_!$A$5:$P$54,6,FALSE),0)","v":{"v":0,"d":"0.000"}},{"$f":"IFERROR(VLOOKUP($A24,Filtro_!$A$5:$P$54,7,FALSE),0)","v":{"v":0,"d":"0.000"}},{"$f":"IFERROR(VLOOKUP($A24,Filtro_!$A$5:$P$54,8,FALSE),0)","v":{"v":0,"d":"0.000"}},{"$f":"IFERROR(VLOOKUP($A24,Filtro_!$A$5:$P$54,9,FALSE),0)","v":{"v":0,"d":"0.000"}},{"$f":"IFERROR(VLOOKUP($A24,Filtro_!$A$5:$P$54,10,FALSE),0)","v":0},{"$f":"IFERROR(VLOOKUP($A24,Filtro_!$A$5:$P$54,11,FALSE),0)","v":0},{"$f":"IFERROR(VLOOKUP($A24,Filtro_!$A$5:$P$54,12,FALSE),0)","v":0},{"$f":"IFERROR(VLOOKUP($A24,Filtro_!$A$5:$P$54,13,FALSE),0)","v":0},{"$f":"IFERROR(VLOOKUP($A24,Filtro_!$A$5:$P$54,14,FALSE),0)","v":0}]
["15030200",null,"Fórmula de Continuación (FC)",{"$f":"IFERROR(VLOOKUP($A25,Filtro_!$A$5:$P$54,2,FALSE),0)","v":{"v":30949.59999999999,"d":"30949.600"}},{"$f":"IFERROR(VLOOKUP($A25,Filtro_!$A$5:$P$54,3,FALSE),0)","v":{"v":0,"d":"0.000"}},{"$f":"IFERROR(VLOOKUP($A25,Filtro_!$A$5:$P$54,4,FALSE),0)","v":{"v":0,"d":"0.000"}},{"$f":"IFERROR(VLOOKUP($A25,Filtro_!$A$5:$P$54,5,FALSE),0)","v":{"v":30949.59999999999,"d":"30949.600"}},{"$f":"IFERROR(VLOOKUP($A25,Filtro_!$A$5:$P$54,6,FALSE),0)","v":{"v":0,"d":"0.000"}},{"$f":"IFERROR(VLOOKUP($A25,Filtro_!$A$5:$P$54,7,FALSE),0)","v":{"v":0,"d":"0.000"}},{"$f":"IFERROR(VLOOKUP($A25,Filtro_!$A$5:$P$54,8,FALSE),0)","v":{"v":0,"d":"0.000"}},{"$f":"IFERROR(VLOOKUP($A25,Filtro_!$A$5:$P$54,9,FALSE),0)","v":{"v":0,"d":"0.000"}},{"$f":"IFERROR(VLOOKUP($A25,Filtro_!$A$5:$P$54,10,FALSE),0)","v":0},{"$f":"IFERROR(VLOOKUP($A25,Filtro_!$A$5:$P$54,11,FALSE),0)","v":0},{"$f":"IFERROR(VLOOKUP($A25,Filtro_!$A$5:$P$54,12,FALSE),0)","v":0},{"$f":"IFERROR(VLOOKUP($A25,Filtro_!$A$5:$P$54,13,FALSE),0)","v":0},{"$f":"IFERROR(VLOOKUP($A25,Filtro_!$A$5:$P$54,14,FALSE),0)","v":0}]
["15080012",null,"Mi Sopita (MS)",{"$f":"IFERROR(VLOOKUP($A26,Filtro_!$A$5:$P$54,2,FALSE),0)","v":18},{"$f":"IFERROR(VLOOKUP($A26,Filtro_!$A$5:$P$54,3,FALSE),0)","v":0},{"$f":"IFERROR(VLOOKUP($A26,Filtro_!$A$5:$P$54,4,FALSE),0)","v":0},{"$f":"IFERROR(VLOOKUP($A26,Filtro_!$A$5:$P$54,5,FALSE),0)","v":18},{"$f":"IFERROR(VLOOKUP($A26,Filtro_!$A$5:$P$54,6,FALSE),0)","v":0},{"$f":"IFERROR(VLOOKUP($A26,Filtro_!$A$5:$P$54,7,FALSE),0)","v":0},{"$f":"IFERROR(VLOOKUP($A26,Filtro_!$A$5:$P$54,8,FALSE),0)","v":0},{"$f":"IFERROR(VLOOKUP($A26,Filtro_!$A$5:$P$54,9,FALSE),0)","v":0},{"$f":"IFERROR(VLOOKUP($A26,Filtro_!$A$5:$P$54,10,FALSE),0)","v":0},{"$f":"IFERROR(VLOOKUP($A26,Filtro_!$A$5:$P$54,11,FALSE),0)","v":0},{"$f":"IFERROR(VLOOKUP($A26,Filtro_!$A$5:$P$54,12,FALSE),0)","v":0},{"$f":"IFERROR(VLOOKUP($A26,Filtro_!$A$5:$P$54,13,FALSE),0)","v":0},{"$f":"IFERROR(VLOOKUP($A26,Filtro_!$A$5:$P$54,14,FALSE),0)","v":0}]
["15901500",null,"Fórmula de Inicio (FI)",{"$f":"IFERROR(VLOOKUP($A27,Filtro_!$A$5:$P$54,2,FALSE),0)","v":{"v":826.7000000000003,"d":"826.700"}},{"$f":"IFERROR(VLOOKUP($A27,Filtro_!$A$5:$P$54,3,FALSE),0)","v":{"v":131.9,"d":"131.900"}},{"$f":"IFERROR(VLOOKUP($A27,Filtro_!$A$5:$P$54,4,FALSE),0)","v":{"v":200,"d":"200.000"}},{"$f":"IFERROR(VLOOKUP($A27,Filtro_!$A$5:$P$54,5,FALSE),0)","v":{"v":494.7999999999999,"d":"494.800"}},{"$f":"IFERROR(VLOOKUP($A27,Filtro_!$A$5:$P$54,6,FALSE),0)","v":0},{"$f":"IFERROR(VLOOKUP($A27,Filtro_!$A$5:$P$54,7,FALSE),0)","v":0},{"$f":"IFERROR(VLOOKUP($A27,Filtro_!$A$5:$P$54,8,FALSE),0)","v":0},{"$f":"IFERROR(VLOOKUP($A27,Filtro_!$A$5:$P$54,9,FALSE),0)","v":0},{"$f":"IFERROR(VLOOKUP($A27,Filtro_!$A$5:$P$54,10,FALSE),0)","v":0},{"$f":"IFERROR(VLOOKUP($A27,Filtro_!$A$5:$P$54,11,FALSE),0)","v":0},{"$f":"IFERROR(VLOOKUP($A27,Filtro_!$A$5:$P$54,12,FALSE),0)","v":0},{"$f":"IFERROR(VLOOKUP($A27,Filtro_!$A$5:$P$54,13,FALSE),0)","v":0},{"$f":"IFERROR(VLOOKUP($A27,Filtro_!$A$5:$P$54,14,FALSE),0)","v":0}]
[null,null,"Subtotal",{"$f":"SUM(E28:P28)","v":{"v":119226.70000000001,"d":"119226.70"}},{"$f":"SUM(E24:E27)","v":{"v":36684.3,"d":"36684.30"}},{"$f":"SUM(F24,F26:F27)","v":{"v":29539.2,"d":"29539.20"}},{"$f":"SUM(G24,G25,G26:G27)","v":{"v":53003.200000000004,"d":"53003.20"}},{"v":0,"d":"0.00"},{"v":0,"d":"0.00"},{"v":0,"d":"0.00"},{"v":0,"d":"0.00"},{"v":0,"d":"0.00"},{"v":0,"d":"0.00"},{"v":0,"d":"0.00"},{"v":0,"d":"0.00"},{"v":0,"d":"0.00"}]
["15900030","Alergia a la proteína de la leche de vaca","Fórmula Extensamente Hidrolizada (FEH)",{"$f":"IFERROR(VLOOKUP($A29,Filtro_!$A$5:$P$54,2,FALSE),0)","v":{"v":121540.64999999992,"d":"121540.650"}},{"$f":"IFERROR(VLOOKUP($A29,Filtro_!$A$5:$P$54,3,FALSE),0)","v":{"v":6600.8,"d":"6600.800"}},{"$f":"IFERROR(VLOOKUP($A29,Filtro_!$A$5:$P$54,4,FALSE),0)","v":{"v":12076.800000000003,"d":"12076.800"}},{"$f":"IFERROR(VLOOKUP($A29,Filtro_!$A$5:$P$54,5,FALSE),0)","v":{"v":59761.050000000025,"d":"59761.050"}},{"$f":"IFERROR(VLOOKUP($A29,Filtro_!$A$5:$P$54,6,FALSE),0)","v":{"v":34893.200000000026,"d":"34893.200"}},{"$f":"IFERROR(VLOOKUP($A29,Filtro_!$A$5:$P$54,7,FALSE),0)","v":{"v":8181.9999999999945,"d":"8182.000"}},{"$f":"IFERROR(VLOOKUP($A29,Filtro_!$A$5:$P$54,8,FALSE),0)","v":{"v":26.8,"d":"26.800"}},{"$f":"IFERROR(VLOOKUP($A29,Filtro_!$A$5:$P$54,9,FALSE),0)","v":{"v":0,"d":"0.000"}},{"$f":"IFERROR(VLOOKUP($A29,Filtro_!$A$5:$P$54,10,FALSE),0)","v":{"v":0,"d":"0.000"}},{"$f":"IFERROR(VLOOKUP($A29,Filtro_!$A$5:$P$54,11,FALSE),0)","v":{"v":0,"d":"0.000"}},{"$f":"IFERROR(VLOOKUP($A29,Filtro_!$A$5:$P$54,12,FALSE),0)","v":{"v":0,"d":"0.000"}},{"$f":"IFERROR(VLOOKUP($A29,Filtro_!$A$5:$P$54,13,FALSE),0)","v":{"v":0,"d":"0.000"}},{"$f":"IFERROR(VLOOKUP($A29,Filtro_!$A$5:$P$54,14,FALSE),0)","v":{"v":0,"d":"0.000"}}]
["15900040",null,"Fórmula Aminoacídica (FAA)",{"$f":"IFERROR(VLOOKUP($A30,Filtro_!$A$5:$P$54,2,FALSE),0)","v":{"v":40601.200000000004,"d":"40601.200"}},{"$f":"IFERROR(VLOOKUP($A30,Filtro_!$A$5:$P$54,3,FALSE),0)","v":{"v":5318.399999999999,"d":"5318.400"}},{"$f":"IFERROR(VLOOKUP($A30,Filtro_!$A$5:$P$54,4,FALSE),0)","v":{"v":12317.2,"d":"12317.200"}},{"$f":"IFERROR(VLOOKUP($A30,Filtro_!$A$5:$P$54,5,FALSE),0)","v":{"v":6849.599999999994,"d":"6849.600"}},{"$f":"IFERROR(VLOOKUP($A30,Filtro_!$A$5:$P$54,6,FALSE),0)","v":{"v":15870.800000000001,"d":"15870.800"}},{"$f":"IFERROR(VLOOKUP($A30,Filtro_!$A$5:$P$54,7,FALSE),0)","v":{"v":237.60000000000002,"d":"237.600"}},{"$f":"IFERROR(VLOOKUP($A30,Filtro_!$A$5:$P$54,8,FALSE),0)","v":{"v":7.6000000000000005,"d":"7.600"}},{"$f":"IFERROR(VLOOKUP($A30,Filtro_!$A$5:$P$54,9,FALSE),0)","v":{"v":0,"d":"0.000"}},{"$f":"IFERROR(VLOOKUP($A30,Filtro_!$A$5:$P$54,10,FALSE),0)","v":{"v":0,"d":"0.000"}},{"$f":"IFERROR(VLOOKUP($A30,Filtro_!$A$5:$P$54,11,FALSE),0)","v":{"v":0,"d":"0.000"}},{"$f":"IFERROR(VLOOKUP($A30,Filtro_!$A$5:$P$54,12,FALSE),0)","v":{"v":0,"d":"0.000"}},{"$f":"IFERROR(VLOOKUP($A30,Filtro_!$A$5:$P$54,13,FALSE),0)","v":{"v":0,"d":"0.000"}},{"$f":"IFERROR(VLOOKUP($A30,Filtro_!$A$5:$P$54,14,FALSE),0)","v":{"v":0,"d":"0.000"}}]
[null,null,"Subtotal",{"$f":"SUM(E31:P31)","v":{"v":162141.85000000006,"d":"162141.850"}},{"$f":"SUM(E29:E30)","v":{"v":11919.199999999999,"d":"11919.200"}},{"$f":"SUM(F29:F30)","v":{"v":24394.000000000004,"d":"24394.000"}},{"v":66610.65000000002,"d":"66610.650"},{"v":50764.00000000003,"d":"50764.000"},{"v":8419.599999999995,"d":"8419.600"},{"$f":"SUM(J29:J30)","v":{"v":34.4,"d":"34.400"}},{"$f":"SUM(K29:K30)","v":{"v":0,"d":"0.000"}},{"v":0,"d":"0.000"},{"v":0,"d":"0.000"},{"v":0,"d":"0.000"},{"v":0,"d":"0.000"},{"v":0,"d":"0.000"}]
[null,"Total",null,{"$f":"SUM(E32:P32)","v":{"v":2390622.349999999,"d":"2390622.35"}},{"$f":"+E17+E23+E31+E28","v":{"v":181484.89999999997,"d":"181484.90"}},{"$f":"+F17+F23+F31+F28","v":{"v":434609.90000000014,"d":"434609.90"}},{"v":1470858.549999999,"d":"1470858.55"},{"v":86878.00000000003,"d":"86878.00"},{"v":40363.59999999999,"d":"40363.60"},{"v":71946.4,"d":"71946.40"},{"v":57889,"d":"57889.00"},{"v":22674,"d":"22674.00"},{"v":1221,"d":"1221.00"},{"v":15692,"d":"15692.00"},{"v":2003,"d":"2003.00"},{"v":5002,"d":"5002.00"}]
[null,"Sección B: PNAC - Número de personas intrasistema que retiran"]
[null,"Subprogramas",null,"Total","Total Hombre","Total Mujer","Menores a 6 años",{"$nulls":6},"Gestantes",null,"Mujer con hijo/a menor a 12 meses"]
[{"$nulls":6},"0 - 2 meses","3 - 5 meses","6 - 11 meses","12 - 17 meses"," 18 - 23 meses"," 24 - 47 meses"," 48 - 71 meses","Normal, sobrepeso y obesas","Bajo peso","0-5 meses con Lactancia Materna exclusiva","0-5 meses Lactancia \nmaterna \npredominante, formula predominante o formula exclusiva","6 a 11 meses Lactancia Materna"]
[]
[]
["15050100","Básico",null,{"$f":"IFERROR(VLOOKUP($A38,Filtro_!$A$5:$P$54,2,FALSE),0)","v":147688},{"$f":"IFERROR(VLOOKUP($A38,Filtro_!$A$5:$P$54,3,FALSE),0)","v":59303},{"$f":"IFERROR(VLOOKUP($A38,Filtro_!$A$5:$P$54,4,FALSE),0)","v":87896},{"$f":"IFERROR(VLOOKUP($A38,Filtro_!$A$5:$P$54,5,FALSE),0)","v":1331},{"$f":"IFERROR(VLOOKUP($A38,Filtro_!$A$5:$P$54,6,FALSE),0)","v":3510},{"$f":"IFERROR(VLOOKUP($A38,Filtro_!$A$5:$P$54,7,FALSE),0)","v":11413},{"$f":"IFERROR(VLOOKUP($A38,Filtro_!$A$5:$P$54,8,FALSE),0)","v":17017},{"$f":"IFERROR(VLOOKUP($A38,Filtro_!$A$5:$P$54,9,FALSE),0)","v":15080},{"$f":"IFERROR(VLOOKUP($A38,Filtro_!$A$5:$P$54,10,FALSE),0)","v":33801},{"$f":"IFERROR(VLOOKUP($A38,Filtro_!$A$5:$P$54,11,FALSE),0)","v":28296},{"$f":"IFERROR(VLOOKUP($A38,Filtro_!$A$5:$P$54,12,FALSE),0)","v":22518},{"$f":"IFERROR(VLOOKUP($A38,Filtro_!$A$5:$P$54,13,FALSE),0)","v":0},{"$f":"IFERROR(VLOOKUP($A38,Filtro_!$A$5:$P$54,14,FALSE),0)","v":7803},{"$f":"IFERROR(VLOOKUP($A38,Filtro_!$A$5:$P$54,15,FALSE),0)","v":1948},{"$f":"IFERROR(VLOOKUP($A38,Filtro_!$A$5:$P$54,16,FALSE),0)","v":4971},{"$f":"AB38","v":"* La suma de los valores Total Hombres y Total Mujeres debe ser igual al Total."},{"$nulls":8},{"$f":"IF(AG38=1,\"* La suma de los valores Total Hombres y Total Mujeres debe ser igual al Total.\",\"\")","v":"* La suma de los valores Total Hombres y Total Mujeres debe ser igual al Total."},{"$nulls":4},{"$f":"IF(E38+F38=D38,0,1)","v":1}]
["15050200","Refuerzo",null,{"$f":"IFERROR(VLOOKUP($A39,Filtro_!$A$5:$P$54,2,FALSE),0)","v":3327},{"$f":"IFERROR(VLOOKUP($A39,Filtro_!$A$5:$P$54,3,FALSE),0)","v":1604},{"$f":"IFERROR(VLOOKUP($A39,Filtro_!$A$5:$P$54,4,FALSE),0)","v":1708},{"$f":"IFERROR(VLOOKUP($A39,Filtro_!$A$5:$P$54,5,FALSE),0)","v":58},{"$f":"IFERROR(VLOOKUP($A39,Filtro_!$A$5:$P$54,6,FALSE),0)","v":101},{"$f":"IFERROR(VLOOKUP($A39,Filtro_!$A$5:$P$54,7,FALSE),0)","v":366},{"$f":"IFERROR(VLOOKUP($A39,Filtro_!$A$5:$P$54,8,FALSE),0)","v":371},{"$f":"IFERROR(VLOOKUP($A39,Filtro_!$A$5:$P$54,9,FALSE),0)","v":328},{"$f":"IFERROR(VLOOKUP($A39,Filtro_!$A$5:$P$54,10,FALSE),0)","v":1070},{"$f":"IFERROR(VLOOKUP($A39,Filtro_!$A$5:$P$54,11,FALSE),0)","v":529},{"$f":"IFERROR(VLOOKUP($A39,Filtro_!$A$5:$P$54,12,FALSE),0)","v":0},{"$f":"IFERROR(VLOOKUP($A39,Filtro_!$A$5:$P$54,13,FALSE),0)","v":410},{"$f":"IFERROR(VLOOKUP($A39,Filtro_!$A$5:$P$54,14,FALSE),0)","v":50},{"$f":"IFERROR(VLOOKUP($A39,Filtro_!$A$5:$P$54,15,FALSE),0)","v":33},{"$f":"IFERROR(VLOOKUP($A39,Filtro_!$A$5:$P$54,16,FALSE),0)","v":11},{"$f":"AB39","v":"* La suma de los valores Total Hombres y Total Mujeres debe ser igual al Total."},{"$nulls":8},{"$f":"IF(AG39=1,\"* La suma de los valores Total Hombres y Total Mujeres debe ser igual al Total.\",\"\")","v":"* La suma de los valores Total Hombres y Total Mujeres debe ser igual al Total."},{"$nulls":4},{"$f":"IF(E39+F39=D39,0,1)","v":1}]
["15050500","Prematuros ",null,{"$f":"IFERROR(VLOOKUP($A40,Filtro_!$A$5:$P$54,2,FALSE),0)","v":655},{"$f":"IFERROR(VLOOKUP($A40,Filtro_!$A$5:$P$54,3,FALSE),0)","v":360},{"$f":"IFERROR(VLOOKUP($A40,Filtro_!$A$5:$P$54,4,FALSE),0)","v":294},{"$f":"IFERROR(VLOOKUP($A40,Filtro_!$A$5:$P$54,5,FALSE),0)","v":206},{"$f":"IFERROR(VLOOKUP($A40,Filtro_!$A$5:$P$54,6,FALSE),0)","v":184},{"$f":"IFERROR(VLOOKUP($A40,Filtro_!$A$5:$P$54,7,FALSE),0)","v":265},{"$f":"IFERROR(VLOOKUP($A40,Filtro_!$A$5:$P$54,8,FALSE),0)","v":{"v":0,"d":"0.000"}},{"$f":"IFERROR(VLOOKUP($A40,Filtro_!$A$5:$P$54,9,FALSE),0)","v":{"v":0,"d":"0.000"}},{"$f":"IFERROR(VLOOKUP($A40,Filtro_!$A$5:$P$54,10,FALSE),0)","v":{"v":0,"d":"0.000"}},{"$f":"IFERROR(VLOOKUP($A40,Filtro_!$A$5:$P$54,11,FALSE),0)","v":{"v":0,"d":"0.000"}},{"$f":"IFERROR(VLOOKUP($A40,Filtro_!$A$5:$P$54,12,FALSE),0)","v":0},{"$f":"IFERROR(VLOOKUP($A40,Filtro_!$A$5:$P$54,13,FALSE),0)","v":0},{"$f":"IFERROR(VLOOKUP($A40,Filtro_!$A$5:$P$54,14,FALSE),0)","v":0},{"$f":"IFERROR(VLOOKUP($A40,Filtro_!$A$5:$P$54,15,FALSE),0)","v":0},{"$f":"IFERROR(VLOOKUP($A40,Filtro_!$A$5:$P$54,16,FALSE),0)","v":0},"* La suma de los valores Total Hombres y Total Mujeres debe ser igual al Total.",{"$nulls":8},"* La suma de los valores Total Hombres y Total Mujeres debe ser igual al Total.",{"$nulls":4},{"$f":"IF(E40+F40=D40,0,1)","v":1}]
["15900050","Alergia a la Proteína de la leche de vaca",null,{"$f":"IFERROR(VLOOKUP($A41,Filtro_!$A$5:$P$54,2,FALSE),0)","v":1465},{"$f":"IFERROR(VLOOKUP($A41,Filtro_!$A$5:$P$54,3,FALSE),0)","v":798},{"$f":"IFERROR(VLOOKUP($A41,Filtro_!$A$5:$P$54,4,FALSE),0)","v":663},{"$f":"IFERROR(VLOOKUP($A41,Filtro_!$A$5:$P$54,5,FALSE),0)","v":108},{"$f":"IFERROR(VLOOKUP($A41,Filtro_!$A$5:$P$54,6,FALSE),0)","v":238},{"$f":"IFERROR(VLOOKUP($A41,Filtro_!$A$5:$P$54,7,FALSE),0)","v":542},{"$f":"IFERROR(VLOOKUP($A41,Filtro_!$A$5:$P$54,8,FALSE),0)","v":342},{"$f":"IFERROR(VLOOKUP($A41,Filtro_!$A$5:$P$54,9,FALSE),0)","v":225},{"$f":"IFERROR(VLOOKUP($A41,Filtro_!$A$5:$P$54,10,FALSE),0)","v":10},{"$f":"IFERROR(VLOOKUP($A41,Filtro_!$A$5:$P$54,11,FALSE),0)","v":0},{"$f":"IFERROR(VLOOKUP($A41,Filtro_!$A$5:$P$54,12,FALSE),0)","v":0},{"$f":"IFERROR(VLOOKUP($A41,Filtro_!$A$5:$P$54,13,FALSE),0)","v":0},{"$f":"IFERROR(VLOOKUP($A41,Filtro_!$A$5:$P$54,14,FALSE),0)","v":0},{"$f":"IFERROR(VLOOKUP($A41,Filtro_!$A$5:$P$54,15,FALSE),0)","v":0},{"$f":"IFERROR(VLOOKUP($A41,Filtro_!$A$5:$P$54,16,FALSE),0)","v":0},"* La suma de los valores Total Hombres y Total Mujeres debe ser igual al Total.",{"$nulls":8},"* La suma de los valores Total Hombres y Total Mujeres debe ser igual al Total.",{"$nulls":4},{"$f":"IF(E41+F41=D41,0,1)","v":1}]
[null,"TOTAL",null,{"$f":"SUM(G42:R42)","v":153135},{"$f":"SUM(E38:E41)","v":62065},90561,1703,4033,12586,17730,15633,34881,28825,{"$f":"N38","v":22518},{"$f":"O39","v":410},{"$f":"SUM(P38:P39)","v":7853},{"$f":"SUM(Q38:Q39)","v":1981},{"$f":"SUM(R38:R39)","v":4982}]
["15900060","Programas Sociales (*)",null,{"$f":"IFERROR(VLOOKUP($A43,Filtro_!$A$5:$P$54,2,FALSE),0)","v":2},{"$f":"IFERROR(VLOOKUP($A43,Filtro_!$A$5:$P$54,3,FALSE),0)","v":2},{"$f":"IFERROR(VLOOKUP($A43,Filtro_!$A$5:$P$54,4,FALSE),0)","v":0},{"$f":"IFERROR(VLOOKUP($A43,Filtro_!$A$5:$P$54,5,FALSE),0)","v":0},{"$f":"IFERROR(VLOOKUP($A43,Filtro_!$A$5:$P$54,6,FALSE),0)","v":0},{"$f":"IFERROR(VLOOKUP($A43,Filtro_!$A$5:$P$54,7,FALSE),0)","v":0},{"$f":"IFERROR(VLOOKUP($A43,Filtro_!$A$5:$P$54,8,FALSE),0)","v":0},{"$f":"IFERROR(VLOOKUP($A43,Filtro_!$A$5:$P$54,9,FALSE),0)","v":0},{"$f":"IFERROR(VLOOKUP($A43,Filtro_!$A$5:$P$54,10,FALSE),0)","v":0},{"$f":"IFERROR(VLOOKUP($A43,Filtro_!$A$5:$P$54,11,FALSE),0)","v":2},{"$f":"IFERROR(VLOOKUP($A43,Filtro_!$A$5:$P$54,12,FALSE),0)","v":0},{"$f":"IFERROR(VLOOKUP($A43,Filtro_!$A$5:$P$54,13,FALSE),0)","v":0},{"$f":"IFERROR(VLOOKUP($A43,Filtro_!$A$5:$P$54,14,FALSE),0)","v":0},{"$f":"IFERROR(VLOOKUP($A43,Filtro_!$A$5:$P$54,15,FALSE),0)","v":0},{"$f":"IFERROR(VLOOKUP($A43,Filtro_!$A$5:$P$54,16,FALSE),0)","v":0},"",{"$nulls":8},"",{"$nulls":4},{"$f":"IF(E43+F43=D43,0,1)","v":0}]
[null,"Nota: (*) Información referencial, ya incluida en los subprogramas."]
[null,"Sección C: PNAC: Cantidad distribuida (kg) a personas extrasistema (incluye modalidad libre elección)"]
[null,"Subprogramas","Productos","Total","Menores a 6 años",{"$nulls":6},"Gestantes",null,"Mujer con hijo/a menor a 12 meses"]
[{"$nulls":4},"0 - 2 meses","3 - 5 meses","6 - 11 meses","12 - 17 meses"," 18 - 23 meses"," 24 - 47 meses"," 48 - 71 meses","Normal, sobrepeso y obesas","Bajo peso","0-5 meses con Lactancia Materna exclusiva","0-5 meses Lactancia \nmaterna \npredominante, formula predominante o formula exclusiva","6 a 11 meses Lactancia Materna"]
[]
[]
["15020100","Básico","Leche Purita Fortificada (LPF)",{"$f":"IFERROR(VLOOKUP($A50,Filtro_!$A$5:$P$54,2,FALSE),0)","v":{"v":1507,"d":"1,507.0"}},{"$f":"IFERROR(VLOOKUP($A50,Filtro_!$A$5:$P$54,3,FALSE),0)","v":47},{"$f":"IFERROR(VLOOKUP($A50,Filtro_!$A$5:$P$54,4,FALSE),0)","v":96},{"$f":"IFERROR(VLOOKUP($A50,Filtro_!$A$5:$P$54,5,FALSE),0)","v":{"v":560,"d":"560.0"}},{"$f":"IFERROR(VLOOKUP($A50,Filtro_!$A$5:$P$54,6,FALSE),0)","v":{"v":813,"d":"813.0"}},{"$f":"IFERROR(VLOOKUP($A50,Filtro_!$A$5:$P$54,7,FALSE),0)","v":{"v":4,"d":"4.0"}},{"$f":"IFERROR(VLOOKUP($A50,Filtro_!$A$5:$P$54,8,FALSE),0)","v":{"v":0,"d":"0.0"}},{"$f":"IFERROR(VLOOKUP($A50,Filtro_!$A$5:$P$54,9,FALSE),0)","v":{"v":0,"d":"0.0"}},{"$f":"IFERROR(VLOOKUP($A50,Filtro_!$A$5:$P$54,10,FALSE),0)","v":0},{"$f":"IFERROR(VLOOKUP($A50,Filtro_!$A$5:$P$54,11,FALSE),0)","v":0},{"$f":"IFERROR(VLOOKUP($A50,Filtro_!$A$5:$P$54,12,FALSE),0)","v":2},{"$f":"IFERROR(VLOOKUP($A50,Filtro_!$A$5:$P$54,13,FALSE),0)","v":0},{"$f":"IFERROR(VLOOKUP($A50,Filtro_!$A$5:$P$54,14,FALSE),0)","v":0},{"$f":"AB50&\" \"&AC50","v":" "}]
["15020200",null,"Purita Cereal (PC)",{"$f":"IFERROR(VLOOKUP($A51,Filtro_!$A$5:$P$54,2,FALSE),0)","v":{"v":3198,"d":"3,198.0"}},{"$f":"IFERROR(VLOOKUP($A51,Filtro_!$A$5:$P$54,3,FALSE),0)","v":0},{"$f":"IFERROR(VLOOKUP($A51,Filtro_!$A$5:$P$54,4,FALSE),0)","v":0},{"$f":"IFERROR(VLOOKUP($A51,Filtro_!$A$5:$P$54,5,FALSE),0)","v":0},{"$f":"IFERROR(VLOOKUP($A51,Filtro_!$A$5:$P$54,6,FALSE),0)","v":0},{"$f":"IFERROR(VLOOKUP($A51,Filtro_!$A$5:$P$54,7,FALSE),0)","v":{"v":704,"d":"704.0"}},{"$f":"IFERROR(VLOOKUP($A51,Filtro_!$A$5:$P$54,8,FALSE),0)","v":{"v":1308,"d":"1,308.0"}},{"$f":"IFERROR(VLOOKUP($A51,Filtro_!$A$5:$P$54,9,FALSE),0)","v":{"v":1186,"d":"1,186.0"}},{"$f":"IFERROR(VLOOKUP($A51,Filtro_!$A$5:$P$54,10,FALSE),0)","v":0},{"$f":"IFERROR(VLOOKUP($A51,Filtro_!$A$5:$P$54,11,FALSE),0)","v":0},{"$f":"IFERROR(VLOOKUP($A51,Filtro_!$A$5:$P$54,12,FALSE),0)","v":0},{"$f":"IFERROR(VLOOKUP($A51,Filtro_!$A$5:$P$54,13,FALSE),0)","v":0},{"$f":"IFERROR(VLOOKUP($A51,Filtro_!$A$5:$P$54,14,FALSE),0)","v":0}]
["15080010",null,"Purita Mamá (PM)",{"$f":"IFERROR(VLOOKUP($A52,Filtro_!$A$5:$P$54,2,FALSE),0)","v":{"v":104,"d":"104.0"}},{"$f":"IFERROR(VLOOKUP($A52,Filtro_!$A$5:$P$54,3,FALSE),0)","v":{"v":0,"d":"0.000"}},{"$f":"IFERROR(VLOOKUP($A52,Filtro_!$A$5:$P$54,4,FALSE),0)","v":{"v":0,"d":"0.000"}},{"$f":"IFERROR(VLOOKUP($A52,Filtro_!$A$5:$P$54,5,FALSE),0)","v":{"v":0,"d":"0.000"}},{"$f":"IFERROR(VLOOKUP($A52,Filtro_!$A$5:$P$54,6,FALSE),0)","v":{"v":0,"d":"0.000"}},{"$f":"IFERROR(VLOOKUP($A52,Filtro_!$A$5:$P$54,7,FALSE),0)","v":{"v":0,"d":"0.000"}},{"$f":"IFERROR(VLOOKUP($A52,Filtro_!$A$5:$P$54,8,FALSE),0)","v":{"v":0,"d":"0.000"}},{"$f":"IFERROR(VLOOKUP($A52,Filtro_!$A$5:$P$54,9,FALSE),0)","v":{"v":0,"d":"0.000"}},{"$f":"IFERROR(VLOOKUP($A52,Filtro_!$A$5:$P$54,10,FALSE),0)","v":{"v":32,"d":"32.0"}},{"$f":"IFERROR(VLOOKUP($A52,Filtro_!$A$5:$P$54,11,FALSE),0)","v":0},{"$f":"IFERROR(VLOOKUP($A52,Filtro_!$A$5:$P$54,12,FALSE),0)","v":{"v":38,"d":"38.0"}},{"$f":"IFERROR(VLOOKUP($A52,Filtro_!$A$5:$P$54,13,FALSE),0)","v":{"v":28,"d":"28.0"}},{"$f":"IFERROR(VLOOKUP($A52,Filtro_!$A$5:$P$54,14,FALSE),0)","v":{"v":6,"d":"6.0"}},{"$f":"AB52&\" \"&AC52&\" \"&AD52&\" \"&AE52","v":"   "},{"$nulls":10},{"$f":"IF(L50+L52=N75,\"\",\" No olvide escribir el Nº Correcto según kg por persona que retira alimento de la sección D en el grupo de Gestantes Normal, Sobrepeso y Obesas.\")","v":""},{"$f":"IF(N50+N52=P75*2,\"\",\"No olvide escribir el Nº Correcto según kg por persona que retira alimento de la sección D en el grupo de Madre con hijo/a menor a 6 meses con Lactancia materna exclusiva\")","v":""},{"$f":"IF(O50+O52=Q75,\"\",\"No olvide escribir el Nº Correcto según kg por persona que retira alimento de la sección D en el grupo de Madre con hijo/a menor a 6 meses con Lactancia materna predominante\")","v":""},{"$f":"IF(P50+P52=R75,\"\",\"No olvide escribir el Nº Correcto según kg por persona que retira alimento de la sección D en el grupo de Madre con hijo/a menor a 6 meses con Fórmula predominantes o exclusiva\")","v":""},null,{"$f":"IF(L52=N75,0,1)","v":0},{"$f":"IF(N52=(P75*2),0,1)","v":1},{"$f":"IF(O52=Q75,0,1)","v":0},{"$f":"IF(P52=R75,0,1)","v":0}]
["15900070",null,"Fórmula de Inicio (FI)",{"$f":"IFERROR(VLOOKUP($A53,Filtro_!$A$5:$P$54,2,FALSE),0)","v":{"v":0,"d":"0.000"}},{"$f":"IFERROR(VLOOKUP($A53,Filtro_!$A$5:$P$54,3,FALSE),0)","v":{"v":0,"d":"0.000"}},{"$f":"IFERROR(VLOOKUP($A53,Filtro_!$A$5:$P$54,4,FALSE),0)","v":{"v":0,"d":"0.000"}},{"$f":"IFERROR(VLOOKUP($A53,Filtro_!$A$5:$P$54,5,FALSE),0)","v":{"v":0,"d":"0.000"}},{"$f":"IFERROR(VLOOKUP($A53,Filtro_!$A$5:$P$54,6,FALSE),0)","v":{"v":0,"d":"0.000"}},{"$f":"IFERROR(VLOOKUP($A53,Filtro_!$A$5:$P$54,7,FALSE),0)","v":{"v":0,"d":"0.000"}},{"$f":"IFERROR(VLOOKUP($A53,Filtro_!$A$5:$P$54,8,FALSE),0)","v":{"v":0,"d":"0.000"}},{"$f":"IFERROR(VLOOKUP($A53,Filtro_!$A$5:$P$54,9,FALSE),0)","v":{"v":0,"d":"0.000"}},{"$f":"IFERROR(VLOOKUP($A53,Filtro_!$A$5:$P$54,10,FALSE),0)","v":0},{"$f":"IFERROR(VLOOKUP($A53,Filtro_!$A$5:$P$54,11,FALSE),0)","v":0},{"$f":"IFERROR(VLOOKUP($A53,Filtro_!$A$5:$P$54,12,FALSE),0)","v":0},{"$f":"IFERROR(VLOOKUP($A53,Filtro_!$A$5:$P$54,13,FALSE),0)","v":0},{"$f":"IFERROR(VLOOKUP($A53,Filtro_!$A$5:$P$54,14,FALSE),0)","v":0}]
[null,null,"Subtotal",{"$f":"SUM(E54:P54)","v":{"v":4681,"d":"4681.00"}},{"$f":"SUM(E53)","v":{"v":0,"d":"0.00"}},{"$f":"SUM(F53)","v":{"v":0,"d":"0.00"}},{"$f":"SUM(G50:G53)","v":{"v":560,"d":"560.00"}},{"$f":"SUM(H50)","v":{"v":813,"d":"813.00"}},{"$f":"SUM(I50:I51)","v":{"v":708,"d":"708.00"}},{"$f":"SUM(J50:J51)","v":{"v":1308,"d":"1308.00"}},{"$f":"SUM(K50:K51)","v":{"v":1186,"d":"1186.00"}},{"$f":"SUM(L50:L53)","v":{"v":32,"d":"32.00"}},{"$f":"SUM(M50)","v":{"v":0,"d":"0.00"}},{"$f":"SUM(N50:N53)","v":{"v":40,"d":"40.00"}},{"$f":"SUM(O50:O53)","v":{"v":28,"d":"28.00"}},{"$f":"SUM(P50:P53)","v":{"v":6,"d":"6.00"}}]
["15020300","Refuerzo","Leche Purita Fortificada (LPF)",{"$f":"IFERROR(VLOOKUP($A55,Filtro_!$A$5:$P$54,2,FALSE),0)","v":{"v":21,"d":"21.0"}},{"$f":"IFERROR(VLOOKUP($A55,Filtro_!$A$5:$P$54,3,FALSE),0)","v":1},{"$f":"IFERROR(VLOOKUP($A55,Filtro_!$A$5:$P$54,4,FALSE),0)","v":2},{"$f":"IFERROR(VLOOKUP($A55,Filtro_!$A$5:$P$54,5,FALSE),0)","v":{"v":8,"d":"8.0"}},{"$f":"IFERROR(VLOOKUP($A55,Filtro_!$A$5:$P$54,6,FALSE),0)","v":{"v":10,"d":"10.0"}},{"$f":"IFERROR(VLOOKUP($A55,Filtro_!$A$5:$P$54,7,FALSE),0)","v":{"v":0,"d":"0.0"}},{"$f":"IFERROR(VLOOKUP($A55,Filtro_!$A$5:$P$54,8,FALSE),0)","v":{"v":0,"d":"0.0"}},{"$f":"IFERROR(VLOOKUP($A55,Filtro_!$A$5:$P$54,9,FALSE),0)","v":{"v":0,"d":"0.0"}},{"$f":"IFERROR(VLOOKUP($A55,Filtro_!$A$5:$P$54,10,FALSE),0)","v":0},{"$f":"IFERROR(VLOOKUP($A55,Filtro_!$A$5:$P$54,11,FALSE),0)","v":0},{"$f":"IFERROR(VLOOKUP($A55,Filtro_!$A$5:$P$54,12,FALSE),0)","v":0},{"$f":"IFERROR(VLOOKUP($A55,Filtro_!$A$5:$P$54,13,FALSE),0)","v":0},{"$f":"IFERROR(VLOOKUP($A55,Filtro_!$A$5:$P$54,14,FALSE),0)","v":0},{"$f":"AB55&\" \"&AC55","v":" "}]
["15020400",null,"Purita Cereal (PC)",{"$f":"IFERROR(VLOOKUP($A56,Filtro_!$A$5:$P$54,2,FALSE),0)","v":{"v":11,"d":"11.0"}},{"$f":"IFERROR(VLOOKUP($A56,Filtro_!$A$5:$P$54,3,FALSE),0)","v":0},{"$f":"IFERROR(VLOOKUP($A56,Filtro_!$A$5:$P$54,4,FALSE),0)","v":{"v":0,"d":"0.0"}},{"$f":"IFERROR(VLOOKUP($A56,Filtro_!$A$5:$P$54,5,FALSE),0)","v":0},{"$f":"IFERROR(VLOOKUP($A56,Filtro_!$A$5:$P$54,6,FALSE),0)","v":0},{"$f":"IFERROR(VLOOKUP($A56,Filtro_!$A$5:$P$54,7,FALSE),0)","v":{"v":4,"d":"4.0"}},{"$f":"IFERROR(VLOOKUP($A56,Filtro_!$A$5:$P$54,8,FALSE),0)","v":{"v":6,"d":"6.0"}},{"$f":"IFERROR(VLOOKUP($A56,Filtro_!$A$5:$P$54,9,FALSE),0)","v":{"v":1,"d":"1.0"}},{"$f":"IFERROR(VLOOKUP($A56,Filtro_!$A$5:$P$54,10,FALSE),0)","v":0},{"$f":"IFERROR(VLOOKUP($A56,Filtro_!$A$5:$P$54,11,FALSE),0)","v":0},{"$f":"IFERROR(VLOOKUP($A56,Filtro_!$A$5:$P$54,12,FALSE),0)","v":0},{"$f":"IFERROR(VLOOKUP($A56,Filtro_!$A$5:$P$54,13,FALSE),0)","v":0},{"$f":"IFERROR(VLOOKUP($A56,Filtro_!$A$5:$P$54,14,FALSE),0)","v":0},{"$f":"AB56&\" \"&AC56&\" \"&AD56&\" \"&AE56","v":"   "}]
["15020500",null,"Mi Sopita (MS)",{"$f":"IFERROR(VLOOKUP($A57,Filtro_!$A$5:$P$54,2,FALSE),0)","v":16},{"$f":"IFERROR(VLOOKUP($A57,Filtro_!$A$5:$P$54,3,FALSE),0)","v":0},{"$f":"IFERROR(VLOOKUP($A57,Filtro_!$A$5:$P$54,4,FALSE),0)","v":0},{"$f":"IFERROR(VLOOKUP($A57,Filtro_!$A$5:$P$54,5,FALSE),0)","v":2},{"$f":"IFERROR(VLOOKUP($A57,Filtro_!$A$5:$P$54,6,FALSE),0)","v":2},{"$f":"IFERROR(VLOOKUP($A57,Filtro_!$A$5:$P$54,7,FALSE),0)","v":2},{"$f":"IFERROR(VLOOKUP($A57,Filtro_!$A$5:$P$54,8,FALSE),0)","v":8},{"$f":"IFERROR(VLOOKUP($A57,Filtro_!$A$5:$P$54,9,FALSE),0)","v":2},{"$f":"IFERROR(VLOOKUP($A57,Filtro_!$A$5:$P$54,10,FALSE),0)","v":0},{"$f":"IFERROR(VLOOKUP($A57,Filtro_!$A$5:$P$54,11,FALSE),0)","v":0},{"$f":"IFERROR(VLOOKUP($A57,Filtro_!$A$5:$P$54,12,FALSE),0)","v":0},{"$f":"IFERROR(VLOOKUP($A57,Filtro_!$A$5:$P$54,13,FALSE),0)","v":0},{"$f":"IFERROR(VLOOKUP($A57,Filtro_!$A$5:$P$54,14,FALSE),0)","v":0},{"$f":"AB57&\" \"&AC57&\" \"&AD57&\" \"&AE57&\" \"&AB58&\" \"&AC58","v":"     "},{"$nulls":15},{"$f":"IF(L57=N80,0,1)","v":0},{"$f":"IF(N57=(P80*2),0,1)","v":0},{"$f":"IF(O57=Q80,0,1)","v":0},{"$f":"IF(P57=R80,0,1)","v":0}]
["15080011",null,"Purita Mamá (PM)",{"$f":"IFERROR(VLOOKUP($A58,Filtro_!$A$5:$P$54,2,FALSE),0)","v":{"v":0,"d":"0.0"}},{"$f":"IFERROR(VLOOKUP($A58,Filtro_!$A$5:$P$54,3,FALSE),0)","v":0},{"$f":"IFERROR(VLOOKUP($A58,Filtro_!$A$5:$P$54,4,FALSE),0)","v":{"v":0,"d":"0.0"}},{"$f":"IFERROR(VLOOKUP($A58,Filtro_!$A$5:$P$54,5,FALSE),0)","v":0},{"$f":"IFERROR(VLOOKUP($A58,Filtro_!$A$5:$P$54,6,FALSE),0)","v":0},{"$f":"IFERROR(VLOOKUP($A58,Filtro_!$A$5:$P$54,7,FALSE),0)","v":0},{"$f":"IFERROR(VLOOKUP($A58,Filtro_!$A$5:$P$54,8,FALSE),0)","v":0},{"$f":"IFERROR(VLOOKUP($A58,Filtro_!$A$5:$P$54,9,FALSE),0)","v":0},{"$f":"IFERROR(VLOOKUP($A58,Filtro_!$A$5:$P$54,10,FALSE),0)","v":0},{"$f":"IFERROR(VLOOKUP($A58,Filtro_!$A$5:$P$54,11,FALSE),0)","v":{"v":0,"d":"0.0"}},{"$f":"IFERROR(VLOOKUP($A58,Filtro_!$A$5:$P$54,12,FALSE),0)","v":{"v":0,"d":"0.0"}},{"$f":"IFERROR(VLOOKUP($A58,Filtro_!$A$5:$P$54,13,FALSE),0)","v":{"v":0,"d":"0.0"}},{"$f":"IFERROR(VLOOKUP($A58,Filtro_!$A$5:$P$54,14,FALSE),0)","v":{"v":0,"d":"0.0"}},{"$f":"AD58&\" \"&AE58","v":" "}]
["15900080",null,"Fórmula de Inicio (FI)",{"$f":"IFERROR(VLOOKUP($A59,Filtro_!$A$5:$P$54,2,FALSE),0)","v":{"v":0,"d":"0.000"}},{"$f":"IFERROR(VLOOKUP($A59,Filtro_!$A$5:$P$54,3,FALSE),0)","v":{"v":0,"d":"0.000"}},{"$f":"IFERROR(VLOOKUP($A59,Filtro_!$A$5:$P$54,4,FALSE),0)","v":{"v":0,"d":"0.000"}},{"$f":"IFERROR(VLOOKUP($A59,Filtro_!$A$5:$P$54,5,FALSE),0)","v":{"v":0,"d":"0.000"}},{"$f":"IFERROR(VLOOKUP($A59,Filtro_!$A$5:$P$54,6,FALSE),0)","v":{"v":0,"d":"0.0"}},{"$f":"IFERROR(VLOOKUP($A59,Filtro_!$A$5:$P$54,7,FALSE),0)","v":{"v":0,"d":"0.0"}},{"$f":"IFERROR(VLOOKUP($A59,Filtro_!$A$5:$P$54,8,FALSE),0)","v":{"v":0,"d":"0.0"}},{"$f":"IFERROR(VLOOKUP($A59,Filtro_!$A$5:$P$54,9,FALSE),0)","v":{"v":0,"d":"0.0"}},{"$f":"IFERROR(VLOOKUP($A59,Filtro_!$A$5:$P$54,10,FALSE),0)","v":0},{"$f":"IFERROR(VLOOKUP($A59,Filtro_!$A$5:$P$54,11,FALSE),0)","v":0},{"$f":"IFERROR(VLOOKUP($A59,Filtro_!$A$5:$P$54,12,FALSE),0)","v":0},{"$f":"IFERROR(VLOOKUP($A59,Filtro_!$A$5:$P$54,13,FALSE),0)","v":0},{"$f":"IFERROR(VLOOKUP($A59,Filtro_!$A$5:$P$54,14,FALSE),0)","v":0}]
[null,null,"Subtotal",{"$f":"SUM(E60:P60)","v":{"v":47,"d":"47.00"}},{"$f":"SUM(E59)","v":{"v":0,"d":"0.00"}},{"$f":"SUM(F55:F59)","v":{"v":2,"d":"2.00"}},{"$f":"SUM(G55:G59)","v":{"v":10,"d":"10.00"}},{"$f":"SUM(H55:H57)","v":{"v":12,"d":"12.00"}},{"$f":"SUM(I55:I57)","v":{"v":6,"d":"6.00"}},{"$f":"SUM(J55:J57)","v":{"v":14,"d":"14.00"}},{"$f":"SUM(K55:K57)","v":{"v":3,"d":"3.00"}},{"$f":"SUM(L55)","v":{"v":0,"d":"0.00"}},{"$f":"SUM(M55:M59)","v":{"v":0,"d":"0.00"}},{"$f":"SUM(N55:N59)","v":{"v":0,"d":"0.00"}},{"$f":"SUM(O55:O59)","v":{"v":0,"d":"0.00"}},{"$f":"SUM(P55:P59)","v":{"v":0,"d":"0.00"}}]
["15040100","Prematuros ","Fórmula de Prematuros (FP)",{"$f":"IFERROR(VLOOKUP($A61,Filtro_!$A$5:$P$54,2,FALSE),0)","v":{"v":37.6,"d":"37.600"}},{"$f":"IFERROR(VLOOKUP($A61,Filtro_!$A$5:$P$54,3,FALSE),0)","v":{"v":22.4,"d":"22.400"}},{"$f":"IFERROR(VLOOKUP($A61,Filtro_!$A$5:$P$54,4,FALSE),0)","v":{"v":12,"d":"12.000"}},{"$f":"IFERROR(VLOOKUP($A61,Filtro_!$A$5:$P$54,5,FALSE),0)","v":{"v":3.2,"d":"3.200"}},{"$f":"IFERROR(VLOOKUP($A61,Filtro_!$A$5:$P$54,6,FALSE),0)","v":{"v":0,"d":"0.000"}},{"$f":"IFERROR(VLOOKUP($A61,Filtro_!$A$5:$P$54,7,FALSE),0)","v":{"v":0,"d":"0.000"}},{"$f":"IFERROR(VLOOKUP($A61,Filtro_!$A$5:$P$54,8,FALSE),0)","v":{"v":0,"d":"0.000"}},{"$f":"IFERROR(VLOOKUP($A61,Filtro_!$A$5:$P$54,9,FALSE),0)","v":{"v":0,"d":"0.000"}},{"$f":"IFERROR(VLOOKUP($A61,Filtro_!$A$5:$P$54,10,FALSE),0)","v":{"v":0,"d":"0.000"}},{"$f":"IFERROR(VLOOKUP($A61,Filtro_!$A$5:$P$54,11,FALSE),0)","v":{"v":0,"d":"0.000"}},{"$f":"IFERROR(VLOOKUP($A61,Filtro_!$A$5:$P$54,12,FALSE),0)","v":{"v":0,"d":"0.000"}},{"$f":"IFERROR(VLOOKUP($A61,Filtro_!$A$5:$P$54,13,FALSE),0)","v":{"v":0,"d":"0.000"}},{"$f":"IFERROR(VLOOKUP($A61,Filtro_!$A$5:$P$54,14,FALSE),0)","v":{"v":0,"d":"0.000"}}]
["15040200",null,"Fórmula de Continuación (FC)",{"$f":"IFERROR(VLOOKUP($A62,Filtro_!$A$5:$P$54,2,FALSE),0)","v":{"v":3.6,"d":"3.600"}},{"$f":"IFERROR(VLOOKUP($A62,Filtro_!$A$5:$P$54,3,FALSE),0)","v":{"v":0,"d":"0.000"}},{"$f":"IFERROR(VLOOKUP($A62,Filtro_!$A$5:$P$54,4,FALSE),0)","v":{"v":0,"d":"0.000"}},{"$f":"IFERROR(VLOOKUP($A62,Filtro_!$A$5:$P$54,5,FALSE),0)","v":{"v":3.6,"d":"3.600"}},{"$f":"IFERROR(VLOOKUP($A62,Filtro_!$A$5:$P$54,6,FALSE),0)","v":{"v":0,"d":"0.000"}},{"$f":"IFERROR(VLOOKUP($A62,Filtro_!$A$5:$P$54,7,FALSE),0)","v":{"v":0,"d":"0.000"}},{"$f":"IFERROR(VLOOKUP($A62,Filtro_!$A$5:$P$54,8,FALSE),0)","v":{"v":0,"d":"0.000"}},{"$f":"IFERROR(VLOOKUP($A62,Filtro_!$A$5:$P$54,9,FALSE),0)","v":{"v":0,"d":"0.000"}},{"$f":"IFERROR(VLOOKUP($A62,Filtro_!$A$5:$P$54,10,FALSE),0)","v":{"v":0,"d":"0.000"}},{"$f":"IFERROR(VLOOKUP($A62,Filtro_!$A$5:$P$54,11,FALSE),0)","v":{"v":0,"d":"0.000"}},{"$f":"IFERROR(VLOOKUP($A62,Filtro_!$A$5:$P$54,12,FALSE),0)","v":{"v":0,"d":"0.000"}},{"$f":"IFERROR(VLOOKUP($A62,Filtro_!$A$5:$P$54,13,FALSE),0)","v":{"v":0,"d":"0.000"}},{"$f":"IFERROR(VLOOKUP($A62,Filtro_!$A$5:$P$54,14,FALSE),0)","v":{"v":0,"d":"0.000"}}]
["15080013",null,"Mi Sopita (MS)",{"$f":"IFERROR(VLOOKUP($A63,Filtro_!$A$5:$P$54,2,FALSE),0)","v":0},{"$f":"IFERROR(VLOOKUP($A63,Filtro_!$A$5:$P$54,3,FALSE),0)","v":0},{"$f":"IFERROR(VLOOKUP($A63,Filtro_!$A$5:$P$54,4,FALSE),0)","v":0},{"$f":"IFERROR(VLOOKUP($A63,Filtro_!$A$5:$P$54,5,FALSE),0)","v":0},{"$f":"IFERROR(VLOOKUP($A63,Filtro_!$A$5:$P$54,6,FALSE),0)","v":0},{"$f":"IFERROR(VLOOKUP($A63,Filtro_!$A$5:$P$54,7,FALSE),0)","v":0},{"$f":"IFERROR(VLOOKUP($A63,Filtro_!$A$5:$P$54,8,FALSE),0)","v":0},{"$f":"IFERROR(VLOOKUP($A63,Filtro_!$A$5:$P$54,9,FALSE),0)","v":0},{"$f":"IFERROR(VLOOKUP($A63,Filtro_!$A$5:$P$54,10,FALSE),0)","v":0},{"$f":"IFERROR(VLOOKUP($A63,Filtro_!$A$5:$P$54,11,FALSE),0)","v":0},{"$f":"IFERROR(VLOOKUP($A63,Filtro_!$A$5:$P$54,12,FALSE),0)","v":0},{"$f":"IFERROR(VLOOKUP($A63,Filtro_!$A$5:$P$54,13,FALSE),0)","v":0},{"$f":"IFERROR(VLOOKUP($A63,Filtro_!$A$5:$P$54,14,FALSE),0)","v":0}]
["15901600",null,"Fórmula de Inicio (FI)",{"$f":"IFERROR(VLOOKUP($A64,Filtro_!$A$5:$P$54,2,FALSE),0)","v":{"v":0,"d":"0.000"}},{"$f":"IFERROR(VLOOKUP($A64,Filtro_!$A$5:$P$54,3,FALSE),0)","v":{"v":0,"d":"0.000"}},{"$f":"IFERROR(VLOOKUP($A64,Filtro_!$A$5:$P$54,4,FALSE),0)","v":{"v":0,"d":"0.000"}},{"$f":"IFERROR(VLOOKUP($A64,Filtro_!$A$5:$P$54,5,FALSE),0)","v":{"v":0,"d":"0.000"}},{"$f":"IFERROR(VLOOKUP($A64,Filtro_!$A$5:$P$54,6,FALSE),0)","v":0},{"$f":"IFERROR(VLOOKUP($A64,Filtro_!$A$5:$P$54,7,FALSE),0)","v":0},{"$f":"IFERROR(VLOOKUP($A64,Filtro_!$A$5:$P$54,8,FALSE),0)","v":0},{"$f":"IFERROR(VLOOKUP($A64,Filtro_!$A$5:$P$54,9,FALSE),0)","v":0},{"$f":"IFERROR(VLOOKUP($A64,Filtro_!$A$5:$P$54,10,FALSE),0)","v":0},{"$f":"IFERROR(VLOOKUP($A64,Filtro_!$A$5:$P$54,11,FALSE),0)","v":0},{"$f":"IFERROR(VLOOKUP($A64,Filtro_!$A$5:$P$54,12,FALSE),0)","v":0},{"$f":"IFERROR(VLOOKUP($A64,Filtro_!$A$5:$P$54,13,FALSE),0)","v":0},{"$f":"IFERROR(VLOOKUP($A64,Filtro_!$A$5:$P$54,14,FALSE),0)","v":0}]
[null,null,"Subtotal",{"$f":"SUM(E65:P65)","v":{"v":41.2,"d":"41.20"}},{"$f":"SUM(E61:E64)","v":{"v":22.4,"d":"22.40"}},{"$f":"SUM(F61:F64)","v":{"v":12,"d":"12.00"}},{"$f":"SUM(G61:G64)","v":{"v":6.800000000000001,"d":"6.80"}},{"v":0,"d":"0.00"},{"v":0,"d":"0.00"},{"v":0,"d":"0.00"},{"v":0,"d":"0.00"},{"v":0,"d":"0.00"},{"v":0,"d":"0.00"},{"v":0,"d":"0.00"},{"v":0,"d":"0.00"},{"v":0,"d":"0.00"}]
["15901200","Alergia a la proteína de la leche de vaca ","Fórmula Extensamente Hidrolizada (FEH)",{"$f":"IFERROR(VLOOKUP($A66,Filtro_!$A$5:$P$54,2,FALSE),0)","v":{"v":26167.000000000007,"d":"26167.000"}},{"$f":"IFERROR(VLOOKUP($A66,Filtro_!$A$5:$P$54,3,FALSE),0)","v":{"v":71.2,"d":"71.200"}},{"$f":"IFERROR(VLOOKUP($A66,Filtro_!$A$5:$P$54,4,FALSE),0)","v":{"v":3538.6000000000017,"d":"3538.600"}},{"$f":"IFERROR(VLOOKUP($A66,Filtro_!$A$5:$P$54,5,FALSE),0)","v":{"v":10668.399999999998,"d":"10668.400"}},{"$f":"IFERROR(VLOOKUP($A66,Filtro_!$A$5:$P$54,6,FALSE),0)","v":{"v":11408.199999999997,"d":"11408.200"}},{"$f":"IFERROR(VLOOKUP($A66,Filtro_!$A$5:$P$54,7,FALSE),0)","v":{"v":480.5999999999998,"d":"480.600"}},{"$f":"IFERROR(VLOOKUP($A66,Filtro_!$A$5:$P$54,8,FALSE),0)","v":{"v":0,"d":"0.000"}},{"$f":"IFERROR(VLOOKUP($A66,Filtro_!$A$5:$P$54,9,FALSE),0)","v":{"v":0,"d":"0.000"}},{"$f":"IFERROR(VLOOKUP($A66,Filtro_!$A$5:$P$54,10,FALSE),0)","v":0},{"$f":"IFERROR(VLOOKUP($A66,Filtro_!$A$5:$P$54,11,FALSE),0)","v":0},{"$f":"IFERROR(VLOOKUP($A66,Filtro_!$A$5:$P$54,12,FALSE),0)","v":0},{"$f":"IFERROR(VLOOKUP($A66,Filtro_!$A$5:$P$54,13,FALSE),0)","v":0},{"$f":"IFERROR(VLOOKUP($A66,Filtro_!$A$5:$P$54,14,FALSE),0)","v":0}]
["15901300",null,"Fórmula Aminoacídica (FAA)",{"$f":"IFERROR(VLOOKUP($A67,Filtro_!$A$5:$P$54,2,FALSE),0)","v":{"v":26488.199999999993,"d":"26488.200"}},{"$f":"IFERROR(VLOOKUP($A67,Filtro_!$A$5:$P$54,3,FALSE),0)","v":{"v":38.8,"d":"38.800"}},{"$f":"IFERROR(VLOOKUP($A67,Filtro_!$A$5:$P$54,4,FALSE),0)","v":{"v":10109.999999999996,"d":"10110.000"}},{"$f":"IFERROR(VLOOKUP($A67,Filtro_!$A$5:$P$54,5,FALSE),0)","v":{"v":9142.599999999999,"d":"9142.600"}},{"$f":"IFERROR(VLOOKUP($A67,Filtro_!$A$5:$P$54,6,FALSE),0)","v":{"v":252.40000000000003,"d":"252.400"}},{"$f":"IFERROR(VLOOKUP($A67,Filtro_!$A$5:$P$54,7,FALSE),0)","v":{"v":6935.599999999996,"d":"6935.600"}},{"$f":"IFERROR(VLOOKUP($A67,Filtro_!$A$5:$P$54,8,FALSE),0)","v":{"v":8.8,"d":"8.800"}},{"$f":"IFERROR(VLOOKUP($A67,Filtro_!$A$5:$P$54,9,FALSE),0)","v":{"v":0,"d":"0.000"}},{"$f":"IFERROR(VLOOKUP($A67,Filtro_!$A$5:$P$54,10,FALSE),0)","v":0},{"$f":"IFERROR(VLOOKUP($A67,Filtro_!$A$5:$P$54,11,FALSE),0)","v":0},{"$f":"IFERROR(VLOOKUP($A67,Filtro_!$A$5:$P$54,12,FALSE),0)","v":0},{"$f":"IFERROR(VLOOKUP($A67,Filtro_!$A$5:$P$54,13,FALSE),0)","v":0},{"$f":"IFERROR(VLOOKUP($A67,Filtro_!$A$5:$P$54,14,FALSE),0)","v":0}]
[null,null,"Subtotal",{"$f":"SUM(E68:P68)","v":{"v":52655.19999999999,"d":"52655.200"}},{"$f":"SUM(E66:E67)","v":{"v":110,"d":"110.000"}},{"v":13648.599999999999,"d":"13648.600"},{"v":19810.999999999996,"d":"19811.000"},{"v":11660.599999999997,"d":"11660.600"},{"v":7416.199999999995,"d":"7416.200"},{"v":8.8,"d":"8.800"},{"v":0,"d":"0.000"},{"v":0,"d":"0.000"},{"v":0,"d":"0.000"},{"v":0,"d":"0.000"},{"v":0,"d":"0.000"},{"v":0,"d":"0.000"}]
[null,"Total",null,{"$f":"SUM(E69:P69)","v":{"v":57424.399999999994,"d":"57424.40"}},{"$f":"+E54+E60+E65+E68","v":{"v":132.4,"d":"132.40"}},{"v":13662.599999999999,"d":"13662.60"},{"v":20387.799999999996,"d":"20387.80"},{"v":12485.599999999997,"d":"12485.60"},{"v":8130.199999999995,"d":"8130.20"},{"v":1330.8,"d":"1330.80"},{"v":1189,"d":"1189.00"},{"v":32,"d":"32.00"},{"v":0,"d":"0.00"},{"v":40,"d":"40.00"},{"v":28,"d":"28.00"},{"v":6,"d":"6.00"}]
[null,"Sección D: PNAC - Número de personas extrasistema que retiran"]
[null,"Subprogramas",null,"Total","Total Hombre","Total Mujer","Menores a 6 años",{"$nulls":6},"Gestantes",null,"Mujer con hijo/a menor a 12 meses"]
[{"$nulls":6},"0 - 2 meses","3 - 5 meses","6 - 11 meses","12 - 17 meses"," 18 - 23 meses"," 24 - 47 meses"," 48 - 71 meses","Normal, sobrepeso y obesas","Bajo peso","0-5 meses con Lactancia Materna exclusiva","0-5 meses Lactancia \nmaterna \npredominante, formula predominante o formula exclusiva","6 a 11 meses Lactancia Materna"]
[]
[]
["15060100","Básico",null,{"$f":"IFERROR(VLOOKUP($A75,Filtro_!$A$5:$P$54,2,FALSE),0)","v":2447},{"$f":"IFERROR(VLOOKUP($A75,Filtro_!$A$5:$P$54,3,FALSE),0)","v":1255},{"$f":"IFERROR(VLOOKUP($A75,Filtro_!$A$5:$P$54,4,FALSE),0)","v":1179},{"$f":"IFERROR(VLOOKUP($A75,Filtro_!$A$5:$P$54,5,FALSE),0)","v":27},{"$f":"IFERROR(VLOOKUP($A75,Filtro_!$A$5:$P$54,6,FALSE),0)","v":55},{"$f":"IFERROR(VLOOKUP($A75,Filtro_!$A$5:$P$54,7,FALSE),0)","v":284},{"$f":"IFERROR(VLOOKUP($A75,Filtro_!$A$5:$P$54,8,FALSE),0)","v":388},{"$f":"IFERROR(VLOOKUP($A75,Filtro_!$A$5:$P$54,9,FALSE),0)","v":358},{"$f":"IFERROR(VLOOKUP($A75,Filtro_!$A$5:$P$54,10,FALSE),0)","v":656},{"$f":"IFERROR(VLOOKUP($A75,Filtro_!$A$5:$P$54,11,FALSE),0)","v":593},{"$f":"IFERROR(VLOOKUP($A75,Filtro_!$A$5:$P$54,12,FALSE),0)","v":32},{"$f":"IFERROR(VLOOKUP($A75,Filtro_!$A$5:$P$54,13,FALSE),0)","v":0},{"$f":"IFERROR(VLOOKUP($A75,Filtro_!$A$5:$P$54,14,FALSE),0)","v":20},{"$f":"IFERROR(VLOOKUP($A75,Filtro_!$A$5:$P$54,15,FALSE),0)","v":28},{"$f":"IFERROR(VLOOKUP($A75,Filtro_!$A$5:$P$54,16,FALSE),0)","v":6},{"$f":"AB75","v":"* La suma de los valores Total Hombres y Total Mujeres debe ser igual al Total."},{"$nulls":8},{"$f":"IF(AG75=1,\"* La suma de los valores Total Hombres y Total Mujeres debe ser igual al Total.\",\"\")","v":"* La suma de los valores Total Hombres y Total Mujeres debe ser igual al Total."},{"$nulls":4},{"$f":"IF(E75+F75=D75,0,1)","v":1}]
["15060200","Refuerzo",null,{"$f":"IFERROR(VLOOKUP($A76,Filtro_!$A$5:$P$54,2,FALSE),0)","v":27},{"$f":"IFERROR(VLOOKUP($A76,Filtro_!$A$5:$P$54,3,FALSE),0)","v":13},{"$f":"IFERROR(VLOOKUP($A76,Filtro_!$A$5:$P$54,4,FALSE),0)","v":14},{"$f":"IFERROR(VLOOKUP($A76,Filtro_!$A$5:$P$54,5,FALSE),0)","v":1},{"$f":"IFERROR(VLOOKUP($A76,Filtro_!$A$5:$P$54,6,FALSE),0)","v":1},{"$f":"IFERROR(VLOOKUP($A76,Filtro_!$A$5:$P$54,7,FALSE),0)","v":2},{"$f":"IFERROR(VLOOKUP($A76,Filtro_!$A$5:$P$54,8,FALSE),0)","v":5},{"$f":"IFERROR(VLOOKUP($A76,Filtro_!$A$5:$P$54,9,FALSE),0)","v":1},{"$f":"IFERROR(VLOOKUP($A76,Filtro_!$A$5:$P$54,10,FALSE),0)","v":5},{"$f":"IFERROR(VLOOKUP($A76,Filtro_!$A$5:$P$54,11,FALSE),0)","v":11},{"$f":"IFERROR(VLOOKUP($A76,Filtro_!$A$5:$P$54,12,FALSE),0)","v":0},{"$f":"IFERROR(VLOOKUP($A76,Filtro_!$A$5:$P$54,13,FALSE),0)","v":0},{"$f":"IFERROR(VLOOKUP($A76,Filtro_!$A$5:$P$54,14,FALSE),0)","v":1},{"$f":"IFERROR(VLOOKUP($A76,Filtro_!$A$5:$P$54,15,FALSE),0)","v":0},{"$f":"IFERROR(VLOOKUP($A76,Filtro_!$A$5:$P$54,16,FALSE),0)","v":0},{"$f":"AB76","v":""},{"$nulls":8},{"$f":"IF(AG76=1,\"* La suma de los valores Total Hombres y Total Mujeres debe ser igual al Total.\",\"\")","v":""},{"$nulls":4},{"$f":"IF(E76+F76=D76,0,1)","v":0}]
["15060600","Prematuros ",null,{"$f":"IFERROR(VLOOKUP($A77,Filtro_!$A$5:$P$54,2,FALSE),0)","v":10},{"$f":"IFERROR(VLOOKUP($A77,Filtro_!$A$5:$P$54,3,FALSE),0)","v":5},{"$f":"IFERROR(VLOOKUP($A77,Filtro_!$A$5:$P$54,4,FALSE),0)","v":5},{"$f":"IFERROR(VLOOKUP($A77,Filtro_!$A$5:$P$54,5,FALSE),0)","v":6},{"$f":"IFERROR(VLOOKUP($A77,Filtro_!$A$5:$P$54,6,FALSE),0)","v":2},{"$f":"IFERROR(VLOOKUP($A77,Filtro_!$A$5:$P$54,7,FALSE),0)","v":2},{"$f":"IFERROR(VLOOKUP($A77,Filtro_!$A$5:$P$54,8,FALSE),0)","v":0},{"$f":"IFERROR(VLOOKUP($A77,Filtro_!$A$5:$P$54,9,FALSE),0)","v":0},{"$f":"IFERROR(VLOOKUP($A77,Filtro_!$A$5:$P$54,10,FALSE),0)","v":0},{"$f":"IFERROR(VLOOKUP($A77,Filtro_!$A$5:$P$54,11,FALSE),0)","v":0},{"$f":"IFERROR(VLOOKUP($A77,Filtro_!$A$5:$P$54,12,FALSE),0)","v":0},{"$f":"IFERROR(VLOOKUP($A77,Filtro_!$A$5:$P$54,13,FALSE),0)","v":0},{"$f":"IFERROR(VLOOKUP($A77,Filtro_!$A$5:$P$54,14,FALSE),0)","v":0},{"$f":"IFERROR(VLOOKUP($A77,Filtro_!$A$5:$P$54,15,FALSE),0)","v":0},{"$f":"IFERROR(VLOOKUP($A77,Filtro_!$A$5:$P$54,16,FALSE),0)","v":0},"",{"$nulls":8},"",{"$nulls":4},{"$f":"IF(E77+F77=D77,0,1)","v":0}]
["15901400","Alergia a la Proteína de la leche de vaca ",null,{"$f":"IFERROR(VLOOKUP($A78,Filtro_!$A$5:$P$54,2,FALSE),0)","v":853},{"$f":"IFERROR(VLOOKUP($A78,Filtro_!$A$5:$P$54,3,FALSE),0)","v":517},{"$f":"IFERROR(VLOOKUP($A78,Filtro_!$A$5:$P$54,4,FALSE),0)","v":335},{"$f":"IFERROR(VLOOKUP($A78,Filtro_!$A$5:$P$54,5,FALSE),0)","v":35},{"$f":"IFERROR(VLOOKUP($A78,Filtro_!$A$5:$P$54,6,FALSE),0)","v":135},{"$f":"IFERROR(VLOOKUP($A78,Filtro_!$A$5:$P$54,7,FALSE),0)","v":286},{"$f":"IFERROR(VLOOKUP($A78,Filtro_!$A$5:$P$54,8,FALSE),0)","v":235},{"$f":"IFERROR(VLOOKUP($A78,Filtro_!$A$5:$P$54,9,FALSE),0)","v":160},{"$f":"IFERROR(VLOOKUP($A78,Filtro_!$A$5:$P$54,10,FALSE),0)","v":2},{"$f":"IFERROR(VLOOKUP($A78,Filtro_!$A$5:$P$54,11,FALSE),0)","v":0},{"$f":"IFERROR(VLOOKUP($A78,Filtro_!$A$5:$P$54,12,FALSE),0)","v":0},{"$f":"IFERROR(VLOOKUP($A78,Filtro_!$A$5:$P$54,13,FALSE),0)","v":0},{"$f":"IFERROR(VLOOKUP($A78,Filtro_!$A$5:$P$54,14,FALSE),0)","v":0},{"$f":"IFERROR(VLOOKUP($A78,Filtro_!$A$5:$P$54,15,FALSE),0)","v":0},{"$f":"IFERROR(VLOOKUP($A78,Filtro_!$A$5:$P$54,16,FALSE),0)","v":0},"* La suma de los valores Total Hombres y Total Mujeres debe ser igual al Total.",{"$nulls":8},"* La suma de los valores Total Hombres y Total Mujeres debe ser igual al Total.",{"$nulls":4},{"$f":"IF(E78+F78=D78,0,1)","v":1}]
[null,"Total",null,{"$f":"SUM(G79:R79)","v":3337},{"$f":"SUM(E75:E78)","v":1790},1533,69,193,574,628,519,663,604,{"$f":"SUM(N75)","v":32},{"$f":"SUM(O76)","v":0},{"$f":"SUM(P75:P76)","v":21},{"$f":"SUM(Q75:Q76)","v":28},{"$f":"SUM(R75:R76)","v":6}]
["15900090","Programas Sociales (*)",null,{"$f":"IFERROR(VLOOKUP($A80,Filtro_!$A$5:$P$54,2,FALSE),0)","v":0},{"$f":"IFERROR(VLOOKUP($A80,Filtro_!$A$5:$P$54,3,FALSE),0)","v":0},{"$f":"IFERROR(VLOOKUP($A80,Filtro_!$A$5:$P$54,4,FALSE),0)","v":0},{"$f":"IFERROR(VLOOKUP($A80,Filtro_!$A$5:$P$54,5,FALSE),0)","v":0},{"$f":"IFERROR(VLOOKUP($A80,Filtro_!$A$5:$P$54,6,FALSE),0)","v":0},{"$f":"IFERROR(VLOOKUP($A80,Filtro_!$A$5:$P$54,7,FALSE),0)","v":0},{"$f":"IFERROR(VLOOKUP($A80,Filtro_!$A$5:$P$54,8,FALSE),0)","v":0},{"$f":"IFERROR(VLOOKUP($A80,Filtro_!$A$5:$P$54,9,FALSE),0)","v":0},{"$f":"IFERROR(VLOOKUP($A80,Filtro_!$A$5:$P$54,10,FALSE),0)","v":0},{"$f":"IFERROR(VLOOKUP($A80,Filtro_!$A$5:$P$54,11,FALSE),0)","v":0},{"$f":"IFERROR(VLOOKUP($A80,Filtro_!$A$5:$P$54,12,FALSE),0)","v":0},{"$f":"IFERROR(VLOOKUP($A80,Filtro_!$A$5:$P$54,13,FALSE),0)","v":0},{"$f":"IFERROR(VLOOKUP($A80,Filtro_!$A$5:$P$54,14,FALSE),0)","v":0},{"$f":"IFERROR(VLOOKUP($A80,Filtro_!$A$5:$P$54,15,FALSE),0)","v":0},{"$f":"IFERROR(VLOOKUP($A80,Filtro_!$A$5:$P$54,16,FALSE),0)","v":0},"",{"$nulls":8},"",{"$nulls":4},{"$f":"IF(E80+F80=D80,0,1)","v":0}]
[null,"Nota: (*) Información referencial, ya incluida en los subprogramas."]
[]
[null,"Sección E: Existencia y movimiento total de productos (Intrasistema y Extrasistema)"]
[null,"Productos",null,"Saldo Mes Anterior","Ingresos",null,"Total Disponible","Egresos",{"$nulls":6},"Saldo mes siguiente","Necesidades"]
[{"$nulls":4},"Planta","Por traspaso",null,"Distribuido",null,null,"Mermas (Incluye faltantes)","Otros: \ndemostra-\nciones, dona-\nciones, etc","Traspaso","Total Egresos",null,"Bodega del \nestablecimiento","Bodegas centrales"]
[{"$nulls":7},"Intrasistema","Extrasistema","Total"]
[null,"Leche Purita Fortificada (LPF)",null,{"$f":"IFERROR(VLOOKUP($A87,Filtro_!$A$5:$P$54,2,FALSE),0)","v":0},{"$f":"IFERROR(VLOOKUP($A87,Filtro_!$A$5:$P$54,3,FALSE),0)","v":0},{"$f":"IFERROR(VLOOKUP($A87,Filtro_!$A$5:$P$54,4,FALSE),0)","v":0},{"$f":"IFERROR(VLOOKUP($A87,Filtro_!$A$5:$P$54,5,FALSE),0)","v":0},{"$f":"IFERROR(VLOOKUP($A87,Filtro_!$A$5:$P$54,6,FALSE),0)","v":0},{"$f":"IFERROR(VLOOKUP($A87,Filtro_!$A$5:$P$54,7,FALSE),0)","v":0},{"$f":"IFERROR(VLOOKUP($A87,Filtro_!$A$5:$P$54,8,FALSE),0)","v":0},{"$f":"IFERROR(VLOOKUP($A87,Filtro_!$A$5:$P$54,9,FALSE),0)","v":0},{"$f":"IFERROR(VLOOKUP($A87,Filtro_!$A$5:$P$54,10,FALSE),0)","v":0},{"$f":"IFERROR(VLOOKUP($A87,Filtro_!$A$5:$P$54,11,FALSE),0)","v":0},{"$f":"IFERROR(VLOOKUP($A87,Filtro_!$A$5:$P$54,12,FALSE),0)","v":0},{"$f":"IFERROR(VLOOKUP($A87,Filtro_!$A$5:$P$54,13,FALSE),0)","v":0},{"$f":"IFERROR(VLOOKUP($A87,Filtro_!$A$5:$P$54,14,FALSE),0)","v":0},{"$f":"IFERROR(VLOOKUP($A87,Filtro_!$A$5:$P$54,15,FALSE),0)","v":0},{"$f":"IFERROR(VLOOKUP($A87,Filtro_!$A$5:$P$54,16,FALSE),0)","v":0}]
[null,"Purita Cereal (PC)",null,{"$f":"IFERROR(VLOOKUP($A88,Filtro_!$A$5:$P$54,2,FALSE),0)","v":0},{"$f":"IFERROR(VLOOKUP($A88,Filtro_!$A$5:$P$54,3,FALSE),0)","v":0},{"$f":"IFERROR(VLOOKUP($A88,Filtro_!$A$5:$P$54,4,FALSE),0)","v":0},{"$f":"IFERROR(VLOOKUP($A88,Filtro_!$A$5:$P$54,5,FALSE),0)","v":0},{"$f":"IFERROR(VLOOKUP($A88,Filtro_!$A$5:$P$54,6,FALSE),0)","v":0},{"$f":"IFERROR(VLOOKUP($A88,Filtro_!$A$5:$P$54,7,FALSE),0)","v":0},{"$f":"IFERROR(VLOOKUP($A88,Filtro_!$A$5:$P$54,8,FALSE),0)","v":0},{"$f":"IFERROR(VLOOKUP($A88,Filtro_!$A$5:$P$54,9,FALSE),0)","v":0},{"$f":"IFERROR(VLOOKUP($A88,Filtro_!$A$5:$P$54,10,FALSE),0)","v":0},{"$f":"IFERROR(VLOOKUP($A88,Filtro_!$A$5:$P$54,11,FALSE),0)","v":0},{"$f":"IFERROR(VLOOKUP($A88,Filtro_!$A$5:$P$54,12,FALSE),0)","v":0},{"$f":"IFERROR(VLOOKUP($A88,Filtro_!$A$5:$P$54,13,FALSE),0)","v":0},{"$f":"IFERROR(VLOOKUP($A88,Filtro_!$A$5:$P$54,14,FALSE),0)","v":0},{"$f":"IFERROR(VLOOKUP($A88,Filtro_!$A$5:$P$54,15,FALSE),0)","v":0},{"$f":"IFERROR(VLOOKUP($A88,Filtro_!$A$5:$P$54,16,FALSE),0)","v":0}]
[null,"Mi Sopita (MS)",null,{"$f":"IFERROR(VLOOKUP($A89,Filtro_!$A$5:$P$54,2,FALSE),0)","v":0},{"$f":"IFERROR(VLOOKUP($A89,Filtro_!$A$5:$P$54,3,FALSE),0)","v":0},{"$f":"IFERROR(VLOOKUP($A89,Filtro_!$A$5:$P$54,4,FALSE),0)","v":0},{"$f":"IFERROR(VLOOKUP($A89,Filtro_!$A$5:$P$54,5,FALSE),0)","v":0},{"$f":"IFERROR(VLOOKUP($A89,Filtro_!$A$5:$P$54,6,FALSE),0)","v":0},{"$f":"IFERROR(VLOOKUP($A89,Filtro_!$A$5:$P$54,7,FALSE),0)","v":0},{"$f":"IFERROR(VLOOKUP($A89,Filtro_!$A$5:$P$54,8,FALSE),0)","v":0},{"$f":"IFERROR(VLOOKUP($A89,Filtro_!$A$5:$P$54,9,FALSE),0)","v":0},{"$f":"IFERROR(VLOOKUP($A89,Filtro_!$A$5:$P$54,10,FALSE),0)","v":0},{"$f":"IFERROR(VLOOKUP($A89,Filtro_!$A$5:$P$54,11,FALSE),0)","v":0},{"$f":"IFERROR(VLOOKUP($A89,Filtro_!$A$5:$P$54,12,FALSE),0)","v":0},{"$f":"IFERROR(VLOOKUP($A89,Filtro_!$A$5:$P$54,13,FALSE),0)","v":0},{"$f":"IFERROR(VLOOKUP($A89,Filtro_!$A$5:$P$54,14,FALSE),0)","v":0},{"$f":"IFERROR(VLOOKUP($A89,Filtro_!$A$5:$P$54,15,FALSE),0)","v":0},{"$f":"IFERROR(VLOOKUP($A89,Filtro_!$A$5:$P$54,16,FALSE),0)","v":0}]
[null,"Purita Mamá (PM)",null,{"$f":"IFERROR(VLOOKUP($A90,Filtro_!$A$5:$P$54,2,FALSE),0)","v":{"v":0,"d":"0.000"}},{"$f":"IFERROR(VLOOKUP($A90,Filtro_!$A$5:$P$54,3,FALSE),0)","v":{"v":0,"d":"0.000"}},{"$f":"IFERROR(VLOOKUP($A90,Filtro_!$A$5:$P$54,4,FALSE),0)","v":{"v":0,"d":"0.000"}},{"$f":"IFERROR(VLOOKUP($A90,Filtro_!$A$5:$P$54,5,FALSE),0)","v":{"v":0,"d":"0.000"}},{"$f":"IFERROR(VLOOKUP($A90,Filtro_!$A$5:$P$54,6,FALSE),0)","v":{"v":0,"d":"0.000"}},{"$f":"IFERROR(VLOOKUP($A90,Filtro_!$A$5:$P$54,7,FALSE),0)","v":{"v":0,"d":"0.000"}},{"$f":"IFERROR(VLOOKUP($A90,Filtro_!$A$5:$P$54,8,FALSE),0)","v":{"v":0,"d":"0.000"}},{"$f":"IFERROR(VLOOKUP($A90,Filtro_!$A$5:$P$54,9,FALSE),0)","v":{"v":0,"d":"0.000"}},{"$f":"IFERROR(VLOOKUP($A90,Filtro_!$A$5:$P$54,10,FALSE),0)","v":{"v":0,"d":"0.000"}},{"$f":"IFERROR(VLOOKUP($A90,Filtro_!$A$5:$P$54,11,FALSE),0)","v":{"v":0,"d":"0.000"}},{"$f":"IFERROR(VLOOKUP($A90,Filtro_!$A$5:$P$54,12,FALSE),0)","v":{"v":0,"d":"0.000"}},{"$f":"IFERROR(VLOOKUP($A90,Filtro_!$A$5:$P$54,13,FALSE),0)","v":{"v":0,"d":"0.000"}},{"$f":"IFERROR(VLOOKUP($A90,Filtro_!$A$5:$P$54,14,FALSE),0)","v":{"v":0,"d":"0.000"}},{"$f":"IFERROR(VLOOKUP($A90,Filtro_!$A$5:$P$54,15,FALSE),0)","v":{"v":0,"d":"0.000"}},{"$f":"IFERROR(VLOOKUP($A90,Filtro_!$A$5:$P$54,16,FALSE),0)","v":0}]
[null,"Fórmula de Inicio (FI)",null,{"$f":"IFERROR(VLOOKUP($A91,Filtro_!$A$5:$P$54,2,FALSE),0)","v":{"v":0,"d":"0.000"}},{"$f":"IFERROR(VLOOKUP($A91,Filtro_!$A$5:$P$54,3,FALSE),0)","v":{"v":0,"d":"0.000"}},{"$f":"IFERROR(VLOOKUP($A91,Filtro_!$A$5:$P$54,4,FALSE),0)","v":{"v":0,"d":"0.000"}},{"$f":"IFERROR(VLOOKUP($A91,Filtro_!$A$5:$P$54,5,FALSE),0)","v":{"v":0,"d":"0.000"}},{"$f":"IFERROR(VLOOKUP($A91,Filtro_!$A$5:$P$54,6,FALSE),0)","v":{"v":0,"d":"0.000"}},{"$f":"IFERROR(VLOOKUP($A91,Filtro_!$A$5:$P$54,7,FALSE),0)","v":{"v":0,"d":"0.000"}},{"$f":"IFERROR(VLOOKUP($A91,Filtro_!$A$5:$P$54,8,FALSE),0)","v":{"v":0,"d":"0.000"}},{"$f":"IFERROR(VLOOKUP($A91,Filtro_!$A$5:$P$54,9,FALSE),0)","v":{"v":0,"d":"0.000"}},{"$f":"IFERROR(VLOOKUP($A91,Filtro_!$A$5:$P$54,10,FALSE),0)","v":{"v":0,"d":"0.000"}},{"$f":"IFERROR(VLOOKUP($A91,Filtro_!$A$5:$P$54,11,FALSE),0)","v":{"v":0,"d":"0.000"}},{"$f":"IFERROR(VLOOKUP($A91,Filtro_!$A$5:$P$54,12,FALSE),0)","v":{"v":0,"d":"0.000"}},{"$f":"IFERROR(VLOOKUP($A91,Filtro_!$A$5:$P$54,13,FALSE),0)","v":{"v":0,"d":"0.000"}},{"$f":"IFERROR(VLOOKUP($A91,Filtro_!$A$5:$P$54,14,FALSE),0)","v":{"v":0,"d":"0.000"}},{"$f":"IFERROR(VLOOKUP($A91,Filtro_!$A$5:$P$54,15,FALSE),0)","v":{"v":0,"d":"0.000"}},{"$f":"IFERROR(VLOOKUP($A91,Filtro_!$A$5:$P$54,16,FALSE),0)","v":0}]
[null,"Fórmula Prematuros",null,{"$f":"IFERROR(VLOOKUP($A92,Filtro_!$A$5:$P$54,2,FALSE),0)","v":{"v":0,"d":"0.000"}},{"$f":"IFERROR(VLOOKUP($A92,Filtro_!$A$5:$P$54,3,FALSE),0)","v":{"v":0,"d":"0.000"}},{"$f":"IFERROR(VLOOKUP($A92,Filtro_!$A$5:$P$54,4,FALSE),0)","v":{"v":0,"d":"0.000"}},{"$f":"IFERROR(VLOOKUP($A92,Filtro_!$A$5:$P$54,5,FALSE),0)","v":{"v":0,"d":"0.000"}},{"$f":"IFERROR(VLOOKUP($A92,Filtro_!$A$5:$P$54,6,FALSE),0)","v":{"v":0,"d":"0.000"}},{"$f":"IFERROR(VLOOKUP($A92,Filtro_!$A$5:$P$54,7,FALSE),0)","v":{"v":0,"d":"0.000"}},{"$f":"IFERROR(VLOOKUP($A92,Filtro_!$A$5:$P$54,8,FALSE),0)","v":{"v":0,"d":"0.000"}},{"$f":"IFERROR(VLOOKUP($A92,Filtro_!$A$5:$P$54,9,FALSE),0)","v":{"v":0,"d":"0.000"}},{"$f":"IFERROR(VLOOKUP($A92,Filtro_!$A$5:$P$54,10,FALSE),0)","v":{"v":0,"d":"0.000"}},{"$f":"IFERROR(VLOOKUP($A92,Filtro_!$A$5:$P$54,11,FALSE),0)","v":{"v":0,"d":"0.000"}},{"$f":"IFERROR(VLOOKUP($A92,Filtro_!$A$5:$P$54,12,FALSE),0)","v":{"v":0,"d":"0.000"}},{"$f":"IFERROR(VLOOKUP($A92,Filtro_!$A$5:$P$54,13,FALSE),0)","v":{"v":0,"d":"0.000"}},{"$f":"IFERROR(VLOOKUP($A92,Filtro_!$A$5:$P$54,14,FALSE),0)","v":{"v":0,"d":"0.000"}},{"$f":"IFERROR(VLOOKUP($A92,Filtro_!$A$5:$P$54,15,FALSE),0)","v":{"v":0,"d":"0.000"}},{"$f":"IFERROR(VLOOKUP($A92,Filtro_!$A$5:$P$54,16,FALSE),0)","v":0}]
[null,"Fórmula Continuación",null,{"$f":"IFERROR(VLOOKUP($A93,Filtro_!$A$5:$P$54,2,FALSE),0)","v":{"v":0,"d":"0.000"}},{"$f":"IFERROR(VLOOKUP($A93,Filtro_!$A$5:$P$54,3,FALSE),0)","v":{"v":0,"d":"0.000"}},{"$f":"IFERROR(VLOOKUP($A93,Filtro_!$A$5:$P$54,4,FALSE),0)","v":{"v":0,"d":"0.000"}},{"$f":"IFERROR(VLOOKUP($A93,Filtro_!$A$5:$P$54,5,FALSE),0)","v":{"v":0,"d":"0.000"}},{"$f":"IFERROR(VLOOKUP($A93,Filtro_!$A$5:$P$54,6,FALSE),0)","v":{"v":0,"d":"0.000"}},{"$f":"IFERROR(VLOOKUP($A93,Filtro_!$A$5:$P$54,7,FALSE),0)","v":{"v":0,"d":"0.000"}},{"$f":"IFERROR(VLOOKUP($A93,Filtro_!$A$5:$P$54,8,FALSE),0)","v":{"v":0,"d":"0.000"}},{"$f":"IFERROR(VLOOKUP($A93,Filtro_!$A$5:$P$54,9,FALSE),0)","v":{"v":0,"d":"0.000"}},{"$f":"IFERROR(VLOOKUP($A93,Filtro_!$A$5:$P$54,10,FALSE),0)","v":{"v":0,"d":"0.000"}},{"$f":"IFERROR(VLOOKUP($A93,Filtro_!$A$5:$P$54,11,FALSE),0)","v":{"v":0,"d":"0.000"}},{"$f":"IFERROR(VLOOKUP($A93,Filtro_!$A$5:$P$54,12,FALSE),0)","v":{"v":0,"d":"0.000"}},{"$f":"IFERROR(VLOOKUP($A93,Filtro_!$A$5:$P$54,13,FALSE),0)","v":{"v":0,"d":"0.000"}},{"$f":"IFERROR(VLOOKUP($A93,Filtro_!$A$5:$P$54,14,FALSE),0)","v":{"v":0,"d":"0.000"}},{"$f":"IFERROR(VLOOKUP($A93,Filtro_!$A$5:$P$54,15,FALSE),0)","v":{"v":0,"d":"0.000"}},{"$f":"IFERROR(VLOOKUP($A93,Filtro_!$A$5:$P$54,16,FALSE),0)","v":0}]
[null,"Formula Extensamente Hidrolizada (FEH)",null,{"$f":"IFERROR(VLOOKUP($A94,Filtro_!$A$5:$P$54,2,FALSE),0)","v":{"v":0,"d":"0.000"}},{"$f":"IFERROR(VLOOKUP($A94,Filtro_!$A$5:$P$54,3,FALSE),0)","v":{"v":0,"d":"0.000"}},{"$f":"IFERROR(VLOOKUP($A94,Filtro_!$A$5:$P$54,4,FALSE),0)","v":{"v":0,"d":"0.000"}},{"$f":"IFERROR(VLOOKUP($A94,Filtro_!$A$5:$P$54,5,FALSE),0)","v":{"v":0,"d":"0.000"}},{"$f":"IFERROR(VLOOKUP($A94,Filtro_!$A$5:$P$54,6,FALSE),0)","v":{"v":0,"d":"0.000"}},{"$f":"IFERROR(VLOOKUP($A94,Filtro_!$A$5:$P$54,7,FALSE),0)","v":{"v":0,"d":"0.000"}},{"$f":"IFERROR(VLOOKUP($A94,Filtro_!$A$5:$P$54,8,FALSE),0)","v":{"v":0,"d":"0.000"}},{"$f":"IFERROR(VLOOKUP($A94,Filtro_!$A$5:$P$54,9,FALSE),0)","v":{"v":0,"d":"0.000"}},{"$f":"IFERROR(VLOOKUP($A94,Filtro_!$A$5:$P$54,10,FALSE),0)","v":{"v":0,"d":"0.000"}},{"$f":"IFERROR(VLOOKUP($A94,Filtro_!$A$5:$P$54,11,FALSE),0)","v":{"v":0,"d":"0.000"}},{"$f":"IFERROR(VLOOKUP($A94,Filtro_!$A$5:$P$54,12,FALSE),0)","v":{"v":0,"d":"0.000"}},{"$f":"IFERROR(VLOOKUP($A94,Filtro_!$A$5:$P$54,13,FALSE),0)","v":{"v":0,"d":"0.000"}},{"$f":"IFERROR(VLOOKUP($A94,Filtro_!$A$5:$P$54,14,FALSE),0)","v":{"v":0,"d":"0.000"}},{"$f":"IFERROR(VLOOKUP($A94,Filtro_!$A$5:$P$54,15,FALSE),0)","v":{"v":0,"d":"0.000"}},{"$f":"IFERROR(VLOOKUP($A94,Filtro_!$A$5:$P$54,16,FALSE),0)","v":0}]
[null,"Formula aminoacídica (FAA)",null,{"$f":"IFERROR(VLOOKUP($A95,Filtro_!$A$5:$P$54,2,FALSE),0)","v":{"v":0,"d":"0.000"}},{"$f":"IFERROR(VLOOKUP($A95,Filtro_!$A$5:$P$54,3,FALSE),0)","v":{"v":0,"d":"0.000"}},{"$f":"IFERROR(VLOOKUP($A95,Filtro_!$A$5:$P$54,4,FALSE),0)","v":{"v":0,"d":"0.000"}},{"$f":"IFERROR(VLOOKUP($A95,Filtro_!$A$5:$P$54,5,FALSE),0)","v":{"v":0,"d":"0.000"}},{"$f":"IFERROR(VLOOKUP($A95,Filtro_!$A$5:$P$54,6,FALSE),0)","v":{"v":0,"d":"0.000"}},{"$f":"IFERROR(VLOOKUP($A95,Filtro_!$A$5:$P$54,7,FALSE),0)","v":{"v":0,"d":"0.000"}},{"$f":"IFERROR(VLOOKUP($A95,Filtro_!$A$5:$P$54,8,FALSE),0)","v":{"v":0,"d":"0.000"}},{"$f":"IFERROR(VLOOKUP($A95,Filtro_!$A$5:$P$54,9,FALSE),0)","v":{"v":0,"d":"0.000"}},{"$f":"IFERROR(VLOOKUP($A95,Filtro_!$A$5:$P$54,10,FALSE),0)","v":{"v":0,"d":"0.000"}},{"$f":"IFERROR(VLOOKUP($A95,Filtro_!$A$5:$P$54,11,FALSE),0)","v":{"v":0,"d":"0.000"}},{"$f":"IFERROR(VLOOKUP($A95,Filtro_!$A$5:$P$54,12,FALSE),0)","v":{"v":0,"d":"0.000"}},{"$f":"IFERROR(VLOOKUP($A95,Filtro_!$A$5:$P$54,13,FALSE),0)","v":{"v":0,"d":"0.000"}},{"$f":"IFERROR(VLOOKUP($A95,Filtro_!$A$5:$P$54,14,FALSE),0)","v":{"v":0,"d":"0.000"}},{"$f":"IFERROR(VLOOKUP($A95,Filtro_!$A$5:$P$54,15,FALSE),0)","v":{"v":0,"d":"0.000"}},{"$f":"IFERROR(VLOOKUP($A95,Filtro_!$A$5:$P$54,16,FALSE),0)","v":0}]
[null,"Total (Kg)",null,{"$f":"SUM(D87:D95)","v":{"v":0,"d":"0.000"}},{"v":0,"d":"0.000"},{"v":0,"d":"0.000"},{"$f":"SUM(G87:G95)","v":{"v":0,"d":"0.000"}},{"v":0,"d":"0.000"},{"v":0,"d":"0.000"},{"$f":"SUM(J87:J95)","v":{"v":0,"d":"0.000"}},{"$f":"SUM(K87:K95)","v":{"v":0,"d":"0.000"}},{"v":0,"d":"0.000"},{"v":0,"d":"0.000"},{"v":0,"d":"0.000"},{"v":0,"d":"0.000"},{"v":0,"d":"0.000"},{"$f":"SUM(Q87:Q95)","v":{"v":0,"d":"0.000"}}]
{"$rows_empty":7}
["CODIGOS ELIMINADOS"]
[15080006]
[15080007]
[]
[]
[]
["CODIGOS NUEVOS"]
[15901500]
[15901600]
{"$rows_empty":36}
[null,{"$f":"SUM(B8:R96)","v":15626348.499999994},{"$nulls":30},{"$f":"SUM(AG1:AJ148)","v":11}]

{"sheet":"D16","index":1,"n_rows":205,"n_cols":32,"rows_kept":205,"merged":[[6,1,6,14],[16,1,17,1],[16,2,16,6],[25,1,27,1],[25,2,27,2],[25,3,25,4],[25,5,27,5],[25,6,25,10],[25,11,27,11],[25,12,25,13],[26,3,27,3],[26,4,27,4],[26,6,27,6],[26,7,27,7],[26,8,27,8],[26,9,27,9],[26,10,27,10],[26,12,27,12],[26,13,27,13],[31,1,32,1],[31,2,31,6]]}
[null,"MINISTERIO DE SALUD"]
[null,"SERVICIO SALUD COQUIMBO"]
[null,"SUBDEPTO. DE ESTADISTICAS Y GESTION DE LA INFORMACION"]
[null,"COMUNA/HOSPITAL"]
[null,"MES"]
[null,"AÑO:  2022"]
[null,"REM-D.16.    Programa de Alimentación Complementaria del Adulto Mayor (PACAM)"]
[null,"Sección A: PACAM - Cantidad distribuida (kg)"]
[null,"Grupo Programático","Crema Años Dorados (CAD)","Bebida Láctea Años Dorados (BLAD)"]
["16090300","70 años y más (independiente del motivo de ingreso)",{"$f":"IFERROR(VLOOKUP($A10,Filtro_!$A$5:$P$54,2,FALSE),0)","v":{"v":219932,"d":"219932.00"}},{"$f":"IFERROR(VLOOKUP($A10,Filtro_!$A$5:$P$54,3,FALSE),0)","v":220616},{"$f":"$AB10&\" \"&$AC10","v":"La cantidad distribuída de Crema Años Dorados es distinta a la cantidad distribuída de Bebida Láctea Años Dorados.-  "},{"$nulls":22},{"$f":"IF(C10<>D10,\"La cantidad distribuída de Crema Años Dorados es distinta a la cantidad distribuída de Bebida Láctea Años Dorados.- \",\"\")","v":"La cantidad distribuída de Crema Años Dorados es distinta a la cantidad distribuída de Bebida Láctea Años Dorados.- "}]
["16200210","65 - 69 años con alteración de la funcionalidad",{"$f":"IFERROR(VLOOKUP($A11,Filtro_!$A$5:$P$54,2,FALSE),0)","v":{"v":14260,"d":"14260.00"}},{"$f":"IFERROR(VLOOKUP($A11,Filtro_!$A$5:$P$54,3,FALSE),0)","v":14313},{"$f":"$AB11&\" \"&$AC11","v":"La cantidad distribuída de Crema Años Dorados es distinta a la cantidad distribuída de Bebida Láctea Años Dorados.-  "},{"$nulls":22},{"$f":"IF(C11<>D11,\"La cantidad distribuída de Crema Años Dorados es distinta a la cantidad distribuída de Bebida Láctea Años Dorados.- \",\"\")","v":"La cantidad distribuída de Crema Años Dorados es distinta a la cantidad distribuída de Bebida Láctea Años Dorados.- "}]
["16090500","65 - 69 años en programa social (Vínculos, Familia, Calle u otro)",{"$f":"IFERROR(VLOOKUP($A12,Filtro_!$A$5:$P$54,2,FALSE),0)","v":{"v":690,"d":"690.00"}},{"$f":"IFERROR(VLOOKUP($A12,Filtro_!$A$5:$P$54,3,FALSE),0)","v":690},{"$f":"$AB12&\" \"&$AC12","v":" "},{"$nulls":22},""]
["16090600","60 - 69 años con tuberculosis",{"$f":"IFERROR(VLOOKUP($A13,Filtro_!$A$5:$P$54,2,FALSE),0)","v":{"v":44,"d":"44.00"}},{"$f":"IFERROR(VLOOKUP($A13,Filtro_!$A$5:$P$54,3,FALSE),0)","v":44},{"$f":"$AB13&\" \"&$AC13","v":" "},{"$nulls":22},""]
["16090100","60 - 69 años en ELEAM autorizado o similar",{"$f":"IFERROR(VLOOKUP($A14,Filtro_!$A$5:$P$54,2,FALSE),0)","v":{"v":725,"d":"725.00"}},{"$f":"IFERROR(VLOOKUP($A14,Filtro_!$A$5:$P$54,3,FALSE),0)","v":727},{"$f":"$AB14&\" \"&$AC14","v":"La cantidad distribuída de Crema Años Dorados es distinta a la cantidad distribuída de Bebida Láctea Años Dorados.-  "},{"$nulls":22},"La cantidad distribuída de Crema Años Dorados es distinta a la cantidad distribuída de Bebida Láctea Años Dorados.- "]
[null,"TOTAL",{"$f":"SUM(C10:C14)","v":{"v":235651,"d":"235651.00"}},{"$f":"SUM(D10:D14)","v":{"v":236390,"d":"236,390"}}]
[null,"Sección B: PACAM - Número de personas que retiran"]
[null,"Grupo Programático","Crema Años Dorados-Bebida Lactea"]
[null,null,"Ambos Sexos","Hombres","Mujeres","Ingresos del mes","Inasistentes del mes"]
["16100300","70 años y más (independiente del motivo de ingreso",{"$f":"IFERROR(VLOOKUP($A19,Filtro_!$A$5:$P$54,2,FALSE),0)","v":212634},{"$f":"IFERROR(VLOOKUP($A19,Filtro_!$A$5:$P$54,3,FALSE),0)","v":90067},{"$f":"IFERROR(VLOOKUP($A19,Filtro_!$A$5:$P$54,4,FALSE),0)","v":122567},{"$f":"IFERROR(VLOOKUP($A19,Filtro_!$A$5:$P$54,5,FALSE),0)","v":3269},{"$f":"IFERROR(VLOOKUP($A19,Filtro_!$A$5:$P$54,6,FALSE),0)","v":54046},{"$f":"$AC19","v":" No olvide que el Nº de personas que retiran debe ser igual al promedio de Kilos que retiran en Seccion A.-"},{"$nulls":20},{"$f":"IF(((C10+D10)/2)<>(D19+E19),\" No olvide que el Nº de personas que retiran debe ser igual al promedio de Kilos que retiran en Seccion A.-\",\"\")","v":" No olvide que el Nº de personas que retiran debe ser igual al promedio de Kilos que retiran en Seccion A.-"},null,{"$f":"IF($D19+$E19=0,\"\",IF($C10+$D10=\"\",IF($D19+$E19=\"\",0,1),\"\"))","v":""},{"$f":"IF(D19+E19=0,\"\",IF(C10+D10=0,\"\",IF(((C10+D10)/2)<>D19+E19,1,0)))","v":1}]
["16200220","65 - 69 años con alteración de la funcionalidad",{"$f":"IFERROR(VLOOKUP($A20,Filtro_!$A$5:$P$54,2,FALSE),0)","v":13714},{"$f":"IFERROR(VLOOKUP($A20,Filtro_!$A$5:$P$54,3,FALSE),0)","v":5460},{"$f":"IFERROR(VLOOKUP($A20,Filtro_!$A$5:$P$54,4,FALSE),0)","v":8254},{"$f":"IFERROR(VLOOKUP($A20,Filtro_!$A$5:$P$54,5,FALSE),0)","v":581},{"$f":"IFERROR(VLOOKUP($A20,Filtro_!$A$5:$P$54,6,FALSE),0)","v":4257},{"$f":"$AC20","v":" No olvide que el Nº de personas que retiran debe ser igual al promedio de Kilos que retiran en Seccion A.-"},{"$nulls":20},{"$f":"IF(((C11+D11)/2)<>(D20+E20),\" No olvide que el Nº de personas que retiran debe ser igual al promedio de Kilos que retiran en Seccion A.-\",\"\")","v":" No olvide que el Nº de personas que retiran debe ser igual al promedio de Kilos que retiran en Seccion A.-"},null,{"$f":"IF($D20+$E20=0,\"\",IF($C11+$D11=\"\",IF($D20+$E20=\"\",0,1),\"\"))","v":""},{"$f":"IF(D20+E20=0,\"\",IF(C11+D11=0,\"\",IF(((C11+D11)/2)<>D20+E20,1,0)))","v":1}]
["16100600","65 - 69 años en programa social (Vínculos, Familia, Calle u otro)",{"$f":"IFERROR(VLOOKUP($A21,Filtro_!$A$5:$P$54,2,FALSE),0)","v":729},{"$f":"IFERROR(VLOOKUP($A21,Filtro_!$A$5:$P$54,3,FALSE),0)","v":276},{"$f":"IFERROR(VLOOKUP($A21,Filtro_!$A$5:$P$54,4,FALSE),0)","v":453},{"$f":"IFERROR(VLOOKUP($A21,Filtro_!$A$5:$P$54,5,FALSE),0)","v":4},{"$f":"IFERROR(VLOOKUP($A21,Filtro_!$A$5:$P$54,6,FALSE),0)","v":97}," No olvide que el Nº de personas que retiran debe ser igual al promedio de Kilos que retiran en Seccion A.-",{"$nulls":20}," No olvide que el Nº de personas que retiran debe ser igual al promedio de Kilos que retiran en Seccion A.-",null,"",1]
["16100700","60 - 69 años con tuberculosis",{"$f":"IFERROR(VLOOKUP($A22,Filtro_!$A$5:$P$54,2,FALSE),0)","v":43},{"$f":"IFERROR(VLOOKUP($A22,Filtro_!$A$5:$P$54,3,FALSE),0)","v":33},{"$f":"IFERROR(VLOOKUP($A22,Filtro_!$A$5:$P$54,4,FALSE),0)","v":10},{"$f":"IFERROR(VLOOKUP($A22,Filtro_!$A$5:$P$54,5,FALSE),0)","v":1},{"$f":"IFERROR(VLOOKUP($A22,Filtro_!$A$5:$P$54,6,FALSE),0)","v":43}," No olvide que el Nº de personas que retiran debe ser igual al promedio de Kilos que retiran en Seccion A.-",{"$nulls":20}," No olvide que el Nº de personas que retiran debe ser igual al promedio de Kilos que retiran en Seccion A.-",null,"",1]
["16100100","60 - 69 años en ELEAM autorizado o similar",{"$f":"IFERROR(VLOOKUP($A23,Filtro_!$A$5:$P$54,2,FALSE),0)","v":718},{"$f":"IFERROR(VLOOKUP($A23,Filtro_!$A$5:$P$54,3,FALSE),0)","v":304},{"$f":"IFERROR(VLOOKUP($A23,Filtro_!$A$5:$P$54,4,FALSE),0)","v":414},{"$f":"IFERROR(VLOOKUP($A23,Filtro_!$A$5:$P$54,5,FALSE),0)","v":11},{"$f":"IFERROR(VLOOKUP($A23,Filtro_!$A$5:$P$54,6,FALSE),0)","v":56}," No olvide que el Nº de personas que retiran debe ser igual al promedio de Kilos que retiran en Seccion A.-",{"$nulls":20}," No olvide que el Nº de personas que retiran debe ser igual al promedio de Kilos que retiran en Seccion A.-",null,"",1]
[null,"TOTAL",{"$f":"SUM(C19:C23)","v":{"v":227838,"d":"227,838"}},{"v":96140,"d":"96,140"},{"v":131698,"d":"131,698"},{"v":3866,"d":"3,866"},{"v":58499,"d":"58,499"}]
[null,"Sección C: Existencia y movimiento de productos"]
[null,"Alimentos","Saldo mes anterior","Ingresos",null,"Total disponible","Egresos",{"$nulls":4},"Saldo mes siguiente","Necesidades"]
[{"$nulls":3},"Planta","Por traspaso",null,"Distribuido a beneficiarios","Mermas (Incluye faltantes)","Otros: \n(demostraciones, \ndonaciones, etc.)","Traspaso","Total egresos",null,"Bodega del \nestableci-\nmiento","Bodegas Centrales"]
[]
[null,"Crema Años Dorados (CAD)",{"$f":"IFERROR(VLOOKUP($A29,Filtro_!$A$5:$P$54,2,FALSE),0)","v":{"v":0,"d":"0.0"}},{"$f":"IFERROR(VLOOKUP($A29,Filtro_!$A$5:$P$54,3,FALSE),0)","v":{"v":0,"d":"0.0"}},{"$f":"IFERROR(VLOOKUP($A29,Filtro_!$A$5:$P$54,4,FALSE),0)","v":{"v":0,"d":"0.0"}},{"$f":"IFERROR(VLOOKUP($A29,Filtro_!$A$5:$P$54,5,FALSE),0)","v":{"v":0,"d":"0.0"}},{"$f":"IFERROR(VLOOKUP($A29,Filtro_!$A$5:$P$54,6,FALSE),0)","v":{"v":0,"d":"0.0"}},{"$f":"IFERROR(VLOOKUP($A29,Filtro_!$A$5:$P$54,7,FALSE),0)","v":{"v":0,"d":"0.0"}},{"$f":"IFERROR(VLOOKUP($A29,Filtro_!$A$5:$P$54,8,FALSE),0)","v":{"v":0,"d":"0.0"}},{"$f":"IFERROR(VLOOKUP($A29,Filtro_!$A$5:$P$54,9,FALSE),0)","v":{"v":0,"d":"0.0"}},{"$f":"IFERROR(VLOOKUP($A29,Filtro_!$A$5:$P$54,10,FALSE),0)","v":{"v":0,"d":"0.0"}},{"$f":"IFERROR(VLOOKUP($A29,Filtro_!$A$5:$P$54,11,FALSE),0)","v":{"v":0,"d":"0.0"}},{"$f":"IFERROR(VLOOKUP($A29,Filtro_!$A$5:$P$54,12,FALSE),0)","v":{"v":0,"d":"0.0"}},{"$f":"IFERROR(VLOOKUP($A29,Filtro_!$A$5:$P$54,13,FALSE),0)","v":{"v":0,"d":"0.0"}}]
[null,"Bebida Láctea Años Dorados (BLAD)",{"$f":"IFERROR(VLOOKUP($A30,Filtro_!$A$5:$P$54,2,FALSE),0)","v":0},{"$f":"IFERROR(VLOOKUP($A30,Filtro_!$A$5:$P$54,3,FALSE),0)","v":0},{"$f":"IFERROR(VLOOKUP($A30,Filtro_!$A$5:$P$54,4,FALSE),0)","v":0},{"$f":"IFERROR(VLOOKUP($A30,Filtro_!$A$5:$P$54,5,FALSE),0)","v":0},{"$f":"IFERROR(VLOOKUP($A30,Filtro_!$A$5:$P$54,6,FALSE),0)","v":0},{"$f":"IFERROR(VLOOKUP($A30,Filtro_!$A$5:$P$54,7,FALSE),0)","v":0},{"$f":"IFERROR(VLOOKUP($A30,Filtro_!$A$5:$P$54,8,FALSE),0)","v":0},{"$f":"IFERROR(VLOOKUP($A30,Filtro_!$A$5:$P$54,9,FALSE),0)","v":0},{"$f":"IFERROR(VLOOKUP($A30,Filtro_!$A$5:$P$54,10,FALSE),0)","v":0},{"$f":"IFERROR(VLOOKUP($A30,Filtro_!$A$5:$P$54,11,FALSE),0)","v":0},{"$f":"IFERROR(VLOOKUP($A30,Filtro_!$A$5:$P$54,12,FALSE),0)","v":0},{"$f":"IFERROR(VLOOKUP($A30,Filtro_!$A$5:$P$54,13,FALSE),0)","v":0}]
[null,"Sección D: PACAM - Número de personas que retiran, pertenecientes al PRAIS (incluidos en Sección B)"]
[null,"Grupo Programático","Crema Años Dorados-Bebida Lactea"]
[null,null,"Ambos Sexos","Hombres","Mujeres","Ingresos del mes","Inasistentes del mes"]
["16200100","70 años y más (independiente del motivo de ingreso",{"$f":"IFERROR(VLOOKUP($A34,Filtro_!$A$5:$P$54,2,FALSE),0)","v":2981},{"$f":"IFERROR(VLOOKUP($A34,Filtro_!$A$5:$P$54,3,FALSE),0)","v":1646},{"$f":"IFERROR(VLOOKUP($A34,Filtro_!$A$5:$P$54,4,FALSE),0)","v":1309},{"$f":"IFERROR(VLOOKUP($A34,Filtro_!$A$5:$P$54,5,FALSE),0)","v":13},{"$f":"IFERROR(VLOOKUP($A34,Filtro_!$A$5:$P$54,6,FALSE),0)","v":762}]
["16200230","65 - 69 años con alteración de la funcionalidad",{"$f":"IFERROR(VLOOKUP($A35,Filtro_!$A$5:$P$54,2,FALSE),0)","v":72},{"$f":"IFERROR(VLOOKUP($A35,Filtro_!$A$5:$P$54,3,FALSE),0)","v":21},{"$f":"IFERROR(VLOOKUP($A35,Filtro_!$A$5:$P$54,4,FALSE),0)","v":51},{"$f":"IFERROR(VLOOKUP($A35,Filtro_!$A$5:$P$54,5,FALSE),0)","v":0},{"$f":"IFERROR(VLOOKUP($A35,Filtro_!$A$5:$P$54,6,FALSE),0)","v":16}]
["16200240","65 - 69 años en programa social (Vínculos, Familia, Calle u otro)",{"$f":"IFERROR(VLOOKUP($A36,Filtro_!$A$5:$P$54,2,FALSE),0)","v":1},{"$f":"IFERROR(VLOOKUP($A36,Filtro_!$A$5:$P$54,3,FALSE),0)","v":1},{"$f":"IFERROR(VLOOKUP($A36,Filtro_!$A$5:$P$54,4,FALSE),0)","v":0},{"$f":"IFERROR(VLOOKUP($A36,Filtro_!$A$5:$P$54,5,FALSE),0)","v":0},{"$f":"IFERROR(VLOOKUP($A36,Filtro_!$A$5:$P$54,6,FALSE),0)","v":0}]
["16200200","60 - 69 años con tuberculosis",{"$f":"IFERROR(VLOOKUP($A37,Filtro_!$A$5:$P$54,2,FALSE),0)","v":1},{"$f":"IFERROR(VLOOKUP($A37,Filtro_!$A$5:$P$54,3,FALSE),0)","v":1},{"$f":"IFERROR(VLOOKUP($A37,Filtro_!$A$5:$P$54,4,FALSE),0)","v":0},{"$f":"IFERROR(VLOOKUP($A37,Filtro_!$A$5:$P$54,5,FALSE),0)","v":0},{"$f":"IFERROR(VLOOKUP($A37,Filtro_!$A$5:$P$54,6,FALSE),0)","v":0}]
["16200250","60 - 69 años en ELEAM autorizado o similar",{"$f":"IFERROR(VLOOKUP($A38,Filtro_!$A$5:$P$54,2,FALSE),0)","v":0},{"$f":"IFERROR(VLOOKUP($A38,Filtro_!$A$5:$P$54,3,FALSE),0)","v":0},{"$f":"IFERROR(VLOOKUP($A38,Filtro_!$A$5:$P$54,4,FALSE),0)","v":0},{"$f":"IFERROR(VLOOKUP($A38,Filtro_!$A$5:$P$54,5,FALSE),0)","v":0},{"$f":"IFERROR(VLOOKUP($A38,Filtro_!$A$5:$P$54,6,FALSE),0)","v":0}]
[null,"TOTAL",{"$f":"SUM(C34:C38)","v":{"v":3055,"d":"3,055"}},{"v":1669,"d":"1,669"},{"v":1360,"d":"1,360"},13,778]
{"$rows_empty":165}
[null,{"$f":"SUM(B8:O39)","v":1993914},{"$nulls":28},{"$f":"SUM(AE1:AF204)","v":5}]

{"sheet":"Filtro_","index":2,"n_rows":54,"n_cols":16,"rows_kept":54}
["Establecimiento","(Todas)"]
["Comuna","(Todas)"]
["Mes","(Todas)"]
[]
["Etiquetas de fila","Suma de Col01","Suma de Col02","Suma de Col03","Suma de Col04","Suma de Col05","Suma de Col06","Suma de Col07","Suma de Col08","Suma de Col09","Suma de Col10","Suma de Col11","Suma de Col12","Suma de Col13","Suma de Col14","Suma de Col15"]
["15010100",37337,null,null,1996,34737,234,12,16,181,0,157,2,6]
["15010200",153600,{"$nulls":4},30394,67557,55651]
["15010300",826,null,null,73,679,74,0,0,0,0,0,0,0]
["15010400",3861,{"$nulls":4},584,2166,1111]
["15010500",5380,null,12,724,698,658,2177,1111]
["15020100",1507,47,96,560,813,4,0,0,0,0,2,0,0]
["15020200",3198,{"$nulls":4},704,1308,1186]
["15020300",21,1,2,8,10,0]
["15020400",11,{"$nulls":4},4,6,1]
["15020500",16,null,0,2,2,2,8,2]
["15030100",87432.39999999988,36552.4,29339.2,21540.80000000001]
["15030200",30949.59999999999,null,null,30949.59999999999]
["15040100",37.6,22.4,12,3.2]
["15040200",3.6,null,null,3.6]
["15050100",147688,59303,87896,1331,3510,11413,17017,15080,33801,28296,22518,null,7803,1948,4971]
["15050200",3327,1604,1708,58,101,366,371,328,1070,529,null,410,50,33,11]
["15050500",655,360,294,206,184,265]
["15060100",2447,1255,1179,27,55,284,388,358,656,593,32,null,20,28,6]
["15060200",27,13,14,1,1,2,5,1,5,11,null,0,1,0,0]
["15060600",10,5,5,6,2,2]
["15080008",44835,{"$nulls":7},22493,null,15392,1967,4983]
["15080009",1411,{"$nulls":8},1221,143,34,13]
["15080010",104,{"$nulls":7},32,null,38,28,6]
["15080012",18,null,null,18]
["15900010",1835321.3000000003,121514.99999999997,370332.10000000015,1343465.199999999]
["15900020",26685.50000000001,11366.4,10332.6,4986.500000000002]
["15900030",121540.64999999992,6600.8,12076.800000000003,59761.050000000025,34893.200000000026,8181.9999999999945,26.8,0]
["15900040",40601.200000000004,5318.399999999999,12317.2,6849.599999999994,15870.800000000001,237.60000000000002,7.6000000000000005,0]
["15900050",1465,798,663,108,238,542,342,225,10]
["15900060",2,2,{"$nulls":7},2]
["15901200",26167.000000000007,71.2,3538.6000000000017,10668.399999999998,11408.199999999997,480.5999999999998,0,0]
["15901300",26488.199999999993,38.8,10109.999999999996,9142.599999999999,252.40000000000003,6935.599999999996,8.8,0]
["15901400",853,517,335,35,135,286,235,160,2,0]
["15901500",826.7000000000003,131.9,200,494.7999999999999]
["16090100",725,727]
["16090300",219932,220616]
["16090500",690,690]
["16090600",44,44]
["16100100",718,304,414,11,56]
["16100300",212634,90067,122567,3269,54046]
["16100600",729,276,453,4,97]
["16100700",43,33,10,1,43]
["16200100",2981,1646,1309,13,762]
["16200200",1,1]
["16200210",14260,14313]
["16200220",13714,5460,8254,581,4257]
["16200230",72,21,51,0,16]
["16200240",1,1]
["Total general",3071196.7500000005,579721.2999999999,673520.5000000001,1496897.3499999992,162866.60000000003,61653.79999999999,91635.20000000001,75230,58250,30652,38282,2441,12882,2009,4988]

{"sheet":"BBDD_","index":3,"n_rows":18712,"n_cols":81,"rows_kept":4500,"cut":true,"hidden":true,"bounds":{"rows_first":2000,"rows_last":500,"rows_between":2000,"halvings":0}}
[{"$nulls":23},"Mes","IdServicio","Ano","IdEstablecimiento","Establecimiento","Comuna","CodigoPrestacion","fechaIngreso","Col01","Col02","Col03","Col04","Col05","Col06","Col07","Col08","Col09","Col10","Col11","Col12","Col13","Col14","Col15","Col16","Col17","Col18","Col19","Col20","Col21","Col22","Col23","Col24","Col25","Col26","Col27","Col28","Col29","Col30","Col31","Col32","Col33","Col34","Col35","Col36","Col37","Col38","Col39","Col40","Col41","col42","col43","col44","col45","col46","col47","col48","col49","col50"]
[{"$nulls":23},1,"5",2022,"105701",{"$f":"IFERROR(VLOOKUP(Tabla_SERIED_12_5[[#This Row],[IdEstablecimiento]],'[1]Establecimiento 2023'!$A$1:$E$183,3,FALSE),0)","v":"105701-Centro Comunitario de Salud Familiar Villa Alemania"},{"$f":"IFERROR(VLOOKUP(Tabla_SERIED_12_5[[#This Row],[IdEstablecimiento]],'[1]Establecimiento 2023'!$A$1:$E$183,5,FALSE),0)","v":"04101-La Serena"},"15080008","2022-02-17T04:22:49",15,{"$nulls":7},7,null,6,null,2]
[{"$nulls":23},1,"5",2022,"105701",{"$f":"IFERROR(VLOOKUP(Tabla_SERIED_12_5[[#This Row],[IdEstablecimiento]],'[1]Establecimiento 2023'!$A$1:$E$183,3,FALSE),0)","v":"105701-Centro Comunitario de Salud Familiar Villa Alemania"},{"$f":"IFERROR(VLOOKUP(Tabla_SERIED_12_5[[#This Row],[IdEstablecimiento]],'[1]Establecimiento 2023'!$A$1:$E$183,5,FALSE),0)","v":"04101-La Serena"},"15900010","2022-02-17T04:22:49",15.2,null,3.2,12]
[{"$nulls":23},1,"5",2022,"105701",{"$f":"IFERROR(VLOOKUP(Tabla_SERIED_12_5[[#This Row],[IdEstablecimiento]],'[1]Establecimiento 2023'!$A$1:$E$183,3,FALSE),0)","v":"105701-Centro Comunitario de Salud Familiar Villa Alemania"},{"$f":"IFERROR(VLOOKUP(Tabla_SERIED_12_5[[#This Row],[IdEstablecimiento]],'[1]Establecimiento 2023'!$A$1:$E$183,5,FALSE),0)","v":"04101-La Serena"},"15080009","2022-02-17T04:22:49",3,{"$nulls":8},3]
[{"$nulls":23},1,"5",2022,"105701",{"$f":"IFERROR(VLOOKUP(Tabla_SERIED_12_5[[#This Row],[IdEstablecimiento]],'[1]Establecimiento 2023'!$A$1:$E$183,3,FALSE),0)","v":"105701-Centro Comunitario de Salud Familiar Villa Alemania"},{"$f":"IFERROR(VLOOKUP(Tabla_SERIED_12_5[[#This Row],[IdEstablecimiento]],'[1]Establecimiento 2023'!$A$1:$E$183,5,FALSE),0)","v":"04101-La Serena"},"15900040","2022-02-17T04:22:49",4,null,null,4]
[{"$nulls":23},1,"5",2022,"105701",{"$f":"IFERROR(VLOOKUP(Tabla_SERIED_12_5[[#This Row],[IdEstablecimiento]],'[1]Establecimiento 2023'!$A$1:$E$183,3,FALSE),0)","v":"105701-Centro Comunitario de Salud Familiar Villa Alemania"},{"$f":"IFERROR(VLOOKUP(Tabla_SERIED_12_5[[#This Row],[IdEstablecimiento]],'[1]Establecimiento 2023'!$A$1:$E$183,5,FALSE),0)","v":"04101-La Serena"},"15050100","2022-02-17T04:22:49",34,10,24,null,1,4,4,null,8,5,7,null,3,null,2]
[{"$nulls":23},1,"5",2022,"105701",{"$f":"IFERROR(VLOOKUP(Tabla_SERIED_12_5[[#This Row],[IdEstablecimiento]],'[1]Establecimiento 2023'!$A$1:$E$183,3,FALSE),0)","v":"105701-Centro Comunitario de Salud Familiar Villa Alemania"},{"$f":"IFERROR(VLOOKUP(Tabla_SERIED_12_5[[#This Row],[IdEstablecimiento]],'[1]Establecimiento 2023'!$A$1:$E$183,5,FALSE),0)","v":"04101-La Serena"},"15050200","2022-02-17T04:22:49",1,null,1,{"$nulls":8},1]
[{"$nulls":23},1,"5",2022,"105701",{"$f":"IFERROR(VLOOKUP(Tabla_SERIED_12_5[[#This Row],[IdEstablecimiento]],'[1]Establecimiento 2023'!$A$1:$E$183,3,FALSE),0)","v":"105701-Centro Comunitario de Salud Familiar Villa Alemania"},{"$f":"IFERROR(VLOOKUP(Tabla_SERIED_12_5[[#This Row],[IdEstablecimiento]],'[1]Establecimiento 2023'!$A$1:$E$183,5,FALSE),0)","v":"04101-La Serena"},"15900050","2022-02-17T04:22:49",1,null,1,null,null,1]
[{"$nulls":23},1,"5",2022,"105701",{"$f":"IFERROR(VLOOKUP(Tabla_SERIED_12_5[[#This Row],[IdEstablecimiento]],'[1]Establecimiento 2023'!$A$1:$E$183,3,FALSE),0)","v":"105701-Centro Comunitario de Salud Familiar Villa Alemania"},{"$f":"IFERROR(VLOOKUP(Tabla_SERIED_12_5[[#This Row],[IdEstablecimiento]],'[1]Establecimiento 2023'!$A$1:$E$183,5,FALSE),0)","v":"04101-La Serena"},"15901300","2022-02-17T04:22:49",4.4,null,null,4.4]
[{"$nulls":23},1,"5",2022,"105701",{"$f":"IFERROR(VLOOKUP(Tabla_SERIED_12_5[[#This Row],[IdEstablecimiento]],'[1]Establecimiento 2023'!$A$1:$E$183,3,FALSE),0)","v":"105701-Centro Comunitario de Salud Familiar Villa Alemania"},{"$f":"IFERROR(VLOOKUP(Tabla_SERIED_12_5[[#This Row],[IdEstablecimiento]],'[1]Establecimiento 2023'!$A$1:$E$183,5,FALSE),0)","v":"04101-La Serena"},"15901400","2022-02-17T04:22:49",1,null,1,null,null,1]
[{"$nulls":23},1,"5",2022,"105701",{"$f":"IFERROR(VLOOKUP(Tabla_SERIED_12_5[[#This Row],[IdEstablecimiento]],'[1]Establecimiento 2023'!$A$1:$E$183,3,FALSE),0)","v":"105701-Centro Comunitario de Salud Familiar Villa Alemania"},{"$f":"IFERROR(VLOOKUP(Tabla_SERIED_12_5[[#This Row],[IdEstablecimiento]],'[1]Establecimiento 2023'!$A$1:$E$183,5,FALSE),0)","v":"04101-La Serena"},"16090300","2022-02-17T04:22:49",24,24]
[{"$nulls":23},1,"5",2022,"105701",{"$f":"IFERROR(VLOOKUP(Tabla_SERIED_12_5[[#This Row],[IdEstablecimiento]],'[1]Establecimiento 2023'!$A$1:$E$183,3,FALSE),0)","v":"105701-Centro Comunitario de Salud Familiar Villa Alemania"},{"$f":"IFERROR(VLOOKUP(Tabla_SERIED_12_5[[#This Row],[IdEstablecimiento]],'[1]Establecimiento 2023'!$A$1:$E$183,5,FALSE),0)","v":"04101-La Serena"},"16090500","2022-02-17T04:22:49",3,3]
[{"$nulls":23},1,"5",2022,"105701",{"$f":"IFERROR(VLOOKUP(Tabla_SERIED_12_5[[#This Row],[IdEstablecimiento]],'[1]Establecimiento 2023'!$A$1:$E$183,3,FALSE),0)","v":"105701-Centro Comunitario de Salud Familiar Villa Alemania"},{"$f":"IFERROR(VLOOKUP(Tabla_SERIED_12_5[[#This Row],[IdEstablecimiento]],'[1]Establecimiento 2023'!$A$1:$E$183,5,FALSE),0)","v":"04101-La Serena"},"16100300","2022-02-17T04:22:49",24,7,17]
[{"$nulls":23},1,"5",2022,"105701",{"$f":"IFERROR(VLOOKUP(Tabla_SERIED_12_5[[#This Row],[IdEstablecimiento]],'[1]Establecimiento 2023'!$A$1:$E$183,3,FALSE),0)","v":"105701-Centro Comunitario de Salud Familiar Villa Alemania"},{"$f":"IFERROR(VLOOKUP(Tabla_SERIED_12_5[[#This Row],[IdEstablecimiento]],'[1]Establecimiento 2023'!$A$1:$E$183,5,FALSE),0)","v":"04101-La Serena"},"16100600","2022-02-17T04:22:49",3,2,1]
[{"$nulls":23},1,"5",2022,"105722",{"$f":"IFERROR(VLOOKUP(Tabla_SERIED_12_5[[#This Row],[IdEstablecimiento]],'[1]Establecimiento 2023'!$A$1:$E$183,3,FALSE),0)","v":"105722-Centro Comunitario de Salud Familiar San José de la Dehesa"},{"$f":"IFERROR(VLOOKUP(Tabla_SERIED_12_5[[#This Row],[IdEstablecimiento]],'[1]Establecimiento 2023'!$A$1:$E$183,5,FALSE),0)","v":"04301-Ovalle"},"15010500","2022-02-17T04:25:36",4,{"$nulls":3},2,null,2]
[{"$nulls":23},3,"5",2022,"105322",{"$f":"IFERROR(VLOOKUP(Tabla_SERIED_12_5[[#This Row],[IdEstablecimiento]],'[1]Establecimiento 2023'!$A$1:$E$183,3,FALSE),0)","v":"105322-Centro de Salud Familiar Marcos Macuada"},{"$f":"IFERROR(VLOOKUP(Tabla_SERIED_12_5[[#This Row],[IdEstablecimiento]],'[1]Establecimiento 2023'!$A$1:$E$183,5,FALSE),0)","v":"04301-Ovalle"},"16100300","2022-04-19T08:11:14",764,277,487,8,542]
[{"$nulls":23},3,"5",2022,"105322",{"$f":"IFERROR(VLOOKUP(Tabla_SERIED_12_5[[#This Row],[IdEstablecimiento]],'[1]Establecimiento 2023'!$A$1:$E$183,3,FALSE),0)","v":"105322-Centro de Salud Familiar Marcos Macuada"},{"$f":"IFERROR(VLOOKUP(Tabla_SERIED_12_5[[#This Row],[IdEstablecimiento]],'[1]Establecimiento 2023'!$A$1:$E$183,5,FALSE),0)","v":"04301-Ovalle"},"16200220","2022-04-19T08:11:14",12,5,7]
[{"$nulls":23},3,"5",2022,"105323",{"$f":"IFERROR(VLOOKUP(Tabla_SERIED_12_5[[#This Row],[IdEstablecimiento]],'[1]Establecimiento 2023'!$A$1:$E$183,3,FALSE),0)","v":"105323-Centro de Salud Familiar Dr. Sergio Aguilar Delgado"},{"$f":"IFERROR(VLOOKUP(Tabla_SERIED_12_5[[#This Row],[IdEstablecimiento]],'[1]Establecimiento 2023'!$A$1:$E$183,5,FALSE),0)","v":"04102-Coquimbo"},"15010100","2022-04-19T08:11:27",106,null,null,0,98,8]
[{"$nulls":23},3,"5",2022,"105318",{"$f":"IFERROR(VLOOKUP(Tabla_SERIED_12_5[[#This Row],[IdEstablecimiento]],'[1]Establecimiento 2023'!$A$1:$E$183,3,FALSE),0)","v":"105318-Centro de Salud Familiar El Palqui"},{"$f":"IFERROR(VLOOKUP(Tabla_SERIED_12_5[[#This Row],[IdEstablecimiento]],'[1]Establecimiento 2023'!$A$1:$E$183,5,FALSE),0)","v":"04303-Monte Patria"},"15010400","2022-04-19T08:10:14",10,{"$nulls":4},4,2,4]
[{"$nulls":23},3,"5",2022,"105318",{"$f":"IFERROR(VLOOKUP(Tabla_SERIED_12_5[[#This Row],[IdEstablecimiento]],'[1]Establecimiento 2023'!$A$1:$E$183,3,FALSE),0)","v":"105318-Centro de Salud Familiar El Palqui"},{"$f":"IFERROR(VLOOKUP(Tabla_SERIED_12_5[[#This Row],[IdEstablecimiento]],'[1]Establecimiento 2023'!$A$1:$E$183,5,FALSE),0)","v":"04303-Monte Patria"},"15010500","2022-04-19T08:10:14",16,null,null,2,4,4,2,4]
[{"$nulls":23},3,"5",2022,"105318",{"$f":"IFERROR(VLOOKUP(Tabla_SERIED_12_5[[#This Row],[IdEstablecimiento]],'[1]Establecimiento 2023'!$A$1:$E$183,3,FALSE),0)","v":"105318-Centro de Salud Familiar El Palqui"},{"$f":"IFERROR(VLOOKUP(Tabla_SERIED_12_5[[#This Row],[IdEstablecimiento]],'[1]Establecimiento 2023'!$A$1:$E$183,5,FALSE),0)","v":"04303-Monte Patria"},"15900020","2022-04-19T08:10:14",4,null,null,4]
[{"$nulls":23},3,"5",2022,"105318",{"$f":"IFERROR(VLOOKUP(Tabla_SERIED_12_5[[#This Row],[IdEstablecimiento]],'[1]Establecimiento 2023'!$A$1:$E$183,3,FALSE),0)","v":"105318-Centro de Salud Familiar El Palqui"},{"$f":"IFERROR(VLOOKUP(Tabla_SERIED_12_5[[#This Row],[IdEstablecimiento]],'[1]Establecimiento 2023'!$A$1:$E$183,5,FALSE),0)","v":"04303-Monte Patria"},"15900030","2022-04-19T08:10:14",4,null,null,4]
[{"$nulls":23},3,"5",2022,"105318",{"$f":"IFERROR(VLOOKUP(Tabla_SERIED_12_5[[#This Row],[IdEstablecimiento]],'[1]Establecimiento 2023'!$A$1:$E$183,3,FALSE),0)","v":"105318-Centro de Salud Familiar El Palqui"},{"$f":"IFERROR(VLOOKUP(Tabla_SERIED_12_5[[#This Row],[IdEstablecimiento]],'[1]Establecimiento 2023'!$A$1:$E$183,5,FALSE),0)","v":"04303-Monte Patria"},"15900040","2022-04-19T08:10:14",2,null,null,2]
[{"$nulls":23},3,"5",2022,"105318",{"$f":"IFERROR(VLOOKUP(Tabla_SERIED_12_5[[#This Row],[IdEstablecimiento]],'[1]Establecimiento 2023'!$A$1:$E$183,3,FALSE),0)","v":"105318-Centro de Salud Familiar El Palqui"},{"$f":"IFERROR(VLOOKUP(Tabla_SERIED_12_5[[#This Row],[IdEstablecimiento]],'[1]Establecimiento 2023'!$A$1:$E$183,5,FALSE),0)","v":"04303-Monte Patria"},"15050100","2022-04-19T08:10:14",306,129,177,2,2,18,27,36,65,72,55,null,16,1,12]
[{"$nulls":23},3,"5",2022,"105318",{"$f":"IFERROR(VLOOKUP(Tabla_SERIED_12_5[[#This Row],[IdEstablecimiento]],'[1]Establecimiento 2023'!$A$1:$E$183,3,FALSE),0)","v":"105318-Centro de Salud Familiar El Palqui"},{"$f":"IFERROR(VLOOKUP(Tabla_SERIED_12_5[[#This Row],[IdEstablecimiento]],'[1]Establecimiento 2023'!$A$1:$E$183,5,FALSE),0)","v":"04303-Monte Patria"},"15050200","2022-04-19T08:10:14",8,6,2,null,null,1,2,2,1,2]
[{"$nulls":23},3,"5",2022,"105318",{"$f":"IFERROR(VLOOKUP(Tabla_SERIED_12_5[[#This Row],[IdEstablecimiento]],'[1]Establecimiento 2023'!$A$1:$E$183,3,FALSE),0)","v":"105318-Centro de Salud Familiar El Palqui"},{"$f":"IFERROR(VLOOKUP(Tabla_SERIED_12_5[[#This Row],[IdEstablecimiento]],'[1]Establecimiento 2023'!$A$1:$E$183,5,FALSE),0)","v":"04303-Monte Patria"},"15900050","2022-04-19T08:10:14",3,1,2,null,null,3]
[{"$nulls":23},3,"5",2022,"105318",{"$f":"IFERROR(VLOOKUP(Tabla_SERIED_12_5[[#This Row],[IdEstablecimiento]],'[1]Establecimiento 2023'!$A$1:$E$183,3,FALSE),0)","v":"105318-Centro de Salud Familiar El Palqui"},{"$f":"IFERROR(VLOOKUP(Tabla_SERIED_12_5[[#This Row],[IdEstablecimiento]],'[1]Establecimiento 2023'!$A$1:$E$183,5,FALSE),0)","v":"04303-Monte Patria"},"15020200","2022-04-19T08:10:14",2,{"$nulls":4},2]
[{"$nulls":23},3,"5",2022,"105318",{"$f":"IFERROR(VLOOKUP(Tabla_SERIED_12_5[[#This Row],[IdEstablecimiento]],'[1]Establecimiento 2023'!$A$1:$E$183,3,FALSE),0)","v":"105318-Centro de Salud Familiar El Palqui"},{"$f":"IFERROR(VLOOKUP(Tabla_SERIED_12_5[[#This Row],[IdEstablecimiento]],'[1]Establecimiento 2023'!$A$1:$E$183,5,FALSE),0)","v":"04303-Monte Patria"},"15060100","2022-04-19T08:10:14",1,1,{"$nulls":5},1]
[{"$nulls":23},3,"5",2022,"105318",{"$f":"IFERROR(VLOOKUP(Tabla_SERIED_12_5[[#This Row],[IdEstablecimiento]],'[1]Establecimiento 2023'!$A$1:$E$183,3,FALSE),0)","v":"105318-Centro de Salud Familiar El Palqui"},{"$f":"IFERROR(VLOOKUP(Tabla_SERIED_12_5[[#This Row],[IdEstablecimiento]],'[1]Establecimiento 2023'!$A$1:$E$183,5,FALSE),0)","v":"04303-Monte Patria"},"16090300","2022-04-19T08:10:14",298,298]
[{"$nulls":23},3,"5",2022,"105318",{"$f":"IFERROR(VLOOKUP(Tabla_SERIED_12_5[[#This Row],[IdEstablecimiento]],'[1]Establecimiento 2023'!$A$1:$E$183,3,FALSE),0)","v":"105318-Centro de Salud Familiar El Palqui"},{"$f":"IFERROR(VLOOKUP(Tabla_SERIED_12_5[[#This Row],[IdEstablecimiento]],'[1]Establecimiento 2023'!$A$1:$E$183,5,FALSE),0)","v":"04303-Monte Patria"},"16200210","2022-04-19T08:10:14",18,18]
[{"$nulls":23},3,"5",2022,"105318",{"$f":"IFERROR(VLOOKUP(Tabla_SERIED_12_5[[#This Row],[IdEstablecimiento]],'[1]Establecimiento 2023'!$A$1:$E$183,3,FALSE),0)","v":"105318-Centro de Salud Familiar El Palqui"},{"$f":"IFERROR(VLOOKUP(Tabla_SERIED_12_5[[#This Row],[IdEstablecimiento]],'[1]Establecimiento 2023'!$A$1:$E$183,5,FALSE),0)","v":"04303-Monte Patria"},"16090500","2022-04-19T08:10:14",26,26]
[{"$nulls":23},2,"5",2022,"200402",{"$f":"IFERROR(VLOOKUP(Tabla_SERIED_12_5[[#This Row],[IdEstablecimiento]],'[1]Establecimiento 2023'!$A$1:$E$183,3,FALSE),0)","v":"200402-Centro Comunitario de Salud Familiar Arcos de Pinamar"},{"$f":"IFERROR(VLOOKUP(Tabla_SERIED_12_5[[#This Row],[IdEstablecimiento]],'[1]Establecimiento 2023'!$A$1:$E$183,5,FALSE),0)","v":"04101-La Serena"},"15010300","2022-03-17T10:07:47",2,{"$nulls":3},2]
[{"$nulls":23},3,"5",2022,"105323",{"$f":"IFERROR(VLOOKUP(Tabla_SERIED_12_5[[#This Row],[IdEstablecimiento]],'[1]Establecimiento 2023'!$A$1:$E$183,3,FALSE),0)","v":"105323-Centro de Salud Familiar Dr. Sergio Aguilar Delgado"},{"$f":"IFERROR(VLOOKUP(Tabla_SERIED_12_5[[#This Row],[IdEstablecimiento]],'[1]Establecimiento 2023'!$A$1:$E$183,5,FALSE),0)","v":"04102-Coquimbo"},"15010200","2022-04-19T08:11:27",476,{"$nulls":4},90,188,198]
[{"$nulls":23},3,"5",2022,"105323",{"$f":"IFERROR(VLOOKUP(Tabla_SERIED_12_5[[#This Row],[IdEstablecimiento]],'[1]Establecimiento 2023'!$A$1:$E$183,3,FALSE),0)","v":"105323-Centro de Salud Familiar Dr. Sergio Aguilar Delgado"},{"$f":"IFERROR(VLOOKUP(Tabla_SERIED_12_5[[#This Row],[IdEstablecimiento]],'[1]Establecimiento 2023'!$A$1:$E$183,5,FALSE),0)","v":"04102-Coquimbo"},"15080008","2022-04-19T08:11:27",164,{"$nulls":7},91,null,46,6,21]
[{"$nulls":23},3,"5",2022,"105323",{"$f":"IFERROR(VLOOKUP(Tabla_SERIED_12_5[[#This Row],[IdEstablecimiento]],'[1]Establecimiento 2023'!$A$1:$E$183,3,FALSE),0)","v":"105323-Centro de Salud Familiar Dr. Sergio Aguilar Delgado"},{"$f":"IFERROR(VLOOKUP(Tabla_SERIED_12_5[[#This Row],[IdEstablecimiento]],'[1]Establecimiento 2023'!$A$1:$E$183,5,FALSE),0)","v":"04102-Coquimbo"},"15900010","2022-04-19T08:11:27",157.6,1.6,34.4,121.6]
[{"$nulls":23},3,"5",2022,"105323",{"$f":"IFERROR(VLOOKUP(Tabla_SERIED_12_5[[#This Row],[IdEstablecimiento]],'[1]Establecimiento 2023'!$A$1:$E$183,3,FALSE),0)","v":"105323-Centro de Salud Familiar Dr. Sergio Aguilar Delgado"},{"$f":"IFERROR(VLOOKUP(Tabla_SERIED_12_5[[#This Row],[IdEstablecimiento]],'[1]Establecimiento 2023'!$A$1:$E$183,5,FALSE),0)","v":"04102-Coquimbo"},"15010300","2022-04-19T08:11:27",8,null,null,0,6,2]
[{"$nulls":23},3,"5",2022,"105323",{"$f":"IFERROR(VLOOKUP(Tabla_SERIED_12_5[[#This Row],[IdEstablecimiento]],'[1]Establecimiento 2023'!$A$1:$E$183,3,FALSE),0)","v":"105323-Centro de Salud Familiar Dr. Sergio Aguilar Delgado"},{"$f":"IFERROR(VLOOKUP(Tabla_SERIED_12_5[[#This Row],[IdEstablecimiento]],'[1]Establecimiento 2023'!$A$1:$E$183,5,FALSE),0)","v":"04102-Coquimbo"},"15010400","2022-04-19T08:11:27",18,{"$nulls":4},4,12,2]
[{"$nulls":23},3,"5",2022,"105323",{"$f":"IFERROR(VLOOKUP(Tabla_SERIED_12_5[[#This Row],[IdEstablecimiento]],'[1]Establecimiento 2023'!$A$1:$E$183,3,FALSE),0)","v":"105323-Centro de Salud Familiar Dr. Sergio Aguilar Delgado"},{"$f":"IFERROR(VLOOKUP(Tabla_SERIED_12_5[[#This Row],[IdEstablecimiento]],'[1]Establecimiento 2023'!$A$1:$E$183,5,FALSE),0)","v":"04102-Coquimbo"},"15010500","2022-04-19T08:11:27",34,null,0,8,6,6,12,2]
[{"$nulls":23},3,"5",2022,"105323",{"$f":"IFERROR(VLOOKUP(Tabla_SERIED_12_5[[#This Row],[IdEstablecimiento]],'[1]Establecimiento 2023'!$A$1:$E$183,3,FALSE),0)","v":"105323-Centro de Salud Familiar Dr. Sergio Aguilar Delgado"},{"$f":"IFERROR(VLOOKUP(Tabla_SERIED_12_5[[#This Row],[IdEstablecimiento]],'[1]Establecimiento 2023'!$A$1:$E$183,5,FALSE),0)","v":"04102-Coquimbo"},"15080009","2022-04-19T08:11:27",6,{"$nulls":8},3,3,0]
[{"$nulls":23},3,"5",2022,"105323",{"$f":"IFERROR(VLOOKUP(Tabla_SERIED_12_5[[#This Row],[IdEstablecimiento]],'[1]Establecimiento 2023'!$A$1:$E$183,3,FALSE),0)","v":"105323-Centro de Salud Familiar Dr. Sergio Aguilar Delgado"},{"$f":"IFERROR(VLOOKUP(Tabla_SERIED_12_5[[#This Row],[IdEstablecimiento]],'[1]Establecimiento 2023'!$A$1:$E$183,5,FALSE),0)","v":"04102-Coquimbo"},"15900020","2022-04-19T08:11:27",20,0,7.2,12.8]
[{"$nulls":23},10,"5",2022,"105105",{"$f":"IFERROR(VLOOKUP(Tabla_SERIED_12_5[[#This Row],[IdEstablecimiento]],'[1]Establecimiento 2023'!$A$1:$E$183,3,FALSE),0)","v":"105105-Hospital San Juan de Dios (Combarbalá)"},{"$f":"IFERROR(VLOOKUP(Tabla_SERIED_12_5[[#This Row],[IdEstablecimiento]],'[1]Establecimiento 2023'!$A$1:$E$183,5,FALSE),0)","v":"105105-Hospital Combarbalá"},"15080008","2022-11-15T13:27:27",65,{"$nulls":7},22,null,24,3,16]
[{"$nulls":23},10,"5",2022,"105105",{"$f":"IFERROR(VLOOKUP(Tabla_SERIED_12_5[[#This Row],[IdEstablecimiento]],'[1]Establecimiento 2023'!$A$1:$E$183,3,FALSE),0)","v":"105105-Hospital San Juan de Dios (Combarbalá)"},{"$f":"IFERROR(VLOOKUP(Tabla_SERIED_12_5[[#This Row],[IdEstablecimiento]],'[1]Establecimiento 2023'!$A$1:$E$183,5,FALSE),0)","v":"105105-Hospital Combarbalá"},"15900010","2022-11-15T13:27:27",31.5,1.8,9.9,19.8]
[{"$nulls":23},10,"5",2022,"105105",{"$f":"IFERROR(VLOOKUP(Tabla_SERIED_12_5[[#This Row],[IdEstablecimiento]],'[1]Establecimiento 2023'!$A$1:$E$183,3,FALSE),0)","v":"105105-Hospital San Juan de Dios (Combarbalá)"},{"$f":"IFERROR(VLOOKUP(Tabla_SERIED_12_5[[#This Row],[IdEstablecimiento]],'[1]Establecimiento 2023'!$A$1:$E$183,5,FALSE),0)","v":"105105-Hospital Combarbalá"},"15010300","2022-11-15T13:27:27",2,{"$nulls":3},2]
[{"$nulls":23},10,"5",2022,"105105",{"$f":"IFERROR(VLOOKUP(Tabla_SERIED_12_5[[#This Row],[IdEstablecimiento]],'[1]Establecimiento 2023'!$A$1:$E$183,3,FALSE),0)","v":"105105-Hospital San Juan de Dios (Combarbalá)"},{"$f":"IFERROR(VLOOKUP(Tabla_SERIED_12_5[[#This Row],[IdEstablecimiento]],'[1]Establecimiento 2023'!$A$1:$E$183,5,FALSE),0)","v":"105105-Hospital Combarbalá"},"15010400","2022-11-15T13:27:27",12,{"$nulls":5},10,2]
[{"$nulls":23},10,"5",2022,"105105",{"$f":"IFERROR(VLOOKUP(Tabla_SERIED_12_5[[#This Row],[IdEstablecimiento]],'[1]Establecimiento 2023'!$A$1:$E$183,3,FALSE),0)","v":"105105-Hospital San Juan de Dios (Combarbalá)"},{"$f":"IFERROR(VLOOKUP(Tabla_SERIED_12_5[[#This Row],[IdEstablecimiento]],'[1]Establecimiento 2023'!$A$1:$E$183,5,FALSE),0)","v":"105105-Hospital Combarbalá"},"15010500","2022-11-15T13:27:27",14,{"$nulls":3},2,null,10,2]
[{"$nulls":23},10,"5",2022,"105105",{"$f":"IFERROR(VLOOKUP(Tabla_SERIED_12_5[[#This Row],[IdEstablecimiento]],'[1]Establecimiento 2023'!$A$1:$E$183,3,FALSE),0)","v":"105105-Hospital San Juan de Dios (Combarbalá)"},{"$f":"IFERROR(VLOOKUP(Tabla_SERIED_12_5[[#This Row],[IdEstablecimiento]],'[1]Establecimiento 2023'!$A$1:$E$183,5,FALSE),0)","v":"105105-Hospital Combarbalá"},"15080009","2022-11-15T13:27:27",3,{"$nulls":8},3]
[{"$nulls":23},10,"5",2022,"105105",{"$f":"IFERROR(VLOOKUP(Tabla_SERIED_12_5[[#This Row],[IdEstablecimiento]],'[1]Establecimiento 2023'!$A$1:$E$183,3,FALSE),0)","v":"105105-Hospital San Juan de Dios (Combarbalá)"},{"$f":"IFERROR(VLOOKUP(Tabla_SERIED_12_5[[#This Row],[IdEstablecimiento]],'[1]Establecimiento 2023'!$A$1:$E$183,5,FALSE),0)","v":"105105-Hospital Combarbalá"},"15900040","2022-11-15T13:27:27",5.2,null,4.4,0.8]
[{"$nulls":23},10,"5",2022,"105105",{"$f":"IFERROR(VLOOKUP(Tabla_SERIED_12_5[[#This Row],[IdEstablecimiento]],'[1]Establecimiento 2023'!$A$1:$E$183,3,FALSE),0)","v":"105105-Hospital San Juan de Dios (Combarbalá)"},{"$f":"IFERROR(VLOOKUP(Tabla_SERIED_12_5[[#This Row],[IdEstablecimiento]],'[1]Establecimiento 2023'!$A$1:$E$183,5,FALSE),0)","v":"105105-Hospital Combarbalá"},"15050100","2022-11-15T13:27:27",185,70,115,1,4,9,14,18,47,39,22,null,12,3,16]
[{"$nulls":23},10,"5",2022,"105105",{"$f":"IFERROR(VLOOKUP(Tabla_SERIED_12_5[[#This Row],[IdEstablecimiento]],'[1]Establecimiento 2023'!$A$1:$E$183,3,FALSE),0)","v":"105105-Hospital San Juan de Dios (Combarbalá)"},{"$f":"IFERROR(VLOOKUP(Tabla_SERIED_12_5[[#This Row],[IdEstablecimiento]],'[1]Establecimiento 2023'!$A$1:$E$183,5,FALSE),0)","v":"105105-Hospital Combarbalá"},"15050200","2022-11-15T13:27:27",8,4,4,{"$nulls":3},1,null,5,1,null,1]
[{"$nulls":23},1,"5",2022,"105702",{"$f":"IFERROR(VLOOKUP(Tabla_SERIED_12_5[[#This Row],[IdEstablecimiento]],'[1]Establecimiento 2023'!$A$1:$E$183,3,FALSE),0)","v":"105702-Centro Comunitario de Salud Familiar Lambert"},{"$f":"IFERROR(VLOOKUP(Tabla_SERIED_12_5[[#This Row],[IdEstablecimiento]],'[1]Establecimiento 2023'!$A$1:$E$183,5,FALSE),0)","v":"04101-La Serena"},"15080008","2022-02-17T04:23:12",5,{"$nulls":7},2,null,2,null,1]
[{"$nulls":23},1,"5",2022,"105702",{"$f":"IFERROR(VLOOKUP(Tabla_SERIED_12_5[[#This Row],[IdEstablecimiento]],'[1]Establecimiento 2023'!$A$1:$E$183,3,FALSE),0)","v":"105702-Centro Comunitario de Salud Familiar Lambert"},{"$f":"IFERROR(VLOOKUP(Tabla_SERIED_12_5[[#This Row],[IdEstablecimiento]],'[1]Establecimiento 2023'!$A$1:$E$183,5,FALSE),0)","v":"04101-La Serena"},"15900010","2022-02-17T04:23:12",30.4,3.2,7.2,20]
[{"$nulls":23},1,"5",2022,"105702",{"$f":"IFERROR(VLOOKUP(Tabla_SERIED_12_5[[#This Row],[IdEstablecimiento]],'[1]Establecimiento 2023'!$A$1:$E$183,3,FALSE),0)","v":"105702-Centro Comunitario de Salud Familiar Lambert"},{"$f":"IFERROR(VLOOKUP(Tabla_SERIED_12_5[[#This Row],[IdEstablecimiento]],'[1]Establecimiento 2023'!$A$1:$E$183,5,FALSE),0)","v":"04101-La Serena"},"15010300","2022-02-17T04:23:12",3,null,null,3]
[{"$nulls":23},1,"5",2022,"105702",{"$f":"IFERROR(VLOOKUP(Tabla_SERIED_12_5[[#This Row],[IdEstablecimiento]],'[1]Establecimiento 2023'!$A$1:$E$183,3,FALSE),0)","v":"105702-Centro Comunitario de Salud Familiar Lambert"},{"$f":"IFERROR(VLOOKUP(Tabla_SERIED_12_5[[#This Row],[IdEstablecimiento]],'[1]Establecimiento 2023'!$A$1:$E$183,5,FALSE),0)","v":"04101-La Serena"},"15010500","2022-02-17T04:23:12",6,null,null,6]
[{"$nulls":23},1,"5",2022,"105702",{"$f":"IFERROR(VLOOKUP(Tabla_SERIED_12_5[[#This Row],[IdEstablecimiento]],'[1]Establecimiento 2023'!$A$1:$E$183,3,FALSE),0)","v":"105702-Centro Comunitario de Salud Familiar Lambert"},{"$f":"IFERROR(VLOOKUP(Tabla_SERIED_12_5[[#This Row],[IdEstablecimiento]],'[1]Establecimiento 2023'!$A$1:$E$183,5,FALSE),0)","v":"04101-La Serena"},"15900020","2022-02-17T04:23:12",9.6,null,null,9.6]
[{"$nulls":23},1,"5",2022,"105702",{"$f":"IFERROR(VLOOKUP(Tabla_SERIED_12_5[[#This Row],[IdEstablecimiento]],'[1]Establecimiento 2023'!$A$1:$E$183,3,FALSE),0)","v":"105702-Centro Comunitario de Salud Familiar Lambert"},{"$f":"IFERROR(VLOOKUP(Tabla_SERIED_12_5[[#This Row],[IdEstablecimiento]],'[1]Establecimiento 2023'!$A$1:$E$183,5,FALSE),0)","v":"04101-La Serena"},"15050100","2022-02-17T04:23:12",64,37,27,2,12,8,9,18,11,null,2,null,1,null,1]
[{"$nulls":23},1,"5",2022,"105702",{"$f":"IFERROR(VLOOKUP(Tabla_SERIED_12_5[[#This Row],[IdEstablecimiento]],'[1]Establecimiento 2023'!$A$1:$E$183,3,FALSE),0)","v":"105702-Centro Comunitario de Salud Familiar Lambert"},{"$f":"IFERROR(VLOOKUP(Tabla_SERIED_12_5[[#This Row],[IdEstablecimiento]],'[1]Establecimiento 2023'!$A$1:$E$183,5,FALSE),0)","v":"04101-La Serena"},"15050200","2022-02-17T04:23:12",3,1,2,3]
[{"$nulls":23},2,"5",2022,"105300",{"$f":"IFERROR(VLOOKUP(Tabla_SERIED_12_5[[#This Row],[IdEstablecimiento]],'[1]Establecimiento 2023'!$A$1:$E$183,3,FALSE),0)","v":"105300-Centro de Salud Familiar Cardenal Caro"},{"$f":"IFERROR(VLOOKUP(Tabla_SERIED_12_5[[#This Row],[IdEstablecimiento]],'[1]Establecimiento 2023'!$A$1:$E$183,5,FALSE),0)","v":"04101-La Serena"},"15010200","2022-03-17T09:26:33",311,{"$nulls":4},62,142,107]
[{"$nulls":23},3,"5",2022,"105722",{"$f":"IFERROR(VLOOKUP(Tabla_SERIED_12_5[[#This Row],[IdEstablecimiento]],'[1]Establecimiento 2023'!$A$1:$E$183,3,FALSE),0)","v":"105722-Centro Comunitario de Salud Familiar San José de la Dehesa"},{"$f":"IFERROR(VLOOKUP(Tabla_SERIED_12_5[[#This Row],[IdEstablecimiento]],'[1]Establecimiento 2023'!$A$1:$E$183,5,FALSE),0)","v":"04301-Ovalle"},"15010200","2022-04-19T10:12:59",174,{"$nulls":4},42,68,64]
[{"$nulls":23},3,"5",2022,"105722",{"$f":"IFERROR(VLOOKUP(Tabla_SERIED_12_5[[#This Row],[IdEstablecimiento]],'[1]Establecimiento 2023'!$A$1:$E$183,3,FALSE),0)","v":"105722-Centro Comunitario de Salud Familiar San José de la Dehesa"},{"$f":"IFERROR(VLOOKUP(Tabla_SERIED_12_5[[#This Row],[IdEstablecimiento]],'[1]Establecimiento 2023'!$A$1:$E$183,5,FALSE),0)","v":"04301-Ovalle"},"15080008","2022-04-19T10:12:59",42,{"$nulls":7},27,null,8,2,5]
[{"$nulls":23},3,"5",2022,"105722",{"$f":"IFERROR(VLOOKUP(Tabla_SERIED_12_5[[#This Row],[IdEstablecimiento]],'[1]Establecimiento 2023'!$A$1:$E$183,3,FALSE),0)","v":"105722-Centro Comunitario de Salud Familiar San José de la Dehesa"},{"$f":"IFERROR(VLOOKUP(Tabla_SERIED_12_5[[#This Row],[IdEstablecimiento]],'[1]Establecimiento 2023'!$A$1:$E$183,5,FALSE),0)","v":"04301-Ovalle"},"15900010","2022-04-19T10:12:59",10.4,null,4,6.4]
[{"$nulls":23},3,"5",2022,"105722",{"$f":"IFERROR(VLOOKUP(Tabla_SERIED_12_5[[#This Row],[IdEstablecimiento]],'[1]Establecimiento 2023'!$A$1:$E$183,3,FALSE),0)","v":"105722-Centro Comunitario de Salud Familiar San José de la Dehesa"},{"$f":"IFERROR(VLOOKUP(Tabla_SERIED_12_5[[#This Row],[IdEstablecimiento]],'[1]Establecimiento 2023'!$A$1:$E$183,5,FALSE),0)","v":"04301-Ovalle"},"15010400","2022-04-19T10:12:59",8,{"$nulls":4},4,2,2]
[{"$nulls":23},3,"5",2022,"105722",{"$f":"IFERROR(VLOOKUP(Tabla_SERIED_12_5[[#This Row],[IdEstablecimiento]],'[1]Establecimiento 2023'!$A$1:$E$183,3,FALSE),0)","v":"105722-Centro Comunitario de Salud Familiar San José de la Dehesa"},{"$f":"IFERROR(VLOOKUP(Tabla_SERIED_12_5[[#This Row],[IdEstablecimiento]],'[1]Establecimiento 2023'!$A$1:$E$183,5,FALSE),0)","v":"04301-Ovalle"},"15010500","2022-04-19T10:12:59",10,null,null,2,null,4,2,2]
[{"$nulls":23},3,"5",2022,"105722",{"$f":"IFERROR(VLOOKUP(Tabla_SERIED_12_5[[#This Row],[IdEstablecimiento]],'[1]Establecimiento 2023'!$A$1:$E$183,3,FALSE),0)","v":"105722-Centro Comunitario de Salud Familiar San José de la Dehesa"},{"$f":"IFERROR(VLOOKUP(Tabla_SERIED_12_5[[#This Row],[IdEstablecimiento]],'[1]Establecimiento 2023'!$A$1:$E$183,5,FALSE),0)","v":"04301-Ovalle"},"15900020","2022-04-19T10:12:59",3.2,0,1.6,1.6]
[{"$nulls":23},3,"5",2022,"105722",{"$f":"IFERROR(VLOOKUP(Tabla_SERIED_12_5[[#This Row],[IdEstablecimiento]],'[1]Establecimiento 2023'!$A$1:$E$183,3,FALSE),0)","v":"105722-Centro Comunitario de Salud Familiar San José de la Dehesa"},{"$f":"IFERROR(VLOOKUP(Tabla_SERIED_12_5[[#This Row],[IdEstablecimiento]],'[1]Establecimiento 2023'!$A$1:$E$183,5,FALSE),0)","v":"04301-Ovalle"},"15900040","2022-04-19T10:12:59",4.4,null,4.4]
[{"$nulls":23},5,"5",2022,"105475",{"$f":"IFERROR(VLOOKUP(Tabla_SERIED_12_5[[#This Row],[IdEstablecimiento]],'[1]Establecimiento 2023'!$A$1:$E$183,3,FALSE),0)","v":"105475-Posta de Salud Rural Horcón (Paiguano)"},{"$f":"IFERROR(VLOOKUP(Tabla_SERIED_12_5[[#This Row],[IdEstablecimiento]],'[1]Establecimiento 2023'!$A$1:$E$183,5,FALSE),0)","v":"04105-Paiguano"},"15010400","2022-06-20T17:23:03",2,{"$nulls":6},2]
[{"$nulls":23},5,"5",2022,"105475",{"$f":"IFERROR(VLOOKUP(Tabla_SERIED_12_5[[#This Row],[IdEstablecimiento]],'[1]Establecimiento 2023'!$A$1:$E$183,3,FALSE),0)","v":"105475-Posta de Salud Rural Horcón (Paiguano)"},{"$f":"IFERROR(VLOOKUP(Tabla_SERIED_12_5[[#This Row],[IdEstablecimiento]],'[1]Establecimiento 2023'!$A$1:$E$183,5,FALSE),0)","v":"04105-Paiguano"},"15010500","2022-06-20T17:23:03",4,null,null,4]
[{"$nulls":23},5,"5",2022,"105475",{"$f":"IFERROR(VLOOKUP(Tabla_SERIED_12_5[[#This Row],[IdEstablecimiento]],'[1]Establecimiento 2023'!$A$1:$E$183,3,FALSE),0)","v":"105475-Posta de Salud Rural Horcón (Paiguano)"},{"$f":"IFERROR(VLOOKUP(Tabla_SERIED_12_5[[#This Row],[IdEstablecimiento]],'[1]Establecimiento 2023'!$A$1:$E$183,5,FALSE),0)","v":"04105-Paiguano"},"15900020","2022-06-20T17:23:03",3.2,null,null,3.2]
[{"$nulls":23},5,"5",2022,"105475",{"$f":"IFERROR(VLOOKUP(Tabla_SERIED_12_5[[#This Row],[IdEstablecimiento]],'[1]Establecimiento 2023'!$A$1:$E$183,3,FALSE),0)","v":"105475-Posta de Salud Rural Horcón (Paiguano)"},{"$f":"IFERROR(VLOOKUP(Tabla_SERIED_12_5[[#This Row],[IdEstablecimiento]],'[1]Establecimiento 2023'!$A$1:$E$183,5,FALSE),0)","v":"04105-Paiguano"},"15050100","2022-06-20T17:23:03",9,2,7,{"$nulls":3},1,null,5,null,2,null,1]
[{"$nulls":23},5,"5",2022,"105475",{"$f":"IFERROR(VLOOKUP(Tabla_SERIED_12_5[[#This Row],[IdEstablecimiento]],'[1]Establecimiento 2023'!$A$1:$E$183,3,FALSE),0)","v":"105475-Posta de Salud Rural Horcón (Paiguano)"},{"$f":"IFERROR(VLOOKUP(Tabla_SERIED_12_5[[#This Row],[IdEstablecimiento]],'[1]Establecimiento 2023'!$A$1:$E$183,5,FALSE),0)","v":"04105-Paiguano"},"15050200","2022-06-20T17:23:03",2,null,2,null,null,1,{"$nulls":3},1]
[{"$nulls":23},5,"5",2022,"105475",{"$f":"IFERROR(VLOOKUP(Tabla_SERIED_12_5[[#This Row],[IdEstablecimiento]],'[1]Establecimiento 2023'!$A$1:$E$183,3,FALSE),0)","v":"105475-Posta de Salud Rural Horcón (Paiguano)"},{"$f":"IFERROR(VLOOKUP(Tabla_SERIED_12_5[[#This Row],[IdEstablecimiento]],'[1]Establecimiento 2023'!$A$1:$E$183,5,FALSE),0)","v":"04105-Paiguano"},"16090300","2022-06-20T17:23:03",47,47]
[{"$nulls":23},5,"5",2022,"105475",{"$f":"IFERROR(VLOOKUP(Tabla_SERIED_12_5[[#This Row],[IdEstablecimiento]],'[1]Establecimiento 2023'!$A$1:$E$183,3,FALSE),0)","v":"105475-Posta de Salud Rural Horcón (Paiguano)"},{"$f":"IFERROR(VLOOKUP(Tabla_SERIED_12_5[[#This Row],[IdEstablecimiento]],'[1]Establecimiento 2023'!$A$1:$E$183,5,FALSE),0)","v":"04105-Paiguano"},"16090500","2022-06-20T17:23:03",1,1]
[{"$nulls":23},5,"5",2022,"105475",{"$f":"IFERROR(VLOOKUP(Tabla_SERIED_12_5[[#This Row],[IdEstablecimiento]],'[1]Establecimiento 2023'!$A$1:$E$183,3,FALSE),0)","v":"105475-Posta de Salud Rural Horcón (Paiguano)"},{"$f":"IFERROR(VLOOKUP(Tabla_SERIED_12_5[[#This Row],[IdEstablecimiento]],'[1]Establecimiento 2023'!$A$1:$E$183,5,FALSE),0)","v":"04105-Paiguano"},"16100300","2022-06-20T17:23:03",47,25,22]
[{"$nulls":23},5,"5",2022,"105475",{"$f":"IFERROR(VLOOKUP(Tabla_SERIED_12_5[[#This Row],[IdEstablecimiento]],'[1]Establecimiento 2023'!$A$1:$E$183,3,FALSE),0)","v":"105475-Posta de Salud Rural Horcón (Paiguano)"},{"$f":"IFERROR(VLOOKUP(Tabla_SERIED_12_5[[#This Row],[IdEstablecimiento]],'[1]Establecimiento 2023'!$A$1:$E$183,5,FALSE),0)","v":"04105-Paiguano"},"16100600","2022-06-20T17:23:03",1,null,1]
[{"$nulls":23},5,"5",2022,"105476",{"$f":"IFERROR(VLOOKUP(Tabla_SERIED_12_5[[#This Row],[IdEstablecimiento]],'[1]Establecimiento 2023'!$A$1:$E$183,3,FALSE),0)","v":"105476-Posta de Salud Rural Monte Grande"},{"$f":"IFERROR(VLOOKUP(Tabla_SERIED_12_5[[#This Row],[IdEstablecimiento]],'[1]Establecimiento 2023'!$A$1:$E$183,5,FALSE),0)","v":"04105-Paiguano"},"15010200","2022-06-20T17:23:13",8,{"$nulls":5},4,4]
[{"$nulls":23},5,"5",2022,"105476",{"$f":"IFERROR(VLOOKUP(Tabla_SERIED_12_5[[#This Row],[IdEstablecimiento]],'[1]Establecimiento 2023'!$A$1:$E$183,3,FALSE),0)","v":"105476-Posta de Salud Rural Monte Grande"},{"$f":"IFERROR(VLOOKUP(Tabla_SERIED_12_5[[#This Row],[IdEstablecimiento]],'[1]Establecimiento 2023'!$A$1:$E$183,5,FALSE),0)","v":"04105-Paiguano"},"15050100","2022-06-20T17:23:13",4,2,2,{"$nulls":5},2,2]
[{"$nulls":23},5,"5",2022,"105476",{"$f":"IFERROR(VLOOKUP(Tabla_SERIED_12_5[[#This Row],[IdEstablecimiento]],'[1]Establecimiento 2023'!$A$1:$E$183,3,FALSE),0)","v":"105476-Posta de Salud Rural Monte Grande"},{"$f":"IFERROR(VLOOKUP(Tabla_SERIED_12_5[[#This Row],[IdEstablecimiento]],'[1]Establecimiento 2023'!$A$1:$E$183,5,FALSE),0)","v":"04105-Paiguano"},"16090300","2022-06-20T17:23:13",9,9]
[{"$nulls":23},5,"5",2022,"105476",{"$f":"IFERROR(VLOOKUP(Tabla_SERIED_12_5[[#This Row],[IdEstablecimiento]],'[1]Establecimiento 2023'!$A$1:$E$183,3,FALSE),0)","v":"105476-Posta de Salud Rural Monte Grande"},{"$f":"IFERROR(VLOOKUP(Tabla_SERIED_12_5[[#This Row],[IdEstablecimiento]],'[1]Establecimiento 2023'!$A$1:$E$183,5,FALSE),0)","v":"04105-Paiguano"},"16100300","2022-06-20T17:23:13",9,4,5,null,6]
[{"$nulls":23},5,"5",2022,"105477",{"$f":"IFERROR(VLOOKUP(Tabla_SERIED_12_5[[#This Row],[IdEstablecimiento]],'[1]Establecimiento 2023'!$A$1:$E$183,3,FALSE),0)","v":"105477-Posta de Salud Rural Pisco Elqui"},{"$f":"IFERROR(VLOOKUP(Tabla_SERIED_12_5[[#This Row],[IdEstablecimiento]],'[1]Establecimiento 2023'!$A$1:$E$183,5,FALSE),0)","v":"04105-Paiguano"},"15010200","2022-06-20T17:23:24",6,{"$nulls":4},4,2]
[{"$nulls":23},5,"5",2022,"105477",{"$f":"IFERROR(VLOOKUP(Tabla_SERIED_12_5[[#This Row],[IdEstablecimiento]],'[1]Establecimiento 2023'!$A$1:$E$183,3,FALSE),0)","v":"105477-Posta de Salud Rural Pisco Elqui"},{"$f":"IFERROR(VLOOKUP(Tabla_SERIED_12_5[[#This Row],[IdEstablecimiento]],'[1]Establecimiento 2023'!$A$1:$E$183,5,FALSE),0)","v":"04105-Paiguano"},"15080008","2022-06-20T17:23:24",2,{"$nulls":10},1,1]
[{"$nulls":23},5,"5",2022,"105477",{"$f":"IFERROR(VLOOKUP(Tabla_SERIED_12_5[[#This Row],[IdEstablecimiento]],'[1]Establecimiento 2023'!$A$1:$E$183,3,FALSE),0)","v":"105477-Posta de Salud Rural Pisco Elqui"},{"$f":"IFERROR(VLOOKUP(Tabla_SERIED_12_5[[#This Row],[IdEstablecimiento]],'[1]Establecimiento 2023'!$A$1:$E$183,5,FALSE),0)","v":"04105-Paiguano"},"15900010","2022-06-20T17:23:24",1.6,null,1.6]
[{"$nulls":23},5,"5",2022,"105477",{"$f":"IFERROR(VLOOKUP(Tabla_SERIED_12_5[[#This Row],[IdEstablecimiento]],'[1]Establecimiento 2023'!$A$1:$E$183,3,FALSE),0)","v":"105477-Posta de Salud Rural Pisco Elqui"},{"$f":"IFERROR(VLOOKUP(Tabla_SERIED_12_5[[#This Row],[IdEstablecimiento]],'[1]Establecimiento 2023'!$A$1:$E$183,5,FALSE),0)","v":"04105-Paiguano"},"15010300","2022-06-20T17:23:24",4,{"$nulls":3},2,2]
[{"$nulls":23},5,"5",2022,"105477",{"$f":"IFERROR(VLOOKUP(Tabla_SERIED_12_5[[#This Row],[IdEstablecimiento]],'[1]Establecimiento 2023'!$A$1:$E$183,3,FALSE),0)","v":"105477-Posta de Salud Rural Pisco Elqui"},{"$f":"IFERROR(VLOOKUP(Tabla_SERIED_12_5[[#This Row],[IdEstablecimiento]],'[1]Establecimiento 2023'!$A$1:$E$183,5,FALSE),0)","v":"04105-Paiguano"},"15010500","2022-06-20T17:23:24",4,{"$nulls":3},2,2]
[{"$nulls":23},5,"5",2022,"105477",{"$f":"IFERROR(VLOOKUP(Tabla_SERIED_12_5[[#This Row],[IdEstablecimiento]],'[1]Establecimiento 2023'!$A$1:$E$183,3,FALSE),0)","v":"105477-Posta de Salud Rural Pisco Elqui"},{"$f":"IFERROR(VLOOKUP(Tabla_SERIED_12_5[[#This Row],[IdEstablecimiento]],'[1]Establecimiento 2023'!$A$1:$E$183,5,FALSE),0)","v":"04105-Paiguano"},"15050100","2022-06-20T17:23:24",6,3,3,null,1,null,null,2,1,{"$nulls":4},1,1]
[{"$nulls":23},5,"5",2022,"105477",{"$f":"IFERROR(VLOOKUP(Tabla_SERIED_12_5[[#This Row],[IdEstablecimiento]],'[1]Establecimiento 2023'!$A$1:$E$183,3,FALSE),0)","v":"105477-Posta de Salud Rural Pisco Elqui"},{"$f":"IFERROR(VLOOKUP(Tabla_SERIED_12_5[[#This Row],[IdEstablecimiento]],'[1]Establecimiento 2023'!$A$1:$E$183,5,FALSE),0)","v":"04105-Paiguano"},"15050200","2022-06-20T17:23:24",2,1,1,{"$nulls":3},1,1]
[{"$nulls":23},5,"5",2022,"105477",{"$f":"IFERROR(VLOOKUP(Tabla_SERIED_12_5[[#This Row],[IdEstablecimiento]],'[1]Establecimiento 2023'!$A$1:$E$183,3,FALSE),0)","v":"105477-Posta de Salud Rural Pisco Elqui"},{"$f":"IFERROR(VLOOKUP(Tabla_SERIED_12_5[[#This Row],[IdEstablecimiento]],'[1]Establecimiento 2023'!$A$1:$E$183,5,FALSE),0)","v":"04105-Paiguano"},"16090300","2022-06-20T17:23:24",10,44]
[{"$nulls":23},5,"5",2022,"105477",{"$f":"IFERROR(VLOOKUP(Tabla_SERIED_12_5[[#This Row],[IdEstablecimiento]],'[1]Establecimiento 2023'!$A$1:$E$183,3,FALSE),0)","v":"105477-Posta de Salud Rural Pisco Elqui"},{"$f":"IFERROR(VLOOKUP(Tabla_SERIED_12_5[[#This Row],[IdEstablecimiento]],'[1]Establecimiento 2023'!$A$1:$E$183,5,FALSE),0)","v":"04105-Paiguano"},"16100300","2022-06-20T17:23:24",44,15,29,0,35]
[{"$nulls":23},5,"5",2022,"105478",{"$f":"IFERROR(VLOOKUP(Tabla_SERIED_12_5[[#This Row],[IdEstablecimiento]],'[1]Establecimiento 2023'!$A$1:$E$183,3,FALSE),0)","v":"105478-Posta de Salud Rural Caimanes"},{"$f":"IFERROR(VLOOKUP(Tabla_SERIED_12_5[[#This Row],[IdEstablecimiento]],'[1]Establecimiento 2023'!$A$1:$E$183,5,FALSE),0)","v":"04203-Los Vilos"},"15010100","2022-06-20T17:23:35",2,{"$nulls":3},2]
[{"$nulls":23},5,"5",2022,"105478",{"$f":"IFERROR(VLOOKUP(Tabla_SERIED_12_5[[#This Row],[IdEstablecimiento]],'[1]Establecimiento 2023'!$A$1:$E$183,3,FALSE),0)","v":"105478-Posta de Salud Rural Caimanes"},{"$f":"IFERROR(VLOOKUP(Tabla_SERIED_12_5[[#This Row],[IdEstablecimiento]],'[1]Establecimiento 2023'!$A$1:$E$183,5,FALSE),0)","v":"04203-Los Vilos"},"15010200","2022-06-20T17:23:35",40,{"$nulls":4},8,20,12]
[{"$nulls":23},5,"5",2022,"105478",{"$f":"IFERROR(VLOOKUP(Tabla_SERIED_12_5[[#This Row],[IdEstablecimiento]],'[1]Establecimiento 2023'!$A$1:$E$183,3,FALSE),0)","v":"105478-Posta de Salud Rural Caimanes"},{"$f":"IFERROR(VLOOKUP(Tabla_SERIED_12_5[[#This Row],[IdEstablecimiento]],'[1]Establecimiento 2023'!$A$1:$E$183,5,FALSE),0)","v":"04203-Los Vilos"},"15080008","2022-06-20T17:23:35",5,{"$nulls":7},5]
[{"$nulls":23},5,"5",2022,"105478",{"$f":"IFERROR(VLOOKUP(Tabla_SERIED_12_5[[#This Row],[IdEstablecimiento]],'[1]Establecimiento 2023'!$A$1:$E$183,3,FALSE),0)","v":"105478-Posta de Salud Rural Caimanes"},{"$f":"IFERROR(VLOOKUP(Tabla_SERIED_12_5[[#This Row],[IdEstablecimiento]],'[1]Establecimiento 2023'!$A$1:$E$183,5,FALSE),0)","v":"04203-Los Vilos"},"15900010","2022-06-20T17:23:35",3.2,null,null,3.2]
[{"$nulls":23},5,"5",2022,"105478",{"$f":"IFERROR(VLOOKUP(Tabla_SERIED_12_5[[#This Row],[IdEstablecimiento]],'[1]Establecimiento 2023'!$A$1:$E$183,3,FALSE),0)","v":"105478-Posta de Salud Rural Caimanes"},{"$f":"IFERROR(VLOOKUP(Tabla_SERIED_12_5[[#This Row],[IdEstablecimiento]],'[1]Establecimiento 2023'!$A$1:$E$183,5,FALSE),0)","v":"04203-Los Vilos"},"15080009","2022-06-20T17:23:35",3,{"$nulls":8},3]
[{"$nulls":23},5,"5",2022,"105478",{"$f":"IFERROR(VLOOKUP(Tabla_SERIED_12_5[[#This Row],[IdEstablecimiento]],'[1]Establecimiento 2023'!$A$1:$E$183,3,FALSE),0)","v":"105478-Posta de Salud Rural Caimanes"},{"$f":"IFERROR(VLOOKUP(Tabla_SERIED_12_5[[#This Row],[IdEstablecimiento]],'[1]Establecimiento 2023'!$A$1:$E$183,5,FALSE),0)","v":"04203-Los Vilos"},"15900030","2022-06-20T17:23:35",4.8,{"$nulls":3},4.8]
[{"$nulls":23},5,"5",2022,"105478",{"$f":"IFERROR(VLOOKUP(Tabla_SERIED_12_5[[#This Row],[IdEstablecimiento]],'[1]Establecimiento 2023'!$A$1:$E$183,3,FALSE),0)","v":"105478-Posta de Salud Rural Caimanes"},{"$f":"IFERROR(VLOOKUP(Tabla_SERIED_12_5[[#This Row],[IdEstablecimiento]],'[1]Establecimiento 2023'!$A$1:$E$183,5,FALSE),0)","v":"04203-Los Vilos"},"15050100","2022-06-20T17:23:35",27,9,18,null,null,1,1,4,10,6,5]
[{"$nulls":23},5,"5",2022,"105478",{"$f":"IFERROR(VLOOKUP(Tabla_SERIED_12_5[[#This Row],[IdEstablecimiento]],'[1]Establecimiento 2023'!$A$1:$E$183,3,FALSE),0)","v":"105478-Posta de Salud Rural Caimanes"},{"$f":"IFERROR(VLOOKUP(Tabla_SERIED_12_5[[#This Row],[IdEstablecimiento]],'[1]Establecimiento 2023'!$A$1:$E$183,5,FALSE),0)","v":"04203-Los Vilos"},"15050200","2022-06-20T17:23:35",1,null,1,{"$nulls":8},1]
[{"$nulls":23},5,"5",2022,"105478",{"$f":"IFERROR(VLOOKUP(Tabla_SERIED_12_5[[#This Row],[IdEstablecimiento]],'[1]Establecimiento 2023'!$A$1:$E$183,3,FALSE),0)","v":"105478-Posta de Salud Rural Caimanes"},{"$f":"IFERROR(VLOOKUP(Tabla_SERIED_12_5[[#This Row],[IdEstablecimiento]],'[1]Establecimiento 2023'!$A$1:$E$183,5,FALSE),0)","v":"04203-Los Vilos"},"15900050","2022-06-20T17:23:35",1,null,1,{"$nulls":3},1]
[{"$nulls":23},8,"5",2022,"105310",{"$f":"IFERROR(VLOOKUP(Tabla_SERIED_12_5[[#This Row],[IdEstablecimiento]],'[1]Establecimiento 2023'!$A$1:$E$183,3,FALSE),0)","v":"105310-Centro de Salud Familiar Pichasca"},{"$f":"IFERROR(VLOOKUP(Tabla_SERIED_12_5[[#This Row],[IdEstablecimiento]],'[1]Establecimiento 2023'!$A$1:$E$183,5,FALSE),0)","v":"04305-Río Hurtado"},"15050100","2022-09-21T07:17:14",32,18,14,null,1,1,null,5,13,3,5,null,1,null,3]
[{"$nulls":23},8,"5",2022,"105310",{"$f":"IFERROR(VLOOKUP(Tabla_SERIED_12_5[[#This Row],[IdEstablecimiento]],'[1]Establecimiento 2023'!$A$1:$E$183,3,FALSE),0)","v":"105310-Centro de Salud Familiar Pichasca"},{"$f":"IFERROR(VLOOKUP(Tabla_SERIED_12_5[[#This Row],[IdEstablecimiento]],'[1]Establecimiento 2023'!$A$1:$E$183,5,FALSE),0)","v":"04305-Río Hurtado"},"15050200","2022-09-21T07:17:14",4,1,3,{"$nulls":3},1,null,2,1]
[{"$nulls":23},4,"5",2022,"105499",{"$f":"IFERROR(VLOOKUP(Tabla_SERIED_12_5[[#This Row],[IdEstablecimiento]],'[1]Establecimiento 2023'!$A$1:$E$183,3,FALSE),0)","v":"105499-Posta de Salud Rural Lambert"},{"$f":"IFERROR(VLOOKUP(Tabla_SERIED_12_5[[#This Row],[IdEstablecimiento]],'[1]Establecimiento 2023'!$A$1:$E$183,5,FALSE),0)","v":"04101-La Serena"},"16090300","2022-05-18T15:18:46",10,10]
[{"$nulls":23},3,"5",2022,"105487",{"$f":"IFERROR(VLOOKUP(Tabla_SERIED_12_5[[#This Row],[IdEstablecimiento]],'[1]Establecimiento 2023'!$A$1:$E$183,3,FALSE),0)","v":"105487-Posta de Salud Rural Cañas Uno"},{"$f":"IFERROR(VLOOKUP(Tabla_SERIED_12_5[[#This Row],[IdEstablecimiento]],'[1]Establecimiento 2023'!$A$1:$E$183,5,FALSE),0)","v":"04201-Illapel"},"15010200","2022-04-19T10:06:43",62,{"$nulls":4},12,22,28]
[{"$nulls":23},3,"5",2022,"105487",{"$f":"IFERROR(VLOOKUP(Tabla_SERIED_12_5[[#This Row],[IdEstablecimiento]],'[1]Establecimiento 2023'!$A$1:$E$183,3,FALSE),0)","v":"105487-Posta de Salud Rural Cañas Uno"},{"$f":"IFERROR(VLOOKUP(Tabla_SERIED_12_5[[#This Row],[IdEstablecimiento]],'[1]Establecimiento 2023'!$A$1:$E$183,5,FALSE),0)","v":"04201-Illapel"},"15080008","2022-04-19T10:06:43",21,{"$nulls":7},9,null,8,null,4]
[{"$nulls":23},3,"5",2022,"105487",{"$f":"IFERROR(VLOOKUP(Tabla_SERIED_12_5[[#This Row],[IdEstablecimiento]],'[1]Establecimiento 2023'!$A$1:$E$183,3,FALSE),0)","v":"105487-Posta de Salud Rural Cañas Uno"},{"$f":"IFERROR(VLOOKUP(Tabla_SERIED_12_5[[#This Row],[IdEstablecimiento]],'[1]Establecimiento 2023'!$A$1:$E$183,5,FALSE),0)","v":"04201-Illapel"},"15900010","2022-04-19T10:06:43",6.4,4,null,2.4]
[{"$nulls":23},3,"5",2022,"105487",{"$f":"IFERROR(VLOOKUP(Tabla_SERIED_12_5[[#This Row],[IdEstablecimiento]],'[1]Establecimiento 2023'!$A$1:$E$183,3,FALSE),0)","v":"105487-Posta de Salud Rural Cañas Uno"},{"$f":"IFERROR(VLOOKUP(Tabla_SERIED_12_5[[#This Row],[IdEstablecimiento]],'[1]Establecimiento 2023'!$A$1:$E$183,5,FALSE),0)","v":"04201-Illapel"},"15050100","2022-04-19T10:06:43",58,24,34,1,null,1,8,6,11,14,9,null,4,null,4]
[{"$nulls":23},3,"5",2022,"105487",{"$f":"IFERROR(VLOOKUP(Tabla_SERIED_12_5[[#This Row],[IdEstablecimiento]],'[1]Establecimiento 2023'!$A$1:$E$183,3,FALSE),0)","v":"105487-Posta de Salud Rural Cañas Uno"},{"$f":"IFERROR(VLOOKUP(Tabla_SERIED_12_5[[#This Row],[IdEstablecimiento]],'[1]Establecimiento 2023'!$A$1:$E$183,5,FALSE),0)","v":"04201-Illapel"},"16090300","2022-04-19T10:06:43",115,115]
[{"$nulls":23},3,"5",2022,"105487",{"$f":"IFERROR(VLOOKUP(Tabla_SERIED_12_5[[#This Row],[IdEstablecimiento]],'[1]Establecimiento 2023'!$A$1:$E$183,3,FALSE),0)","v":"105487-Posta de Salud Rural Cañas Uno"},{"$f":"IFERROR(VLOOKUP(Tabla_SERIED_12_5[[#This Row],[IdEstablecimiento]],'[1]Establecimiento 2023'!$A$1:$E$183,5,FALSE),0)","v":"04201-Illapel"},"16200210","2022-04-19T10:06:43",31,31]
[{"$nulls":23},1,"5",2022,"105422",{"$f":"IFERROR(VLOOKUP(Tabla_SERIED_12_5[[#This Row],[IdEstablecimiento]],'[1]Establecimiento 2023'!$A$1:$E$183,3,FALSE),0)","v":"105422-Posta de Salud Rural Hornillos"},{"$f":"IFERROR(VLOOKUP(Tabla_SERIED_12_5[[#This Row],[IdEstablecimiento]],'[1]Establecimiento 2023'!$A$1:$E$183,5,FALSE),0)","v":"04301-Ovalle"},"16090300","2022-02-16T10:56:47",42,42]
[{"$nulls":23},1,"5",2022,"105422",{"$f":"IFERROR(VLOOKUP(Tabla_SERIED_12_5[[#This Row],[IdEstablecimiento]],'[1]Establecimiento 2023'!$A$1:$E$183,3,FALSE),0)","v":"105422-Posta de Salud Rural Hornillos"},{"$f":"IFERROR(VLOOKUP(Tabla_SERIED_12_5[[#This Row],[IdEstablecimiento]],'[1]Establecimiento 2023'!$A$1:$E$183,5,FALSE),0)","v":"04301-Ovalle"},"16200210","2022-02-16T10:56:47",4,4]
[{"$nulls":23},8,"5",2022,"105310",{"$f":"IFERROR(VLOOKUP(Tabla_SERIED_12_5[[#This Row],[IdEstablecimiento]],'[1]Establecimiento 2023'!$A$1:$E$183,3,FALSE),0)","v":"105310-Centro de Salud Familiar Pichasca"},{"$f":"IFERROR(VLOOKUP(Tabla_SERIED_12_5[[#This Row],[IdEstablecimiento]],'[1]Establecimiento 2023'!$A$1:$E$183,5,FALSE),0)","v":"04305-Río Hurtado"},"16200220","2022-09-21T07:17:14",19,9,10,null,2]
[{"$nulls":23},8,"5",2022,"105311",{"$f":"IFERROR(VLOOKUP(Tabla_SERIED_12_5[[#This Row],[IdEstablecimiento]],'[1]Establecimiento 2023'!$A$1:$E$183,3,FALSE),0)","v":"105311-Centro de Salud Familiar Chañaral Alto"},{"$f":"IFERROR(VLOOKUP(Tabla_SERIED_12_5[[#This Row],[IdEstablecimiento]],'[1]Establecimiento 2023'!$A$1:$E$183,5,FALSE),0)","v":"04303-Monte Patria"},"15010100","2022-09-21T07:17:27",30,{"$nulls":3},30]
[{"$nulls":23},8,"5",2022,"105311",{"$f":"IFERROR(VLOOKUP(Tabla_SERIED_12_5[[#This Row],[IdEstablecimiento]],'[1]Establecimiento 2023'!$A$1:$E$183,3,FALSE),0)","v":"105311-Centro de Salud Familiar Chañaral Alto"},{"$f":"IFERROR(VLOOKUP(Tabla_SERIED_12_5[[#This Row],[IdEstablecimiento]],'[1]Establecimiento 2023'!$A$1:$E$183,5,FALSE),0)","v":"04303-Monte Patria"},"15010200","2022-09-21T07:17:27",134,{"$nulls":4},14,50,70]
[{"$nulls":23},8,"5",2022,"105311",{"$f":"IFERROR(VLOOKUP(Tabla_SERIED_12_5[[#This Row],[IdEstablecimiento]],'[1]Establecimiento 2023'!$A$1:$E$183,3,FALSE),0)","v":"105311-Centro de Salud Familiar Chañaral Alto"},{"$f":"IFERROR(VLOOKUP(Tabla_SERIED_12_5[[#This Row],[IdEstablecimiento]],'[1]Establecimiento 2023'!$A$1:$E$183,5,FALSE),0)","v":"04303-Monte Patria"},"15080008","2022-09-21T07:17:27",39,{"$nulls":7},18,null,20,null,1]
[{"$nulls":23},8,"5",2022,"105311",{"$f":"IFERROR(VLOOKUP(Tabla_SERIED_12_5[[#This Row],[IdEstablecimiento]],'[1]Establecimiento 2023'!$A$1:$E$183,3,FALSE),0)","v":"105311-Centro de Salud Familiar Chañaral Alto"},{"$f":"IFERROR(VLOOKUP(Tabla_SERIED_12_5[[#This Row],[IdEstablecimiento]],'[1]Establecimiento 2023'!$A$1:$E$183,5,FALSE),0)","v":"04303-Monte Patria"},"15900010","2022-09-21T07:17:27",14.4,null,3.6,10.8]
[{"$nulls":23},8,"5",2022,"105311",{"$f":"IFERROR(VLOOKUP(Tabla_SERIED_12_5[[#This Row],[IdEstablecimiento]],'[1]Establecimiento 2023'!$A$1:$E$183,3,FALSE),0)","v":"105311-Centro de Salud Familiar Chañaral Alto"},{"$f":"IFERROR(VLOOKUP(Tabla_SERIED_12_5[[#This Row],[IdEstablecimiento]],'[1]Establecimiento 2023'!$A$1:$E$183,5,FALSE),0)","v":"04303-Monte Patria"},"15010400","2022-09-21T07:17:27",8,{"$nulls":5},8]
[{"$nulls":23},8,"5",2022,"105311",{"$f":"IFERROR(VLOOKUP(Tabla_SERIED_12_5[[#This Row],[IdEstablecimiento]],'[1]Establecimiento 2023'!$A$1:$E$183,3,FALSE),0)","v":"105311-Centro de Salud Familiar Chañaral Alto"},{"$f":"IFERROR(VLOOKUP(Tabla_SERIED_12_5[[#This Row],[IdEstablecimiento]],'[1]Establecimiento 2023'!$A$1:$E$183,5,FALSE),0)","v":"04303-Monte Patria"},"15010500","2022-09-21T07:17:27",10,null,null,2,null,null,8]
[{"$nulls":23},8,"5",2022,"105311",{"$f":"IFERROR(VLOOKUP(Tabla_SERIED_12_5[[#This Row],[IdEstablecimiento]],'[1]Establecimiento 2023'!$A$1:$E$183,3,FALSE),0)","v":"105311-Centro de Salud Familiar Chañaral Alto"},{"$f":"IFERROR(VLOOKUP(Tabla_SERIED_12_5[[#This Row],[IdEstablecimiento]],'[1]Establecimiento 2023'!$A$1:$E$183,5,FALSE),0)","v":"04303-Monte Patria"},"15080009","2022-09-21T07:17:27",4,{"$nulls":8},3,1]
[{"$nulls":23},8,"5",2022,"105311",{"$f":"IFERROR(VLOOKUP(Tabla_SERIED_12_5[[#This Row],[IdEstablecimiento]],'[1]Establecimiento 2023'!$A$1:$E$183,3,FALSE),0)","v":"105311-Centro de Salud Familiar Chañaral Alto"},{"$f":"IFERROR(VLOOKUP(Tabla_SERIED_12_5[[#This Row],[IdEstablecimiento]],'[1]Establecimiento 2023'!$A$1:$E$183,5,FALSE),0)","v":"04303-Monte Patria"},"15900020","2022-09-21T07:17:27",5.4,null,1.8,3.6]
[{"$nulls":23},8,"5",2022,"105311",{"$f":"IFERROR(VLOOKUP(Tabla_SERIED_12_5[[#This Row],[IdEstablecimiento]],'[1]Establecimiento 2023'!$A$1:$E$183,3,FALSE),0)","v":"105311-Centro de Salud Familiar Chañaral Alto"},{"$f":"IFERROR(VLOOKUP(Tabla_SERIED_12_5[[#This Row],[IdEstablecimiento]],'[1]Establecimiento 2023'!$A$1:$E$183,5,FALSE),0)","v":"04303-Monte Patria"},"15050100","2022-09-21T07:17:27",117,49,68,null,null,4,15,7,25,37,18,null,10,null,1]
[{"$nulls":23},8,"5",2022,"105311",{"$f":"IFERROR(VLOOKUP(Tabla_SERIED_12_5[[#This Row],[IdEstablecimiento]],'[1]Establecimiento 2023'!$A$1:$E$183,3,FALSE),0)","v":"105311-Centro de Salud Familiar Chañaral Alto"},{"$f":"IFERROR(VLOOKUP(Tabla_SERIED_12_5[[#This Row],[IdEstablecimiento]],'[1]Establecimiento 2023'!$A$1:$E$183,5,FALSE),0)","v":"04303-Monte Patria"},"15050200","2022-09-21T07:17:27",8,1,7,null,1,1,null,null,4,null,null,1,1]
[{"$nulls":23},8,"5",2022,"105311",{"$f":"IFERROR(VLOOKUP(Tabla_SERIED_12_5[[#This Row],[IdEstablecimiento]],'[1]Establecimiento 2023'!$A$1:$E$183,3,FALSE),0)","v":"105311-Centro de Salud Familiar Chañaral Alto"},{"$f":"IFERROR(VLOOKUP(Tabla_SERIED_12_5[[#This Row],[IdEstablecimiento]],'[1]Establecimiento 2023'!$A$1:$E$183,5,FALSE),0)","v":"04303-Monte Patria"},"16090300","2022-09-21T07:17:27",246,246]
[{"$nulls":23},8,"5",2022,"105311",{"$f":"IFERROR(VLOOKUP(Tabla_SERIED_12_5[[#This Row],[IdEstablecimiento]],'[1]Establecimiento 2023'!$A$1:$E$183,3,FALSE),0)","v":"105311-Centro de Salud Familiar Chañaral Alto"},{"$f":"IFERROR(VLOOKUP(Tabla_SERIED_12_5[[#This Row],[IdEstablecimiento]],'[1]Establecimiento 2023'!$A$1:$E$183,5,FALSE),0)","v":"04303-Monte Patria"},"16200210","2022-09-21T07:17:27",38,38]
[{"$nulls":23},8,"5",2022,"105311",{"$f":"IFERROR(VLOOKUP(Tabla_SERIED_12_5[[#This Row],[IdEstablecimiento]],'[1]Establecimiento 2023'!$A$1:$E$183,3,FALSE),0)","v":"105311-Centro de Salud Familiar Chañaral Alto"},{"$f":"IFERROR(VLOOKUP(Tabla_SERIED_12_5[[#This Row],[IdEstablecimiento]],'[1]Establecimiento 2023'!$A$1:$E$183,5,FALSE),0)","v":"04303-Monte Patria"},"16100300","2022-09-21T07:17:27",246,119,127,1,140]
[{"$nulls":23},8,"5",2022,"105311",{"$f":"IFERROR(VLOOKUP(Tabla_SERIED_12_5[[#This Row],[IdEstablecimiento]],'[1]Establecimiento 2023'!$A$1:$E$183,3,FALSE),0)","v":"105311-Centro de Salud Familiar Chañaral Alto"},{"$f":"IFERROR(VLOOKUP(Tabla_SERIED_12_5[[#This Row],[IdEstablecimiento]],'[1]Establecimiento 2023'!$A$1:$E$183,5,FALSE),0)","v":"04303-Monte Patria"},"16200220","2022-09-21T07:17:27",38,13,25,null,15]
[{"$nulls":23},8,"5",2022,"105312",{"$f":"IFERROR(VLOOKUP(Tabla_SERIED_12_5[[#This Row],[IdEstablecimiento]],'[1]Establecimiento 2023'!$A$1:$E$183,3,FALSE),0)","v":"105312-Centro de Salud Familiar Carén"},{"$f":"IFERROR(VLOOKUP(Tabla_SERIED_12_5[[#This Row],[IdEstablecimiento]],'[1]Establecimiento 2023'!$A$1:$E$183,5,FALSE),0)","v":"04303-Monte Patria"},"15010100","2022-09-21T07:17:41",10,{"$nulls":3},10]
[{"$nulls":23},8,"5",2022,"105312",{"$f":"IFERROR(VLOOKUP(Tabla_SERIED_12_5[[#This Row],[IdEstablecimiento]],'[1]Establecimiento 2023'!$A$1:$E$183,3,FALSE),0)","v":"105312-Centro de Salud Familiar Carén"},{"$f":"IFERROR(VLOOKUP(Tabla_SERIED_12_5[[#This Row],[IdEstablecimiento]],'[1]Establecimiento 2023'!$A$1:$E$183,5,FALSE),0)","v":"04303-Monte Patria"},"15010200","2022-09-21T07:17:41",49,{"$nulls":4},4,26,19]
[{"$nulls":23},8,"5",2022,"105312",{"$f":"IFERROR(VLOOKUP(Tabla_SERIED_12_5[[#This Row],[IdEstablecimiento]],'[1]Establecimiento 2023'!$A$1:$E$183,3,FALSE),0)","v":"105312-Centro de Salud Familiar Carén"},{"$f":"IFERROR(VLOOKUP(Tabla_SERIED_12_5[[#This Row],[IdEstablecimiento]],'[1]Establecimiento 2023'!$A$1:$E$183,5,FALSE),0)","v":"04303-Monte Patria"},"15080008","2022-09-21T07:17:41",21,{"$nulls":7},6,null,12,1,2]
[{"$nulls":23},8,"5",2022,"105312",{"$f":"IFERROR(VLOOKUP(Tabla_SERIED_12_5[[#This Row],[IdEstablecimiento]],'[1]Establecimiento 2023'!$A$1:$E$183,3,FALSE),0)","v":"105312-Centro de Salud Familiar Carén"},{"$f":"IFERROR(VLOOKUP(Tabla_SERIED_12_5[[#This Row],[IdEstablecimiento]],'[1]Establecimiento 2023'!$A$1:$E$183,5,FALSE),0)","v":"04303-Monte Patria"},"15900010","2022-09-21T07:17:41",10.8,null,null,10.8]
[{"$nulls":23},8,"5",2022,"105312",{"$f":"IFERROR(VLOOKUP(Tabla_SERIED_12_5[[#This Row],[IdEstablecimiento]],'[1]Establecimiento 2023'!$A$1:$E$183,3,FALSE),0)","v":"105312-Centro de Salud Familiar Carén"},{"$f":"IFERROR(VLOOKUP(Tabla_SERIED_12_5[[#This Row],[IdEstablecimiento]],'[1]Establecimiento 2023'!$A$1:$E$183,5,FALSE),0)","v":"04303-Monte Patria"},"15050100","2022-09-21T07:17:41",48,17,31,null,null,3,5,2,13,10,6,null,6,1,2]
[{"$nulls":23},8,"5",2022,"105312",{"$f":"IFERROR(VLOOKUP(Tabla_SERIED_12_5[[#This Row],[IdEstablecimiento]],'[1]Establecimiento 2023'!$A$1:$E$183,3,FALSE),0)","v":"105312-Centro de Salud Familiar Carén"},{"$f":"IFERROR(VLOOKUP(Tabla_SERIED_12_5[[#This Row],[IdEstablecimiento]],'[1]Establecimiento 2023'!$A$1:$E$183,5,FALSE),0)","v":"04303-Monte Patria"},"15020200","2022-09-21T07:17:41",2,{"$nulls":6},2]
[{"$nulls":23},8,"5",2022,"105312",{"$f":"IFERROR(VLOOKUP(Tabla_SERIED_12_5[[#This Row],[IdEstablecimiento]],'[1]Establecimiento 2023'!$A$1:$E$183,3,FALSE),0)","v":"105312-Centro de Salud Familiar Carén"},{"$f":"IFERROR(VLOOKUP(Tabla_SERIED_12_5[[#This Row],[IdEstablecimiento]],'[1]Establecimiento 2023'!$A$1:$E$183,5,FALSE),0)","v":"04303-Monte Patria"},"15060100","2022-09-21T07:17:41",1,1,{"$nulls":7},1]
[{"$nulls":23},8,"5",2022,"105312",{"$f":"IFERROR(VLOOKUP(Tabla_SERIED_12_5[[#This Row],[IdEstablecimiento]],'[1]Establecimiento 2023'!$A$1:$E$183,3,FALSE),0)","v":"105312-Centro de Salud Familiar Carén"},{"$f":"IFERROR(VLOOKUP(Tabla_SERIED_12_5[[#This Row],[IdEstablecimiento]],'[1]Establecimiento 2023'!$A$1:$E$183,5,FALSE),0)","v":"04303-Monte Patria"},"16090300","2022-09-21T07:17:41",234,234]
[{"$nulls":23},8,"5",2022,"105312",{"$f":"IFERROR(VLOOKUP(Tabla_SERIED_12_5[[#This Row],[IdEstablecimiento]],'[1]Establecimiento 2023'!$A$1:$E$183,3,FALSE),0)","v":"105312-Centro de Salud Familiar Carén"},{"$f":"IFERROR(VLOOKUP(Tabla_SERIED_12_5[[#This Row],[IdEstablecimiento]],'[1]Establecimiento 2023'!$A$1:$E$183,5,FALSE),0)","v":"04303-Monte Patria"},"16200210","2022-09-21T07:17:41",7,7]
[{"$nulls":23},8,"5",2022,"105312",{"$f":"IFERROR(VLOOKUP(Tabla_SERIED_12_5[[#This Row],[IdEstablecimiento]],'[1]Establecimiento 2023'!$A$1:$E$183,3,FALSE),0)","v":"105312-Centro de Salud Familiar Carén"},{"$f":"IFERROR(VLOOKUP(Tabla_SERIED_12_5[[#This Row],[IdEstablecimiento]],'[1]Establecimiento 2023'!$A$1:$E$183,5,FALSE),0)","v":"04303-Monte Patria"},"16100300","2022-09-21T07:17:41",130,56,74,0,40]
[{"$nulls":23},8,"5",2022,"105312",{"$f":"IFERROR(VLOOKUP(Tabla_SERIED_12_5[[#This Row],[IdEstablecimiento]],'[1]Establecimiento 2023'!$A$1:$E$183,3,FALSE),0)","v":"105312-Centro de Salud Familiar Carén"},{"$f":"IFERROR(VLOOKUP(Tabla_SERIED_12_5[[#This Row],[IdEstablecimiento]],'[1]Establecimiento 2023'!$A$1:$E$183,5,FALSE),0)","v":"04303-Monte Patria"},"16200220","2022-09-21T07:17:41",5,1,4,0,2]
[{"$nulls":23},8,"5",2022,"105313",{"$f":"IFERROR(VLOOKUP(Tabla_SERIED_12_5[[#This Row],[IdEstablecimiento]],'[1]Establecimiento 2023'!$A$1:$E$183,3,FALSE),0)","v":"105313-Centro de Salud Familiar Dr. Emilio Schaffhauser"},{"$f":"IFERROR(VLOOKUP(Tabla_SERIED_12_5[[#This Row],[IdEstablecimiento]],'[1]Establecimiento 2023'!$A$1:$E$183,5,FALSE),0)","v":"04101-La Serena"},"15010100","2022-09-21T07:17:54",161,{"$nulls":3},138,{"$nulls":3},3,null,20]
[{"$nulls":23},8,"5",2022,"105313",{"$f":"IFERROR(VLOOKUP(Tabla_SERIED_12_5[[#This Row],[IdEstablecimiento]],'[1]Establecimiento 2023'!$A$1:$E$183,3,FALSE),0)","v":"105313-Centro de Salud Familiar Dr. Emilio Schaffhauser"},{"$f":"IFERROR(VLOOKUP(Tabla_SERIED_12_5[[#This Row],[IdEstablecimiento]],'[1]Establecimiento 2023'!$A$1:$E$183,5,FALSE),0)","v":"04101-La Serena"},"15010200","2022-09-21T07:17:54",484,{"$nulls":4},106,216,162]
[{"$nulls":23},8,"5",2022,"105313",{"$f":"IFERROR(VLOOKUP(Tabla_SERIED_12_5[[#This Row],[IdEstablecimiento]],'[1]Establecimiento 2023'!$A$1:$E$183,3,FALSE),0)","v":"105313-Centro de Salud Familiar Dr. Emilio Schaffhauser"},{"$f":"IFERROR(VLOOKUP(Tabla_SERIED_12_5[[#This Row],[IdEstablecimiento]],'[1]Establecimiento 2023'!$A$1:$E$183,5,FALSE),0)","v":"04101-La Serena"},"15080008","2022-09-21T07:17:54",260,{"$nulls":7},141,null,78,13,28]
[{"$nulls":23},8,"5",2022,"105313",{"$f":"IFERROR(VLOOKUP(Tabla_SERIED_12_5[[#This Row],[IdEstablecimiento]],'[1]Establecimiento 2023'!$A$1:$E$183,3,FALSE),0)","v":"105313-Centro de Salud Familiar Dr. Emilio Schaffhauser"},{"$f":"IFERROR(VLOOKUP(Tabla_SERIED_12_5[[#This Row],[IdEstablecimiento]],'[1]Establecimiento 2023'!$A$1:$E$183,5,FALSE),0)","v":"04101-La Serena"},"15900010","2022-09-21T07:17:54",284.4,35.1,78.3,171]
[{"$nulls":23},8,"5",2022,"105313",{"$f":"IFERROR(VLOOKUP(Tabla_SERIED_12_5[[#This Row],[IdEstablecimiento]],'[1]Establecimiento 2023'!$A$1:$E$183,3,FALSE),0)","v":"105313-Centro de Salud Familiar Dr. Emilio Schaffhauser"},{"$f":"IFERROR(VLOOKUP(Tabla_SERIED_12_5[[#This Row],[IdEstablecimiento]],'[1]Establecimiento 2023'!$A$1:$E$183,5,FALSE),0)","v":"04101-La Serena"},"15010300","2022-09-21T07:17:54",2,{"$nulls":3},2]
[{"$nulls":23},8,"5",2022,"105313",{"$f":"IFERROR(VLOOKUP(Tabla_SERIED_12_5[[#This Row],[IdEstablecimiento]],'[1]Establecimiento 2023'!$A$1:$E$183,3,FALSE),0)","v":"105313-Centro de Salud Familiar Dr. Emilio Schaffhauser"},{"$f":"IFERROR(VLOOKUP(Tabla_SERIED_12_5[[#This Row],[IdEstablecimiento]],'[1]Establecimiento 2023'!$A$1:$E$183,5,FALSE),0)","v":"04101-La Serena"},"15010400","2022-09-21T07:17:54",4,{"$nulls":5},2,2]
[{"$nulls":23},8,"5",2022,"105313",{"$f":"IFERROR(VLOOKUP(Tabla_SERIED_12_5[[#This Row],[IdEstablecimiento]],'[1]Establecimiento 2023'!$A$1:$E$183,3,FALSE),0)","v":"105313-Centro de Salud Familiar Dr. Emilio Schaffhauser"},{"$f":"IFERROR(VLOOKUP(Tabla_SERIED_12_5[[#This Row],[IdEstablecimiento]],'[1]Establecimiento 2023'!$A$1:$E$183,5,FALSE),0)","v":"04101-La Serena"},"15010500","2022-09-21T07:17:54",6,{"$nulls":3},2,null,2,2]
[{"$nulls":23},8,"5",2022,"105313",{"$f":"IFERROR(VLOOKUP(Tabla_SERIED_12_5[[#This Row],[IdEstablecimiento]],'[1]Establecimiento 2023'!$A$1:$E$183,3,FALSE),0)","v":"105313-Centro de Salud Familiar Dr. Emilio Schaffhauser"},{"$f":"IFERROR(VLOOKUP(Tabla_SERIED_12_5[[#This Row],[IdEstablecimiento]],'[1]Establecimiento 2023'!$A$1:$E$183,5,FALSE),0)","v":"04101-La Serena"},"15080009","2022-09-21T07:17:54",9,{"$nulls":8},9]
[{"$nulls":23},8,"5",2022,"105313",{"$f":"IFERROR(VLOOKUP(Tabla_SERIED_12_5[[#This Row],[IdEstablecimiento]],'[1]Establecimiento 2023'!$A$1:$E$183,3,FALSE),0)","v":"105313-Centro de Salud Familiar Dr. Emilio Schaffhauser"},{"$f":"IFERROR(VLOOKUP(Tabla_SERIED_12_5[[#This Row],[IdEstablecimiento]],'[1]Establecimiento 2023'!$A$1:$E$183,5,FALSE),0)","v":"04101-La Serena"},"15030100","2022-09-21T07:17:54",20,8,4,8]
[{"$nulls":23},8,"5",2022,"105313",{"$f":"IFERROR(VLOOKUP(Tabla_SERIED_12_5[[#This Row],[IdEstablecimiento]],'[1]Establecimiento 2023'!$A$1:$E$183,3,FALSE),0)","v":"105313-Centro de Salud Familiar Dr. Emilio Schaffhauser"},{"$f":"IFERROR(VLOOKUP(Tabla_SERIED_12_5[[#This Row],[IdEstablecimiento]],'[1]Establecimiento 2023'!$A$1:$E$183,5,FALSE),0)","v":"04101-La Serena"},"15900030","2022-09-21T07:17:54",43.2,2,10.8,16,10,4.4]
[{"$nulls":23},2,"5",2022,"105480",{"$f":"IFERROR(VLOOKUP(Tabla_SERIED_12_5[[#This Row],[IdEstablecimiento]],'[1]Establecimiento 2023'!$A$1:$E$183,3,FALSE),0)","v":"105480-Posta de Salud Rural Quilimarí"},{"$f":"IFERROR(VLOOKUP(Tabla_SERIED_12_5[[#This Row],[IdEstablecimiento]],'[1]Establecimiento 2023'!$A$1:$E$183,5,FALSE),0)","v":"04203-Los Vilos"},"15900010","2022-03-17T09:54:11",12,0.8,8,3.2]
[{"$nulls":23},2,"5",2022,"105480",{"$f":"IFERROR(VLOOKUP(Tabla_SERIED_12_5[[#This Row],[IdEstablecimiento]],'[1]Establecimiento 2023'!$A$1:$E$183,3,FALSE),0)","v":"105480-Posta de Salud Rural Quilimarí"},{"$f":"IFERROR(VLOOKUP(Tabla_SERIED_12_5[[#This Row],[IdEstablecimiento]],'[1]Establecimiento 2023'!$A$1:$E$183,5,FALSE),0)","v":"04203-Los Vilos"},"15010400","2022-03-17T09:54:11",2,{"$nulls":5},2]
[{"$nulls":23},2,"5",2022,"105303",{"$f":"IFERROR(VLOOKUP(Tabla_SERIED_12_5[[#This Row],[IdEstablecimiento]],'[1]Establecimiento 2023'!$A$1:$E$183,3,FALSE),0)","v":"105303-Centro de Salud Familiar San Juan"},{"$f":"IFERROR(VLOOKUP(Tabla_SERIED_12_5[[#This Row],[IdEstablecimiento]],'[1]Establecimiento 2023'!$A$1:$E$183,5,FALSE),0)","v":"04102-Coquimbo"},"15020200","2022-03-17T09:27:11",20,{"$nulls":4},6,12,2]
[{"$nulls":23},2,"5",2022,"105303",{"$f":"IFERROR(VLOOKUP(Tabla_SERIED_12_5[[#This Row],[IdEstablecimiento]],'[1]Establecimiento 2023'!$A$1:$E$183,3,FALSE),0)","v":"105303-Centro de Salud Familiar San Juan"},{"$f":"IFERROR(VLOOKUP(Tabla_SERIED_12_5[[#This Row],[IdEstablecimiento]],'[1]Establecimiento 2023'!$A$1:$E$183,5,FALSE),0)","v":"04102-Coquimbo"},"15901200","2022-03-17T09:27:11",9.2,0,6.4,0,2.8,0,0,0]
[{"$nulls":23},2,"5",2022,"105303",{"$f":"IFERROR(VLOOKUP(Tabla_SERIED_12_5[[#This Row],[IdEstablecimiento]],'[1]Establecimiento 2023'!$A$1:$E$183,3,FALSE),0)","v":"105303-Centro de Salud Familiar San Juan"},{"$f":"IFERROR(VLOOKUP(Tabla_SERIED_12_5[[#This Row],[IdEstablecimiento]],'[1]Establecimiento 2023'!$A$1:$E$183,5,FALSE),0)","v":"04102-Coquimbo"},"15901300","2022-03-17T09:27:11",8.8,0,0,4.4,4.4,0,0,0]
[{"$nulls":23},2,"5",2022,"105303",{"$f":"IFERROR(VLOOKUP(Tabla_SERIED_12_5[[#This Row],[IdEstablecimiento]],'[1]Establecimiento 2023'!$A$1:$E$183,3,FALSE),0)","v":"105303-Centro de Salud Familiar San Juan"},{"$f":"IFERROR(VLOOKUP(Tabla_SERIED_12_5[[#This Row],[IdEstablecimiento]],'[1]Establecimiento 2023'!$A$1:$E$183,5,FALSE),0)","v":"04102-Coquimbo"},"15060100","2022-03-17T09:27:11",14,7,7,0,0,2,2,3,6,1,0,null,0,0,0]
[{"$nulls":23},2,"5",2022,"105303",{"$f":"IFERROR(VLOOKUP(Tabla_SERIED_12_5[[#This Row],[IdEstablecimiento]],'[1]Establecimiento 2023'!$A$1:$E$183,3,FALSE),0)","v":"105303-Centro de Salud Familiar San Juan"},{"$f":"IFERROR(VLOOKUP(Tabla_SERIED_12_5[[#This Row],[IdEstablecimiento]],'[1]Establecimiento 2023'!$A$1:$E$183,5,FALSE),0)","v":"04102-Coquimbo"},"15901400","2022-03-17T09:27:11",5,2,3,0,2,1,2,0]
[{"$nulls":23},2,"5",2022,"105303",{"$f":"IFERROR(VLOOKUP(Tabla_SERIED_12_5[[#This Row],[IdEstablecimiento]],'[1]Establecimiento 2023'!$A$1:$E$183,3,FALSE),0)","v":"105303-Centro de Salud Familiar San Juan"},{"$f":"IFERROR(VLOOKUP(Tabla_SERIED_12_5[[#This Row],[IdEstablecimiento]],'[1]Establecimiento 2023'!$A$1:$E$183,5,FALSE),0)","v":"04102-Coquimbo"},"16090300","2022-03-17T09:27:11",538,538]
[{"$nulls":23},2,"5",2022,"105303",{"$f":"IFERROR(VLOOKUP(Tabla_SERIED_12_5[[#This Row],[IdEstablecimiento]],'[1]Establecimiento 2023'!$A$1:$E$183,3,FALSE),0)","v":"105303-Centro de Salud Familiar San Juan"},{"$f":"IFERROR(VLOOKUP(Tabla_SERIED_12_5[[#This Row],[IdEstablecimiento]],'[1]Establecimiento 2023'!$A$1:$E$183,5,FALSE),0)","v":"04102-Coquimbo"},"16200210","2022-03-17T09:27:11",15,15]
[{"$nulls":23},3,"5",2022,"105702",{"$f":"IFERROR(VLOOKUP(Tabla_SERIED_12_5[[#This Row],[IdEstablecimiento]],'[1]Establecimiento 2023'!$A$1:$E$183,3,FALSE),0)","v":"105702-Centro Comunitario de Salud Familiar Lambert"},{"$f":"IFERROR(VLOOKUP(Tabla_SERIED_12_5[[#This Row],[IdEstablecimiento]],'[1]Establecimiento 2023'!$A$1:$E$183,5,FALSE),0)","v":"04101-La Serena"},"16100300","2022-04-19T10:12:38",37,10,27,1,15]
[{"$nulls":23},3,"5",2022,"105722",{"$f":"IFERROR(VLOOKUP(Tabla_SERIED_12_5[[#This Row],[IdEstablecimiento]],'[1]Establecimiento 2023'!$A$1:$E$183,3,FALSE),0)","v":"105722-Centro Comunitario de Salud Familiar San José de la Dehesa"},{"$f":"IFERROR(VLOOKUP(Tabla_SERIED_12_5[[#This Row],[IdEstablecimiento]],'[1]Establecimiento 2023'!$A$1:$E$183,5,FALSE),0)","v":"04301-Ovalle"},"15010100","2022-04-19T10:12:59",52,null,null,8,44]
[{"$nulls":23},1,"5",2022,"105401",{"$f":"IFERROR(VLOOKUP(Tabla_SERIED_12_5[[#This Row],[IdEstablecimiento]],'[1]Establecimiento 2023'!$A$1:$E$183,3,FALSE),0)","v":"105401-Posta de Salud Rural Las Rojas"},{"$f":"IFERROR(VLOOKUP(Tabla_SERIED_12_5[[#This Row],[IdEstablecimiento]],'[1]Establecimiento 2023'!$A$1:$E$183,5,FALSE),0)","v":"04101-La Serena"},"15080008","2022-02-16T10:52:59",8,{"$nulls":7},4,null,2,null,2]
[{"$nulls":23},1,"5",2022,"105401",{"$f":"IFERROR(VLOOKUP(Tabla_SERIED_12_5[[#This Row],[IdEstablecimiento]],'[1]Establecimiento 2023'!$A$1:$E$183,3,FALSE),0)","v":"105401-Posta de Salud Rural Las Rojas"},{"$f":"IFERROR(VLOOKUP(Tabla_SERIED_12_5[[#This Row],[IdEstablecimiento]],'[1]Establecimiento 2023'!$A$1:$E$183,5,FALSE),0)","v":"04101-La Serena"},"15010300","2022-02-16T10:52:59",3,{"$nulls":3},3]
[{"$nulls":23},1,"5",2022,"105401",{"$f":"IFERROR(VLOOKUP(Tabla_SERIED_12_5[[#This Row],[IdEstablecimiento]],'[1]Establecimiento 2023'!$A$1:$E$183,3,FALSE),0)","v":"105401-Posta de Salud Rural Las Rojas"},{"$f":"IFERROR(VLOOKUP(Tabla_SERIED_12_5[[#This Row],[IdEstablecimiento]],'[1]Establecimiento 2023'!$A$1:$E$183,5,FALSE),0)","v":"04101-La Serena"},"15010500","2022-02-16T10:52:59",2,{"$nulls":3},2]
[{"$nulls":23},1,"5",2022,"105401",{"$f":"IFERROR(VLOOKUP(Tabla_SERIED_12_5[[#This Row],[IdEstablecimiento]],'[1]Establecimiento 2023'!$A$1:$E$183,3,FALSE),0)","v":"105401-Posta de Salud Rural Las Rojas"},{"$f":"IFERROR(VLOOKUP(Tabla_SERIED_12_5[[#This Row],[IdEstablecimiento]],'[1]Establecimiento 2023'!$A$1:$E$183,5,FALSE),0)","v":"04101-La Serena"},"15050100","2022-02-16T10:52:59",23,9,14,{"$nulls":3},4,2,7,3,4,null,1,null,2]
[{"$nulls":23},1,"5",2022,"105305",{"$f":"IFERROR(VLOOKUP(Tabla_SERIED_12_5[[#This Row],[IdEstablecimiento]],'[1]Establecimiento 2023'!$A$1:$E$183,3,FALSE),0)","v":"105305-Centro de Salud Familiar Tierras Blancas"},{"$f":"IFERROR(VLOOKUP(Tabla_SERIED_12_5[[#This Row],[IdEstablecimiento]],'[1]Establecimiento 2023'!$A$1:$E$183,5,FALSE),0)","v":"04102-Coquimbo"},"15010400","2022-02-16T10:35:34",14,{"$nulls":5},8,6]
[{"$nulls":23},3,"5",2022,"105447",{"$f":"IFERROR(VLOOKUP(Tabla_SERIED_12_5[[#This Row],[IdEstablecimiento]],'[1]Establecimiento 2023'!$A$1:$E$183,3,FALSE),0)","v":"105447-Posta de Salud Rural Peralillo Illapel"},{"$f":"IFERROR(VLOOKUP(Tabla_SERIED_12_5[[#This Row],[IdEstablecimiento]],'[1]Establecimiento 2023'!$A$1:$E$183,5,FALSE),0)","v":"04201-Illapel"},"15900010","2022-04-19T09:46:42",3.2,null,null,3.2]
[{"$nulls":23},3,"5",2022,"200607",{"$f":"IFERROR(VLOOKUP(Tabla_SERIED_12_5[[#This Row],[IdEstablecimiento]],'[1]Establecimiento 2023'!$A$1:$E$183,3,FALSE),0)","v":"200607-Centro de Salud Familiar Lila Cortés Godoy"},{"$f":"IFERROR(VLOOKUP(Tabla_SERIED_12_5[[#This Row],[IdEstablecimiento]],'[1]Establecimiento 2023'!$A$1:$E$183,5,FALSE),0)","v":"04102-Coquimbo"},"15080010","2022-04-19T10:17:19",2,{"$nulls":7},2,null,0,0,0]
[{"$nulls":23},3,"5",2022,"200607",{"$f":"IFERROR(VLOOKUP(Tabla_SERIED_12_5[[#This Row],[IdEstablecimiento]],'[1]Establecimiento 2023'!$A$1:$E$183,3,FALSE),0)","v":"200607-Centro de Salud Familiar Lila Cortés Godoy"},{"$f":"IFERROR(VLOOKUP(Tabla_SERIED_12_5[[#This Row],[IdEstablecimiento]],'[1]Establecimiento 2023'!$A$1:$E$183,5,FALSE),0)","v":"04102-Coquimbo"},"15901200","2022-04-19T10:17:19",9.2,0,0,9.2,0,0]
[{"$nulls":23},3,"5",2022,"200607",{"$f":"IFERROR(VLOOKUP(Tabla_SERIED_12_5[[#This Row],[IdEstablecimiento]],'[1]Establecimiento 2023'!$A$1:$E$183,3,FALSE),0)","v":"200607-Centro de Salud Familiar Lila Cortés Godoy"},{"$f":"IFERROR(VLOOKUP(Tabla_SERIED_12_5[[#This Row],[IdEstablecimiento]],'[1]Establecimiento 2023'!$A$1:$E$183,5,FALSE),0)","v":"04102-Coquimbo"},"15901300","2022-04-19T10:17:19",8,null,0,4.8,0,3.2]
[{"$nulls":23},3,"5",2022,"200607",{"$f":"IFERROR(VLOOKUP(Tabla_SERIED_12_5[[#This Row],[IdEstablecimiento]],'[1]Establecimiento 2023'!$A$1:$E$183,3,FALSE),0)","v":"200607-Centro de Salud Familiar Lila Cortés Godoy"},{"$f":"IFERROR(VLOOKUP(Tabla_SERIED_12_5[[#This Row],[IdEstablecimiento]],'[1]Establecimiento 2023'!$A$1:$E$183,5,FALSE),0)","v":"04102-Coquimbo"},"15060100","2022-04-19T10:17:19",5,2,3,0,0,0,0,1,2,0,2,null,0,0,0]
[{"$nulls":23},2,"5",2022,"105310",{"$f":"IFERROR(VLOOKUP(Tabla_SERIED_12_5[[#This Row],[IdEstablecimiento]],'[1]Establecimiento 2023'!$A$1:$E$183,3,FALSE),0)","v":"105310-Centro de Salud Familiar Pichasca"},{"$f":"IFERROR(VLOOKUP(Tabla_SERIED_12_5[[#This Row],[IdEstablecimiento]],'[1]Establecimiento 2023'!$A$1:$E$183,5,FALSE),0)","v":"04305-Río Hurtado"},"16200210","2022-03-17T09:28:55",18,18]
[{"$nulls":23},1,"5",2022,"105467",{"$f":"IFERROR(VLOOKUP(Tabla_SERIED_12_5[[#This Row],[IdEstablecimiento]],'[1]Establecimiento 2023'!$A$1:$E$183,3,FALSE),0)","v":"105467-Posta de Salud Rural Diaguitas"},{"$f":"IFERROR(VLOOKUP(Tabla_SERIED_12_5[[#This Row],[IdEstablecimiento]],'[1]Establecimiento 2023'!$A$1:$E$183,5,FALSE),0)","v":"04106-Vicuña"},"16090300","2022-02-17T03:52:03",27,27]
[{"$nulls":23},1,"5",2022,"105467",{"$f":"IFERROR(VLOOKUP(Tabla_SERIED_12_5[[#This Row],[IdEstablecimiento]],'[1]Establecimiento 2023'!$A$1:$E$183,3,FALSE),0)","v":"105467-Posta de Salud Rural Diaguitas"},{"$f":"IFERROR(VLOOKUP(Tabla_SERIED_12_5[[#This Row],[IdEstablecimiento]],'[1]Establecimiento 2023'!$A$1:$E$183,5,FALSE),0)","v":"04106-Vicuña"},"16200210","2022-02-17T03:52:03",1,1]
[{"$nulls":23},1,"5",2022,"105467",{"$f":"IFERROR(VLOOKUP(Tabla_SERIED_12_5[[#This Row],[IdEstablecimiento]],'[1]Establecimiento 2023'!$A$1:$E$183,3,FALSE),0)","v":"105467-Posta de Salud Rural Diaguitas"},{"$f":"IFERROR(VLOOKUP(Tabla_SERIED_12_5[[#This Row],[IdEstablecimiento]],'[1]Establecimiento 2023'!$A$1:$E$183,5,FALSE),0)","v":"04106-Vicuña"},"16100300","2022-02-17T03:52:03",27,11,16,null,46]
[{"$nulls":23},1,"5",2022,"105467",{"$f":"IFERROR(VLOOKUP(Tabla_SERIED_12_5[[#This Row],[IdEstablecimiento]],'[1]Establecimiento 2023'!$A$1:$E$183,3,FALSE),0)","v":"105467-Posta de Salud Rural Diaguitas"},{"$f":"IFERROR(VLOOKUP(Tabla_SERIED_12_5[[#This Row],[IdEstablecimiento]],'[1]Establecimiento 2023'!$A$1:$E$183,5,FALSE),0)","v":"04106-Vicuña"},"16200220","2022-02-17T03:52:03",1,1]
[{"$nulls":23},1,"5",2022,"105468",{"$f":"IFERROR(VLOOKUP(Tabla_SERIED_12_5[[#This Row],[IdEstablecimiento]],'[1]Establecimiento 2023'!$A$1:$E$183,3,FALSE),0)","v":"105468-Posta de Salud Rural El Molle"},{"$f":"IFERROR(VLOOKUP(Tabla_SERIED_12_5[[#This Row],[IdEstablecimiento]],'[1]Establecimiento 2023'!$A$1:$E$183,5,FALSE),0)","v":"04106-Vicuña"},"15010100","2022-02-17T03:52:22",12,null,null,2,10]
[{"$nulls":23},4,"5",2022,"105306",{"$f":"IFERROR(VLOOKUP(Tabla_SERIED_12_5[[#This Row],[IdEstablecimiento]],'[1]Establecimiento 2023'!$A$1:$E$183,3,FALSE),0)","v":"105306-Centro de Salud Familiar Paihuano"},{"$f":"IFERROR(VLOOKUP(Tabla_SERIED_12_5[[#This Row],[IdEstablecimiento]],'[1]Establecimiento 2023'!$A$1:$E$183,5,FALSE),0)","v":"04105-Paiguano"},"15010200","2022-05-18T11:50:26",38,{"$nulls":4},10,14,14]
[{"$nulls":23},4,"5",2022,"105306",{"$f":"IFERROR(VLOOKUP(Tabla_SERIED_12_5[[#This Row],[IdEstablecimiento]],'[1]Establecimiento 2023'!$A$1:$E$183,3,FALSE),0)","v":"105306-Centro de Salud Familiar Paihuano"},{"$f":"IFERROR(VLOOKUP(Tabla_SERIED_12_5[[#This Row],[IdEstablecimiento]],'[1]Establecimiento 2023'!$A$1:$E$183,5,FALSE),0)","v":"04105-Paiguano"},"15080008","2022-05-18T11:50:26",12,{"$nulls":7},6,null,6]
[{"$nulls":23},4,"5",2022,"105306",{"$f":"IFERROR(VLOOKUP(Tabla_SERIED_12_5[[#This Row],[IdEstablecimiento]],'[1]Establecimiento 2023'!$A$1:$E$183,3,FALSE),0)","v":"105306-Centro de Salud Familiar Paihuano"},{"$f":"IFERROR(VLOOKUP(Tabla_SERIED_12_5[[#This Row],[IdEstablecimiento]],'[1]Establecimiento 2023'!$A$1:$E$183,5,FALSE),0)","v":"04105-Paiguano"},"15900010","2022-05-18T11:50:26",3.2,null,3.2]
[{"$nulls":23},4,"5",2022,"105306",{"$f":"IFERROR(VLOOKUP(Tabla_SERIED_12_5[[#This Row],[IdEstablecimiento]],'[1]Establecimiento 2023'!$A$1:$E$183,3,FALSE),0)","v":"105306-Centro de Salud Familiar Paihuano"},{"$f":"IFERROR(VLOOKUP(Tabla_SERIED_12_5[[#This Row],[IdEstablecimiento]],'[1]Establecimiento 2023'!$A$1:$E$183,5,FALSE),0)","v":"04105-Paiguano"},"15030200","2022-05-18T11:50:26",3.6,null,null,3.6]
[{"$nulls":23},4,"5",2022,"105306",{"$f":"IFERROR(VLOOKUP(Tabla_SERIED_12_5[[#This Row],[IdEstablecimiento]],'[1]Establecimiento 2023'!$A$1:$E$183,3,FALSE),0)","v":"105306-Centro de Salud Familiar Paihuano"},{"$f":"IFERROR(VLOOKUP(Tabla_SERIED_12_5[[#This Row],[IdEstablecimiento]],'[1]Establecimiento 2023'!$A$1:$E$183,5,FALSE),0)","v":"04105-Paiguano"},"15050100","2022-05-18T11:50:26",32,6,26,null,1,null,3,5,7,7,6,null,3]
[{"$nulls":23},4,"5",2022,"105306",{"$f":"IFERROR(VLOOKUP(Tabla_SERIED_12_5[[#This Row],[IdEstablecimiento]],'[1]Establecimiento 2023'!$A$1:$E$183,3,FALSE),0)","v":"105306-Centro de Salud Familiar Paihuano"},{"$f":"IFERROR(VLOOKUP(Tabla_SERIED_12_5[[#This Row],[IdEstablecimiento]],'[1]Establecimiento 2023'!$A$1:$E$183,5,FALSE),0)","v":"04105-Paiguano"},"15050500","2022-05-18T11:50:26",1,null,1,null,null,1]
[{"$nulls":23},4,"5",2022,"105306",{"$f":"IFERROR(VLOOKUP(Tabla_SERIED_12_5[[#This Row],[IdEstablecimiento]],'[1]Establecimiento 2023'!$A$1:$E$183,3,FALSE),0)","v":"105306-Centro de Salud Familiar Paihuano"},{"$f":"IFERROR(VLOOKUP(Tabla_SERIED_12_5[[#This Row],[IdEstablecimiento]],'[1]Establecimiento 2023'!$A$1:$E$183,5,FALSE),0)","v":"04105-Paiguano"},"16090300","2022-05-18T11:50:26",73,73]
[{"$nulls":23},4,"5",2022,"105306",{"$f":"IFERROR(VLOOKUP(Tabla_SERIED_12_5[[#This Row],[IdEstablecimiento]],'[1]Establecimiento 2023'!$A$1:$E$183,3,FALSE),0)","v":"105306-Centro de Salud Familiar Paihuano"},{"$f":"IFERROR(VLOOKUP(Tabla_SERIED_12_5[[#This Row],[IdEstablecimiento]],'[1]Establecimiento 2023'!$A$1:$E$183,5,FALSE),0)","v":"04105-Paiguano"},"16100300","2022-05-18T11:50:26",73,28,45,0,15]
[{"$nulls":23},4,"5",2022,"105306",{"$f":"IFERROR(VLOOKUP(Tabla_SERIED_12_5[[#This Row],[IdEstablecimiento]],'[1]Establecimiento 2023'!$A$1:$E$183,3,FALSE),0)","v":"105306-Centro de Salud Familiar Paihuano"},{"$f":"IFERROR(VLOOKUP(Tabla_SERIED_12_5[[#This Row],[IdEstablecimiento]],'[1]Establecimiento 2023'!$A$1:$E$183,5,FALSE),0)","v":"04105-Paiguano"},"16200220","2022-05-18T11:50:26",0,{"$nulls":3},2]
[{"$nulls":23},4,"5",2022,"105307",{"$f":"IFERROR(VLOOKUP(Tabla_SERIED_12_5[[#This Row],[IdEstablecimiento]],'[1]Establecimiento 2023'!$A$1:$E$183,3,FALSE),0)","v":"105307-Centro de Salud Familiar Monte Patria"},{"$f":"IFERROR(VLOOKUP(Tabla_SERIED_12_5[[#This Row],[IdEstablecimiento]],'[1]Establecimiento 2023'!$A$1:$E$183,5,FALSE),0)","v":"04303-Monte Patria"},"15010100","2022-05-18T11:50:38",46,{"$nulls":3},46]
[{"$nulls":23},4,"5",2022,"105307",{"$f":"IFERROR(VLOOKUP(Tabla_SERIED_12_5[[#This Row],[IdEstablecimiento]],'[1]Establecimiento 2023'!$A$1:$E$183,3,FALSE),0)","v":"105307-Centro de Salud Familiar Monte Patria"},{"$f":"IFERROR(VLOOKUP(Tabla_SERIED_12_5[[#This Row],[IdEstablecimiento]],'[1]Establecimiento 2023'!$A$1:$E$183,5,FALSE),0)","v":"04303-Monte Patria"},"15010200","2022-05-18T11:50:38",229,{"$nulls":4},54,98,77]
[{"$nulls":23},4,"5",2022,"105307",{"$f":"IFERROR(VLOOKUP(Tabla_SERIED_12_5[[#This Row],[IdEstablecimiento]],'[1]Establecimiento 2023'!$A$1:$E$183,3,FALSE),0)","v":"105307-Centro de Salud Familiar Monte Patria"},{"$f":"IFERROR(VLOOKUP(Tabla_SERIED_12_5[[#This Row],[IdEstablecimiento]],'[1]Establecimiento 2023'!$A$1:$E$183,5,FALSE),0)","v":"04303-Monte Patria"},"15080008","2022-05-18T11:50:38",108,{"$nulls":7},39,null,50,7,12]
[{"$nulls":23},4,"5",2022,"105307",{"$f":"IFERROR(VLOOKUP(Tabla_SERIED_12_5[[#This Row],[IdEstablecimiento]],'[1]Establecimiento 2023'!$A$1:$E$183,3,FALSE),0)","v":"105307-Centro de Salud Familiar Monte Patria"},{"$f":"IFERROR(VLOOKUP(Tabla_SERIED_12_5[[#This Row],[IdEstablecimiento]],'[1]Establecimiento 2023'!$A$1:$E$183,5,FALSE),0)","v":"04303-Monte Patria"},"15900010","2022-05-18T11:50:38",61.6,3.2,16,42.4]
[{"$nulls":23},3,"5",2022,"105723",{"$f":"IFERROR(VLOOKUP(Tabla_SERIED_12_5[[#This Row],[IdEstablecimiento]],'[1]Establecimiento 2023'!$A$1:$E$183,3,FALSE),0)","v":"105723-Centro Comunitario de Salud Familiar Limarí"},{"$f":"IFERROR(VLOOKUP(Tabla_SERIED_12_5[[#This Row],[IdEstablecimiento]],'[1]Establecimiento 2023'!$A$1:$E$183,5,FALSE),0)","v":"04301-Ovalle"},"16200100","2022-04-19T10:13:13",28,19,9,0,4]
[{"$nulls":23},2,"5",2022,"105486",{"$f":"IFERROR(VLOOKUP(Tabla_SERIED_12_5[[#This Row],[IdEstablecimiento]],'[1]Establecimiento 2023'!$A$1:$E$183,3,FALSE),0)","v":"105486-Posta de Salud Rural Tunga Sur"},{"$f":"IFERROR(VLOOKUP(Tabla_SERIED_12_5[[#This Row],[IdEstablecimiento]],'[1]Establecimiento 2023'!$A$1:$E$183,5,FALSE),0)","v":"04201-Illapel"},"15010100","2022-03-17T09:55:59",2,{"$nulls":3},2]
[{"$nulls":23},2,"5",2022,"105486",{"$f":"IFERROR(VLOOKUP(Tabla_SERIED_12_5[[#This Row],[IdEstablecimiento]],'[1]Establecimiento 2023'!$A$1:$E$183,3,FALSE),0)","v":"105486-Posta de Salud Rural Tunga Sur"},{"$f":"IFERROR(VLOOKUP(Tabla_SERIED_12_5[[#This Row],[IdEstablecimiento]],'[1]Establecimiento 2023'!$A$1:$E$183,5,FALSE),0)","v":"04201-Illapel"},"15010200","2022-03-17T09:55:59",8,{"$nulls":5},4,4]
[{"$nulls":23},2,"5",2022,"105486",{"$f":"IFERROR(VLOOKUP(Tabla_SERIED_12_5[[#This Row],[IdEstablecimiento]],'[1]Establecimiento 2023'!$A$1:$E$183,3,FALSE),0)","v":"105486-Posta de Salud Rural Tunga Sur"},{"$f":"IFERROR(VLOOKUP(Tabla_SERIED_12_5[[#This Row],[IdEstablecimiento]],'[1]Establecimiento 2023'!$A$1:$E$183,5,FALSE),0)","v":"04201-Illapel"},"15080008","2022-03-17T09:55:59",4,{"$nulls":7},1,null,2,null,1]
[{"$nulls":23},1,"5",2022,"105505",{"$f":"IFERROR(VLOOKUP(Tabla_SERIED_12_5[[#This Row],[IdEstablecimiento]],'[1]Establecimiento 2023'!$A$1:$E$183,3,FALSE),0)","v":"105505-Posta de Salud Rural Los Choros"},{"$f":"IFERROR(VLOOKUP(Tabla_SERIED_12_5[[#This Row],[IdEstablecimiento]],'[1]Establecimiento 2023'!$A$1:$E$183,5,FALSE),0)","v":"04104-La Higuera"},"16090300","2022-02-17T04:20:06",28,28]
[{"$nulls":23},1,"5",2022,"105505",{"$f":"IFERROR(VLOOKUP(Tabla_SERIED_12_5[[#This Row],[IdEstablecimiento]],'[1]Establecimiento 2023'!$A$1:$E$183,3,FALSE),0)","v":"105505-Posta de Salud Rural Los Choros"},{"$f":"IFERROR(VLOOKUP(Tabla_SERIED_12_5[[#This Row],[IdEstablecimiento]],'[1]Establecimiento 2023'!$A$1:$E$183,5,FALSE),0)","v":"04104-La Higuera"},"16200210","2022-02-17T04:20:06",3,3]
[{"$nulls":23},1,"5",2022,"105505",{"$f":"IFERROR(VLOOKUP(Tabla_SERIED_12_5[[#This Row],[IdEstablecimiento]],'[1]Establecimiento 2023'!$A$1:$E$183,3,FALSE),0)","v":"105505-Posta de Salud Rural Los Choros"},{"$f":"IFERROR(VLOOKUP(Tabla_SERIED_12_5[[#This Row],[IdEstablecimiento]],'[1]Establecimiento 2023'!$A$1:$E$183,5,FALSE),0)","v":"04104-La Higuera"},"16100300","2022-02-17T04:20:06",28,11,17]
[{"$nulls":23},1,"5",2022,"105505",{"$f":"IFERROR(VLOOKUP(Tabla_SERIED_12_5[[#This Row],[IdEstablecimiento]],'[1]Establecimiento 2023'!$A$1:$E$183,3,FALSE),0)","v":"105505-Posta de Salud Rural Los Choros"},{"$f":"IFERROR(VLOOKUP(Tabla_SERIED_12_5[[#This Row],[IdEstablecimiento]],'[1]Establecimiento 2023'!$A$1:$E$183,5,FALSE),0)","v":"04104-La Higuera"},"16200220","2022-02-17T04:20:06",3,null,3]
[{"$nulls":23},1,"5",2022,"105506",{"$f":"IFERROR(VLOOKUP(Tabla_SERIED_12_5[[#This Row],[IdEstablecimiento]],'[1]Establecimiento 2023'!$A$1:$E$183,3,FALSE),0)","v":"105506-Posta de Salud Rural El Trapiche"},{"$f":"IFERROR(VLOOKUP(Tabla_SERIED_12_5[[#This Row],[IdEstablecimiento]],'[1]Establecimiento 2023'!$A$1:$E$183,5,FALSE),0)","v":"04104-La Higuera"},"15010200","2022-02-17T04:20:26",6,{"$nulls":4},4,2]
[{"$nulls":23},1,"5",2022,"105506",{"$f":"IFERROR(VLOOKUP(Tabla_SERIED_12_5[[#This Row],[IdEstablecimiento]],'[1]Establecimiento 2023'!$A$1:$E$183,3,FALSE),0)","v":"105506-Posta de Salud Rural El Trapiche"},{"$f":"IFERROR(VLOOKUP(Tabla_SERIED_12_5[[#This Row],[IdEstablecimiento]],'[1]Establecimiento 2023'!$A$1:$E$183,5,FALSE),0)","v":"04104-La Higuera"},"15080008","2022-02-17T04:20:26",1,{"$nulls":7},1]
[{"$nulls":23},1,"5",2022,"105506",{"$f":"IFERROR(VLOOKUP(Tabla_SERIED_12_5[[#This Row],[IdEstablecimiento]],'[1]Establecimiento 2023'!$A$1:$E$183,3,FALSE),0)","v":"105506-Posta de Salud Rural El Trapiche"},{"$f":"IFERROR(VLOOKUP(Tabla_SERIED_12_5[[#This Row],[IdEstablecimiento]],'[1]Establecimiento 2023'!$A$1:$E$183,5,FALSE),0)","v":"04104-La Higuera"},"15050100","2022-02-17T04:20:26",4,2,2,{"$nulls":4},2,1,null,1]
[{"$nulls":23},1,"5",2022,"105506",{"$f":"IFERROR(VLOOKUP(Tabla_SERIED_12_5[[#This Row],[IdEstablecimiento]],'[1]Establecimiento 2023'!$A$1:$E$183,3,FALSE),0)","v":"105506-Posta de Salud Rural El Trapiche"},{"$f":"IFERROR(VLOOKUP(Tabla_SERIED_12_5[[#This Row],[IdEstablecimiento]],'[1]Establecimiento 2023'!$A$1:$E$183,5,FALSE),0)","v":"04104-La Higuera"},"16090300","2022-02-17T04:20:26",7,7]
[{"$nulls":23},1,"5",2022,"105506",{"$f":"IFERROR(VLOOKUP(Tabla_SERIED_12_5[[#This Row],[IdEstablecimiento]],'[1]Establecimiento 2023'!$A$1:$E$183,3,FALSE),0)","v":"105506-Posta de Salud Rural El Trapiche"},{"$f":"IFERROR(VLOOKUP(Tabla_SERIED_12_5[[#This Row],[IdEstablecimiento]],'[1]Establecimiento 2023'!$A$1:$E$183,5,FALSE),0)","v":"04104-La Higuera"},"16100300","2022-02-17T04:20:26",7,4,3]
[{"$nulls":23},1,"5",2022,"105507",{"$f":"IFERROR(VLOOKUP(Tabla_SERIED_12_5[[#This Row],[IdEstablecimiento]],'[1]Establecimiento 2023'!$A$1:$E$183,3,FALSE),0)","v":"105507-Posta de Salud Rural Huamalata"},{"$f":"IFERROR(VLOOKUP(Tabla_SERIED_12_5[[#This Row],[IdEstablecimiento]],'[1]Establecimiento 2023'!$A$1:$E$183,5,FALSE),0)","v":"04301-Ovalle"},"15010100","2022-02-17T04:20:48",4,null,null,2,2]
[{"$nulls":23},1,"5",2022,"105507",{"$f":"IFERROR(VLOOKUP(Tabla_SERIED_12_5[[#This Row],[IdEstablecimiento]],'[1]Establecimiento 2023'!$A$1:$E$183,3,FALSE),0)","v":"105507-Posta de Salud Rural Huamalata"},{"$f":"IFERROR(VLOOKUP(Tabla_SERIED_12_5[[#This Row],[IdEstablecimiento]],'[1]Establecimiento 2023'!$A$1:$E$183,5,FALSE),0)","v":"04301-Ovalle"},"15010200","2022-02-17T04:20:48",32,{"$nulls":4},10,12,10]
[{"$nulls":23},1,"5",2022,"105702",{"$f":"IFERROR(VLOOKUP(Tabla_SERIED_12_5[[#This Row],[IdEstablecimiento]],'[1]Establecimiento 2023'!$A$1:$E$183,3,FALSE),0)","v":"105702-Centro Comunitario de Salud Familiar Lambert"},{"$f":"IFERROR(VLOOKUP(Tabla_SERIED_12_5[[#This Row],[IdEstablecimiento]],'[1]Establecimiento 2023'!$A$1:$E$183,5,FALSE),0)","v":"04101-La Serena"},"15010100","2022-02-17T04:23:12",22,null,null,2,20]
[{"$nulls":23},1,"5",2022,"105702",{"$f":"IFERROR(VLOOKUP(Tabla_SERIED_12_5[[#This Row],[IdEstablecimiento]],'[1]Establecimiento 2023'!$A$1:$E$183,3,FALSE),0)","v":"105702-Centro Comunitario de Salud Familiar Lambert"},{"$f":"IFERROR(VLOOKUP(Tabla_SERIED_12_5[[#This Row],[IdEstablecimiento]],'[1]Establecimiento 2023'!$A$1:$E$183,5,FALSE),0)","v":"04101-La Serena"},"15010200","2022-02-17T04:23:12",74,{"$nulls":4},18,36,20]
[{"$nulls":23},4,"5",2022,"105307",{"$f":"IFERROR(VLOOKUP(Tabla_SERIED_12_5[[#This Row],[IdEstablecimiento]],'[1]Establecimiento 2023'!$A$1:$E$183,3,FALSE),0)","v":"105307-Centro de Salud Familiar Monte Patria"},{"$f":"IFERROR(VLOOKUP(Tabla_SERIED_12_5[[#This Row],[IdEstablecimiento]],'[1]Establecimiento 2023'!$A$1:$E$183,5,FALSE),0)","v":"04303-Monte Patria"},"15010400","2022-05-18T11:50:38",10,{"$nulls":5},8,2]
[{"$nulls":23},4,"5",2022,"105307",{"$f":"IFERROR(VLOOKUP(Tabla_SERIED_12_5[[#This Row],[IdEstablecimiento]],'[1]Establecimiento 2023'!$A$1:$E$183,3,FALSE),0)","v":"105307-Centro de Salud Familiar Monte Patria"},{"$f":"IFERROR(VLOOKUP(Tabla_SERIED_12_5[[#This Row],[IdEstablecimiento]],'[1]Establecimiento 2023'!$A$1:$E$183,5,FALSE),0)","v":"04303-Monte Patria"},"15010500","2022-05-18T11:50:38",12,null,null,2,null,null,8,2]
[{"$nulls":23},3,"5",2022,"200258",{"$f":"IFERROR(VLOOKUP(Tabla_SERIED_12_5[[#This Row],[IdEstablecimiento]],'[1]Establecimiento 2023'!$A$1:$E$183,3,FALSE),0)","v":"200258-Centro Comunitario de Salud Familiar Los Copihues"},{"$f":"IFERROR(VLOOKUP(Tabla_SERIED_12_5[[#This Row],[IdEstablecimiento]],'[1]Establecimiento 2023'!$A$1:$E$183,5,FALSE),0)","v":"04301-Ovalle"},"15080008","2022-04-19T10:13:49",20,{"$nulls":7},15,null,2,null,3]
[{"$nulls":23},3,"5",2022,"200258",{"$f":"IFERROR(VLOOKUP(Tabla_SERIED_12_5[[#This Row],[IdEstablecimiento]],'[1]Establecimiento 2023'!$A$1:$E$183,3,FALSE),0)","v":"200258-Centro Comunitario de Salud Familiar Los Copihues"},{"$f":"IFERROR(VLOOKUP(Tabla_SERIED_12_5[[#This Row],[IdEstablecimiento]],'[1]Establecimiento 2023'!$A$1:$E$183,5,FALSE),0)","v":"04301-Ovalle"},"15900010","2022-04-19T10:13:49",8000,null,3200,4800]
[{"$nulls":23},3,"5",2022,"200258",{"$f":"IFERROR(VLOOKUP(Tabla_SERIED_12_5[[#This Row],[IdEstablecimiento]],'[1]Establecimiento 2023'!$A$1:$E$183,3,FALSE),0)","v":"200258-Centro Comunitario de Salud Familiar Los Copihues"},{"$f":"IFERROR(VLOOKUP(Tabla_SERIED_12_5[[#This Row],[IdEstablecimiento]],'[1]Establecimiento 2023'!$A$1:$E$183,5,FALSE),0)","v":"04301-Ovalle"},"15900030","2022-04-19T10:13:49",2800,null,null,2800]
[{"$nulls":23},3,"5",2022,"200258",{"$f":"IFERROR(VLOOKUP(Tabla_SERIED_12_5[[#This Row],[IdEstablecimiento]],'[1]Establecimiento 2023'!$A$1:$E$183,3,FALSE),0)","v":"200258-Centro Comunitario de Salud Familiar Los Copihues"},{"$f":"IFERROR(VLOOKUP(Tabla_SERIED_12_5[[#This Row],[IdEstablecimiento]],'[1]Establecimiento 2023'!$A$1:$E$183,5,FALSE),0)","v":"04301-Ovalle"},"15050100","2022-04-19T10:13:49",81,34,47,0,1,3,8,7,17,25,16,null,1,0,3]
[{"$nulls":23},3,"5",2022,"200258",{"$f":"IFERROR(VLOOKUP(Tabla_SERIED_12_5[[#This Row],[IdEstablecimiento]],'[1]Establecimiento 2023'!$A$1:$E$183,3,FALSE),0)","v":"200258-Centro Comunitario de Salud Familiar Los Copihues"},{"$f":"IFERROR(VLOOKUP(Tabla_SERIED_12_5[[#This Row],[IdEstablecimiento]],'[1]Establecimiento 2023'!$A$1:$E$183,5,FALSE),0)","v":"04301-Ovalle"},"15900050","2022-04-19T10:13:49",1,0,1,null,null,1]
[{"$nulls":23},3,"5",2022,"200258",{"$f":"IFERROR(VLOOKUP(Tabla_SERIED_12_5[[#This Row],[IdEstablecimiento]],'[1]Establecimiento 2023'!$A$1:$E$183,3,FALSE),0)","v":"200258-Centro Comunitario de Salud Familiar Los Copihues"},{"$f":"IFERROR(VLOOKUP(Tabla_SERIED_12_5[[#This Row],[IdEstablecimiento]],'[1]Establecimiento 2023'!$A$1:$E$183,5,FALSE),0)","v":"04301-Ovalle"},"15020200","2022-04-19T10:13:49",2,{"$nulls":4},0,2,0]
[{"$nulls":23},3,"5",2022,"200258",{"$f":"IFERROR(VLOOKUP(Tabla_SERIED_12_5[[#This Row],[IdEstablecimiento]],'[1]Establecimiento 2023'!$A$1:$E$183,3,FALSE),0)","v":"200258-Centro Comunitario de Salud Familiar Los Copihues"},{"$f":"IFERROR(VLOOKUP(Tabla_SERIED_12_5[[#This Row],[IdEstablecimiento]],'[1]Establecimiento 2023'!$A$1:$E$183,5,FALSE),0)","v":"04301-Ovalle"},"15060100","2022-04-19T10:13:49",1,1,0,0,0,0,0,0,1,0,0,null,0,0,0]
[{"$nulls":23},4,"5",2022,"105700",{"$f":"IFERROR(VLOOKUP(Tabla_SERIED_12_5[[#This Row],[IdEstablecimiento]],'[1]Establecimiento 2023'!$A$1:$E$183,3,FALSE),0)","v":"105700-Centro Comunitario de Salud Familiar Villa el Indio"},{"$f":"IFERROR(VLOOKUP(Tabla_SERIED_12_5[[#This Row],[IdEstablecimiento]],'[1]Establecimiento 2023'!$A$1:$E$183,5,FALSE),0)","v":"04101-La Serena"},"15010100","2022-05-18T15:22:41",6,{"$nulls":3},6]
[{"$nulls":23},4,"5",2022,"105700",{"$f":"IFERROR(VLOOKUP(Tabla_SERIED_12_5[[#This Row],[IdEstablecimiento]],'[1]Establecimiento 2023'!$A$1:$E$183,3,FALSE),0)","v":"105700-Centro Comunitario de Salud Familiar Villa el Indio"},{"$f":"IFERROR(VLOOKUP(Tabla_SERIED_12_5[[#This Row],[IdEstablecimiento]],'[1]Establecimiento 2023'!$A$1:$E$183,5,FALSE),0)","v":"04101-La Serena"},"15010200","2022-05-18T15:22:41",44,{"$nulls":4},14,22,8]
[{"$nulls":23},4,"5",2022,"105700",{"$f":"IFERROR(VLOOKUP(Tabla_SERIED_12_5[[#This Row],[IdEstablecimiento]],'[1]Establecimiento 2023'!$A$1:$E$183,3,FALSE),0)","v":"105700-Centro Comunitario de Salud Familiar Villa el Indio"},{"$f":"IFERROR(VLOOKUP(Tabla_SERIED_12_5[[#This Row],[IdEstablecimiento]],'[1]Establecimiento 2023'!$A$1:$E$183,5,FALSE),0)","v":"04101-La Serena"},"15080008","2022-05-18T15:22:41",21,{"$nulls":7},8,null,12,null,1]
[{"$nulls":23},4,"5",2022,"105700",{"$f":"IFERROR(VLOOKUP(Tabla_SERIED_12_5[[#This Row],[IdEstablecimiento]],'[1]Establecimiento 2023'!$A$1:$E$183,3,FALSE),0)","v":"105700-Centro Comunitario de Salud Familiar Villa el Indio"},{"$f":"IFERROR(VLOOKUP(Tabla_SERIED_12_5[[#This Row],[IdEstablecimiento]],'[1]Establecimiento 2023'!$A$1:$E$183,5,FALSE),0)","v":"04101-La Serena"},"15900010","2022-05-18T15:22:41",8.8,null,3.2,5.6]
[{"$nulls":23},4,"5",2022,"105700",{"$f":"IFERROR(VLOOKUP(Tabla_SERIED_12_5[[#This Row],[IdEstablecimiento]],'[1]Establecimiento 2023'!$A$1:$E$183,3,FALSE),0)","v":"105700-Centro Comunitario de Salud Familiar Villa el Indio"},{"$f":"IFERROR(VLOOKUP(Tabla_SERIED_12_5[[#This Row],[IdEstablecimiento]],'[1]Establecimiento 2023'!$A$1:$E$183,5,FALSE),0)","v":"04101-La Serena"},"15050100","2022-05-18T15:22:41",43,null,18,null,1,2,3,7,11,4,8,null,6,null,1]
[{"$nulls":23},4,"5",2022,"105460",{"$f":"IFERROR(VLOOKUP(Tabla_SERIED_12_5[[#This Row],[IdEstablecimiento]],'[1]Establecimiento 2023'!$A$1:$E$183,3,FALSE),0)","v":"105460-Centro Comunitario de Salud Familiar Cogotí 18"},{"$f":"IFERROR(VLOOKUP(Tabla_SERIED_12_5[[#This Row],[IdEstablecimiento]],'[1]Establecimiento 2023'!$A$1:$E$183,5,FALSE),0)","v":"04302-Combarbalá"},"16200210","2022-08-22T07:36:12",7,7]
[{"$nulls":23},3,"5",2022,"105723",{"$f":"IFERROR(VLOOKUP(Tabla_SERIED_12_5[[#This Row],[IdEstablecimiento]],'[1]Establecimiento 2023'!$A$1:$E$183,3,FALSE),0)","v":"105723-Centro Comunitario de Salud Familiar Limarí"},{"$f":"IFERROR(VLOOKUP(Tabla_SERIED_12_5[[#This Row],[IdEstablecimiento]],'[1]Establecimiento 2023'!$A$1:$E$183,5,FALSE),0)","v":"04301-Ovalle"},"16100300","2022-04-19T10:13:13",280,102,178,2,29]
[{"$nulls":23},10,"5",2022,"105105",{"$f":"IFERROR(VLOOKUP(Tabla_SERIED_12_5[[#This Row],[IdEstablecimiento]],'[1]Establecimiento 2023'!$A$1:$E$183,3,FALSE),0)","v":"105105-Hospital San Juan de Dios (Combarbalá)"},{"$f":"IFERROR(VLOOKUP(Tabla_SERIED_12_5[[#This Row],[IdEstablecimiento]],'[1]Establecimiento 2023'!$A$1:$E$183,5,FALSE),0)","v":"105105-Hospital Combarbalá"},"16100300","2022-11-15T13:27:27",368,143,225,1,51]
[{"$nulls":23},10,"5",2022,"105105",{"$f":"IFERROR(VLOOKUP(Tabla_SERIED_12_5[[#This Row],[IdEstablecimiento]],'[1]Establecimiento 2023'!$A$1:$E$183,3,FALSE),0)","v":"105105-Hospital San Juan de Dios (Combarbalá)"},{"$f":"IFERROR(VLOOKUP(Tabla_SERIED_12_5[[#This Row],[IdEstablecimiento]],'[1]Establecimiento 2023'!$A$1:$E$183,5,FALSE),0)","v":"105105-Hospital Combarbalá"},"16200220","2022-11-15T13:27:27",24,8,16,1,4]
[{"$nulls":23},10,"5",2022,"105106",{"$f":"IFERROR(VLOOKUP(Tabla_SERIED_12_5[[#This Row],[IdEstablecimiento]],'[1]Establecimiento 2023'!$A$1:$E$183,3,FALSE),0)","v":"105106-Hospital Dr. José Arraño (Andacollo)"},{"$f":"IFERROR(VLOOKUP(Tabla_SERIED_12_5[[#This Row],[IdEstablecimiento]],'[1]Establecimiento 2023'!$A$1:$E$183,5,FALSE),0)","v":"105106-Hospital Andacollo"},"15010100","2022-11-15T13:27:42",44,{"$nulls":3},44]
[{"$nulls":23},10,"5",2022,"105106",{"$f":"IFERROR(VLOOKUP(Tabla_SERIED_12_5[[#This Row],[IdEstablecimiento]],'[1]Establecimiento 2023'!$A$1:$E$183,3,FALSE),0)","v":"105106-Hospital Dr. José Arraño (Andacollo)"},{"$f":"IFERROR(VLOOKUP(Tabla_SERIED_12_5[[#This Row],[IdEstablecimiento]],'[1]Establecimiento 2023'!$A$1:$E$183,5,FALSE),0)","v":"105106-Hospital Andacollo"},"15010200","2022-11-15T13:27:42",235,{"$nulls":4},36,94,105]
[{"$nulls":23},10,"5",2022,"105106",{"$f":"IFERROR(VLOOKUP(Tabla_SERIED_12_5[[#This Row],[IdEstablecimiento]],'[1]Establecimiento 2023'!$A$1:$E$183,3,FALSE),0)","v":"105106-Hospital Dr. José Arraño (Andacollo)"},{"$f":"IFERROR(VLOOKUP(Tabla_SERIED_12_5[[#This Row],[IdEstablecimiento]],'[1]Establecimiento 2023'!$A$1:$E$183,5,FALSE),0)","v":"105106-Hospital Andacollo"},"15080008","2022-11-15T13:27:42",34,{"$nulls":7},16,null,6,5,7]
[{"$nulls":23},10,"5",2022,"105106",{"$f":"IFERROR(VLOOKUP(Tabla_SERIED_12_5[[#This Row],[IdEstablecimiento]],'[1]Establecimiento 2023'!$A$1:$E$183,3,FALSE),0)","v":"105106-Hospital Dr. José Arraño (Andacollo)"},{"$f":"IFERROR(VLOOKUP(Tabla_SERIED_12_5[[#This Row],[IdEstablecimiento]],'[1]Establecimiento 2023'!$A$1:$E$183,5,FALSE),0)","v":"105106-Hospital Andacollo"},"15900010","2022-11-15T13:27:42",50.4,4.5,12.6,33.3]
[{"$nulls":23},10,"5",2022,"105444",{"$f":"IFERROR(VLOOKUP(Tabla_SERIED_12_5[[#This Row],[IdEstablecimiento]],'[1]Establecimiento 2023'!$A$1:$E$183,3,FALSE),0)","v":"105444-Posta de Salud Rural Huintil"},{"$f":"IFERROR(VLOOKUP(Tabla_SERIED_12_5[[#This Row],[IdEstablecimiento]],'[1]Establecimiento 2023'!$A$1:$E$183,5,FALSE),0)","v":"04201-Illapel"},"16200210","2022-11-15T13:48:06",6,6]
[{"$nulls":23},10,"5",2022,"105444",{"$f":"IFERROR(VLOOKUP(Tabla_SERIED_12_5[[#This Row],[IdEstablecimiento]],'[1]Establecimiento 2023'!$A$1:$E$183,3,FALSE),0)","v":"105444-Posta de Salud Rural Huintil"},{"$f":"IFERROR(VLOOKUP(Tabla_SERIED_12_5[[#This Row],[IdEstablecimiento]],'[1]Establecimiento 2023'!$A$1:$E$183,5,FALSE),0)","v":"04201-Illapel"},"16100300","2022-11-15T13:48:06",60,28,32]
[{"$nulls":23},10,"5",2022,"105444",{"$f":"IFERROR(VLOOKUP(Tabla_SERIED_12_5[[#This Row],[IdEstablecimiento]],'[1]Establecimiento 2023'!$A$1:$E$183,3,FALSE),0)","v":"105444-Posta de Salud Rural Huintil"},{"$f":"IFERROR(VLOOKUP(Tabla_SERIED_12_5[[#This Row],[IdEstablecimiento]],'[1]Establecimiento 2023'!$A$1:$E$183,5,FALSE),0)","v":"04201-Illapel"},"16200220","2022-11-15T13:48:06",6,2,4]
[{"$nulls":23},10,"5",2022,"105425",{"$f":"IFERROR(VLOOKUP(Tabla_SERIED_12_5[[#This Row],[IdEstablecimiento]],'[1]Establecimiento 2023'!$A$1:$E$183,3,FALSE),0)","v":"105425-Posta de Salud Rural Chilecito"},{"$f":"IFERROR(VLOOKUP(Tabla_SERIED_12_5[[#This Row],[IdEstablecimiento]],'[1]Establecimiento 2023'!$A$1:$E$183,5,FALSE),0)","v":"04303-Monte Patria"},"16200210","2022-11-15T13:43:51",4,4]
[{"$nulls":23},10,"5",2022,"105425",{"$f":"IFERROR(VLOOKUP(Tabla_SERIED_12_5[[#This Row],[IdEstablecimiento]],'[1]Establecimiento 2023'!$A$1:$E$183,3,FALSE),0)","v":"105425-Posta de Salud Rural Chilecito"},{"$f":"IFERROR(VLOOKUP(Tabla_SERIED_12_5[[#This Row],[IdEstablecimiento]],'[1]Establecimiento 2023'!$A$1:$E$183,5,FALSE),0)","v":"04303-Monte Patria"},"16100300","2022-11-15T13:43:51",53,23,30,3,24]
[{"$nulls":23},10,"5",2022,"105425",{"$f":"IFERROR(VLOOKUP(Tabla_SERIED_12_5[[#This Row],[IdEstablecimiento]],'[1]Establecimiento 2023'!$A$1:$E$183,3,FALSE),0)","v":"105425-Posta de Salud Rural Chilecito"},{"$f":"IFERROR(VLOOKUP(Tabla_SERIED_12_5[[#This Row],[IdEstablecimiento]],'[1]Establecimiento 2023'!$A$1:$E$183,5,FALSE),0)","v":"04303-Monte Patria"},"16200220","2022-11-15T13:43:51",4,1,3]
[{"$nulls":23},10,"5",2022,"105427",{"$f":"IFERROR(VLOOKUP(Tabla_SERIED_12_5[[#This Row],[IdEstablecimiento]],'[1]Establecimiento 2023'!$A$1:$E$183,3,FALSE),0)","v":"105427-Posta de Salud Rural Hacienda Valdivia"},{"$f":"IFERROR(VLOOKUP(Tabla_SERIED_12_5[[#This Row],[IdEstablecimiento]],'[1]Establecimiento 2023'!$A$1:$E$183,5,FALSE),0)","v":"04303-Monte Patria"},"15010100","2022-11-15T13:44:06",6,{"$nulls":3},6]
[{"$nulls":23},10,"5",2022,"105427",{"$f":"IFERROR(VLOOKUP(Tabla_SERIED_12_5[[#This Row],[IdEstablecimiento]],'[1]Establecimiento 2023'!$A$1:$E$183,3,FALSE),0)","v":"105427-Posta de Salud Rural Hacienda Valdivia"},{"$f":"IFERROR(VLOOKUP(Tabla_SERIED_12_5[[#This Row],[IdEstablecimiento]],'[1]Establecimiento 2023'!$A$1:$E$183,5,FALSE),0)","v":"04303-Monte Patria"},"15010200","2022-11-15T13:44:06",2,{"$nulls":5},2]
[{"$nulls":23},10,"5",2022,"105427",{"$f":"IFERROR(VLOOKUP(Tabla_SERIED_12_5[[#This Row],[IdEstablecimiento]],'[1]Establecimiento 2023'!$A$1:$E$183,3,FALSE),0)","v":"105427-Posta de Salud Rural Hacienda Valdivia"},{"$f":"IFERROR(VLOOKUP(Tabla_SERIED_12_5[[#This Row],[IdEstablecimiento]],'[1]Establecimiento 2023'!$A$1:$E$183,5,FALSE),0)","v":"04303-Monte Patria"},"15080008","2022-11-15T13:44:06",3,{"$nulls":7},1,null,2]
[{"$nulls":23},10,"5",2022,"105427",{"$f":"IFERROR(VLOOKUP(Tabla_SERIED_12_5[[#This Row],[IdEstablecimiento]],'[1]Establecimiento 2023'!$A$1:$E$183,3,FALSE),0)","v":"105427-Posta de Salud Rural Hacienda Valdivia"},{"$f":"IFERROR(VLOOKUP(Tabla_SERIED_12_5[[#This Row],[IdEstablecimiento]],'[1]Establecimiento 2023'!$A$1:$E$183,5,FALSE),0)","v":"04303-Monte Patria"},"15010300","2022-11-15T13:44:06",2,{"$nulls":3},2]
[{"$nulls":23},10,"5",2022,"105427",{"$f":"IFERROR(VLOOKUP(Tabla_SERIED_12_5[[#This Row],[IdEstablecimiento]],'[1]Establecimiento 2023'!$A$1:$E$183,3,FALSE),0)","v":"105427-Posta de Salud Rural Hacienda Valdivia"},{"$f":"IFERROR(VLOOKUP(Tabla_SERIED_12_5[[#This Row],[IdEstablecimiento]],'[1]Establecimiento 2023'!$A$1:$E$183,5,FALSE),0)","v":"04303-Monte Patria"},"15010400","2022-11-15T13:44:06",2,{"$nulls":4},2]
[{"$nulls":23},10,"5",2022,"105427",{"$f":"IFERROR(VLOOKUP(Tabla_SERIED_12_5[[#This Row],[IdEstablecimiento]],'[1]Establecimiento 2023'!$A$1:$E$183,3,FALSE),0)","v":"105427-Posta de Salud Rural Hacienda Valdivia"},{"$f":"IFERROR(VLOOKUP(Tabla_SERIED_12_5[[#This Row],[IdEstablecimiento]],'[1]Establecimiento 2023'!$A$1:$E$183,5,FALSE),0)","v":"04303-Monte Patria"},"15010500","2022-11-15T13:44:06",2,{"$nulls":3},2]
[{"$nulls":23},10,"5",2022,"105427",{"$f":"IFERROR(VLOOKUP(Tabla_SERIED_12_5[[#This Row],[IdEstablecimiento]],'[1]Establecimiento 2023'!$A$1:$E$183,3,FALSE),0)","v":"105427-Posta de Salud Rural Hacienda Valdivia"},{"$f":"IFERROR(VLOOKUP(Tabla_SERIED_12_5[[#This Row],[IdEstablecimiento]],'[1]Establecimiento 2023'!$A$1:$E$183,5,FALSE),0)","v":"04303-Monte Patria"},"15050100","2022-11-15T13:44:06",6,2,4,{"$nulls":3},3,null,1,null,1,null,1]
[{"$nulls":23},10,"5",2022,"105427",{"$f":"IFERROR(VLOOKUP(Tabla_SERIED_12_5[[#This Row],[IdEstablecimiento]],'[1]Establecimiento 2023'!$A$1:$E$183,3,FALSE),0)","v":"105427-Posta de Salud Rural Hacienda Valdivia"},{"$f":"IFERROR(VLOOKUP(Tabla_SERIED_12_5[[#This Row],[IdEstablecimiento]],'[1]Establecimiento 2023'!$A$1:$E$183,5,FALSE),0)","v":"04303-Monte Patria"},"15050200","2022-11-15T13:44:06",1,1,0,{"$nulls":3},1]
[{"$nulls":23},10,"5",2022,"105427",{"$f":"IFERROR(VLOOKUP(Tabla_SERIED_12_5[[#This Row],[IdEstablecimiento]],'[1]Establecimiento 2023'!$A$1:$E$183,3,FALSE),0)","v":"105427-Posta de Salud Rural Hacienda Valdivia"},{"$f":"IFERROR(VLOOKUP(Tabla_SERIED_12_5[[#This Row],[IdEstablecimiento]],'[1]Establecimiento 2023'!$A$1:$E$183,5,FALSE),0)","v":"04303-Monte Patria"},"16090300","2022-11-15T13:44:06",40,40]
[{"$nulls":23},10,"5",2022,"105427",{"$f":"IFERROR(VLOOKUP(Tabla_SERIED_12_5[[#This Row],[IdEstablecimiento]],'[1]Establecimiento 2023'!$A$1:$E$183,3,FALSE),0)","v":"105427-Posta de Salud Rural Hacienda Valdivia"},{"$f":"IFERROR(VLOOKUP(Tabla_SERIED_12_5[[#This Row],[IdEstablecimiento]],'[1]Establecimiento 2023'!$A$1:$E$183,5,FALSE),0)","v":"04303-Monte Patria"},"16200210","2022-11-15T13:44:06",2,2]
[{"$nulls":23},10,"5",2022,"105427",{"$f":"IFERROR(VLOOKUP(Tabla_SERIED_12_5[[#This Row],[IdEstablecimiento]],'[1]Establecimiento 2023'!$A$1:$E$183,3,FALSE),0)","v":"105427-Posta de Salud Rural Hacienda Valdivia"},{"$f":"IFERROR(VLOOKUP(Tabla_SERIED_12_5[[#This Row],[IdEstablecimiento]],'[1]Establecimiento 2023'!$A$1:$E$183,5,FALSE),0)","v":"04303-Monte Patria"},"16100300","2022-11-15T13:44:06",40,15,25]
[{"$nulls":23},10,"5",2022,"105722",{"$f":"IFERROR(VLOOKUP(Tabla_SERIED_12_5[[#This Row],[IdEstablecimiento]],'[1]Establecimiento 2023'!$A$1:$E$183,3,FALSE),0)","v":"105722-Centro Comunitario de Salud Familiar San José de la Dehesa"},{"$f":"IFERROR(VLOOKUP(Tabla_SERIED_12_5[[#This Row],[IdEstablecimiento]],'[1]Establecimiento 2023'!$A$1:$E$183,5,FALSE),0)","v":"04301-Ovalle"},"16200220","2022-11-15T14:11:12",15,7,8,0,0]
[{"$nulls":23},10,"5",2022,"105723",{"$f":"IFERROR(VLOOKUP(Tabla_SERIED_12_5[[#This Row],[IdEstablecimiento]],'[1]Establecimiento 2023'!$A$1:$E$183,3,FALSE),0)","v":"105723-Centro Comunitario de Salud Familiar Limarí"},{"$f":"IFERROR(VLOOKUP(Tabla_SERIED_12_5[[#This Row],[IdEstablecimiento]],'[1]Establecimiento 2023'!$A$1:$E$183,5,FALSE),0)","v":"04301-Ovalle"},"15010100","2022-12-20T11:14:39",16,{"$nulls":3},16]
[{"$nulls":23},10,"5",2022,"105723",{"$f":"IFERROR(VLOOKUP(Tabla_SERIED_12_5[[#This Row],[IdEstablecimiento]],'[1]Establecimiento 2023'!$A$1:$E$183,3,FALSE),0)","v":"105723-Centro Comunitario de Salud Familiar Limarí"},{"$f":"IFERROR(VLOOKUP(Tabla_SERIED_12_5[[#This Row],[IdEstablecimiento]],'[1]Establecimiento 2023'!$A$1:$E$183,5,FALSE),0)","v":"04301-Ovalle"},"15010200","2022-12-20T11:14:39",88,{"$nulls":4},22,38,28]
[{"$nulls":23},10,"5",2022,"200569",{"$f":"IFERROR(VLOOKUP(Tabla_SERIED_12_5[[#This Row],[IdEstablecimiento]],'[1]Establecimiento 2023'!$A$1:$E$183,3,FALSE),0)","v":"200569-Centro de Salud Familiar Fray Jorge"},{"$f":"IFERROR(VLOOKUP(Tabla_SERIED_12_5[[#This Row],[IdEstablecimiento]],'[1]Establecimiento 2023'!$A$1:$E$183,5,FALSE),0)","v":"04301-Ovalle"},"15900050","2022-12-20T11:16:09",2,2,0,1,1]
[{"$nulls":23},10,"5",2022,"200569",{"$f":"IFERROR(VLOOKUP(Tabla_SERIED_12_5[[#This Row],[IdEstablecimiento]],'[1]Establecimiento 2023'!$A$1:$E$183,3,FALSE),0)","v":"200569-Centro de Salud Familiar Fray Jorge"},{"$f":"IFERROR(VLOOKUP(Tabla_SERIED_12_5[[#This Row],[IdEstablecimiento]],'[1]Establecimiento 2023'!$A$1:$E$183,5,FALSE),0)","v":"04301-Ovalle"},"15020100","2022-12-20T11:16:09",4,{"$nulls":3},4]
[{"$nulls":23},10,"5",2022,"200569",{"$f":"IFERROR(VLOOKUP(Tabla_SERIED_12_5[[#This Row],[IdEstablecimiento]],'[1]Establecimiento 2023'!$A$1:$E$183,3,FALSE),0)","v":"200569-Centro de Salud Familiar Fray Jorge"},{"$f":"IFERROR(VLOOKUP(Tabla_SERIED_12_5[[#This Row],[IdEstablecimiento]],'[1]Establecimiento 2023'!$A$1:$E$183,5,FALSE),0)","v":"04301-Ovalle"},"15020200","2022-12-20T11:16:09",6,{"$nulls":4},2,4]
[{"$nulls":23},10,"5",2022,"200569",{"$f":"IFERROR(VLOOKUP(Tabla_SERIED_12_5[[#This Row],[IdEstablecimiento]],'[1]Establecimiento 2023'!$A$1:$E$183,3,FALSE),0)","v":"200569-Centro de Salud Familiar Fray Jorge"},{"$f":"IFERROR(VLOOKUP(Tabla_SERIED_12_5[[#This Row],[IdEstablecimiento]],'[1]Establecimiento 2023'!$A$1:$E$183,5,FALSE),0)","v":"04301-Ovalle"},"15901200","2022-12-20T11:16:09",30.4,null,17.6,null,2.8,10]
[{"$nulls":23},10,"5",2022,"200569",{"$f":"IFERROR(VLOOKUP(Tabla_SERIED_12_5[[#This Row],[IdEstablecimiento]],'[1]Establecimiento 2023'!$A$1:$E$183,3,FALSE),0)","v":"200569-Centro de Salud Familiar Fray Jorge"},{"$f":"IFERROR(VLOOKUP(Tabla_SERIED_12_5[[#This Row],[IdEstablecimiento]],'[1]Establecimiento 2023'!$A$1:$E$183,5,FALSE),0)","v":"04301-Ovalle"},"15901300","2022-12-20T11:16:09",4.4,null,null,4.4]
[{"$nulls":23},10,"5",2022,"200569",{"$f":"IFERROR(VLOOKUP(Tabla_SERIED_12_5[[#This Row],[IdEstablecimiento]],'[1]Establecimiento 2023'!$A$1:$E$183,3,FALSE),0)","v":"200569-Centro de Salud Familiar Fray Jorge"},{"$f":"IFERROR(VLOOKUP(Tabla_SERIED_12_5[[#This Row],[IdEstablecimiento]],'[1]Establecimiento 2023'!$A$1:$E$183,5,FALSE),0)","v":"04301-Ovalle"},"15060100","2022-12-20T11:16:09",5,3,2,{"$nulls":3},2,1,2]
[{"$nulls":23},10,"5",2022,"200569",{"$f":"IFERROR(VLOOKUP(Tabla_SERIED_12_5[[#This Row],[IdEstablecimiento]],'[1]Establecimiento 2023'!$A$1:$E$183,3,FALSE),0)","v":"200569-Centro de Salud Familiar Fray Jorge"},{"$f":"IFERROR(VLOOKUP(Tabla_SERIED_12_5[[#This Row],[IdEstablecimiento]],'[1]Establecimiento 2023'!$A$1:$E$183,5,FALSE),0)","v":"04301-Ovalle"},"15901400","2022-12-20T11:16:09",10,5,5,null,5,1,1,3]
[{"$nulls":23},10,"5",2022,"200569",{"$f":"IFERROR(VLOOKUP(Tabla_SERIED_12_5[[#This Row],[IdEstablecimiento]],'[1]Establecimiento 2023'!$A$1:$E$183,3,FALSE),0)","v":"200569-Centro de Salud Familiar Fray Jorge"},{"$f":"IFERROR(VLOOKUP(Tabla_SERIED_12_5[[#This Row],[IdEstablecimiento]],'[1]Establecimiento 2023'!$A$1:$E$183,5,FALSE),0)","v":"04301-Ovalle"},"16090300","2022-12-20T11:16:09",420,419]
[{"$nulls":23},9,"5",2022,"105309",{"$f":"IFERROR(VLOOKUP(Tabla_SERIED_12_5[[#This Row],[IdEstablecimiento]],'[1]Establecimiento 2023'!$A$1:$E$183,3,FALSE),0)","v":"105309-Centro de Salud Familiar Canela"},{"$f":"IFERROR(VLOOKUP(Tabla_SERIED_12_5[[#This Row],[IdEstablecimiento]],'[1]Establecimiento 2023'!$A$1:$E$183,5,FALSE),0)","v":"04202-Canela"},"15010100","2022-11-15T14:24:54",44,{"$nulls":3},44]
[{"$nulls":23},9,"5",2022,"105309",{"$f":"IFERROR(VLOOKUP(Tabla_SERIED_12_5[[#This Row],[IdEstablecimiento]],'[1]Establecimiento 2023'!$A$1:$E$183,3,FALSE),0)","v":"105309-Centro de Salud Familiar Canela"},{"$f":"IFERROR(VLOOKUP(Tabla_SERIED_12_5[[#This Row],[IdEstablecimiento]],'[1]Establecimiento 2023'!$A$1:$E$183,5,FALSE),0)","v":"04202-Canela"},"15010200","2022-11-15T14:24:54",203,{"$nulls":4},38,110,55]
[{"$nulls":23},10,"5",2022,"105723",{"$f":"IFERROR(VLOOKUP(Tabla_SERIED_12_5[[#This Row],[IdEstablecimiento]],'[1]Establecimiento 2023'!$A$1:$E$183,3,FALSE),0)","v":"105723-Centro Comunitario de Salud Familiar Limarí"},{"$f":"IFERROR(VLOOKUP(Tabla_SERIED_12_5[[#This Row],[IdEstablecimiento]],'[1]Establecimiento 2023'!$A$1:$E$183,5,FALSE),0)","v":"04301-Ovalle"},"15080008","2022-12-20T11:14:39",22,{"$nulls":7},15,null,6,1]
[{"$nulls":23},10,"5",2022,"105723",{"$f":"IFERROR(VLOOKUP(Tabla_SERIED_12_5[[#This Row],[IdEstablecimiento]],'[1]Establecimiento 2023'!$A$1:$E$183,3,FALSE),0)","v":"105723-Centro Comunitario de Salud Familiar Limarí"},{"$f":"IFERROR(VLOOKUP(Tabla_SERIED_12_5[[#This Row],[IdEstablecimiento]],'[1]Establecimiento 2023'!$A$1:$E$183,5,FALSE),0)","v":"04301-Ovalle"},"15900010","2022-12-20T11:14:39",18.9,null,3.6,15.3]
[{"$nulls":23},10,"5",2022,"105723",{"$f":"IFERROR(VLOOKUP(Tabla_SERIED_12_5[[#This Row],[IdEstablecimiento]],'[1]Establecimiento 2023'!$A$1:$E$183,3,FALSE),0)","v":"105723-Centro Comunitario de Salud Familiar Limarí"},{"$f":"IFERROR(VLOOKUP(Tabla_SERIED_12_5[[#This Row],[IdEstablecimiento]],'[1]Establecimiento 2023'!$A$1:$E$183,5,FALSE),0)","v":"04301-Ovalle"},"15010400","2022-12-20T11:14:39",4,{"$nulls":5},2,2]
[{"$nulls":23},10,"5",2022,"105723",{"$f":"IFERROR(VLOOKUP(Tabla_SERIED_12_5[[#This Row],[IdEstablecimiento]],'[1]Establecimiento 2023'!$A$1:$E$183,3,FALSE),0)","v":"105723-Centro Comunitario de Salud Familiar Limarí"},{"$f":"IFERROR(VLOOKUP(Tabla_SERIED_12_5[[#This Row],[IdEstablecimiento]],'[1]Establecimiento 2023'!$A$1:$E$183,5,FALSE),0)","v":"04301-Ovalle"},"15010500","2022-12-20T11:14:39",4,{"$nulls":5},2,2]
[{"$nulls":23},10,"5",2022,"105723",{"$f":"IFERROR(VLOOKUP(Tabla_SERIED_12_5[[#This Row],[IdEstablecimiento]],'[1]Establecimiento 2023'!$A$1:$E$183,3,FALSE),0)","v":"105723-Centro Comunitario de Salud Familiar Limarí"},{"$f":"IFERROR(VLOOKUP(Tabla_SERIED_12_5[[#This Row],[IdEstablecimiento]],'[1]Establecimiento 2023'!$A$1:$E$183,5,FALSE),0)","v":"04301-Ovalle"},"15900030","2022-12-20T11:14:39",3.6,null,null,3.6]
[{"$nulls":23},10,"5",2022,"105723",{"$f":"IFERROR(VLOOKUP(Tabla_SERIED_12_5[[#This Row],[IdEstablecimiento]],'[1]Establecimiento 2023'!$A$1:$E$183,3,FALSE),0)","v":"105723-Centro Comunitario de Salud Familiar Limarí"},{"$f":"IFERROR(VLOOKUP(Tabla_SERIED_12_5[[#This Row],[IdEstablecimiento]],'[1]Establecimiento 2023'!$A$1:$E$183,5,FALSE),0)","v":"04301-Ovalle"},"15900040","2022-12-20T11:14:39",4.4,null,null,4.4]
[{"$nulls":23},9,"5",2022,"105309",{"$f":"IFERROR(VLOOKUP(Tabla_SERIED_12_5[[#This Row],[IdEstablecimiento]],'[1]Establecimiento 2023'!$A$1:$E$183,3,FALSE),0)","v":"105309-Centro de Salud Familiar Canela"},{"$f":"IFERROR(VLOOKUP(Tabla_SERIED_12_5[[#This Row],[IdEstablecimiento]],'[1]Establecimiento 2023'!$A$1:$E$183,5,FALSE),0)","v":"04202-Canela"},"15080008","2022-11-15T14:24:54",37,{"$nulls":7},21,null,12,null,4]
[{"$nulls":23},9,"5",2022,"105309",{"$f":"IFERROR(VLOOKUP(Tabla_SERIED_12_5[[#This Row],[IdEstablecimiento]],'[1]Establecimiento 2023'!$A$1:$E$183,3,FALSE),0)","v":"105309-Centro de Salud Familiar Canela"},{"$f":"IFERROR(VLOOKUP(Tabla_SERIED_12_5[[#This Row],[IdEstablecimiento]],'[1]Establecimiento 2023'!$A$1:$E$183,5,FALSE),0)","v":"04202-Canela"},"15900010","2022-11-15T14:24:54",63.9,20.7,26.1,17.1]
[{"$nulls":23},9,"5",2022,"105309",{"$f":"IFERROR(VLOOKUP(Tabla_SERIED_12_5[[#This Row],[IdEstablecimiento]],'[1]Establecimiento 2023'!$A$1:$E$183,3,FALSE),0)","v":"105309-Centro de Salud Familiar Canela"},{"$f":"IFERROR(VLOOKUP(Tabla_SERIED_12_5[[#This Row],[IdEstablecimiento]],'[1]Establecimiento 2023'!$A$1:$E$183,5,FALSE),0)","v":"04202-Canela"},"15010500","2022-11-15T14:24:54",2,null,null,2]
[{"$nulls":23},9,"5",2022,"105309",{"$f":"IFERROR(VLOOKUP(Tabla_SERIED_12_5[[#This Row],[IdEstablecimiento]],'[1]Establecimiento 2023'!$A$1:$E$183,3,FALSE),0)","v":"105309-Centro de Salud Familiar Canela"},{"$f":"IFERROR(VLOOKUP(Tabla_SERIED_12_5[[#This Row],[IdEstablecimiento]],'[1]Establecimiento 2023'!$A$1:$E$183,5,FALSE),0)","v":"04202-Canela"},"15900020","2022-11-15T14:24:54",2.7,null,null,2.7]
[{"$nulls":23},9,"5",2022,"105309",{"$f":"IFERROR(VLOOKUP(Tabla_SERIED_12_5[[#This Row],[IdEstablecimiento]],'[1]Establecimiento 2023'!$A$1:$E$183,3,FALSE),0)","v":"105309-Centro de Salud Familiar Canela"},{"$f":"IFERROR(VLOOKUP(Tabla_SERIED_12_5[[#This Row],[IdEstablecimiento]],'[1]Establecimiento 2023'!$A$1:$E$183,5,FALSE),0)","v":"04202-Canela"},"15901500","2022-11-15T14:24:54",3.6,null,null,3.6]
[{"$nulls":23},9,"5",2022,"105309",{"$f":"IFERROR(VLOOKUP(Tabla_SERIED_12_5[[#This Row],[IdEstablecimiento]],'[1]Establecimiento 2023'!$A$1:$E$183,3,FALSE),0)","v":"105309-Centro de Salud Familiar Canela"},{"$f":"IFERROR(VLOOKUP(Tabla_SERIED_12_5[[#This Row],[IdEstablecimiento]],'[1]Establecimiento 2023'!$A$1:$E$183,5,FALSE),0)","v":"04202-Canela"},"15900030","2022-11-15T14:24:54",3.6,null,null,3.6]
[{"$nulls":23},9,"5",2022,"105309",{"$f":"IFERROR(VLOOKUP(Tabla_SERIED_12_5[[#This Row],[IdEstablecimiento]],'[1]Establecimiento 2023'!$A$1:$E$183,3,FALSE),0)","v":"105309-Centro de Salud Familiar Canela"},{"$f":"IFERROR(VLOOKUP(Tabla_SERIED_12_5[[#This Row],[IdEstablecimiento]],'[1]Establecimiento 2023'!$A$1:$E$183,5,FALSE),0)","v":"04202-Canela"},"15050100","2022-11-15T14:24:54",176,79,97,5,8,8,22,19,55,28,21,null,6,null,4]
[{"$nulls":23},9,"5",2022,"105309",{"$f":"IFERROR(VLOOKUP(Tabla_SERIED_12_5[[#This Row],[IdEstablecimiento]],'[1]Establecimiento 2023'!$A$1:$E$183,3,FALSE),0)","v":"105309-Centro de Salud Familiar Canela"},{"$f":"IFERROR(VLOOKUP(Tabla_SERIED_12_5[[#This Row],[IdEstablecimiento]],'[1]Establecimiento 2023'!$A$1:$E$183,5,FALSE),0)","v":"04202-Canela"},"15050200","2022-11-15T14:24:54",1,0,1,null,null,1]
[{"$nulls":23},9,"5",2022,"105309",{"$f":"IFERROR(VLOOKUP(Tabla_SERIED_12_5[[#This Row],[IdEstablecimiento]],'[1]Establecimiento 2023'!$A$1:$E$183,3,FALSE),0)","v":"105309-Centro de Salud Familiar Canela"},{"$f":"IFERROR(VLOOKUP(Tabla_SERIED_12_5[[#This Row],[IdEstablecimiento]],'[1]Establecimiento 2023'!$A$1:$E$183,5,FALSE),0)","v":"04202-Canela"},"15900050","2022-11-15T14:24:54",1,1,0,null,null,1]
[{"$nulls":23},9,"5",2022,"105309",{"$f":"IFERROR(VLOOKUP(Tabla_SERIED_12_5[[#This Row],[IdEstablecimiento]],'[1]Establecimiento 2023'!$A$1:$E$183,3,FALSE),0)","v":"105309-Centro de Salud Familiar Canela"},{"$f":"IFERROR(VLOOKUP(Tabla_SERIED_12_5[[#This Row],[IdEstablecimiento]],'[1]Establecimiento 2023'!$A$1:$E$183,5,FALSE),0)","v":"04202-Canela"},"16090300","2022-11-15T14:24:54",275,275]
[{"$nulls":23},9,"5",2022,"105309",{"$f":"IFERROR(VLOOKUP(Tabla_SERIED_12_5[[#This Row],[IdEstablecimiento]],'[1]Establecimiento 2023'!$A$1:$E$183,3,FALSE),0)","v":"105309-Centro de Salud Familiar Canela"},{"$f":"IFERROR(VLOOKUP(Tabla_SERIED_12_5[[#This Row],[IdEstablecimiento]],'[1]Establecimiento 2023'!$A$1:$E$183,5,FALSE),0)","v":"04202-Canela"},"16200210","2022-11-15T14:24:54",19,19]
[{"$nulls":23},9,"5",2022,"105309",{"$f":"IFERROR(VLOOKUP(Tabla_SERIED_12_5[[#This Row],[IdEstablecimiento]],'[1]Establecimiento 2023'!$A$1:$E$183,3,FALSE),0)","v":"105309-Centro de Salud Familiar Canela"},{"$f":"IFERROR(VLOOKUP(Tabla_SERIED_12_5[[#This Row],[IdEstablecimiento]],'[1]Establecimiento 2023'!$A$1:$E$183,5,FALSE),0)","v":"04202-Canela"},"16090500","2022-11-15T14:24:54",2,2]
[{"$nulls":23},9,"5",2022,"105309",{"$f":"IFERROR(VLOOKUP(Tabla_SERIED_12_5[[#This Row],[IdEstablecimiento]],'[1]Establecimiento 2023'!$A$1:$E$183,3,FALSE),0)","v":"105309-Centro de Salud Familiar Canela"},{"$f":"IFERROR(VLOOKUP(Tabla_SERIED_12_5[[#This Row],[IdEstablecimiento]],'[1]Establecimiento 2023'!$A$1:$E$183,5,FALSE),0)","v":"04202-Canela"},"16090600","2022-11-15T14:24:54",1,1]
[{"$nulls":23},9,"5",2022,"105309",{"$f":"IFERROR(VLOOKUP(Tabla_SERIED_12_5[[#This Row],[IdEstablecimiento]],'[1]Establecimiento 2023'!$A$1:$E$183,3,FALSE),0)","v":"105309-Centro de Salud Familiar Canela"},{"$f":"IFERROR(VLOOKUP(Tabla_SERIED_12_5[[#This Row],[IdEstablecimiento]],'[1]Establecimiento 2023'!$A$1:$E$183,5,FALSE),0)","v":"04202-Canela"},"16100300","2022-11-15T14:24:54",275,119,156,0,103]
[{"$nulls":23},9,"5",2022,"105309",{"$f":"IFERROR(VLOOKUP(Tabla_SERIED_12_5[[#This Row],[IdEstablecimiento]],'[1]Establecimiento 2023'!$A$1:$E$183,3,FALSE),0)","v":"105309-Centro de Salud Familiar Canela"},{"$f":"IFERROR(VLOOKUP(Tabla_SERIED_12_5[[#This Row],[IdEstablecimiento]],'[1]Establecimiento 2023'!$A$1:$E$183,5,FALSE),0)","v":"04202-Canela"},"16200220","2022-11-15T14:24:54",19,12,7,1,9]
[{"$nulls":23},9,"5",2022,"105439",{"$f":"IFERROR(VLOOKUP(Tabla_SERIED_12_5[[#This Row],[IdEstablecimiento]],'[1]Establecimiento 2023'!$A$1:$E$183,3,FALSE),0)","v":"105439-Posta de Salud Rural Cerro Blanco"},{"$f":"IFERROR(VLOOKUP(Tabla_SERIED_12_5[[#This Row],[IdEstablecimiento]],'[1]Establecimiento 2023'!$A$1:$E$183,5,FALSE),0)","v":"04301-Ovalle"},"16200220","2022-11-15T14:40:43",3,2,1,0,0]
[{"$nulls":23},9,"5",2022,"105439",{"$f":"IFERROR(VLOOKUP(Tabla_SERIED_12_5[[#This Row],[IdEstablecimiento]],'[1]Establecimiento 2023'!$A$1:$E$183,3,FALSE),0)","v":"105439-Posta de Salud Rural Cerro Blanco"},{"$f":"IFERROR(VLOOKUP(Tabla_SERIED_12_5[[#This Row],[IdEstablecimiento]],'[1]Establecimiento 2023'!$A$1:$E$183,5,FALSE),0)","v":"04301-Ovalle"},"16200100","2022-11-15T14:40:43",0,{"$nulls":3},1]
[{"$nulls":23},9,"5",2022,"105440",{"$f":"IFERROR(VLOOKUP(Tabla_SERIED_12_5[[#This Row],[IdEstablecimiento]],'[1]Establecimiento 2023'!$A$1:$E$183,3,FALSE),0)","v":"105440-Posta de Salud Rural Divisadero"},{"$f":"IFERROR(VLOOKUP(Tabla_SERIED_12_5[[#This Row],[IdEstablecimiento]],'[1]Establecimiento 2023'!$A$1:$E$183,5,FALSE),0)","v":"04304-Punitaqui"},"15010200","2022-11-15T14:40:58",6,{"$nulls":5},2,4]
[{"$nulls":23},9,"5",2022,"105440",{"$f":"IFERROR(VLOOKUP(Tabla_SERIED_12_5[[#This Row],[IdEstablecimiento]],'[1]Establecimiento 2023'!$A$1:$E$183,3,FALSE),0)","v":"105440-Posta de Salud Rural Divisadero"},{"$f":"IFERROR(VLOOKUP(Tabla_SERIED_12_5[[#This Row],[IdEstablecimiento]],'[1]Establecimiento 2023'!$A$1:$E$183,5,FALSE),0)","v":"04304-Punitaqui"},"15050100","2022-11-15T14:40:58",3,1,2,{"$nulls":5},1,2]
[{"$nulls":23},9,"5",2022,"105440",{"$f":"IFERROR(VLOOKUP(Tabla_SERIED_12_5[[#This Row],[IdEstablecimiento]],'[1]Establecimiento 2023'!$A$1:$E$183,3,FALSE),0)","v":"105440-Posta de Salud Rural Divisadero"},{"$f":"IFERROR(VLOOKUP(Tabla_SERIED_12_5[[#This Row],[IdEstablecimiento]],'[1]Establecimiento 2023'!$A$1:$E$183,5,FALSE),0)","v":"04304-Punitaqui"},"16090300","2022-11-15T14:40:58",53,53]
[{"$nulls":23},9,"5",2022,"105440",{"$f":"IFERROR(VLOOKUP(Tabla_SERIED_12_5[[#This Row],[IdEstablecimiento]],'[1]Establecimiento 2023'!$A$1:$E$183,3,FALSE),0)","v":"105440-Posta de Salud Rural Divisadero"},{"$f":"IFERROR(VLOOKUP(Tabla_SERIED_12_5[[#This Row],[IdEstablecimiento]],'[1]Establecimiento 2023'!$A$1:$E$183,5,FALSE),0)","v":"04304-Punitaqui"},"16100300","2022-11-15T14:40:58",53,28,25]
[{"$nulls":23},9,"5",2022,"105441",{"$f":"IFERROR(VLOOKUP(Tabla_SERIED_12_5[[#This Row],[IdEstablecimiento]],'[1]Establecimiento 2023'!$A$1:$E$183,3,FALSE),0)","v":"105441-Posta de Salud Rural Manquehua"},{"$f":"IFERROR(VLOOKUP(Tabla_SERIED_12_5[[#This Row],[IdEstablecimiento]],'[1]Establecimiento 2023'!$A$1:$E$183,5,FALSE),0)","v":"04302-Combarbalá"},"15010200","2022-11-15T14:41:09",18,{"$nulls":4},8,4,6]
[{"$nulls":23},9,"5",2022,"105441",{"$f":"IFERROR(VLOOKUP(Tabla_SERIED_12_5[[#This Row],[IdEstablecimiento]],'[1]Establecimiento 2023'!$A$1:$E$183,3,FALSE),0)","v":"105441-Posta de Salud Rural Manquehua"},{"$f":"IFERROR(VLOOKUP(Tabla_SERIED_12_5[[#This Row],[IdEstablecimiento]],'[1]Establecimiento 2023'!$A$1:$E$183,5,FALSE),0)","v":"04302-Combarbalá"},"15080009","2022-11-15T14:41:09",2,{"$nulls":10},2]
[{"$nulls":23},9,"5",2022,"105441",{"$f":"IFERROR(VLOOKUP(Tabla_SERIED_12_5[[#This Row],[IdEstablecimiento]],'[1]Establecimiento 2023'!$A$1:$E$183,3,FALSE),0)","v":"105441-Posta de Salud Rural Manquehua"},{"$f":"IFERROR(VLOOKUP(Tabla_SERIED_12_5[[#This Row],[IdEstablecimiento]],'[1]Establecimiento 2023'!$A$1:$E$183,5,FALSE),0)","v":"04302-Combarbalá"},"15900020","2022-11-15T14:41:09",2.7,null,2.7]
[{"$nulls":23},9,"5",2022,"105441",{"$f":"IFERROR(VLOOKUP(Tabla_SERIED_12_5[[#This Row],[IdEstablecimiento]],'[1]Establecimiento 2023'!$A$1:$E$183,3,FALSE),0)","v":"105441-Posta de Salud Rural Manquehua"},{"$f":"IFERROR(VLOOKUP(Tabla_SERIED_12_5[[#This Row],[IdEstablecimiento]],'[1]Establecimiento 2023'!$A$1:$E$183,5,FALSE),0)","v":"04302-Combarbalá"},"15050100","2022-11-15T14:41:09",9,7,2,{"$nulls":4},4,2,3]
[{"$nulls":23},9,"5",2022,"105441",{"$f":"IFERROR(VLOOKUP(Tabla_SERIED_12_5[[#This Row],[IdEstablecimiento]],'[1]Establecimiento 2023'!$A$1:$E$183,3,FALSE),0)","v":"105441-Posta de Salud Rural Manquehua"},{"$f":"IFERROR(VLOOKUP(Tabla_SERIED_12_5[[#This Row],[IdEstablecimiento]],'[1]Establecimiento 2023'!$A$1:$E$183,5,FALSE),0)","v":"04302-Combarbalá"},"15050200","2022-11-15T14:41:09",2,1,1,null,1,{"$nulls":8},1]
[{"$nulls":23},9,"5",2022,"105441",{"$f":"IFERROR(VLOOKUP(Tabla_SERIED_12_5[[#This Row],[IdEstablecimiento]],'[1]Establecimiento 2023'!$A$1:$E$183,3,FALSE),0)","v":"105441-Posta de Salud Rural Manquehua"},{"$f":"IFERROR(VLOOKUP(Tabla_SERIED_12_5[[#This Row],[IdEstablecimiento]],'[1]Establecimiento 2023'!$A$1:$E$183,5,FALSE),0)","v":"04302-Combarbalá"},"16090300","2022-11-15T14:41:09",84,84]
[{"$nulls":23},9,"5",2022,"105441",{"$f":"IFERROR(VLOOKUP(Tabla_SERIED_12_5[[#This Row],[IdEstablecimiento]],'[1]Establecimiento 2023'!$A$1:$E$183,3,FALSE),0)","v":"105441-Posta de Salud Rural Manquehua"},{"$f":"IFERROR(VLOOKUP(Tabla_SERIED_12_5[[#This Row],[IdEstablecimiento]],'[1]Establecimiento 2023'!$A$1:$E$183,5,FALSE),0)","v":"04302-Combarbalá"},"16200210","2022-11-15T14:41:09",18,18]
[{"$nulls":23},9,"5",2022,"105441",{"$f":"IFERROR(VLOOKUP(Tabla_SERIED_12_5[[#This Row],[IdEstablecimiento]],'[1]Establecimiento 2023'!$A$1:$E$183,3,FALSE),0)","v":"105441-Posta de Salud Rural Manquehua"},{"$f":"IFERROR(VLOOKUP(Tabla_SERIED_12_5[[#This Row],[IdEstablecimiento]],'[1]Establecimiento 2023'!$A$1:$E$183,5,FALSE),0)","v":"04302-Combarbalá"},"16100300","2022-11-15T14:41:09",81,39,42,2,10]
[{"$nulls":23},9,"5",2022,"105441",{"$f":"IFERROR(VLOOKUP(Tabla_SERIED_12_5[[#This Row],[IdEstablecimiento]],'[1]Establecimiento 2023'!$A$1:$E$183,3,FALSE),0)","v":"105441-Posta de Salud Rural Manquehua"},{"$f":"IFERROR(VLOOKUP(Tabla_SERIED_12_5[[#This Row],[IdEstablecimiento]],'[1]Establecimiento 2023'!$A$1:$E$183,5,FALSE),0)","v":"04302-Combarbalá"},"16200220","2022-11-15T14:41:09",18,8,10,1,2]
[{"$nulls":23},9,"5",2022,"105442",{"$f":"IFERROR(VLOOKUP(Tabla_SERIED_12_5[[#This Row],[IdEstablecimiento]],'[1]Establecimiento 2023'!$A$1:$E$183,3,FALSE),0)","v":"105442-Posta de Salud Rural San Pedro de Quiles"},{"$f":"IFERROR(VLOOKUP(Tabla_SERIED_12_5[[#This Row],[IdEstablecimiento]],'[1]Establecimiento 2023'!$A$1:$E$183,5,FALSE),0)","v":"04304-Punitaqui"},"15010200","2022-11-15T14:41:19",6,{"$nulls":4},2,2,2]
[{"$nulls":23},9,"5",2022,"105442",{"$f":"IFERROR(VLOOKUP(Tabla_SERIED_12_5[[#This Row],[IdEstablecimiento]],'[1]Establecimiento 2023'!$A$1:$E$183,3,FALSE),0)","v":"105442-Posta de Salud Rural San Pedro de Quiles"},{"$f":"IFERROR(VLOOKUP(Tabla_SERIED_12_5[[#This Row],[IdEstablecimiento]],'[1]Establecimiento 2023'!$A$1:$E$183,5,FALSE),0)","v":"04304-Punitaqui"},"15050100","2022-11-15T14:41:19",3,2,1,{"$nulls":4},1,1,1]
[{"$nulls":23},9,"5",2022,"105504",{"$f":"IFERROR(VLOOKUP(Tabla_SERIED_12_5[[#This Row],[IdEstablecimiento]],'[1]Establecimiento 2023'!$A$1:$E$183,3,FALSE),0)","v":"105504-Posta de Salud Rural Socavón"},{"$f":"IFERROR(VLOOKUP(Tabla_SERIED_12_5[[#This Row],[IdEstablecimiento]],'[1]Establecimiento 2023'!$A$1:$E$183,5,FALSE),0)","v":"04201-Illapel"},"16200220","2022-11-15T14:53:35",5,2,3]
[{"$nulls":23},9,"5",2022,"105505",{"$f":"IFERROR(VLOOKUP(Tabla_SERIED_12_5[[#This Row],[IdEstablecimiento]],'[1]Establecimiento 2023'!$A$1:$E$183,3,FALSE),0)","v":"105505-Posta de Salud Rural Los Choros"},{"$f":"IFERROR(VLOOKUP(Tabla_SERIED_12_5[[#This Row],[IdEstablecimiento]],'[1]Establecimiento 2023'!$A$1:$E$183,5,FALSE),0)","v":"04104-La Higuera"},"15010100","2022-11-15T14:53:45",4,{"$nulls":3},4]
[{"$nulls":23},9,"5",2022,"105505",{"$f":"IFERROR(VLOOKUP(Tabla_SERIED_12_5[[#This Row],[IdEstablecimiento]],'[1]Establecimiento 2023'!$A$1:$E$183,3,FALSE),0)","v":"105505-Posta de Salud Rural Los Choros"},{"$f":"IFERROR(VLOOKUP(Tabla_SERIED_12_5[[#This Row],[IdEstablecimiento]],'[1]Establecimiento 2023'!$A$1:$E$183,5,FALSE),0)","v":"04104-La Higuera"},"15010200","2022-11-15T14:53:45",16,{"$nulls":4},2,6,8]
[{"$nulls":23},9,"5",2022,"105505",{"$f":"IFERROR(VLOOKUP(Tabla_SERIED_12_5[[#This Row],[IdEstablecimiento]],'[1]Establecimiento 2023'!$A$1:$E$183,3,FALSE),0)","v":"105505-Posta de Salud Rural Los Choros"},{"$f":"IFERROR(VLOOKUP(Tabla_SERIED_12_5[[#This Row],[IdEstablecimiento]],'[1]Establecimiento 2023'!$A$1:$E$183,5,FALSE),0)","v":"04104-La Higuera"},"15080008","2022-11-15T14:53:45",1,{"$nulls":7},1]
[{"$nulls":23},9,"5",2022,"105505",{"$f":"IFERROR(VLOOKUP(Tabla_SERIED_12_5[[#This Row],[IdEstablecimiento]],'[1]Establecimiento 2023'!$A$1:$E$183,3,FALSE),0)","v":"105505-Posta de Salud Rural Los Choros"},{"$f":"IFERROR(VLOOKUP(Tabla_SERIED_12_5[[#This Row],[IdEstablecimiento]],'[1]Establecimiento 2023'!$A$1:$E$183,5,FALSE),0)","v":"04104-La Higuera"},"15900010","2022-11-15T14:53:45",8.1,null,null,8.1]
[{"$nulls":23},9,"5",2022,"105505",{"$f":"IFERROR(VLOOKUP(Tabla_SERIED_12_5[[#This Row],[IdEstablecimiento]],'[1]Establecimiento 2023'!$A$1:$E$183,3,FALSE),0)","v":"105505-Posta de Salud Rural Los Choros"},{"$f":"IFERROR(VLOOKUP(Tabla_SERIED_12_5[[#This Row],[IdEstablecimiento]],'[1]Establecimiento 2023'!$A$1:$E$183,5,FALSE),0)","v":"04104-La Higuera"},"15050100","2022-11-15T14:53:45",14,8,6,null,null,3,2,1,3,4,1]
[{"$nulls":23},9,"5",2022,"105505",{"$f":"IFERROR(VLOOKUP(Tabla_SERIED_12_5[[#This Row],[IdEstablecimiento]],'[1]Establecimiento 2023'!$A$1:$E$183,3,FALSE),0)","v":"105505-Posta de Salud Rural Los Choros"},{"$f":"IFERROR(VLOOKUP(Tabla_SERIED_12_5[[#This Row],[IdEstablecimiento]],'[1]Establecimiento 2023'!$A$1:$E$183,5,FALSE),0)","v":"04104-La Higuera"},"16090300","2022-11-15T14:53:45",21,21]
[{"$nulls":23},9,"5",2022,"105505",{"$f":"IFERROR(VLOOKUP(Tabla_SERIED_12_5[[#This Row],[IdEstablecimiento]],'[1]Establecimiento 2023'!$A$1:$E$183,3,FALSE),0)","v":"105505-Posta de Salud Rural Los Choros"},{"$f":"IFERROR(VLOOKUP(Tabla_SERIED_12_5[[#This Row],[IdEstablecimiento]],'[1]Establecimiento 2023'!$A$1:$E$183,5,FALSE),0)","v":"04104-La Higuera"},"16100300","2022-11-15T14:53:45",21,9,12]
[{"$nulls":23},9,"5",2022,"105506",{"$f":"IFERROR(VLOOKUP(Tabla_SERIED_12_5[[#This Row],[IdEstablecimiento]],'[1]Establecimiento 2023'!$A$1:$E$183,3,FALSE),0)","v":"105506-Posta de Salud Rural El Trapiche"},{"$f":"IFERROR(VLOOKUP(Tabla_SERIED_12_5[[#This Row],[IdEstablecimiento]],'[1]Establecimiento 2023'!$A$1:$E$183,5,FALSE),0)","v":"04104-La Higuera"},"15010100","2022-11-15T14:53:55",2,{"$nulls":3},2]
[{"$nulls":23},9,"5",2022,"105506",{"$f":"IFERROR(VLOOKUP(Tabla_SERIED_12_5[[#This Row],[IdEstablecimiento]],'[1]Establecimiento 2023'!$A$1:$E$183,3,FALSE),0)","v":"105506-Posta de Salud Rural El Trapiche"},{"$f":"IFERROR(VLOOKUP(Tabla_SERIED_12_5[[#This Row],[IdEstablecimiento]],'[1]Establecimiento 2023'!$A$1:$E$183,5,FALSE),0)","v":"04104-La Higuera"},"15010200","2022-11-15T14:53:55",8,{"$nulls":5},6,2]
[{"$nulls":23},9,"5",2022,"105506",{"$f":"IFERROR(VLOOKUP(Tabla_SERIED_12_5[[#This Row],[IdEstablecimiento]],'[1]Establecimiento 2023'!$A$1:$E$183,3,FALSE),0)","v":"105506-Posta de Salud Rural El Trapiche"},{"$f":"IFERROR(VLOOKUP(Tabla_SERIED_12_5[[#This Row],[IdEstablecimiento]],'[1]Establecimiento 2023'!$A$1:$E$183,5,FALSE),0)","v":"04104-La Higuera"},"15050100","2022-11-15T14:53:55",5,2,3,{"$nulls":3},1,null,3,1]
[{"$nulls":23},9,"5",2022,"105506",{"$f":"IFERROR(VLOOKUP(Tabla_SERIED_12_5[[#This Row],[IdEstablecimiento]],'[1]Establecimiento 2023'!$A$1:$E$183,3,FALSE),0)","v":"105506-Posta de Salud Rural El Trapiche"},{"$f":"IFERROR(VLOOKUP(Tabla_SERIED_12_5[[#This Row],[IdEstablecimiento]],'[1]Establecimiento 2023'!$A$1:$E$183,5,FALSE),0)","v":"04104-La Higuera"},"16090300","2022-11-15T14:53:55",13,13]
[{"$nulls":23},9,"5",2022,"105506",{"$f":"IFERROR(VLOOKUP(Tabla_SERIED_12_5[[#This Row],[IdEstablecimiento]],'[1]Establecimiento 2023'!$A$1:$E$183,3,FALSE),0)","v":"105506-Posta de Salud Rural El Trapiche"},{"$f":"IFERROR(VLOOKUP(Tabla_SERIED_12_5[[#This Row],[IdEstablecimiento]],'[1]Establecimiento 2023'!$A$1:$E$183,5,FALSE),0)","v":"04104-La Higuera"},"16200210","2022-11-15T14:53:55",1,1]
[{"$nulls":23},9,"5",2022,"105506",{"$f":"IFERROR(VLOOKUP(Tabla_SERIED_12_5[[#This Row],[IdEstablecimiento]],'[1]Establecimiento 2023'!$A$1:$E$183,3,FALSE),0)","v":"105506-Posta de Salud Rural El Trapiche"},{"$f":"IFERROR(VLOOKUP(Tabla_SERIED_12_5[[#This Row],[IdEstablecimiento]],'[1]Establecimiento 2023'!$A$1:$E$183,5,FALSE),0)","v":"04104-La Higuera"},"16100300","2022-11-15T14:53:55",13,5,8]
[{"$nulls":23},9,"5",2022,"105506",{"$f":"IFERROR(VLOOKUP(Tabla_SERIED_12_5[[#This Row],[IdEstablecimiento]],'[1]Establecimiento 2023'!$A$1:$E$183,3,FALSE),0)","v":"105506-Posta de Salud Rural El Trapiche"},{"$f":"IFERROR(VLOOKUP(Tabla_SERIED_12_5[[#This Row],[IdEstablecimiento]],'[1]Establecimiento 2023'!$A$1:$E$183,5,FALSE),0)","v":"04104-La Higuera"},"16200220","2022-11-15T14:53:55",1,null,1]
[{"$nulls":23},9,"5",2022,"105507",{"$f":"IFERROR(VLOOKUP(Tabla_SERIED_12_5[[#This Row],[IdEstablecimiento]],'[1]Establecimiento 2023'!$A$1:$E$183,3,FALSE),0)","v":"105507-Posta de Salud Rural Huamalata"},{"$f":"IFERROR(VLOOKUP(Tabla_SERIED_12_5[[#This Row],[IdEstablecimiento]],'[1]Establecimiento 2023'!$A$1:$E$183,5,FALSE),0)","v":"04301-Ovalle"},"15010100","2022-11-15T14:54:06",10,{"$nulls":3},10]
[{"$nulls":23},9,"5",2022,"105507",{"$f":"IFERROR(VLOOKUP(Tabla_SERIED_12_5[[#This Row],[IdEstablecimiento]],'[1]Establecimiento 2023'!$A$1:$E$183,3,FALSE),0)","v":"105507-Posta de Salud Rural Huamalata"},{"$f":"IFERROR(VLOOKUP(Tabla_SERIED_12_5[[#This Row],[IdEstablecimiento]],'[1]Establecimiento 2023'!$A$1:$E$183,5,FALSE),0)","v":"04301-Ovalle"},"15010200","2022-11-15T14:54:06",34,{"$nulls":4},4,8,22]
[{"$nulls":23},2,"5",2022,"200569",{"$f":"IFERROR(VLOOKUP(Tabla_SERIED_12_5[[#This Row],[IdEstablecimiento]],'[1]Establecimiento 2023'!$A$1:$E$183,3,FALSE),0)","v":"200569-Centro de Salud Familiar Fray Jorge"},{"$f":"IFERROR(VLOOKUP(Tabla_SERIED_12_5[[#This Row],[IdEstablecimiento]],'[1]Establecimiento 2023'!$A$1:$E$183,5,FALSE),0)","v":"04301-Ovalle"},"16200220","2022-03-17T10:09:48",5,2,3,0,4]
[{"$nulls":23},2,"5",2022,"200569",{"$f":"IFERROR(VLOOKUP(Tabla_SERIED_12_5[[#This Row],[IdEstablecimiento]],'[1]Establecimiento 2023'!$A$1:$E$183,3,FALSE),0)","v":"200569-Centro de Salud Familiar Fray Jorge"},{"$f":"IFERROR(VLOOKUP(Tabla_SERIED_12_5[[#This Row],[IdEstablecimiento]],'[1]Establecimiento 2023'!$A$1:$E$183,5,FALSE),0)","v":"04301-Ovalle"},"16200100","2022-03-17T10:09:48",1,null,1]
[{"$nulls":23},2,"5",2022,"200607",{"$f":"IFERROR(VLOOKUP(Tabla_SERIED_12_5[[#This Row],[IdEstablecimiento]],'[1]Establecimiento 2023'!$A$1:$E$183,3,FALSE),0)","v":"200607-Centro de Salud Familiar Lila Cortés Godoy"},{"$f":"IFERROR(VLOOKUP(Tabla_SERIED_12_5[[#This Row],[IdEstablecimiento]],'[1]Establecimiento 2023'!$A$1:$E$183,5,FALSE),0)","v":"04102-Coquimbo"},"15010100","2022-03-17T10:10:14",120,null,null,12,106,0,null,null,2]
[{"$nulls":23},2,"5",2022,"200607",{"$f":"IFERROR(VLOOKUP(Tabla_SERIED_12_5[[#This Row],[IdEstablecimiento]],'[1]Establecimiento 2023'!$A$1:$E$183,3,FALSE),0)","v":"200607-Centro de Salud Familiar Lila Cortés Godoy"},{"$f":"IFERROR(VLOOKUP(Tabla_SERIED_12_5[[#This Row],[IdEstablecimiento]],'[1]Establecimiento 2023'!$A$1:$E$183,5,FALSE),0)","v":"04102-Coquimbo"},"15010200","2022-03-17T10:10:14",488,{"$nulls":4},88,260,140]
[{"$nulls":23},2,"5",2022,"200607",{"$f":"IFERROR(VLOOKUP(Tabla_SERIED_12_5[[#This Row],[IdEstablecimiento]],'[1]Establecimiento 2023'!$A$1:$E$183,3,FALSE),0)","v":"200607-Centro de Salud Familiar Lila Cortés Godoy"},{"$f":"IFERROR(VLOOKUP(Tabla_SERIED_12_5[[#This Row],[IdEstablecimiento]],'[1]Establecimiento 2023'!$A$1:$E$183,5,FALSE),0)","v":"04102-Coquimbo"},"15080008","2022-03-17T10:10:14",154,{"$nulls":7},80,null,74,0,0]
[{"$nulls":23},2,"5",2022,"200607",{"$f":"IFERROR(VLOOKUP(Tabla_SERIED_12_5[[#This Row],[IdEstablecimiento]],'[1]Establecimiento 2023'!$A$1:$E$183,3,FALSE),0)","v":"200607-Centro de Salud Familiar Lila Cortés Godoy"},{"$f":"IFERROR(VLOOKUP(Tabla_SERIED_12_5[[#This Row],[IdEstablecimiento]],'[1]Establecimiento 2023'!$A$1:$E$183,5,FALSE),0)","v":"04102-Coquimbo"},"15900010","2022-03-17T10:10:14",158.4,6.4,19.2,132.8]
[{"$nulls":23},2,"5",2022,"200607",{"$f":"IFERROR(VLOOKUP(Tabla_SERIED_12_5[[#This Row],[IdEstablecimiento]],'[1]Establecimiento 2023'!$A$1:$E$183,3,FALSE),0)","v":"200607-Centro de Salud Familiar Lila Cortés Godoy"},{"$f":"IFERROR(VLOOKUP(Tabla_SERIED_12_5[[#This Row],[IdEstablecimiento]],'[1]Establecimiento 2023'!$A$1:$E$183,5,FALSE),0)","v":"04102-Coquimbo"},"15010300","2022-03-17T10:10:14",2,{"$nulls":3},2,0]
[{"$nulls":23},2,"5",2022,"200607",{"$f":"IFERROR(VLOOKUP(Tabla_SERIED_12_5[[#This Row],[IdEstablecimiento]],'[1]Establecimiento 2023'!$A$1:$E$183,3,FALSE),0)","v":"200607-Centro de Salud Familiar Lila Cortés Godoy"},{"$f":"IFERROR(VLOOKUP(Tabla_SERIED_12_5[[#This Row],[IdEstablecimiento]],'[1]Establecimiento 2023'!$A$1:$E$183,5,FALSE),0)","v":"04102-Coquimbo"},"15010400","2022-03-17T10:10:14",2,{"$nulls":4},0,2,0]
[{"$nulls":23},2,"5",2022,"200607",{"$f":"IFERROR(VLOOKUP(Tabla_SERIED_12_5[[#This Row],[IdEstablecimiento]],'[1]Establecimiento 2023'!$A$1:$E$183,3,FALSE),0)","v":"200607-Centro de Salud Familiar Lila Cortés Godoy"},{"$f":"IFERROR(VLOOKUP(Tabla_SERIED_12_5[[#This Row],[IdEstablecimiento]],'[1]Establecimiento 2023'!$A$1:$E$183,5,FALSE),0)","v":"04102-Coquimbo"},"15010500","2022-03-17T10:10:14",4,null,0,0,2,0,2,0]
[{"$nulls":23},2,"5",2022,"200607",{"$f":"IFERROR(VLOOKUP(Tabla_SERIED_12_5[[#This Row],[IdEstablecimiento]],'[1]Establecimiento 2023'!$A$1:$E$183,3,FALSE),0)","v":"200607-Centro de Salud Familiar Lila Cortés Godoy"},{"$f":"IFERROR(VLOOKUP(Tabla_SERIED_12_5[[#This Row],[IdEstablecimiento]],'[1]Establecimiento 2023'!$A$1:$E$183,5,FALSE),0)","v":"04102-Coquimbo"},"15030100","2022-03-17T10:10:14",26.4,18.4,8,0]
[{"$nulls":23},2,"5",2022,"200607",{"$f":"IFERROR(VLOOKUP(Tabla_SERIED_12_5[[#This Row],[IdEstablecimiento]],'[1]Establecimiento 2023'!$A$1:$E$183,3,FALSE),0)","v":"200607-Centro de Salud Familiar Lila Cortés Godoy"},{"$f":"IFERROR(VLOOKUP(Tabla_SERIED_12_5[[#This Row],[IdEstablecimiento]],'[1]Establecimiento 2023'!$A$1:$E$183,5,FALSE),0)","v":"04102-Coquimbo"},"15900030","2022-03-17T10:10:14",3.2,0,0,0,0,3.2]
[{"$nulls":23},2,"5",2022,"200607",{"$f":"IFERROR(VLOOKUP(Tabla_SERIED_12_5[[#This Row],[IdEstablecimiento]],'[1]Establecimiento 2023'!$A$1:$E$183,3,FALSE),0)","v":"200607-Centro de Salud Familiar Lila Cortés Godoy"},{"$f":"IFERROR(VLOOKUP(Tabla_SERIED_12_5[[#This Row],[IdEstablecimiento]],'[1]Establecimiento 2023'!$A$1:$E$183,5,FALSE),0)","v":"04102-Coquimbo"},"15900040","2022-03-17T10:10:14",3.2,0,0,0,0,3.2]
[{"$nulls":23},2,"5",2022,"200607",{"$f":"IFERROR(VLOOKUP(Tabla_SERIED_12_5[[#This Row],[IdEstablecimiento]],'[1]Establecimiento 2023'!$A$1:$E$183,3,FALSE),0)","v":"200607-Centro de Salud Familiar Lila Cortés Godoy"},{"$f":"IFERROR(VLOOKUP(Tabla_SERIED_12_5[[#This Row],[IdEstablecimiento]],'[1]Establecimiento 2023'!$A$1:$E$183,5,FALSE),0)","v":"04102-Coquimbo"},"15050100","2022-03-17T10:10:14",479,163,316,3,6,52,53,44,130,70,80,null,41,0,0]
[{"$nulls":23},2,"5",2022,"200607",{"$f":"IFERROR(VLOOKUP(Tabla_SERIED_12_5[[#This Row],[IdEstablecimiento]],'[1]Establecimiento 2023'!$A$1:$E$183,3,FALSE),0)","v":"200607-Centro de Salud Familiar Lila Cortés Godoy"},{"$f":"IFERROR(VLOOKUP(Tabla_SERIED_12_5[[#This Row],[IdEstablecimiento]],'[1]Establecimiento 2023'!$A$1:$E$183,5,FALSE),0)","v":"04102-Coquimbo"},"15050200","2022-03-17T10:10:14",2,1,1,0,0,0,1,0,1,0,null,0,0,0,0]
[{"$nulls":23},2,"5",2022,"200607",{"$f":"IFERROR(VLOOKUP(Tabla_SERIED_12_5[[#This Row],[IdEstablecimiento]],'[1]Establecimiento 2023'!$A$1:$E$183,3,FALSE),0)","v":"200607-Centro de Salud Familiar Lila Cortés Godoy"},{"$f":"IFERROR(VLOOKUP(Tabla_SERIED_12_5[[#This Row],[IdEstablecimiento]],'[1]Establecimiento 2023'!$A$1:$E$183,5,FALSE),0)","v":"04102-Coquimbo"},"15050500","2022-03-17T10:10:14",7,2,5,5,2,0]
[{"$nulls":23},1,"5",2022,"105301",{"$f":"IFERROR(VLOOKUP(Tabla_SERIED_12_5[[#This Row],[IdEstablecimiento]],'[1]Establecimiento 2023'!$A$1:$E$183,3,FALSE),0)","v":"105301-Centro de Salud Familiar Las Compañías"},{"$f":"IFERROR(VLOOKUP(Tabla_SERIED_12_5[[#This Row],[IdEstablecimiento]],'[1]Establecimiento 2023'!$A$1:$E$183,5,FALSE),0)","v":"04101-La Serena"},"15060100","2022-02-16T10:34:25",18,6,12,0,5,1,2,0,3,6,0,null,0,1,0]
[{"$nulls":23},1,"5",2022,"105301",{"$f":"IFERROR(VLOOKUP(Tabla_SERIED_12_5[[#This Row],[IdEstablecimiento]],'[1]Establecimiento 2023'!$A$1:$E$183,3,FALSE),0)","v":"105301-Centro de Salud Familiar Las Compañías"},{"$f":"IFERROR(VLOOKUP(Tabla_SERIED_12_5[[#This Row],[IdEstablecimiento]],'[1]Establecimiento 2023'!$A$1:$E$183,5,FALSE),0)","v":"04101-La Serena"},"15901400","2022-02-16T10:34:25",2,1,1,0,0,2,0,0]
[{"$nulls":23},5,"5",2022,"105465",{"$f":"IFERROR(VLOOKUP(Tabla_SERIED_12_5[[#This Row],[IdEstablecimiento]],'[1]Establecimiento 2023'!$A$1:$E$183,3,FALSE),0)","v":"105465-Posta de Salud Rural Ramadilla"},{"$f":"IFERROR(VLOOKUP(Tabla_SERIED_12_5[[#This Row],[IdEstablecimiento]],'[1]Establecimiento 2023'!$A$1:$E$183,5,FALSE),0)","v":"04302-Combarbalá"},"15010200","2022-06-20T17:21:16",22,{"$nulls":4},4,14,4]
[{"$nulls":23},5,"5",2022,"105465",{"$f":"IFERROR(VLOOKUP(Tabla_SERIED_12_5[[#This Row],[IdEstablecimiento]],'[1]Establecimiento 2023'!$A$1:$E$183,3,FALSE),0)","v":"105465-Posta de Salud Rural Ramadilla"},{"$f":"IFERROR(VLOOKUP(Tabla_SERIED_12_5[[#This Row],[IdEstablecimiento]],'[1]Establecimiento 2023'!$A$1:$E$183,5,FALSE),0)","v":"04302-Combarbalá"},"15080008","2022-06-20T17:21:16",2,{"$nulls":11},2]
[{"$nulls":23},5,"5",2022,"105465",{"$f":"IFERROR(VLOOKUP(Tabla_SERIED_12_5[[#This Row],[IdEstablecimiento]],'[1]Establecimiento 2023'!$A$1:$E$183,3,FALSE),0)","v":"105465-Posta de Salud Rural Ramadilla"},{"$f":"IFERROR(VLOOKUP(Tabla_SERIED_12_5[[#This Row],[IdEstablecimiento]],'[1]Establecimiento 2023'!$A$1:$E$183,5,FALSE),0)","v":"04302-Combarbalá"},"15050100","2022-06-20T17:21:16",15,7,8,{"$nulls":3},2,2,7,2,{"$nulls":4},2]
[{"$nulls":23},5,"5",2022,"105465",{"$f":"IFERROR(VLOOKUP(Tabla_SERIED_12_5[[#This Row],[IdEstablecimiento]],'[1]Establecimiento 2023'!$A$1:$E$183,3,FALSE),0)","v":"105465-Posta de Salud Rural Ramadilla"},{"$f":"IFERROR(VLOOKUP(Tabla_SERIED_12_5[[#This Row],[IdEstablecimiento]],'[1]Establecimiento 2023'!$A$1:$E$183,5,FALSE),0)","v":"04302-Combarbalá"},"16090300","2022-06-20T17:21:16",80,80]
[{"$nulls":23},5,"5",2022,"105465",{"$f":"IFERROR(VLOOKUP(Tabla_SERIED_12_5[[#This Row],[IdEstablecimiento]],'[1]Establecimiento 2023'!$A$1:$E$183,3,FALSE),0)","v":"105465-Posta de Salud Rural Ramadilla"},{"$f":"IFERROR(VLOOKUP(Tabla_SERIED_12_5[[#This Row],[IdEstablecimiento]],'[1]Establecimiento 2023'!$A$1:$E$183,5,FALSE),0)","v":"04302-Combarbalá"},"16200210","2022-06-20T17:21:16",11,11]
[{"$nulls":23},5,"5",2022,"105465",{"$f":"IFERROR(VLOOKUP(Tabla_SERIED_12_5[[#This Row],[IdEstablecimiento]],'[1]Establecimiento 2023'!$A$1:$E$183,3,FALSE),0)","v":"105465-Posta de Salud Rural Ramadilla"},{"$f":"IFERROR(VLOOKUP(Tabla_SERIED_12_5[[#This Row],[IdEstablecimiento]],'[1]Establecimiento 2023'!$A$1:$E$183,5,FALSE),0)","v":"04302-Combarbalá"},"16100300","2022-06-20T17:21:16",80,36,44,null,6]
[{"$nulls":23},5,"5",2022,"105465",{"$f":"IFERROR(VLOOKUP(Tabla_SERIED_12_5[[#This Row],[IdEstablecimiento]],'[1]Establecimiento 2023'!$A$1:$E$183,3,FALSE),0)","v":"105465-Posta de Salud Rural Ramadilla"},{"$f":"IFERROR(VLOOKUP(Tabla_SERIED_12_5[[#This Row],[IdEstablecimiento]],'[1]Establecimiento 2023'!$A$1:$E$183,5,FALSE),0)","v":"04302-Combarbalá"},"16200220","2022-06-20T17:21:16",11,4,7]
[{"$nulls":23},5,"5",2022,"105466",{"$f":"IFERROR(VLOOKUP(Tabla_SERIED_12_5[[#This Row],[IdEstablecimiento]],'[1]Establecimiento 2023'!$A$1:$E$183,3,FALSE),0)","v":"105466-Posta de Salud Rural Valle Hermoso"},{"$f":"IFERROR(VLOOKUP(Tabla_SERIED_12_5[[#This Row],[IdEstablecimiento]],'[1]Establecimiento 2023'!$A$1:$E$183,5,FALSE),0)","v":"04302-Combarbalá"},"15010100","2022-06-20T17:21:26",2,{"$nulls":3},2]
[{"$nulls":23},7,"5",2022,"105306",{"$f":"IFERROR(VLOOKUP(Tabla_SERIED_12_5[[#This Row],[IdEstablecimiento]],'[1]Establecimiento 2023'!$A$1:$E$183,3,FALSE),0)","v":"105306-Centro de Salud Familiar Paihuano"},{"$f":"IFERROR(VLOOKUP(Tabla_SERIED_12_5[[#This Row],[IdEstablecimiento]],'[1]Establecimiento 2023'!$A$1:$E$183,5,FALSE),0)","v":"04105-Paiguano"},"15080008","2022-08-19T11:59:23",16,{"$nulls":7},11,null,4,null,1]
[{"$nulls":23},7,"5",2022,"105306",{"$f":"IFERROR(VLOOKUP(Tabla_SERIED_12_5[[#This Row],[IdEstablecimiento]],'[1]Establecimiento 2023'!$A$1:$E$183,3,FALSE),0)","v":"105306-Centro de Salud Familiar Paihuano"},{"$f":"IFERROR(VLOOKUP(Tabla_SERIED_12_5[[#This Row],[IdEstablecimiento]],'[1]Establecimiento 2023'!$A$1:$E$183,5,FALSE),0)","v":"04105-Paiguano"},"15900010","2022-08-19T11:59:23",5,null,null,5]
[{"$nulls":23},7,"5",2022,"105306",{"$f":"IFERROR(VLOOKUP(Tabla_SERIED_12_5[[#This Row],[IdEstablecimiento]],'[1]Establecimiento 2023'!$A$1:$E$183,3,FALSE),0)","v":"105306-Centro de Salud Familiar Paihuano"},{"$f":"IFERROR(VLOOKUP(Tabla_SERIED_12_5[[#This Row],[IdEstablecimiento]],'[1]Establecimiento 2023'!$A$1:$E$183,5,FALSE),0)","v":"04105-Paiguano"},"15900020","2022-08-19T11:59:23",4,4]
[{"$nulls":23},7,"5",2022,"105303",{"$f":"IFERROR(VLOOKUP(Tabla_SERIED_12_5[[#This Row],[IdEstablecimiento]],'[1]Establecimiento 2023'!$A$1:$E$183,3,FALSE),0)","v":"105303-Centro de Salud Familiar San Juan"},{"$f":"IFERROR(VLOOKUP(Tabla_SERIED_12_5[[#This Row],[IdEstablecimiento]],'[1]Establecimiento 2023'!$A$1:$E$183,5,FALSE),0)","v":"04102-Coquimbo"},"15050100","2022-08-19T11:58:47",532,224,308,7,23,56,51,53,107,109,74,null,23,21,8]
[{"$nulls":23},7,"5",2022,"105303",{"$f":"IFERROR(VLOOKUP(Tabla_SERIED_12_5[[#This Row],[IdEstablecimiento]],'[1]Establecimiento 2023'!$A$1:$E$183,3,FALSE),0)","v":"105303-Centro de Salud Familiar San Juan"},{"$f":"IFERROR(VLOOKUP(Tabla_SERIED_12_5[[#This Row],[IdEstablecimiento]],'[1]Establecimiento 2023'!$A$1:$E$183,5,FALSE),0)","v":"04102-Coquimbo"},"15050200","2022-08-19T11:58:47",3,0,3,0,0,1,0,0,0,0,null,2,0,0,0]
[{"$nulls":23},7,"5",2022,"105303",{"$f":"IFERROR(VLOOKUP(Tabla_SERIED_12_5[[#This Row],[IdEstablecimiento]],'[1]Establecimiento 2023'!$A$1:$E$183,3,FALSE),0)","v":"105303-Centro de Salud Familiar San Juan"},{"$f":"IFERROR(VLOOKUP(Tabla_SERIED_12_5[[#This Row],[IdEstablecimiento]],'[1]Establecimiento 2023'!$A$1:$E$183,5,FALSE),0)","v":"04102-Coquimbo"},"15900050","2022-08-19T11:58:47",1,0,1,1,0,0,0,0]
[{"$nulls":23},7,"5",2022,"105303",{"$f":"IFERROR(VLOOKUP(Tabla_SERIED_12_5[[#This Row],[IdEstablecimiento]],'[1]Establecimiento 2023'!$A$1:$E$183,3,FALSE),0)","v":"105303-Centro de Salud Familiar San Juan"},{"$f":"IFERROR(VLOOKUP(Tabla_SERIED_12_5[[#This Row],[IdEstablecimiento]],'[1]Establecimiento 2023'!$A$1:$E$183,5,FALSE),0)","v":"04102-Coquimbo"},"15020100","2022-08-19T11:58:47",6,0,0,2,4,0,0,0,0,0,0,0,0]
[{"$nulls":23},7,"5",2022,"105303",{"$f":"IFERROR(VLOOKUP(Tabla_SERIED_12_5[[#This Row],[IdEstablecimiento]],'[1]Establecimiento 2023'!$A$1:$E$183,3,FALSE),0)","v":"105303-Centro de Salud Familiar San Juan"},{"$f":"IFERROR(VLOOKUP(Tabla_SERIED_12_5[[#This Row],[IdEstablecimiento]],'[1]Establecimiento 2023'!$A$1:$E$183,5,FALSE),0)","v":"04102-Coquimbo"},"15020200","2022-08-19T11:58:47",24,{"$nulls":4},0,10,14]
[{"$nulls":23},7,"5",2022,"105303",{"$f":"IFERROR(VLOOKUP(Tabla_SERIED_12_5[[#This Row],[IdEstablecimiento]],'[1]Establecimiento 2023'!$A$1:$E$183,3,FALSE),0)","v":"105303-Centro de Salud Familiar San Juan"},{"$f":"IFERROR(VLOOKUP(Tabla_SERIED_12_5[[#This Row],[IdEstablecimiento]],'[1]Establecimiento 2023'!$A$1:$E$183,5,FALSE),0)","v":"04102-Coquimbo"},"15901200","2022-08-19T11:58:47",14,0,3.6,6,0,4.4,0,0]
[{"$nulls":23},8,"5",2022,"105323",{"$f":"IFERROR(VLOOKUP(Tabla_SERIED_12_5[[#This Row],[IdEstablecimiento]],'[1]Establecimiento 2023'!$A$1:$E$183,3,FALSE),0)","v":"105323-Centro de Salud Familiar Dr. Sergio Aguilar Delgado"},{"$f":"IFERROR(VLOOKUP(Tabla_SERIED_12_5[[#This Row],[IdEstablecimiento]],'[1]Establecimiento 2023'!$A$1:$E$183,5,FALSE),0)","v":"04102-Coquimbo"},"15010500","2022-09-21T07:19:45",26,null,null,6,6,null,12,2]
[{"$nulls":23},8,"5",2022,"105323",{"$f":"IFERROR(VLOOKUP(Tabla_SERIED_12_5[[#This Row],[IdEstablecimiento]],'[1]Establecimiento 2023'!$A$1:$E$183,3,FALSE),0)","v":"105323-Centro de Salud Familiar Dr. Sergio Aguilar Delgado"},{"$f":"IFERROR(VLOOKUP(Tabla_SERIED_12_5[[#This Row],[IdEstablecimiento]],'[1]Establecimiento 2023'!$A$1:$E$183,5,FALSE),0)","v":"04102-Coquimbo"},"15080009","2022-09-21T07:19:45",3,{"$nulls":8},3]
[{"$nulls":23},8,"5",2022,"105323",{"$f":"IFERROR(VLOOKUP(Tabla_SERIED_12_5[[#This Row],[IdEstablecimiento]],'[1]Establecimiento 2023'!$A$1:$E$183,3,FALSE),0)","v":"105323-Centro de Salud Familiar Dr. Sergio Aguilar Delgado"},{"$f":"IFERROR(VLOOKUP(Tabla_SERIED_12_5[[#This Row],[IdEstablecimiento]],'[1]Establecimiento 2023'!$A$1:$E$183,5,FALSE),0)","v":"04102-Coquimbo"},"15900020","2022-09-21T07:19:45",23.4,6.3,9,8.1]
[{"$nulls":23},8,"5",2022,"105323",{"$f":"IFERROR(VLOOKUP(Tabla_SERIED_12_5[[#This Row],[IdEstablecimiento]],'[1]Establecimiento 2023'!$A$1:$E$183,3,FALSE),0)","v":"105323-Centro de Salud Familiar Dr. Sergio Aguilar Delgado"},{"$f":"IFERROR(VLOOKUP(Tabla_SERIED_12_5[[#This Row],[IdEstablecimiento]],'[1]Establecimiento 2023'!$A$1:$E$183,5,FALSE),0)","v":"04102-Coquimbo"},"15030100","2022-09-21T07:19:45",7.2,4,null,3.2]
[{"$nulls":23},8,"5",2022,"105323",{"$f":"IFERROR(VLOOKUP(Tabla_SERIED_12_5[[#This Row],[IdEstablecimiento]],'[1]Establecimiento 2023'!$A$1:$E$183,3,FALSE),0)","v":"105323-Centro de Salud Familiar Dr. Sergio Aguilar Delgado"},{"$f":"IFERROR(VLOOKUP(Tabla_SERIED_12_5[[#This Row],[IdEstablecimiento]],'[1]Establecimiento 2023'!$A$1:$E$183,5,FALSE),0)","v":"04102-Coquimbo"},"15900030","2022-09-21T07:19:45",22,3.2,8.8,3.6,3.2,3.2]
[{"$nulls":23},8,"5",2022,"105323",{"$f":"IFERROR(VLOOKUP(Tabla_SERIED_12_5[[#This Row],[IdEstablecimiento]],'[1]Establecimiento 2023'!$A$1:$E$183,3,FALSE),0)","v":"105323-Centro de Salud Familiar Dr. Sergio Aguilar Delgado"},{"$f":"IFERROR(VLOOKUP(Tabla_SERIED_12_5[[#This Row],[IdEstablecimiento]],'[1]Establecimiento 2023'!$A$1:$E$183,5,FALSE),0)","v":"04102-Coquimbo"},"15050100","2022-09-21T07:19:45",521,206,315,6,8,42,69,47,88,102,82,null,32,13,32]
[{"$nulls":23},8,"5",2022,"105323",{"$f":"IFERROR(VLOOKUP(Tabla_SERIED_12_5[[#This Row],[IdEstablecimiento]],'[1]Establecimiento 2023'!$A$1:$E$183,3,FALSE),0)","v":"105323-Centro de Salud Familiar Dr. Sergio Aguilar Delgado"},{"$f":"IFERROR(VLOOKUP(Tabla_SERIED_12_5[[#This Row],[IdEstablecimiento]],'[1]Establecimiento 2023'!$A$1:$E$183,5,FALSE),0)","v":"04102-Coquimbo"},"15050200","2022-09-21T07:19:45",20,9,11,2,4,3,3,null,6,1,null,1]
[{"$nulls":23},8,"5",2022,"105323",{"$f":"IFERROR(VLOOKUP(Tabla_SERIED_12_5[[#This Row],[IdEstablecimiento]],'[1]Establecimiento 2023'!$A$1:$E$183,3,FALSE),0)","v":"105323-Centro de Salud Familiar Dr. Sergio Aguilar Delgado"},{"$f":"IFERROR(VLOOKUP(Tabla_SERIED_12_5[[#This Row],[IdEstablecimiento]],'[1]Establecimiento 2023'!$A$1:$E$183,5,FALSE),0)","v":"04102-Coquimbo"},"15050500","2022-09-21T07:19:45",2,1,1,1,null,1]
[{"$nulls":23},4,"5",2022,"105402",{"$f":"IFERROR(VLOOKUP(Tabla_SERIED_12_5[[#This Row],[IdEstablecimiento]],'[1]Establecimiento 2023'!$A$1:$E$183,3,FALSE),0)","v":"105402-Posta de Salud Rural El Romero"},{"$f":"IFERROR(VLOOKUP(Tabla_SERIED_12_5[[#This Row],[IdEstablecimiento]],'[1]Establecimiento 2023'!$A$1:$E$183,5,FALSE),0)","v":"04101-La Serena"},"15080008","2022-05-18T11:55:27",17,{"$nulls":7},7,null,10]
[{"$nulls":23},4,"5",2022,"105402",{"$f":"IFERROR(VLOOKUP(Tabla_SERIED_12_5[[#This Row],[IdEstablecimiento]],'[1]Establecimiento 2023'!$A$1:$E$183,3,FALSE),0)","v":"105402-Posta de Salud Rural El Romero"},{"$f":"IFERROR(VLOOKUP(Tabla_SERIED_12_5[[#This Row],[IdEstablecimiento]],'[1]Establecimiento 2023'!$A$1:$E$183,5,FALSE),0)","v":"04101-La Serena"},"15900010","2022-05-18T11:55:27",8.8,null,null,8.8]
[{"$nulls":23},4,"5",2022,"105402",{"$f":"IFERROR(VLOOKUP(Tabla_SERIED_12_5[[#This Row],[IdEstablecimiento]],'[1]Establecimiento 2023'!$A$1:$E$183,3,FALSE),0)","v":"105402-Posta de Salud Rural El Romero"},{"$f":"IFERROR(VLOOKUP(Tabla_SERIED_12_5[[#This Row],[IdEstablecimiento]],'[1]Establecimiento 2023'!$A$1:$E$183,5,FALSE),0)","v":"04101-La Serena"},"15010300","2022-05-18T11:55:27",2,{"$nulls":3},2]
[{"$nulls":23},4,"5",2022,"105402",{"$f":"IFERROR(VLOOKUP(Tabla_SERIED_12_5[[#This Row],[IdEstablecimiento]],'[1]Establecimiento 2023'!$A$1:$E$183,3,FALSE),0)","v":"105402-Posta de Salud Rural El Romero"},{"$f":"IFERROR(VLOOKUP(Tabla_SERIED_12_5[[#This Row],[IdEstablecimiento]],'[1]Establecimiento 2023'!$A$1:$E$183,5,FALSE),0)","v":"04101-La Serena"},"15010500","2022-05-18T11:55:27",2,{"$nulls":3},2]
[{"$nulls":23},4,"5",2022,"105402",{"$f":"IFERROR(VLOOKUP(Tabla_SERIED_12_5[[#This Row],[IdEstablecimiento]],'[1]Establecimiento 2023'!$A$1:$E$183,3,FALSE),0)","v":"105402-Posta de Salud Rural El Romero"},{"$f":"IFERROR(VLOOKUP(Tabla_SERIED_12_5[[#This Row],[IdEstablecimiento]],'[1]Establecimiento 2023'!$A$1:$E$183,5,FALSE),0)","v":"04101-La Serena"},"15900040","2022-05-18T11:55:27",4.4,{"$nulls":3},4.4]
[{"$nulls":23},4,"5",2022,"105402",{"$f":"IFERROR(VLOOKUP(Tabla_SERIED_12_5[[#This Row],[IdEstablecimiento]],'[1]Establecimiento 2023'!$A$1:$E$183,3,FALSE),0)","v":"105402-Posta de Salud Rural El Romero"},{"$f":"IFERROR(VLOOKUP(Tabla_SERIED_12_5[[#This Row],[IdEstablecimiento]],'[1]Establecimiento 2023'!$A$1:$E$183,5,FALSE),0)","v":"04101-La Serena"},"15050100","2022-05-18T11:55:27",34,6,26,null,null,3,5,4,5,5,7,null,5]
[{"$nulls":23},2,"5",2022,"105450",{"$f":"IFERROR(VLOOKUP(Tabla_SERIED_12_5[[#This Row],[IdEstablecimiento]],'[1]Establecimiento 2023'!$A$1:$E$183,3,FALSE),0)","v":"105450-Posta de Salud Rural Mincha Norte"},{"$f":"IFERROR(VLOOKUP(Tabla_SERIED_12_5[[#This Row],[IdEstablecimiento]],'[1]Establecimiento 2023'!$A$1:$E$183,5,FALSE),0)","v":"04202-Canela"},"15050100","2022-03-17T09:44:01",10,6,4,{"$nulls":4},2,7,1]
[{"$nulls":23},2,"5",2022,"105450",{"$f":"IFERROR(VLOOKUP(Tabla_SERIED_12_5[[#This Row],[IdEstablecimiento]],'[1]Establecimiento 2023'!$A$1:$E$183,3,FALSE),0)","v":"105450-Posta de Salud Rural Mincha Norte"},{"$f":"IFERROR(VLOOKUP(Tabla_SERIED_12_5[[#This Row],[IdEstablecimiento]],'[1]Establecimiento 2023'!$A$1:$E$183,5,FALSE),0)","v":"04202-Canela"},"16090300","2022-03-17T09:44:01",207,207]
[{"$nulls":23},8,"5",2022,"105304",{"$f":"IFERROR(VLOOKUP(Tabla_SERIED_12_5[[#This Row],[IdEstablecimiento]],'[1]Establecimiento 2023'!$A$1:$E$183,3,FALSE),0)","v":"105304-Centro de Salud Familiar Santa Cecilia"},{"$f":"IFERROR(VLOOKUP(Tabla_SERIED_12_5[[#This Row],[IdEstablecimiento]],'[1]Establecimiento 2023'!$A$1:$E$183,5,FALSE),0)","v":"04102-Coquimbo"},"16100300","2022-09-21T07:15:45",485,198,287,9,73]
[{"$nulls":23},5,"5",2022,"105492",{"$f":"IFERROR(VLOOKUP(Tabla_SERIED_12_5[[#This Row],[IdEstablecimiento]],'[1]Establecimiento 2023'!$A$1:$E$183,3,FALSE),0)","v":"105492-Posta de Salud Rural Camisa"},{"$f":"IFERROR(VLOOKUP(Tabla_SERIED_12_5[[#This Row],[IdEstablecimiento]],'[1]Establecimiento 2023'!$A$1:$E$183,5,FALSE),0)","v":"04204-Salamanca"},"15010200","2022-06-22T10:51:57",16,{"$nulls":5},8,8]
[{"$nulls":23},5,"5",2022,"105492",{"$f":"IFERROR(VLOOKUP(Tabla_SERIED_12_5[[#This Row],[IdEstablecimiento]],'[1]Establecimiento 2023'!$A$1:$E$183,3,FALSE),0)","v":"105492-Posta de Salud Rural Camisa"},{"$f":"IFERROR(VLOOKUP(Tabla_SERIED_12_5[[#This Row],[IdEstablecimiento]],'[1]Establecimiento 2023'!$A$1:$E$183,5,FALSE),0)","v":"04204-Salamanca"},"15080008","2022-06-22T10:51:57",4,{"$nulls":7},1,null,2,1]
[{"$nulls":23},5,"5",2022,"105492",{"$f":"IFERROR(VLOOKUP(Tabla_SERIED_12_5[[#This Row],[IdEstablecimiento]],'[1]Establecimiento 2023'!$A$1:$E$183,3,FALSE),0)","v":"105492-Posta de Salud Rural Camisa"},{"$f":"IFERROR(VLOOKUP(Tabla_SERIED_12_5[[#This Row],[IdEstablecimiento]],'[1]Establecimiento 2023'!$A$1:$E$183,5,FALSE),0)","v":"04204-Salamanca"},"15900010","2022-06-22T10:51:57",0.8,null,0.8]
[{"$nulls":23},5,"5",2022,"105492",{"$f":"IFERROR(VLOOKUP(Tabla_SERIED_12_5[[#This Row],[IdEstablecimiento]],'[1]Establecimiento 2023'!$A$1:$E$183,3,FALSE),0)","v":"105492-Posta de Salud Rural Camisa"},{"$f":"IFERROR(VLOOKUP(Tabla_SERIED_12_5[[#This Row],[IdEstablecimiento]],'[1]Establecimiento 2023'!$A$1:$E$183,5,FALSE),0)","v":"04204-Salamanca"},"15050100","2022-06-22T10:51:57",14,6,8,null,1,null,2,null,4,4,1,null,1,1]
[{"$nulls":23},7,"5",2022,"105312",{"$f":"IFERROR(VLOOKUP(Tabla_SERIED_12_5[[#This Row],[IdEstablecimiento]],'[1]Establecimiento 2023'!$A$1:$E$183,3,FALSE),0)","v":"105312-Centro de Salud Familiar Carén"},{"$f":"IFERROR(VLOOKUP(Tabla_SERIED_12_5[[#This Row],[IdEstablecimiento]],'[1]Establecimiento 2023'!$A$1:$E$183,5,FALSE),0)","v":"04303-Monte Patria"},"16200210","2022-08-19T12:00:33",5,5]
[{"$nulls":23},8,"5",2022,"105105",{"$f":"IFERROR(VLOOKUP(Tabla_SERIED_12_5[[#This Row],[IdEstablecimiento]],'[1]Establecimiento 2023'!$A$1:$E$183,3,FALSE),0)","v":"105105-Hospital San Juan de Dios (Combarbalá)"},{"$f":"IFERROR(VLOOKUP(Tabla_SERIED_12_5[[#This Row],[IdEstablecimiento]],'[1]Establecimiento 2023'!$A$1:$E$183,5,FALSE),0)","v":"105105-Hospital Combarbalá"},"16200220","2022-09-21T07:13:42",24,5,19,1,8]
[{"$nulls":23},8,"5",2022,"105106",{"$f":"IFERROR(VLOOKUP(Tabla_SERIED_12_5[[#This Row],[IdEstablecimiento]],'[1]Establecimiento 2023'!$A$1:$E$183,3,FALSE),0)","v":"105106-Hospital Dr. José Arraño (Andacollo)"},{"$f":"IFERROR(VLOOKUP(Tabla_SERIED_12_5[[#This Row],[IdEstablecimiento]],'[1]Establecimiento 2023'!$A$1:$E$183,5,FALSE),0)","v":"105106-Hospital Andacollo"},"15010100","2022-09-21T07:13:54",48,{"$nulls":3},48]
[{"$nulls":23},8,"5",2022,"105106",{"$f":"IFERROR(VLOOKUP(Tabla_SERIED_12_5[[#This Row],[IdEstablecimiento]],'[1]Establecimiento 2023'!$A$1:$E$183,3,FALSE),0)","v":"105106-Hospital Dr. José Arraño (Andacollo)"},{"$f":"IFERROR(VLOOKUP(Tabla_SERIED_12_5[[#This Row],[IdEstablecimiento]],'[1]Establecimiento 2023'!$A$1:$E$183,5,FALSE),0)","v":"105106-Hospital Andacollo"},"15010200","2022-09-21T07:13:54",194,{"$nulls":4},30,94,70]
[{"$nulls":23},8,"5",2022,"105106",{"$f":"IFERROR(VLOOKUP(Tabla_SERIED_12_5[[#This Row],[IdEstablecimiento]],'[1]Establecimiento 2023'!$A$1:$E$183,3,FALSE),0)","v":"105106-Hospital Dr. José Arraño (Andacollo)"},{"$f":"IFERROR(VLOOKUP(Tabla_SERIED_12_5[[#This Row],[IdEstablecimiento]],'[1]Establecimiento 2023'!$A$1:$E$183,5,FALSE),0)","v":"105106-Hospital Andacollo"},"15080008","2022-09-21T07:13:54",41,{"$nulls":7},27,null,4,6,4]
[{"$nulls":23},8,"5",2022,"105106",{"$f":"IFERROR(VLOOKUP(Tabla_SERIED_12_5[[#This Row],[IdEstablecimiento]],'[1]Establecimiento 2023'!$A$1:$E$183,3,FALSE),0)","v":"105106-Hospital Dr. José Arraño (Andacollo)"},{"$f":"IFERROR(VLOOKUP(Tabla_SERIED_12_5[[#This Row],[IdEstablecimiento]],'[1]Establecimiento 2023'!$A$1:$E$183,5,FALSE),0)","v":"105106-Hospital Andacollo"},"15900010","2022-09-21T07:13:54",51.3,2.7,23.4,25.2]
[{"$nulls":23},8,"5",2022,"105106",{"$f":"IFERROR(VLOOKUP(Tabla_SERIED_12_5[[#This Row],[IdEstablecimiento]],'[1]Establecimiento 2023'!$A$1:$E$183,3,FALSE),0)","v":"105106-Hospital Dr. José Arraño (Andacollo)"},{"$f":"IFERROR(VLOOKUP(Tabla_SERIED_12_5[[#This Row],[IdEstablecimiento]],'[1]Establecimiento 2023'!$A$1:$E$183,5,FALSE),0)","v":"105106-Hospital Andacollo"},"15010300","2022-09-21T07:13:54",2,{"$nulls":4},2]
[{"$nulls":23},8,"5",2022,"105106",{"$f":"IFERROR(VLOOKUP(Tabla_SERIED_12_5[[#This Row],[IdEstablecimiento]],'[1]Establecimiento 2023'!$A$1:$E$183,3,FALSE),0)","v":"105106-Hospital Dr. José Arraño (Andacollo)"},{"$f":"IFERROR(VLOOKUP(Tabla_SERIED_12_5[[#This Row],[IdEstablecimiento]],'[1]Establecimiento 2023'!$A$1:$E$183,5,FALSE),0)","v":"105106-Hospital Andacollo"},"15010400","2022-09-21T07:13:54",10,{"$nulls":5},6,4]
[{"$nulls":23},8,"5",2022,"105106",{"$f":"IFERROR(VLOOKUP(Tabla_SERIED_12_5[[#This Row],[IdEstablecimiento]],'[1]Establecimiento 2023'!$A$1:$E$183,3,FALSE),0)","v":"105106-Hospital Dr. José Arraño (Andacollo)"},{"$f":"IFERROR(VLOOKUP(Tabla_SERIED_12_5[[#This Row],[IdEstablecimiento]],'[1]Establecimiento 2023'!$A$1:$E$183,5,FALSE),0)","v":"105106-Hospital Andacollo"},"15010500","2022-09-21T07:13:54",12,{"$nulls":4},2,6,4]
[{"$nulls":23},8,"5",2022,"105106",{"$f":"IFERROR(VLOOKUP(Tabla_SERIED_12_5[[#This Row],[IdEstablecimiento]],'[1]Establecimiento 2023'!$A$1:$E$183,3,FALSE),0)","v":"105106-Hospital Dr. José Arraño (Andacollo)"},{"$f":"IFERROR(VLOOKUP(Tabla_SERIED_12_5[[#This Row],[IdEstablecimiento]],'[1]Establecimiento 2023'!$A$1:$E$183,5,FALSE),0)","v":"105106-Hospital Andacollo"},"15900030","2022-09-21T07:13:54",3.6,null,3.6]
[{"$nulls":23},8,"5",2022,"105106",{"$f":"IFERROR(VLOOKUP(Tabla_SERIED_12_5[[#This Row],[IdEstablecimiento]],'[1]Establecimiento 2023'!$A$1:$E$183,3,FALSE),0)","v":"105106-Hospital Dr. José Arraño (Andacollo)"},{"$f":"IFERROR(VLOOKUP(Tabla_SERIED_12_5[[#This Row],[IdEstablecimiento]],'[1]Establecimiento 2023'!$A$1:$E$183,5,FALSE),0)","v":"105106-Hospital Andacollo"},"15050100","2022-09-21T07:13:54",196,79,117,2,6,9,24,15,66,35,27,null,2,6,4]
[{"$nulls":23},8,"5",2022,"105106",{"$f":"IFERROR(VLOOKUP(Tabla_SERIED_12_5[[#This Row],[IdEstablecimiento]],'[1]Establecimiento 2023'!$A$1:$E$183,3,FALSE),0)","v":"105106-Hospital Dr. José Arraño (Andacollo)"},{"$f":"IFERROR(VLOOKUP(Tabla_SERIED_12_5[[#This Row],[IdEstablecimiento]],'[1]Establecimiento 2023'!$A$1:$E$183,5,FALSE),0)","v":"105106-Hospital Andacollo"},"15050200","2022-09-21T07:13:54",6,3,3,{"$nulls":4},1,3,2]
[{"$nulls":23},8,"5",2022,"105106",{"$f":"IFERROR(VLOOKUP(Tabla_SERIED_12_5[[#This Row],[IdEstablecimiento]],'[1]Establecimiento 2023'!$A$1:$E$183,3,FALSE),0)","v":"105106-Hospital Dr. José Arraño (Andacollo)"},{"$f":"IFERROR(VLOOKUP(Tabla_SERIED_12_5[[#This Row],[IdEstablecimiento]],'[1]Establecimiento 2023'!$A$1:$E$183,5,FALSE),0)","v":"105106-Hospital Andacollo"},"15900050","2022-09-21T07:13:54",1,null,1,null,1]
[{"$nulls":23},6,"5",2022,"105481",{"$f":"IFERROR(VLOOKUP(Tabla_SERIED_12_5[[#This Row],[IdEstablecimiento]],'[1]Establecimiento 2023'!$A$1:$E$183,3,FALSE),0)","v":"105481-Posta de Salud Rural Tilama"},{"$f":"IFERROR(VLOOKUP(Tabla_SERIED_12_5[[#This Row],[IdEstablecimiento]],'[1]Establecimiento 2023'!$A$1:$E$183,5,FALSE),0)","v":"04203-Los Vilos"},"16100600","2022-07-14T14:31:43",1,0,1,0,0]
[{"$nulls":23},6,"5",2022,"105482",{"$f":"IFERROR(VLOOKUP(Tabla_SERIED_12_5[[#This Row],[IdEstablecimiento]],'[1]Establecimiento 2023'!$A$1:$E$183,3,FALSE),0)","v":"105482-Posta de Salud Rural Canela Alta"},{"$f":"IFERROR(VLOOKUP(Tabla_SERIED_12_5[[#This Row],[IdEstablecimiento]],'[1]Establecimiento 2023'!$A$1:$E$183,5,FALSE),0)","v":"04202-Canela"},"15010100","2022-07-14T14:31:58",2,{"$nulls":3},2,0]
[{"$nulls":23},6,"5",2022,"105482",{"$f":"IFERROR(VLOOKUP(Tabla_SERIED_12_5[[#This Row],[IdEstablecimiento]],'[1]Establecimiento 2023'!$A$1:$E$183,3,FALSE),0)","v":"105482-Posta de Salud Rural Canela Alta"},{"$f":"IFERROR(VLOOKUP(Tabla_SERIED_12_5[[#This Row],[IdEstablecimiento]],'[1]Establecimiento 2023'!$A$1:$E$183,5,FALSE),0)","v":"04202-Canela"},"15010200","2022-07-14T14:31:58",5,{"$nulls":4},0,4,1]
[{"$nulls":23},6,"5",2022,"105482",{"$f":"IFERROR(VLOOKUP(Tabla_SERIED_12_5[[#This Row],[IdEstablecimiento]],'[1]Establecimiento 2023'!$A$1:$E$183,3,FALSE),0)","v":"105482-Posta de Salud Rural Canela Alta"},{"$f":"IFERROR(VLOOKUP(Tabla_SERIED_12_5[[#This Row],[IdEstablecimiento]],'[1]Establecimiento 2023'!$A$1:$E$183,5,FALSE),0)","v":"04202-Canela"},"15080008","2022-07-14T14:31:58",1,{"$nulls":7},1]
[{"$nulls":23},6,"5",2022,"105482",{"$f":"IFERROR(VLOOKUP(Tabla_SERIED_12_5[[#This Row],[IdEstablecimiento]],'[1]Establecimiento 2023'!$A$1:$E$183,3,FALSE),0)","v":"105482-Posta de Salud Rural Canela Alta"},{"$f":"IFERROR(VLOOKUP(Tabla_SERIED_12_5[[#This Row],[IdEstablecimiento]],'[1]Establecimiento 2023'!$A$1:$E$183,5,FALSE),0)","v":"04202-Canela"},"15050100","2022-07-14T14:31:58",5,2,3,{"$nulls":3},1,0,2,1,1]
[{"$nulls":23},6,"5",2022,"105482",{"$f":"IFERROR(VLOOKUP(Tabla_SERIED_12_5[[#This Row],[IdEstablecimiento]],'[1]Establecimiento 2023'!$A$1:$E$183,3,FALSE),0)","v":"105482-Posta de Salud Rural Canela Alta"},{"$f":"IFERROR(VLOOKUP(Tabla_SERIED_12_5[[#This Row],[IdEstablecimiento]],'[1]Establecimiento 2023'!$A$1:$E$183,5,FALSE),0)","v":"04202-Canela"},"16090300","2022-07-14T14:31:58",91,91]
[{"$nulls":23},6,"5",2022,"105482",{"$f":"IFERROR(VLOOKUP(Tabla_SERIED_12_5[[#This Row],[IdEstablecimiento]],'[1]Establecimiento 2023'!$A$1:$E$183,3,FALSE),0)","v":"105482-Posta de Salud Rural Canela Alta"},{"$f":"IFERROR(VLOOKUP(Tabla_SERIED_12_5[[#This Row],[IdEstablecimiento]],'[1]Establecimiento 2023'!$A$1:$E$183,5,FALSE),0)","v":"04202-Canela"},"16200210","2022-07-14T14:31:58",6,6]
[{"$nulls":23},6,"5",2022,"105482",{"$f":"IFERROR(VLOOKUP(Tabla_SERIED_12_5[[#This Row],[IdEstablecimiento]],'[1]Establecimiento 2023'!$A$1:$E$183,3,FALSE),0)","v":"105482-Posta de Salud Rural Canela Alta"},{"$f":"IFERROR(VLOOKUP(Tabla_SERIED_12_5[[#This Row],[IdEstablecimiento]],'[1]Establecimiento 2023'!$A$1:$E$183,5,FALSE),0)","v":"04202-Canela"},"16100300","2022-07-14T14:31:58",91,45,46,0,9]
[{"$nulls":23},6,"5",2022,"105482",{"$f":"IFERROR(VLOOKUP(Tabla_SERIED_12_5[[#This Row],[IdEstablecimiento]],'[1]Establecimiento 2023'!$A$1:$E$183,3,FALSE),0)","v":"105482-Posta de Salud Rural Canela Alta"},{"$f":"IFERROR(VLOOKUP(Tabla_SERIED_12_5[[#This Row],[IdEstablecimiento]],'[1]Establecimiento 2023'!$A$1:$E$183,5,FALSE),0)","v":"04202-Canela"},"16200220","2022-07-14T14:31:58",6,2,4,0,0]
[{"$nulls":23},2,"5",2022,"105473",{"$f":"IFERROR(VLOOKUP(Tabla_SERIED_12_5[[#This Row],[IdEstablecimiento]],'[1]Establecimiento 2023'!$A$1:$E$183,3,FALSE),0)","v":"105473-Posta de Salud Rural Talcuna"},{"$f":"IFERROR(VLOOKUP(Tabla_SERIED_12_5[[#This Row],[IdEstablecimiento]],'[1]Establecimiento 2023'!$A$1:$E$183,5,FALSE),0)","v":"04106-Vicuña"},"15010200","2022-03-17T09:51:11",42,{"$nulls":4},8,26,8]
[{"$nulls":23},2,"5",2022,"105473",{"$f":"IFERROR(VLOOKUP(Tabla_SERIED_12_5[[#This Row],[IdEstablecimiento]],'[1]Establecimiento 2023'!$A$1:$E$183,3,FALSE),0)","v":"105473-Posta de Salud Rural Talcuna"},{"$f":"IFERROR(VLOOKUP(Tabla_SERIED_12_5[[#This Row],[IdEstablecimiento]],'[1]Establecimiento 2023'!$A$1:$E$183,5,FALSE),0)","v":"04106-Vicuña"},"15080008","2022-03-17T09:51:11",2,{"$nulls":9},2]
[{"$nulls":23},2,"5",2022,"105473",{"$f":"IFERROR(VLOOKUP(Tabla_SERIED_12_5[[#This Row],[IdEstablecimiento]],'[1]Establecimiento 2023'!$A$1:$E$183,3,FALSE),0)","v":"105473-Posta de Salud Rural Talcuna"},{"$f":"IFERROR(VLOOKUP(Tabla_SERIED_12_5[[#This Row],[IdEstablecimiento]],'[1]Establecimiento 2023'!$A$1:$E$183,5,FALSE),0)","v":"04106-Vicuña"},"15050100","2022-03-17T09:51:11",26,12,14,null,null,1,3,4,13,4,null,null,1]
[{"$nulls":23},2,"5",2022,"105473",{"$f":"IFERROR(VLOOKUP(Tabla_SERIED_12_5[[#This Row],[IdEstablecimiento]],'[1]Establecimiento 2023'!$A$1:$E$183,3,FALSE),0)","v":"105473-Posta de Salud Rural Talcuna"},{"$f":"IFERROR(VLOOKUP(Tabla_SERIED_12_5[[#This Row],[IdEstablecimiento]],'[1]Establecimiento 2023'!$A$1:$E$183,5,FALSE),0)","v":"04106-Vicuña"},"16090300","2022-03-17T09:51:11",26,26]
[{"$nulls":23},2,"5",2022,"105473",{"$f":"IFERROR(VLOOKUP(Tabla_SERIED_12_5[[#This Row],[IdEstablecimiento]],'[1]Establecimiento 2023'!$A$1:$E$183,3,FALSE),0)","v":"105473-Posta de Salud Rural Talcuna"},{"$f":"IFERROR(VLOOKUP(Tabla_SERIED_12_5[[#This Row],[IdEstablecimiento]],'[1]Establecimiento 2023'!$A$1:$E$183,5,FALSE),0)","v":"04106-Vicuña"},"16200210","2022-03-17T09:51:11",1,1]
[{"$nulls":23},2,"5",2022,"105475",{"$f":"IFERROR(VLOOKUP(Tabla_SERIED_12_5[[#This Row],[IdEstablecimiento]],'[1]Establecimiento 2023'!$A$1:$E$183,3,FALSE),0)","v":"105475-Posta de Salud Rural Horcón (Paiguano)"},{"$f":"IFERROR(VLOOKUP(Tabla_SERIED_12_5[[#This Row],[IdEstablecimiento]],'[1]Establecimiento 2023'!$A$1:$E$183,5,FALSE),0)","v":"04105-Paiguano"},"16200230","2022-03-17T09:52:01",1,1,null,0,0]
[{"$nulls":23},1,"5",2022,"105303",{"$f":"IFERROR(VLOOKUP(Tabla_SERIED_12_5[[#This Row],[IdEstablecimiento]],'[1]Establecimiento 2023'!$A$1:$E$183,3,FALSE),0)","v":"105303-Centro de Salud Familiar San Juan"},{"$f":"IFERROR(VLOOKUP(Tabla_SERIED_12_5[[#This Row],[IdEstablecimiento]],'[1]Establecimiento 2023'!$A$1:$E$183,5,FALSE),0)","v":"04102-Coquimbo"},"15030200","2022-02-16T10:34:59",4,null,null,4]
[{"$nulls":23},1,"5",2022,"105303",{"$f":"IFERROR(VLOOKUP(Tabla_SERIED_12_5[[#This Row],[IdEstablecimiento]],'[1]Establecimiento 2023'!$A$1:$E$183,3,FALSE),0)","v":"105303-Centro de Salud Familiar San Juan"},{"$f":"IFERROR(VLOOKUP(Tabla_SERIED_12_5[[#This Row],[IdEstablecimiento]],'[1]Establecimiento 2023'!$A$1:$E$183,5,FALSE),0)","v":"04102-Coquimbo"},"15900030","2022-02-16T10:34:59",8,0,0,0,8,0,0,0]
[{"$nulls":23},2,"5",2022,"105479",{"$f":"IFERROR(VLOOKUP(Tabla_SERIED_12_5[[#This Row],[IdEstablecimiento]],'[1]Establecimiento 2023'!$A$1:$E$183,3,FALSE),0)","v":"105479-Posta de Salud Rural Guangualí"},{"$f":"IFERROR(VLOOKUP(Tabla_SERIED_12_5[[#This Row],[IdEstablecimiento]],'[1]Establecimiento 2023'!$A$1:$E$183,5,FALSE),0)","v":"04203-Los Vilos"},"15010200","2022-03-17T09:53:56",16,{"$nulls":5},12,4]
[{"$nulls":23},2,"5",2022,"105479",{"$f":"IFERROR(VLOOKUP(Tabla_SERIED_12_5[[#This Row],[IdEstablecimiento]],'[1]Establecimiento 2023'!$A$1:$E$183,3,FALSE),0)","v":"105479-Posta de Salud Rural Guangualí"},{"$f":"IFERROR(VLOOKUP(Tabla_SERIED_12_5[[#This Row],[IdEstablecimiento]],'[1]Establecimiento 2023'!$A$1:$E$183,5,FALSE),0)","v":"04203-Los Vilos"},"15080008","2022-03-17T09:53:56",4,{"$nulls":7},4]
[{"$nulls":23},2,"5",2022,"105479",{"$f":"IFERROR(VLOOKUP(Tabla_SERIED_12_5[[#This Row],[IdEstablecimiento]],'[1]Establecimiento 2023'!$A$1:$E$183,3,FALSE),0)","v":"105479-Posta de Salud Rural Guangualí"},{"$f":"IFERROR(VLOOKUP(Tabla_SERIED_12_5[[#This Row],[IdEstablecimiento]],'[1]Establecimiento 2023'!$A$1:$E$183,5,FALSE),0)","v":"04203-Los Vilos"},"15050100","2022-03-17T09:53:56",15,7,8,null,null,1,2,null,6,2,4]
[{"$nulls":23},3,"5",2022,"105304",{"$f":"IFERROR(VLOOKUP(Tabla_SERIED_12_5[[#This Row],[IdEstablecimiento]],'[1]Establecimiento 2023'!$A$1:$E$183,3,FALSE),0)","v":"105304-Centro de Salud Familiar Santa Cecilia"},{"$f":"IFERROR(VLOOKUP(Tabla_SERIED_12_5[[#This Row],[IdEstablecimiento]],'[1]Establecimiento 2023'!$A$1:$E$183,5,FALSE),0)","v":"04102-Coquimbo"},"15020200","2022-04-19T08:03:06",14,{"$nulls":4},8,6,0]
[{"$nulls":23},3,"5",2022,"105304",{"$f":"IFERROR(VLOOKUP(Tabla_SERIED_12_5[[#This Row],[IdEstablecimiento]],'[1]Establecimiento 2023'!$A$1:$E$183,3,FALSE),0)","v":"105304-Centro de Salud Familiar Santa Cecilia"},{"$f":"IFERROR(VLOOKUP(Tabla_SERIED_12_5[[#This Row],[IdEstablecimiento]],'[1]Establecimiento 2023'!$A$1:$E$183,5,FALSE),0)","v":"04102-Coquimbo"},"15080010","2022-04-19T08:03:06",1,{"$nulls":7},0,null,0,1,0]
[{"$nulls":23},3,"5",2022,"105304",{"$f":"IFERROR(VLOOKUP(Tabla_SERIED_12_5[[#This Row],[IdEstablecimiento]],'[1]Establecimiento 2023'!$A$1:$E$183,3,FALSE),0)","v":"105304-Centro de Salud Familiar Santa Cecilia"},{"$f":"IFERROR(VLOOKUP(Tabla_SERIED_12_5[[#This Row],[IdEstablecimiento]],'[1]Establecimiento 2023'!$A$1:$E$183,5,FALSE),0)","v":"04102-Coquimbo"},"15901200","2022-04-19T08:03:06",3.2,0,0,0,3.2,0]
[{"$nulls":23},3,"5",2022,"105304",{"$f":"IFERROR(VLOOKUP(Tabla_SERIED_12_5[[#This Row],[IdEstablecimiento]],'[1]Establecimiento 2023'!$A$1:$E$183,3,FALSE),0)","v":"105304-Centro de Salud Familiar Santa Cecilia"},{"$f":"IFERROR(VLOOKUP(Tabla_SERIED_12_5[[#This Row],[IdEstablecimiento]],'[1]Establecimiento 2023'!$A$1:$E$183,5,FALSE),0)","v":"04102-Coquimbo"},"15901300","2022-04-19T08:03:06",1.6,0,0,1.6,0,0]
[{"$nulls":23},3,"5",2022,"105304",{"$f":"IFERROR(VLOOKUP(Tabla_SERIED_12_5[[#This Row],[IdEstablecimiento]],'[1]Establecimiento 2023'!$A$1:$E$183,3,FALSE),0)","v":"105304-Centro de Salud Familiar Santa Cecilia"},{"$f":"IFERROR(VLOOKUP(Tabla_SERIED_12_5[[#This Row],[IdEstablecimiento]],'[1]Establecimiento 2023'!$A$1:$E$183,5,FALSE),0)","v":"04102-Coquimbo"},"15060100","2022-04-19T08:03:06",12,5,7,1,1,0,2,4,3,0,0,null,0,1,0]
[{"$nulls":23},3,"5",2022,"105304",{"$f":"IFERROR(VLOOKUP(Tabla_SERIED_12_5[[#This Row],[IdEstablecimiento]],'[1]Establecimiento 2023'!$A$1:$E$183,3,FALSE),0)","v":"105304-Centro de Salud Familiar Santa Cecilia"},{"$f":"IFERROR(VLOOKUP(Tabla_SERIED_12_5[[#This Row],[IdEstablecimiento]],'[1]Establecimiento 2023'!$A$1:$E$183,5,FALSE),0)","v":"04102-Coquimbo"},"15901400","2022-04-19T08:03:06",2,2,0,0,0,1,1,0]
[{"$nulls":23},3,"5",2022,"105304",{"$f":"IFERROR(VLOOKUP(Tabla_SERIED_12_5[[#This Row],[IdEstablecimiento]],'[1]Establecimiento 2023'!$A$1:$E$183,3,FALSE),0)","v":"105304-Centro de Salud Familiar Santa Cecilia"},{"$f":"IFERROR(VLOOKUP(Tabla_SERIED_12_5[[#This Row],[IdEstablecimiento]],'[1]Establecimiento 2023'!$A$1:$E$183,5,FALSE),0)","v":"04102-Coquimbo"},"16090300","2022-04-19T08:03:06",446,446]
[{"$nulls":23},7,"5",2022,"105451",{"$f":"IFERROR(VLOOKUP(Tabla_SERIED_12_5[[#This Row],[IdEstablecimiento]],'[1]Establecimiento 2023'!$A$1:$E$183,3,FALSE),0)","v":"105451-Posta de Salud Rural Agua Fría"},{"$f":"IFERROR(VLOOKUP(Tabla_SERIED_12_5[[#This Row],[IdEstablecimiento]],'[1]Establecimiento 2023'!$A$1:$E$183,5,FALSE),0)","v":"04202-Canela"},"15050100","2022-08-22T05:58:03",3,{"$nulls":6},2,null,1]
[{"$nulls":23},7,"5",2022,"105451",{"$f":"IFERROR(VLOOKUP(Tabla_SERIED_12_5[[#This Row],[IdEstablecimiento]],'[1]Establecimiento 2023'!$A$1:$E$183,3,FALSE),0)","v":"105451-Posta de Salud Rural Agua Fría"},{"$f":"IFERROR(VLOOKUP(Tabla_SERIED_12_5[[#This Row],[IdEstablecimiento]],'[1]Establecimiento 2023'!$A$1:$E$183,5,FALSE),0)","v":"04202-Canela"},"16090300","2022-08-22T05:58:03",45,45]
[{"$nulls":23},7,"5",2022,"105451",{"$f":"IFERROR(VLOOKUP(Tabla_SERIED_12_5[[#This Row],[IdEstablecimiento]],'[1]Establecimiento 2023'!$A$1:$E$183,3,FALSE),0)","v":"105451-Posta de Salud Rural Agua Fría"},{"$f":"IFERROR(VLOOKUP(Tabla_SERIED_12_5[[#This Row],[IdEstablecimiento]],'[1]Establecimiento 2023'!$A$1:$E$183,5,FALSE),0)","v":"04202-Canela"},"16200210","2022-08-22T05:58:03",3,3]
[{"$nulls":23},7,"5",2022,"105451",{"$f":"IFERROR(VLOOKUP(Tabla_SERIED_12_5[[#This Row],[IdEstablecimiento]],'[1]Establecimiento 2023'!$A$1:$E$183,3,FALSE),0)","v":"105451-Posta de Salud Rural Agua Fría"},{"$f":"IFERROR(VLOOKUP(Tabla_SERIED_12_5[[#This Row],[IdEstablecimiento]],'[1]Establecimiento 2023'!$A$1:$E$183,5,FALSE),0)","v":"04202-Canela"},"16100300","2022-08-22T05:58:03",45,18,27,null,29]
[{"$nulls":23},7,"5",2022,"105451",{"$f":"IFERROR(VLOOKUP(Tabla_SERIED_12_5[[#This Row],[IdEstablecimiento]],'[1]Establecimiento 2023'!$A$1:$E$183,3,FALSE),0)","v":"105451-Posta de Salud Rural Agua Fría"},{"$f":"IFERROR(VLOOKUP(Tabla_SERIED_12_5[[#This Row],[IdEstablecimiento]],'[1]Establecimiento 2023'!$A$1:$E$183,5,FALSE),0)","v":"04202-Canela"},"16200220","2022-08-22T05:58:03",3,2,1,null,3]
[{"$nulls":23},7,"5",2022,"105452",{"$f":"IFERROR(VLOOKUP(Tabla_SERIED_12_5[[#This Row],[IdEstablecimiento]],'[1]Establecimiento 2023'!$A$1:$E$183,3,FALSE),0)","v":"105452-Posta de Salud Rural Cuncumén(Salamanca)"},{"$f":"IFERROR(VLOOKUP(Tabla_SERIED_12_5[[#This Row],[IdEstablecimiento]],'[1]Establecimiento 2023'!$A$1:$E$183,5,FALSE),0)","v":"04204-Salamanca"},"15010100","2022-08-22T05:58:19",7,{"$nulls":3},6,{"$nulls":3},1]
[{"$nulls":23},7,"5",2022,"105452",{"$f":"IFERROR(VLOOKUP(Tabla_SERIED_12_5[[#This Row],[IdEstablecimiento]],'[1]Establecimiento 2023'!$A$1:$E$183,3,FALSE),0)","v":"105452-Posta de Salud Rural Cuncumén(Salamanca)"},{"$f":"IFERROR(VLOOKUP(Tabla_SERIED_12_5[[#This Row],[IdEstablecimiento]],'[1]Establecimiento 2023'!$A$1:$E$183,5,FALSE),0)","v":"04204-Salamanca"},"15010200","2022-08-22T05:58:19",32,{"$nulls":5},16,16]
[{"$nulls":23},8,"5",2022,"105300",{"$f":"IFERROR(VLOOKUP(Tabla_SERIED_12_5[[#This Row],[IdEstablecimiento]],'[1]Establecimiento 2023'!$A$1:$E$183,3,FALSE),0)","v":"105300-Centro de Salud Familiar Cardenal Caro"},{"$f":"IFERROR(VLOOKUP(Tabla_SERIED_12_5[[#This Row],[IdEstablecimiento]],'[1]Establecimiento 2023'!$A$1:$E$183,5,FALSE),0)","v":"04101-La Serena"},"16090300","2022-09-21T07:14:41",894,894]
[{"$nulls":23},8,"5",2022,"105300",{"$f":"IFERROR(VLOOKUP(Tabla_SERIED_12_5[[#This Row],[IdEstablecimiento]],'[1]Establecimiento 2023'!$A$1:$E$183,3,FALSE),0)","v":"105300-Centro de Salud Familiar Cardenal Caro"},{"$f":"IFERROR(VLOOKUP(Tabla_SERIED_12_5[[#This Row],[IdEstablecimiento]],'[1]Establecimiento 2023'!$A$1:$E$183,5,FALSE),0)","v":"04101-La Serena"},"16200210","2022-09-21T07:14:41",17,17]
[{"$nulls":23},8,"5",2022,"105300",{"$f":"IFERROR(VLOOKUP(Tabla_SERIED_12_5[[#This Row],[IdEstablecimiento]],'[1]Establecimiento 2023'!$A$1:$E$183,3,FALSE),0)","v":"105300-Centro de Salud Familiar Cardenal Caro"},{"$f":"IFERROR(VLOOKUP(Tabla_SERIED_12_5[[#This Row],[IdEstablecimiento]],'[1]Establecimiento 2023'!$A$1:$E$183,5,FALSE),0)","v":"04101-La Serena"},"16090100","2022-09-21T07:14:41",3,3]
[{"$nulls":23},8,"5",2022,"105300",{"$f":"IFERROR(VLOOKUP(Tabla_SERIED_12_5[[#This Row],[IdEstablecimiento]],'[1]Establecimiento 2023'!$A$1:$E$183,3,FALSE),0)","v":"105300-Centro de Salud Familiar Cardenal Caro"},{"$f":"IFERROR(VLOOKUP(Tabla_SERIED_12_5[[#This Row],[IdEstablecimiento]],'[1]Establecimiento 2023'!$A$1:$E$183,5,FALSE),0)","v":"04101-La Serena"},"16100300","2022-09-21T07:14:41",894,381,513,10,175]
[{"$nulls":23},8,"5",2022,"105300",{"$f":"IFERROR(VLOOKUP(Tabla_SERIED_12_5[[#This Row],[IdEstablecimiento]],'[1]Establecimiento 2023'!$A$1:$E$183,3,FALSE),0)","v":"105300-Centro de Salud Familiar Cardenal Caro"},{"$f":"IFERROR(VLOOKUP(Tabla_SERIED_12_5[[#This Row],[IdEstablecimiento]],'[1]Establecimiento 2023'!$A$1:$E$183,5,FALSE),0)","v":"04101-La Serena"},"16200220","2022-09-21T07:14:41",17,7,10,null,3]
[{"$nulls":23},8,"5",2022,"105491",{"$f":"IFERROR(VLOOKUP(Tabla_SERIED_12_5[[#This Row],[IdEstablecimiento]],'[1]Establecimiento 2023'!$A$1:$E$183,3,FALSE),0)","v":"105491-Posta de Salud Rural Quelén Bajo"},{"$f":"IFERROR(VLOOKUP(Tabla_SERIED_12_5[[#This Row],[IdEstablecimiento]],'[1]Establecimiento 2023'!$A$1:$E$183,5,FALSE),0)","v":"04204-Salamanca"},"16090300","2022-09-21T07:53:46",125,125]
[{"$nulls":23},8,"5",2022,"105491",{"$f":"IFERROR(VLOOKUP(Tabla_SERIED_12_5[[#This Row],[IdEstablecimiento]],'[1]Establecimiento 2023'!$A$1:$E$183,3,FALSE),0)","v":"105491-Posta de Salud Rural Quelén Bajo"},{"$f":"IFERROR(VLOOKUP(Tabla_SERIED_12_5[[#This Row],[IdEstablecimiento]],'[1]Establecimiento 2023'!$A$1:$E$183,5,FALSE),0)","v":"04204-Salamanca"},"16200210","2022-09-21T07:53:46",7,7]
[{"$nulls":23},8,"5",2022,"105491",{"$f":"IFERROR(VLOOKUP(Tabla_SERIED_12_5[[#This Row],[IdEstablecimiento]],'[1]Establecimiento 2023'!$A$1:$E$183,3,FALSE),0)","v":"105491-Posta de Salud Rural Quelén Bajo"},{"$f":"IFERROR(VLOOKUP(Tabla_SERIED_12_5[[#This Row],[IdEstablecimiento]],'[1]Establecimiento 2023'!$A$1:$E$183,5,FALSE),0)","v":"04204-Salamanca"},"16100300","2022-09-21T07:53:46",125,67,58,1]
[{"$nulls":23},8,"5",2022,"105491",{"$f":"IFERROR(VLOOKUP(Tabla_SERIED_12_5[[#This Row],[IdEstablecimiento]],'[1]Establecimiento 2023'!$A$1:$E$183,3,FALSE),0)","v":"105491-Posta de Salud Rural Quelén Bajo"},{"$f":"IFERROR(VLOOKUP(Tabla_SERIED_12_5[[#This Row],[IdEstablecimiento]],'[1]Establecimiento 2023'!$A$1:$E$183,5,FALSE),0)","v":"04204-Salamanca"},"16200220","2022-09-21T07:53:46",7,4,3]
[{"$nulls":23},8,"5",2022,"105492",{"$f":"IFERROR(VLOOKUP(Tabla_SERIED_12_5[[#This Row],[IdEstablecimiento]],'[1]Establecimiento 2023'!$A$1:$E$183,3,FALSE),0)","v":"105492-Posta de Salud Rural Camisa"},{"$f":"IFERROR(VLOOKUP(Tabla_SERIED_12_5[[#This Row],[IdEstablecimiento]],'[1]Establecimiento 2023'!$A$1:$E$183,5,FALSE),0)","v":"04204-Salamanca"},"15010200","2022-09-21T07:53:58",24,{"$nulls":4},6,12,6]
[{"$nulls":23},8,"5",2022,"105492",{"$f":"IFERROR(VLOOKUP(Tabla_SERIED_12_5[[#This Row],[IdEstablecimiento]],'[1]Establecimiento 2023'!$A$1:$E$183,3,FALSE),0)","v":"105492-Posta de Salud Rural Camisa"},{"$f":"IFERROR(VLOOKUP(Tabla_SERIED_12_5[[#This Row],[IdEstablecimiento]],'[1]Establecimiento 2023'!$A$1:$E$183,5,FALSE),0)","v":"04204-Salamanca"},"15080008","2022-09-21T07:53:58",1,{"$nulls":11},1]
[{"$nulls":23},8,"5",2022,"105492",{"$f":"IFERROR(VLOOKUP(Tabla_SERIED_12_5[[#This Row],[IdEstablecimiento]],'[1]Establecimiento 2023'!$A$1:$E$183,3,FALSE),0)","v":"105492-Posta de Salud Rural Camisa"},{"$f":"IFERROR(VLOOKUP(Tabla_SERIED_12_5[[#This Row],[IdEstablecimiento]],'[1]Establecimiento 2023'!$A$1:$E$183,5,FALSE),0)","v":"04204-Salamanca"},"15900010","2022-09-21T07:53:58",5.4,null,4.5,0.9]
[{"$nulls":23},8,"5",2022,"105492",{"$f":"IFERROR(VLOOKUP(Tabla_SERIED_12_5[[#This Row],[IdEstablecimiento]],'[1]Establecimiento 2023'!$A$1:$E$183,3,FALSE),0)","v":"105492-Posta de Salud Rural Camisa"},{"$f":"IFERROR(VLOOKUP(Tabla_SERIED_12_5[[#This Row],[IdEstablecimiento]],'[1]Establecimiento 2023'!$A$1:$E$183,5,FALSE),0)","v":"04204-Salamanca"},"15050100","2022-09-21T07:53:58",15,10,5,null,1,1,null,3,6,3,{"$nulls":4},1]
[{"$nulls":23},8,"5",2022,"105492",{"$f":"IFERROR(VLOOKUP(Tabla_SERIED_12_5[[#This Row],[IdEstablecimiento]],'[1]Establecimiento 2023'!$A$1:$E$183,3,FALSE),0)","v":"105492-Posta de Salud Rural Camisa"},{"$f":"IFERROR(VLOOKUP(Tabla_SERIED_12_5[[#This Row],[IdEstablecimiento]],'[1]Establecimiento 2023'!$A$1:$E$183,5,FALSE),0)","v":"04204-Salamanca"},"16090300","2022-09-21T07:53:58",48,48]
[{"$nulls":23},8,"5",2022,"105492",{"$f":"IFERROR(VLOOKUP(Tabla_SERIED_12_5[[#This Row],[IdEstablecimiento]],'[1]Establecimiento 2023'!$A$1:$E$183,3,FALSE),0)","v":"105492-Posta de Salud Rural Camisa"},{"$f":"IFERROR(VLOOKUP(Tabla_SERIED_12_5[[#This Row],[IdEstablecimiento]],'[1]Establecimiento 2023'!$A$1:$E$183,5,FALSE),0)","v":"04204-Salamanca"},"16200210","2022-09-21T07:53:58",1,1]
[{"$nulls":23},8,"5",2022,"105492",{"$f":"IFERROR(VLOOKUP(Tabla_SERIED_12_5[[#This Row],[IdEstablecimiento]],'[1]Establecimiento 2023'!$A$1:$E$183,3,FALSE),0)","v":"105492-Posta de Salud Rural Camisa"},{"$f":"IFERROR(VLOOKUP(Tabla_SERIED_12_5[[#This Row],[IdEstablecimiento]],'[1]Establecimiento 2023'!$A$1:$E$183,5,FALSE),0)","v":"04204-Salamanca"},"16100300","2022-09-21T07:53:58",48,25,23]
[{"$nulls":23},8,"5",2022,"105492",{"$f":"IFERROR(VLOOKUP(Tabla_SERIED_12_5[[#This Row],[IdEstablecimiento]],'[1]Establecimiento 2023'!$A$1:$E$183,3,FALSE),0)","v":"105492-Posta de Salud Rural Camisa"},{"$f":"IFERROR(VLOOKUP(Tabla_SERIED_12_5[[#This Row],[IdEstablecimiento]],'[1]Establecimiento 2023'!$A$1:$E$183,5,FALSE),0)","v":"04204-Salamanca"},"16200220","2022-09-21T07:53:58",1,1]
[{"$nulls":23},4,"5",2022,"105504",{"$f":"IFERROR(VLOOKUP(Tabla_SERIED_12_5[[#This Row],[IdEstablecimiento]],'[1]Establecimiento 2023'!$A$1:$E$183,3,FALSE),0)","v":"105504-Posta de Salud Rural Socavón"},{"$f":"IFERROR(VLOOKUP(Tabla_SERIED_12_5[[#This Row],[IdEstablecimiento]],'[1]Establecimiento 2023'!$A$1:$E$183,5,FALSE),0)","v":"04201-Illapel"},"16200210","2022-05-18T15:20:51",6,6]
[{"$nulls":23},5,"5",2022,"105323",{"$f":"IFERROR(VLOOKUP(Tabla_SERIED_12_5[[#This Row],[IdEstablecimiento]],'[1]Establecimiento 2023'!$A$1:$E$183,3,FALSE),0)","v":"105323-Centro de Salud Familiar Dr. Sergio Aguilar Delgado"},{"$f":"IFERROR(VLOOKUP(Tabla_SERIED_12_5[[#This Row],[IdEstablecimiento]],'[1]Establecimiento 2023'!$A$1:$E$183,5,FALSE),0)","v":"04102-Coquimbo"},"15010100","2022-06-20T17:05:15",110,{"$nulls":3},104,6]
[{"$nulls":23},5,"5",2022,"105323",{"$f":"IFERROR(VLOOKUP(Tabla_SERIED_12_5[[#This Row],[IdEstablecimiento]],'[1]Establecimiento 2023'!$A$1:$E$183,3,FALSE),0)","v":"105323-Centro de Salud Familiar Dr. Sergio Aguilar Delgado"},{"$f":"IFERROR(VLOOKUP(Tabla_SERIED_12_5[[#This Row],[IdEstablecimiento]],'[1]Establecimiento 2023'!$A$1:$E$183,5,FALSE),0)","v":"04102-Coquimbo"},"15010200","2022-06-20T17:05:15",478,{"$nulls":4},92,214,172]
[{"$nulls":23},5,"5",2022,"105323",{"$f":"IFERROR(VLOOKUP(Tabla_SERIED_12_5[[#This Row],[IdEstablecimiento]],'[1]Establecimiento 2023'!$A$1:$E$183,3,FALSE),0)","v":"105323-Centro de Salud Familiar Dr. Sergio Aguilar Delgado"},{"$f":"IFERROR(VLOOKUP(Tabla_SERIED_12_5[[#This Row],[IdEstablecimiento]],'[1]Establecimiento 2023'!$A$1:$E$183,5,FALSE),0)","v":"04102-Coquimbo"},"15080008","2022-06-20T17:05:15",153,{"$nulls":7},90,null,30,8,25]
[{"$nulls":23},5,"5",2022,"105323",{"$f":"IFERROR(VLOOKUP(Tabla_SERIED_12_5[[#This Row],[IdEstablecimiento]],'[1]Establecimiento 2023'!$A$1:$E$183,3,FALSE),0)","v":"105323-Centro de Salud Familiar Dr. Sergio Aguilar Delgado"},{"$f":"IFERROR(VLOOKUP(Tabla_SERIED_12_5[[#This Row],[IdEstablecimiento]],'[1]Establecimiento 2023'!$A$1:$E$183,5,FALSE),0)","v":"04102-Coquimbo"},"15900010","2022-06-20T17:05:15",162.4,12.8,24.8,124.8]
[{"$nulls":23},5,"5",2022,"105323",{"$f":"IFERROR(VLOOKUP(Tabla_SERIED_12_5[[#This Row],[IdEstablecimiento]],'[1]Establecimiento 2023'!$A$1:$E$183,3,FALSE),0)","v":"105323-Centro de Salud Familiar Dr. Sergio Aguilar Delgado"},{"$f":"IFERROR(VLOOKUP(Tabla_SERIED_12_5[[#This Row],[IdEstablecimiento]],'[1]Establecimiento 2023'!$A$1:$E$183,5,FALSE),0)","v":"04102-Coquimbo"},"15010300","2022-06-20T17:05:15",2,{"$nulls":4},2]
[{"$nulls":23},5,"5",2022,"105323",{"$f":"IFERROR(VLOOKUP(Tabla_SERIED_12_5[[#This Row],[IdEstablecimiento]],'[1]Establecimiento 2023'!$A$1:$E$183,3,FALSE),0)","v":"105323-Centro de Salud Familiar Dr. Sergio Aguilar Delgado"},{"$f":"IFERROR(VLOOKUP(Tabla_SERIED_12_5[[#This Row],[IdEstablecimiento]],'[1]Establecimiento 2023'!$A$1:$E$183,5,FALSE),0)","v":"04102-Coquimbo"},"15010400","2022-06-20T17:05:15",26,{"$nulls":4},6,14,6]
[{"$nulls":23},5,"5",2022,"105323",{"$f":"IFERROR(VLOOKUP(Tabla_SERIED_12_5[[#This Row],[IdEstablecimiento]],'[1]Establecimiento 2023'!$A$1:$E$183,3,FALSE),0)","v":"105323-Centro de Salud Familiar Dr. Sergio Aguilar Delgado"},{"$f":"IFERROR(VLOOKUP(Tabla_SERIED_12_5[[#This Row],[IdEstablecimiento]],'[1]Establecimiento 2023'!$A$1:$E$183,5,FALSE),0)","v":"04102-Coquimbo"},"15010500","2022-06-20T17:05:15",45,null,1,16,null,8,14,6]
[{"$nulls":23},5,"5",2022,"105323",{"$f":"IFERROR(VLOOKUP(Tabla_SERIED_12_5[[#This Row],[IdEstablecimiento]],'[1]Establecimiento 2023'!$A$1:$E$183,3,FALSE),0)","v":"105323-Centro de Salud Familiar Dr. Sergio Aguilar Delgado"},{"$f":"IFERROR(VLOOKUP(Tabla_SERIED_12_5[[#This Row],[IdEstablecimiento]],'[1]Establecimiento 2023'!$A$1:$E$183,5,FALSE),0)","v":"04102-Coquimbo"},"15900020","2022-06-20T17:05:15",30.4,4,4,22.4]
[{"$nulls":23},5,"5",2022,"105323",{"$f":"IFERROR(VLOOKUP(Tabla_SERIED_12_5[[#This Row],[IdEstablecimiento]],'[1]Establecimiento 2023'!$A$1:$E$183,3,FALSE),0)","v":"105323-Centro de Salud Familiar Dr. Sergio Aguilar Delgado"},{"$f":"IFERROR(VLOOKUP(Tabla_SERIED_12_5[[#This Row],[IdEstablecimiento]],'[1]Establecimiento 2023'!$A$1:$E$183,5,FALSE),0)","v":"04102-Coquimbo"},"15030100","2022-06-20T17:05:15",7.2,null,4,3.2]
[{"$nulls":23},5,"5",2022,"105323",{"$f":"IFERROR(VLOOKUP(Tabla_SERIED_12_5[[#This Row],[IdEstablecimiento]],'[1]Establecimiento 2023'!$A$1:$E$183,3,FALSE),0)","v":"105323-Centro de Salud Familiar Dr. Sergio Aguilar Delgado"},{"$f":"IFERROR(VLOOKUP(Tabla_SERIED_12_5[[#This Row],[IdEstablecimiento]],'[1]Establecimiento 2023'!$A$1:$E$183,5,FALSE),0)","v":"04102-Coquimbo"},"15080012","2022-06-20T17:05:15",2,null,null,2]
[{"$nulls":23},5,"5",2022,"105323",{"$f":"IFERROR(VLOOKUP(Tabla_SERIED_12_5[[#This Row],[IdEstablecimiento]],'[1]Establecimiento 2023'!$A$1:$E$183,3,FALSE),0)","v":"105323-Centro de Salud Familiar Dr. Sergio Aguilar Delgado"},{"$f":"IFERROR(VLOOKUP(Tabla_SERIED_12_5[[#This Row],[IdEstablecimiento]],'[1]Establecimiento 2023'!$A$1:$E$183,5,FALSE),0)","v":"04102-Coquimbo"},"15900030","2022-06-20T17:05:15",10,null,null,4,6]
[{"$nulls":23},5,"5",2022,"105323",{"$f":"IFERROR(VLOOKUP(Tabla_SERIED_12_5[[#This Row],[IdEstablecimiento]],'[1]Establecimiento 2023'!$A$1:$E$183,3,FALSE),0)","v":"105323-Centro de Salud Familiar Dr. Sergio Aguilar Delgado"},{"$f":"IFERROR(VLOOKUP(Tabla_SERIED_12_5[[#This Row],[IdEstablecimiento]],'[1]Establecimiento 2023'!$A$1:$E$183,5,FALSE),0)","v":"04102-Coquimbo"},"15050100","2022-06-20T17:05:15",489,176,313,5,8,43,52,49,107,87,90,null,15,8,25]
[{"$nulls":23},5,"5",2022,"105323",{"$f":"IFERROR(VLOOKUP(Tabla_SERIED_12_5[[#This Row],[IdEstablecimiento]],'[1]Establecimiento 2023'!$A$1:$E$183,3,FALSE),0)","v":"105323-Centro de Salud Familiar Dr. Sergio Aguilar Delgado"},{"$f":"IFERROR(VLOOKUP(Tabla_SERIED_12_5[[#This Row],[IdEstablecimiento]],'[1]Establecimiento 2023'!$A$1:$E$183,5,FALSE),0)","v":"04102-Coquimbo"},"15050200","2022-06-20T17:05:15",24,15,9,1,1,8,null,4,7,3]
[{"$nulls":23},5,"5",2022,"105323",{"$f":"IFERROR(VLOOKUP(Tabla_SERIED_12_5[[#This Row],[IdEstablecimiento]],'[1]Establecimiento 2023'!$A$1:$E$183,3,FALSE),0)","v":"105323-Centro de Salud Familiar Dr. Sergio Aguilar Delgado"},{"$f":"IFERROR(VLOOKUP(Tabla_SERIED_12_5[[#This Row],[IdEstablecimiento]],'[1]Establecimiento 2023'!$A$1:$E$183,5,FALSE),0)","v":"04102-Coquimbo"},"15050500","2022-06-20T17:05:15",2,null,2,null,1,1]
[{"$nulls":23},5,"5",2022,"105323",{"$f":"IFERROR(VLOOKUP(Tabla_SERIED_12_5[[#This Row],[IdEstablecimiento]],'[1]Establecimiento 2023'!$A$1:$E$183,3,FALSE),0)","v":"105323-Centro de Salud Familiar Dr. Sergio Aguilar Delgado"},{"$f":"IFERROR(VLOOKUP(Tabla_SERIED_12_5[[#This Row],[IdEstablecimiento]],'[1]Establecimiento 2023'!$A$1:$E$183,5,FALSE),0)","v":"04102-Coquimbo"},"15900050","2022-06-20T17:05:15",3,2,1,null,null,1,2]
[{"$nulls":23},5,"5",2022,"105323",{"$f":"IFERROR(VLOOKUP(Tabla_SERIED_12_5[[#This Row],[IdEstablecimiento]],'[1]Establecimiento 2023'!$A$1:$E$183,3,FALSE),0)","v":"105323-Centro de Salud Familiar Dr. Sergio Aguilar Delgado"},{"$f":"IFERROR(VLOOKUP(Tabla_SERIED_12_5[[#This Row],[IdEstablecimiento]],'[1]Establecimiento 2023'!$A$1:$E$183,5,FALSE),0)","v":"04102-Coquimbo"},"15020100","2022-06-20T17:05:15",18,null,2,null,16]
[{"$nulls":23},8,"5",2022,"105307",{"$f":"IFERROR(VLOOKUP(Tabla_SERIED_12_5[[#This Row],[IdEstablecimiento]],'[1]Establecimiento 2023'!$A$1:$E$183,3,FALSE),0)","v":"105307-Centro de Salud Familiar Monte Patria"},{"$f":"IFERROR(VLOOKUP(Tabla_SERIED_12_5[[#This Row],[IdEstablecimiento]],'[1]Establecimiento 2023'!$A$1:$E$183,5,FALSE),0)","v":"04303-Monte Patria"},"15900020","2022-09-21T07:16:26",3.6,null,null,3.6]
[{"$nulls":23},8,"5",2022,"105307",{"$f":"IFERROR(VLOOKUP(Tabla_SERIED_12_5[[#This Row],[IdEstablecimiento]],'[1]Establecimiento 2023'!$A$1:$E$183,3,FALSE),0)","v":"105307-Centro de Salud Familiar Monte Patria"},{"$f":"IFERROR(VLOOKUP(Tabla_SERIED_12_5[[#This Row],[IdEstablecimiento]],'[1]Establecimiento 2023'!$A$1:$E$183,5,FALSE),0)","v":"04303-Monte Patria"},"15030100","2022-09-21T07:16:26",6.4,2.4,4]
[{"$nulls":23},8,"5",2022,"105307",{"$f":"IFERROR(VLOOKUP(Tabla_SERIED_12_5[[#This Row],[IdEstablecimiento]],'[1]Establecimiento 2023'!$A$1:$E$183,3,FALSE),0)","v":"105307-Centro de Salud Familiar Monte Patria"},{"$f":"IFERROR(VLOOKUP(Tabla_SERIED_12_5[[#This Row],[IdEstablecimiento]],'[1]Establecimiento 2023'!$A$1:$E$183,5,FALSE),0)","v":"04303-Monte Patria"},"15900040","2022-09-21T07:16:26",3.2,{"$nulls":3},3.2]
[{"$nulls":23},8,"5",2022,"105307",{"$f":"IFERROR(VLOOKUP(Tabla_SERIED_12_5[[#This Row],[IdEstablecimiento]],'[1]Establecimiento 2023'!$A$1:$E$183,3,FALSE),0)","v":"105307-Centro de Salud Familiar Monte Patria"},{"$f":"IFERROR(VLOOKUP(Tabla_SERIED_12_5[[#This Row],[IdEstablecimiento]],'[1]Establecimiento 2023'!$A$1:$E$183,5,FALSE),0)","v":"04303-Monte Patria"},"15050100","2022-09-21T07:16:26",266,89,177,{"$nulls":3},26,28,68,59,37,null,20,6,22]
[{"$nulls":23},8,"5",2022,"105307",{"$f":"IFERROR(VLOOKUP(Tabla_SERIED_12_5[[#This Row],[IdEstablecimiento]],'[1]Establecimiento 2023'!$A$1:$E$183,3,FALSE),0)","v":"105307-Centro de Salud Familiar Monte Patria"},{"$f":"IFERROR(VLOOKUP(Tabla_SERIED_12_5[[#This Row],[IdEstablecimiento]],'[1]Establecimiento 2023'!$A$1:$E$183,5,FALSE),0)","v":"04303-Monte Patria"},"15050200","2022-09-21T07:16:26",10,2,8,null,2,1,1,4,{"$nulls":3},2]
[{"$nulls":23},8,"5",2022,"105307",{"$f":"IFERROR(VLOOKUP(Tabla_SERIED_12_5[[#This Row],[IdEstablecimiento]],'[1]Establecimiento 2023'!$A$1:$E$183,3,FALSE),0)","v":"105307-Centro de Salud Familiar Monte Patria"},{"$f":"IFERROR(VLOOKUP(Tabla_SERIED_12_5[[#This Row],[IdEstablecimiento]],'[1]Establecimiento 2023'!$A$1:$E$183,5,FALSE),0)","v":"04303-Monte Patria"},"15050500","2022-09-21T07:16:26",2,1,1,1,1]
[{"$nulls":23},8,"5",2022,"105307",{"$f":"IFERROR(VLOOKUP(Tabla_SERIED_12_5[[#This Row],[IdEstablecimiento]],'[1]Establecimiento 2023'!$A$1:$E$183,3,FALSE),0)","v":"105307-Centro de Salud Familiar Monte Patria"},{"$f":"IFERROR(VLOOKUP(Tabla_SERIED_12_5[[#This Row],[IdEstablecimiento]],'[1]Establecimiento 2023'!$A$1:$E$183,5,FALSE),0)","v":"04303-Monte Patria"},"15900050","2022-09-21T07:16:26",1,1,0,{"$nulls":3},1]
[{"$nulls":23},8,"5",2022,"105307",{"$f":"IFERROR(VLOOKUP(Tabla_SERIED_12_5[[#This Row],[IdEstablecimiento]],'[1]Establecimiento 2023'!$A$1:$E$183,3,FALSE),0)","v":"105307-Centro de Salud Familiar Monte Patria"},{"$f":"IFERROR(VLOOKUP(Tabla_SERIED_12_5[[#This Row],[IdEstablecimiento]],'[1]Establecimiento 2023'!$A$1:$E$183,5,FALSE),0)","v":"04303-Monte Patria"},"15020200","2022-09-21T07:16:26",4,{"$nulls":4},2,2]
[{"$nulls":23},8,"5",2022,"105307",{"$f":"IFERROR(VLOOKUP(Tabla_SERIED_12_5[[#This Row],[IdEstablecimiento]],'[1]Establecimiento 2023'!$A$1:$E$183,3,FALSE),0)","v":"105307-Centro de Salud Familiar Monte Patria"},{"$f":"IFERROR(VLOOKUP(Tabla_SERIED_12_5[[#This Row],[IdEstablecimiento]],'[1]Establecimiento 2023'!$A$1:$E$183,5,FALSE),0)","v":"04303-Monte Patria"},"15060100","2022-09-21T07:16:26",2,1,1,{"$nulls":4},1,1]
[{"$nulls":23},8,"5",2022,"105307",{"$f":"IFERROR(VLOOKUP(Tabla_SERIED_12_5[[#This Row],[IdEstablecimiento]],'[1]Establecimiento 2023'!$A$1:$E$183,3,FALSE),0)","v":"105307-Centro de Salud Familiar Monte Patria"},{"$f":"IFERROR(VLOOKUP(Tabla_SERIED_12_5[[#This Row],[IdEstablecimiento]],'[1]Establecimiento 2023'!$A$1:$E$183,5,FALSE),0)","v":"04303-Monte Patria"},"16090300","2022-09-21T07:16:26",286,286]
[{"$nulls":23},8,"5",2022,"105307",{"$f":"IFERROR(VLOOKUP(Tabla_SERIED_12_5[[#This Row],[IdEstablecimiento]],'[1]Establecimiento 2023'!$A$1:$E$183,3,FALSE),0)","v":"105307-Centro de Salud Familiar Monte Patria"},{"$f":"IFERROR(VLOOKUP(Tabla_SERIED_12_5[[#This Row],[IdEstablecimiento]],'[1]Establecimiento 2023'!$A$1:$E$183,5,FALSE),0)","v":"04303-Monte Patria"},"16200210","2022-09-21T07:16:26",19,18]
[{"$nulls":23},8,"5",2022,"105307",{"$f":"IFERROR(VLOOKUP(Tabla_SERIED_12_5[[#This Row],[IdEstablecimiento]],'[1]Establecimiento 2023'!$A$1:$E$183,3,FALSE),0)","v":"105307-Centro de Salud Familiar Monte Patria"},{"$f":"IFERROR(VLOOKUP(Tabla_SERIED_12_5[[#This Row],[IdEstablecimiento]],'[1]Establecimiento 2023'!$A$1:$E$183,5,FALSE),0)","v":"04303-Monte Patria"},"16100300","2022-09-21T07:16:26",286,101,185,2]
[{"$nulls":23},8,"5",2022,"105307",{"$f":"IFERROR(VLOOKUP(Tabla_SERIED_12_5[[#This Row],[IdEstablecimiento]],'[1]Establecimiento 2023'!$A$1:$E$183,3,FALSE),0)","v":"105307-Centro de Salud Familiar Monte Patria"},{"$f":"IFERROR(VLOOKUP(Tabla_SERIED_12_5[[#This Row],[IdEstablecimiento]],'[1]Establecimiento 2023'!$A$1:$E$183,5,FALSE),0)","v":"04303-Monte Patria"},"16200220","2022-09-21T07:16:26",18,5,13]
[{"$nulls":23},8,"5",2022,"105308",{"$f":"IFERROR(VLOOKUP(Tabla_SERIED_12_5[[#This Row],[IdEstablecimiento]],'[1]Establecimiento 2023'!$A$1:$E$183,3,FALSE),0)","v":"105308-Centro de Salud Familiar Punitaqui"},{"$f":"IFERROR(VLOOKUP(Tabla_SERIED_12_5[[#This Row],[IdEstablecimiento]],'[1]Establecimiento 2023'!$A$1:$E$183,5,FALSE),0)","v":"04304-Punitaqui"},"15010100","2022-09-21T07:16:40",84,{"$nulls":3},84]
[{"$nulls":23},8,"5",2022,"105416",{"$f":"IFERROR(VLOOKUP(Tabla_SERIED_12_5[[#This Row],[IdEstablecimiento]],'[1]Establecimiento 2023'!$A$1:$E$183,3,FALSE),0)","v":"105416-Posta de Salud Rural Camarico (Ovalle)"},{"$f":"IFERROR(VLOOKUP(Tabla_SERIED_12_5[[#This Row],[IdEstablecimiento]],'[1]Establecimiento 2023'!$A$1:$E$183,5,FALSE),0)","v":"04301-Ovalle"},"15010500","2022-09-21T07:34:14",2,{"$nulls":5},2]
[{"$nulls":23},8,"5",2022,"105416",{"$f":"IFERROR(VLOOKUP(Tabla_SERIED_12_5[[#This Row],[IdEstablecimiento]],'[1]Establecimiento 2023'!$A$1:$E$183,3,FALSE),0)","v":"105416-Posta de Salud Rural Camarico (Ovalle)"},{"$f":"IFERROR(VLOOKUP(Tabla_SERIED_12_5[[#This Row],[IdEstablecimiento]],'[1]Establecimiento 2023'!$A$1:$E$183,5,FALSE),0)","v":"04301-Ovalle"},"15050100","2022-09-21T07:34:14",33,7,26,{"$nulls":3},2,3,8,14,3,null,1,null,2]
[{"$nulls":23},8,"5",2022,"105416",{"$f":"IFERROR(VLOOKUP(Tabla_SERIED_12_5[[#This Row],[IdEstablecimiento]],'[1]Establecimiento 2023'!$A$1:$E$183,3,FALSE),0)","v":"105416-Posta de Salud Rural Camarico (Ovalle)"},{"$f":"IFERROR(VLOOKUP(Tabla_SERIED_12_5[[#This Row],[IdEstablecimiento]],'[1]Establecimiento 2023'!$A$1:$E$183,5,FALSE),0)","v":"04301-Ovalle"},"15050200","2022-09-21T07:34:14",1,1,0,{"$nulls":5},1]
[{"$nulls":23},7,"5",2022,"105462",{"$f":"IFERROR(VLOOKUP(Tabla_SERIED_12_5[[#This Row],[IdEstablecimiento]],'[1]Establecimiento 2023'!$A$1:$E$183,3,FALSE),0)","v":"105462-Posta de Salud Rural El Sauce (Combarbalá)"},{"$f":"IFERROR(VLOOKUP(Tabla_SERIED_12_5[[#This Row],[IdEstablecimiento]],'[1]Establecimiento 2023'!$A$1:$E$183,5,FALSE),0)","v":"04302-Combarbalá"},"15080008","2022-08-22T06:22:31",3,{"$nulls":7},1,null,2]
[{"$nulls":23},7,"5",2022,"105462",{"$f":"IFERROR(VLOOKUP(Tabla_SERIED_12_5[[#This Row],[IdEstablecimiento]],'[1]Establecimiento 2023'!$A$1:$E$183,3,FALSE),0)","v":"105462-Posta de Salud Rural El Sauce (Combarbalá)"},{"$f":"IFERROR(VLOOKUP(Tabla_SERIED_12_5[[#This Row],[IdEstablecimiento]],'[1]Establecimiento 2023'!$A$1:$E$183,5,FALSE),0)","v":"04302-Combarbalá"},"15900030","2022-08-22T06:22:31",4.4,{"$nulls":3},4.4]
[{"$nulls":23},7,"5",2022,"105462",{"$f":"IFERROR(VLOOKUP(Tabla_SERIED_12_5[[#This Row],[IdEstablecimiento]],'[1]Establecimiento 2023'!$A$1:$E$183,3,FALSE),0)","v":"105462-Posta de Salud Rural El Sauce (Combarbalá)"},{"$f":"IFERROR(VLOOKUP(Tabla_SERIED_12_5[[#This Row],[IdEstablecimiento]],'[1]Establecimiento 2023'!$A$1:$E$183,5,FALSE),0)","v":"04302-Combarbalá"},"15050100","2022-08-22T06:22:31",12,2,10,{"$nulls":4},1,6,3,1,null,1]
[{"$nulls":23},7,"5",2022,"105462",{"$f":"IFERROR(VLOOKUP(Tabla_SERIED_12_5[[#This Row],[IdEstablecimiento]],'[1]Establecimiento 2023'!$A$1:$E$183,3,FALSE),0)","v":"105462-Posta de Salud Rural El Sauce (Combarbalá)"},{"$f":"IFERROR(VLOOKUP(Tabla_SERIED_12_5[[#This Row],[IdEstablecimiento]],'[1]Establecimiento 2023'!$A$1:$E$183,5,FALSE),0)","v":"04302-Combarbalá"},"15900050","2022-08-22T06:22:31",1,null,1,{"$nulls":3},1]
[{"$nulls":23},7,"5",2022,"105462",{"$f":"IFERROR(VLOOKUP(Tabla_SERIED_12_5[[#This Row],[IdEstablecimiento]],'[1]Establecimiento 2023'!$A$1:$E$183,3,FALSE),0)","v":"105462-Posta de Salud Rural El Sauce (Combarbalá)"},{"$f":"IFERROR(VLOOKUP(Tabla_SERIED_12_5[[#This Row],[IdEstablecimiento]],'[1]Establecimiento 2023'!$A$1:$E$183,5,FALSE),0)","v":"04302-Combarbalá"},"16090300","2022-08-22T06:22:31",72,72]
[{"$nulls":23},7,"5",2022,"105462",{"$f":"IFERROR(VLOOKUP(Tabla_SERIED_12_5[[#This Row],[IdEstablecimiento]],'[1]Establecimiento 2023'!$A$1:$E$183,3,FALSE),0)","v":"105462-Posta de Salud Rural El Sauce (Combarbalá)"},{"$f":"IFERROR(VLOOKUP(Tabla_SERIED_12_5[[#This Row],[IdEstablecimiento]],'[1]Establecimiento 2023'!$A$1:$E$183,5,FALSE),0)","v":"04302-Combarbalá"},"16200210","2022-08-22T06:22:31",8,8]
[{"$nulls":23},7,"5",2022,"105462",{"$f":"IFERROR(VLOOKUP(Tabla_SERIED_12_5[[#This Row],[IdEstablecimiento]],'[1]Establecimiento 2023'!$A$1:$E$183,3,FALSE),0)","v":"105462-Posta de Salud Rural El Sauce (Combarbalá)"},{"$f":"IFERROR(VLOOKUP(Tabla_SERIED_12_5[[#This Row],[IdEstablecimiento]],'[1]Establecimiento 2023'!$A$1:$E$183,5,FALSE),0)","v":"04302-Combarbalá"},"16100300","2022-08-22T06:22:31",53,25,28]
[{"$nulls":23},7,"5",2022,"105462",{"$f":"IFERROR(VLOOKUP(Tabla_SERIED_12_5[[#This Row],[IdEstablecimiento]],'[1]Establecimiento 2023'!$A$1:$E$183,3,FALSE),0)","v":"105462-Posta de Salud Rural El Sauce (Combarbalá)"},{"$f":"IFERROR(VLOOKUP(Tabla_SERIED_12_5[[#This Row],[IdEstablecimiento]],'[1]Establecimiento 2023'!$A$1:$E$183,5,FALSE),0)","v":"04302-Combarbalá"},"16200220","2022-08-22T06:22:31",6,1,5]
[{"$nulls":23},7,"5",2022,"105463",{"$f":"IFERROR(VLOOKUP(Tabla_SERIED_12_5[[#This Row],[IdEstablecimiento]],'[1]Establecimiento 2023'!$A$1:$E$183,3,FALSE),0)","v":"105463-Posta de Salud Rural Quilitapia"},{"$f":"IFERROR(VLOOKUP(Tabla_SERIED_12_5[[#This Row],[IdEstablecimiento]],'[1]Establecimiento 2023'!$A$1:$E$183,5,FALSE),0)","v":"04302-Combarbalá"},"15010200","2022-08-22T06:22:45",18,{"$nulls":4},2,10,6]
[{"$nulls":23},7,"5",2022,"105463",{"$f":"IFERROR(VLOOKUP(Tabla_SERIED_12_5[[#This Row],[IdEstablecimiento]],'[1]Establecimiento 2023'!$A$1:$E$183,3,FALSE),0)","v":"105463-Posta de Salud Rural Quilitapia"},{"$f":"IFERROR(VLOOKUP(Tabla_SERIED_12_5[[#This Row],[IdEstablecimiento]],'[1]Establecimiento 2023'!$A$1:$E$183,5,FALSE),0)","v":"04302-Combarbalá"},"15080008","2022-08-22T06:22:45",2,{"$nulls":7},2]
[{"$nulls":23},7,"5",2022,"105463",{"$f":"IFERROR(VLOOKUP(Tabla_SERIED_12_5[[#This Row],[IdEstablecimiento]],'[1]Establecimiento 2023'!$A$1:$E$183,3,FALSE),0)","v":"105463-Posta de Salud Rural Quilitapia"},{"$f":"IFERROR(VLOOKUP(Tabla_SERIED_12_5[[#This Row],[IdEstablecimiento]],'[1]Establecimiento 2023'!$A$1:$E$183,5,FALSE),0)","v":"04302-Combarbalá"},"15900010","2022-08-22T06:22:45",1.8,null,null,1.8]
[{"$nulls":23},7,"5",2022,"105463",{"$f":"IFERROR(VLOOKUP(Tabla_SERIED_12_5[[#This Row],[IdEstablecimiento]],'[1]Establecimiento 2023'!$A$1:$E$183,3,FALSE),0)","v":"105463-Posta de Salud Rural Quilitapia"},{"$f":"IFERROR(VLOOKUP(Tabla_SERIED_12_5[[#This Row],[IdEstablecimiento]],'[1]Establecimiento 2023'!$A$1:$E$183,5,FALSE),0)","v":"04302-Combarbalá"},"15050100","2022-08-22T06:22:45",12,6,6,null,null,1,null,1,5,3,2]
[{"$nulls":23},7,"5",2022,"105463",{"$f":"IFERROR(VLOOKUP(Tabla_SERIED_12_5[[#This Row],[IdEstablecimiento]],'[1]Establecimiento 2023'!$A$1:$E$183,3,FALSE),0)","v":"105463-Posta de Salud Rural Quilitapia"},{"$f":"IFERROR(VLOOKUP(Tabla_SERIED_12_5[[#This Row],[IdEstablecimiento]],'[1]Establecimiento 2023'!$A$1:$E$183,5,FALSE),0)","v":"04302-Combarbalá"},"16090300","2022-08-22T06:22:45",87,87]
[{"$nulls":23},7,"5",2022,"105463",{"$f":"IFERROR(VLOOKUP(Tabla_SERIED_12_5[[#This Row],[IdEstablecimiento]],'[1]Establecimiento 2023'!$A$1:$E$183,3,FALSE),0)","v":"105463-Posta de Salud Rural Quilitapia"},{"$f":"IFERROR(VLOOKUP(Tabla_SERIED_12_5[[#This Row],[IdEstablecimiento]],'[1]Establecimiento 2023'!$A$1:$E$183,5,FALSE),0)","v":"04302-Combarbalá"},"16200210","2022-08-22T06:22:45",9,9]
[{"$nulls":23},7,"5",2022,"105463",{"$f":"IFERROR(VLOOKUP(Tabla_SERIED_12_5[[#This Row],[IdEstablecimiento]],'[1]Establecimiento 2023'!$A$1:$E$183,3,FALSE),0)","v":"105463-Posta de Salud Rural Quilitapia"},{"$f":"IFERROR(VLOOKUP(Tabla_SERIED_12_5[[#This Row],[IdEstablecimiento]],'[1]Establecimiento 2023'!$A$1:$E$183,5,FALSE),0)","v":"04302-Combarbalá"},"16100300","2022-08-22T06:22:45",87,37,50,null,51]
[{"$nulls":23},7,"5",2022,"105463",{"$f":"IFERROR(VLOOKUP(Tabla_SERIED_12_5[[#This Row],[IdEstablecimiento]],'[1]Establecimiento 2023'!$A$1:$E$183,3,FALSE),0)","v":"105463-Posta de Salud Rural Quilitapia"},{"$f":"IFERROR(VLOOKUP(Tabla_SERIED_12_5[[#This Row],[IdEstablecimiento]],'[1]Establecimiento 2023'!$A$1:$E$183,5,FALSE),0)","v":"04302-Combarbalá"},"16200220","2022-08-22T06:22:45",9,4,5,null,3]
[{"$nulls":23},7,"5",2022,"105511",{"$f":"IFERROR(VLOOKUP(Tabla_SERIED_12_5[[#This Row],[IdEstablecimiento]],'[1]Establecimiento 2023'!$A$1:$E$183,3,FALSE),0)","v":"105511-Posta de Salud Rural Los Cóndores"},{"$f":"IFERROR(VLOOKUP(Tabla_SERIED_12_5[[#This Row],[IdEstablecimiento]],'[1]Establecimiento 2023'!$A$1:$E$183,5,FALSE),0)","v":"04203-Los Vilos"},"15010200","2022-08-22T06:46:26",48,{"$nulls":4},8,30,10]
[{"$nulls":23},4,"5",2022,"105503",{"$f":"IFERROR(VLOOKUP(Tabla_SERIED_12_5[[#This Row],[IdEstablecimiento]],'[1]Establecimiento 2023'!$A$1:$E$183,3,FALSE),0)","v":"105503-Posta de Salud Rural Tabaqueros"},{"$f":"IFERROR(VLOOKUP(Tabla_SERIED_12_5[[#This Row],[IdEstablecimiento]],'[1]Establecimiento 2023'!$A$1:$E$183,5,FALSE),0)","v":"04305-Río Hurtado"},"16200220","2022-05-18T15:20:37",4,1,3,1,5]
[{"$nulls":23},4,"5",2022,"105504",{"$f":"IFERROR(VLOOKUP(Tabla_SERIED_12_5[[#This Row],[IdEstablecimiento]],'[1]Establecimiento 2023'!$A$1:$E$183,3,FALSE),0)","v":"105504-Posta de Salud Rural Socavón"},{"$f":"IFERROR(VLOOKUP(Tabla_SERIED_12_5[[#This Row],[IdEstablecimiento]],'[1]Establecimiento 2023'!$A$1:$E$183,5,FALSE),0)","v":"04201-Illapel"},"15010100","2022-05-18T15:20:51",8,{"$nulls":3},8]
[{"$nulls":23},7,"5",2022,"105425",{"$f":"IFERROR(VLOOKUP(Tabla_SERIED_12_5[[#This Row],[IdEstablecimiento]],'[1]Establecimiento 2023'!$A$1:$E$183,3,FALSE),0)","v":"105425-Posta de Salud Rural Chilecito"},{"$f":"IFERROR(VLOOKUP(Tabla_SERIED_12_5[[#This Row],[IdEstablecimiento]],'[1]Establecimiento 2023'!$A$1:$E$183,5,FALSE),0)","v":"04303-Monte Patria"},"15010200","2022-08-22T05:42:34",14,{"$nulls":5},12,2]
[{"$nulls":23},7,"5",2022,"105425",{"$f":"IFERROR(VLOOKUP(Tabla_SERIED_12_5[[#This Row],[IdEstablecimiento]],'[1]Establecimiento 2023'!$A$1:$E$183,3,FALSE),0)","v":"105425-Posta de Salud Rural Chilecito"},{"$f":"IFERROR(VLOOKUP(Tabla_SERIED_12_5[[#This Row],[IdEstablecimiento]],'[1]Establecimiento 2023'!$A$1:$E$183,5,FALSE),0)","v":"04303-Monte Patria"},"15080008","2022-08-22T05:42:34",2,{"$nulls":7},2]
[{"$nulls":23},7,"5",2022,"105425",{"$f":"IFERROR(VLOOKUP(Tabla_SERIED_12_5[[#This Row],[IdEstablecimiento]],'[1]Establecimiento 2023'!$A$1:$E$183,3,FALSE),0)","v":"105425-Posta de Salud Rural Chilecito"},{"$f":"IFERROR(VLOOKUP(Tabla_SERIED_12_5[[#This Row],[IdEstablecimiento]],'[1]Establecimiento 2023'!$A$1:$E$183,5,FALSE),0)","v":"04303-Monte Patria"},"15010400","2022-08-22T05:42:34",2,{"$nulls":5},2]
[{"$nulls":23},7,"5",2022,"105425",{"$f":"IFERROR(VLOOKUP(Tabla_SERIED_12_5[[#This Row],[IdEstablecimiento]],'[1]Establecimiento 2023'!$A$1:$E$183,3,FALSE),0)","v":"105425-Posta de Salud Rural Chilecito"},{"$f":"IFERROR(VLOOKUP(Tabla_SERIED_12_5[[#This Row],[IdEstablecimiento]],'[1]Establecimiento 2023'!$A$1:$E$183,5,FALSE),0)","v":"04303-Monte Patria"},"15010500","2022-08-22T05:42:34",2,{"$nulls":5},2]
[{"$nulls":23},7,"5",2022,"105425",{"$f":"IFERROR(VLOOKUP(Tabla_SERIED_12_5[[#This Row],[IdEstablecimiento]],'[1]Establecimiento 2023'!$A$1:$E$183,3,FALSE),0)","v":"105425-Posta de Salud Rural Chilecito"},{"$f":"IFERROR(VLOOKUP(Tabla_SERIED_12_5[[#This Row],[IdEstablecimiento]],'[1]Establecimiento 2023'!$A$1:$E$183,5,FALSE),0)","v":"04303-Monte Patria"},"15050100","2022-08-22T05:42:34",8,3,5,{"$nulls":5},6,1,1]
[{"$nulls":23},7,"5",2022,"105425",{"$f":"IFERROR(VLOOKUP(Tabla_SERIED_12_5[[#This Row],[IdEstablecimiento]],'[1]Establecimiento 2023'!$A$1:$E$183,3,FALSE),0)","v":"105425-Posta de Salud Rural Chilecito"},{"$f":"IFERROR(VLOOKUP(Tabla_SERIED_12_5[[#This Row],[IdEstablecimiento]],'[1]Establecimiento 2023'!$A$1:$E$183,5,FALSE),0)","v":"04303-Monte Patria"},"15050200","2022-08-22T05:42:34",1,1,0,{"$nulls":5},1]
[{"$nulls":23},5,"5",2022,"105310",{"$f":"IFERROR(VLOOKUP(Tabla_SERIED_12_5[[#This Row],[IdEstablecimiento]],'[1]Establecimiento 2023'!$A$1:$E$183,3,FALSE),0)","v":"105310-Centro de Salud Familiar Pichasca"},{"$f":"IFERROR(VLOOKUP(Tabla_SERIED_12_5[[#This Row],[IdEstablecimiento]],'[1]Establecimiento 2023'!$A$1:$E$183,5,FALSE),0)","v":"04305-Río Hurtado"},"16200210","2022-06-20T17:02:48",31,31]
[{"$nulls":23},5,"5",2022,"105310",{"$f":"IFERROR(VLOOKUP(Tabla_SERIED_12_5[[#This Row],[IdEstablecimiento]],'[1]Establecimiento 2023'!$A$1:$E$183,3,FALSE),0)","v":"105310-Centro de Salud Familiar Pichasca"},{"$f":"IFERROR(VLOOKUP(Tabla_SERIED_12_5[[#This Row],[IdEstablecimiento]],'[1]Establecimiento 2023'!$A$1:$E$183,5,FALSE),0)","v":"04305-Río Hurtado"},"16100300","2022-06-20T17:02:48",85,36,49,1,21]
[{"$nulls":23},5,"5",2022,"105307",{"$f":"IFERROR(VLOOKUP(Tabla_SERIED_12_5[[#This Row],[IdEstablecimiento]],'[1]Establecimiento 2023'!$A$1:$E$183,3,FALSE),0)","v":"105307-Centro de Salud Familiar Monte Patria"},{"$f":"IFERROR(VLOOKUP(Tabla_SERIED_12_5[[#This Row],[IdEstablecimiento]],'[1]Establecimiento 2023'!$A$1:$E$183,5,FALSE),0)","v":"04303-Monte Patria"},"15010200","2022-06-20T17:02:07",287,{"$nulls":4},50,142,95]
[{"$nulls":23},5,"5",2022,"105307",{"$f":"IFERROR(VLOOKUP(Tabla_SERIED_12_5[[#This Row],[IdEstablecimiento]],'[1]Establecimiento 2023'!$A$1:$E$183,3,FALSE),0)","v":"105307-Centro de Salud Familiar Monte Patria"},{"$f":"IFERROR(VLOOKUP(Tabla_SERIED_12_5[[#This Row],[IdEstablecimiento]],'[1]Establecimiento 2023'!$A$1:$E$183,5,FALSE),0)","v":"04303-Monte Patria"},"15080008","2022-06-20T17:02:07",106,{"$nulls":7},41,null,42,9,14]
[{"$nulls":23},5,"5",2022,"105307",{"$f":"IFERROR(VLOOKUP(Tabla_SERIED_12_5[[#This Row],[IdEstablecimiento]],'[1]Establecimiento 2023'!$A$1:$E$183,3,FALSE),0)","v":"105307-Centro de Salud Familiar Monte Patria"},{"$f":"IFERROR(VLOOKUP(Tabla_SERIED_12_5[[#This Row],[IdEstablecimiento]],'[1]Establecimiento 2023'!$A$1:$E$183,5,FALSE),0)","v":"04303-Monte Patria"},"15900010","2022-06-20T17:02:07",60,0.8,22.4,36.8]
[{"$nulls":23},5,"5",2022,"105307",{"$f":"IFERROR(VLOOKUP(Tabla_SERIED_12_5[[#This Row],[IdEstablecimiento]],'[1]Establecimiento 2023'!$A$1:$E$183,3,FALSE),0)","v":"105307-Centro de Salud Familiar Monte Patria"},{"$f":"IFERROR(VLOOKUP(Tabla_SERIED_12_5[[#This Row],[IdEstablecimiento]],'[1]Establecimiento 2023'!$A$1:$E$183,5,FALSE),0)","v":"04303-Monte Patria"},"15010400","2022-06-20T17:02:07",8,{"$nulls":5},6,2]
[{"$nulls":23},5,"5",2022,"105307",{"$f":"IFERROR(VLOOKUP(Tabla_SERIED_12_5[[#This Row],[IdEstablecimiento]],'[1]Establecimiento 2023'!$A$1:$E$183,3,FALSE),0)","v":"105307-Centro de Salud Familiar Monte Patria"},{"$f":"IFERROR(VLOOKUP(Tabla_SERIED_12_5[[#This Row],[IdEstablecimiento]],'[1]Establecimiento 2023'!$A$1:$E$183,5,FALSE),0)","v":"04303-Monte Patria"},"15010500","2022-06-20T17:02:07",10,null,null,2,null,null,6,2]
[{"$nulls":23},5,"5",2022,"105307",{"$f":"IFERROR(VLOOKUP(Tabla_SERIED_12_5[[#This Row],[IdEstablecimiento]],'[1]Establecimiento 2023'!$A$1:$E$183,3,FALSE),0)","v":"105307-Centro de Salud Familiar Monte Patria"},{"$f":"IFERROR(VLOOKUP(Tabla_SERIED_12_5[[#This Row],[IdEstablecimiento]],'[1]Establecimiento 2023'!$A$1:$E$183,5,FALSE),0)","v":"04303-Monte Patria"},"15080009","2022-06-20T17:02:07",6,{"$nulls":8},3,3]
[{"$nulls":23},5,"5",2022,"105307",{"$f":"IFERROR(VLOOKUP(Tabla_SERIED_12_5[[#This Row],[IdEstablecimiento]],'[1]Establecimiento 2023'!$A$1:$E$183,3,FALSE),0)","v":"105307-Centro de Salud Familiar Monte Patria"},{"$f":"IFERROR(VLOOKUP(Tabla_SERIED_12_5[[#This Row],[IdEstablecimiento]],'[1]Establecimiento 2023'!$A$1:$E$183,5,FALSE),0)","v":"04303-Monte Patria"},"15900020","2022-06-20T17:02:07",3.2,null,null,3.2]
[{"$nulls":23},3,"5",2022,"105488",{"$f":"IFERROR(VLOOKUP(Tabla_SERIED_12_5[[#This Row],[IdEstablecimiento]],'[1]Establecimiento 2023'!$A$1:$E$183,3,FALSE),0)","v":"105488-Posta de Salud Rural Espíritu Santo"},{"$f":"IFERROR(VLOOKUP(Tabla_SERIED_12_5[[#This Row],[IdEstablecimiento]],'[1]Establecimiento 2023'!$A$1:$E$183,5,FALSE),0)","v":"04202-Canela"},"16200210","2022-04-19T10:06:56",2,2]
[{"$nulls":23},3,"5",2022,"105488",{"$f":"IFERROR(VLOOKUP(Tabla_SERIED_12_5[[#This Row],[IdEstablecimiento]],'[1]Establecimiento 2023'!$A$1:$E$183,3,FALSE),0)","v":"105488-Posta de Salud Rural Espíritu Santo"},{"$f":"IFERROR(VLOOKUP(Tabla_SERIED_12_5[[#This Row],[IdEstablecimiento]],'[1]Establecimiento 2023'!$A$1:$E$183,5,FALSE),0)","v":"04202-Canela"},"16100300","2022-04-19T10:06:56",21,14,7]
[{"$nulls":23},3,"5",2022,"105488",{"$f":"IFERROR(VLOOKUP(Tabla_SERIED_12_5[[#This Row],[IdEstablecimiento]],'[1]Establecimiento 2023'!$A$1:$E$183,3,FALSE),0)","v":"105488-Posta de Salud Rural Espíritu Santo"},{"$f":"IFERROR(VLOOKUP(Tabla_SERIED_12_5[[#This Row],[IdEstablecimiento]],'[1]Establecimiento 2023'!$A$1:$E$183,5,FALSE),0)","v":"04202-Canela"},"16200220","2022-04-19T10:06:56",2,1,1]
[{"$nulls":23},3,"5",2022,"105489",{"$f":"IFERROR(VLOOKUP(Tabla_SERIED_12_5[[#This Row],[IdEstablecimiento]],'[1]Establecimiento 2023'!$A$1:$E$183,3,FALSE),0)","v":"105489-Posta de Salud Rural Ramadas de Tulahuén"},{"$f":"IFERROR(VLOOKUP(Tabla_SERIED_12_5[[#This Row],[IdEstablecimiento]],'[1]Establecimiento 2023'!$A$1:$E$183,5,FALSE),0)","v":"04303-Monte Patria"},"15010100","2022-04-19T10:07:10",6,{"$nulls":3},4,2]
[{"$nulls":23},3,"5",2022,"105489",{"$f":"IFERROR(VLOOKUP(Tabla_SERIED_12_5[[#This Row],[IdEstablecimiento]],'[1]Establecimiento 2023'!$A$1:$E$183,3,FALSE),0)","v":"105489-Posta de Salud Rural Ramadas de Tulahuén"},{"$f":"IFERROR(VLOOKUP(Tabla_SERIED_12_5[[#This Row],[IdEstablecimiento]],'[1]Establecimiento 2023'!$A$1:$E$183,5,FALSE),0)","v":"04303-Monte Patria"},"15010200","2022-04-19T10:07:10",14,{"$nulls":5},6,8]
[{"$nulls":23},3,"5",2022,"105489",{"$f":"IFERROR(VLOOKUP(Tabla_SERIED_12_5[[#This Row],[IdEstablecimiento]],'[1]Establecimiento 2023'!$A$1:$E$183,3,FALSE),0)","v":"105489-Posta de Salud Rural Ramadas de Tulahuén"},{"$f":"IFERROR(VLOOKUP(Tabla_SERIED_12_5[[#This Row],[IdEstablecimiento]],'[1]Establecimiento 2023'!$A$1:$E$183,5,FALSE),0)","v":"04303-Monte Patria"},"15080008","2022-04-19T10:07:10",3,{"$nulls":11},3]
[{"$nulls":23},1,"5",2022,"105481",{"$f":"IFERROR(VLOOKUP(Tabla_SERIED_12_5[[#This Row],[IdEstablecimiento]],'[1]Establecimiento 2023'!$A$1:$E$183,3,FALSE),0)","v":"105481-Posta de Salud Rural Tilama"},{"$f":"IFERROR(VLOOKUP(Tabla_SERIED_12_5[[#This Row],[IdEstablecimiento]],'[1]Establecimiento 2023'!$A$1:$E$183,5,FALSE),0)","v":"04203-Los Vilos"},"15900010","2022-02-17T03:56:43",3.2,null,3.2]
[{"$nulls":23},1,"5",2022,"105481",{"$f":"IFERROR(VLOOKUP(Tabla_SERIED_12_5[[#This Row],[IdEstablecimiento]],'[1]Establecimiento 2023'!$A$1:$E$183,3,FALSE),0)","v":"105481-Posta de Salud Rural Tilama"},{"$f":"IFERROR(VLOOKUP(Tabla_SERIED_12_5[[#This Row],[IdEstablecimiento]],'[1]Establecimiento 2023'!$A$1:$E$183,5,FALSE),0)","v":"04203-Los Vilos"},"15050100","2022-02-17T03:56:43",9,3,6,null,1,{"$nulls":3},2,1,0,null,5,0,0]
[{"$nulls":23},1,"5",2022,"200366",{"$f":"IFERROR(VLOOKUP(Tabla_SERIED_12_5[[#This Row],[IdEstablecimiento]],'[1]Establecimiento 2023'!$A$1:$E$183,3,FALSE),0)","v":"200366-Centro de Salud Familiar Urbano de Illapel"},{"$f":"IFERROR(VLOOKUP(Tabla_SERIED_12_5[[#This Row],[IdEstablecimiento]],'[1]Establecimiento 2023'!$A$1:$E$183,5,FALSE),0)","v":"04201-Illapel"},"15080008","2022-02-17T04:29:53",48,{"$nulls":7},27,null,18,1,2]
[{"$nulls":23},3,"5",2022,"105416",{"$f":"IFERROR(VLOOKUP(Tabla_SERIED_12_5[[#This Row],[IdEstablecimiento]],'[1]Establecimiento 2023'!$A$1:$E$183,3,FALSE),0)","v":"105416-Posta de Salud Rural Camarico (Ovalle)"},{"$f":"IFERROR(VLOOKUP(Tabla_SERIED_12_5[[#This Row],[IdEstablecimiento]],'[1]Establecimiento 2023'!$A$1:$E$183,5,FALSE),0)","v":"04301-Ovalle"},"15010200","2022-04-19T09:11:43",51,{"$nulls":4},4,24,23]
[{"$nulls":23},1,"5",2022,"105414",{"$f":"IFERROR(VLOOKUP(Tabla_SERIED_12_5[[#This Row],[IdEstablecimiento]],'[1]Establecimiento 2023'!$A$1:$E$183,3,FALSE),0)","v":"105414-Posta de Salud Rural Serón"},{"$f":"IFERROR(VLOOKUP(Tabla_SERIED_12_5[[#This Row],[IdEstablecimiento]],'[1]Establecimiento 2023'!$A$1:$E$183,5,FALSE),0)","v":"04305-Río Hurtado"},"15010200","2022-02-16T10:55:31",20,{"$nulls":5},18,2]
[{"$nulls":23},3,"5",2022,"105492",{"$f":"IFERROR(VLOOKUP(Tabla_SERIED_12_5[[#This Row],[IdEstablecimiento]],'[1]Establecimiento 2023'!$A$1:$E$183,3,FALSE),0)","v":"105492-Posta de Salud Rural Camisa"},{"$f":"IFERROR(VLOOKUP(Tabla_SERIED_12_5[[#This Row],[IdEstablecimiento]],'[1]Establecimiento 2023'!$A$1:$E$183,5,FALSE),0)","v":"04204-Salamanca"},"15900010","2022-04-20T05:54:44",0.8,0.8]
[{"$nulls":23},4,"5",2022,"105445",{"$f":"IFERROR(VLOOKUP(Tabla_SERIED_12_5[[#This Row],[IdEstablecimiento]],'[1]Establecimiento 2023'!$A$1:$E$183,3,FALSE),0)","v":"105445-Posta de Salud Rural Limáhuida"},{"$f":"IFERROR(VLOOKUP(Tabla_SERIED_12_5[[#This Row],[IdEstablecimiento]],'[1]Establecimiento 2023'!$A$1:$E$183,5,FALSE),0)","v":"04201-Illapel"},"15900020","2022-05-18T14:59:26",4,null,null,4]
[{"$nulls":23},4,"5",2022,"105445",{"$f":"IFERROR(VLOOKUP(Tabla_SERIED_12_5[[#This Row],[IdEstablecimiento]],'[1]Establecimiento 2023'!$A$1:$E$183,3,FALSE),0)","v":"105445-Posta de Salud Rural Limáhuida"},{"$f":"IFERROR(VLOOKUP(Tabla_SERIED_12_5[[#This Row],[IdEstablecimiento]],'[1]Establecimiento 2023'!$A$1:$E$183,5,FALSE),0)","v":"04201-Illapel"},"15050100","2022-05-18T14:59:26",9,4,5,null,null,1,null,3,3,1,{"$nulls":4},1]
[{"$nulls":23},4,"5",2022,"105445",{"$f":"IFERROR(VLOOKUP(Tabla_SERIED_12_5[[#This Row],[IdEstablecimiento]],'[1]Establecimiento 2023'!$A$1:$E$183,3,FALSE),0)","v":"105445-Posta de Salud Rural Limáhuida"},{"$f":"IFERROR(VLOOKUP(Tabla_SERIED_12_5[[#This Row],[IdEstablecimiento]],'[1]Establecimiento 2023'!$A$1:$E$183,5,FALSE),0)","v":"04201-Illapel"},"15050200","2022-05-18T14:59:26",1,1,{"$nulls":6},1]
[{"$nulls":23},6,"5",2022,"200494",{"$f":"IFERROR(VLOOKUP(Tabla_SERIED_12_5[[#This Row],[IdEstablecimiento]],'[1]Establecimiento 2023'!$A$1:$E$183,3,FALSE),0)","v":"200494-Centro de Salud Familiar El Sauce"},{"$f":"IFERROR(VLOOKUP(Tabla_SERIED_12_5[[#This Row],[IdEstablecimiento]],'[1]Establecimiento 2023'!$A$1:$E$183,5,FALSE),0)","v":"04102-Coquimbo"},"15010400","2022-07-14T14:43:52",8,{"$nulls":4},4,null,4]
[{"$nulls":23},6,"5",2022,"200494",{"$f":"IFERROR(VLOOKUP(Tabla_SERIED_12_5[[#This Row],[IdEstablecimiento]],'[1]Establecimiento 2023'!$A$1:$E$183,3,FALSE),0)","v":"200494-Centro de Salud Familiar El Sauce"},{"$f":"IFERROR(VLOOKUP(Tabla_SERIED_12_5[[#This Row],[IdEstablecimiento]],'[1]Establecimiento 2023'!$A$1:$E$183,5,FALSE),0)","v":"04102-Coquimbo"},"15010500","2022-07-14T14:43:52",12,{"$nulls":3},4,4,null,4]
[{"$nulls":23},3,"5",2022,"200273",{"$f":"IFERROR(VLOOKUP(Tabla_SERIED_12_5[[#This Row],[IdEstablecimiento]],'[1]Establecimiento 2023'!$A$1:$E$183,3,FALSE),0)","v":"200273-Centro Comunitario de Salud Familiar Punta Mira"},{"$f":"IFERROR(VLOOKUP(Tabla_SERIED_12_5[[#This Row],[IdEstablecimiento]],'[1]Establecimiento 2023'!$A$1:$E$183,5,FALSE),0)","v":"04102-Coquimbo"},"15020200","2022-04-19T10:14:05",4,{"$nulls":6},4]
[{"$nulls":23},3,"5",2022,"200273",{"$f":"IFERROR(VLOOKUP(Tabla_SERIED_12_5[[#This Row],[IdEstablecimiento]],'[1]Establecimiento 2023'!$A$1:$E$183,3,FALSE),0)","v":"200273-Centro Comunitario de Salud Familiar Punta Mira"},{"$f":"IFERROR(VLOOKUP(Tabla_SERIED_12_5[[#This Row],[IdEstablecimiento]],'[1]Establecimiento 2023'!$A$1:$E$183,5,FALSE),0)","v":"04102-Coquimbo"},"15060100","2022-04-19T10:14:05",2,2,{"$nulls":7},2]
[{"$nulls":23},3,"5",2022,"200273",{"$f":"IFERROR(VLOOKUP(Tabla_SERIED_12_5[[#This Row],[IdEstablecimiento]],'[1]Establecimiento 2023'!$A$1:$E$183,3,FALSE),0)","v":"200273-Centro Comunitario de Salud Familiar Punta Mira"},{"$f":"IFERROR(VLOOKUP(Tabla_SERIED_12_5[[#This Row],[IdEstablecimiento]],'[1]Establecimiento 2023'!$A$1:$E$183,5,FALSE),0)","v":"04102-Coquimbo"},"16090300","2022-04-19T10:14:05",58,58]
[{"$nulls":23},3,"5",2022,"200273",{"$f":"IFERROR(VLOOKUP(Tabla_SERIED_12_5[[#This Row],[IdEstablecimiento]],'[1]Establecimiento 2023'!$A$1:$E$183,3,FALSE),0)","v":"200273-Centro Comunitario de Salud Familiar Punta Mira"},{"$f":"IFERROR(VLOOKUP(Tabla_SERIED_12_5[[#This Row],[IdEstablecimiento]],'[1]Establecimiento 2023'!$A$1:$E$183,5,FALSE),0)","v":"04102-Coquimbo"},"16100300","2022-04-19T10:14:05",58,21,37,1,11]
[{"$nulls":23},3,"5",2022,"200273",{"$f":"IFERROR(VLOOKUP(Tabla_SERIED_12_5[[#This Row],[IdEstablecimiento]],'[1]Establecimiento 2023'!$A$1:$E$183,3,FALSE),0)","v":"200273-Centro Comunitario de Salud Familiar Punta Mira"},{"$f":"IFERROR(VLOOKUP(Tabla_SERIED_12_5[[#This Row],[IdEstablecimiento]],'[1]Establecimiento 2023'!$A$1:$E$183,5,FALSE),0)","v":"04102-Coquimbo"},"16200100","2022-04-19T10:14:05",3,2,1]
[{"$nulls":23},3,"5",2022,"200402",{"$f":"IFERROR(VLOOKUP(Tabla_SERIED_12_5[[#This Row],[IdEstablecimiento]],'[1]Establecimiento 2023'!$A$1:$E$183,3,FALSE),0)","v":"200402-Centro Comunitario de Salud Familiar Arcos de Pinamar"},{"$f":"IFERROR(VLOOKUP(Tabla_SERIED_12_5[[#This Row],[IdEstablecimiento]],'[1]Establecimiento 2023'!$A$1:$E$183,5,FALSE),0)","v":"04101-La Serena"},"15010100","2022-04-19T10:15:08",18,null,null,2,16]
[{"$nulls":23},3,"5",2022,"200402",{"$f":"IFERROR(VLOOKUP(Tabla_SERIED_12_5[[#This Row],[IdEstablecimiento]],'[1]Establecimiento 2023'!$A$1:$E$183,3,FALSE),0)","v":"200402-Centro Comunitario de Salud Familiar Arcos de Pinamar"},{"$f":"IFERROR(VLOOKUP(Tabla_SERIED_12_5[[#This Row],[IdEstablecimiento]],'[1]Establecimiento 2023'!$A$1:$E$183,5,FALSE),0)","v":"04101-La Serena"},"15010200","2022-04-19T10:15:08",70,{"$nulls":4},22,32,16]
[{"$nulls":23},3,"5",2022,"200402",{"$f":"IFERROR(VLOOKUP(Tabla_SERIED_12_5[[#This Row],[IdEstablecimiento]],'[1]Establecimiento 2023'!$A$1:$E$183,3,FALSE),0)","v":"200402-Centro Comunitario de Salud Familiar Arcos de Pinamar"},{"$f":"IFERROR(VLOOKUP(Tabla_SERIED_12_5[[#This Row],[IdEstablecimiento]],'[1]Establecimiento 2023'!$A$1:$E$183,5,FALSE),0)","v":"04101-La Serena"},"15080008","2022-04-19T10:15:08",19,{"$nulls":7},9,null,10]
[{"$nulls":23},2,"5",2022,"105401",{"$f":"IFERROR(VLOOKUP(Tabla_SERIED_12_5[[#This Row],[IdEstablecimiento]],'[1]Establecimiento 2023'!$A$1:$E$183,3,FALSE),0)","v":"105401-Posta de Salud Rural Las Rojas"},{"$f":"IFERROR(VLOOKUP(Tabla_SERIED_12_5[[#This Row],[IdEstablecimiento]],'[1]Establecimiento 2023'!$A$1:$E$183,5,FALSE),0)","v":"04101-La Serena"},"15010300","2022-03-17T09:32:48",3,{"$nulls":3},3]
[{"$nulls":23},2,"5",2022,"105401",{"$f":"IFERROR(VLOOKUP(Tabla_SERIED_12_5[[#This Row],[IdEstablecimiento]],'[1]Establecimiento 2023'!$A$1:$E$183,3,FALSE),0)","v":"105401-Posta de Salud Rural Las Rojas"},{"$f":"IFERROR(VLOOKUP(Tabla_SERIED_12_5[[#This Row],[IdEstablecimiento]],'[1]Establecimiento 2023'!$A$1:$E$183,5,FALSE),0)","v":"04101-La Serena"},"15010500","2022-03-17T09:32:48",2,{"$nulls":3},2]
[{"$nulls":23},2,"5",2022,"105401",{"$f":"IFERROR(VLOOKUP(Tabla_SERIED_12_5[[#This Row],[IdEstablecimiento]],'[1]Establecimiento 2023'!$A$1:$E$183,3,FALSE),0)","v":"105401-Posta de Salud Rural Las Rojas"},{"$f":"IFERROR(VLOOKUP(Tabla_SERIED_12_5[[#This Row],[IdEstablecimiento]],'[1]Establecimiento 2023'!$A$1:$E$183,5,FALSE),0)","v":"04101-La Serena"},"15050100","2022-03-17T09:32:48",18,5,13,{"$nulls":3},4,1,6,3,4]
[{"$nulls":23},2,"5",2022,"105401",{"$f":"IFERROR(VLOOKUP(Tabla_SERIED_12_5[[#This Row],[IdEstablecimiento]],'[1]Establecimiento 2023'!$A$1:$E$183,3,FALSE),0)","v":"105401-Posta de Salud Rural Las Rojas"},{"$f":"IFERROR(VLOOKUP(Tabla_SERIED_12_5[[#This Row],[IdEstablecimiento]],'[1]Establecimiento 2023'!$A$1:$E$183,5,FALSE),0)","v":"04101-La Serena"},"16090300","2022-03-17T09:32:48",41,41]
[{"$nulls":23},1,"5",2022,"105427",{"$f":"IFERROR(VLOOKUP(Tabla_SERIED_12_5[[#This Row],[IdEstablecimiento]],'[1]Establecimiento 2023'!$A$1:$E$183,3,FALSE),0)","v":"105427-Posta de Salud Rural Hacienda Valdivia"},{"$f":"IFERROR(VLOOKUP(Tabla_SERIED_12_5[[#This Row],[IdEstablecimiento]],'[1]Establecimiento 2023'!$A$1:$E$183,5,FALSE),0)","v":"04303-Monte Patria"},"16100300","2022-05-18T15:38:16",25,8,17,0,3]
[{"$nulls":23},1,"5",2022,"105427",{"$f":"IFERROR(VLOOKUP(Tabla_SERIED_12_5[[#This Row],[IdEstablecimiento]],'[1]Establecimiento 2023'!$A$1:$E$183,3,FALSE),0)","v":"105427-Posta de Salud Rural Hacienda Valdivia"},{"$f":"IFERROR(VLOOKUP(Tabla_SERIED_12_5[[#This Row],[IdEstablecimiento]],'[1]Establecimiento 2023'!$A$1:$E$183,5,FALSE),0)","v":"04303-Monte Patria"},"16200220","2022-05-18T15:38:16",3,1,2,0,0]
[{"$nulls":23},1,"5",2022,"105427",{"$f":"IFERROR(VLOOKUP(Tabla_SERIED_12_5[[#This Row],[IdEstablecimiento]],'[1]Establecimiento 2023'!$A$1:$E$183,3,FALSE),0)","v":"105427-Posta de Salud Rural Hacienda Valdivia"},{"$f":"IFERROR(VLOOKUP(Tabla_SERIED_12_5[[#This Row],[IdEstablecimiento]],'[1]Establecimiento 2023'!$A$1:$E$183,5,FALSE),0)","v":"04303-Monte Patria"},"16200100","2022-05-18T15:38:16",1,1]
[{"$nulls":23},3,"5",2022,"105411",{"$f":"IFERROR(VLOOKUP(Tabla_SERIED_12_5[[#This Row],[IdEstablecimiento]],'[1]Establecimiento 2023'!$A$1:$E$183,3,FALSE),0)","v":"105411-Posta de Salud Rural Las Breas (Río Hurtado)"},{"$f":"IFERROR(VLOOKUP(Tabla_SERIED_12_5[[#This Row],[IdEstablecimiento]],'[1]Establecimiento 2023'!$A$1:$E$183,5,FALSE),0)","v":"04305-Río Hurtado"},"15010200","2022-04-19T08:16:32",12,{"$nulls":5},4,8]
[{"$nulls":23},3,"5",2022,"105411",{"$f":"IFERROR(VLOOKUP(Tabla_SERIED_12_5[[#This Row],[IdEstablecimiento]],'[1]Establecimiento 2023'!$A$1:$E$183,3,FALSE),0)","v":"105411-Posta de Salud Rural Las Breas (Río Hurtado)"},{"$f":"IFERROR(VLOOKUP(Tabla_SERIED_12_5[[#This Row],[IdEstablecimiento]],'[1]Establecimiento 2023'!$A$1:$E$183,5,FALSE),0)","v":"04305-Río Hurtado"},"15080008","2022-04-19T08:16:32",5,{"$nulls":7},1,null,4]
[{"$nulls":23},2,"5",2022,"105443",{"$f":"IFERROR(VLOOKUP(Tabla_SERIED_12_5[[#This Row],[IdEstablecimiento]],'[1]Establecimiento 2023'!$A$1:$E$183,3,FALSE),0)","v":"105443-Posta de Salud Rural Cárcamo"},{"$f":"IFERROR(VLOOKUP(Tabla_SERIED_12_5[[#This Row],[IdEstablecimiento]],'[1]Establecimiento 2023'!$A$1:$E$183,5,FALSE),0)","v":"04201-Illapel"},"16200220","2022-03-17T09:42:26",7,3,4]
[{"$nulls":23},2,"5",2022,"105444",{"$f":"IFERROR(VLOOKUP(Tabla_SERIED_12_5[[#This Row],[IdEstablecimiento]],'[1]Establecimiento 2023'!$A$1:$E$183,3,FALSE),0)","v":"105444-Posta de Salud Rural Huintil"},{"$f":"IFERROR(VLOOKUP(Tabla_SERIED_12_5[[#This Row],[IdEstablecimiento]],'[1]Establecimiento 2023'!$A$1:$E$183,5,FALSE),0)","v":"04201-Illapel"},"15010100","2022-03-17T09:42:40",4,{"$nulls":3},4]
[{"$nulls":23},2,"5",2022,"105444",{"$f":"IFERROR(VLOOKUP(Tabla_SERIED_12_5[[#This Row],[IdEstablecimiento]],'[1]Establecimiento 2023'!$A$1:$E$183,3,FALSE),0)","v":"105444-Posta de Salud Rural Huintil"},{"$f":"IFERROR(VLOOKUP(Tabla_SERIED_12_5[[#This Row],[IdEstablecimiento]],'[1]Establecimiento 2023'!$A$1:$E$183,5,FALSE),0)","v":"04201-Illapel"},"15010200","2022-03-17T09:42:40",18,{"$nulls":4},2,8,8]
[{"$nulls":23},2,"5",2022,"105444",{"$f":"IFERROR(VLOOKUP(Tabla_SERIED_12_5[[#This Row],[IdEstablecimiento]],'[1]Establecimiento 2023'!$A$1:$E$183,3,FALSE),0)","v":"105444-Posta de Salud Rural Huintil"},{"$f":"IFERROR(VLOOKUP(Tabla_SERIED_12_5[[#This Row],[IdEstablecimiento]],'[1]Establecimiento 2023'!$A$1:$E$183,5,FALSE),0)","v":"04201-Illapel"},"15080008","2022-03-17T09:42:40",2,{"$nulls":9},2]
[{"$nulls":23},1,"5",2022,"105311",{"$f":"IFERROR(VLOOKUP(Tabla_SERIED_12_5[[#This Row],[IdEstablecimiento]],'[1]Establecimiento 2023'!$A$1:$E$183,3,FALSE),0)","v":"105311-Centro de Salud Familiar Chañaral Alto"},{"$f":"IFERROR(VLOOKUP(Tabla_SERIED_12_5[[#This Row],[IdEstablecimiento]],'[1]Establecimiento 2023'!$A$1:$E$183,5,FALSE),0)","v":"04303-Monte Patria"},"15080009","2022-02-17T07:56:32",3,{"$nulls":8},3]
[{"$nulls":23},1,"5",2022,"105311",{"$f":"IFERROR(VLOOKUP(Tabla_SERIED_12_5[[#This Row],[IdEstablecimiento]],'[1]Establecimiento 2023'!$A$1:$E$183,3,FALSE),0)","v":"105311-Centro de Salud Familiar Chañaral Alto"},{"$f":"IFERROR(VLOOKUP(Tabla_SERIED_12_5[[#This Row],[IdEstablecimiento]],'[1]Establecimiento 2023'!$A$1:$E$183,5,FALSE),0)","v":"04303-Monte Patria"},"15050100","2022-02-17T07:56:32",91,34,57,1,1,3,11,10,17,19,18,null,11]
[{"$nulls":23},1,"5",2022,"105311",{"$f":"IFERROR(VLOOKUP(Tabla_SERIED_12_5[[#This Row],[IdEstablecimiento]],'[1]Establecimiento 2023'!$A$1:$E$183,3,FALSE),0)","v":"105311-Centro de Salud Familiar Chañaral Alto"},{"$f":"IFERROR(VLOOKUP(Tabla_SERIED_12_5[[#This Row],[IdEstablecimiento]],'[1]Establecimiento 2023'!$A$1:$E$183,5,FALSE),0)","v":"04303-Monte Patria"},"15050200","2022-02-17T07:56:32",8,3,5,{"$nulls":4},1,4,2,null,1]
[{"$nulls":23},1,"5",2022,"105311",{"$f":"IFERROR(VLOOKUP(Tabla_SERIED_12_5[[#This Row],[IdEstablecimiento]],'[1]Establecimiento 2023'!$A$1:$E$183,3,FALSE),0)","v":"105311-Centro de Salud Familiar Chañaral Alto"},{"$f":"IFERROR(VLOOKUP(Tabla_SERIED_12_5[[#This Row],[IdEstablecimiento]],'[1]Establecimiento 2023'!$A$1:$E$183,5,FALSE),0)","v":"04303-Monte Patria"},"16090300","2022-02-17T07:56:32",216,216]
[{"$nulls":23},1,"5",2022,"105311",{"$f":"IFERROR(VLOOKUP(Tabla_SERIED_12_5[[#This Row],[IdEstablecimiento]],'[1]Establecimiento 2023'!$A$1:$E$183,3,FALSE),0)","v":"105311-Centro de Salud Familiar Chañaral Alto"},{"$f":"IFERROR(VLOOKUP(Tabla_SERIED_12_5[[#This Row],[IdEstablecimiento]],'[1]Establecimiento 2023'!$A$1:$E$183,5,FALSE),0)","v":"04303-Monte Patria"},"16200210","2022-02-17T07:56:32",18,18]
[{"$nulls":23},1,"5",2022,"105311",{"$f":"IFERROR(VLOOKUP(Tabla_SERIED_12_5[[#This Row],[IdEstablecimiento]],'[1]Establecimiento 2023'!$A$1:$E$183,3,FALSE),0)","v":"105311-Centro de Salud Familiar Chañaral Alto"},{"$f":"IFERROR(VLOOKUP(Tabla_SERIED_12_5[[#This Row],[IdEstablecimiento]],'[1]Establecimiento 2023'!$A$1:$E$183,5,FALSE),0)","v":"04303-Monte Patria"},"16100300","2022-02-17T07:56:32",109,50,59]
[{"$nulls":23},1,"5",2022,"105434",{"$f":"IFERROR(VLOOKUP(Tabla_SERIED_12_5[[#This Row],[IdEstablecimiento]],'[1]Establecimiento 2023'!$A$1:$E$183,3,FALSE),0)","v":"105434-Posta de Salud Rural San Marcos (Combarbalá)"},{"$f":"IFERROR(VLOOKUP(Tabla_SERIED_12_5[[#This Row],[IdEstablecimiento]],'[1]Establecimiento 2023'!$A$1:$E$183,5,FALSE),0)","v":"04302-Combarbalá"},"15010200","2022-02-16T11:01:23",6,{"$nulls":4},2,2,2]
[{"$nulls":23},6,"5",2022,"105104",{"$f":"IFERROR(VLOOKUP(Tabla_SERIED_12_5[[#This Row],[IdEstablecimiento]],'[1]Establecimiento 2023'!$A$1:$E$183,3,FALSE),0)","v":"105104-Hospital de Salamanca"},{"$f":"IFERROR(VLOOKUP(Tabla_SERIED_12_5[[#This Row],[IdEstablecimiento]],'[1]Establecimiento 2023'!$A$1:$E$183,5,FALSE),0)","v":"105104-Hospital Salamanca"},"15020200","2022-07-14T12:58:03",16,{"$nulls":4},2,4,10]
[{"$nulls":23},6,"5",2022,"105104",{"$f":"IFERROR(VLOOKUP(Tabla_SERIED_12_5[[#This Row],[IdEstablecimiento]],'[1]Establecimiento 2023'!$A$1:$E$183,3,FALSE),0)","v":"105104-Hospital de Salamanca"},{"$f":"IFERROR(VLOOKUP(Tabla_SERIED_12_5[[#This Row],[IdEstablecimiento]],'[1]Establecimiento 2023'!$A$1:$E$183,5,FALSE),0)","v":"105104-Hospital Salamanca"},"15060100","2022-07-14T12:58:03",11,6,5,0,0,2,1,1,2,5,0,null,0,0,0]
[{"$nulls":23},6,"5",2022,"105104",{"$f":"IFERROR(VLOOKUP(Tabla_SERIED_12_5[[#This Row],[IdEstablecimiento]],'[1]Establecimiento 2023'!$A$1:$E$183,3,FALSE),0)","v":"105104-Hospital de Salamanca"},{"$f":"IFERROR(VLOOKUP(Tabla_SERIED_12_5[[#This Row],[IdEstablecimiento]],'[1]Establecimiento 2023'!$A$1:$E$183,5,FALSE),0)","v":"105104-Hospital Salamanca"},"16090300","2022-07-14T12:58:03",351,351]
[{"$nulls":23},6,"5",2022,"105104",{"$f":"IFERROR(VLOOKUP(Tabla_SERIED_12_5[[#This Row],[IdEstablecimiento]],'[1]Establecimiento 2023'!$A$1:$E$183,3,FALSE),0)","v":"105104-Hospital de Salamanca"},{"$f":"IFERROR(VLOOKUP(Tabla_SERIED_12_5[[#This Row],[IdEstablecimiento]],'[1]Establecimiento 2023'!$A$1:$E$183,5,FALSE),0)","v":"105104-Hospital Salamanca"},"16200210","2022-07-14T12:58:03",6,6]
[{"$nulls":23},6,"5",2022,"105104",{"$f":"IFERROR(VLOOKUP(Tabla_SERIED_12_5[[#This Row],[IdEstablecimiento]],'[1]Establecimiento 2023'!$A$1:$E$183,3,FALSE),0)","v":"105104-Hospital de Salamanca"},{"$f":"IFERROR(VLOOKUP(Tabla_SERIED_12_5[[#This Row],[IdEstablecimiento]],'[1]Establecimiento 2023'!$A$1:$E$183,5,FALSE),0)","v":"105104-Hospital Salamanca"},"16100300","2022-07-14T12:58:03",351,160,191,9,71]
[{"$nulls":23},6,"5",2022,"105104",{"$f":"IFERROR(VLOOKUP(Tabla_SERIED_12_5[[#This Row],[IdEstablecimiento]],'[1]Establecimiento 2023'!$A$1:$E$183,3,FALSE),0)","v":"105104-Hospital de Salamanca"},{"$f":"IFERROR(VLOOKUP(Tabla_SERIED_12_5[[#This Row],[IdEstablecimiento]],'[1]Establecimiento 2023'!$A$1:$E$183,5,FALSE),0)","v":"105104-Hospital Salamanca"},"16200220","2022-07-14T12:58:03",6,4,2]
[{"$nulls":23},4,"5",2022,"105323",{"$f":"IFERROR(VLOOKUP(Tabla_SERIED_12_5[[#This Row],[IdEstablecimiento]],'[1]Establecimiento 2023'!$A$1:$E$183,3,FALSE),0)","v":"105323-Centro de Salud Familiar Dr. Sergio Aguilar Delgado"},{"$f":"IFERROR(VLOOKUP(Tabla_SERIED_12_5[[#This Row],[IdEstablecimiento]],'[1]Establecimiento 2023'!$A$1:$E$183,5,FALSE),0)","v":"04102-Coquimbo"},"15020200","2022-05-18T11:53:56",31,{"$nulls":4},8,8,15]
[{"$nulls":23},4,"5",2022,"105323",{"$f":"IFERROR(VLOOKUP(Tabla_SERIED_12_5[[#This Row],[IdEstablecimiento]],'[1]Establecimiento 2023'!$A$1:$E$183,3,FALSE),0)","v":"105323-Centro de Salud Familiar Dr. Sergio Aguilar Delgado"},{"$f":"IFERROR(VLOOKUP(Tabla_SERIED_12_5[[#This Row],[IdEstablecimiento]],'[1]Establecimiento 2023'!$A$1:$E$183,5,FALSE),0)","v":"04102-Coquimbo"},"15080010","2022-05-18T11:53:56",1,{"$nulls":10},1]
[{"$nulls":23},1,"5",2022,"200273",{"$f":"IFERROR(VLOOKUP(Tabla_SERIED_12_5[[#This Row],[IdEstablecimiento]],'[1]Establecimiento 2023'!$A$1:$E$183,3,FALSE),0)","v":"200273-Centro Comunitario de Salud Familiar Punta Mira"},{"$f":"IFERROR(VLOOKUP(Tabla_SERIED_12_5[[#This Row],[IdEstablecimiento]],'[1]Establecimiento 2023'!$A$1:$E$183,5,FALSE),0)","v":"04102-Coquimbo"},"15900010","2022-02-17T04:29:34",20.8,3.2,4,13.6]
[{"$nulls":23},1,"5",2022,"200273",{"$f":"IFERROR(VLOOKUP(Tabla_SERIED_12_5[[#This Row],[IdEstablecimiento]],'[1]Establecimiento 2023'!$A$1:$E$183,3,FALSE),0)","v":"200273-Centro Comunitario de Salud Familiar Punta Mira"},{"$f":"IFERROR(VLOOKUP(Tabla_SERIED_12_5[[#This Row],[IdEstablecimiento]],'[1]Establecimiento 2023'!$A$1:$E$183,5,FALSE),0)","v":"04102-Coquimbo"},"15010400","2022-02-17T04:29:34",4,{"$nulls":5},4]
[{"$nulls":23},1,"5",2022,"200273",{"$f":"IFERROR(VLOOKUP(Tabla_SERIED_12_5[[#This Row],[IdEstablecimiento]],'[1]Establecimiento 2023'!$A$1:$E$183,3,FALSE),0)","v":"200273-Centro Comunitario de Salud Familiar Punta Mira"},{"$f":"IFERROR(VLOOKUP(Tabla_SERIED_12_5[[#This Row],[IdEstablecimiento]],'[1]Establecimiento 2023'!$A$1:$E$183,5,FALSE),0)","v":"04102-Coquimbo"},"15010500","2022-02-17T04:29:34",4,{"$nulls":5},4]
[{"$nulls":23},1,"5",2022,"200273",{"$f":"IFERROR(VLOOKUP(Tabla_SERIED_12_5[[#This Row],[IdEstablecimiento]],'[1]Establecimiento 2023'!$A$1:$E$183,3,FALSE),0)","v":"200273-Centro Comunitario de Salud Familiar Punta Mira"},{"$f":"IFERROR(VLOOKUP(Tabla_SERIED_12_5[[#This Row],[IdEstablecimiento]],'[1]Establecimiento 2023'!$A$1:$E$183,5,FALSE),0)","v":"04102-Coquimbo"},"15900030","2022-02-17T04:29:34",3.2,{"$nulls":3},3.2]
[{"$nulls":23},1,"5",2022,"200273",{"$f":"IFERROR(VLOOKUP(Tabla_SERIED_12_5[[#This Row],[IdEstablecimiento]],'[1]Establecimiento 2023'!$A$1:$E$183,3,FALSE),0)","v":"200273-Centro Comunitario de Salud Familiar Punta Mira"},{"$f":"IFERROR(VLOOKUP(Tabla_SERIED_12_5[[#This Row],[IdEstablecimiento]],'[1]Establecimiento 2023'!$A$1:$E$183,5,FALSE),0)","v":"04102-Coquimbo"},"15050100","2022-02-17T04:29:34",69,36,33,1,1,6,7,6,16,16,8,null,4,1,3]
[{"$nulls":23},1,"5",2022,"200273",{"$f":"IFERROR(VLOOKUP(Tabla_SERIED_12_5[[#This Row],[IdEstablecimiento]],'[1]Establecimiento 2023'!$A$1:$E$183,3,FALSE),0)","v":"200273-Centro Comunitario de Salud Familiar Punta Mira"},{"$f":"IFERROR(VLOOKUP(Tabla_SERIED_12_5[[#This Row],[IdEstablecimiento]],'[1]Establecimiento 2023'!$A$1:$E$183,5,FALSE),0)","v":"04102-Coquimbo"},"15050200","2022-02-17T04:29:34",2,1,1,{"$nulls":5},2]
[{"$nulls":23},2,"5",2022,"105487",{"$f":"IFERROR(VLOOKUP(Tabla_SERIED_12_5[[#This Row],[IdEstablecimiento]],'[1]Establecimiento 2023'!$A$1:$E$183,3,FALSE),0)","v":"105487-Posta de Salud Rural Cañas Uno"},{"$f":"IFERROR(VLOOKUP(Tabla_SERIED_12_5[[#This Row],[IdEstablecimiento]],'[1]Establecimiento 2023'!$A$1:$E$183,5,FALSE),0)","v":"04201-Illapel"},"15010100","2022-03-17T09:56:14",30,{"$nulls":3},30]
[{"$nulls":23},2,"5",2022,"105487",{"$f":"IFERROR(VLOOKUP(Tabla_SERIED_12_5[[#This Row],[IdEstablecimiento]],'[1]Establecimiento 2023'!$A$1:$E$183,3,FALSE),0)","v":"105487-Posta de Salud Rural Cañas Uno"},{"$f":"IFERROR(VLOOKUP(Tabla_SERIED_12_5[[#This Row],[IdEstablecimiento]],'[1]Establecimiento 2023'!$A$1:$E$183,5,FALSE),0)","v":"04201-Illapel"},"15010200","2022-03-17T09:56:14",69,{"$nulls":4},10,24,35]
[{"$nulls":23},5,"5",2022,"105400",{"$f":"IFERROR(VLOOKUP(Tabla_SERIED_12_5[[#This Row],[IdEstablecimiento]],'[1]Establecimiento 2023'!$A$1:$E$183,3,FALSE),0)","v":"105400-Posta de Salud Rural Algarrobito"},{"$f":"IFERROR(VLOOKUP(Tabla_SERIED_12_5[[#This Row],[IdEstablecimiento]],'[1]Establecimiento 2023'!$A$1:$E$183,5,FALSE),0)","v":"04101-La Serena"},"15010200","2022-06-20T17:06:50",80,{"$nulls":4},16,28,36]
[{"$nulls":23},5,"5",2022,"105400",{"$f":"IFERROR(VLOOKUP(Tabla_SERIED_12_5[[#This Row],[IdEstablecimiento]],'[1]Establecimiento 2023'!$A$1:$E$183,3,FALSE),0)","v":"105400-Posta de Salud Rural Algarrobito"},{"$f":"IFERROR(VLOOKUP(Tabla_SERIED_12_5[[#This Row],[IdEstablecimiento]],'[1]Establecimiento 2023'!$A$1:$E$183,5,FALSE),0)","v":"04101-La Serena"},"15080008","2022-06-20T17:06:50",8,{"$nulls":7},2,null,4,null,2]
[{"$nulls":23},3,"5",2022,"105305",{"$f":"IFERROR(VLOOKUP(Tabla_SERIED_12_5[[#This Row],[IdEstablecimiento]],'[1]Establecimiento 2023'!$A$1:$E$183,3,FALSE),0)","v":"105305-Centro de Salud Familiar Tierras Blancas"},{"$f":"IFERROR(VLOOKUP(Tabla_SERIED_12_5[[#This Row],[IdEstablecimiento]],'[1]Establecimiento 2023'!$A$1:$E$183,5,FALSE),0)","v":"04102-Coquimbo"},"15030100","2022-04-19T08:03:19",3.2,null,null,3.2]
[{"$nulls":23},3,"5",2022,"105305",{"$f":"IFERROR(VLOOKUP(Tabla_SERIED_12_5[[#This Row],[IdEstablecimiento]],'[1]Establecimiento 2023'!$A$1:$E$183,3,FALSE),0)","v":"105305-Centro de Salud Familiar Tierras Blancas"},{"$f":"IFERROR(VLOOKUP(Tabla_SERIED_12_5[[#This Row],[IdEstablecimiento]],'[1]Establecimiento 2023'!$A$1:$E$183,5,FALSE),0)","v":"04102-Coquimbo"},"15030200","2022-04-19T08:03:19",14.4,null,null,14.4]
[{"$nulls":23},3,"5",2022,"105305",{"$f":"IFERROR(VLOOKUP(Tabla_SERIED_12_5[[#This Row],[IdEstablecimiento]],'[1]Establecimiento 2023'!$A$1:$E$183,3,FALSE),0)","v":"105305-Centro de Salud Familiar Tierras Blancas"},{"$f":"IFERROR(VLOOKUP(Tabla_SERIED_12_5[[#This Row],[IdEstablecimiento]],'[1]Establecimiento 2023'!$A$1:$E$183,5,FALSE),0)","v":"04102-Coquimbo"},"15900030","2022-04-19T08:03:19",8,{"$nulls":4},8]
[{"$nulls":23},3,"5",2022,"105305",{"$f":"IFERROR(VLOOKUP(Tabla_SERIED_12_5[[#This Row],[IdEstablecimiento]],'[1]Establecimiento 2023'!$A$1:$E$183,3,FALSE),0)","v":"105305-Centro de Salud Familiar Tierras Blancas"},{"$f":"IFERROR(VLOOKUP(Tabla_SERIED_12_5[[#This Row],[IdEstablecimiento]],'[1]Establecimiento 2023'!$A$1:$E$183,5,FALSE),0)","v":"04102-Coquimbo"},"15900040","2022-04-19T08:03:19",3.2,{"$nulls":3},3.2]
[{"$nulls":23},3,"5",2022,"105305",{"$f":"IFERROR(VLOOKUP(Tabla_SERIED_12_5[[#This Row],[IdEstablecimiento]],'[1]Establecimiento 2023'!$A$1:$E$183,3,FALSE),0)","v":"105305-Centro de Salud Familiar Tierras Blancas"},{"$f":"IFERROR(VLOOKUP(Tabla_SERIED_12_5[[#This Row],[IdEstablecimiento]],'[1]Establecimiento 2023'!$A$1:$E$183,5,FALSE),0)","v":"04102-Coquimbo"},"15050100","2022-04-19T08:03:19",724,312,412,1,9,52,82,74,172,159,123,null,38,2,12]
[{"$nulls":23},3,"5",2022,"105325",{"$f":"IFERROR(VLOOKUP(Tabla_SERIED_12_5[[#This Row],[IdEstablecimiento]],'[1]Establecimiento 2023'!$A$1:$E$183,3,FALSE),0)","v":"105325-Centro de Salud Familiar Juan Pablo II (La Serena)"},{"$f":"IFERROR(VLOOKUP(Tabla_SERIED_12_5[[#This Row],[IdEstablecimiento]],'[1]Establecimiento 2023'!$A$1:$E$183,5,FALSE),0)","v":"04101-La Serena"},"16090300","2022-04-19T08:11:56",268,268]
[{"$nulls":23},3,"5",2022,"105325",{"$f":"IFERROR(VLOOKUP(Tabla_SERIED_12_5[[#This Row],[IdEstablecimiento]],'[1]Establecimiento 2023'!$A$1:$E$183,3,FALSE),0)","v":"105325-Centro de Salud Familiar Juan Pablo II (La Serena)"},{"$f":"IFERROR(VLOOKUP(Tabla_SERIED_12_5[[#This Row],[IdEstablecimiento]],'[1]Establecimiento 2023'!$A$1:$E$183,5,FALSE),0)","v":"04101-La Serena"},"16200210","2022-04-19T08:11:56",20,20]
[{"$nulls":23},3,"5",2022,"105325",{"$f":"IFERROR(VLOOKUP(Tabla_SERIED_12_5[[#This Row],[IdEstablecimiento]],'[1]Establecimiento 2023'!$A$1:$E$183,3,FALSE),0)","v":"105325-Centro de Salud Familiar Juan Pablo II (La Serena)"},{"$f":"IFERROR(VLOOKUP(Tabla_SERIED_12_5[[#This Row],[IdEstablecimiento]],'[1]Establecimiento 2023'!$A$1:$E$183,5,FALSE),0)","v":"04101-La Serena"},"16100300","2022-04-19T08:11:56",268,93,175,4,435]
[{"$nulls":23},3,"5",2022,"105325",{"$f":"IFERROR(VLOOKUP(Tabla_SERIED_12_5[[#This Row],[IdEstablecimiento]],'[1]Establecimiento 2023'!$A$1:$E$183,3,FALSE),0)","v":"105325-Centro de Salud Familiar Juan Pablo II (La Serena)"},{"$f":"IFERROR(VLOOKUP(Tabla_SERIED_12_5[[#This Row],[IdEstablecimiento]],'[1]Establecimiento 2023'!$A$1:$E$183,5,FALSE),0)","v":"04101-La Serena"},"16200220","2022-04-19T08:11:56",20,6,14,0,25]
[{"$nulls":23},3,"5",2022,"105325",{"$f":"IFERROR(VLOOKUP(Tabla_SERIED_12_5[[#This Row],[IdEstablecimiento]],'[1]Establecimiento 2023'!$A$1:$E$183,3,FALSE),0)","v":"105325-Centro de Salud Familiar Juan Pablo II (La Serena)"},{"$f":"IFERROR(VLOOKUP(Tabla_SERIED_12_5[[#This Row],[IdEstablecimiento]],'[1]Establecimiento 2023'!$A$1:$E$183,5,FALSE),0)","v":"04101-La Serena"},"16200100","2022-04-19T08:11:56",5,3,2,0,7]
[{"$nulls":23},3,"5",2022,"105400",{"$f":"IFERROR(VLOOKUP(Tabla_SERIED_12_5[[#This Row],[IdEstablecimiento]],'[1]Establecimiento 2023'!$A$1:$E$183,3,FALSE),0)","v":"105400-Posta de Salud Rural Algarrobito"},{"$f":"IFERROR(VLOOKUP(Tabla_SERIED_12_5[[#This Row],[IdEstablecimiento]],'[1]Establecimiento 2023'!$A$1:$E$183,5,FALSE),0)","v":"04101-La Serena"},"15010100","2022-04-19T08:14:12",17,{"$nulls":3},16,{"$nulls":3},1]
[{"$nulls":23},3,"5",2022,"105400",{"$f":"IFERROR(VLOOKUP(Tabla_SERIED_12_5[[#This Row],[IdEstablecimiento]],'[1]Establecimiento 2023'!$A$1:$E$183,3,FALSE),0)","v":"105400-Posta de Salud Rural Algarrobito"},{"$f":"IFERROR(VLOOKUP(Tabla_SERIED_12_5[[#This Row],[IdEstablecimiento]],'[1]Establecimiento 2023'!$A$1:$E$183,5,FALSE),0)","v":"04101-La Serena"},"15010200","2022-04-19T08:14:12",71,{"$nulls":4},10,28,33]
[{"$nulls":23},3,"5",2022,"105478",{"$f":"IFERROR(VLOOKUP(Tabla_SERIED_12_5[[#This Row],[IdEstablecimiento]],'[1]Establecimiento 2023'!$A$1:$E$183,3,FALSE),0)","v":"105478-Posta de Salud Rural Caimanes"},{"$f":"IFERROR(VLOOKUP(Tabla_SERIED_12_5[[#This Row],[IdEstablecimiento]],'[1]Establecimiento 2023'!$A$1:$E$183,5,FALSE),0)","v":"04203-Los Vilos"},"15900010","2022-04-19T10:04:43",3.2,null,3.2]
[{"$nulls":23},3,"5",2022,"105478",{"$f":"IFERROR(VLOOKUP(Tabla_SERIED_12_5[[#This Row],[IdEstablecimiento]],'[1]Establecimiento 2023'!$A$1:$E$183,3,FALSE),0)","v":"105478-Posta de Salud Rural Caimanes"},{"$f":"IFERROR(VLOOKUP(Tabla_SERIED_12_5[[#This Row],[IdEstablecimiento]],'[1]Establecimiento 2023'!$A$1:$E$183,5,FALSE),0)","v":"04203-Los Vilos"},"15080009","2022-04-19T10:04:43",3,{"$nulls":8},3]
[{"$nulls":23},3,"5",2022,"105478",{"$f":"IFERROR(VLOOKUP(Tabla_SERIED_12_5[[#This Row],[IdEstablecimiento]],'[1]Establecimiento 2023'!$A$1:$E$183,3,FALSE),0)","v":"105478-Posta de Salud Rural Caimanes"},{"$f":"IFERROR(VLOOKUP(Tabla_SERIED_12_5[[#This Row],[IdEstablecimiento]],'[1]Establecimiento 2023'!$A$1:$E$183,5,FALSE),0)","v":"04203-Los Vilos"},"15050100","2022-04-19T10:04:43",26,9,17,null,1,null,3,3,8,8,2,null,1]
[{"$nulls":23},4,"5",2022,"105106",{"$f":"IFERROR(VLOOKUP(Tabla_SERIED_12_5[[#This Row],[IdEstablecimiento]],'[1]Establecimiento 2023'!$A$1:$E$183,3,FALSE),0)","v":"105106-Hospital Dr. José Arraño (Andacollo)"},{"$f":"IFERROR(VLOOKUP(Tabla_SERIED_12_5[[#This Row],[IdEstablecimiento]],'[1]Establecimiento 2023'!$A$1:$E$183,5,FALSE),0)","v":"105106-Hospital Andacollo"},"15020200","2022-05-18T11:48:24",4,{"$nulls":4},4]
[{"$nulls":23},4,"5",2022,"105106",{"$f":"IFERROR(VLOOKUP(Tabla_SERIED_12_5[[#This Row],[IdEstablecimiento]],'[1]Establecimiento 2023'!$A$1:$E$183,3,FALSE),0)","v":"105106-Hospital Dr. José Arraño (Andacollo)"},{"$f":"IFERROR(VLOOKUP(Tabla_SERIED_12_5[[#This Row],[IdEstablecimiento]],'[1]Establecimiento 2023'!$A$1:$E$183,5,FALSE),0)","v":"105106-Hospital Andacollo"},"15060100","2022-05-18T11:48:24",2,1,1,{"$nulls":4},2]
[{"$nulls":23},4,"5",2022,"105106",{"$f":"IFERROR(VLOOKUP(Tabla_SERIED_12_5[[#This Row],[IdEstablecimiento]],'[1]Establecimiento 2023'!$A$1:$E$183,3,FALSE),0)","v":"105106-Hospital Dr. José Arraño (Andacollo)"},{"$f":"IFERROR(VLOOKUP(Tabla_SERIED_12_5[[#This Row],[IdEstablecimiento]],'[1]Establecimiento 2023'!$A$1:$E$183,5,FALSE),0)","v":"105106-Hospital Andacollo"},"16090300","2022-05-18T11:48:24",287,287]
[{"$nulls":23},4,"5",2022,"105106",{"$f":"IFERROR(VLOOKUP(Tabla_SERIED_12_5[[#This Row],[IdEstablecimiento]],'[1]Establecimiento 2023'!$A$1:$E$183,3,FALSE),0)","v":"105106-Hospital Dr. José Arraño (Andacollo)"},{"$f":"IFERROR(VLOOKUP(Tabla_SERIED_12_5[[#This Row],[IdEstablecimiento]],'[1]Establecimiento 2023'!$A$1:$E$183,5,FALSE),0)","v":"105106-Hospital Andacollo"},"16200210","2022-05-18T11:48:24",32,32]
[{"$nulls":23},4,"5",2022,"105106",{"$f":"IFERROR(VLOOKUP(Tabla_SERIED_12_5[[#This Row],[IdEstablecimiento]],'[1]Establecimiento 2023'!$A$1:$E$183,3,FALSE),0)","v":"105106-Hospital Dr. José Arraño (Andacollo)"},{"$f":"IFERROR(VLOOKUP(Tabla_SERIED_12_5[[#This Row],[IdEstablecimiento]],'[1]Establecimiento 2023'!$A$1:$E$183,5,FALSE),0)","v":"105106-Hospital Andacollo"},"16090600","2022-05-18T11:48:24",1,1]
[{"$nulls":23},4,"5",2022,"105106",{"$f":"IFERROR(VLOOKUP(Tabla_SERIED_12_5[[#This Row],[IdEstablecimiento]],'[1]Establecimiento 2023'!$A$1:$E$183,3,FALSE),0)","v":"105106-Hospital Dr. José Arraño (Andacollo)"},{"$f":"IFERROR(VLOOKUP(Tabla_SERIED_12_5[[#This Row],[IdEstablecimiento]],'[1]Establecimiento 2023'!$A$1:$E$183,5,FALSE),0)","v":"105106-Hospital Andacollo"},"16100300","2022-05-18T11:48:24",287,128,159,21,69]
[{"$nulls":23},4,"5",2022,"105106",{"$f":"IFERROR(VLOOKUP(Tabla_SERIED_12_5[[#This Row],[IdEstablecimiento]],'[1]Establecimiento 2023'!$A$1:$E$183,3,FALSE),0)","v":"105106-Hospital Dr. José Arraño (Andacollo)"},{"$f":"IFERROR(VLOOKUP(Tabla_SERIED_12_5[[#This Row],[IdEstablecimiento]],'[1]Establecimiento 2023'!$A$1:$E$183,5,FALSE),0)","v":"105106-Hospital Andacollo"},"16200220","2022-05-18T11:48:24",32,17,15,12,1]
[{"$nulls":23},4,"5",2022,"105106",{"$f":"IFERROR(VLOOKUP(Tabla_SERIED_12_5[[#This Row],[IdEstablecimiento]],'[1]Establecimiento 2023'!$A$1:$E$183,3,FALSE),0)","v":"105106-Hospital Dr. José Arraño (Andacollo)"},{"$f":"IFERROR(VLOOKUP(Tabla_SERIED_12_5[[#This Row],[IdEstablecimiento]],'[1]Establecimiento 2023'!$A$1:$E$183,5,FALSE),0)","v":"105106-Hospital Andacollo"},"16100700","2022-05-18T11:48:24",1,1]
[{"$nulls":23},4,"5",2022,"105106",{"$f":"IFERROR(VLOOKUP(Tabla_SERIED_12_5[[#This Row],[IdEstablecimiento]],'[1]Establecimiento 2023'!$A$1:$E$183,3,FALSE),0)","v":"105106-Hospital Dr. José Arraño (Andacollo)"},{"$f":"IFERROR(VLOOKUP(Tabla_SERIED_12_5[[#This Row],[IdEstablecimiento]],'[1]Establecimiento 2023'!$A$1:$E$183,5,FALSE),0)","v":"105106-Hospital Andacollo"},"16200100","2022-05-18T11:48:24",1,1]
[{"$nulls":23},4,"5",2022,"105107",{"$f":"IFERROR(VLOOKUP(Tabla_SERIED_12_5[[#This Row],[IdEstablecimiento]],'[1]Establecimiento 2023'!$A$1:$E$183,3,FALSE),0)","v":"105107-Hospital San Juan de Dios (Vicuña)"},{"$f":"IFERROR(VLOOKUP(Tabla_SERIED_12_5[[#This Row],[IdEstablecimiento]],'[1]Establecimiento 2023'!$A$1:$E$183,5,FALSE),0)","v":"105107-Hospital Vicuña"},"15010100","2022-05-18T11:48:37",100,null,null,6,94]
[{"$nulls":23},4,"5",2022,"105107",{"$f":"IFERROR(VLOOKUP(Tabla_SERIED_12_5[[#This Row],[IdEstablecimiento]],'[1]Establecimiento 2023'!$A$1:$E$183,3,FALSE),0)","v":"105107-Hospital San Juan de Dios (Vicuña)"},{"$f":"IFERROR(VLOOKUP(Tabla_SERIED_12_5[[#This Row],[IdEstablecimiento]],'[1]Establecimiento 2023'!$A$1:$E$183,5,FALSE),0)","v":"105107-Hospital Vicuña"},"15010200","2022-05-18T11:48:37",273,{"$nulls":4},84,116,73]
[{"$nulls":23},4,"5",2022,"105107",{"$f":"IFERROR(VLOOKUP(Tabla_SERIED_12_5[[#This Row],[IdEstablecimiento]],'[1]Establecimiento 2023'!$A$1:$E$183,3,FALSE),0)","v":"105107-Hospital San Juan de Dios (Vicuña)"},{"$f":"IFERROR(VLOOKUP(Tabla_SERIED_12_5[[#This Row],[IdEstablecimiento]],'[1]Establecimiento 2023'!$A$1:$E$183,5,FALSE),0)","v":"105107-Hospital Vicuña"},"15080008","2022-05-18T11:48:37",67,{"$nulls":7},39,null,22,null,6]
[{"$nulls":23},4,"5",2022,"105323",{"$f":"IFERROR(VLOOKUP(Tabla_SERIED_12_5[[#This Row],[IdEstablecimiento]],'[1]Establecimiento 2023'!$A$1:$E$183,3,FALSE),0)","v":"105323-Centro de Salud Familiar Dr. Sergio Aguilar Delgado"},{"$f":"IFERROR(VLOOKUP(Tabla_SERIED_12_5[[#This Row],[IdEstablecimiento]],'[1]Establecimiento 2023'!$A$1:$E$183,5,FALSE),0)","v":"04102-Coquimbo"},"15080009","2022-05-18T11:53:56",3,{"$nulls":8},3]
[{"$nulls":23},2,"5",2022,"105488",{"$f":"IFERROR(VLOOKUP(Tabla_SERIED_12_5[[#This Row],[IdEstablecimiento]],'[1]Establecimiento 2023'!$A$1:$E$183,3,FALSE),0)","v":"105488-Posta de Salud Rural Espíritu Santo"},{"$f":"IFERROR(VLOOKUP(Tabla_SERIED_12_5[[#This Row],[IdEstablecimiento]],'[1]Establecimiento 2023'!$A$1:$E$183,5,FALSE),0)","v":"04202-Canela"},"16200220","2022-03-17T09:56:27",2,1,1]
[{"$nulls":23},6,"5",2022,"105304",{"$f":"IFERROR(VLOOKUP(Tabla_SERIED_12_5[[#This Row],[IdEstablecimiento]],'[1]Establecimiento 2023'!$A$1:$E$183,3,FALSE),0)","v":"105304-Centro de Salud Familiar Santa Cecilia"},{"$f":"IFERROR(VLOOKUP(Tabla_SERIED_12_5[[#This Row],[IdEstablecimiento]],'[1]Establecimiento 2023'!$A$1:$E$183,5,FALSE),0)","v":"04102-Coquimbo"},"15080009","2022-07-14T13:37:00",6,{"$nulls":8},6,0,0,0]
[{"$nulls":23},6,"5",2022,"105304",{"$f":"IFERROR(VLOOKUP(Tabla_SERIED_12_5[[#This Row],[IdEstablecimiento]],'[1]Establecimiento 2023'!$A$1:$E$183,3,FALSE),0)","v":"105304-Centro de Salud Familiar Santa Cecilia"},{"$f":"IFERROR(VLOOKUP(Tabla_SERIED_12_5[[#This Row],[IdEstablecimiento]],'[1]Establecimiento 2023'!$A$1:$E$183,5,FALSE),0)","v":"04102-Coquimbo"},"15900020","2022-07-14T13:37:00",37.9,0,10.4,27.5]
[{"$nulls":23},6,"5",2022,"105304",{"$f":"IFERROR(VLOOKUP(Tabla_SERIED_12_5[[#This Row],[IdEstablecimiento]],'[1]Establecimiento 2023'!$A$1:$E$183,3,FALSE),0)","v":"105304-Centro de Salud Familiar Santa Cecilia"},{"$f":"IFERROR(VLOOKUP(Tabla_SERIED_12_5[[#This Row],[IdEstablecimiento]],'[1]Establecimiento 2023'!$A$1:$E$183,5,FALSE),0)","v":"04102-Coquimbo"},"15030100","2022-07-14T13:37:00",10.4,10.4,0,0]
[{"$nulls":23},4,"5",2022,"105496",{"$f":"IFERROR(VLOOKUP(Tabla_SERIED_12_5[[#This Row],[IdEstablecimiento]],'[1]Establecimiento 2023'!$A$1:$E$183,3,FALSE),0)","v":"105496-Posta de Salud Rural Pintacura Sur"},{"$f":"IFERROR(VLOOKUP(Tabla_SERIED_12_5[[#This Row],[IdEstablecimiento]],'[1]Establecimiento 2023'!$A$1:$E$183,5,FALSE),0)","v":"04201-Illapel"},"15900010","2022-05-18T15:17:58",6.4,null,null,6.4]
[{"$nulls":23},4,"5",2022,"105496",{"$f":"IFERROR(VLOOKUP(Tabla_SERIED_12_5[[#This Row],[IdEstablecimiento]],'[1]Establecimiento 2023'!$A$1:$E$183,3,FALSE),0)","v":"105496-Posta de Salud Rural Pintacura Sur"},{"$f":"IFERROR(VLOOKUP(Tabla_SERIED_12_5[[#This Row],[IdEstablecimiento]],'[1]Establecimiento 2023'!$A$1:$E$183,5,FALSE),0)","v":"04201-Illapel"},"15050100","2022-05-18T15:17:58",2,null,2,null,null,2]
[{"$nulls":23},4,"5",2022,"105496",{"$f":"IFERROR(VLOOKUP(Tabla_SERIED_12_5[[#This Row],[IdEstablecimiento]],'[1]Establecimiento 2023'!$A$1:$E$183,3,FALSE),0)","v":"105496-Posta de Salud Rural Pintacura Sur"},{"$f":"IFERROR(VLOOKUP(Tabla_SERIED_12_5[[#This Row],[IdEstablecimiento]],'[1]Establecimiento 2023'!$A$1:$E$183,5,FALSE),0)","v":"04201-Illapel"},"16090300","2022-05-18T15:17:58",31,31]
[{"$nulls":23},4,"5",2022,"105496",{"$f":"IFERROR(VLOOKUP(Tabla_SERIED_12_5[[#This Row],[IdEstablecimiento]],'[1]Establecimiento 2023'!$A$1:$E$183,3,FALSE),0)","v":"105496-Posta de Salud Rural Pintacura Sur"},{"$f":"IFERROR(VLOOKUP(Tabla_SERIED_12_5[[#This Row],[IdEstablecimiento]],'[1]Establecimiento 2023'!$A$1:$E$183,5,FALSE),0)","v":"04201-Illapel"},"16200210","2022-05-18T15:17:58",6,6]
[{"$nulls":23},4,"5",2022,"105496",{"$f":"IFERROR(VLOOKUP(Tabla_SERIED_12_5[[#This Row],[IdEstablecimiento]],'[1]Establecimiento 2023'!$A$1:$E$183,3,FALSE),0)","v":"105496-Posta de Salud Rural Pintacura Sur"},{"$f":"IFERROR(VLOOKUP(Tabla_SERIED_12_5[[#This Row],[IdEstablecimiento]],'[1]Establecimiento 2023'!$A$1:$E$183,5,FALSE),0)","v":"04201-Illapel"},"16100300","2022-05-18T15:17:58",31,15,16]
[{"$nulls":23},4,"5",2022,"105496",{"$f":"IFERROR(VLOOKUP(Tabla_SERIED_12_5[[#This Row],[IdEstablecimiento]],'[1]Establecimiento 2023'!$A$1:$E$183,3,FALSE),0)","v":"105496-Posta de Salud Rural Pintacura Sur"},{"$f":"IFERROR(VLOOKUP(Tabla_SERIED_12_5[[#This Row],[IdEstablecimiento]],'[1]Establecimiento 2023'!$A$1:$E$183,5,FALSE),0)","v":"04201-Illapel"},"16200220","2022-05-18T15:17:58",6,4,2]
[{"$nulls":23},4,"5",2022,"105497",{"$f":"IFERROR(VLOOKUP(Tabla_SERIED_12_5[[#This Row],[IdEstablecimiento]],'[1]Establecimiento 2023'!$A$1:$E$183,3,FALSE),0)","v":"105497-Posta de Salud Rural Jabonería"},{"$f":"IFERROR(VLOOKUP(Tabla_SERIED_12_5[[#This Row],[IdEstablecimiento]],'[1]Establecimiento 2023'!$A$1:$E$183,5,FALSE),0)","v":"04202-Canela"},"16090300","2022-05-18T15:18:14",22,22]
[{"$nulls":23},4,"5",2022,"105497",{"$f":"IFERROR(VLOOKUP(Tabla_SERIED_12_5[[#This Row],[IdEstablecimiento]],'[1]Establecimiento 2023'!$A$1:$E$183,3,FALSE),0)","v":"105497-Posta de Salud Rural Jabonería"},{"$f":"IFERROR(VLOOKUP(Tabla_SERIED_12_5[[#This Row],[IdEstablecimiento]],'[1]Establecimiento 2023'!$A$1:$E$183,5,FALSE),0)","v":"04202-Canela"},"16200210","2022-05-18T15:18:14",5,5]
[{"$nulls":23},4,"5",2022,"105497",{"$f":"IFERROR(VLOOKUP(Tabla_SERIED_12_5[[#This Row],[IdEstablecimiento]],'[1]Establecimiento 2023'!$A$1:$E$183,3,FALSE),0)","v":"105497-Posta de Salud Rural Jabonería"},{"$f":"IFERROR(VLOOKUP(Tabla_SERIED_12_5[[#This Row],[IdEstablecimiento]],'[1]Establecimiento 2023'!$A$1:$E$183,5,FALSE),0)","v":"04202-Canela"},"16100300","2022-05-18T15:18:14",22,8,14,0,0]
[{"$nulls":23},4,"5",2022,"105497",{"$f":"IFERROR(VLOOKUP(Tabla_SERIED_12_5[[#This Row],[IdEstablecimiento]],'[1]Establecimiento 2023'!$A$1:$E$183,3,FALSE),0)","v":"105497-Posta de Salud Rural Jabonería"},{"$f":"IFERROR(VLOOKUP(Tabla_SERIED_12_5[[#This Row],[IdEstablecimiento]],'[1]Establecimiento 2023'!$A$1:$E$183,5,FALSE),0)","v":"04202-Canela"},"16200220","2022-05-18T15:18:14",5,3,2,0,0]
[{"$nulls":23},4,"5",2022,"105498",{"$f":"IFERROR(VLOOKUP(Tabla_SERIED_12_5[[#This Row],[IdEstablecimiento]],'[1]Establecimiento 2023'!$A$1:$E$183,3,FALSE),0)","v":"105498-Posta de Salud Rural Quebrada Linares"},{"$f":"IFERROR(VLOOKUP(Tabla_SERIED_12_5[[#This Row],[IdEstablecimiento]],'[1]Establecimiento 2023'!$A$1:$E$183,5,FALSE),0)","v":"04202-Canela"},"15010200","2022-05-18T15:18:29",2,{"$nulls":4},2]
[{"$nulls":23},4,"5",2022,"105498",{"$f":"IFERROR(VLOOKUP(Tabla_SERIED_12_5[[#This Row],[IdEstablecimiento]],'[1]Establecimiento 2023'!$A$1:$E$183,3,FALSE),0)","v":"105498-Posta de Salud Rural Quebrada Linares"},{"$f":"IFERROR(VLOOKUP(Tabla_SERIED_12_5[[#This Row],[IdEstablecimiento]],'[1]Establecimiento 2023'!$A$1:$E$183,5,FALSE),0)","v":"04202-Canela"},"15050100","2022-05-18T15:18:29",1,1,{"$nulls":5},1]
[{"$nulls":23},4,"5",2022,"105498",{"$f":"IFERROR(VLOOKUP(Tabla_SERIED_12_5[[#This Row],[IdEstablecimiento]],'[1]Establecimiento 2023'!$A$1:$E$183,3,FALSE),0)","v":"105498-Posta de Salud Rural Quebrada Linares"},{"$f":"IFERROR(VLOOKUP(Tabla_SERIED_12_5[[#This Row],[IdEstablecimiento]],'[1]Establecimiento 2023'!$A$1:$E$183,5,FALSE),0)","v":"04202-Canela"},"16090300","2022-05-18T15:18:29",20,20]
[{"$nulls":23},4,"5",2022,"105498",{"$f":"IFERROR(VLOOKUP(Tabla_SERIED_12_5[[#This Row],[IdEstablecimiento]],'[1]Establecimiento 2023'!$A$1:$E$183,3,FALSE),0)","v":"105498-Posta de Salud Rural Quebrada Linares"},{"$f":"IFERROR(VLOOKUP(Tabla_SERIED_12_5[[#This Row],[IdEstablecimiento]],'[1]Establecimiento 2023'!$A$1:$E$183,5,FALSE),0)","v":"04202-Canela"},"16200210","2022-05-18T15:18:29",5,5]
[{"$nulls":23},4,"5",2022,"105498",{"$f":"IFERROR(VLOOKUP(Tabla_SERIED_12_5[[#This Row],[IdEstablecimiento]],'[1]Establecimiento 2023'!$A$1:$E$183,3,FALSE),0)","v":"105498-Posta de Salud Rural Quebrada Linares"},{"$f":"IFERROR(VLOOKUP(Tabla_SERIED_12_5[[#This Row],[IdEstablecimiento]],'[1]Establecimiento 2023'!$A$1:$E$183,5,FALSE),0)","v":"04202-Canela"},"16090500","2022-05-18T15:18:29",1,1]
[{"$nulls":23},4,"5",2022,"105498",{"$f":"IFERROR(VLOOKUP(Tabla_SERIED_12_5[[#This Row],[IdEstablecimiento]],'[1]Establecimiento 2023'!$A$1:$E$183,3,FALSE),0)","v":"105498-Posta de Salud Rural Quebrada Linares"},{"$f":"IFERROR(VLOOKUP(Tabla_SERIED_12_5[[#This Row],[IdEstablecimiento]],'[1]Establecimiento 2023'!$A$1:$E$183,5,FALSE),0)","v":"04202-Canela"},"16100300","2022-05-18T15:18:29",20,12,8]
[{"$nulls":23},4,"5",2022,"105498",{"$f":"IFERROR(VLOOKUP(Tabla_SERIED_12_5[[#This Row],[IdEstablecimiento]],'[1]Establecimiento 2023'!$A$1:$E$183,3,FALSE),0)","v":"105498-Posta de Salud Rural Quebrada Linares"},{"$f":"IFERROR(VLOOKUP(Tabla_SERIED_12_5[[#This Row],[IdEstablecimiento]],'[1]Establecimiento 2023'!$A$1:$E$183,5,FALSE),0)","v":"04202-Canela"},"16200220","2022-05-18T15:18:29",5,3,2]
[{"$nulls":23},7,"5",2022,"105480",{"$f":"IFERROR(VLOOKUP(Tabla_SERIED_12_5[[#This Row],[IdEstablecimiento]],'[1]Establecimiento 2023'!$A$1:$E$183,3,FALSE),0)","v":"105480-Posta de Salud Rural Quilimarí"},{"$f":"IFERROR(VLOOKUP(Tabla_SERIED_12_5[[#This Row],[IdEstablecimiento]],'[1]Establecimiento 2023'!$A$1:$E$183,5,FALSE),0)","v":"04203-Los Vilos"},"15900020","2022-08-22T06:31:46",0.9,null,null,0.9]
[{"$nulls":23},7,"5",2022,"200607",{"$f":"IFERROR(VLOOKUP(Tabla_SERIED_12_5[[#This Row],[IdEstablecimiento]],'[1]Establecimiento 2023'!$A$1:$E$183,3,FALSE),0)","v":"200607-Centro de Salud Familiar Lila Cortés Godoy"},{"$f":"IFERROR(VLOOKUP(Tabla_SERIED_12_5[[#This Row],[IdEstablecimiento]],'[1]Establecimiento 2023'!$A$1:$E$183,5,FALSE),0)","v":"04102-Coquimbo"},"15010400","2022-08-22T06:52:05",6,{"$nulls":4},2,4,0]
[{"$nulls":23},7,"5",2022,"200607",{"$f":"IFERROR(VLOOKUP(Tabla_SERIED_12_5[[#This Row],[IdEstablecimiento]],'[1]Establecimiento 2023'!$A$1:$E$183,3,FALSE),0)","v":"200607-Centro de Salud Familiar Lila Cortés Godoy"},{"$f":"IFERROR(VLOOKUP(Tabla_SERIED_12_5[[#This Row],[IdEstablecimiento]],'[1]Establecimiento 2023'!$A$1:$E$183,5,FALSE),0)","v":"04102-Coquimbo"},"15010500","2022-08-22T06:52:05",12,null,0,0,6,2,4,0]
[{"$nulls":23},7,"5",2022,"200607",{"$f":"IFERROR(VLOOKUP(Tabla_SERIED_12_5[[#This Row],[IdEstablecimiento]],'[1]Establecimiento 2023'!$A$1:$E$183,3,FALSE),0)","v":"200607-Centro de Salud Familiar Lila Cortés Godoy"},{"$f":"IFERROR(VLOOKUP(Tabla_SERIED_12_5[[#This Row],[IdEstablecimiento]],'[1]Establecimiento 2023'!$A$1:$E$183,5,FALSE),0)","v":"04102-Coquimbo"},"15080009","2022-08-22T06:52:05",3,{"$nulls":8},3,0,0,0]
[{"$nulls":23},2,"5",2022,"105489",{"$f":"IFERROR(VLOOKUP(Tabla_SERIED_12_5[[#This Row],[IdEstablecimiento]],'[1]Establecimiento 2023'!$A$1:$E$183,3,FALSE),0)","v":"105489-Posta de Salud Rural Ramadas de Tulahuén"},{"$f":"IFERROR(VLOOKUP(Tabla_SERIED_12_5[[#This Row],[IdEstablecimiento]],'[1]Establecimiento 2023'!$A$1:$E$183,5,FALSE),0)","v":"04303-Monte Patria"},"15010100","2022-03-17T09:56:43",4,{"$nulls":3},4]
[{"$nulls":23},2,"5",2022,"105489",{"$f":"IFERROR(VLOOKUP(Tabla_SERIED_12_5[[#This Row],[IdEstablecimiento]],'[1]Establecimiento 2023'!$A$1:$E$183,3,FALSE),0)","v":"105489-Posta de Salud Rural Ramadas de Tulahuén"},{"$f":"IFERROR(VLOOKUP(Tabla_SERIED_12_5[[#This Row],[IdEstablecimiento]],'[1]Establecimiento 2023'!$A$1:$E$183,5,FALSE),0)","v":"04303-Monte Patria"},"15010200","2022-03-17T09:56:43",6,{"$nulls":5},4,2]
[{"$nulls":23},2,"5",2022,"105489",{"$f":"IFERROR(VLOOKUP(Tabla_SERIED_12_5[[#This Row],[IdEstablecimiento]],'[1]Establecimiento 2023'!$A$1:$E$183,3,FALSE),0)","v":"105489-Posta de Salud Rural Ramadas de Tulahuén"},{"$f":"IFERROR(VLOOKUP(Tabla_SERIED_12_5[[#This Row],[IdEstablecimiento]],'[1]Establecimiento 2023'!$A$1:$E$183,5,FALSE),0)","v":"04303-Monte Patria"},"15080008","2022-03-17T09:56:43",1,{"$nulls":10},1]
[{"$nulls":23},2,"5",2022,"105464",{"$f":"IFERROR(VLOOKUP(Tabla_SERIED_12_5[[#This Row],[IdEstablecimiento]],'[1]Establecimiento 2023'!$A$1:$E$183,3,FALSE),0)","v":"105464-Posta de Salud Rural La Ligua"},{"$f":"IFERROR(VLOOKUP(Tabla_SERIED_12_5[[#This Row],[IdEstablecimiento]],'[1]Establecimiento 2023'!$A$1:$E$183,5,FALSE),0)","v":"04302-Combarbalá"},"15080008","2022-03-17T09:48:53",3,{"$nulls":7},1,null,null,1,1]
[{"$nulls":23},2,"5",2022,"105459",{"$f":"IFERROR(VLOOKUP(Tabla_SERIED_12_5[[#This Row],[IdEstablecimiento]],'[1]Establecimiento 2023'!$A$1:$E$183,3,FALSE),0)","v":"105459-Posta de Salud Rural Barrancas"},{"$f":"IFERROR(VLOOKUP(Tabla_SERIED_12_5[[#This Row],[IdEstablecimiento]],'[1]Establecimiento 2023'!$A$1:$E$183,5,FALSE),0)","v":"04302-Combarbalá"},"15010100","2022-03-17T09:46:00",4,null,null,2,2]
[{"$nulls":23},2,"5",2022,"105459",{"$f":"IFERROR(VLOOKUP(Tabla_SERIED_12_5[[#This Row],[IdEstablecimiento]],'[1]Establecimiento 2023'!$A$1:$E$183,3,FALSE),0)","v":"105459-Posta de Salud Rural Barrancas"},{"$f":"IFERROR(VLOOKUP(Tabla_SERIED_12_5[[#This Row],[IdEstablecimiento]],'[1]Establecimiento 2023'!$A$1:$E$183,5,FALSE),0)","v":"04302-Combarbalá"},"15010200","2022-03-17T09:46:00",14,{"$nulls":5},4,10]
[{"$nulls":23},2,"5",2022,"105506",{"$f":"IFERROR(VLOOKUP(Tabla_SERIED_12_5[[#This Row],[IdEstablecimiento]],'[1]Establecimiento 2023'!$A$1:$E$183,3,FALSE),0)","v":"105506-Posta de Salud Rural El Trapiche"},{"$f":"IFERROR(VLOOKUP(Tabla_SERIED_12_5[[#This Row],[IdEstablecimiento]],'[1]Establecimiento 2023'!$A$1:$E$183,5,FALSE),0)","v":"04104-La Higuera"},"15010200","2022-06-22T11:16:39",6,{"$nulls":4},4,2]
[{"$nulls":23},2,"5",2022,"105506",{"$f":"IFERROR(VLOOKUP(Tabla_SERIED_12_5[[#This Row],[IdEstablecimiento]],'[1]Establecimiento 2023'!$A$1:$E$183,3,FALSE),0)","v":"105506-Posta de Salud Rural El Trapiche"},{"$f":"IFERROR(VLOOKUP(Tabla_SERIED_12_5[[#This Row],[IdEstablecimiento]],'[1]Establecimiento 2023'!$A$1:$E$183,5,FALSE),0)","v":"04104-La Higuera"},"15080008","2022-06-22T11:16:39",1,{"$nulls":7},1]
[{"$nulls":23},2,"5",2022,"105506",{"$f":"IFERROR(VLOOKUP(Tabla_SERIED_12_5[[#This Row],[IdEstablecimiento]],'[1]Establecimiento 2023'!$A$1:$E$183,3,FALSE),0)","v":"105506-Posta de Salud Rural El Trapiche"},{"$f":"IFERROR(VLOOKUP(Tabla_SERIED_12_5[[#This Row],[IdEstablecimiento]],'[1]Establecimiento 2023'!$A$1:$E$183,5,FALSE),0)","v":"04104-La Higuera"},"15900010","2022-06-22T11:16:39",3,null,null,3]
[{"$nulls":23},2,"5",2022,"105506",{"$f":"IFERROR(VLOOKUP(Tabla_SERIED_12_5[[#This Row],[IdEstablecimiento]],'[1]Establecimiento 2023'!$A$1:$E$183,3,FALSE),0)","v":"105506-Posta de Salud Rural El Trapiche"},{"$f":"IFERROR(VLOOKUP(Tabla_SERIED_12_5[[#This Row],[IdEstablecimiento]],'[1]Establecimiento 2023'!$A$1:$E$183,5,FALSE),0)","v":"04104-La Higuera"},"15050100","2022-06-22T11:16:39",5,3,2,null,null,1,null,2,1,null,1]
[{"$nulls":23},2,"5",2022,"105506",{"$f":"IFERROR(VLOOKUP(Tabla_SERIED_12_5[[#This Row],[IdEstablecimiento]],'[1]Establecimiento 2023'!$A$1:$E$183,3,FALSE),0)","v":"105506-Posta de Salud Rural El Trapiche"},{"$f":"IFERROR(VLOOKUP(Tabla_SERIED_12_5[[#This Row],[IdEstablecimiento]],'[1]Establecimiento 2023'!$A$1:$E$183,5,FALSE),0)","v":"04104-La Higuera"},"16090300","2022-06-22T11:16:39",6,6]
[{"$nulls":23},2,"5",2022,"105506",{"$f":"IFERROR(VLOOKUP(Tabla_SERIED_12_5[[#This Row],[IdEstablecimiento]],'[1]Establecimiento 2023'!$A$1:$E$183,3,FALSE),0)","v":"105506-Posta de Salud Rural El Trapiche"},{"$f":"IFERROR(VLOOKUP(Tabla_SERIED_12_5[[#This Row],[IdEstablecimiento]],'[1]Establecimiento 2023'!$A$1:$E$183,5,FALSE),0)","v":"04104-La Higuera"},"16100300","2022-06-22T11:16:39",6,1,5]
[{"$nulls":23},2,"5",2022,"105459",{"$f":"IFERROR(VLOOKUP(Tabla_SERIED_12_5[[#This Row],[IdEstablecimiento]],'[1]Establecimiento 2023'!$A$1:$E$183,3,FALSE),0)","v":"105459-Posta de Salud Rural Barrancas"},{"$f":"IFERROR(VLOOKUP(Tabla_SERIED_12_5[[#This Row],[IdEstablecimiento]],'[1]Establecimiento 2023'!$A$1:$E$183,5,FALSE),0)","v":"04302-Combarbalá"},"15080008","2022-03-17T09:46:00",5,{"$nulls":9},4,1]
[{"$nulls":23},2,"5",2022,"105459",{"$f":"IFERROR(VLOOKUP(Tabla_SERIED_12_5[[#This Row],[IdEstablecimiento]],'[1]Establecimiento 2023'!$A$1:$E$183,3,FALSE),0)","v":"105459-Posta de Salud Rural Barrancas"},{"$f":"IFERROR(VLOOKUP(Tabla_SERIED_12_5[[#This Row],[IdEstablecimiento]],'[1]Establecimiento 2023'!$A$1:$E$183,5,FALSE),0)","v":"04302-Combarbalá"},"15050100","2022-03-17T09:46:00",12,6,6,null,null,1,1,null,2,5,null,null,2,1]
[{"$nulls":23},2,"5",2022,"105459",{"$f":"IFERROR(VLOOKUP(Tabla_SERIED_12_5[[#This Row],[IdEstablecimiento]],'[1]Establecimiento 2023'!$A$1:$E$183,3,FALSE),0)","v":"105459-Posta de Salud Rural Barrancas"},{"$f":"IFERROR(VLOOKUP(Tabla_SERIED_12_5[[#This Row],[IdEstablecimiento]],'[1]Establecimiento 2023'!$A$1:$E$183,5,FALSE),0)","v":"04302-Combarbalá"},"16090300","2022-03-17T09:46:00",51,51]
[{"$nulls":23},3,"5",2022,"105451",{"$f":"IFERROR(VLOOKUP(Tabla_SERIED_12_5[[#This Row],[IdEstablecimiento]],'[1]Establecimiento 2023'!$A$1:$E$183,3,FALSE),0)","v":"105451-Posta de Salud Rural Agua Fría"},{"$f":"IFERROR(VLOOKUP(Tabla_SERIED_12_5[[#This Row],[IdEstablecimiento]],'[1]Establecimiento 2023'!$A$1:$E$183,5,FALSE),0)","v":"04202-Canela"},"15050100","2022-04-19T09:48:21",3,1,2,{"$nulls":3},2,null,null,1]
[{"$nulls":23},3,"5",2022,"105451",{"$f":"IFERROR(VLOOKUP(Tabla_SERIED_12_5[[#This Row],[IdEstablecimiento]],'[1]Establecimiento 2023'!$A$1:$E$183,3,FALSE),0)","v":"105451-Posta de Salud Rural Agua Fría"},{"$f":"IFERROR(VLOOKUP(Tabla_SERIED_12_5[[#This Row],[IdEstablecimiento]],'[1]Establecimiento 2023'!$A$1:$E$183,5,FALSE),0)","v":"04202-Canela"},"16090300","2022-04-19T09:48:21",68,68]
[{"$nulls":23},3,"5",2022,"105451",{"$f":"IFERROR(VLOOKUP(Tabla_SERIED_12_5[[#This Row],[IdEstablecimiento]],'[1]Establecimiento 2023'!$A$1:$E$183,3,FALSE),0)","v":"105451-Posta de Salud Rural Agua Fría"},{"$f":"IFERROR(VLOOKUP(Tabla_SERIED_12_5[[#This Row],[IdEstablecimiento]],'[1]Establecimiento 2023'!$A$1:$E$183,5,FALSE),0)","v":"04202-Canela"},"16200210","2022-04-19T09:48:21",7,7]
[{"$nulls":23},8,"5",2022,"105104",{"$f":"IFERROR(VLOOKUP(Tabla_SERIED_12_5[[#This Row],[IdEstablecimiento]],'[1]Establecimiento 2023'!$A$1:$E$183,3,FALSE),0)","v":"105104-Hospital de Salamanca"},{"$f":"IFERROR(VLOOKUP(Tabla_SERIED_12_5[[#This Row],[IdEstablecimiento]],'[1]Establecimiento 2023'!$A$1:$E$183,5,FALSE),0)","v":"105104-Hospital Salamanca"},"15010100","2022-09-21T07:13:31",52,{"$nulls":3},52,0]
[{"$nulls":23},8,"5",2022,"105104",{"$f":"IFERROR(VLOOKUP(Tabla_SERIED_12_5[[#This Row],[IdEstablecimiento]],'[1]Establecimiento 2023'!$A$1:$E$183,3,FALSE),0)","v":"105104-Hospital de Salamanca"},{"$f":"IFERROR(VLOOKUP(Tabla_SERIED_12_5[[#This Row],[IdEstablecimiento]],'[1]Establecimiento 2023'!$A$1:$E$183,5,FALSE),0)","v":"105104-Hospital Salamanca"},"15010200","2022-09-21T07:13:31",237,{"$nulls":4},46,108,83]
[{"$nulls":23},8,"5",2022,"105104",{"$f":"IFERROR(VLOOKUP(Tabla_SERIED_12_5[[#This Row],[IdEstablecimiento]],'[1]Establecimiento 2023'!$A$1:$E$183,3,FALSE),0)","v":"105104-Hospital de Salamanca"},{"$f":"IFERROR(VLOOKUP(Tabla_SERIED_12_5[[#This Row],[IdEstablecimiento]],'[1]Establecimiento 2023'!$A$1:$E$183,5,FALSE),0)","v":"105104-Hospital Salamanca"},"15080008","2022-09-21T07:13:31",81,{"$nulls":7},50,null,26,1,4]
[{"$nulls":23},8,"5",2022,"105104",{"$f":"IFERROR(VLOOKUP(Tabla_SERIED_12_5[[#This Row],[IdEstablecimiento]],'[1]Establecimiento 2023'!$A$1:$E$183,3,FALSE),0)","v":"105104-Hospital de Salamanca"},{"$f":"IFERROR(VLOOKUP(Tabla_SERIED_12_5[[#This Row],[IdEstablecimiento]],'[1]Establecimiento 2023'!$A$1:$E$183,5,FALSE),0)","v":"105104-Hospital Salamanca"},"15900010","2022-09-21T07:13:31",105.3,5.4,14.4,85.5]
[{"$nulls":23},2,"5",2022,"105325",{"$f":"IFERROR(VLOOKUP(Tabla_SERIED_12_5[[#This Row],[IdEstablecimiento]],'[1]Establecimiento 2023'!$A$1:$E$183,3,FALSE),0)","v":"105325-Centro de Salud Familiar Juan Pablo II (La Serena)"},{"$f":"IFERROR(VLOOKUP(Tabla_SERIED_12_5[[#This Row],[IdEstablecimiento]],'[1]Establecimiento 2023'!$A$1:$E$183,5,FALSE),0)","v":"04101-La Serena"},"15050100","2022-03-17T09:32:05",461,191,270,4,24,43,58,42,101,100,53,null,23,6,7]
[{"$nulls":23},2,"5",2022,"105325",{"$f":"IFERROR(VLOOKUP(Tabla_SERIED_12_5[[#This Row],[IdEstablecimiento]],'[1]Establecimiento 2023'!$A$1:$E$183,3,FALSE),0)","v":"105325-Centro de Salud Familiar Juan Pablo II (La Serena)"},{"$f":"IFERROR(VLOOKUP(Tabla_SERIED_12_5[[#This Row],[IdEstablecimiento]],'[1]Establecimiento 2023'!$A$1:$E$183,5,FALSE),0)","v":"04101-La Serena"},"15050200","2022-03-17T09:32:05",12,4,8,0,0,4,2,2,4,0,null,0,0,0,0]
[{"$nulls":23},7,"5",2022,"200607",{"$f":"IFERROR(VLOOKUP(Tabla_SERIED_12_5[[#This Row],[IdEstablecimiento]],'[1]Establecimiento 2023'!$A$1:$E$183,3,FALSE),0)","v":"200607-Centro de Salud Familiar Lila Cortés Godoy"},{"$f":"IFERROR(VLOOKUP(Tabla_SERIED_12_5[[#This Row],[IdEstablecimiento]],'[1]Establecimiento 2023'!$A$1:$E$183,5,FALSE),0)","v":"04102-Coquimbo"},"15030100","2022-08-22T06:52:05",31.2,7.2,24,0]
[{"$nulls":23},2,"5",2022,"105445",{"$f":"IFERROR(VLOOKUP(Tabla_SERIED_12_5[[#This Row],[IdEstablecimiento]],'[1]Establecimiento 2023'!$A$1:$E$183,3,FALSE),0)","v":"105445-Posta de Salud Rural Limáhuida"},{"$f":"IFERROR(VLOOKUP(Tabla_SERIED_12_5[[#This Row],[IdEstablecimiento]],'[1]Establecimiento 2023'!$A$1:$E$183,5,FALSE),0)","v":"04201-Illapel"},"15010500","2022-03-17T09:42:54",2,{"$nulls":5},2]
[{"$nulls":23},2,"5",2022,"105428",{"$f":"IFERROR(VLOOKUP(Tabla_SERIED_12_5[[#This Row],[IdEstablecimiento]],'[1]Establecimiento 2023'!$A$1:$E$183,3,FALSE),0)","v":"105428-Posta de Salud Rural Huatulame"},{"$f":"IFERROR(VLOOKUP(Tabla_SERIED_12_5[[#This Row],[IdEstablecimiento]],'[1]Establecimiento 2023'!$A$1:$E$183,5,FALSE),0)","v":"04303-Monte Patria"},"16090300","2022-03-17T09:38:39",168,168]
[{"$nulls":23},4,"5",2022,"105318",{"$f":"IFERROR(VLOOKUP(Tabla_SERIED_12_5[[#This Row],[IdEstablecimiento]],'[1]Establecimiento 2023'!$A$1:$E$183,3,FALSE),0)","v":"105318-Centro de Salud Familiar El Palqui"},{"$f":"IFERROR(VLOOKUP(Tabla_SERIED_12_5[[#This Row],[IdEstablecimiento]],'[1]Establecimiento 2023'!$A$1:$E$183,5,FALSE),0)","v":"04303-Monte Patria"},"16090500","2022-05-18T11:52:48",12,12]
[{"$nulls":23},4,"5",2022,"105318",{"$f":"IFERROR(VLOOKUP(Tabla_SERIED_12_5[[#This Row],[IdEstablecimiento]],'[1]Establecimiento 2023'!$A$1:$E$183,3,FALSE),0)","v":"105318-Centro de Salud Familiar El Palqui"},{"$f":"IFERROR(VLOOKUP(Tabla_SERIED_12_5[[#This Row],[IdEstablecimiento]],'[1]Establecimiento 2023'!$A$1:$E$183,5,FALSE),0)","v":"04303-Monte Patria"},"16100300","2022-05-18T11:52:48",341,167,174,5,29]
[{"$nulls":23},4,"5",2022,"105318",{"$f":"IFERROR(VLOOKUP(Tabla_SERIED_12_5[[#This Row],[IdEstablecimiento]],'[1]Establecimiento 2023'!$A$1:$E$183,3,FALSE),0)","v":"105318-Centro de Salud Familiar El Palqui"},{"$f":"IFERROR(VLOOKUP(Tabla_SERIED_12_5[[#This Row],[IdEstablecimiento]],'[1]Establecimiento 2023'!$A$1:$E$183,5,FALSE),0)","v":"04303-Monte Patria"},"16200220","2022-05-18T11:52:48",24,8,16,1,3]
[{"$nulls":23},4,"5",2022,"105318",{"$f":"IFERROR(VLOOKUP(Tabla_SERIED_12_5[[#This Row],[IdEstablecimiento]],'[1]Establecimiento 2023'!$A$1:$E$183,3,FALSE),0)","v":"105318-Centro de Salud Familiar El Palqui"},{"$f":"IFERROR(VLOOKUP(Tabla_SERIED_12_5[[#This Row],[IdEstablecimiento]],'[1]Establecimiento 2023'!$A$1:$E$183,5,FALSE),0)","v":"04303-Monte Patria"},"16100600","2022-05-18T11:52:48",12,4,8,null,2]
[{"$nulls":23},4,"5",2022,"105319",{"$f":"IFERROR(VLOOKUP(Tabla_SERIED_12_5[[#This Row],[IdEstablecimiento]],'[1]Establecimiento 2023'!$A$1:$E$183,3,FALSE),0)","v":"105319-Centro de Salud Familiar Cardenal Raúl Silva Henríquez de La Serena"},{"$f":"IFERROR(VLOOKUP(Tabla_SERIED_12_5[[#This Row],[IdEstablecimiento]],'[1]Establecimiento 2023'!$A$1:$E$183,5,FALSE),0)","v":"04101-La Serena"},"15010100","2022-05-18T11:53:01",208,null,null,30,178]
[{"$nulls":23},4,"5",2022,"105319",{"$f":"IFERROR(VLOOKUP(Tabla_SERIED_12_5[[#This Row],[IdEstablecimiento]],'[1]Establecimiento 2023'!$A$1:$E$183,3,FALSE),0)","v":"105319-Centro de Salud Familiar Cardenal Raúl Silva Henríquez de La Serena"},{"$f":"IFERROR(VLOOKUP(Tabla_SERIED_12_5[[#This Row],[IdEstablecimiento]],'[1]Establecimiento 2023'!$A$1:$E$183,5,FALSE),0)","v":"04101-La Serena"},"15010200","2022-05-18T11:53:01",710,{"$nulls":4},156,352,202]
[{"$nulls":23},4,"5",2022,"105319",{"$f":"IFERROR(VLOOKUP(Tabla_SERIED_12_5[[#This Row],[IdEstablecimiento]],'[1]Establecimiento 2023'!$A$1:$E$183,3,FALSE),0)","v":"105319-Centro de Salud Familiar Cardenal Raúl Silva Henríquez de La Serena"},{"$f":"IFERROR(VLOOKUP(Tabla_SERIED_12_5[[#This Row],[IdEstablecimiento]],'[1]Establecimiento 2023'!$A$1:$E$183,5,FALSE),0)","v":"04101-La Serena"},"15080008","2022-05-18T11:53:01",141,{"$nulls":7},96,null,34,3,8]
[{"$nulls":23},4,"5",2022,"105319",{"$f":"IFERROR(VLOOKUP(Tabla_SERIED_12_5[[#This Row],[IdEstablecimiento]],'[1]Establecimiento 2023'!$A$1:$E$183,3,FALSE),0)","v":"105319-Centro de Salud Familiar Cardenal Raúl Silva Henríquez de La Serena"},{"$f":"IFERROR(VLOOKUP(Tabla_SERIED_12_5[[#This Row],[IdEstablecimiento]],'[1]Establecimiento 2023'!$A$1:$E$183,5,FALSE),0)","v":"04101-La Serena"},"15900010","2022-05-18T11:53:01",236.8,32,63.2,141.6]
[{"$nulls":23},4,"5",2022,"105319",{"$f":"IFERROR(VLOOKUP(Tabla_SERIED_12_5[[#This Row],[IdEstablecimiento]],'[1]Establecimiento 2023'!$A$1:$E$183,3,FALSE),0)","v":"105319-Centro de Salud Familiar Cardenal Raúl Silva Henríquez de La Serena"},{"$f":"IFERROR(VLOOKUP(Tabla_SERIED_12_5[[#This Row],[IdEstablecimiento]],'[1]Establecimiento 2023'!$A$1:$E$183,5,FALSE),0)","v":"04101-La Serena"},"15010300","2022-05-18T11:53:01",2,null,null,2]
[{"$nulls":23},4,"5",2022,"105319",{"$f":"IFERROR(VLOOKUP(Tabla_SERIED_12_5[[#This Row],[IdEstablecimiento]],'[1]Establecimiento 2023'!$A$1:$E$183,3,FALSE),0)","v":"105319-Centro de Salud Familiar Cardenal Raúl Silva Henríquez de La Serena"},{"$f":"IFERROR(VLOOKUP(Tabla_SERIED_12_5[[#This Row],[IdEstablecimiento]],'[1]Establecimiento 2023'!$A$1:$E$183,5,FALSE),0)","v":"04101-La Serena"},"15010400","2022-05-18T11:53:01",2,{"$nulls":5},2]
[{"$nulls":23},4,"5",2022,"105319",{"$f":"IFERROR(VLOOKUP(Tabla_SERIED_12_5[[#This Row],[IdEstablecimiento]],'[1]Establecimiento 2023'!$A$1:$E$183,3,FALSE),0)","v":"105319-Centro de Salud Familiar Cardenal Raúl Silva Henríquez de La Serena"},{"$f":"IFERROR(VLOOKUP(Tabla_SERIED_12_5[[#This Row],[IdEstablecimiento]],'[1]Establecimiento 2023'!$A$1:$E$183,5,FALSE),0)","v":"04101-La Serena"},"15010500","2022-05-18T11:53:01",4,null,null,2,null,null,2]
[{"$nulls":23},4,"5",2022,"105319",{"$f":"IFERROR(VLOOKUP(Tabla_SERIED_12_5[[#This Row],[IdEstablecimiento]],'[1]Establecimiento 2023'!$A$1:$E$183,3,FALSE),0)","v":"105319-Centro de Salud Familiar Cardenal Raúl Silva Henríquez de La Serena"},{"$f":"IFERROR(VLOOKUP(Tabla_SERIED_12_5[[#This Row],[IdEstablecimiento]],'[1]Establecimiento 2023'!$A$1:$E$183,5,FALSE),0)","v":"04101-La Serena"},"15080009","2022-05-18T11:53:01",6,{"$nulls":8},6]
[{"$nulls":23},4,"5",2022,"105319",{"$f":"IFERROR(VLOOKUP(Tabla_SERIED_12_5[[#This Row],[IdEstablecimiento]],'[1]Establecimiento 2023'!$A$1:$E$183,3,FALSE),0)","v":"105319-Centro de Salud Familiar Cardenal Raúl Silva Henríquez de La Serena"},{"$f":"IFERROR(VLOOKUP(Tabla_SERIED_12_5[[#This Row],[IdEstablecimiento]],'[1]Establecimiento 2023'!$A$1:$E$183,5,FALSE),0)","v":"04101-La Serena"},"15900030","2022-05-18T11:53:01",25.6,8.8,null,4,9.6,3.2]
[{"$nulls":23},4,"5",2022,"105319",{"$f":"IFERROR(VLOOKUP(Tabla_SERIED_12_5[[#This Row],[IdEstablecimiento]],'[1]Establecimiento 2023'!$A$1:$E$183,3,FALSE),0)","v":"105319-Centro de Salud Familiar Cardenal Raúl Silva Henríquez de La Serena"},{"$f":"IFERROR(VLOOKUP(Tabla_SERIED_12_5[[#This Row],[IdEstablecimiento]],'[1]Establecimiento 2023'!$A$1:$E$183,5,FALSE),0)","v":"04101-La Serena"},"15900040","2022-05-18T11:53:01",8.8,null,1.6,null,null,7.2]
[{"$nulls":23},4,"5",2022,"105319",{"$f":"IFERROR(VLOOKUP(Tabla_SERIED_12_5[[#This Row],[IdEstablecimiento]],'[1]Establecimiento 2023'!$A$1:$E$183,3,FALSE),0)","v":"105319-Centro de Salud Familiar Cardenal Raúl Silva Henríquez de La Serena"},{"$f":"IFERROR(VLOOKUP(Tabla_SERIED_12_5[[#This Row],[IdEstablecimiento]],'[1]Establecimiento 2023'!$A$1:$E$183,5,FALSE),0)","v":"04101-La Serena"},"15050100","2022-05-18T11:53:01",682,341,341,6,27,80,89,78,176,102,96,null,17,3,8]
[{"$nulls":23},4,"5",2022,"105319",{"$f":"IFERROR(VLOOKUP(Tabla_SERIED_12_5[[#This Row],[IdEstablecimiento]],'[1]Establecimiento 2023'!$A$1:$E$183,3,FALSE),0)","v":"105319-Centro de Salud Familiar Cardenal Raúl Silva Henríquez de La Serena"},{"$f":"IFERROR(VLOOKUP(Tabla_SERIED_12_5[[#This Row],[IdEstablecimiento]],'[1]Establecimiento 2023'!$A$1:$E$183,5,FALSE),0)","v":"04101-La Serena"},"15050200","2022-05-18T11:53:01",4,2,2,null,null,1,null,null,1,null,null,2]
[{"$nulls":23},1,"5",2022,"105305",{"$f":"IFERROR(VLOOKUP(Tabla_SERIED_12_5[[#This Row],[IdEstablecimiento]],'[1]Establecimiento 2023'!$A$1:$E$183,3,FALSE),0)","v":"105305-Centro de Salud Familiar Tierras Blancas"},{"$f":"IFERROR(VLOOKUP(Tabla_SERIED_12_5[[#This Row],[IdEstablecimiento]],'[1]Establecimiento 2023'!$A$1:$E$183,5,FALSE),0)","v":"04102-Coquimbo"},"15020100","2022-02-16T10:35:34",10,null,null,2,8]
[{"$nulls":23},1,"5",2022,"105305",{"$f":"IFERROR(VLOOKUP(Tabla_SERIED_12_5[[#This Row],[IdEstablecimiento]],'[1]Establecimiento 2023'!$A$1:$E$183,3,FALSE),0)","v":"105305-Centro de Salud Familiar Tierras Blancas"},{"$f":"IFERROR(VLOOKUP(Tabla_SERIED_12_5[[#This Row],[IdEstablecimiento]],'[1]Establecimiento 2023'!$A$1:$E$183,5,FALSE),0)","v":"04102-Coquimbo"},"15020200","2022-02-16T10:35:34",20,{"$nulls":4},6,8,6]
[{"$nulls":23},1,"5",2022,"105305",{"$f":"IFERROR(VLOOKUP(Tabla_SERIED_12_5[[#This Row],[IdEstablecimiento]],'[1]Establecimiento 2023'!$A$1:$E$183,3,FALSE),0)","v":"105305-Centro de Salud Familiar Tierras Blancas"},{"$f":"IFERROR(VLOOKUP(Tabla_SERIED_12_5[[#This Row],[IdEstablecimiento]],'[1]Establecimiento 2023'!$A$1:$E$183,5,FALSE),0)","v":"04102-Coquimbo"},"15901200","2022-02-16T10:35:34",6.4,{"$nulls":4},6.4]
[{"$nulls":23},1,"5",2022,"105305",{"$f":"IFERROR(VLOOKUP(Tabla_SERIED_12_5[[#This Row],[IdEstablecimiento]],'[1]Establecimiento 2023'!$A$1:$E$183,3,FALSE),0)","v":"105305-Centro de Salud Familiar Tierras Blancas"},{"$f":"IFERROR(VLOOKUP(Tabla_SERIED_12_5[[#This Row],[IdEstablecimiento]],'[1]Establecimiento 2023'!$A$1:$E$183,5,FALSE),0)","v":"04102-Coquimbo"},"15060100","2022-02-16T10:35:34",15,8,7,null,null,1,4,3,4,3]
[{"$nulls":23},2,"5",2022,"105432",{"$f":"IFERROR(VLOOKUP(Tabla_SERIED_12_5[[#This Row],[IdEstablecimiento]],'[1]Establecimiento 2023'!$A$1:$E$183,3,FALSE),0)","v":"105432-Posta de Salud Rural Rapel (Monte Patria)"},{"$f":"IFERROR(VLOOKUP(Tabla_SERIED_12_5[[#This Row],[IdEstablecimiento]],'[1]Establecimiento 2023'!$A$1:$E$183,5,FALSE),0)","v":"04303-Monte Patria"},"15080008","2022-05-18T15:46:58",1,{"$nulls":7},1]
[{"$nulls":23},2,"5",2022,"105325",{"$f":"IFERROR(VLOOKUP(Tabla_SERIED_12_5[[#This Row],[IdEstablecimiento]],'[1]Establecimiento 2023'!$A$1:$E$183,3,FALSE),0)","v":"105325-Centro de Salud Familiar Juan Pablo II (La Serena)"},{"$f":"IFERROR(VLOOKUP(Tabla_SERIED_12_5[[#This Row],[IdEstablecimiento]],'[1]Establecimiento 2023'!$A$1:$E$183,5,FALSE),0)","v":"04101-La Serena"},"15050500","2022-03-17T09:32:05",5,3,2,1,2,2]
[{"$nulls":23},7,"5",2022,"105307",{"$f":"IFERROR(VLOOKUP(Tabla_SERIED_12_5[[#This Row],[IdEstablecimiento]],'[1]Establecimiento 2023'!$A$1:$E$183,3,FALSE),0)","v":"105307-Centro de Salud Familiar Monte Patria"},{"$f":"IFERROR(VLOOKUP(Tabla_SERIED_12_5[[#This Row],[IdEstablecimiento]],'[1]Establecimiento 2023'!$A$1:$E$183,5,FALSE),0)","v":"04303-Monte Patria"},"16090300","2022-08-19T11:59:37",292,259]
[{"$nulls":23},7,"5",2022,"105307",{"$f":"IFERROR(VLOOKUP(Tabla_SERIED_12_5[[#This Row],[IdEstablecimiento]],'[1]Establecimiento 2023'!$A$1:$E$183,3,FALSE),0)","v":"105307-Centro de Salud Familiar Monte Patria"},{"$f":"IFERROR(VLOOKUP(Tabla_SERIED_12_5[[#This Row],[IdEstablecimiento]],'[1]Establecimiento 2023'!$A$1:$E$183,5,FALSE),0)","v":"04303-Monte Patria"},"16200210","2022-08-19T11:59:37",24,23]
[{"$nulls":23},7,"5",2022,"105307",{"$f":"IFERROR(VLOOKUP(Tabla_SERIED_12_5[[#This Row],[IdEstablecimiento]],'[1]Establecimiento 2023'!$A$1:$E$183,3,FALSE),0)","v":"105307-Centro de Salud Familiar Monte Patria"},{"$f":"IFERROR(VLOOKUP(Tabla_SERIED_12_5[[#This Row],[IdEstablecimiento]],'[1]Establecimiento 2023'!$A$1:$E$183,5,FALSE),0)","v":"04303-Monte Patria"},"16100300","2022-08-19T11:59:37",292,104,188,2]
[{"$nulls":23},7,"5",2022,"105307",{"$f":"IFERROR(VLOOKUP(Tabla_SERIED_12_5[[#This Row],[IdEstablecimiento]],'[1]Establecimiento 2023'!$A$1:$E$183,3,FALSE),0)","v":"105307-Centro de Salud Familiar Monte Patria"},{"$f":"IFERROR(VLOOKUP(Tabla_SERIED_12_5[[#This Row],[IdEstablecimiento]],'[1]Establecimiento 2023'!$A$1:$E$183,5,FALSE),0)","v":"04303-Monte Patria"},"16200100","2022-08-19T11:59:37",2,1,1,2]
[{"$nulls":23},7,"5",2022,"105308",{"$f":"IFERROR(VLOOKUP(Tabla_SERIED_12_5[[#This Row],[IdEstablecimiento]],'[1]Establecimiento 2023'!$A$1:$E$183,3,FALSE),0)","v":"105308-Centro de Salud Familiar Punitaqui"},{"$f":"IFERROR(VLOOKUP(Tabla_SERIED_12_5[[#This Row],[IdEstablecimiento]],'[1]Establecimiento 2023'!$A$1:$E$183,5,FALSE),0)","v":"04304-Punitaqui"},"15010100","2022-08-19T11:59:48",80,{"$nulls":3},80]
[{"$nulls":23},7,"5",2022,"105308",{"$f":"IFERROR(VLOOKUP(Tabla_SERIED_12_5[[#This Row],[IdEstablecimiento]],'[1]Establecimiento 2023'!$A$1:$E$183,3,FALSE),0)","v":"105308-Centro de Salud Familiar Punitaqui"},{"$f":"IFERROR(VLOOKUP(Tabla_SERIED_12_5[[#This Row],[IdEstablecimiento]],'[1]Establecimiento 2023'!$A$1:$E$183,5,FALSE),0)","v":"04304-Punitaqui"},"15010200","2022-08-19T11:59:48",332,{"$nulls":4},66,136,130]
[{"$nulls":23},7,"5",2022,"105308",{"$f":"IFERROR(VLOOKUP(Tabla_SERIED_12_5[[#This Row],[IdEstablecimiento]],'[1]Establecimiento 2023'!$A$1:$E$183,3,FALSE),0)","v":"105308-Centro de Salud Familiar Punitaqui"},{"$f":"IFERROR(VLOOKUP(Tabla_SERIED_12_5[[#This Row],[IdEstablecimiento]],'[1]Establecimiento 2023'!$A$1:$E$183,5,FALSE),0)","v":"04304-Punitaqui"},"15080008","2022-08-19T11:59:48",91,{"$nulls":7},59,null,20,null,12]
[{"$nulls":23},8,"5",2022,"105468",{"$f":"IFERROR(VLOOKUP(Tabla_SERIED_12_5[[#This Row],[IdEstablecimiento]],'[1]Establecimiento 2023'!$A$1:$E$183,3,FALSE),0)","v":"105468-Posta de Salud Rural El Molle"},{"$f":"IFERROR(VLOOKUP(Tabla_SERIED_12_5[[#This Row],[IdEstablecimiento]],'[1]Establecimiento 2023'!$A$1:$E$183,5,FALSE),0)","v":"04106-Vicuña"},"16100300","2022-09-21T07:48:31",41,18,23]
[{"$nulls":23},8,"5",2022,"105468",{"$f":"IFERROR(VLOOKUP(Tabla_SERIED_12_5[[#This Row],[IdEstablecimiento]],'[1]Establecimiento 2023'!$A$1:$E$183,3,FALSE),0)","v":"105468-Posta de Salud Rural El Molle"},{"$f":"IFERROR(VLOOKUP(Tabla_SERIED_12_5[[#This Row],[IdEstablecimiento]],'[1]Establecimiento 2023'!$A$1:$E$183,5,FALSE),0)","v":"04106-Vicuña"},"16200220","2022-09-21T07:48:31",2,null,2]
[{"$nulls":23},8,"5",2022,"105469",{"$f":"IFERROR(VLOOKUP(Tabla_SERIED_12_5[[#This Row],[IdEstablecimiento]],'[1]Establecimiento 2023'!$A$1:$E$183,3,FALSE),0)","v":"105469-Posta de Salud Rural El Tambo (Vicuña)"},{"$f":"IFERROR(VLOOKUP(Tabla_SERIED_12_5[[#This Row],[IdEstablecimiento]],'[1]Establecimiento 2023'!$A$1:$E$183,5,FALSE),0)","v":"04106-Vicuña"},"15010100","2022-09-21T07:48:42",8,{"$nulls":3},8]
[{"$nulls":23},8,"5",2022,"105469",{"$f":"IFERROR(VLOOKUP(Tabla_SERIED_12_5[[#This Row],[IdEstablecimiento]],'[1]Establecimiento 2023'!$A$1:$E$183,3,FALSE),0)","v":"105469-Posta de Salud Rural El Tambo (Vicuña)"},{"$f":"IFERROR(VLOOKUP(Tabla_SERIED_12_5[[#This Row],[IdEstablecimiento]],'[1]Establecimiento 2023'!$A$1:$E$183,5,FALSE),0)","v":"04106-Vicuña"},"15010200","2022-09-21T07:48:42",35,{"$nulls":4},6,10,19]
[{"$nulls":23},8,"5",2022,"105469",{"$f":"IFERROR(VLOOKUP(Tabla_SERIED_12_5[[#This Row],[IdEstablecimiento]],'[1]Establecimiento 2023'!$A$1:$E$183,3,FALSE),0)","v":"105469-Posta de Salud Rural El Tambo (Vicuña)"},{"$f":"IFERROR(VLOOKUP(Tabla_SERIED_12_5[[#This Row],[IdEstablecimiento]],'[1]Establecimiento 2023'!$A$1:$E$183,5,FALSE),0)","v":"04106-Vicuña"},"15080008","2022-09-21T07:48:42",4,{"$nulls":7},1,null,2,null,1]
[{"$nulls":23},8,"5",2022,"105469",{"$f":"IFERROR(VLOOKUP(Tabla_SERIED_12_5[[#This Row],[IdEstablecimiento]],'[1]Establecimiento 2023'!$A$1:$E$183,3,FALSE),0)","v":"105469-Posta de Salud Rural El Tambo (Vicuña)"},{"$f":"IFERROR(VLOOKUP(Tabla_SERIED_12_5[[#This Row],[IdEstablecimiento]],'[1]Establecimiento 2023'!$A$1:$E$183,5,FALSE),0)","v":"04106-Vicuña"},"15900010","2022-09-21T07:48:42",5.4,null,null,5.4]
[{"$nulls":23},3,"5",2022,"105106",{"$f":"IFERROR(VLOOKUP(Tabla_SERIED_12_5[[#This Row],[IdEstablecimiento]],'[1]Establecimiento 2023'!$A$1:$E$183,3,FALSE),0)","v":"105106-Hospital Dr. José Arraño (Andacollo)"},{"$f":"IFERROR(VLOOKUP(Tabla_SERIED_12_5[[#This Row],[IdEstablecimiento]],'[1]Establecimiento 2023'!$A$1:$E$183,5,FALSE),0)","v":"105106-Hospital Andacollo"},"15080010","2022-04-19T08:00:12",2,{"$nulls":9},2]
[{"$nulls":23},3,"5",2022,"105106",{"$f":"IFERROR(VLOOKUP(Tabla_SERIED_12_5[[#This Row],[IdEstablecimiento]],'[1]Establecimiento 2023'!$A$1:$E$183,3,FALSE),0)","v":"105106-Hospital Dr. José Arraño (Andacollo)"},{"$f":"IFERROR(VLOOKUP(Tabla_SERIED_12_5[[#This Row],[IdEstablecimiento]],'[1]Establecimiento 2023'!$A$1:$E$183,5,FALSE),0)","v":"105106-Hospital Andacollo"},"15060100","2022-04-19T08:00:12",5,2,3,{"$nulls":3},1,1,2,{"$nulls":3},1]
[{"$nulls":23},3,"5",2022,"105106",{"$f":"IFERROR(VLOOKUP(Tabla_SERIED_12_5[[#This Row],[IdEstablecimiento]],'[1]Establecimiento 2023'!$A$1:$E$183,3,FALSE),0)","v":"105106-Hospital Dr. José Arraño (Andacollo)"},{"$f":"IFERROR(VLOOKUP(Tabla_SERIED_12_5[[#This Row],[IdEstablecimiento]],'[1]Establecimiento 2023'!$A$1:$E$183,5,FALSE),0)","v":"105106-Hospital Andacollo"},"16090300","2022-04-19T08:00:12",276,276]
[{"$nulls":23},3,"5",2022,"105106",{"$f":"IFERROR(VLOOKUP(Tabla_SERIED_12_5[[#This Row],[IdEstablecimiento]],'[1]Establecimiento 2023'!$A$1:$E$183,3,FALSE),0)","v":"105106-Hospital Dr. José Arraño (Andacollo)"},{"$f":"IFERROR(VLOOKUP(Tabla_SERIED_12_5[[#This Row],[IdEstablecimiento]],'[1]Establecimiento 2023'!$A$1:$E$183,5,FALSE),0)","v":"105106-Hospital Andacollo"},"16200210","2022-04-19T08:00:12",16,16]
[{"$nulls":23},3,"5",2022,"105106",{"$f":"IFERROR(VLOOKUP(Tabla_SERIED_12_5[[#This Row],[IdEstablecimiento]],'[1]Establecimiento 2023'!$A$1:$E$183,3,FALSE),0)","v":"105106-Hospital Dr. José Arraño (Andacollo)"},{"$f":"IFERROR(VLOOKUP(Tabla_SERIED_12_5[[#This Row],[IdEstablecimiento]],'[1]Establecimiento 2023'!$A$1:$E$183,5,FALSE),0)","v":"105106-Hospital Andacollo"},"16090500","2022-04-19T08:00:12",1,1]
[{"$nulls":23},3,"5",2022,"105106",{"$f":"IFERROR(VLOOKUP(Tabla_SERIED_12_5[[#This Row],[IdEstablecimiento]],'[1]Establecimiento 2023'!$A$1:$E$183,3,FALSE),0)","v":"105106-Hospital Dr. José Arraño (Andacollo)"},{"$f":"IFERROR(VLOOKUP(Tabla_SERIED_12_5[[#This Row],[IdEstablecimiento]],'[1]Establecimiento 2023'!$A$1:$E$183,5,FALSE),0)","v":"105106-Hospital Andacollo"},"16090600","2022-04-19T08:00:12",1,1]
[{"$nulls":23},3,"5",2022,"105106",{"$f":"IFERROR(VLOOKUP(Tabla_SERIED_12_5[[#This Row],[IdEstablecimiento]],'[1]Establecimiento 2023'!$A$1:$E$183,3,FALSE),0)","v":"105106-Hospital Dr. José Arraño (Andacollo)"},{"$f":"IFERROR(VLOOKUP(Tabla_SERIED_12_5[[#This Row],[IdEstablecimiento]],'[1]Establecimiento 2023'!$A$1:$E$183,5,FALSE),0)","v":"105106-Hospital Andacollo"},"16100300","2022-04-19T08:00:12",276,125,151,17,31]
[{"$nulls":23},3,"5",2022,"105106",{"$f":"IFERROR(VLOOKUP(Tabla_SERIED_12_5[[#This Row],[IdEstablecimiento]],'[1]Establecimiento 2023'!$A$1:$E$183,3,FALSE),0)","v":"105106-Hospital Dr. José Arraño (Andacollo)"},{"$f":"IFERROR(VLOOKUP(Tabla_SERIED_12_5[[#This Row],[IdEstablecimiento]],'[1]Establecimiento 2023'!$A$1:$E$183,5,FALSE),0)","v":"105106-Hospital Andacollo"},"16200220","2022-04-19T08:00:12",16,10,6,3,5]
[{"$nulls":23},3,"5",2022,"105106",{"$f":"IFERROR(VLOOKUP(Tabla_SERIED_12_5[[#This Row],[IdEstablecimiento]],'[1]Establecimiento 2023'!$A$1:$E$183,3,FALSE),0)","v":"105106-Hospital Dr. José Arraño (Andacollo)"},{"$f":"IFERROR(VLOOKUP(Tabla_SERIED_12_5[[#This Row],[IdEstablecimiento]],'[1]Establecimiento 2023'!$A$1:$E$183,5,FALSE),0)","v":"105106-Hospital Andacollo"},"16100600","2022-04-19T08:00:12",1,1,0,0,0]
[{"$nulls":23},3,"5",2022,"105106",{"$f":"IFERROR(VLOOKUP(Tabla_SERIED_12_5[[#This Row],[IdEstablecimiento]],'[1]Establecimiento 2023'!$A$1:$E$183,3,FALSE),0)","v":"105106-Hospital Dr. José Arraño (Andacollo)"},{"$f":"IFERROR(VLOOKUP(Tabla_SERIED_12_5[[#This Row],[IdEstablecimiento]],'[1]Establecimiento 2023'!$A$1:$E$183,5,FALSE),0)","v":"105106-Hospital Andacollo"},"16100700","2022-04-19T08:00:12",1,1,0,0,0]
[{"$nulls":23},3,"5",2022,"105319",{"$f":"IFERROR(VLOOKUP(Tabla_SERIED_12_5[[#This Row],[IdEstablecimiento]],'[1]Establecimiento 2023'!$A$1:$E$183,3,FALSE),0)","v":"105319-Centro de Salud Familiar Cardenal Raúl Silva Henríquez de La Serena"},{"$f":"IFERROR(VLOOKUP(Tabla_SERIED_12_5[[#This Row],[IdEstablecimiento]],'[1]Establecimiento 2023'!$A$1:$E$183,5,FALSE),0)","v":"04101-La Serena"},"16090300","2022-04-19T08:10:39",563,563]
[{"$nulls":23},6,"5",2022,"105415",{"$f":"IFERROR(VLOOKUP(Tabla_SERIED_12_5[[#This Row],[IdEstablecimiento]],'[1]Establecimiento 2023'!$A$1:$E$183,3,FALSE),0)","v":"105415-Posta de Salud Rural Barraza"},{"$f":"IFERROR(VLOOKUP(Tabla_SERIED_12_5[[#This Row],[IdEstablecimiento]],'[1]Establecimiento 2023'!$A$1:$E$183,5,FALSE),0)","v":"04301-Ovalle"},"16200220","2022-07-14T14:09:27",5,null,5,null,1]
[{"$nulls":23},6,"5",2022,"105416",{"$f":"IFERROR(VLOOKUP(Tabla_SERIED_12_5[[#This Row],[IdEstablecimiento]],'[1]Establecimiento 2023'!$A$1:$E$183,3,FALSE),0)","v":"105416-Posta de Salud Rural Camarico (Ovalle)"},{"$f":"IFERROR(VLOOKUP(Tabla_SERIED_12_5[[#This Row],[IdEstablecimiento]],'[1]Establecimiento 2023'!$A$1:$E$183,5,FALSE),0)","v":"04301-Ovalle"},"15010100","2022-07-14T14:09:45",4,{"$nulls":3},4]
[{"$nulls":23},6,"5",2022,"105416",{"$f":"IFERROR(VLOOKUP(Tabla_SERIED_12_5[[#This Row],[IdEstablecimiento]],'[1]Establecimiento 2023'!$A$1:$E$183,3,FALSE),0)","v":"105416-Posta de Salud Rural Camarico (Ovalle)"},{"$f":"IFERROR(VLOOKUP(Tabla_SERIED_12_5[[#This Row],[IdEstablecimiento]],'[1]Establecimiento 2023'!$A$1:$E$183,5,FALSE),0)","v":"04301-Ovalle"},"15010200","2022-07-14T14:09:45",42,{"$nulls":4},8,14,20]
[{"$nulls":23},6,"5",2022,"105416",{"$f":"IFERROR(VLOOKUP(Tabla_SERIED_12_5[[#This Row],[IdEstablecimiento]],'[1]Establecimiento 2023'!$A$1:$E$183,3,FALSE),0)","v":"105416-Posta de Salud Rural Camarico (Ovalle)"},{"$f":"IFERROR(VLOOKUP(Tabla_SERIED_12_5[[#This Row],[IdEstablecimiento]],'[1]Establecimiento 2023'!$A$1:$E$183,5,FALSE),0)","v":"04301-Ovalle"},"15080008","2022-07-14T14:09:45",7,{"$nulls":7},3,null,2,null,2]
[{"$nulls":23},6,"5",2022,"105416",{"$f":"IFERROR(VLOOKUP(Tabla_SERIED_12_5[[#This Row],[IdEstablecimiento]],'[1]Establecimiento 2023'!$A$1:$E$183,3,FALSE),0)","v":"105416-Posta de Salud Rural Camarico (Ovalle)"},{"$f":"IFERROR(VLOOKUP(Tabla_SERIED_12_5[[#This Row],[IdEstablecimiento]],'[1]Establecimiento 2023'!$A$1:$E$183,5,FALSE),0)","v":"04301-Ovalle"},"15010300","2022-07-14T14:09:45",2,{"$nulls":3},2]
[{"$nulls":23},6,"5",2022,"105416",{"$f":"IFERROR(VLOOKUP(Tabla_SERIED_12_5[[#This Row],[IdEstablecimiento]],'[1]Establecimiento 2023'!$A$1:$E$183,3,FALSE),0)","v":"105416-Posta de Salud Rural Camarico (Ovalle)"},{"$f":"IFERROR(VLOOKUP(Tabla_SERIED_12_5[[#This Row],[IdEstablecimiento]],'[1]Establecimiento 2023'!$A$1:$E$183,5,FALSE),0)","v":"04301-Ovalle"},"15010400","2022-07-14T14:09:45",6,{"$nulls":4},2,2,2]
[{"$nulls":23},6,"5",2022,"105416",{"$f":"IFERROR(VLOOKUP(Tabla_SERIED_12_5[[#This Row],[IdEstablecimiento]],'[1]Establecimiento 2023'!$A$1:$E$183,3,FALSE),0)","v":"105416-Posta de Salud Rural Camarico (Ovalle)"},{"$f":"IFERROR(VLOOKUP(Tabla_SERIED_12_5[[#This Row],[IdEstablecimiento]],'[1]Establecimiento 2023'!$A$1:$E$183,5,FALSE),0)","v":"04301-Ovalle"},"15010500","2022-07-14T14:09:45",8,{"$nulls":3},2,2,2,2]
[{"$nulls":23},6,"5",2022,"105416",{"$f":"IFERROR(VLOOKUP(Tabla_SERIED_12_5[[#This Row],[IdEstablecimiento]],'[1]Establecimiento 2023'!$A$1:$E$183,3,FALSE),0)","v":"105416-Posta de Salud Rural Camarico (Ovalle)"},{"$f":"IFERROR(VLOOKUP(Tabla_SERIED_12_5[[#This Row],[IdEstablecimiento]],'[1]Establecimiento 2023'!$A$1:$E$183,5,FALSE),0)","v":"04301-Ovalle"},"15050100","2022-07-14T14:09:45",29,8,21,{"$nulls":3},2,4,7,10,3,null,1,null,2]
[{"$nulls":23},6,"5",2022,"105416",{"$f":"IFERROR(VLOOKUP(Tabla_SERIED_12_5[[#This Row],[IdEstablecimiento]],'[1]Establecimiento 2023'!$A$1:$E$183,3,FALSE),0)","v":"105416-Posta de Salud Rural Camarico (Ovalle)"},{"$f":"IFERROR(VLOOKUP(Tabla_SERIED_12_5[[#This Row],[IdEstablecimiento]],'[1]Establecimiento 2023'!$A$1:$E$183,5,FALSE),0)","v":"04301-Ovalle"},"15050200","2022-07-14T14:09:45",4,2,2,{"$nulls":3},1,1,1,1]
[{"$nulls":23},6,"5",2022,"105416",{"$f":"IFERROR(VLOOKUP(Tabla_SERIED_12_5[[#This Row],[IdEstablecimiento]],'[1]Establecimiento 2023'!$A$1:$E$183,3,FALSE),0)","v":"105416-Posta de Salud Rural Camarico (Ovalle)"},{"$f":"IFERROR(VLOOKUP(Tabla_SERIED_12_5[[#This Row],[IdEstablecimiento]],'[1]Establecimiento 2023'!$A$1:$E$183,5,FALSE),0)","v":"04301-Ovalle"},"16090300","2022-07-14T14:09:45",78,84]
[{"$nulls":23},6,"5",2022,"105416",{"$f":"IFERROR(VLOOKUP(Tabla_SERIED_12_5[[#This Row],[IdEstablecimiento]],'[1]Establecimiento 2023'!$A$1:$E$183,3,FALSE),0)","v":"105416-Posta de Salud Rural Camarico (Ovalle)"},{"$f":"IFERROR(VLOOKUP(Tabla_SERIED_12_5[[#This Row],[IdEstablecimiento]],'[1]Establecimiento 2023'!$A$1:$E$183,5,FALSE),0)","v":"04301-Ovalle"},"16200210","2022-07-14T14:09:45",13,13]
[{"$nulls":23},6,"5",2022,"105416",{"$f":"IFERROR(VLOOKUP(Tabla_SERIED_12_5[[#This Row],[IdEstablecimiento]],'[1]Establecimiento 2023'!$A$1:$E$183,3,FALSE),0)","v":"105416-Posta de Salud Rural Camarico (Ovalle)"},{"$f":"IFERROR(VLOOKUP(Tabla_SERIED_12_5[[#This Row],[IdEstablecimiento]],'[1]Establecimiento 2023'!$A$1:$E$183,5,FALSE),0)","v":"04301-Ovalle"},"16100300","2022-07-14T14:09:45",84,43,41,2,48]
[{"$nulls":23},6,"5",2022,"105416",{"$f":"IFERROR(VLOOKUP(Tabla_SERIED_12_5[[#This Row],[IdEstablecimiento]],'[1]Establecimiento 2023'!$A$1:$E$183,3,FALSE),0)","v":"105416-Posta de Salud Rural Camarico (Ovalle)"},{"$f":"IFERROR(VLOOKUP(Tabla_SERIED_12_5[[#This Row],[IdEstablecimiento]],'[1]Establecimiento 2023'!$A$1:$E$183,5,FALSE),0)","v":"04301-Ovalle"},"16200220","2022-07-14T14:09:45",13,3,10,null,0]
[{"$nulls":23},1,"5",2022,"105428",{"$f":"IFERROR(VLOOKUP(Tabla_SERIED_12_5[[#This Row],[IdEstablecimiento]],'[1]Establecimiento 2023'!$A$1:$E$183,3,FALSE),0)","v":"105428-Posta de Salud Rural Huatulame"},{"$f":"IFERROR(VLOOKUP(Tabla_SERIED_12_5[[#This Row],[IdEstablecimiento]],'[1]Establecimiento 2023'!$A$1:$E$183,5,FALSE),0)","v":"04303-Monte Patria"},"15010400","2022-02-17T07:56:55",2,{"$nulls":5},2]
[{"$nulls":23},1,"5",2022,"105428",{"$f":"IFERROR(VLOOKUP(Tabla_SERIED_12_5[[#This Row],[IdEstablecimiento]],'[1]Establecimiento 2023'!$A$1:$E$183,3,FALSE),0)","v":"105428-Posta de Salud Rural Huatulame"},{"$f":"IFERROR(VLOOKUP(Tabla_SERIED_12_5[[#This Row],[IdEstablecimiento]],'[1]Establecimiento 2023'!$A$1:$E$183,5,FALSE),0)","v":"04303-Monte Patria"},"15010500","2022-02-17T07:56:55",2,{"$nulls":5},2]
[{"$nulls":23},1,"5",2022,"105428",{"$f":"IFERROR(VLOOKUP(Tabla_SERIED_12_5[[#This Row],[IdEstablecimiento]],'[1]Establecimiento 2023'!$A$1:$E$183,3,FALSE),0)","v":"105428-Posta de Salud Rural Huatulame"},{"$f":"IFERROR(VLOOKUP(Tabla_SERIED_12_5[[#This Row],[IdEstablecimiento]],'[1]Establecimiento 2023'!$A$1:$E$183,5,FALSE),0)","v":"04303-Monte Patria"},"15050100","2022-02-17T07:56:55",11,5,6,null,1,1,null,2,1,4,2]
[{"$nulls":23},1,"5",2022,"105428",{"$f":"IFERROR(VLOOKUP(Tabla_SERIED_12_5[[#This Row],[IdEstablecimiento]],'[1]Establecimiento 2023'!$A$1:$E$183,3,FALSE),0)","v":"105428-Posta de Salud Rural Huatulame"},{"$f":"IFERROR(VLOOKUP(Tabla_SERIED_12_5[[#This Row],[IdEstablecimiento]],'[1]Establecimiento 2023'!$A$1:$E$183,5,FALSE),0)","v":"04303-Monte Patria"},"15050200","2022-02-17T07:56:55",1,1,{"$nulls":6},1]
[{"$nulls":23},1,"5",2022,"105428",{"$f":"IFERROR(VLOOKUP(Tabla_SERIED_12_5[[#This Row],[IdEstablecimiento]],'[1]Establecimiento 2023'!$A$1:$E$183,3,FALSE),0)","v":"105428-Posta de Salud Rural Huatulame"},{"$f":"IFERROR(VLOOKUP(Tabla_SERIED_12_5[[#This Row],[IdEstablecimiento]],'[1]Establecimiento 2023'!$A$1:$E$183,5,FALSE),0)","v":"04303-Monte Patria"},"16090300","2022-02-17T07:56:55",12,12]
[{"$nulls":23},1,"5",2022,"105428",{"$f":"IFERROR(VLOOKUP(Tabla_SERIED_12_5[[#This Row],[IdEstablecimiento]],'[1]Establecimiento 2023'!$A$1:$E$183,3,FALSE),0)","v":"105428-Posta de Salud Rural Huatulame"},{"$f":"IFERROR(VLOOKUP(Tabla_SERIED_12_5[[#This Row],[IdEstablecimiento]],'[1]Establecimiento 2023'!$A$1:$E$183,5,FALSE),0)","v":"04303-Monte Patria"},"16100300","2022-02-17T07:56:55",6,2,4]
[{"$nulls":23},1,"5",2022,"105308",{"$f":"IFERROR(VLOOKUP(Tabla_SERIED_12_5[[#This Row],[IdEstablecimiento]],'[1]Establecimiento 2023'!$A$1:$E$183,3,FALSE),0)","v":"105308-Centro de Salud Familiar Punitaqui"},{"$f":"IFERROR(VLOOKUP(Tabla_SERIED_12_5[[#This Row],[IdEstablecimiento]],'[1]Establecimiento 2023'!$A$1:$E$183,5,FALSE),0)","v":"04304-Punitaqui"},"15010100","2022-02-17T08:05:20",76,null,null,22,54]
[{"$nulls":23},4,"5",2022,"105402",{"$f":"IFERROR(VLOOKUP(Tabla_SERIED_12_5[[#This Row],[IdEstablecimiento]],'[1]Establecimiento 2023'!$A$1:$E$183,3,FALSE),0)","v":"105402-Posta de Salud Rural El Romero"},{"$f":"IFERROR(VLOOKUP(Tabla_SERIED_12_5[[#This Row],[IdEstablecimiento]],'[1]Establecimiento 2023'!$A$1:$E$183,5,FALSE),0)","v":"04101-La Serena"},"15050200","2022-05-18T11:55:27",1,1,{"$nulls":4},1]
[{"$nulls":23},4,"5",2022,"105402",{"$f":"IFERROR(VLOOKUP(Tabla_SERIED_12_5[[#This Row],[IdEstablecimiento]],'[1]Establecimiento 2023'!$A$1:$E$183,3,FALSE),0)","v":"105402-Posta de Salud Rural El Romero"},{"$f":"IFERROR(VLOOKUP(Tabla_SERIED_12_5[[#This Row],[IdEstablecimiento]],'[1]Establecimiento 2023'!$A$1:$E$183,5,FALSE),0)","v":"04101-La Serena"},"15900050","2022-05-18T11:55:27",1,null,1,{"$nulls":3},1]
[{"$nulls":23},4,"5",2022,"105402",{"$f":"IFERROR(VLOOKUP(Tabla_SERIED_12_5[[#This Row],[IdEstablecimiento]],'[1]Establecimiento 2023'!$A$1:$E$183,3,FALSE),0)","v":"105402-Posta de Salud Rural El Romero"},{"$f":"IFERROR(VLOOKUP(Tabla_SERIED_12_5[[#This Row],[IdEstablecimiento]],'[1]Establecimiento 2023'!$A$1:$E$183,5,FALSE),0)","v":"04101-La Serena"},"16090300","2022-05-18T11:55:27",30,30]
[{"$nulls":23},3,"5",2022,"105300",{"$f":"IFERROR(VLOOKUP(Tabla_SERIED_12_5[[#This Row],[IdEstablecimiento]],'[1]Establecimiento 2023'!$A$1:$E$183,3,FALSE),0)","v":"105300-Centro de Salud Familiar Cardenal Caro"},{"$f":"IFERROR(VLOOKUP(Tabla_SERIED_12_5[[#This Row],[IdEstablecimiento]],'[1]Establecimiento 2023'!$A$1:$E$183,5,FALSE),0)","v":"04101-La Serena"},"15050100","2022-04-19T08:02:11",406,156,250,1,12,37,39,36,98,48,104,null,13,9,9]
[{"$nulls":23},1,"5",2022,"200367",{"$f":"IFERROR(VLOOKUP(Tabla_SERIED_12_5[[#This Row],[IdEstablecimiento]],'[1]Establecimiento 2023'!$A$1:$E$183,3,FALSE),0)","v":"200367-Centro Comunitario de Salud Familiar Colonia Limarí"},{"$f":"IFERROR(VLOOKUP(Tabla_SERIED_12_5[[#This Row],[IdEstablecimiento]],'[1]Establecimiento 2023'!$A$1:$E$183,5,FALSE),0)","v":"04301-Ovalle"},"15010500","2022-02-17T04:30:14",2,{"$nulls":4},2]
[{"$nulls":23},1,"5",2022,"200367",{"$f":"IFERROR(VLOOKUP(Tabla_SERIED_12_5[[#This Row],[IdEstablecimiento]],'[1]Establecimiento 2023'!$A$1:$E$183,3,FALSE),0)","v":"200367-Centro Comunitario de Salud Familiar Colonia Limarí"},{"$f":"IFERROR(VLOOKUP(Tabla_SERIED_12_5[[#This Row],[IdEstablecimiento]],'[1]Establecimiento 2023'!$A$1:$E$183,5,FALSE),0)","v":"04301-Ovalle"},"15900020","2022-02-17T04:30:14",1.6,null,1.6]
[{"$nulls":23},1,"5",2022,"200367",{"$f":"IFERROR(VLOOKUP(Tabla_SERIED_12_5[[#This Row],[IdEstablecimiento]],'[1]Establecimiento 2023'!$A$1:$E$183,3,FALSE),0)","v":"200367-Centro Comunitario de Salud Familiar Colonia Limarí"},{"$f":"IFERROR(VLOOKUP(Tabla_SERIED_12_5[[#This Row],[IdEstablecimiento]],'[1]Establecimiento 2023'!$A$1:$E$183,5,FALSE),0)","v":"04301-Ovalle"},"15050100","2022-02-17T04:30:14",43,15,28,null,1,2,3,4,6,17,6,null,0,2,2]
[{"$nulls":23},1,"5",2022,"200367",{"$f":"IFERROR(VLOOKUP(Tabla_SERIED_12_5[[#This Row],[IdEstablecimiento]],'[1]Establecimiento 2023'!$A$1:$E$183,3,FALSE),0)","v":"200367-Centro Comunitario de Salud Familiar Colonia Limarí"},{"$f":"IFERROR(VLOOKUP(Tabla_SERIED_12_5[[#This Row],[IdEstablecimiento]],'[1]Establecimiento 2023'!$A$1:$E$183,5,FALSE),0)","v":"04301-Ovalle"},"15050200","2022-02-17T04:30:14",2,2,0,null,1,null,null,1,{"$nulls":3},0]
[{"$nulls":23},1,"5",2022,"200367",{"$f":"IFERROR(VLOOKUP(Tabla_SERIED_12_5[[#This Row],[IdEstablecimiento]],'[1]Establecimiento 2023'!$A$1:$E$183,3,FALSE),0)","v":"200367-Centro Comunitario de Salud Familiar Colonia Limarí"},{"$f":"IFERROR(VLOOKUP(Tabla_SERIED_12_5[[#This Row],[IdEstablecimiento]],'[1]Establecimiento 2023'!$A$1:$E$183,5,FALSE),0)","v":"04301-Ovalle"},"15020100","2022-02-17T04:30:14",2,null,null,2]
[{"$nulls":23},1,"5",2022,"200367",{"$f":"IFERROR(VLOOKUP(Tabla_SERIED_12_5[[#This Row],[IdEstablecimiento]],'[1]Establecimiento 2023'!$A$1:$E$183,3,FALSE),0)","v":"200367-Centro Comunitario de Salud Familiar Colonia Limarí"},{"$f":"IFERROR(VLOOKUP(Tabla_SERIED_12_5[[#This Row],[IdEstablecimiento]],'[1]Establecimiento 2023'!$A$1:$E$183,5,FALSE),0)","v":"04301-Ovalle"},"15020200","2022-02-17T04:30:14",2,{"$nulls":5},2]
[{"$nulls":23},1,"5",2022,"200367",{"$f":"IFERROR(VLOOKUP(Tabla_SERIED_12_5[[#This Row],[IdEstablecimiento]],'[1]Establecimiento 2023'!$A$1:$E$183,3,FALSE),0)","v":"200367-Centro Comunitario de Salud Familiar Colonia Limarí"},{"$f":"IFERROR(VLOOKUP(Tabla_SERIED_12_5[[#This Row],[IdEstablecimiento]],'[1]Establecimiento 2023'!$A$1:$E$183,5,FALSE),0)","v":"04301-Ovalle"},"15060100","2022-02-17T04:30:14",2,1,1,null,null,1,null,null,1]
[{"$nulls":23},1,"5",2022,"200367",{"$f":"IFERROR(VLOOKUP(Tabla_SERIED_12_5[[#This Row],[IdEstablecimiento]],'[1]Establecimiento 2023'!$A$1:$E$183,3,FALSE),0)","v":"200367-Centro Comunitario de Salud Familiar Colonia Limarí"},{"$f":"IFERROR(VLOOKUP(Tabla_SERIED_12_5[[#This Row],[IdEstablecimiento]],'[1]Establecimiento 2023'!$A$1:$E$183,5,FALSE),0)","v":"04301-Ovalle"},"16090300","2022-02-17T04:30:14",147,147]
[{"$nulls":23},6,"5",2022,"105401",{"$f":"IFERROR(VLOOKUP(Tabla_SERIED_12_5[[#This Row],[IdEstablecimiento]],'[1]Establecimiento 2023'!$A$1:$E$183,3,FALSE),0)","v":"105401-Posta de Salud Rural Las Rojas"},{"$f":"IFERROR(VLOOKUP(Tabla_SERIED_12_5[[#This Row],[IdEstablecimiento]],'[1]Establecimiento 2023'!$A$1:$E$183,5,FALSE),0)","v":"04101-La Serena"},"15010100","2022-07-14T14:07:58",4,{"$nulls":3},4]
[{"$nulls":23},6,"5",2022,"105401",{"$f":"IFERROR(VLOOKUP(Tabla_SERIED_12_5[[#This Row],[IdEstablecimiento]],'[1]Establecimiento 2023'!$A$1:$E$183,3,FALSE),0)","v":"105401-Posta de Salud Rural Las Rojas"},{"$f":"IFERROR(VLOOKUP(Tabla_SERIED_12_5[[#This Row],[IdEstablecimiento]],'[1]Establecimiento 2023'!$A$1:$E$183,5,FALSE),0)","v":"04101-La Serena"},"15010200","2022-07-14T14:07:58",8,{"$nulls":4},4,2,2]
[{"$nulls":23},6,"5",2022,"105401",{"$f":"IFERROR(VLOOKUP(Tabla_SERIED_12_5[[#This Row],[IdEstablecimiento]],'[1]Establecimiento 2023'!$A$1:$E$183,3,FALSE),0)","v":"105401-Posta de Salud Rural Las Rojas"},{"$f":"IFERROR(VLOOKUP(Tabla_SERIED_12_5[[#This Row],[IdEstablecimiento]],'[1]Establecimiento 2023'!$A$1:$E$183,5,FALSE),0)","v":"04101-La Serena"},"15080008","2022-07-14T14:07:58",13,{"$nulls":7},4,null,6,null,3]
[{"$nulls":23},6,"5",2022,"105401",{"$f":"IFERROR(VLOOKUP(Tabla_SERIED_12_5[[#This Row],[IdEstablecimiento]],'[1]Establecimiento 2023'!$A$1:$E$183,3,FALSE),0)","v":"105401-Posta de Salud Rural Las Rojas"},{"$f":"IFERROR(VLOOKUP(Tabla_SERIED_12_5[[#This Row],[IdEstablecimiento]],'[1]Establecimiento 2023'!$A$1:$E$183,5,FALSE),0)","v":"04101-La Serena"},"15900010","2022-07-14T14:07:58",6.4,3.2,null,3.2]
[{"$nulls":23},6,"5",2022,"105401",{"$f":"IFERROR(VLOOKUP(Tabla_SERIED_12_5[[#This Row],[IdEstablecimiento]],'[1]Establecimiento 2023'!$A$1:$E$183,3,FALSE),0)","v":"105401-Posta de Salud Rural Las Rojas"},{"$f":"IFERROR(VLOOKUP(Tabla_SERIED_12_5[[#This Row],[IdEstablecimiento]],'[1]Establecimiento 2023'!$A$1:$E$183,5,FALSE),0)","v":"04101-La Serena"},"15050100","2022-07-14T14:07:58",19,7,12,1,null,2,2,2,1,1,4,null,3,null,3]
[{"$nulls":23},1,"5",2022,"105300",{"$f":"IFERROR(VLOOKUP(Tabla_SERIED_12_5[[#This Row],[IdEstablecimiento]],'[1]Establecimiento 2023'!$A$1:$E$183,3,FALSE),0)","v":"105300-Centro de Salud Familiar Cardenal Caro"},{"$f":"IFERROR(VLOOKUP(Tabla_SERIED_12_5[[#This Row],[IdEstablecimiento]],'[1]Establecimiento 2023'!$A$1:$E$183,5,FALSE),0)","v":"04101-La Serena"},"15010500","2022-02-16T10:34:03",2,{"$nulls":5},2]
[{"$nulls":23},1,"5",2022,"105300",{"$f":"IFERROR(VLOOKUP(Tabla_SERIED_12_5[[#This Row],[IdEstablecimiento]],'[1]Establecimiento 2023'!$A$1:$E$183,3,FALSE),0)","v":"105300-Centro de Salud Familiar Cardenal Caro"},{"$f":"IFERROR(VLOOKUP(Tabla_SERIED_12_5[[#This Row],[IdEstablecimiento]],'[1]Establecimiento 2023'!$A$1:$E$183,5,FALSE),0)","v":"04101-La Serena"},"15080009","2022-02-16T10:34:03",3,{"$nulls":8},3]
[{"$nulls":23},1,"5",2022,"105300",{"$f":"IFERROR(VLOOKUP(Tabla_SERIED_12_5[[#This Row],[IdEstablecimiento]],'[1]Establecimiento 2023'!$A$1:$E$183,3,FALSE),0)","v":"105300-Centro de Salud Familiar Cardenal Caro"},{"$f":"IFERROR(VLOOKUP(Tabla_SERIED_12_5[[#This Row],[IdEstablecimiento]],'[1]Establecimiento 2023'!$A$1:$E$183,5,FALSE),0)","v":"04101-La Serena"},"15030200","2022-02-16T10:34:03",9,null,null,9]
[{"$nulls":23},1,"5",2022,"105300",{"$f":"IFERROR(VLOOKUP(Tabla_SERIED_12_5[[#This Row],[IdEstablecimiento]],'[1]Establecimiento 2023'!$A$1:$E$183,3,FALSE),0)","v":"105300-Centro de Salud Familiar Cardenal Caro"},{"$f":"IFERROR(VLOOKUP(Tabla_SERIED_12_5[[#This Row],[IdEstablecimiento]],'[1]Establecimiento 2023'!$A$1:$E$183,5,FALSE),0)","v":"04101-La Serena"},"15900030","2022-02-16T10:34:03",8.8,null,null,1.6,2.8,4.4]
[{"$nulls":23},1,"5",2022,"105300",{"$f":"IFERROR(VLOOKUP(Tabla_SERIED_12_5[[#This Row],[IdEstablecimiento]],'[1]Establecimiento 2023'!$A$1:$E$183,3,FALSE),0)","v":"105300-Centro de Salud Familiar Cardenal Caro"},{"$f":"IFERROR(VLOOKUP(Tabla_SERIED_12_5[[#This Row],[IdEstablecimiento]],'[1]Establecimiento 2023'!$A$1:$E$183,5,FALSE),0)","v":"04101-La Serena"},"15900040","2022-02-16T10:34:03",4.4,{"$nulls":4},4.4]
[{"$nulls":23},1,"5",2022,"105300",{"$f":"IFERROR(VLOOKUP(Tabla_SERIED_12_5[[#This Row],[IdEstablecimiento]],'[1]Establecimiento 2023'!$A$1:$E$183,3,FALSE),0)","v":"105300-Centro de Salud Familiar Cardenal Caro"},{"$f":"IFERROR(VLOOKUP(Tabla_SERIED_12_5[[#This Row],[IdEstablecimiento]],'[1]Establecimiento 2023'!$A$1:$E$183,5,FALSE),0)","v":"04101-La Serena"},"15050100","2022-02-16T10:34:03",353,152,201,1,13,18,27,45,83,53,90,null,11,5,7]
[{"$nulls":23},1,"5",2022,"105300",{"$f":"IFERROR(VLOOKUP(Tabla_SERIED_12_5[[#This Row],[IdEstablecimiento]],'[1]Establecimiento 2023'!$A$1:$E$183,3,FALSE),0)","v":"105300-Centro de Salud Familiar Cardenal Caro"},{"$f":"IFERROR(VLOOKUP(Tabla_SERIED_12_5[[#This Row],[IdEstablecimiento]],'[1]Establecimiento 2023'!$A$1:$E$183,5,FALSE),0)","v":"04101-La Serena"},"15050200","2022-02-16T10:34:03",2,0,2,{"$nulls":5},1,null,null,1]
[{"$nulls":23},1,"5",2022,"105300",{"$f":"IFERROR(VLOOKUP(Tabla_SERIED_12_5[[#This Row],[IdEstablecimiento]],'[1]Establecimiento 2023'!$A$1:$E$183,3,FALSE),0)","v":"105300-Centro de Salud Familiar Cardenal Caro"},{"$f":"IFERROR(VLOOKUP(Tabla_SERIED_12_5[[#This Row],[IdEstablecimiento]],'[1]Establecimiento 2023'!$A$1:$E$183,5,FALSE),0)","v":"04101-La Serena"},"15050500","2022-02-16T10:34:03",3,0,3,null,null,3]
[{"$nulls":23},5,"5",2022,"105480",{"$f":"IFERROR(VLOOKUP(Tabla_SERIED_12_5[[#This Row],[IdEstablecimiento]],'[1]Establecimiento 2023'!$A$1:$E$183,3,FALSE),0)","v":"105480-Posta de Salud Rural Quilimarí"},{"$f":"IFERROR(VLOOKUP(Tabla_SERIED_12_5[[#This Row],[IdEstablecimiento]],'[1]Establecimiento 2023'!$A$1:$E$183,5,FALSE),0)","v":"04203-Los Vilos"},"15050100","2022-06-20T17:23:56",34,13,21,null,1,null,6,7,7,5,8]
[{"$nulls":23},5,"5",2022,"105480",{"$f":"IFERROR(VLOOKUP(Tabla_SERIED_12_5[[#This Row],[IdEstablecimiento]],'[1]Establecimiento 2023'!$A$1:$E$183,3,FALSE),0)","v":"105480-Posta de Salud Rural Quilimarí"},{"$f":"IFERROR(VLOOKUP(Tabla_SERIED_12_5[[#This Row],[IdEstablecimiento]],'[1]Establecimiento 2023'!$A$1:$E$183,5,FALSE),0)","v":"04203-Los Vilos"},"16090300","2022-06-20T17:23:56",44,64]
[{"$nulls":23},5,"5",2022,"105480",{"$f":"IFERROR(VLOOKUP(Tabla_SERIED_12_5[[#This Row],[IdEstablecimiento]],'[1]Establecimiento 2023'!$A$1:$E$183,3,FALSE),0)","v":"105480-Posta de Salud Rural Quilimarí"},{"$f":"IFERROR(VLOOKUP(Tabla_SERIED_12_5[[#This Row],[IdEstablecimiento]],'[1]Establecimiento 2023'!$A$1:$E$183,5,FALSE),0)","v":"04203-Los Vilos"},"16200210","2022-06-20T17:23:56",1,1]
[{"$nulls":23},5,"5",2022,"105480",{"$f":"IFERROR(VLOOKUP(Tabla_SERIED_12_5[[#This Row],[IdEstablecimiento]],'[1]Establecimiento 2023'!$A$1:$E$183,3,FALSE),0)","v":"105480-Posta de Salud Rural Quilimarí"},{"$f":"IFERROR(VLOOKUP(Tabla_SERIED_12_5[[#This Row],[IdEstablecimiento]],'[1]Establecimiento 2023'!$A$1:$E$183,5,FALSE),0)","v":"04203-Los Vilos"},"16100300","2022-06-20T17:23:56",64,28,36,1,67]
[{"$nulls":23},5,"5",2022,"105480",{"$f":"IFERROR(VLOOKUP(Tabla_SERIED_12_5[[#This Row],[IdEstablecimiento]],'[1]Establecimiento 2023'!$A$1:$E$183,3,FALSE),0)","v":"105480-Posta de Salud Rural Quilimarí"},{"$f":"IFERROR(VLOOKUP(Tabla_SERIED_12_5[[#This Row],[IdEstablecimiento]],'[1]Establecimiento 2023'!$A$1:$E$183,5,FALSE),0)","v":"04203-Los Vilos"},"16200220","2022-06-20T17:23:56",1,1,0,0,0]
[{"$nulls":23},5,"5",2022,"105481",{"$f":"IFERROR(VLOOKUP(Tabla_SERIED_12_5[[#This Row],[IdEstablecimiento]],'[1]Establecimiento 2023'!$A$1:$E$183,3,FALSE),0)","v":"105481-Posta de Salud Rural Tilama"},{"$f":"IFERROR(VLOOKUP(Tabla_SERIED_12_5[[#This Row],[IdEstablecimiento]],'[1]Establecimiento 2023'!$A$1:$E$183,5,FALSE),0)","v":"04203-Los Vilos"},"15010200","2022-06-20T17:24:07",4,{"$nulls":4},0,4,0]
[{"$nulls":23},5,"5",2022,"105301",{"$f":"IFERROR(VLOOKUP(Tabla_SERIED_12_5[[#This Row],[IdEstablecimiento]],'[1]Establecimiento 2023'!$A$1:$E$183,3,FALSE),0)","v":"105301-Centro de Salud Familiar Las Compañías"},{"$f":"IFERROR(VLOOKUP(Tabla_SERIED_12_5[[#This Row],[IdEstablecimiento]],'[1]Establecimiento 2023'!$A$1:$E$183,5,FALSE),0)","v":"04101-La Serena"},"15010400","2022-06-20T16:59:40",2,{"$nulls":4},0,2,0]
[{"$nulls":23},5,"5",2022,"105301",{"$f":"IFERROR(VLOOKUP(Tabla_SERIED_12_5[[#This Row],[IdEstablecimiento]],'[1]Establecimiento 2023'!$A$1:$E$183,3,FALSE),0)","v":"105301-Centro de Salud Familiar Las Compañías"},{"$f":"IFERROR(VLOOKUP(Tabla_SERIED_12_5[[#This Row],[IdEstablecimiento]],'[1]Establecimiento 2023'!$A$1:$E$183,5,FALSE),0)","v":"04101-La Serena"},"15010500","2022-06-20T16:59:40",8,null,0,4,2,0,2,0]
[{"$nulls":23},5,"5",2022,"105301",{"$f":"IFERROR(VLOOKUP(Tabla_SERIED_12_5[[#This Row],[IdEstablecimiento]],'[1]Establecimiento 2023'!$A$1:$E$183,3,FALSE),0)","v":"105301-Centro de Salud Familiar Las Compañías"},{"$f":"IFERROR(VLOOKUP(Tabla_SERIED_12_5[[#This Row],[IdEstablecimiento]],'[1]Establecimiento 2023'!$A$1:$E$183,5,FALSE),0)","v":"04101-La Serena"},"15080009","2022-06-20T16:59:40",1,{"$nulls":10},1]
[{"$nulls":23},5,"5",2022,"105318",{"$f":"IFERROR(VLOOKUP(Tabla_SERIED_12_5[[#This Row],[IdEstablecimiento]],'[1]Establecimiento 2023'!$A$1:$E$183,3,FALSE),0)","v":"105318-Centro de Salud Familiar El Palqui"},{"$f":"IFERROR(VLOOKUP(Tabla_SERIED_12_5[[#This Row],[IdEstablecimiento]],'[1]Establecimiento 2023'!$A$1:$E$183,5,FALSE),0)","v":"04303-Monte Patria"},"15010200","2022-06-20T17:04:21",355,{"$nulls":4},68,148,139]
[{"$nulls":23},5,"5",2022,"105318",{"$f":"IFERROR(VLOOKUP(Tabla_SERIED_12_5[[#This Row],[IdEstablecimiento]],'[1]Establecimiento 2023'!$A$1:$E$183,3,FALSE),0)","v":"105318-Centro de Salud Familiar El Palqui"},{"$f":"IFERROR(VLOOKUP(Tabla_SERIED_12_5[[#This Row],[IdEstablecimiento]],'[1]Establecimiento 2023'!$A$1:$E$183,5,FALSE),0)","v":"04303-Monte Patria"},"15080008","2022-06-20T17:04:21",109,{"$nulls":7},56,null,44,null,9]
[{"$nulls":23},5,"5",2022,"105318",{"$f":"IFERROR(VLOOKUP(Tabla_SERIED_12_5[[#This Row],[IdEstablecimiento]],'[1]Establecimiento 2023'!$A$1:$E$183,3,FALSE),0)","v":"105318-Centro de Salud Familiar El Palqui"},{"$f":"IFERROR(VLOOKUP(Tabla_SERIED_12_5[[#This Row],[IdEstablecimiento]],'[1]Establecimiento 2023'!$A$1:$E$183,5,FALSE),0)","v":"04303-Monte Patria"},"15900010","2022-06-20T17:04:21",42.4,null,14.4,28]
[{"$nulls":23},5,"5",2022,"105318",{"$f":"IFERROR(VLOOKUP(Tabla_SERIED_12_5[[#This Row],[IdEstablecimiento]],'[1]Establecimiento 2023'!$A$1:$E$183,3,FALSE),0)","v":"105318-Centro de Salud Familiar El Palqui"},{"$f":"IFERROR(VLOOKUP(Tabla_SERIED_12_5[[#This Row],[IdEstablecimiento]],'[1]Establecimiento 2023'!$A$1:$E$183,5,FALSE),0)","v":"04303-Monte Patria"},"15010300","2022-06-20T17:04:21",2,{"$nulls":3},2]
[{"$nulls":23},5,"5",2022,"105318",{"$f":"IFERROR(VLOOKUP(Tabla_SERIED_12_5[[#This Row],[IdEstablecimiento]],'[1]Establecimiento 2023'!$A$1:$E$183,3,FALSE),0)","v":"105318-Centro de Salud Familiar El Palqui"},{"$f":"IFERROR(VLOOKUP(Tabla_SERIED_12_5[[#This Row],[IdEstablecimiento]],'[1]Establecimiento 2023'!$A$1:$E$183,5,FALSE),0)","v":"04303-Monte Patria"},"15010400","2022-06-20T17:04:21",8,{"$nulls":4},2,2,4]
[{"$nulls":23},5,"5",2022,"105318",{"$f":"IFERROR(VLOOKUP(Tabla_SERIED_12_5[[#This Row],[IdEstablecimiento]],'[1]Establecimiento 2023'!$A$1:$E$183,3,FALSE),0)","v":"105318-Centro de Salud Familiar El Palqui"},{"$f":"IFERROR(VLOOKUP(Tabla_SERIED_12_5[[#This Row],[IdEstablecimiento]],'[1]Establecimiento 2023'!$A$1:$E$183,5,FALSE),0)","v":"04303-Monte Patria"},"15010500","2022-06-20T17:04:21",12,null,null,2,2,2,2,4]
[{"$nulls":23},5,"5",2022,"105318",{"$f":"IFERROR(VLOOKUP(Tabla_SERIED_12_5[[#This Row],[IdEstablecimiento]],'[1]Establecimiento 2023'!$A$1:$E$183,3,FALSE),0)","v":"105318-Centro de Salud Familiar El Palqui"},{"$f":"IFERROR(VLOOKUP(Tabla_SERIED_12_5[[#This Row],[IdEstablecimiento]],'[1]Establecimiento 2023'!$A$1:$E$183,5,FALSE),0)","v":"04303-Monte Patria"},"15900020","2022-06-20T17:04:21",4.8,null,null,4.8]
[{"$nulls":23},4,"5",2022,"105322",{"$f":"IFERROR(VLOOKUP(Tabla_SERIED_12_5[[#This Row],[IdEstablecimiento]],'[1]Establecimiento 2023'!$A$1:$E$183,3,FALSE),0)","v":"105322-Centro de Salud Familiar Marcos Macuada"},{"$f":"IFERROR(VLOOKUP(Tabla_SERIED_12_5[[#This Row],[IdEstablecimiento]],'[1]Establecimiento 2023'!$A$1:$E$183,5,FALSE),0)","v":"04301-Ovalle"},"15030100","2022-05-18T11:53:39",4,4,0,0]
[{"$nulls":23},4,"5",2022,"105322",{"$f":"IFERROR(VLOOKUP(Tabla_SERIED_12_5[[#This Row],[IdEstablecimiento]],'[1]Establecimiento 2023'!$A$1:$E$183,3,FALSE),0)","v":"105322-Centro de Salud Familiar Marcos Macuada"},{"$f":"IFERROR(VLOOKUP(Tabla_SERIED_12_5[[#This Row],[IdEstablecimiento]],'[1]Establecimiento 2023'!$A$1:$E$183,5,FALSE),0)","v":"04301-Ovalle"},"15900030","2022-05-18T11:53:39",13.2,0,3.2,0,7.6,2.4]
[{"$nulls":23},4,"5",2022,"105322",{"$f":"IFERROR(VLOOKUP(Tabla_SERIED_12_5[[#This Row],[IdEstablecimiento]],'[1]Establecimiento 2023'!$A$1:$E$183,3,FALSE),0)","v":"105322-Centro de Salud Familiar Marcos Macuada"},{"$f":"IFERROR(VLOOKUP(Tabla_SERIED_12_5[[#This Row],[IdEstablecimiento]],'[1]Establecimiento 2023'!$A$1:$E$183,5,FALSE),0)","v":"04301-Ovalle"},"15900040","2022-05-18T11:53:39",13.2,0,4.4,4.4,4.4,0]
[{"$nulls":23},4,"5",2022,"105322",{"$f":"IFERROR(VLOOKUP(Tabla_SERIED_12_5[[#This Row],[IdEstablecimiento]],'[1]Establecimiento 2023'!$A$1:$E$183,3,FALSE),0)","v":"105322-Centro de Salud Familiar Marcos Macuada"},{"$f":"IFERROR(VLOOKUP(Tabla_SERIED_12_5[[#This Row],[IdEstablecimiento]],'[1]Establecimiento 2023'!$A$1:$E$183,5,FALSE),0)","v":"04301-Ovalle"},"15050100","2022-05-18T11:53:39",436,172,264,2,14,29,84,3,110,104,61,null,20,4,5]
[{"$nulls":23},4,"5",2022,"105322",{"$f":"IFERROR(VLOOKUP(Tabla_SERIED_12_5[[#This Row],[IdEstablecimiento]],'[1]Establecimiento 2023'!$A$1:$E$183,3,FALSE),0)","v":"105322-Centro de Salud Familiar Marcos Macuada"},{"$f":"IFERROR(VLOOKUP(Tabla_SERIED_12_5[[#This Row],[IdEstablecimiento]],'[1]Establecimiento 2023'!$A$1:$E$183,5,FALSE),0)","v":"04301-Ovalle"},"15050200","2022-05-18T11:53:39",4,1,3,0,0,0,1,0,2,0,null,1,0,0,0]
[{"$nulls":23},4,"5",2022,"105322",{"$f":"IFERROR(VLOOKUP(Tabla_SERIED_12_5[[#This Row],[IdEstablecimiento]],'[1]Establecimiento 2023'!$A$1:$E$183,3,FALSE),0)","v":"105322-Centro de Salud Familiar Marcos Macuada"},{"$f":"IFERROR(VLOOKUP(Tabla_SERIED_12_5[[#This Row],[IdEstablecimiento]],'[1]Establecimiento 2023'!$A$1:$E$183,5,FALSE),0)","v":"04301-Ovalle"},"15050500","2022-05-18T11:53:39",1,null,1,1,0,0]
[{"$nulls":23},4,"5",2022,"105322",{"$f":"IFERROR(VLOOKUP(Tabla_SERIED_12_5[[#This Row],[IdEstablecimiento]],'[1]Establecimiento 2023'!$A$1:$E$183,3,FALSE),0)","v":"105322-Centro de Salud Familiar Marcos Macuada"},{"$f":"IFERROR(VLOOKUP(Tabla_SERIED_12_5[[#This Row],[IdEstablecimiento]],'[1]Establecimiento 2023'!$A$1:$E$183,5,FALSE),0)","v":"04301-Ovalle"},"15900050","2022-05-18T11:53:39",7,6,1,0,2,1,3,1]
[{"$nulls":23},2,"5",2022,"105106",{"$f":"IFERROR(VLOOKUP(Tabla_SERIED_12_5[[#This Row],[IdEstablecimiento]],'[1]Establecimiento 2023'!$A$1:$E$183,3,FALSE),0)","v":"105106-Hospital Dr. José Arraño (Andacollo)"},{"$f":"IFERROR(VLOOKUP(Tabla_SERIED_12_5[[#This Row],[IdEstablecimiento]],'[1]Establecimiento 2023'!$A$1:$E$183,5,FALSE),0)","v":"105106-Hospital Andacollo"},"15050100","2022-03-17T09:25:50",168,72,96,2,1,11,16,28,35,41,27,null,4,3,0]
[{"$nulls":23},2,"5",2022,"105106",{"$f":"IFERROR(VLOOKUP(Tabla_SERIED_12_5[[#This Row],[IdEstablecimiento]],'[1]Establecimiento 2023'!$A$1:$E$183,3,FALSE),0)","v":"105106-Hospital Dr. José Arraño (Andacollo)"},{"$f":"IFERROR(VLOOKUP(Tabla_SERIED_12_5[[#This Row],[IdEstablecimiento]],'[1]Establecimiento 2023'!$A$1:$E$183,5,FALSE),0)","v":"105106-Hospital Andacollo"},"15050200","2022-03-17T09:25:50",8,4,4,{"$nulls":3},1,null,6,1]
[{"$nulls":23},7,"5",2022,"105304",{"$f":"IFERROR(VLOOKUP(Tabla_SERIED_12_5[[#This Row],[IdEstablecimiento]],'[1]Establecimiento 2023'!$A$1:$E$183,3,FALSE),0)","v":"105304-Centro de Salud Familiar Santa Cecilia"},{"$f":"IFERROR(VLOOKUP(Tabla_SERIED_12_5[[#This Row],[IdEstablecimiento]],'[1]Establecimiento 2023'!$A$1:$E$183,5,FALSE),0)","v":"04102-Coquimbo"},"15010200","2022-08-19T11:59:01",453,{"$nulls":4},106,184,163]
[{"$nulls":23},7,"5",2022,"105304",{"$f":"IFERROR(VLOOKUP(Tabla_SERIED_12_5[[#This Row],[IdEstablecimiento]],'[1]Establecimiento 2023'!$A$1:$E$183,3,FALSE),0)","v":"105304-Centro de Salud Familiar Santa Cecilia"},{"$f":"IFERROR(VLOOKUP(Tabla_SERIED_12_5[[#This Row],[IdEstablecimiento]],'[1]Establecimiento 2023'!$A$1:$E$183,5,FALSE),0)","v":"04102-Coquimbo"},"15080008","2022-08-19T11:59:01",132,{"$nulls":7},86,null,22,5,19]
[{"$nulls":23},7,"5",2022,"105304",{"$f":"IFERROR(VLOOKUP(Tabla_SERIED_12_5[[#This Row],[IdEstablecimiento]],'[1]Establecimiento 2023'!$A$1:$E$183,3,FALSE),0)","v":"105304-Centro de Salud Familiar Santa Cecilia"},{"$f":"IFERROR(VLOOKUP(Tabla_SERIED_12_5[[#This Row],[IdEstablecimiento]],'[1]Establecimiento 2023'!$A$1:$E$183,5,FALSE),0)","v":"04102-Coquimbo"},"15900010","2022-08-19T11:59:01",179.1,5.4,55.8,117.9]
[{"$nulls":23},7,"5",2022,"105436",{"$f":"IFERROR(VLOOKUP(Tabla_SERIED_12_5[[#This Row],[IdEstablecimiento]],'[1]Establecimiento 2023'!$A$1:$E$183,3,FALSE),0)","v":"105436-Posta de Salud Rural El Maitén"},{"$f":"IFERROR(VLOOKUP(Tabla_SERIED_12_5[[#This Row],[IdEstablecimiento]],'[1]Establecimiento 2023'!$A$1:$E$183,5,FALSE),0)","v":"04303-Monte Patria"},"15050100","2022-08-22T05:50:25",8,4,4,null,null,1,2,1,null,1,3]
[{"$nulls":23},7,"5",2022,"105436",{"$f":"IFERROR(VLOOKUP(Tabla_SERIED_12_5[[#This Row],[IdEstablecimiento]],'[1]Establecimiento 2023'!$A$1:$E$183,3,FALSE),0)","v":"105436-Posta de Salud Rural El Maitén"},{"$f":"IFERROR(VLOOKUP(Tabla_SERIED_12_5[[#This Row],[IdEstablecimiento]],'[1]Establecimiento 2023'!$A$1:$E$183,5,FALSE),0)","v":"04303-Monte Patria"},"15050200","2022-08-22T05:50:25",1,null,1,{"$nulls":9},1]
[{"$nulls":23},7,"5",2022,"105436",{"$f":"IFERROR(VLOOKUP(Tabla_SERIED_12_5[[#This Row],[IdEstablecimiento]],'[1]Establecimiento 2023'!$A$1:$E$183,3,FALSE),0)","v":"105436-Posta de Salud Rural El Maitén"},{"$f":"IFERROR(VLOOKUP(Tabla_SERIED_12_5[[#This Row],[IdEstablecimiento]],'[1]Establecimiento 2023'!$A$1:$E$183,5,FALSE),0)","v":"04303-Monte Patria"},"16090300","2022-08-22T05:50:25",89,89]
[{"$nulls":23},7,"5",2022,"105436",{"$f":"IFERROR(VLOOKUP(Tabla_SERIED_12_5[[#This Row],[IdEstablecimiento]],'[1]Establecimiento 2023'!$A$1:$E$183,3,FALSE),0)","v":"105436-Posta de Salud Rural El Maitén"},{"$f":"IFERROR(VLOOKUP(Tabla_SERIED_12_5[[#This Row],[IdEstablecimiento]],'[1]Establecimiento 2023'!$A$1:$E$183,5,FALSE),0)","v":"04303-Monte Patria"},"16200210","2022-08-22T05:50:25",4,4]
[{"$nulls":23},7,"5",2022,"105436",{"$f":"IFERROR(VLOOKUP(Tabla_SERIED_12_5[[#This Row],[IdEstablecimiento]],'[1]Establecimiento 2023'!$A$1:$E$183,3,FALSE),0)","v":"105436-Posta de Salud Rural El Maitén"},{"$f":"IFERROR(VLOOKUP(Tabla_SERIED_12_5[[#This Row],[IdEstablecimiento]],'[1]Establecimiento 2023'!$A$1:$E$183,5,FALSE),0)","v":"04303-Monte Patria"},"16100300","2022-08-22T05:50:25",45,21,24,2,12]
[{"$nulls":23},7,"5",2022,"105304",{"$f":"IFERROR(VLOOKUP(Tabla_SERIED_12_5[[#This Row],[IdEstablecimiento]],'[1]Establecimiento 2023'!$A$1:$E$183,3,FALSE),0)","v":"105304-Centro de Salud Familiar Santa Cecilia"},{"$f":"IFERROR(VLOOKUP(Tabla_SERIED_12_5[[#This Row],[IdEstablecimiento]],'[1]Establecimiento 2023'!$A$1:$E$183,5,FALSE),0)","v":"04102-Coquimbo"},"15010300","2022-08-19T11:59:01",2,{"$nulls":3},2,0]
[{"$nulls":23},7,"5",2022,"105304",{"$f":"IFERROR(VLOOKUP(Tabla_SERIED_12_5[[#This Row],[IdEstablecimiento]],'[1]Establecimiento 2023'!$A$1:$E$183,3,FALSE),0)","v":"105304-Centro de Salud Familiar Santa Cecilia"},{"$f":"IFERROR(VLOOKUP(Tabla_SERIED_12_5[[#This Row],[IdEstablecimiento]],'[1]Establecimiento 2023'!$A$1:$E$183,5,FALSE),0)","v":"04102-Coquimbo"},"15010400","2022-08-19T11:59:01",8,{"$nulls":4},2,4,2]
[{"$nulls":23},7,"5",2022,"105304",{"$f":"IFERROR(VLOOKUP(Tabla_SERIED_12_5[[#This Row],[IdEstablecimiento]],'[1]Establecimiento 2023'!$A$1:$E$183,3,FALSE),0)","v":"105304-Centro de Salud Familiar Santa Cecilia"},{"$f":"IFERROR(VLOOKUP(Tabla_SERIED_12_5[[#This Row],[IdEstablecimiento]],'[1]Establecimiento 2023'!$A$1:$E$183,5,FALSE),0)","v":"04102-Coquimbo"},"15010500","2022-08-19T11:59:01",20,null,0,10,2,2,4,2]
[{"$nulls":23},7,"5",2022,"105304",{"$f":"IFERROR(VLOOKUP(Tabla_SERIED_12_5[[#This Row],[IdEstablecimiento]],'[1]Establecimiento 2023'!$A$1:$E$183,3,FALSE),0)","v":"105304-Centro de Salud Familiar Santa Cecilia"},{"$f":"IFERROR(VLOOKUP(Tabla_SERIED_12_5[[#This Row],[IdEstablecimiento]],'[1]Establecimiento 2023'!$A$1:$E$183,5,FALSE),0)","v":"04102-Coquimbo"},"15080009","2022-08-19T11:59:01",3,{"$nulls":8},3]
[{"$nulls":23},7,"5",2022,"105304",{"$f":"IFERROR(VLOOKUP(Tabla_SERIED_12_5[[#This Row],[IdEstablecimiento]],'[1]Establecimiento 2023'!$A$1:$E$183,3,FALSE),0)","v":"105304-Centro de Salud Familiar Santa Cecilia"},{"$f":"IFERROR(VLOOKUP(Tabla_SERIED_12_5[[#This Row],[IdEstablecimiento]],'[1]Establecimiento 2023'!$A$1:$E$183,5,FALSE),0)","v":"04102-Coquimbo"},"15900020","2022-08-19T11:59:01",18,0,3.6,14.4]
[{"$nulls":23},7,"5",2022,"105304",{"$f":"IFERROR(VLOOKUP(Tabla_SERIED_12_5[[#This Row],[IdEstablecimiento]],'[1]Establecimiento 2023'!$A$1:$E$183,3,FALSE),0)","v":"105304-Centro de Salud Familiar Santa Cecilia"},{"$f":"IFERROR(VLOOKUP(Tabla_SERIED_12_5[[#This Row],[IdEstablecimiento]],'[1]Establecimiento 2023'!$A$1:$E$183,5,FALSE),0)","v":"04102-Coquimbo"},"15030100","2022-08-19T11:59:01",15.2,11.2,4,0]
[{"$nulls":23},7,"5",2022,"105304",{"$f":"IFERROR(VLOOKUP(Tabla_SERIED_12_5[[#This Row],[IdEstablecimiento]],'[1]Establecimiento 2023'!$A$1:$E$183,3,FALSE),0)","v":"105304-Centro de Salud Familiar Santa Cecilia"},{"$f":"IFERROR(VLOOKUP(Tabla_SERIED_12_5[[#This Row],[IdEstablecimiento]],'[1]Establecimiento 2023'!$A$1:$E$183,5,FALSE),0)","v":"04102-Coquimbo"},"15030200","2022-08-19T11:59:01",3.6,null,null,3.6]
[{"$nulls":23},7,"5",2022,"105304",{"$f":"IFERROR(VLOOKUP(Tabla_SERIED_12_5[[#This Row],[IdEstablecimiento]],'[1]Establecimiento 2023'!$A$1:$E$183,3,FALSE),0)","v":"105304-Centro de Salud Familiar Santa Cecilia"},{"$f":"IFERROR(VLOOKUP(Tabla_SERIED_12_5[[#This Row],[IdEstablecimiento]],'[1]Establecimiento 2023'!$A$1:$E$183,5,FALSE),0)","v":"04102-Coquimbo"},"15900030","2022-08-19T11:59:01",6.4,3.2,0,0,3.2,0]
[{"$nulls":23},7,"5",2022,"105304",{"$f":"IFERROR(VLOOKUP(Tabla_SERIED_12_5[[#This Row],[IdEstablecimiento]],'[1]Establecimiento 2023'!$A$1:$E$183,3,FALSE),0)","v":"105304-Centro de Salud Familiar Santa Cecilia"},{"$f":"IFERROR(VLOOKUP(Tabla_SERIED_12_5[[#This Row],[IdEstablecimiento]],'[1]Establecimiento 2023'!$A$1:$E$183,5,FALSE),0)","v":"04102-Coquimbo"},"15900040","2022-08-19T11:59:01",4,0,4,0,0,0]
[{"$nulls":23},6,"5",2022,"105324",{"$f":"IFERROR(VLOOKUP(Tabla_SERIED_12_5[[#This Row],[IdEstablecimiento]],'[1]Establecimiento 2023'!$A$1:$E$183,3,FALSE),0)","v":"105324-Centro de Salud Familiar Sotaquí"},{"$f":"IFERROR(VLOOKUP(Tabla_SERIED_12_5[[#This Row],[IdEstablecimiento]],'[1]Establecimiento 2023'!$A$1:$E$183,5,FALSE),0)","v":"04301-Ovalle"},"15010200","2022-07-14T14:07:04",170,{"$nulls":4},32,64,74]
[{"$nulls":23},6,"5",2022,"105324",{"$f":"IFERROR(VLOOKUP(Tabla_SERIED_12_5[[#This Row],[IdEstablecimiento]],'[1]Establecimiento 2023'!$A$1:$E$183,3,FALSE),0)","v":"105324-Centro de Salud Familiar Sotaquí"},{"$f":"IFERROR(VLOOKUP(Tabla_SERIED_12_5[[#This Row],[IdEstablecimiento]],'[1]Establecimiento 2023'!$A$1:$E$183,5,FALSE),0)","v":"04301-Ovalle"},"15080008","2022-07-14T14:07:04",50,{"$nulls":7},25,null,20,2,3]
[{"$nulls":23},6,"5",2022,"105324",{"$f":"IFERROR(VLOOKUP(Tabla_SERIED_12_5[[#This Row],[IdEstablecimiento]],'[1]Establecimiento 2023'!$A$1:$E$183,3,FALSE),0)","v":"105324-Centro de Salud Familiar Sotaquí"},{"$f":"IFERROR(VLOOKUP(Tabla_SERIED_12_5[[#This Row],[IdEstablecimiento]],'[1]Establecimiento 2023'!$A$1:$E$183,5,FALSE),0)","v":"04301-Ovalle"},"15900010","2022-07-14T14:07:04",48800,800,13600,34400]
[{"$nulls":23},6,"5",2022,"105324",{"$f":"IFERROR(VLOOKUP(Tabla_SERIED_12_5[[#This Row],[IdEstablecimiento]],'[1]Establecimiento 2023'!$A$1:$E$183,3,FALSE),0)","v":"105324-Centro de Salud Familiar Sotaquí"},{"$f":"IFERROR(VLOOKUP(Tabla_SERIED_12_5[[#This Row],[IdEstablecimiento]],'[1]Establecimiento 2023'!$A$1:$E$183,5,FALSE),0)","v":"04301-Ovalle"},"15010400","2022-07-14T14:07:04",10,{"$nulls":5},2,8]
[{"$nulls":23},1,"5",2022,"105437",{"$f":"IFERROR(VLOOKUP(Tabla_SERIED_12_5[[#This Row],[IdEstablecimiento]],'[1]Establecimiento 2023'!$A$1:$E$183,3,FALSE),0)","v":"105437-Posta de Salud Rural Chalinga"},{"$f":"IFERROR(VLOOKUP(Tabla_SERIED_12_5[[#This Row],[IdEstablecimiento]],'[1]Establecimiento 2023'!$A$1:$E$183,5,FALSE),0)","v":"04301-Ovalle"},"15080008","2022-02-16T11:04:26",4,{"$nulls":9},4]
[{"$nulls":23},1,"5",2022,"105437",{"$f":"IFERROR(VLOOKUP(Tabla_SERIED_12_5[[#This Row],[IdEstablecimiento]],'[1]Establecimiento 2023'!$A$1:$E$183,3,FALSE),0)","v":"105437-Posta de Salud Rural Chalinga"},{"$f":"IFERROR(VLOOKUP(Tabla_SERIED_12_5[[#This Row],[IdEstablecimiento]],'[1]Establecimiento 2023'!$A$1:$E$183,5,FALSE),0)","v":"04301-Ovalle"},"15900010","2022-02-16T11:04:26",10.4,null,7.2,3.2]
[{"$nulls":23},1,"5",2022,"105437",{"$f":"IFERROR(VLOOKUP(Tabla_SERIED_12_5[[#This Row],[IdEstablecimiento]],'[1]Establecimiento 2023'!$A$1:$E$183,3,FALSE),0)","v":"105437-Posta de Salud Rural Chalinga"},{"$f":"IFERROR(VLOOKUP(Tabla_SERIED_12_5[[#This Row],[IdEstablecimiento]],'[1]Establecimiento 2023'!$A$1:$E$183,5,FALSE),0)","v":"04301-Ovalle"},"15010400","2022-02-16T11:04:26",6,{"$nulls":4},2,4]
[{"$nulls":23},1,"5",2022,"105437",{"$f":"IFERROR(VLOOKUP(Tabla_SERIED_12_5[[#This Row],[IdEstablecimiento]],'[1]Establecimiento 2023'!$A$1:$E$183,3,FALSE),0)","v":"105437-Posta de Salud Rural Chalinga"},{"$f":"IFERROR(VLOOKUP(Tabla_SERIED_12_5[[#This Row],[IdEstablecimiento]],'[1]Establecimiento 2023'!$A$1:$E$183,5,FALSE),0)","v":"04301-Ovalle"},"15010500","2022-02-16T11:04:26",6,{"$nulls":4},2,4]
[{"$nulls":23},1,"5",2022,"105437",{"$f":"IFERROR(VLOOKUP(Tabla_SERIED_12_5[[#This Row],[IdEstablecimiento]],'[1]Establecimiento 2023'!$A$1:$E$183,3,FALSE),0)","v":"105437-Posta de Salud Rural Chalinga"},{"$f":"IFERROR(VLOOKUP(Tabla_SERIED_12_5[[#This Row],[IdEstablecimiento]],'[1]Establecimiento 2023'!$A$1:$E$183,5,FALSE),0)","v":"04301-Ovalle"},"15050100","2022-02-16T11:04:26",10,4,6,null,2,1,null,1,3,1,null,null,2]
[{"$nulls":23},2,"5",2022,"105499",{"$f":"IFERROR(VLOOKUP(Tabla_SERIED_12_5[[#This Row],[IdEstablecimiento]],'[1]Establecimiento 2023'!$A$1:$E$183,3,FALSE),0)","v":"105499-Posta de Salud Rural Lambert"},{"$f":"IFERROR(VLOOKUP(Tabla_SERIED_12_5[[#This Row],[IdEstablecimiento]],'[1]Establecimiento 2023'!$A$1:$E$183,5,FALSE),0)","v":"04101-La Serena"},"15050100","2022-03-17T10:00:28",30,13,17,null,1,3,1,5,5,8,7]
[{"$nulls":23},6,"5",2022,"105324",{"$f":"IFERROR(VLOOKUP(Tabla_SERIED_12_5[[#This Row],[IdEstablecimiento]],'[1]Establecimiento 2023'!$A$1:$E$183,3,FALSE),0)","v":"105324-Centro de Salud Familiar Sotaquí"},{"$f":"IFERROR(VLOOKUP(Tabla_SERIED_12_5[[#This Row],[IdEstablecimiento]],'[1]Establecimiento 2023'!$A$1:$E$183,5,FALSE),0)","v":"04301-Ovalle"},"15030100","2022-07-14T14:07:04",3200,3200]
[{"$nulls":23},6,"5",2022,"105324",{"$f":"IFERROR(VLOOKUP(Tabla_SERIED_12_5[[#This Row],[IdEstablecimiento]],'[1]Establecimiento 2023'!$A$1:$E$183,3,FALSE),0)","v":"105324-Centro de Salud Familiar Sotaquí"},{"$f":"IFERROR(VLOOKUP(Tabla_SERIED_12_5[[#This Row],[IdEstablecimiento]],'[1]Establecimiento 2023'!$A$1:$E$183,5,FALSE),0)","v":"04301-Ovalle"},"15050100","2022-07-14T14:07:04",146,52,94,{"$nulls":3},19,16,32,37,27,null,10,2,3]
[{"$nulls":23},6,"5",2022,"105324",{"$f":"IFERROR(VLOOKUP(Tabla_SERIED_12_5[[#This Row],[IdEstablecimiento]],'[1]Establecimiento 2023'!$A$1:$E$183,3,FALSE),0)","v":"105324-Centro de Salud Familiar Sotaquí"},{"$f":"IFERROR(VLOOKUP(Tabla_SERIED_12_5[[#This Row],[IdEstablecimiento]],'[1]Establecimiento 2023'!$A$1:$E$183,5,FALSE),0)","v":"04301-Ovalle"},"15050200","2022-07-14T14:07:04",6,1,5,{"$nulls":5},1,4,null,1]
[{"$nulls":23},6,"5",2022,"105324",{"$f":"IFERROR(VLOOKUP(Tabla_SERIED_12_5[[#This Row],[IdEstablecimiento]],'[1]Establecimiento 2023'!$A$1:$E$183,3,FALSE),0)","v":"105324-Centro de Salud Familiar Sotaquí"},{"$f":"IFERROR(VLOOKUP(Tabla_SERIED_12_5[[#This Row],[IdEstablecimiento]],'[1]Establecimiento 2023'!$A$1:$E$183,5,FALSE),0)","v":"04301-Ovalle"},"16090300","2022-07-14T14:07:04",205,258]
[{"$nulls":23},6,"5",2022,"105324",{"$f":"IFERROR(VLOOKUP(Tabla_SERIED_12_5[[#This Row],[IdEstablecimiento]],'[1]Establecimiento 2023'!$A$1:$E$183,3,FALSE),0)","v":"105324-Centro de Salud Familiar Sotaquí"},{"$f":"IFERROR(VLOOKUP(Tabla_SERIED_12_5[[#This Row],[IdEstablecimiento]],'[1]Establecimiento 2023'!$A$1:$E$183,5,FALSE),0)","v":"04301-Ovalle"},"16200210","2022-07-14T14:07:04",2,2]
[{"$nulls":23},6,"5",2022,"105324",{"$f":"IFERROR(VLOOKUP(Tabla_SERIED_12_5[[#This Row],[IdEstablecimiento]],'[1]Establecimiento 2023'!$A$1:$E$183,3,FALSE),0)","v":"105324-Centro de Salud Familiar Sotaquí"},{"$f":"IFERROR(VLOOKUP(Tabla_SERIED_12_5[[#This Row],[IdEstablecimiento]],'[1]Establecimiento 2023'!$A$1:$E$183,5,FALSE),0)","v":"04301-Ovalle"},"16100300","2022-07-14T14:07:04",258,106,152,2,50]
[{"$nulls":23},6,"5",2022,"105324",{"$f":"IFERROR(VLOOKUP(Tabla_SERIED_12_5[[#This Row],[IdEstablecimiento]],'[1]Establecimiento 2023'!$A$1:$E$183,3,FALSE),0)","v":"105324-Centro de Salud Familiar Sotaquí"},{"$f":"IFERROR(VLOOKUP(Tabla_SERIED_12_5[[#This Row],[IdEstablecimiento]],'[1]Establecimiento 2023'!$A$1:$E$183,5,FALSE),0)","v":"04301-Ovalle"},"16200220","2022-07-14T14:07:04",2,2]
[{"$nulls":23},6,"5",2022,"105324",{"$f":"IFERROR(VLOOKUP(Tabla_SERIED_12_5[[#This Row],[IdEstablecimiento]],'[1]Establecimiento 2023'!$A$1:$E$183,3,FALSE),0)","v":"105324-Centro de Salud Familiar Sotaquí"},{"$f":"IFERROR(VLOOKUP(Tabla_SERIED_12_5[[#This Row],[IdEstablecimiento]],'[1]Establecimiento 2023'!$A$1:$E$183,5,FALSE),0)","v":"04301-Ovalle"},"16200100","2022-07-14T14:07:04",1,1]
[{"$nulls":23},6,"5",2022,"105325",{"$f":"IFERROR(VLOOKUP(Tabla_SERIED_12_5[[#This Row],[IdEstablecimiento]],'[1]Establecimiento 2023'!$A$1:$E$183,3,FALSE),0)","v":"105325-Centro de Salud Familiar Juan Pablo II (La Serena)"},{"$f":"IFERROR(VLOOKUP(Tabla_SERIED_12_5[[#This Row],[IdEstablecimiento]],'[1]Establecimiento 2023'!$A$1:$E$183,5,FALSE),0)","v":"04101-La Serena"},"15010100","2022-07-14T14:07:16",120,{"$nulls":3},120,0]
[{"$nulls":23},6,"5",2022,"105325",{"$f":"IFERROR(VLOOKUP(Tabla_SERIED_12_5[[#This Row],[IdEstablecimiento]],'[1]Establecimiento 2023'!$A$1:$E$183,3,FALSE),0)","v":"105325-Centro de Salud Familiar Juan Pablo II (La Serena)"},{"$f":"IFERROR(VLOOKUP(Tabla_SERIED_12_5[[#This Row],[IdEstablecimiento]],'[1]Establecimiento 2023'!$A$1:$E$183,5,FALSE),0)","v":"04101-La Serena"},"15010200","2022-07-14T14:07:16",395,{"$nulls":4},108,184,103]
[{"$nulls":23},6,"5",2022,"105325",{"$f":"IFERROR(VLOOKUP(Tabla_SERIED_12_5[[#This Row],[IdEstablecimiento]],'[1]Establecimiento 2023'!$A$1:$E$183,3,FALSE),0)","v":"105325-Centro de Salud Familiar Juan Pablo II (La Serena)"},{"$f":"IFERROR(VLOOKUP(Tabla_SERIED_12_5[[#This Row],[IdEstablecimiento]],'[1]Establecimiento 2023'!$A$1:$E$183,5,FALSE),0)","v":"04101-La Serena"},"15080008","2022-07-14T14:07:16",140,{"$nulls":7},60,null,56,8,16]
[{"$nulls":23},7,"5",2022,"105304",{"$f":"IFERROR(VLOOKUP(Tabla_SERIED_12_5[[#This Row],[IdEstablecimiento]],'[1]Establecimiento 2023'!$A$1:$E$183,3,FALSE),0)","v":"105304-Centro de Salud Familiar Santa Cecilia"},{"$f":"IFERROR(VLOOKUP(Tabla_SERIED_12_5[[#This Row],[IdEstablecimiento]],'[1]Establecimiento 2023'!$A$1:$E$183,5,FALSE),0)","v":"04102-Coquimbo"},"15050100","2022-08-19T11:59:01",481,176,305,2,16,44,67,53,92,82,88,null,13,5,19]
[{"$nulls":23},7,"5",2022,"105304",{"$f":"IFERROR(VLOOKUP(Tabla_SERIED_12_5[[#This Row],[IdEstablecimiento]],'[1]Establecimiento 2023'!$A$1:$E$183,3,FALSE),0)","v":"105304-Centro de Salud Familiar Santa Cecilia"},{"$f":"IFERROR(VLOOKUP(Tabla_SERIED_12_5[[#This Row],[IdEstablecimiento]],'[1]Establecimiento 2023'!$A$1:$E$183,5,FALSE),0)","v":"04102-Coquimbo"},"15050200","2022-08-19T11:59:01",13,4,9,0,2,5,1,1,2,1,null,1,0,0,0]
[{"$nulls":23},7,"5",2022,"105304",{"$f":"IFERROR(VLOOKUP(Tabla_SERIED_12_5[[#This Row],[IdEstablecimiento]],'[1]Establecimiento 2023'!$A$1:$E$183,3,FALSE),0)","v":"105304-Centro de Salud Familiar Santa Cecilia"},{"$f":"IFERROR(VLOOKUP(Tabla_SERIED_12_5[[#This Row],[IdEstablecimiento]],'[1]Establecimiento 2023'!$A$1:$E$183,5,FALSE),0)","v":"04102-Coquimbo"},"15050500","2022-08-19T11:59:01",5,3,2,3,1,1]
[{"$nulls":23},7,"5",2022,"105304",{"$f":"IFERROR(VLOOKUP(Tabla_SERIED_12_5[[#This Row],[IdEstablecimiento]],'[1]Establecimiento 2023'!$A$1:$E$183,3,FALSE),0)","v":"105304-Centro de Salud Familiar Santa Cecilia"},{"$f":"IFERROR(VLOOKUP(Tabla_SERIED_12_5[[#This Row],[IdEstablecimiento]],'[1]Establecimiento 2023'!$A$1:$E$183,5,FALSE),0)","v":"04102-Coquimbo"},"15900050","2022-08-19T11:59:01",3,2,1,1,1,0,1,0]
[{"$nulls":23},7,"5",2022,"105304",{"$f":"IFERROR(VLOOKUP(Tabla_SERIED_12_5[[#This Row],[IdEstablecimiento]],'[1]Establecimiento 2023'!$A$1:$E$183,3,FALSE),0)","v":"105304-Centro de Salud Familiar Santa Cecilia"},{"$f":"IFERROR(VLOOKUP(Tabla_SERIED_12_5[[#This Row],[IdEstablecimiento]],'[1]Establecimiento 2023'!$A$1:$E$183,5,FALSE),0)","v":"04102-Coquimbo"},"15020100","2022-08-19T11:59:01",8,0,0,4,4,0]
[{"$nulls":23},7,"5",2022,"105304",{"$f":"IFERROR(VLOOKUP(Tabla_SERIED_12_5[[#This Row],[IdEstablecimiento]],'[1]Establecimiento 2023'!$A$1:$E$183,3,FALSE),0)","v":"105304-Centro de Salud Familiar Santa Cecilia"},{"$f":"IFERROR(VLOOKUP(Tabla_SERIED_12_5[[#This Row],[IdEstablecimiento]],'[1]Establecimiento 2023'!$A$1:$E$183,5,FALSE),0)","v":"04102-Coquimbo"},"15020200","2022-08-19T11:59:01",10,{"$nulls":4},4,4,2]
[{"$nulls":23},4,"5",2022,"200499",{"$f":"IFERROR(VLOOKUP(Tabla_SERIED_12_5[[#This Row],[IdEstablecimiento]],'[1]Establecimiento 2023'!$A$1:$E$183,3,FALSE),0)","v":"200499-Centro de Salud Familiar Rural Pan de Azúcar"},{"$f":"IFERROR(VLOOKUP(Tabla_SERIED_12_5[[#This Row],[IdEstablecimiento]],'[1]Establecimiento 2023'!$A$1:$E$183,5,FALSE),0)","v":"04102-Coquimbo"},"15900030","2022-05-18T15:27:59",8.8,null,null,8.8]
[{"$nulls":23},4,"5",2022,"200499",{"$f":"IFERROR(VLOOKUP(Tabla_SERIED_12_5[[#This Row],[IdEstablecimiento]],'[1]Establecimiento 2023'!$A$1:$E$183,3,FALSE),0)","v":"200499-Centro de Salud Familiar Rural Pan de Azúcar"},{"$f":"IFERROR(VLOOKUP(Tabla_SERIED_12_5[[#This Row],[IdEstablecimiento]],'[1]Establecimiento 2023'!$A$1:$E$183,5,FALSE),0)","v":"04102-Coquimbo"},"15050100","2022-05-18T15:27:59",283,116,167,2,4,39,34,25,72,39,51,null,9,null,8]
[{"$nulls":23},4,"5",2022,"105437",{"$f":"IFERROR(VLOOKUP(Tabla_SERIED_12_5[[#This Row],[IdEstablecimiento]],'[1]Establecimiento 2023'!$A$1:$E$183,3,FALSE),0)","v":"105437-Posta de Salud Rural Chalinga"},{"$f":"IFERROR(VLOOKUP(Tabla_SERIED_12_5[[#This Row],[IdEstablecimiento]],'[1]Establecimiento 2023'!$A$1:$E$183,5,FALSE),0)","v":"04301-Ovalle"},"15050100","2022-05-18T14:57:14",13,4,9,null,1,1,2,null,5,2,null,null,1,null,1]
[{"$nulls":23},4,"5",2022,"105437",{"$f":"IFERROR(VLOOKUP(Tabla_SERIED_12_5[[#This Row],[IdEstablecimiento]],'[1]Establecimiento 2023'!$A$1:$E$183,3,FALSE),0)","v":"105437-Posta de Salud Rural Chalinga"},{"$f":"IFERROR(VLOOKUP(Tabla_SERIED_12_5[[#This Row],[IdEstablecimiento]],'[1]Establecimiento 2023'!$A$1:$E$183,5,FALSE),0)","v":"04301-Ovalle"},"15050200","2022-05-18T14:57:14",2,1,1,{"$nulls":5},2]
[{"$nulls":23},7,"5",2022,"105312",{"$f":"IFERROR(VLOOKUP(Tabla_SERIED_12_5[[#This Row],[IdEstablecimiento]],'[1]Establecimiento 2023'!$A$1:$E$183,3,FALSE),0)","v":"105312-Centro de Salud Familiar Carén"},{"$f":"IFERROR(VLOOKUP(Tabla_SERIED_12_5[[#This Row],[IdEstablecimiento]],'[1]Establecimiento 2023'!$A$1:$E$183,5,FALSE),0)","v":"04303-Monte Patria"},"15900010","2022-08-19T12:00:33",5.8,null,null,5.8]
[{"$nulls":23},7,"5",2022,"105312",{"$f":"IFERROR(VLOOKUP(Tabla_SERIED_12_5[[#This Row],[IdEstablecimiento]],'[1]Establecimiento 2023'!$A$1:$E$183,3,FALSE),0)","v":"105312-Centro de Salud Familiar Carén"},{"$f":"IFERROR(VLOOKUP(Tabla_SERIED_12_5[[#This Row],[IdEstablecimiento]],'[1]Establecimiento 2023'!$A$1:$E$183,5,FALSE),0)","v":"04303-Monte Patria"},"15050100","2022-08-19T12:00:33",43,15,28,null,null,2,5,3,14,6,7,null,2,1,3]
[{"$nulls":23},7,"5",2022,"105312",{"$f":"IFERROR(VLOOKUP(Tabla_SERIED_12_5[[#This Row],[IdEstablecimiento]],'[1]Establecimiento 2023'!$A$1:$E$183,3,FALSE),0)","v":"105312-Centro de Salud Familiar Carén"},{"$f":"IFERROR(VLOOKUP(Tabla_SERIED_12_5[[#This Row],[IdEstablecimiento]],'[1]Establecimiento 2023'!$A$1:$E$183,5,FALSE),0)","v":"04303-Monte Patria"},"15020200","2022-08-19T12:00:33",2,{"$nulls":5},2]
[{"$nulls":23},7,"5",2022,"105312",{"$f":"IFERROR(VLOOKUP(Tabla_SERIED_12_5[[#This Row],[IdEstablecimiento]],'[1]Establecimiento 2023'!$A$1:$E$183,3,FALSE),0)","v":"105312-Centro de Salud Familiar Carén"},{"$f":"IFERROR(VLOOKUP(Tabla_SERIED_12_5[[#This Row],[IdEstablecimiento]],'[1]Establecimiento 2023'!$A$1:$E$183,5,FALSE),0)","v":"04303-Monte Patria"},"15060100","2022-08-19T12:00:33",1,null,1,{"$nulls":5},1]
[{"$nulls":23},1,"5",2022,"105496",{"$f":"IFERROR(VLOOKUP(Tabla_SERIED_12_5[[#This Row],[IdEstablecimiento]],'[1]Establecimiento 2023'!$A$1:$E$183,3,FALSE),0)","v":"105496-Posta de Salud Rural Pintacura Sur"},{"$f":"IFERROR(VLOOKUP(Tabla_SERIED_12_5[[#This Row],[IdEstablecimiento]],'[1]Establecimiento 2023'!$A$1:$E$183,5,FALSE),0)","v":"04201-Illapel"},"16200220","2022-02-17T04:10:06",7,5,2,null,2]
[{"$nulls":23},1,"5",2022,"105497",{"$f":"IFERROR(VLOOKUP(Tabla_SERIED_12_5[[#This Row],[IdEstablecimiento]],'[1]Establecimiento 2023'!$A$1:$E$183,3,FALSE),0)","v":"105497-Posta de Salud Rural Jabonería"},{"$f":"IFERROR(VLOOKUP(Tabla_SERIED_12_5[[#This Row],[IdEstablecimiento]],'[1]Establecimiento 2023'!$A$1:$E$183,5,FALSE),0)","v":"04202-Canela"},"16090300","2022-02-17T04:10:26",22,22]
[{"$nulls":23},1,"5",2022,"105497",{"$f":"IFERROR(VLOOKUP(Tabla_SERIED_12_5[[#This Row],[IdEstablecimiento]],'[1]Establecimiento 2023'!$A$1:$E$183,3,FALSE),0)","v":"105497-Posta de Salud Rural Jabonería"},{"$f":"IFERROR(VLOOKUP(Tabla_SERIED_12_5[[#This Row],[IdEstablecimiento]],'[1]Establecimiento 2023'!$A$1:$E$183,5,FALSE),0)","v":"04202-Canela"},"16200210","2022-02-17T04:10:26",5,5]
[{"$nulls":23},4,"5",2022,"105427",{"$f":"IFERROR(VLOOKUP(Tabla_SERIED_12_5[[#This Row],[IdEstablecimiento]],'[1]Establecimiento 2023'!$A$1:$E$183,3,FALSE),0)","v":"105427-Posta de Salud Rural Hacienda Valdivia"},{"$f":"IFERROR(VLOOKUP(Tabla_SERIED_12_5[[#This Row],[IdEstablecimiento]],'[1]Establecimiento 2023'!$A$1:$E$183,5,FALSE),0)","v":"04303-Monte Patria"},"15050100","2022-05-18T14:54:55",6,3,3,null,null,2,null,null,1,1,null,null,1,null,1]
[{"$nulls":23},4,"5",2022,"105427",{"$f":"IFERROR(VLOOKUP(Tabla_SERIED_12_5[[#This Row],[IdEstablecimiento]],'[1]Establecimiento 2023'!$A$1:$E$183,3,FALSE),0)","v":"105427-Posta de Salud Rural Hacienda Valdivia"},{"$f":"IFERROR(VLOOKUP(Tabla_SERIED_12_5[[#This Row],[IdEstablecimiento]],'[1]Establecimiento 2023'!$A$1:$E$183,5,FALSE),0)","v":"04303-Monte Patria"},"15050200","2022-05-18T14:54:55",2,1,1,null,null,1,{"$nulls":8},1]
[{"$nulls":23},4,"5",2022,"105427",{"$f":"IFERROR(VLOOKUP(Tabla_SERIED_12_5[[#This Row],[IdEstablecimiento]],'[1]Establecimiento 2023'!$A$1:$E$183,3,FALSE),0)","v":"105427-Posta de Salud Rural Hacienda Valdivia"},{"$f":"IFERROR(VLOOKUP(Tabla_SERIED_12_5[[#This Row],[IdEstablecimiento]],'[1]Establecimiento 2023'!$A$1:$E$183,5,FALSE),0)","v":"04303-Monte Patria"},"16090300","2022-05-18T14:54:55",42,42]
[{"$nulls":23},4,"5",2022,"105427",{"$f":"IFERROR(VLOOKUP(Tabla_SERIED_12_5[[#This Row],[IdEstablecimiento]],'[1]Establecimiento 2023'!$A$1:$E$183,3,FALSE),0)","v":"105427-Posta de Salud Rural Hacienda Valdivia"},{"$f":"IFERROR(VLOOKUP(Tabla_SERIED_12_5[[#This Row],[IdEstablecimiento]],'[1]Establecimiento 2023'!$A$1:$E$183,5,FALSE),0)","v":"04303-Monte Patria"},"16200210","2022-05-18T14:54:55",2,2]
[{"$nulls":23},4,"5",2022,"105427",{"$f":"IFERROR(VLOOKUP(Tabla_SERIED_12_5[[#This Row],[IdEstablecimiento]],'[1]Establecimiento 2023'!$A$1:$E$183,3,FALSE),0)","v":"105427-Posta de Salud Rural Hacienda Valdivia"},{"$f":"IFERROR(VLOOKUP(Tabla_SERIED_12_5[[#This Row],[IdEstablecimiento]],'[1]Establecimiento 2023'!$A$1:$E$183,5,FALSE),0)","v":"04303-Monte Patria"},"16100300","2022-05-18T14:54:55",21,11,10]
[{"$nulls":23},4,"5",2022,"105427",{"$f":"IFERROR(VLOOKUP(Tabla_SERIED_12_5[[#This Row],[IdEstablecimiento]],'[1]Establecimiento 2023'!$A$1:$E$183,3,FALSE),0)","v":"105427-Posta de Salud Rural Hacienda Valdivia"},{"$f":"IFERROR(VLOOKUP(Tabla_SERIED_12_5[[#This Row],[IdEstablecimiento]],'[1]Establecimiento 2023'!$A$1:$E$183,5,FALSE),0)","v":"04303-Monte Patria"},"16200220","2022-05-18T14:54:55",1,null,1]
[{"$nulls":23},4,"5",2022,"105404",{"$f":"IFERROR(VLOOKUP(Tabla_SERIED_12_5[[#This Row],[IdEstablecimiento]],'[1]Establecimiento 2023'!$A$1:$E$183,3,FALSE),0)","v":0},{"$f":"IFERROR(VLOOKUP(Tabla_SERIED_12_5[[#This Row],[IdEstablecimiento]],'[1]Establecimiento 2023'!$A$1:$E$183,5,FALSE),0)","v":0},"16200220","2022-05-18T11:55:38",2,2,0]
[{"$nulls":23},4,"5",2022,"105411",{"$f":"IFERROR(VLOOKUP(Tabla_SERIED_12_5[[#This Row],[IdEstablecimiento]],'[1]Establecimiento 2023'!$A$1:$E$183,3,FALSE),0)","v":"105411-Posta de Salud Rural Las Breas (Río Hurtado)"},{"$f":"IFERROR(VLOOKUP(Tabla_SERIED_12_5[[#This Row],[IdEstablecimiento]],'[1]Establecimiento 2023'!$A$1:$E$183,5,FALSE),0)","v":"04305-Río Hurtado"},"16200220","2022-05-18T14:49:59",2,2]
[{"$nulls":23},4,"5",2022,"105413",{"$f":"IFERROR(VLOOKUP(Tabla_SERIED_12_5[[#This Row],[IdEstablecimiento]],'[1]Establecimiento 2023'!$A$1:$E$183,3,FALSE),0)","v":"105413-Posta de Salud Rural Samo Alto"},{"$f":"IFERROR(VLOOKUP(Tabla_SERIED_12_5[[#This Row],[IdEstablecimiento]],'[1]Establecimiento 2023'!$A$1:$E$183,5,FALSE),0)","v":"04305-Río Hurtado"},"15010100","2022-05-18T14:50:20",2,{"$nulls":3},2]
[{"$nulls":23},4,"5",2022,"105413",{"$f":"IFERROR(VLOOKUP(Tabla_SERIED_12_5[[#This Row],[IdEstablecimiento]],'[1]Establecimiento 2023'!$A$1:$E$183,3,FALSE),0)","v":"105413-Posta de Salud Rural Samo Alto"},{"$f":"IFERROR(VLOOKUP(Tabla_SERIED_12_5[[#This Row],[IdEstablecimiento]],'[1]Establecimiento 2023'!$A$1:$E$183,5,FALSE),0)","v":"04305-Río Hurtado"},"15010200","2022-05-18T14:50:20",8,{"$nulls":5},4,4]
[{"$nulls":23},4,"5",2022,"105413",{"$f":"IFERROR(VLOOKUP(Tabla_SERIED_12_5[[#This Row],[IdEstablecimiento]],'[1]Establecimiento 2023'!$A$1:$E$183,3,FALSE),0)","v":"105413-Posta de Salud Rural Samo Alto"},{"$f":"IFERROR(VLOOKUP(Tabla_SERIED_12_5[[#This Row],[IdEstablecimiento]],'[1]Establecimiento 2023'!$A$1:$E$183,5,FALSE),0)","v":"04305-Río Hurtado"},"15080008","2022-05-18T14:50:20",1,{"$nulls":7},1,null,null,0,0]
[{"$nulls":23},4,"5",2022,"105413",{"$f":"IFERROR(VLOOKUP(Tabla_SERIED_12_5[[#This Row],[IdEstablecimiento]],'[1]Establecimiento 2023'!$A$1:$E$183,3,FALSE),0)","v":"105413-Posta de Salud Rural Samo Alto"},{"$f":"IFERROR(VLOOKUP(Tabla_SERIED_12_5[[#This Row],[IdEstablecimiento]],'[1]Establecimiento 2023'!$A$1:$E$183,5,FALSE),0)","v":"04305-Río Hurtado"},"15900010","2022-05-18T14:50:20",3200,null,null,3200]
[{"$nulls":23},4,"5",2022,"105413",{"$f":"IFERROR(VLOOKUP(Tabla_SERIED_12_5[[#This Row],[IdEstablecimiento]],'[1]Establecimiento 2023'!$A$1:$E$183,3,FALSE),0)","v":"105413-Posta de Salud Rural Samo Alto"},{"$f":"IFERROR(VLOOKUP(Tabla_SERIED_12_5[[#This Row],[IdEstablecimiento]],'[1]Establecimiento 2023'!$A$1:$E$183,5,FALSE),0)","v":"04305-Río Hurtado"},"15050100","2022-05-18T14:50:20",6,{"$nulls":5},1,null,2,2,1,null,0,0,0]
[{"$nulls":23},4,"5",2022,"105413",{"$f":"IFERROR(VLOOKUP(Tabla_SERIED_12_5[[#This Row],[IdEstablecimiento]],'[1]Establecimiento 2023'!$A$1:$E$183,3,FALSE),0)","v":"105413-Posta de Salud Rural Samo Alto"},{"$f":"IFERROR(VLOOKUP(Tabla_SERIED_12_5[[#This Row],[IdEstablecimiento]],'[1]Establecimiento 2023'!$A$1:$E$183,5,FALSE),0)","v":"04305-Río Hurtado"},"16090300","2022-05-18T14:50:20",76,76]
[{"$nulls":23},4,"5",2022,"105413",{"$f":"IFERROR(VLOOKUP(Tabla_SERIED_12_5[[#This Row],[IdEstablecimiento]],'[1]Establecimiento 2023'!$A$1:$E$183,3,FALSE),0)","v":"105413-Posta de Salud Rural Samo Alto"},{"$f":"IFERROR(VLOOKUP(Tabla_SERIED_12_5[[#This Row],[IdEstablecimiento]],'[1]Establecimiento 2023'!$A$1:$E$183,5,FALSE),0)","v":"04305-Río Hurtado"},"16200210","2022-05-18T14:50:20",4,4]
[{"$nulls":23},4,"5",2022,"105413",{"$f":"IFERROR(VLOOKUP(Tabla_SERIED_12_5[[#This Row],[IdEstablecimiento]],'[1]Establecimiento 2023'!$A$1:$E$183,3,FALSE),0)","v":"105413-Posta de Salud Rural Samo Alto"},{"$f":"IFERROR(VLOOKUP(Tabla_SERIED_12_5[[#This Row],[IdEstablecimiento]],'[1]Establecimiento 2023'!$A$1:$E$183,5,FALSE),0)","v":"04305-Río Hurtado"},"16100300","2022-05-18T14:50:20",76,31,45]
[{"$nulls":23},3,"5",2022,"105505",{"$f":"IFERROR(VLOOKUP(Tabla_SERIED_12_5[[#This Row],[IdEstablecimiento]],'[1]Establecimiento 2023'!$A$1:$E$183,3,FALSE),0)","v":"105505-Posta de Salud Rural Los Choros"},{"$f":"IFERROR(VLOOKUP(Tabla_SERIED_12_5[[#This Row],[IdEstablecimiento]],'[1]Establecimiento 2023'!$A$1:$E$183,5,FALSE),0)","v":"04104-La Higuera"},"15080008","2022-04-19T10:10:15",2,{"$nulls":7},2]
[{"$nulls":23},2,"5",2022,"105487",{"$f":"IFERROR(VLOOKUP(Tabla_SERIED_12_5[[#This Row],[IdEstablecimiento]],'[1]Establecimiento 2023'!$A$1:$E$183,3,FALSE),0)","v":"105487-Posta de Salud Rural Cañas Uno"},{"$f":"IFERROR(VLOOKUP(Tabla_SERIED_12_5[[#This Row],[IdEstablecimiento]],'[1]Establecimiento 2023'!$A$1:$E$183,5,FALSE),0)","v":"04201-Illapel"},"16200210","2022-03-17T09:56:14",30,30]
[{"$nulls":23},2,"5",2022,"105487",{"$f":"IFERROR(VLOOKUP(Tabla_SERIED_12_5[[#This Row],[IdEstablecimiento]],'[1]Establecimiento 2023'!$A$1:$E$183,3,FALSE),0)","v":"105487-Posta de Salud Rural Cañas Uno"},{"$f":"IFERROR(VLOOKUP(Tabla_SERIED_12_5[[#This Row],[IdEstablecimiento]],'[1]Establecimiento 2023'!$A$1:$E$183,5,FALSE),0)","v":"04201-Illapel"},"16100300","2022-03-17T09:56:14",130,67,63]
[{"$nulls":23},2,"5",2022,"105487",{"$f":"IFERROR(VLOOKUP(Tabla_SERIED_12_5[[#This Row],[IdEstablecimiento]],'[1]Establecimiento 2023'!$A$1:$E$183,3,FALSE),0)","v":"105487-Posta de Salud Rural Cañas Uno"},{"$f":"IFERROR(VLOOKUP(Tabla_SERIED_12_5[[#This Row],[IdEstablecimiento]],'[1]Establecimiento 2023'!$A$1:$E$183,5,FALSE),0)","v":"04201-Illapel"},"16200220","2022-03-17T09:56:14",30,6,24]
[{"$nulls":23},2,"5",2022,"105488",{"$f":"IFERROR(VLOOKUP(Tabla_SERIED_12_5[[#This Row],[IdEstablecimiento]],'[1]Establecimiento 2023'!$A$1:$E$183,3,FALSE),0)","v":"105488-Posta de Salud Rural Espíritu Santo"},{"$f":"IFERROR(VLOOKUP(Tabla_SERIED_12_5[[#This Row],[IdEstablecimiento]],'[1]Establecimiento 2023'!$A$1:$E$183,5,FALSE),0)","v":"04202-Canela"},"16090300","2022-03-17T09:56:27",21,21]
[{"$nulls":23},2,"5",2022,"105488",{"$f":"IFERROR(VLOOKUP(Tabla_SERIED_12_5[[#This Row],[IdEstablecimiento]],'[1]Establecimiento 2023'!$A$1:$E$183,3,FALSE),0)","v":"105488-Posta de Salud Rural Espíritu Santo"},{"$f":"IFERROR(VLOOKUP(Tabla_SERIED_12_5[[#This Row],[IdEstablecimiento]],'[1]Establecimiento 2023'!$A$1:$E$183,5,FALSE),0)","v":"04202-Canela"},"16200210","2022-03-17T09:56:27",2,2]
[{"$nulls":23},2,"5",2022,"105488",{"$f":"IFERROR(VLOOKUP(Tabla_SERIED_12_5[[#This Row],[IdEstablecimiento]],'[1]Establecimiento 2023'!$A$1:$E$183,3,FALSE),0)","v":"105488-Posta de Salud Rural Espíritu Santo"},{"$f":"IFERROR(VLOOKUP(Tabla_SERIED_12_5[[#This Row],[IdEstablecimiento]],'[1]Establecimiento 2023'!$A$1:$E$183,5,FALSE),0)","v":"04202-Canela"},"16100300","2022-03-17T09:56:27",21,14,7]
[{"$nulls":23},2,"5",2022,"105308",{"$f":"IFERROR(VLOOKUP(Tabla_SERIED_12_5[[#This Row],[IdEstablecimiento]],'[1]Establecimiento 2023'!$A$1:$E$183,3,FALSE),0)","v":"105308-Centro de Salud Familiar Punitaqui"},{"$f":"IFERROR(VLOOKUP(Tabla_SERIED_12_5[[#This Row],[IdEstablecimiento]],'[1]Establecimiento 2023'!$A$1:$E$183,5,FALSE),0)","v":"04304-Punitaqui"},"16090300","2022-03-17T09:28:24",347,347]
[{"$nulls":23},2,"5",2022,"105308",{"$f":"IFERROR(VLOOKUP(Tabla_SERIED_12_5[[#This Row],[IdEstablecimiento]],'[1]Establecimiento 2023'!$A$1:$E$183,3,FALSE),0)","v":"105308-Centro de Salud Familiar Punitaqui"},{"$f":"IFERROR(VLOOKUP(Tabla_SERIED_12_5[[#This Row],[IdEstablecimiento]],'[1]Establecimiento 2023'!$A$1:$E$183,5,FALSE),0)","v":"04304-Punitaqui"},"16200210","2022-03-17T09:28:24",3,3]
[{"$nulls":23},2,"5",2022,"105308",{"$f":"IFERROR(VLOOKUP(Tabla_SERIED_12_5[[#This Row],[IdEstablecimiento]],'[1]Establecimiento 2023'!$A$1:$E$183,3,FALSE),0)","v":"105308-Centro de Salud Familiar Punitaqui"},{"$f":"IFERROR(VLOOKUP(Tabla_SERIED_12_5[[#This Row],[IdEstablecimiento]],'[1]Establecimiento 2023'!$A$1:$E$183,5,FALSE),0)","v":"04304-Punitaqui"},"16100300","2022-03-17T09:28:24",347,147,200,2,121]
[{"$nulls":23},4,"5",2022,"105700",{"$f":"IFERROR(VLOOKUP(Tabla_SERIED_12_5[[#This Row],[IdEstablecimiento]],'[1]Establecimiento 2023'!$A$1:$E$183,3,FALSE),0)","v":"105700-Centro Comunitario de Salud Familiar Villa el Indio"},{"$f":"IFERROR(VLOOKUP(Tabla_SERIED_12_5[[#This Row],[IdEstablecimiento]],'[1]Establecimiento 2023'!$A$1:$E$183,5,FALSE),0)","v":"04101-La Serena"},"15020200","2022-05-18T15:22:41",2,{"$nulls":6},2]
[{"$nulls":23},3,"5",2022,"105454",{"$f":"IFERROR(VLOOKUP(Tabla_SERIED_12_5[[#This Row],[IdEstablecimiento]],'[1]Establecimiento 2023'!$A$1:$E$183,3,FALSE),0)","v":"105454-Posta de Salud Rural Cunlagua"},{"$f":"IFERROR(VLOOKUP(Tabla_SERIED_12_5[[#This Row],[IdEstablecimiento]],'[1]Establecimiento 2023'!$A$1:$E$183,5,FALSE),0)","v":"04204-Salamanca"},"15010200","2022-04-19T09:49:04",4,{"$nulls":5},2,2]
[{"$nulls":23},3,"5",2022,"105454",{"$f":"IFERROR(VLOOKUP(Tabla_SERIED_12_5[[#This Row],[IdEstablecimiento]],'[1]Establecimiento 2023'!$A$1:$E$183,3,FALSE),0)","v":"105454-Posta de Salud Rural Cunlagua"},{"$f":"IFERROR(VLOOKUP(Tabla_SERIED_12_5[[#This Row],[IdEstablecimiento]],'[1]Establecimiento 2023'!$A$1:$E$183,5,FALSE),0)","v":"04204-Salamanca"},"15010500","2022-04-19T09:49:04",2,null,null,2]
[{"$nulls":23},3,"5",2022,"105454",{"$f":"IFERROR(VLOOKUP(Tabla_SERIED_12_5[[#This Row],[IdEstablecimiento]],'[1]Establecimiento 2023'!$A$1:$E$183,3,FALSE),0)","v":"105454-Posta de Salud Rural Cunlagua"},{"$f":"IFERROR(VLOOKUP(Tabla_SERIED_12_5[[#This Row],[IdEstablecimiento]],'[1]Establecimiento 2023'!$A$1:$E$183,5,FALSE),0)","v":"04204-Salamanca"},"15080009","2022-04-19T09:49:04",1,{"$nulls":11},1]
[{"$nulls":23},3,"5",2022,"105319",{"$f":"IFERROR(VLOOKUP(Tabla_SERIED_12_5[[#This Row],[IdEstablecimiento]],'[1]Establecimiento 2023'!$A$1:$E$183,3,FALSE),0)","v":"105319-Centro de Salud Familiar Cardenal Raúl Silva Henríquez de La Serena"},{"$f":"IFERROR(VLOOKUP(Tabla_SERIED_12_5[[#This Row],[IdEstablecimiento]],'[1]Establecimiento 2023'!$A$1:$E$183,5,FALSE),0)","v":"04101-La Serena"},"15900040","2022-04-19T08:10:39",4.8,{"$nulls":4},4.8]
[{"$nulls":23},3,"5",2022,"105319",{"$f":"IFERROR(VLOOKUP(Tabla_SERIED_12_5[[#This Row],[IdEstablecimiento]],'[1]Establecimiento 2023'!$A$1:$E$183,3,FALSE),0)","v":"105319-Centro de Salud Familiar Cardenal Raúl Silva Henríquez de La Serena"},{"$f":"IFERROR(VLOOKUP(Tabla_SERIED_12_5[[#This Row],[IdEstablecimiento]],'[1]Establecimiento 2023'!$A$1:$E$183,5,FALSE),0)","v":"04101-La Serena"},"15050100","2022-04-19T08:10:39",597,282,315,10,17,59,71,61,146,115,78,null,24,null,16]
[{"$nulls":23},3,"5",2022,"105319",{"$f":"IFERROR(VLOOKUP(Tabla_SERIED_12_5[[#This Row],[IdEstablecimiento]],'[1]Establecimiento 2023'!$A$1:$E$183,3,FALSE),0)","v":"105319-Centro de Salud Familiar Cardenal Raúl Silva Henríquez de La Serena"},{"$f":"IFERROR(VLOOKUP(Tabla_SERIED_12_5[[#This Row],[IdEstablecimiento]],'[1]Establecimiento 2023'!$A$1:$E$183,5,FALSE),0)","v":"04101-La Serena"},"15050200","2022-04-19T08:10:39",5,3,2,{"$nulls":5},2,null,null,3]
[{"$nulls":23},3,"5",2022,"105319",{"$f":"IFERROR(VLOOKUP(Tabla_SERIED_12_5[[#This Row],[IdEstablecimiento]],'[1]Establecimiento 2023'!$A$1:$E$183,3,FALSE),0)","v":"105319-Centro de Salud Familiar Cardenal Raúl Silva Henríquez de La Serena"},{"$f":"IFERROR(VLOOKUP(Tabla_SERIED_12_5[[#This Row],[IdEstablecimiento]],'[1]Establecimiento 2023'!$A$1:$E$183,5,FALSE),0)","v":"04101-La Serena"},"15900050","2022-04-19T08:10:39",4,3,1,null,1,null,2,1]
[{"$nulls":23},5,"5",2022,"105489",{"$f":"IFERROR(VLOOKUP(Tabla_SERIED_12_5[[#This Row],[IdEstablecimiento]],'[1]Establecimiento 2023'!$A$1:$E$183,3,FALSE),0)","v":"105489-Posta de Salud Rural Ramadas de Tulahuén"},{"$f":"IFERROR(VLOOKUP(Tabla_SERIED_12_5[[#This Row],[IdEstablecimiento]],'[1]Establecimiento 2023'!$A$1:$E$183,5,FALSE),0)","v":"04303-Monte Patria"},"15080008","2022-06-20T17:25:39",5,{"$nulls":7},1,null,2,null,2]
[{"$nulls":23},1,"5",2022,"105405",{"$f":"IFERROR(VLOOKUP(Tabla_SERIED_12_5[[#This Row],[IdEstablecimiento]],'[1]Establecimiento 2023'!$A$1:$E$183,3,FALSE),0)","v":"105405-Posta de Salud Rural Guanaqueros"},{"$f":"IFERROR(VLOOKUP(Tabla_SERIED_12_5[[#This Row],[IdEstablecimiento]],'[1]Establecimiento 2023'!$A$1:$E$183,5,FALSE),0)","v":"04102-Coquimbo"},"15050100","2022-02-16T10:53:45",50,24,26,1,3,4,7,5,12,12,6]
[{"$nulls":23},1,"5",2022,"105405",{"$f":"IFERROR(VLOOKUP(Tabla_SERIED_12_5[[#This Row],[IdEstablecimiento]],'[1]Establecimiento 2023'!$A$1:$E$183,3,FALSE),0)","v":"105405-Posta de Salud Rural Guanaqueros"},{"$f":"IFERROR(VLOOKUP(Tabla_SERIED_12_5[[#This Row],[IdEstablecimiento]],'[1]Establecimiento 2023'!$A$1:$E$183,5,FALSE),0)","v":"04102-Coquimbo"},"15900050","2022-02-16T10:53:45",1,1,{"$nulls":5},1]
[{"$nulls":23},1,"5",2022,"105405",{"$f":"IFERROR(VLOOKUP(Tabla_SERIED_12_5[[#This Row],[IdEstablecimiento]],'[1]Establecimiento 2023'!$A$1:$E$183,3,FALSE),0)","v":"105405-Posta de Salud Rural Guanaqueros"},{"$f":"IFERROR(VLOOKUP(Tabla_SERIED_12_5[[#This Row],[IdEstablecimiento]],'[1]Establecimiento 2023'!$A$1:$E$183,5,FALSE),0)","v":"04102-Coquimbo"},"16090300","2022-02-16T10:53:45",50,50]
[{"$nulls":23},1,"5",2022,"105405",{"$f":"IFERROR(VLOOKUP(Tabla_SERIED_12_5[[#This Row],[IdEstablecimiento]],'[1]Establecimiento 2023'!$A$1:$E$183,3,FALSE),0)","v":"105405-Posta de Salud Rural Guanaqueros"},{"$f":"IFERROR(VLOOKUP(Tabla_SERIED_12_5[[#This Row],[IdEstablecimiento]],'[1]Establecimiento 2023'!$A$1:$E$183,5,FALSE),0)","v":"04102-Coquimbo"},"16100300","2022-02-16T10:53:45",50,28,22,2,3]
[{"$nulls":23},1,"5",2022,"105407",{"$f":"IFERROR(VLOOKUP(Tabla_SERIED_12_5[[#This Row],[IdEstablecimiento]],'[1]Establecimiento 2023'!$A$1:$E$183,3,FALSE),0)","v":"105407-Posta de Salud Rural Tambillo"},{"$f":"IFERROR(VLOOKUP(Tabla_SERIED_12_5[[#This Row],[IdEstablecimiento]],'[1]Establecimiento 2023'!$A$1:$E$183,5,FALSE),0)","v":"04102-Coquimbo"},"15010200","2022-02-16T10:54:10",8,{"$nulls":4},4,2,2]
[{"$nulls":23},1,"5",2022,"105407",{"$f":"IFERROR(VLOOKUP(Tabla_SERIED_12_5[[#This Row],[IdEstablecimiento]],'[1]Establecimiento 2023'!$A$1:$E$183,3,FALSE),0)","v":"105407-Posta de Salud Rural Tambillo"},{"$f":"IFERROR(VLOOKUP(Tabla_SERIED_12_5[[#This Row],[IdEstablecimiento]],'[1]Establecimiento 2023'!$A$1:$E$183,5,FALSE),0)","v":"04102-Coquimbo"},"15900010","2022-02-16T10:54:10",2.4,null,null,2.4]
[{"$nulls":23},1,"5",2022,"105407",{"$f":"IFERROR(VLOOKUP(Tabla_SERIED_12_5[[#This Row],[IdEstablecimiento]],'[1]Establecimiento 2023'!$A$1:$E$183,3,FALSE),0)","v":"105407-Posta de Salud Rural Tambillo"},{"$f":"IFERROR(VLOOKUP(Tabla_SERIED_12_5[[#This Row],[IdEstablecimiento]],'[1]Establecimiento 2023'!$A$1:$E$183,5,FALSE),0)","v":"04102-Coquimbo"},"15050100","2022-02-16T10:54:10",5,2,3,null,null,1,null,2,1,1]
[{"$nulls":23},1,"5",2022,"105407",{"$f":"IFERROR(VLOOKUP(Tabla_SERIED_12_5[[#This Row],[IdEstablecimiento]],'[1]Establecimiento 2023'!$A$1:$E$183,3,FALSE),0)","v":"105407-Posta de Salud Rural Tambillo"},{"$f":"IFERROR(VLOOKUP(Tabla_SERIED_12_5[[#This Row],[IdEstablecimiento]],'[1]Establecimiento 2023'!$A$1:$E$183,5,FALSE),0)","v":"04102-Coquimbo"},"16090300","2022-02-16T10:54:10",39,39]
[{"$nulls":23},1,"5",2022,"105407",{"$f":"IFERROR(VLOOKUP(Tabla_SERIED_12_5[[#This Row],[IdEstablecimiento]],'[1]Establecimiento 2023'!$A$1:$E$183,3,FALSE),0)","v":"105407-Posta de Salud Rural Tambillo"},{"$f":"IFERROR(VLOOKUP(Tabla_SERIED_12_5[[#This Row],[IdEstablecimiento]],'[1]Establecimiento 2023'!$A$1:$E$183,5,FALSE),0)","v":"04102-Coquimbo"},"16200210","2022-02-16T10:54:10",7,7]
[{"$nulls":23},1,"5",2022,"105407",{"$f":"IFERROR(VLOOKUP(Tabla_SERIED_12_5[[#This Row],[IdEstablecimiento]],'[1]Establecimiento 2023'!$A$1:$E$183,3,FALSE),0)","v":"105407-Posta de Salud Rural Tambillo"},{"$f":"IFERROR(VLOOKUP(Tabla_SERIED_12_5[[#This Row],[IdEstablecimiento]],'[1]Establecimiento 2023'!$A$1:$E$183,5,FALSE),0)","v":"04102-Coquimbo"},"16100300","2022-02-16T10:54:10",39,17,22]
[{"$nulls":23},1,"5",2022,"105303",{"$f":"IFERROR(VLOOKUP(Tabla_SERIED_12_5[[#This Row],[IdEstablecimiento]],'[1]Establecimiento 2023'!$A$1:$E$183,3,FALSE),0)","v":"105303-Centro de Salud Familiar San Juan"},{"$f":"IFERROR(VLOOKUP(Tabla_SERIED_12_5[[#This Row],[IdEstablecimiento]],'[1]Establecimiento 2023'!$A$1:$E$183,5,FALSE),0)","v":"04102-Coquimbo"},"15050100","2022-02-16T10:34:59",405,143,262,0,0,15,48,49,90,88,77,null,21,7,10]
[{"$nulls":23},1,"5",2022,"105303",{"$f":"IFERROR(VLOOKUP(Tabla_SERIED_12_5[[#This Row],[IdEstablecimiento]],'[1]Establecimiento 2023'!$A$1:$E$183,3,FALSE),0)","v":"105303-Centro de Salud Familiar San Juan"},{"$f":"IFERROR(VLOOKUP(Tabla_SERIED_12_5[[#This Row],[IdEstablecimiento]],'[1]Establecimiento 2023'!$A$1:$E$183,5,FALSE),0)","v":"04102-Coquimbo"},"15050200","2022-02-16T10:34:59",7,2,5,0,0,1,1,1,0,1,null,3,0,0,0]
[{"$nulls":23},1,"5",2022,"105303",{"$f":"IFERROR(VLOOKUP(Tabla_SERIED_12_5[[#This Row],[IdEstablecimiento]],'[1]Establecimiento 2023'!$A$1:$E$183,3,FALSE),0)","v":"105303-Centro de Salud Familiar San Juan"},{"$f":"IFERROR(VLOOKUP(Tabla_SERIED_12_5[[#This Row],[IdEstablecimiento]],'[1]Establecimiento 2023'!$A$1:$E$183,5,FALSE),0)","v":"04102-Coquimbo"},"15050500","2022-02-16T10:34:59",1,1,0,0,0,1]
[{"$nulls":23},1,"5",2022,"105303",{"$f":"IFERROR(VLOOKUP(Tabla_SERIED_12_5[[#This Row],[IdEstablecimiento]],'[1]Establecimiento 2023'!$A$1:$E$183,3,FALSE),0)","v":"105303-Centro de Salud Familiar San Juan"},{"$f":"IFERROR(VLOOKUP(Tabla_SERIED_12_5[[#This Row],[IdEstablecimiento]],'[1]Establecimiento 2023'!$A$1:$E$183,5,FALSE),0)","v":"04102-Coquimbo"},"15900050","2022-02-16T10:34:59",1,0,1,0,0,0,1,0]
[{"$nulls":23},4,"5",2022,"105471",{"$f":"IFERROR(VLOOKUP(Tabla_SERIED_12_5[[#This Row],[IdEstablecimiento]],'[1]Establecimiento 2023'!$A$1:$E$183,3,FALSE),0)","v":"105471-Posta de Salud Rural Peralillo Vicuña"},{"$f":"IFERROR(VLOOKUP(Tabla_SERIED_12_5[[#This Row],[IdEstablecimiento]],'[1]Establecimiento 2023'!$A$1:$E$183,5,FALSE),0)","v":"04106-Vicuña"},"15010200","2022-05-18T15:12:15",12,{"$nulls":4},4,null,8]
[{"$nulls":23},4,"5",2022,"105471",{"$f":"IFERROR(VLOOKUP(Tabla_SERIED_12_5[[#This Row],[IdEstablecimiento]],'[1]Establecimiento 2023'!$A$1:$E$183,3,FALSE),0)","v":"105471-Posta de Salud Rural Peralillo Vicuña"},{"$f":"IFERROR(VLOOKUP(Tabla_SERIED_12_5[[#This Row],[IdEstablecimiento]],'[1]Establecimiento 2023'!$A$1:$E$183,5,FALSE),0)","v":"04106-Vicuña"},"15080008","2022-05-18T15:12:15",6,{"$nulls":7},6]
[{"$nulls":23},4,"5",2022,"200402",{"$f":"IFERROR(VLOOKUP(Tabla_SERIED_12_5[[#This Row],[IdEstablecimiento]],'[1]Establecimiento 2023'!$A$1:$E$183,3,FALSE),0)","v":"200402-Centro Comunitario de Salud Familiar Arcos de Pinamar"},{"$f":"IFERROR(VLOOKUP(Tabla_SERIED_12_5[[#This Row],[IdEstablecimiento]],'[1]Establecimiento 2023'!$A$1:$E$183,5,FALSE),0)","v":"04101-La Serena"},"16200220","2022-05-18T15:27:31",3,1,2,0,1]
[{"$nulls":23},2,"5",2022,"105437",{"$f":"IFERROR(VLOOKUP(Tabla_SERIED_12_5[[#This Row],[IdEstablecimiento]],'[1]Establecimiento 2023'!$A$1:$E$183,3,FALSE),0)","v":"105437-Posta de Salud Rural Chalinga"},{"$f":"IFERROR(VLOOKUP(Tabla_SERIED_12_5[[#This Row],[IdEstablecimiento]],'[1]Establecimiento 2023'!$A$1:$E$183,5,FALSE),0)","v":"04301-Ovalle"},"16200230","2022-03-17T09:40:36",1,1]
[{"$nulls":23},4,"5",2022,"105505",{"$f":"IFERROR(VLOOKUP(Tabla_SERIED_12_5[[#This Row],[IdEstablecimiento]],'[1]Establecimiento 2023'!$A$1:$E$183,3,FALSE),0)","v":"105505-Posta de Salud Rural Los Choros"},{"$f":"IFERROR(VLOOKUP(Tabla_SERIED_12_5[[#This Row],[IdEstablecimiento]],'[1]Establecimiento 2023'!$A$1:$E$183,5,FALSE),0)","v":"04104-La Higuera"},"15010100","2022-05-18T15:21:03",2,{"$nulls":3},2]
[{"$nulls":23},4,"5",2022,"105505",{"$f":"IFERROR(VLOOKUP(Tabla_SERIED_12_5[[#This Row],[IdEstablecimiento]],'[1]Establecimiento 2023'!$A$1:$E$183,3,FALSE),0)","v":"105505-Posta de Salud Rural Los Choros"},{"$f":"IFERROR(VLOOKUP(Tabla_SERIED_12_5[[#This Row],[IdEstablecimiento]],'[1]Establecimiento 2023'!$A$1:$E$183,5,FALSE),0)","v":"04104-La Higuera"},"15010200","2022-05-18T15:21:03",18,{"$nulls":4},2,8,8]
[{"$nulls":23},4,"5",2022,"105505",{"$f":"IFERROR(VLOOKUP(Tabla_SERIED_12_5[[#This Row],[IdEstablecimiento]],'[1]Establecimiento 2023'!$A$1:$E$183,3,FALSE),0)","v":"105505-Posta de Salud Rural Los Choros"},{"$f":"IFERROR(VLOOKUP(Tabla_SERIED_12_5[[#This Row],[IdEstablecimiento]],'[1]Establecimiento 2023'!$A$1:$E$183,5,FALSE),0)","v":"04104-La Higuera"},"15900010","2022-05-18T15:21:03",12,null,null,12]
[{"$nulls":23},4,"5",2022,"105505",{"$f":"IFERROR(VLOOKUP(Tabla_SERIED_12_5[[#This Row],[IdEstablecimiento]],'[1]Establecimiento 2023'!$A$1:$E$183,3,FALSE),0)","v":"105505-Posta de Salud Rural Los Choros"},{"$f":"IFERROR(VLOOKUP(Tabla_SERIED_12_5[[#This Row],[IdEstablecimiento]],'[1]Establecimiento 2023'!$A$1:$E$183,5,FALSE),0)","v":"04104-La Higuera"},"15050100","2022-05-18T15:21:03",14,7,5,null,null,4,1,1,4,4]
[{"$nulls":23},4,"5",2022,"105505",{"$f":"IFERROR(VLOOKUP(Tabla_SERIED_12_5[[#This Row],[IdEstablecimiento]],'[1]Establecimiento 2023'!$A$1:$E$183,3,FALSE),0)","v":"105505-Posta de Salud Rural Los Choros"},{"$f":"IFERROR(VLOOKUP(Tabla_SERIED_12_5[[#This Row],[IdEstablecimiento]],'[1]Establecimiento 2023'!$A$1:$E$183,5,FALSE),0)","v":"04104-La Higuera"},"16090300","2022-05-18T15:21:03",23,23]
[{"$nulls":23},4,"5",2022,"105505",{"$f":"IFERROR(VLOOKUP(Tabla_SERIED_12_5[[#This Row],[IdEstablecimiento]],'[1]Establecimiento 2023'!$A$1:$E$183,3,FALSE),0)","v":"105505-Posta de Salud Rural Los Choros"},{"$f":"IFERROR(VLOOKUP(Tabla_SERIED_12_5[[#This Row],[IdEstablecimiento]],'[1]Establecimiento 2023'!$A$1:$E$183,5,FALSE),0)","v":"04104-La Higuera"},"16100300","2022-05-18T15:21:03",23,5,18]
[{"$nulls":23},8,"5",2022,"105465",{"$f":"IFERROR(VLOOKUP(Tabla_SERIED_12_5[[#This Row],[IdEstablecimiento]],'[1]Establecimiento 2023'!$A$1:$E$183,3,FALSE),0)","v":"105465-Posta de Salud Rural Ramadilla"},{"$f":"IFERROR(VLOOKUP(Tabla_SERIED_12_5[[#This Row],[IdEstablecimiento]],'[1]Establecimiento 2023'!$A$1:$E$183,5,FALSE),0)","v":"04302-Combarbalá"},"15010200","2022-09-21T07:47:56",20,{"$nulls":4},4,10,6]
[{"$nulls":23},8,"5",2022,"105465",{"$f":"IFERROR(VLOOKUP(Tabla_SERIED_12_5[[#This Row],[IdEstablecimiento]],'[1]Establecimiento 2023'!$A$1:$E$183,3,FALSE),0)","v":"105465-Posta de Salud Rural Ramadilla"},{"$f":"IFERROR(VLOOKUP(Tabla_SERIED_12_5[[#This Row],[IdEstablecimiento]],'[1]Establecimiento 2023'!$A$1:$E$183,5,FALSE),0)","v":"04302-Combarbalá"},"15080008","2022-09-21T07:47:56",1,{"$nulls":7},1]
[{"$nulls":23},8,"5",2022,"105465",{"$f":"IFERROR(VLOOKUP(Tabla_SERIED_12_5[[#This Row],[IdEstablecimiento]],'[1]Establecimiento 2023'!$A$1:$E$183,3,FALSE),0)","v":"105465-Posta de Salud Rural Ramadilla"},{"$f":"IFERROR(VLOOKUP(Tabla_SERIED_12_5[[#This Row],[IdEstablecimiento]],'[1]Establecimiento 2023'!$A$1:$E$183,5,FALSE),0)","v":"04302-Combarbalá"},"15050100","2022-09-21T07:47:56",13,9,4,{"$nulls":3},2,2,5,3,1]
[{"$nulls":23},8,"5",2022,"105465",{"$f":"IFERROR(VLOOKUP(Tabla_SERIED_12_5[[#This Row],[IdEstablecimiento]],'[1]Establecimiento 2023'!$A$1:$E$183,3,FALSE),0)","v":"105465-Posta de Salud Rural Ramadilla"},{"$f":"IFERROR(VLOOKUP(Tabla_SERIED_12_5[[#This Row],[IdEstablecimiento]],'[1]Establecimiento 2023'!$A$1:$E$183,5,FALSE),0)","v":"04302-Combarbalá"},"16090300","2022-09-21T07:47:56",125,83]
[{"$nulls":23},8,"5",2022,"105465",{"$f":"IFERROR(VLOOKUP(Tabla_SERIED_12_5[[#This Row],[IdEstablecimiento]],'[1]Establecimiento 2023'!$A$1:$E$183,3,FALSE),0)","v":"105465-Posta de Salud Rural Ramadilla"},{"$f":"IFERROR(VLOOKUP(Tabla_SERIED_12_5[[#This Row],[IdEstablecimiento]],'[1]Establecimiento 2023'!$A$1:$E$183,5,FALSE),0)","v":"04302-Combarbalá"},"16200210","2022-09-21T07:47:56",14,11]
[{"$nulls":23},8,"5",2022,"105465",{"$f":"IFERROR(VLOOKUP(Tabla_SERIED_12_5[[#This Row],[IdEstablecimiento]],'[1]Establecimiento 2023'!$A$1:$E$183,3,FALSE),0)","v":"105465-Posta de Salud Rural Ramadilla"},{"$f":"IFERROR(VLOOKUP(Tabla_SERIED_12_5[[#This Row],[IdEstablecimiento]],'[1]Establecimiento 2023'!$A$1:$E$183,5,FALSE),0)","v":"04302-Combarbalá"},"16100300","2022-09-21T07:47:56",83,38,45,null,2]
[{"$nulls":23},8,"5",2022,"105465",{"$f":"IFERROR(VLOOKUP(Tabla_SERIED_12_5[[#This Row],[IdEstablecimiento]],'[1]Establecimiento 2023'!$A$1:$E$183,3,FALSE),0)","v":"105465-Posta de Salud Rural Ramadilla"},{"$f":"IFERROR(VLOOKUP(Tabla_SERIED_12_5[[#This Row],[IdEstablecimiento]],'[1]Establecimiento 2023'!$A$1:$E$183,5,FALSE),0)","v":"04302-Combarbalá"},"16200220","2022-09-21T07:47:56",11,4,7]
[{"$nulls":23},8,"5",2022,"105466",{"$f":"IFERROR(VLOOKUP(Tabla_SERIED_12_5[[#This Row],[IdEstablecimiento]],'[1]Establecimiento 2023'!$A$1:$E$183,3,FALSE),0)","v":"105466-Posta de Salud Rural Valle Hermoso"},{"$f":"IFERROR(VLOOKUP(Tabla_SERIED_12_5[[#This Row],[IdEstablecimiento]],'[1]Establecimiento 2023'!$A$1:$E$183,5,FALSE),0)","v":"04302-Combarbalá"},"15010100","2022-09-21T07:48:09",8,{"$nulls":3},8]
[{"$nulls":23},8,"5",2022,"105466",{"$f":"IFERROR(VLOOKUP(Tabla_SERIED_12_5[[#This Row],[IdEstablecimiento]],'[1]Establecimiento 2023'!$A$1:$E$183,3,FALSE),0)","v":"105466-Posta de Salud Rural Valle Hermoso"},{"$f":"IFERROR(VLOOKUP(Tabla_SERIED_12_5[[#This Row],[IdEstablecimiento]],'[1]Establecimiento 2023'!$A$1:$E$183,5,FALSE),0)","v":"04302-Combarbalá"},"15010200","2022-09-21T07:48:09",6,{"$nulls":4},2,null,4]
[{"$nulls":23},8,"5",2022,"105466",{"$f":"IFERROR(VLOOKUP(Tabla_SERIED_12_5[[#This Row],[IdEstablecimiento]],'[1]Establecimiento 2023'!$A$1:$E$183,3,FALSE),0)","v":"105466-Posta de Salud Rural Valle Hermoso"},{"$f":"IFERROR(VLOOKUP(Tabla_SERIED_12_5[[#This Row],[IdEstablecimiento]],'[1]Establecimiento 2023'!$A$1:$E$183,5,FALSE),0)","v":"04302-Combarbalá"},"15080008","2022-09-21T07:48:09",3,{"$nulls":9},2,null,1]
[{"$nulls":23},4,"5",2022,"105723",{"$f":"IFERROR(VLOOKUP(Tabla_SERIED_12_5[[#This Row],[IdEstablecimiento]],'[1]Establecimiento 2023'!$A$1:$E$183,3,FALSE),0)","v":"105723-Centro Comunitario de Salud Familiar Limarí"},{"$f":"IFERROR(VLOOKUP(Tabla_SERIED_12_5[[#This Row],[IdEstablecimiento]],'[1]Establecimiento 2023'!$A$1:$E$183,5,FALSE),0)","v":"04301-Ovalle"},"15900050","2022-05-18T15:23:39",2,2,null,1,null,1]
[{"$nulls":23},4,"5",2022,"105723",{"$f":"IFERROR(VLOOKUP(Tabla_SERIED_12_5[[#This Row],[IdEstablecimiento]],'[1]Establecimiento 2023'!$A$1:$E$183,3,FALSE),0)","v":"105723-Centro Comunitario de Salud Familiar Limarí"},{"$f":"IFERROR(VLOOKUP(Tabla_SERIED_12_5[[#This Row],[IdEstablecimiento]],'[1]Establecimiento 2023'!$A$1:$E$183,5,FALSE),0)","v":"04301-Ovalle"},"15020200","2022-05-18T15:23:39",4,{"$nulls":4},2,2]
[{"$nulls":23},4,"5",2022,"105723",{"$f":"IFERROR(VLOOKUP(Tabla_SERIED_12_5[[#This Row],[IdEstablecimiento]],'[1]Establecimiento 2023'!$A$1:$E$183,3,FALSE),0)","v":"105723-Centro Comunitario de Salud Familiar Limarí"},{"$f":"IFERROR(VLOOKUP(Tabla_SERIED_12_5[[#This Row],[IdEstablecimiento]],'[1]Establecimiento 2023'!$A$1:$E$183,5,FALSE),0)","v":"04301-Ovalle"},"15060100","2022-05-18T15:23:39",2,1,1,{"$nulls":4},1,1]
[{"$nulls":23},4,"5",2022,"105723",{"$f":"IFERROR(VLOOKUP(Tabla_SERIED_12_5[[#This Row],[IdEstablecimiento]],'[1]Establecimiento 2023'!$A$1:$E$183,3,FALSE),0)","v":"105723-Centro Comunitario de Salud Familiar Limarí"},{"$f":"IFERROR(VLOOKUP(Tabla_SERIED_12_5[[#This Row],[IdEstablecimiento]],'[1]Establecimiento 2023'!$A$1:$E$183,5,FALSE),0)","v":"04301-Ovalle"},"16090300","2022-05-18T15:23:39",272,272]
[{"$nulls":23},4,"5",2022,"105325",{"$f":"IFERROR(VLOOKUP(Tabla_SERIED_12_5[[#This Row],[IdEstablecimiento]],'[1]Establecimiento 2023'!$A$1:$E$183,3,FALSE),0)","v":"105325-Centro de Salud Familiar Juan Pablo II (La Serena)"},{"$f":"IFERROR(VLOOKUP(Tabla_SERIED_12_5[[#This Row],[IdEstablecimiento]],'[1]Establecimiento 2023'!$A$1:$E$183,5,FALSE),0)","v":"04101-La Serena"},"16200220","2022-05-18T11:54:38",21,5,16,0,23]
[{"$nulls":23},4,"5",2022,"105325",{"$f":"IFERROR(VLOOKUP(Tabla_SERIED_12_5[[#This Row],[IdEstablecimiento]],'[1]Establecimiento 2023'!$A$1:$E$183,3,FALSE),0)","v":"105325-Centro de Salud Familiar Juan Pablo II (La Serena)"},{"$f":"IFERROR(VLOOKUP(Tabla_SERIED_12_5[[#This Row],[IdEstablecimiento]],'[1]Establecimiento 2023'!$A$1:$E$183,5,FALSE),0)","v":"04101-La Serena"},"16200100","2022-05-18T11:54:38",3,1,2,0,9]
[{"$nulls":23},4,"5",2022,"105326",{"$f":"IFERROR(VLOOKUP(Tabla_SERIED_12_5[[#This Row],[IdEstablecimiento]],'[1]Establecimiento 2023'!$A$1:$E$183,3,FALSE),0)","v":"105326-Centro de Salud Familiar Villa San Rafael de Rozas"},{"$f":"IFERROR(VLOOKUP(Tabla_SERIED_12_5[[#This Row],[IdEstablecimiento]],'[1]Establecimiento 2023'!$A$1:$E$183,5,FALSE),0)","v":"04201-Illapel"},"15010100","2022-05-18T11:54:51",31,{"$nulls":3},30,{"$nulls":3},1]
[{"$nulls":23},4,"5",2022,"105326",{"$f":"IFERROR(VLOOKUP(Tabla_SERIED_12_5[[#This Row],[IdEstablecimiento]],'[1]Establecimiento 2023'!$A$1:$E$183,3,FALSE),0)","v":"105326-Centro de Salud Familiar Villa San Rafael de Rozas"},{"$f":"IFERROR(VLOOKUP(Tabla_SERIED_12_5[[#This Row],[IdEstablecimiento]],'[1]Establecimiento 2023'!$A$1:$E$183,5,FALSE),0)","v":"04201-Illapel"},"15010200","2022-05-18T11:54:51",190,{"$nulls":4},52,80,58]
[{"$nulls":23},4,"5",2022,"105326",{"$f":"IFERROR(VLOOKUP(Tabla_SERIED_12_5[[#This Row],[IdEstablecimiento]],'[1]Establecimiento 2023'!$A$1:$E$183,3,FALSE),0)","v":"105326-Centro de Salud Familiar Villa San Rafael de Rozas"},{"$f":"IFERROR(VLOOKUP(Tabla_SERIED_12_5[[#This Row],[IdEstablecimiento]],'[1]Establecimiento 2023'!$A$1:$E$183,5,FALSE),0)","v":"04201-Illapel"},"15080008","2022-05-18T11:54:51",42,{"$nulls":7},17,null,8,3,14]
[{"$nulls":23},4,"5",2022,"105301",{"$f":"IFERROR(VLOOKUP(Tabla_SERIED_12_5[[#This Row],[IdEstablecimiento]],'[1]Establecimiento 2023'!$A$1:$E$183,3,FALSE),0)","v":"105301-Centro de Salud Familiar Las Compañías"},{"$f":"IFERROR(VLOOKUP(Tabla_SERIED_12_5[[#This Row],[IdEstablecimiento]],'[1]Establecimiento 2023'!$A$1:$E$183,5,FALSE),0)","v":"04101-La Serena"},"16100300","2022-05-18T11:49:25",478,204,274,12,190]
[{"$nulls":23},4,"5",2022,"105301",{"$f":"IFERROR(VLOOKUP(Tabla_SERIED_12_5[[#This Row],[IdEstablecimiento]],'[1]Establecimiento 2023'!$A$1:$E$183,3,FALSE),0)","v":"105301-Centro de Salud Familiar Las Compañías"},{"$f":"IFERROR(VLOOKUP(Tabla_SERIED_12_5[[#This Row],[IdEstablecimiento]],'[1]Establecimiento 2023'!$A$1:$E$183,5,FALSE),0)","v":"04101-La Serena"},"16200220","2022-05-18T11:49:25",48,19,29,4,19]
[{"$nulls":23},4,"5",2022,"105301",{"$f":"IFERROR(VLOOKUP(Tabla_SERIED_12_5[[#This Row],[IdEstablecimiento]],'[1]Establecimiento 2023'!$A$1:$E$183,3,FALSE),0)","v":"105301-Centro de Salud Familiar Las Compañías"},{"$f":"IFERROR(VLOOKUP(Tabla_SERIED_12_5[[#This Row],[IdEstablecimiento]],'[1]Establecimiento 2023'!$A$1:$E$183,5,FALSE),0)","v":"04101-La Serena"},"16100600","2022-05-18T11:49:25",4,0,4,0,1]
[{"$nulls":23},4,"5",2022,"105302",{"$f":"IFERROR(VLOOKUP(Tabla_SERIED_12_5[[#This Row],[IdEstablecimiento]],'[1]Establecimiento 2023'!$A$1:$E$183,3,FALSE),0)","v":"105302-Centro de Salud Familiar Pedro Aguirre Cerda"},{"$f":"IFERROR(VLOOKUP(Tabla_SERIED_12_5[[#This Row],[IdEstablecimiento]],'[1]Establecimiento 2023'!$A$1:$E$183,5,FALSE),0)","v":"04101-La Serena"},"15010100","2022-05-18T11:49:37",107,{"$nulls":3},106,{"$nulls":3},1]
[{"$nulls":23},3,"5",2022,"105457",{"$f":"IFERROR(VLOOKUP(Tabla_SERIED_12_5[[#This Row],[IdEstablecimiento]],'[1]Establecimiento 2023'!$A$1:$E$183,3,FALSE),0)","v":"105457-Posta de Salud Rural San Agustín (Salamanca)"},{"$f":"IFERROR(VLOOKUP(Tabla_SERIED_12_5[[#This Row],[IdEstablecimiento]],'[1]Establecimiento 2023'!$A$1:$E$183,5,FALSE),0)","v":"04204-Salamanca"},"16090300","2022-04-19T09:50:34",53,53]
[{"$nulls":23},3,"5",2022,"105457",{"$f":"IFERROR(VLOOKUP(Tabla_SERIED_12_5[[#This Row],[IdEstablecimiento]],'[1]Establecimiento 2023'!$A$1:$E$183,3,FALSE),0)","v":"105457-Posta de Salud Rural San Agustín (Salamanca)"},{"$f":"IFERROR(VLOOKUP(Tabla_SERIED_12_5[[#This Row],[IdEstablecimiento]],'[1]Establecimiento 2023'!$A$1:$E$183,5,FALSE),0)","v":"04204-Salamanca"},"16200210","2022-04-19T09:50:34",3,3]
[{"$nulls":23},3,"5",2022,"105457",{"$f":"IFERROR(VLOOKUP(Tabla_SERIED_12_5[[#This Row],[IdEstablecimiento]],'[1]Establecimiento 2023'!$A$1:$E$183,3,FALSE),0)","v":"105457-Posta de Salud Rural San Agustín (Salamanca)"},{"$f":"IFERROR(VLOOKUP(Tabla_SERIED_12_5[[#This Row],[IdEstablecimiento]],'[1]Establecimiento 2023'!$A$1:$E$183,5,FALSE),0)","v":"04204-Salamanca"},"16100300","2022-04-19T09:50:34",53,23,30,2]
[{"$nulls":23},4,"5",2022,"105319",{"$f":"IFERROR(VLOOKUP(Tabla_SERIED_12_5[[#This Row],[IdEstablecimiento]],'[1]Establecimiento 2023'!$A$1:$E$183,3,FALSE),0)","v":"105319-Centro de Salud Familiar Cardenal Raúl Silva Henríquez de La Serena"},{"$f":"IFERROR(VLOOKUP(Tabla_SERIED_12_5[[#This Row],[IdEstablecimiento]],'[1]Establecimiento 2023'!$A$1:$E$183,5,FALSE),0)","v":"04101-La Serena"},"16090300","2022-05-18T11:53:01",652,652]
[{"$nulls":23},4,"5",2022,"105319",{"$f":"IFERROR(VLOOKUP(Tabla_SERIED_12_5[[#This Row],[IdEstablecimiento]],'[1]Establecimiento 2023'!$A$1:$E$183,3,FALSE),0)","v":"105319-Centro de Salud Familiar Cardenal Raúl Silva Henríquez de La Serena"},{"$f":"IFERROR(VLOOKUP(Tabla_SERIED_12_5[[#This Row],[IdEstablecimiento]],'[1]Establecimiento 2023'!$A$1:$E$183,5,FALSE),0)","v":"04101-La Serena"},"16200210","2022-05-18T11:53:01",29,29]
[{"$nulls":23},4,"5",2022,"105319",{"$f":"IFERROR(VLOOKUP(Tabla_SERIED_12_5[[#This Row],[IdEstablecimiento]],'[1]Establecimiento 2023'!$A$1:$E$183,3,FALSE),0)","v":"105319-Centro de Salud Familiar Cardenal Raúl Silva Henríquez de La Serena"},{"$f":"IFERROR(VLOOKUP(Tabla_SERIED_12_5[[#This Row],[IdEstablecimiento]],'[1]Establecimiento 2023'!$A$1:$E$183,5,FALSE),0)","v":"04101-La Serena"},"16100300","2022-05-18T11:53:01",652,310,342,null,142]
[{"$nulls":23},4,"5",2022,"105319",{"$f":"IFERROR(VLOOKUP(Tabla_SERIED_12_5[[#This Row],[IdEstablecimiento]],'[1]Establecimiento 2023'!$A$1:$E$183,3,FALSE),0)","v":"105319-Centro de Salud Familiar Cardenal Raúl Silva Henríquez de La Serena"},{"$f":"IFERROR(VLOOKUP(Tabla_SERIED_12_5[[#This Row],[IdEstablecimiento]],'[1]Establecimiento 2023'!$A$1:$E$183,5,FALSE),0)","v":"04101-La Serena"},"16200220","2022-05-18T11:53:01",29,19,10,null,13]
[{"$nulls":23},4,"5",2022,"105321",{"$f":"IFERROR(VLOOKUP(Tabla_SERIED_12_5[[#This Row],[IdEstablecimiento]],'[1]Establecimiento 2023'!$A$1:$E$183,3,FALSE),0)","v":"105321-Centro de Salud Familiar Tongoy"},{"$f":"IFERROR(VLOOKUP(Tabla_SERIED_12_5[[#This Row],[IdEstablecimiento]],'[1]Establecimiento 2023'!$A$1:$E$183,5,FALSE),0)","v":"04102-Coquimbo"},"15010100","2022-05-18T11:53:25",32,null,null,2,30]
[{"$nulls":23},4,"5",2022,"105321",{"$f":"IFERROR(VLOOKUP(Tabla_SERIED_12_5[[#This Row],[IdEstablecimiento]],'[1]Establecimiento 2023'!$A$1:$E$183,3,FALSE),0)","v":"105321-Centro de Salud Familiar Tongoy"},{"$f":"IFERROR(VLOOKUP(Tabla_SERIED_12_5[[#This Row],[IdEstablecimiento]],'[1]Establecimiento 2023'!$A$1:$E$183,5,FALSE),0)","v":"04102-Coquimbo"},"15010200","2022-05-18T11:53:25",130,{"$nulls":4},28,68,34]
[{"$nulls":23},4,"5",2022,"105321",{"$f":"IFERROR(VLOOKUP(Tabla_SERIED_12_5[[#This Row],[IdEstablecimiento]],'[1]Establecimiento 2023'!$A$1:$E$183,3,FALSE),0)","v":"105321-Centro de Salud Familiar Tongoy"},{"$f":"IFERROR(VLOOKUP(Tabla_SERIED_12_5[[#This Row],[IdEstablecimiento]],'[1]Establecimiento 2023'!$A$1:$E$183,5,FALSE),0)","v":"04102-Coquimbo"},"15080008","2022-05-18T11:53:25",47,{"$nulls":7},34,null,12,null,1]
[{"$nulls":23},4,"5",2022,"105321",{"$f":"IFERROR(VLOOKUP(Tabla_SERIED_12_5[[#This Row],[IdEstablecimiento]],'[1]Establecimiento 2023'!$A$1:$E$183,3,FALSE),0)","v":"105321-Centro de Salud Familiar Tongoy"},{"$f":"IFERROR(VLOOKUP(Tabla_SERIED_12_5[[#This Row],[IdEstablecimiento]],'[1]Establecimiento 2023'!$A$1:$E$183,5,FALSE),0)","v":"04102-Coquimbo"},"15900010","2022-05-18T11:53:25",64,10.4,18.4,35.2]
[{"$nulls":23},4,"5",2022,"105321",{"$f":"IFERROR(VLOOKUP(Tabla_SERIED_12_5[[#This Row],[IdEstablecimiento]],'[1]Establecimiento 2023'!$A$1:$E$183,3,FALSE),0)","v":"105321-Centro de Salud Familiar Tongoy"},{"$f":"IFERROR(VLOOKUP(Tabla_SERIED_12_5[[#This Row],[IdEstablecimiento]],'[1]Establecimiento 2023'!$A$1:$E$183,5,FALSE),0)","v":"04102-Coquimbo"},"15010400","2022-05-18T11:53:25",4,{"$nulls":4},2,2]
[{"$nulls":23},4,"5",2022,"105321",{"$f":"IFERROR(VLOOKUP(Tabla_SERIED_12_5[[#This Row],[IdEstablecimiento]],'[1]Establecimiento 2023'!$A$1:$E$183,3,FALSE),0)","v":"105321-Centro de Salud Familiar Tongoy"},{"$f":"IFERROR(VLOOKUP(Tabla_SERIED_12_5[[#This Row],[IdEstablecimiento]],'[1]Establecimiento 2023'!$A$1:$E$183,5,FALSE),0)","v":"04102-Coquimbo"},"15010500","2022-05-18T11:53:25",4,{"$nulls":3},0,2,2]
[{"$nulls":23},4,"5",2022,"105321",{"$f":"IFERROR(VLOOKUP(Tabla_SERIED_12_5[[#This Row],[IdEstablecimiento]],'[1]Establecimiento 2023'!$A$1:$E$183,3,FALSE),0)","v":"105321-Centro de Salud Familiar Tongoy"},{"$f":"IFERROR(VLOOKUP(Tabla_SERIED_12_5[[#This Row],[IdEstablecimiento]],'[1]Establecimiento 2023'!$A$1:$E$183,5,FALSE),0)","v":"04102-Coquimbo"},"15080009","2022-05-18T11:53:25",9,{"$nulls":8},9]
[{"$nulls":23},4,"5",2022,"105321",{"$f":"IFERROR(VLOOKUP(Tabla_SERIED_12_5[[#This Row],[IdEstablecimiento]],'[1]Establecimiento 2023'!$A$1:$E$183,3,FALSE),0)","v":"105321-Centro de Salud Familiar Tongoy"},{"$f":"IFERROR(VLOOKUP(Tabla_SERIED_12_5[[#This Row],[IdEstablecimiento]],'[1]Establecimiento 2023'!$A$1:$E$183,5,FALSE),0)","v":"04102-Coquimbo"},"15030100","2022-05-18T11:53:25",3.6,3.6]
[{"$nulls":23},1,"5",2022,"105303",{"$f":"IFERROR(VLOOKUP(Tabla_SERIED_12_5[[#This Row],[IdEstablecimiento]],'[1]Establecimiento 2023'!$A$1:$E$183,3,FALSE),0)","v":"105303-Centro de Salud Familiar San Juan"},{"$f":"IFERROR(VLOOKUP(Tabla_SERIED_12_5[[#This Row],[IdEstablecimiento]],'[1]Establecimiento 2023'!$A$1:$E$183,5,FALSE),0)","v":"04102-Coquimbo"},"15020100","2022-02-16T10:34:59",4,0,2,4,0,0,0,0]
[{"$nulls":23},1,"5",2022,"105303",{"$f":"IFERROR(VLOOKUP(Tabla_SERIED_12_5[[#This Row],[IdEstablecimiento]],'[1]Establecimiento 2023'!$A$1:$E$183,3,FALSE),0)","v":"105303-Centro de Salud Familiar San Juan"},{"$f":"IFERROR(VLOOKUP(Tabla_SERIED_12_5[[#This Row],[IdEstablecimiento]],'[1]Establecimiento 2023'!$A$1:$E$183,5,FALSE),0)","v":"04102-Coquimbo"},"15020200","2022-02-16T10:34:59",18,{"$nulls":4},10,2,6]
[{"$nulls":23},4,"5",2022,"105437",{"$f":"IFERROR(VLOOKUP(Tabla_SERIED_12_5[[#This Row],[IdEstablecimiento]],'[1]Establecimiento 2023'!$A$1:$E$183,3,FALSE),0)","v":"105437-Posta de Salud Rural Chalinga"},{"$f":"IFERROR(VLOOKUP(Tabla_SERIED_12_5[[#This Row],[IdEstablecimiento]],'[1]Establecimiento 2023'!$A$1:$E$183,5,FALSE),0)","v":"04301-Ovalle"},"16100300","2022-05-18T14:57:14",114,52,62,2,11]
[{"$nulls":23},4,"5",2022,"105437",{"$f":"IFERROR(VLOOKUP(Tabla_SERIED_12_5[[#This Row],[IdEstablecimiento]],'[1]Establecimiento 2023'!$A$1:$E$183,3,FALSE),0)","v":"105437-Posta de Salud Rural Chalinga"},{"$f":"IFERROR(VLOOKUP(Tabla_SERIED_12_5[[#This Row],[IdEstablecimiento]],'[1]Establecimiento 2023'!$A$1:$E$183,5,FALSE),0)","v":"04301-Ovalle"},"16200220","2022-05-18T14:57:14",19,9,10,0,0]
[{"$nulls":23},4,"5",2022,"105437",{"$f":"IFERROR(VLOOKUP(Tabla_SERIED_12_5[[#This Row],[IdEstablecimiento]],'[1]Establecimiento 2023'!$A$1:$E$183,3,FALSE),0)","v":"105437-Posta de Salud Rural Chalinga"},{"$f":"IFERROR(VLOOKUP(Tabla_SERIED_12_5[[#This Row],[IdEstablecimiento]],'[1]Establecimiento 2023'!$A$1:$E$183,5,FALSE),0)","v":"04301-Ovalle"},"16200100","2022-05-18T14:57:14",2,1,1]
[{"$nulls":23},4,"5",2022,"105311",{"$f":"IFERROR(VLOOKUP(Tabla_SERIED_12_5[[#This Row],[IdEstablecimiento]],'[1]Establecimiento 2023'!$A$1:$E$183,3,FALSE),0)","v":"105311-Centro de Salud Familiar Chañaral Alto"},{"$f":"IFERROR(VLOOKUP(Tabla_SERIED_12_5[[#This Row],[IdEstablecimiento]],'[1]Establecimiento 2023'!$A$1:$E$183,5,FALSE),0)","v":"04303-Monte Patria"},"16090300","2022-05-18T11:51:31",310,310]
[{"$nulls":23},4,"5",2022,"105311",{"$f":"IFERROR(VLOOKUP(Tabla_SERIED_12_5[[#This Row],[IdEstablecimiento]],'[1]Establecimiento 2023'!$A$1:$E$183,3,FALSE),0)","v":"105311-Centro de Salud Familiar Chañaral Alto"},{"$f":"IFERROR(VLOOKUP(Tabla_SERIED_12_5[[#This Row],[IdEstablecimiento]],'[1]Establecimiento 2023'!$A$1:$E$183,5,FALSE),0)","v":"04303-Monte Patria"},"16200210","2022-05-18T11:51:31",72,72]
[{"$nulls":23},1,"5",2022,"105324",{"$f":"IFERROR(VLOOKUP(Tabla_SERIED_12_5[[#This Row],[IdEstablecimiento]],'[1]Establecimiento 2023'!$A$1:$E$183,3,FALSE),0)","v":"105324-Centro de Salud Familiar Sotaquí"},{"$f":"IFERROR(VLOOKUP(Tabla_SERIED_12_5[[#This Row],[IdEstablecimiento]],'[1]Establecimiento 2023'!$A$1:$E$183,5,FALSE),0)","v":"04301-Ovalle"},"15050200","2022-02-16T10:51:51",3,0,3,0,0,0,0,0,2,1,null,0,0,0,0]
[{"$nulls":23},1,"5",2022,"105324",{"$f":"IFERROR(VLOOKUP(Tabla_SERIED_12_5[[#This Row],[IdEstablecimiento]],'[1]Establecimiento 2023'!$A$1:$E$183,3,FALSE),0)","v":"105324-Centro de Salud Familiar Sotaquí"},{"$f":"IFERROR(VLOOKUP(Tabla_SERIED_12_5[[#This Row],[IdEstablecimiento]],'[1]Establecimiento 2023'!$A$1:$E$183,5,FALSE),0)","v":"04301-Ovalle"},"16090300","2022-02-16T10:51:51",251,251]
[{"$nulls":23},1,"5",2022,"105324",{"$f":"IFERROR(VLOOKUP(Tabla_SERIED_12_5[[#This Row],[IdEstablecimiento]],'[1]Establecimiento 2023'!$A$1:$E$183,3,FALSE),0)","v":"105324-Centro de Salud Familiar Sotaquí"},{"$f":"IFERROR(VLOOKUP(Tabla_SERIED_12_5[[#This Row],[IdEstablecimiento]],'[1]Establecimiento 2023'!$A$1:$E$183,5,FALSE),0)","v":"04301-Ovalle"},"16200210","2022-02-16T10:51:51",1,1]
[{"$nulls":23},1,"5",2022,"105324",{"$f":"IFERROR(VLOOKUP(Tabla_SERIED_12_5[[#This Row],[IdEstablecimiento]],'[1]Establecimiento 2023'!$A$1:$E$183,3,FALSE),0)","v":"105324-Centro de Salud Familiar Sotaquí"},{"$f":"IFERROR(VLOOKUP(Tabla_SERIED_12_5[[#This Row],[IdEstablecimiento]],'[1]Establecimiento 2023'!$A$1:$E$183,5,FALSE),0)","v":"04301-Ovalle"},"16100300","2022-02-16T10:51:51",251,114,137]
[{"$nulls":23},1,"5",2022,"105324",{"$f":"IFERROR(VLOOKUP(Tabla_SERIED_12_5[[#This Row],[IdEstablecimiento]],'[1]Establecimiento 2023'!$A$1:$E$183,3,FALSE),0)","v":"105324-Centro de Salud Familiar Sotaquí"},{"$f":"IFERROR(VLOOKUP(Tabla_SERIED_12_5[[#This Row],[IdEstablecimiento]],'[1]Establecimiento 2023'!$A$1:$E$183,5,FALSE),0)","v":"04301-Ovalle"},"16200220","2022-02-16T10:51:51",1,null,1]
[{"$nulls":23},1,"5",2022,"105324",{"$f":"IFERROR(VLOOKUP(Tabla_SERIED_12_5[[#This Row],[IdEstablecimiento]],'[1]Establecimiento 2023'!$A$1:$E$183,3,FALSE),0)","v":"105324-Centro de Salud Familiar Sotaquí"},{"$f":"IFERROR(VLOOKUP(Tabla_SERIED_12_5[[#This Row],[IdEstablecimiento]],'[1]Establecimiento 2023'!$A$1:$E$183,5,FALSE),0)","v":"04301-Ovalle"},"16200100","2022-02-16T10:51:51",3,3]
[{"$nulls":23},1,"5",2022,"105326",{"$f":"IFERROR(VLOOKUP(Tabla_SERIED_12_5[[#This Row],[IdEstablecimiento]],'[1]Establecimiento 2023'!$A$1:$E$183,3,FALSE),0)","v":"105326-Centro de Salud Familiar Villa San Rafael de Rozas"},{"$f":"IFERROR(VLOOKUP(Tabla_SERIED_12_5[[#This Row],[IdEstablecimiento]],'[1]Establecimiento 2023'!$A$1:$E$183,5,FALSE),0)","v":"04201-Illapel"},"15010100","2022-02-16T10:52:27",41,null,null,2,38,{"$nulls":3},1]
[{"$nulls":23},1,"5",2022,"105326",{"$f":"IFERROR(VLOOKUP(Tabla_SERIED_12_5[[#This Row],[IdEstablecimiento]],'[1]Establecimiento 2023'!$A$1:$E$183,3,FALSE),0)","v":"105326-Centro de Salud Familiar Villa San Rafael de Rozas"},{"$f":"IFERROR(VLOOKUP(Tabla_SERIED_12_5[[#This Row],[IdEstablecimiento]],'[1]Establecimiento 2023'!$A$1:$E$183,5,FALSE),0)","v":"04201-Illapel"},"15010200","2022-02-16T10:52:27",190,{"$nulls":4},38,90,62]
[{"$nulls":23},1,"5",2022,"105326",{"$f":"IFERROR(VLOOKUP(Tabla_SERIED_12_5[[#This Row],[IdEstablecimiento]],'[1]Establecimiento 2023'!$A$1:$E$183,3,FALSE),0)","v":"105326-Centro de Salud Familiar Villa San Rafael de Rozas"},{"$f":"IFERROR(VLOOKUP(Tabla_SERIED_12_5[[#This Row],[IdEstablecimiento]],'[1]Establecimiento 2023'!$A$1:$E$183,5,FALSE),0)","v":"04201-Illapel"},"15080008","2022-02-16T10:52:27",55,{"$nulls":7},17,null,26,1,11]
[{"$nulls":23},1,"5",2022,"105326",{"$f":"IFERROR(VLOOKUP(Tabla_SERIED_12_5[[#This Row],[IdEstablecimiento]],'[1]Establecimiento 2023'!$A$1:$E$183,3,FALSE),0)","v":"105326-Centro de Salud Familiar Villa San Rafael de Rozas"},{"$f":"IFERROR(VLOOKUP(Tabla_SERIED_12_5[[#This Row],[IdEstablecimiento]],'[1]Establecimiento 2023'!$A$1:$E$183,5,FALSE),0)","v":"04201-Illapel"},"15900010","2022-02-16T10:52:27",30400,null,7200,23200]
[{"$nulls":23},1,"5",2022,"105326",{"$f":"IFERROR(VLOOKUP(Tabla_SERIED_12_5[[#This Row],[IdEstablecimiento]],'[1]Establecimiento 2023'!$A$1:$E$183,3,FALSE),0)","v":"105326-Centro de Salud Familiar Villa San Rafael de Rozas"},{"$f":"IFERROR(VLOOKUP(Tabla_SERIED_12_5[[#This Row],[IdEstablecimiento]],'[1]Establecimiento 2023'!$A$1:$E$183,5,FALSE),0)","v":"04201-Illapel"},"15010300","2022-02-16T10:52:27",2,{"$nulls":3},2]
[{"$nulls":23},1,"5",2022,"105326",{"$f":"IFERROR(VLOOKUP(Tabla_SERIED_12_5[[#This Row],[IdEstablecimiento]],'[1]Establecimiento 2023'!$A$1:$E$183,3,FALSE),0)","v":"105326-Centro de Salud Familiar Villa San Rafael de Rozas"},{"$f":"IFERROR(VLOOKUP(Tabla_SERIED_12_5[[#This Row],[IdEstablecimiento]],'[1]Establecimiento 2023'!$A$1:$E$183,5,FALSE),0)","v":"04201-Illapel"},"15010500","2022-02-16T10:52:27",2,{"$nulls":3},2]
[{"$nulls":23},1,"5",2022,"105326",{"$f":"IFERROR(VLOOKUP(Tabla_SERIED_12_5[[#This Row],[IdEstablecimiento]],'[1]Establecimiento 2023'!$A$1:$E$183,3,FALSE),0)","v":"105326-Centro de Salud Familiar Villa San Rafael de Rozas"},{"$f":"IFERROR(VLOOKUP(Tabla_SERIED_12_5[[#This Row],[IdEstablecimiento]],'[1]Establecimiento 2023'!$A$1:$E$183,5,FALSE),0)","v":"04201-Illapel"},"15080009","2022-02-16T10:52:27",5,{"$nulls":8},3,2]
[{"$nulls":23},1,"5",2022,"105326",{"$f":"IFERROR(VLOOKUP(Tabla_SERIED_12_5[[#This Row],[IdEstablecimiento]],'[1]Establecimiento 2023'!$A$1:$E$183,3,FALSE),0)","v":"105326-Centro de Salud Familiar Villa San Rafael de Rozas"},{"$f":"IFERROR(VLOOKUP(Tabla_SERIED_12_5[[#This Row],[IdEstablecimiento]],'[1]Establecimiento 2023'!$A$1:$E$183,5,FALSE),0)","v":"04201-Illapel"},"15030100","2022-02-16T10:52:27",4800,null,4800]
[{"$nulls":23},1,"5",2022,"105326",{"$f":"IFERROR(VLOOKUP(Tabla_SERIED_12_5[[#This Row],[IdEstablecimiento]],'[1]Establecimiento 2023'!$A$1:$E$183,3,FALSE),0)","v":"105326-Centro de Salud Familiar Villa San Rafael de Rozas"},{"$f":"IFERROR(VLOOKUP(Tabla_SERIED_12_5[[#This Row],[IdEstablecimiento]],'[1]Establecimiento 2023'!$A$1:$E$183,5,FALSE),0)","v":"04201-Illapel"},"15030200","2022-02-16T10:52:27",5400,null,null,5400]
[{"$nulls":23},1,"5",2022,"105326",{"$f":"IFERROR(VLOOKUP(Tabla_SERIED_12_5[[#This Row],[IdEstablecimiento]],'[1]Establecimiento 2023'!$A$1:$E$183,3,FALSE),0)","v":"105326-Centro de Salud Familiar Villa San Rafael de Rozas"},{"$f":"IFERROR(VLOOKUP(Tabla_SERIED_12_5[[#This Row],[IdEstablecimiento]],'[1]Establecimiento 2023'!$A$1:$E$183,5,FALSE),0)","v":"04201-Illapel"},"15050100","2022-02-16T10:52:27",159,61,98,null,null,20,19,null,45,32,18,null,13,1,11]
[{"$nulls":23},1,"5",2022,"105326",{"$f":"IFERROR(VLOOKUP(Tabla_SERIED_12_5[[#This Row],[IdEstablecimiento]],'[1]Establecimiento 2023'!$A$1:$E$183,3,FALSE),0)","v":"105326-Centro de Salud Familiar Villa San Rafael de Rozas"},{"$f":"IFERROR(VLOOKUP(Tabla_SERIED_12_5[[#This Row],[IdEstablecimiento]],'[1]Establecimiento 2023'!$A$1:$E$183,5,FALSE),0)","v":"04201-Illapel"},"15050200","2022-02-16T10:52:27",3,null,3,{"$nulls":3},1,{"$nulls":4},1,1]
[{"$nulls":23},4,"5",2022,"105723",{"$f":"IFERROR(VLOOKUP(Tabla_SERIED_12_5[[#This Row],[IdEstablecimiento]],'[1]Establecimiento 2023'!$A$1:$E$183,3,FALSE),0)","v":"105723-Centro Comunitario de Salud Familiar Limarí"},{"$f":"IFERROR(VLOOKUP(Tabla_SERIED_12_5[[#This Row],[IdEstablecimiento]],'[1]Establecimiento 2023'!$A$1:$E$183,5,FALSE),0)","v":"04301-Ovalle"},"16200210","2022-05-18T15:23:39",3,3]
[{"$nulls":23},4,"5",2022,"105723",{"$f":"IFERROR(VLOOKUP(Tabla_SERIED_12_5[[#This Row],[IdEstablecimiento]],'[1]Establecimiento 2023'!$A$1:$E$183,3,FALSE),0)","v":"105723-Centro Comunitario de Salud Familiar Limarí"},{"$f":"IFERROR(VLOOKUP(Tabla_SERIED_12_5[[#This Row],[IdEstablecimiento]],'[1]Establecimiento 2023'!$A$1:$E$183,5,FALSE),0)","v":"04301-Ovalle"},"16100300","2022-05-18T15:23:39",272,94,178,2,43]
[{"$nulls":23},6,"5",2022,"105474",{"$f":"IFERROR(VLOOKUP(Tabla_SERIED_12_5[[#This Row],[IdEstablecimiento]],'[1]Establecimiento 2023'!$A$1:$E$183,3,FALSE),0)","v":"105474-Posta de Salud Rural Chapilca"},{"$f":"IFERROR(VLOOKUP(Tabla_SERIED_12_5[[#This Row],[IdEstablecimiento]],'[1]Establecimiento 2023'!$A$1:$E$183,5,FALSE),0)","v":"04106-Vicuña"},"15050100","2022-07-14T14:28:25",2,2,{"$nulls":6},2]
[{"$nulls":23},4,"5",2022,"105411",{"$f":"IFERROR(VLOOKUP(Tabla_SERIED_12_5[[#This Row],[IdEstablecimiento]],'[1]Establecimiento 2023'!$A$1:$E$183,3,FALSE),0)","v":"105411-Posta de Salud Rural Las Breas (Río Hurtado)"},{"$f":"IFERROR(VLOOKUP(Tabla_SERIED_12_5[[#This Row],[IdEstablecimiento]],'[1]Establecimiento 2023'!$A$1:$E$183,5,FALSE),0)","v":"04305-Río Hurtado"},"16090300","2022-05-18T14:49:59",21,21]
[{"$nulls":23},4,"5",2022,"105411",{"$f":"IFERROR(VLOOKUP(Tabla_SERIED_12_5[[#This Row],[IdEstablecimiento]],'[1]Establecimiento 2023'!$A$1:$E$183,3,FALSE),0)","v":"105411-Posta de Salud Rural Las Breas (Río Hurtado)"},{"$f":"IFERROR(VLOOKUP(Tabla_SERIED_12_5[[#This Row],[IdEstablecimiento]],'[1]Establecimiento 2023'!$A$1:$E$183,5,FALSE),0)","v":"04305-Río Hurtado"},"16200210","2022-05-18T14:49:59",2,2]
[{"$nulls":23},1,"5",2022,"105311",{"$f":"IFERROR(VLOOKUP(Tabla_SERIED_12_5[[#This Row],[IdEstablecimiento]],'[1]Establecimiento 2023'!$A$1:$E$183,3,FALSE),0)","v":"105311-Centro de Salud Familiar Chañaral Alto"},{"$f":"IFERROR(VLOOKUP(Tabla_SERIED_12_5[[#This Row],[IdEstablecimiento]],'[1]Establecimiento 2023'!$A$1:$E$183,5,FALSE),0)","v":"04303-Monte Patria"},"16200220","2022-02-17T07:56:32",8,1,7]
[{"$nulls":23},1,"5",2022,"105428",{"$f":"IFERROR(VLOOKUP(Tabla_SERIED_12_5[[#This Row],[IdEstablecimiento]],'[1]Establecimiento 2023'!$A$1:$E$183,3,FALSE),0)","v":"105428-Posta de Salud Rural Huatulame"},{"$f":"IFERROR(VLOOKUP(Tabla_SERIED_12_5[[#This Row],[IdEstablecimiento]],'[1]Establecimiento 2023'!$A$1:$E$183,5,FALSE),0)","v":"04303-Monte Patria"},"15010200","2022-02-17T07:56:55",14,{"$nulls":4},4,2,8]
[{"$nulls":23},1,"5",2022,"105428",{"$f":"IFERROR(VLOOKUP(Tabla_SERIED_12_5[[#This Row],[IdEstablecimiento]],'[1]Establecimiento 2023'!$A$1:$E$183,3,FALSE),0)","v":"105428-Posta de Salud Rural Huatulame"},{"$f":"IFERROR(VLOOKUP(Tabla_SERIED_12_5[[#This Row],[IdEstablecimiento]],'[1]Establecimiento 2023'!$A$1:$E$183,5,FALSE),0)","v":"04303-Monte Patria"},"15080008","2022-02-17T07:56:55",2,{"$nulls":7},2]
[{"$nulls":23},1,"5",2022,"105428",{"$f":"IFERROR(VLOOKUP(Tabla_SERIED_12_5[[#This Row],[IdEstablecimiento]],'[1]Establecimiento 2023'!$A$1:$E$183,3,FALSE),0)","v":"105428-Posta de Salud Rural Huatulame"},{"$f":"IFERROR(VLOOKUP(Tabla_SERIED_12_5[[#This Row],[IdEstablecimiento]],'[1]Establecimiento 2023'!$A$1:$E$183,5,FALSE),0)","v":"04303-Monte Patria"},"15900010","2022-02-17T07:56:55",7200,null,4000,3200]
[{"$nulls":23},4,"5",2022,"105478",{"$f":"IFERROR(VLOOKUP(Tabla_SERIED_12_5[[#This Row],[IdEstablecimiento]],'[1]Establecimiento 2023'!$A$1:$E$183,3,FALSE),0)","v":"105478-Posta de Salud Rural Caimanes"},{"$f":"IFERROR(VLOOKUP(Tabla_SERIED_12_5[[#This Row],[IdEstablecimiento]],'[1]Establecimiento 2023'!$A$1:$E$183,5,FALSE),0)","v":"04203-Los Vilos"},"16200210","2022-05-18T15:13:57",1,1]
[{"$nulls":23},4,"5",2022,"105478",{"$f":"IFERROR(VLOOKUP(Tabla_SERIED_12_5[[#This Row],[IdEstablecimiento]],'[1]Establecimiento 2023'!$A$1:$E$183,3,FALSE),0)","v":"105478-Posta de Salud Rural Caimanes"},{"$f":"IFERROR(VLOOKUP(Tabla_SERIED_12_5[[#This Row],[IdEstablecimiento]],'[1]Establecimiento 2023'!$A$1:$E$183,5,FALSE),0)","v":"04203-Los Vilos"},"16100300","2022-05-18T15:13:57",25,12,13,null,36]
[{"$nulls":23},4,"5",2022,"105478",{"$f":"IFERROR(VLOOKUP(Tabla_SERIED_12_5[[#This Row],[IdEstablecimiento]],'[1]Establecimiento 2023'!$A$1:$E$183,3,FALSE),0)","v":"105478-Posta de Salud Rural Caimanes"},{"$f":"IFERROR(VLOOKUP(Tabla_SERIED_12_5[[#This Row],[IdEstablecimiento]],'[1]Establecimiento 2023'!$A$1:$E$183,5,FALSE),0)","v":"04203-Los Vilos"},"16200220","2022-05-18T15:13:57",1,null,1,null,6]
[{"$nulls":23},5,"5",2022,"200607",{"$f":"IFERROR(VLOOKUP(Tabla_SERIED_12_5[[#This Row],[IdEstablecimiento]],'[1]Establecimiento 2023'!$A$1:$E$183,3,FALSE),0)","v":"200607-Centro de Salud Familiar Lila Cortés Godoy"},{"$f":"IFERROR(VLOOKUP(Tabla_SERIED_12_5[[#This Row],[IdEstablecimiento]],'[1]Establecimiento 2023'!$A$1:$E$183,5,FALSE),0)","v":"04102-Coquimbo"},"15030200","2022-06-20T17:38:04",7.2,null,null,7.2]
[{"$nulls":23},5,"5",2022,"200607",{"$f":"IFERROR(VLOOKUP(Tabla_SERIED_12_5[[#This Row],[IdEstablecimiento]],'[1]Establecimiento 2023'!$A$1:$E$183,3,FALSE),0)","v":"200607-Centro de Salud Familiar Lila Cortés Godoy"},{"$f":"IFERROR(VLOOKUP(Tabla_SERIED_12_5[[#This Row],[IdEstablecimiento]],'[1]Establecimiento 2023'!$A$1:$E$183,5,FALSE),0)","v":"04102-Coquimbo"},"15900030","2022-06-20T17:38:04",3.6,0,0,0,0,3.6]
[{"$nulls":23},5,"5",2022,"200607",{"$f":"IFERROR(VLOOKUP(Tabla_SERIED_12_5[[#This Row],[IdEstablecimiento]],'[1]Establecimiento 2023'!$A$1:$E$183,3,FALSE),0)","v":"200607-Centro de Salud Familiar Lila Cortés Godoy"},{"$f":"IFERROR(VLOOKUP(Tabla_SERIED_12_5[[#This Row],[IdEstablecimiento]],'[1]Establecimiento 2023'!$A$1:$E$183,5,FALSE),0)","v":"04102-Coquimbo"},"15050100","2022-06-20T17:38:04",590,256,334,9,19,63,88,58,134,76,98,null,31,0,14]
[{"$nulls":23},5,"5",2022,"200607",{"$f":"IFERROR(VLOOKUP(Tabla_SERIED_12_5[[#This Row],[IdEstablecimiento]],'[1]Establecimiento 2023'!$A$1:$E$183,3,FALSE),0)","v":"200607-Centro de Salud Familiar Lila Cortés Godoy"},{"$f":"IFERROR(VLOOKUP(Tabla_SERIED_12_5[[#This Row],[IdEstablecimiento]],'[1]Establecimiento 2023'!$A$1:$E$183,5,FALSE),0)","v":"04102-Coquimbo"},"15050200","2022-06-20T17:38:04",6,3,3,0,0,0,3,1,1,1,null,0,0,0,0]
[{"$nulls":23},5,"5",2022,"200607",{"$f":"IFERROR(VLOOKUP(Tabla_SERIED_12_5[[#This Row],[IdEstablecimiento]],'[1]Establecimiento 2023'!$A$1:$E$183,3,FALSE),0)","v":"200607-Centro de Salud Familiar Lila Cortés Godoy"},{"$f":"IFERROR(VLOOKUP(Tabla_SERIED_12_5[[#This Row],[IdEstablecimiento]],'[1]Establecimiento 2023'!$A$1:$E$183,5,FALSE),0)","v":"04102-Coquimbo"},"15050500","2022-06-20T17:38:04",7,3,4,3,2,2]
[{"$nulls":23},5,"5",2022,"200607",{"$f":"IFERROR(VLOOKUP(Tabla_SERIED_12_5[[#This Row],[IdEstablecimiento]],'[1]Establecimiento 2023'!$A$1:$E$183,3,FALSE),0)","v":"200607-Centro de Salud Familiar Lila Cortés Godoy"},{"$f":"IFERROR(VLOOKUP(Tabla_SERIED_12_5[[#This Row],[IdEstablecimiento]],'[1]Establecimiento 2023'!$A$1:$E$183,5,FALSE),0)","v":"04102-Coquimbo"},"15900050","2022-06-20T17:38:04",1,1,0,0,0,0,0,1]
[{"$nulls":23},5,"5",2022,"200607",{"$f":"IFERROR(VLOOKUP(Tabla_SERIED_12_5[[#This Row],[IdEstablecimiento]],'[1]Establecimiento 2023'!$A$1:$E$183,3,FALSE),0)","v":"200607-Centro de Salud Familiar Lila Cortés Godoy"},{"$f":"IFERROR(VLOOKUP(Tabla_SERIED_12_5[[#This Row],[IdEstablecimiento]],'[1]Establecimiento 2023'!$A$1:$E$183,5,FALSE),0)","v":"04102-Coquimbo"},"15020200","2022-06-20T17:38:04",2,{"$nulls":4},0,0,2]
[{"$nulls":23},5,"5",2022,"200607",{"$f":"IFERROR(VLOOKUP(Tabla_SERIED_12_5[[#This Row],[IdEstablecimiento]],'[1]Establecimiento 2023'!$A$1:$E$183,3,FALSE),0)","v":"200607-Centro de Salud Familiar Lila Cortés Godoy"},{"$f":"IFERROR(VLOOKUP(Tabla_SERIED_12_5[[#This Row],[IdEstablecimiento]],'[1]Establecimiento 2023'!$A$1:$E$183,5,FALSE),0)","v":"04102-Coquimbo"},"15080010","2022-06-20T17:38:04",1,{"$nulls":7},1,null,0,0,0]
[{"$nulls":23},2,"5",2022,"105325",{"$f":"IFERROR(VLOOKUP(Tabla_SERIED_12_5[[#This Row],[IdEstablecimiento]],'[1]Establecimiento 2023'!$A$1:$E$183,3,FALSE),0)","v":"105325-Centro de Salud Familiar Juan Pablo II (La Serena)"},{"$f":"IFERROR(VLOOKUP(Tabla_SERIED_12_5[[#This Row],[IdEstablecimiento]],'[1]Establecimiento 2023'!$A$1:$E$183,5,FALSE),0)","v":"04101-La Serena"},"15010200","2022-03-17T09:32:05",312,{"$nulls":4},84,117,111]
[{"$nulls":23},1,"5",2022,"105318",{"$f":"IFERROR(VLOOKUP(Tabla_SERIED_12_5[[#This Row],[IdEstablecimiento]],'[1]Establecimiento 2023'!$A$1:$E$183,3,FALSE),0)","v":"105318-Centro de Salud Familiar El Palqui"},{"$f":"IFERROR(VLOOKUP(Tabla_SERIED_12_5[[#This Row],[IdEstablecimiento]],'[1]Establecimiento 2023'!$A$1:$E$183,5,FALSE),0)","v":"04303-Monte Patria"},"15010300","2022-02-16T10:49:52",2,{"$nulls":3},2]
[{"$nulls":23},1,"5",2022,"105318",{"$f":"IFERROR(VLOOKUP(Tabla_SERIED_12_5[[#This Row],[IdEstablecimiento]],'[1]Establecimiento 2023'!$A$1:$E$183,3,FALSE),0)","v":"105318-Centro de Salud Familiar El Palqui"},{"$f":"IFERROR(VLOOKUP(Tabla_SERIED_12_5[[#This Row],[IdEstablecimiento]],'[1]Establecimiento 2023'!$A$1:$E$183,5,FALSE),0)","v":"04303-Monte Patria"},"15010400","2022-02-16T10:49:52",8,{"$nulls":4},4,2,2]
[{"$nulls":23},1,"5",2022,"105326",{"$f":"IFERROR(VLOOKUP(Tabla_SERIED_12_5[[#This Row],[IdEstablecimiento]],'[1]Establecimiento 2023'!$A$1:$E$183,3,FALSE),0)","v":"105326-Centro de Salud Familiar Villa San Rafael de Rozas"},{"$f":"IFERROR(VLOOKUP(Tabla_SERIED_12_5[[#This Row],[IdEstablecimiento]],'[1]Establecimiento 2023'!$A$1:$E$183,5,FALSE),0)","v":"04201-Illapel"},"15050500","2022-02-16T10:52:27",2,null,2,null,1,1]
[{"$nulls":23},1,"5",2022,"105326",{"$f":"IFERROR(VLOOKUP(Tabla_SERIED_12_5[[#This Row],[IdEstablecimiento]],'[1]Establecimiento 2023'!$A$1:$E$183,3,FALSE),0)","v":"105326-Centro de Salud Familiar Villa San Rafael de Rozas"},{"$f":"IFERROR(VLOOKUP(Tabla_SERIED_12_5[[#This Row],[IdEstablecimiento]],'[1]Establecimiento 2023'!$A$1:$E$183,5,FALSE),0)","v":"04201-Illapel"},"15020100","2022-02-16T10:52:27",2,null,null,2]
[{"$nulls":23},1,"5",2022,"105326",{"$f":"IFERROR(VLOOKUP(Tabla_SERIED_12_5[[#This Row],[IdEstablecimiento]],'[1]Establecimiento 2023'!$A$1:$E$183,3,FALSE),0)","v":"105326-Centro de Salud Familiar Villa San Rafael de Rozas"},{"$f":"IFERROR(VLOOKUP(Tabla_SERIED_12_5[[#This Row],[IdEstablecimiento]],'[1]Establecimiento 2023'!$A$1:$E$183,5,FALSE),0)","v":"04201-Illapel"},"15020200","2022-02-16T10:52:27",2,{"$nulls":5},2]
[{"$nulls":23},1,"5",2022,"105326",{"$f":"IFERROR(VLOOKUP(Tabla_SERIED_12_5[[#This Row],[IdEstablecimiento]],'[1]Establecimiento 2023'!$A$1:$E$183,3,FALSE),0)","v":"105326-Centro de Salud Familiar Villa San Rafael de Rozas"},{"$f":"IFERROR(VLOOKUP(Tabla_SERIED_12_5[[#This Row],[IdEstablecimiento]],'[1]Establecimiento 2023'!$A$1:$E$183,5,FALSE),0)","v":"04201-Illapel"},"15020400","2022-02-16T10:52:27",2,{"$nulls":4},2]
[{"$nulls":23},1,"5",2022,"105326",{"$f":"IFERROR(VLOOKUP(Tabla_SERIED_12_5[[#This Row],[IdEstablecimiento]],'[1]Establecimiento 2023'!$A$1:$E$183,3,FALSE),0)","v":"105326-Centro de Salud Familiar Villa San Rafael de Rozas"},{"$f":"IFERROR(VLOOKUP(Tabla_SERIED_12_5[[#This Row],[IdEstablecimiento]],'[1]Establecimiento 2023'!$A$1:$E$183,5,FALSE),0)","v":"04201-Illapel"},"15020500","2022-02-16T10:52:27",2,{"$nulls":5},2]
[{"$nulls":23},1,"5",2022,"105454",{"$f":"IFERROR(VLOOKUP(Tabla_SERIED_12_5[[#This Row],[IdEstablecimiento]],'[1]Establecimiento 2023'!$A$1:$E$183,3,FALSE),0)","v":"105454-Posta de Salud Rural Cunlagua"},{"$f":"IFERROR(VLOOKUP(Tabla_SERIED_12_5[[#This Row],[IdEstablecimiento]],'[1]Establecimiento 2023'!$A$1:$E$183,5,FALSE),0)","v":"04204-Salamanca"},"16090300","2022-02-16T11:36:23",33,33]
[{"$nulls":23},1,"5",2022,"105454",{"$f":"IFERROR(VLOOKUP(Tabla_SERIED_12_5[[#This Row],[IdEstablecimiento]],'[1]Establecimiento 2023'!$A$1:$E$183,3,FALSE),0)","v":"105454-Posta de Salud Rural Cunlagua"},{"$f":"IFERROR(VLOOKUP(Tabla_SERIED_12_5[[#This Row],[IdEstablecimiento]],'[1]Establecimiento 2023'!$A$1:$E$183,5,FALSE),0)","v":"04204-Salamanca"},"16200210","2022-02-16T11:36:23",1,1]
[{"$nulls":23},1,"5",2022,"105454",{"$f":"IFERROR(VLOOKUP(Tabla_SERIED_12_5[[#This Row],[IdEstablecimiento]],'[1]Establecimiento 2023'!$A$1:$E$183,3,FALSE),0)","v":"105454-Posta de Salud Rural Cunlagua"},{"$f":"IFERROR(VLOOKUP(Tabla_SERIED_12_5[[#This Row],[IdEstablecimiento]],'[1]Establecimiento 2023'!$A$1:$E$183,5,FALSE),0)","v":"04204-Salamanca"},"16100300","2022-02-16T11:36:23",33,17,16,1,3]
[{"$nulls":23},1,"5",2022,"105454",{"$f":"IFERROR(VLOOKUP(Tabla_SERIED_12_5[[#This Row],[IdEstablecimiento]],'[1]Establecimiento 2023'!$A$1:$E$183,3,FALSE),0)","v":"105454-Posta de Salud Rural Cunlagua"},{"$f":"IFERROR(VLOOKUP(Tabla_SERIED_12_5[[#This Row],[IdEstablecimiento]],'[1]Establecimiento 2023'!$A$1:$E$183,5,FALSE),0)","v":"04204-Salamanca"},"16200220","2022-02-16T11:36:23",1,null,1]
[{"$nulls":23},1,"5",2022,"105455",{"$f":"IFERROR(VLOOKUP(Tabla_SERIED_12_5[[#This Row],[IdEstablecimiento]],'[1]Establecimiento 2023'!$A$1:$E$183,3,FALSE),0)","v":"105455-CESFAM Valle Alto"},{"$f":"IFERROR(VLOOKUP(Tabla_SERIED_12_5[[#This Row],[IdEstablecimiento]],'[1]Establecimiento 2023'!$A$1:$E$183,5,FALSE),0)","v":"04204-Salamanca"},"15010100","2022-02-16T11:36:40",2,{"$nulls":3},2]
[{"$nulls":23},1,"5",2022,"105455",{"$f":"IFERROR(VLOOKUP(Tabla_SERIED_12_5[[#This Row],[IdEstablecimiento]],'[1]Establecimiento 2023'!$A$1:$E$183,3,FALSE),0)","v":"105455-CESFAM Valle Alto"},{"$f":"IFERROR(VLOOKUP(Tabla_SERIED_12_5[[#This Row],[IdEstablecimiento]],'[1]Establecimiento 2023'!$A$1:$E$183,5,FALSE),0)","v":"04204-Salamanca"},"15010200","2022-02-16T11:36:40",50,{"$nulls":4},6,26,18]
[{"$nulls":23},1,"5",2022,"105401",{"$f":"IFERROR(VLOOKUP(Tabla_SERIED_12_5[[#This Row],[IdEstablecimiento]],'[1]Establecimiento 2023'!$A$1:$E$183,3,FALSE),0)","v":"105401-Posta de Salud Rural Las Rojas"},{"$f":"IFERROR(VLOOKUP(Tabla_SERIED_12_5[[#This Row],[IdEstablecimiento]],'[1]Establecimiento 2023'!$A$1:$E$183,5,FALSE),0)","v":"04101-La Serena"},"16090300","2022-02-16T10:52:59",28,28]
[{"$nulls":23},1,"5",2022,"105401",{"$f":"IFERROR(VLOOKUP(Tabla_SERIED_12_5[[#This Row],[IdEstablecimiento]],'[1]Establecimiento 2023'!$A$1:$E$183,3,FALSE),0)","v":"105401-Posta de Salud Rural Las Rojas"},{"$f":"IFERROR(VLOOKUP(Tabla_SERIED_12_5[[#This Row],[IdEstablecimiento]],'[1]Establecimiento 2023'!$A$1:$E$183,5,FALSE),0)","v":"04101-La Serena"},"16100300","2022-02-16T10:52:59",28,13,15,1,36]
[{"$nulls":23},1,"5",2022,"105402",{"$f":"IFERROR(VLOOKUP(Tabla_SERIED_12_5[[#This Row],[IdEstablecimiento]],'[1]Establecimiento 2023'!$A$1:$E$183,3,FALSE),0)","v":"105402-Posta de Salud Rural El Romero"},{"$f":"IFERROR(VLOOKUP(Tabla_SERIED_12_5[[#This Row],[IdEstablecimiento]],'[1]Establecimiento 2023'!$A$1:$E$183,5,FALSE),0)","v":"04101-La Serena"},"15010100","2022-02-16T10:53:14",8,null,null,4,4]
[{"$nulls":23},1,"5",2022,"105402",{"$f":"IFERROR(VLOOKUP(Tabla_SERIED_12_5[[#This Row],[IdEstablecimiento]],'[1]Establecimiento 2023'!$A$1:$E$183,3,FALSE),0)","v":"105402-Posta de Salud Rural El Romero"},{"$f":"IFERROR(VLOOKUP(Tabla_SERIED_12_5[[#This Row],[IdEstablecimiento]],'[1]Establecimiento 2023'!$A$1:$E$183,5,FALSE),0)","v":"04101-La Serena"},"15010200","2022-02-16T10:53:14",24,{"$nulls":4},8,8,8]
[{"$nulls":23},1,"5",2022,"105402",{"$f":"IFERROR(VLOOKUP(Tabla_SERIED_12_5[[#This Row],[IdEstablecimiento]],'[1]Establecimiento 2023'!$A$1:$E$183,3,FALSE),0)","v":"105402-Posta de Salud Rural El Romero"},{"$f":"IFERROR(VLOOKUP(Tabla_SERIED_12_5[[#This Row],[IdEstablecimiento]],'[1]Establecimiento 2023'!$A$1:$E$183,5,FALSE),0)","v":"04101-La Serena"},"15080008","2022-02-16T10:53:14",18,{"$nulls":7},9,null,8,null,1]
[{"$nulls":23},1,"5",2022,"105402",{"$f":"IFERROR(VLOOKUP(Tabla_SERIED_12_5[[#This Row],[IdEstablecimiento]],'[1]Establecimiento 2023'!$A$1:$E$183,3,FALSE),0)","v":"105402-Posta de Salud Rural El Romero"},{"$f":"IFERROR(VLOOKUP(Tabla_SERIED_12_5[[#This Row],[IdEstablecimiento]],'[1]Establecimiento 2023'!$A$1:$E$183,5,FALSE),0)","v":"04101-La Serena"},"15900010","2022-02-16T10:53:14",10.4,null,10.4]
[{"$nulls":23},1,"5",2022,"105402",{"$f":"IFERROR(VLOOKUP(Tabla_SERIED_12_5[[#This Row],[IdEstablecimiento]],'[1]Establecimiento 2023'!$A$1:$E$183,3,FALSE),0)","v":"105402-Posta de Salud Rural El Romero"},{"$f":"IFERROR(VLOOKUP(Tabla_SERIED_12_5[[#This Row],[IdEstablecimiento]],'[1]Establecimiento 2023'!$A$1:$E$183,5,FALSE),0)","v":"04101-La Serena"},"15900040","2022-02-16T10:53:14",4.4,{"$nulls":3},4.4]
[{"$nulls":23},1,"5",2022,"105402",{"$f":"IFERROR(VLOOKUP(Tabla_SERIED_12_5[[#This Row],[IdEstablecimiento]],'[1]Establecimiento 2023'!$A$1:$E$183,3,FALSE),0)","v":"105402-Posta de Salud Rural El Romero"},{"$f":"IFERROR(VLOOKUP(Tabla_SERIED_12_5[[#This Row],[IdEstablecimiento]],'[1]Establecimiento 2023'!$A$1:$E$183,5,FALSE),0)","v":"04101-La Serena"},"15050100","2022-02-16T10:53:14",33,12,21,null,3,2,2,4,4,4,9,null,4,null,1]
[{"$nulls":23},1,"5",2022,"105402",{"$f":"IFERROR(VLOOKUP(Tabla_SERIED_12_5[[#This Row],[IdEstablecimiento]],'[1]Establecimiento 2023'!$A$1:$E$183,3,FALSE),0)","v":"105402-Posta de Salud Rural El Romero"},{"$f":"IFERROR(VLOOKUP(Tabla_SERIED_12_5[[#This Row],[IdEstablecimiento]],'[1]Establecimiento 2023'!$A$1:$E$183,5,FALSE),0)","v":"04101-La Serena"},"15900050","2022-02-16T10:53:14",1,null,1,{"$nulls":3},1]
[{"$nulls":23},1,"5",2022,"105402",{"$f":"IFERROR(VLOOKUP(Tabla_SERIED_12_5[[#This Row],[IdEstablecimiento]],'[1]Establecimiento 2023'!$A$1:$E$183,3,FALSE),0)","v":"105402-Posta de Salud Rural El Romero"},{"$f":"IFERROR(VLOOKUP(Tabla_SERIED_12_5[[#This Row],[IdEstablecimiento]],'[1]Establecimiento 2023'!$A$1:$E$183,5,FALSE),0)","v":"04101-La Serena"},"16090300","2022-02-16T10:53:14",21,21]
[{"$nulls":23},1,"5",2022,"105402",{"$f":"IFERROR(VLOOKUP(Tabla_SERIED_12_5[[#This Row],[IdEstablecimiento]],'[1]Establecimiento 2023'!$A$1:$E$183,3,FALSE),0)","v":"105402-Posta de Salud Rural El Romero"},{"$f":"IFERROR(VLOOKUP(Tabla_SERIED_12_5[[#This Row],[IdEstablecimiento]],'[1]Establecimiento 2023'!$A$1:$E$183,5,FALSE),0)","v":"04101-La Serena"},"16100300","2022-02-16T10:53:14",21,13,8,null,29]
[{"$nulls":23},1,"5",2022,"105404",{"$f":"IFERROR(VLOOKUP(Tabla_SERIED_12_5[[#This Row],[IdEstablecimiento]],'[1]Establecimiento 2023'!$A$1:$E$183,3,FALSE),0)","v":0},{"$f":"IFERROR(VLOOKUP(Tabla_SERIED_12_5[[#This Row],[IdEstablecimiento]],'[1]Establecimiento 2023'!$A$1:$E$183,5,FALSE),0)","v":0},"16090300","2022-02-16T10:53:30",30,30]
[{"$nulls":23},1,"5",2022,"105404",{"$f":"IFERROR(VLOOKUP(Tabla_SERIED_12_5[[#This Row],[IdEstablecimiento]],'[1]Establecimiento 2023'!$A$1:$E$183,3,FALSE),0)","v":0},{"$f":"IFERROR(VLOOKUP(Tabla_SERIED_12_5[[#This Row],[IdEstablecimiento]],'[1]Establecimiento 2023'!$A$1:$E$183,5,FALSE),0)","v":0},"16100300","2022-02-16T10:53:30",30,18,12]
[{"$nulls":23},1,"5",2022,"105318",{"$f":"IFERROR(VLOOKUP(Tabla_SERIED_12_5[[#This Row],[IdEstablecimiento]],'[1]Establecimiento 2023'!$A$1:$E$183,3,FALSE),0)","v":"105318-Centro de Salud Familiar El Palqui"},{"$f":"IFERROR(VLOOKUP(Tabla_SERIED_12_5[[#This Row],[IdEstablecimiento]],'[1]Establecimiento 2023'!$A$1:$E$183,5,FALSE),0)","v":"04303-Monte Patria"},"15010500","2022-02-16T10:49:52",12,null,null,2,2,4,2,2]
[{"$nulls":23},1,"5",2022,"105318",{"$f":"IFERROR(VLOOKUP(Tabla_SERIED_12_5[[#This Row],[IdEstablecimiento]],'[1]Establecimiento 2023'!$A$1:$E$183,3,FALSE),0)","v":"105318-Centro de Salud Familiar El Palqui"},{"$f":"IFERROR(VLOOKUP(Tabla_SERIED_12_5[[#This Row],[IdEstablecimiento]],'[1]Establecimiento 2023'!$A$1:$E$183,5,FALSE),0)","v":"04303-Monte Patria"},"15080009","2022-02-16T10:49:52",3,{"$nulls":8},3]
[{"$nulls":23},1,"5",2022,"105318",{"$f":"IFERROR(VLOOKUP(Tabla_SERIED_12_5[[#This Row],[IdEstablecimiento]],'[1]Establecimiento 2023'!$A$1:$E$183,3,FALSE),0)","v":"105318-Centro de Salud Familiar El Palqui"},{"$f":"IFERROR(VLOOKUP(Tabla_SERIED_12_5[[#This Row],[IdEstablecimiento]],'[1]Establecimiento 2023'!$A$1:$E$183,5,FALSE),0)","v":"04303-Monte Patria"},"15900030","2022-02-16T10:49:52",2.4,null,2.4]
[{"$nulls":23},1,"5",2022,"105318",{"$f":"IFERROR(VLOOKUP(Tabla_SERIED_12_5[[#This Row],[IdEstablecimiento]],'[1]Establecimiento 2023'!$A$1:$E$183,3,FALSE),0)","v":"105318-Centro de Salud Familiar El Palqui"},{"$f":"IFERROR(VLOOKUP(Tabla_SERIED_12_5[[#This Row],[IdEstablecimiento]],'[1]Establecimiento 2023'!$A$1:$E$183,5,FALSE),0)","v":"04303-Monte Patria"},"15050100","2022-02-16T10:49:52",287,109,178,null,2,24,22,37,61,68,45,null,21,null,7]
[{"$nulls":23},2,"5",2022,"200538",{"$f":"IFERROR(VLOOKUP(Tabla_SERIED_12_5[[#This Row],[IdEstablecimiento]],'[1]Establecimiento 2023'!$A$1:$E$183,3,FALSE),0)","v":"200538-Centro de Salud Familiar San Isidro Calingasta"},{"$f":"IFERROR(VLOOKUP(Tabla_SERIED_12_5[[#This Row],[IdEstablecimiento]],'[1]Establecimiento 2023'!$A$1:$E$183,5,FALSE),0)","v":"04106-Vicuña"},"15010100","2022-03-17T10:09:35",28,null,null,10,18]
[{"$nulls":23},4,"5",2022,"200607",{"$f":"IFERROR(VLOOKUP(Tabla_SERIED_12_5[[#This Row],[IdEstablecimiento]],'[1]Establecimiento 2023'!$A$1:$E$183,3,FALSE),0)","v":"200607-Centro de Salud Familiar Lila Cortés Godoy"},{"$f":"IFERROR(VLOOKUP(Tabla_SERIED_12_5[[#This Row],[IdEstablecimiento]],'[1]Establecimiento 2023'!$A$1:$E$183,5,FALSE),0)","v":"04102-Coquimbo"},"16100300","2022-05-18T15:29:00",171,61,110,9,44]
[{"$nulls":23},4,"5",2022,"200607",{"$f":"IFERROR(VLOOKUP(Tabla_SERIED_12_5[[#This Row],[IdEstablecimiento]],'[1]Establecimiento 2023'!$A$1:$E$183,3,FALSE),0)","v":"200607-Centro de Salud Familiar Lila Cortés Godoy"},{"$f":"IFERROR(VLOOKUP(Tabla_SERIED_12_5[[#This Row],[IdEstablecimiento]],'[1]Establecimiento 2023'!$A$1:$E$183,5,FALSE),0)","v":"04102-Coquimbo"},"16200220","2022-05-18T15:29:00",51,16,35,12,11]
[{"$nulls":23},4,"5",2022,"200607",{"$f":"IFERROR(VLOOKUP(Tabla_SERIED_12_5[[#This Row],[IdEstablecimiento]],'[1]Establecimiento 2023'!$A$1:$E$183,3,FALSE),0)","v":"200607-Centro de Salud Familiar Lila Cortés Godoy"},{"$f":"IFERROR(VLOOKUP(Tabla_SERIED_12_5[[#This Row],[IdEstablecimiento]],'[1]Establecimiento 2023'!$A$1:$E$183,5,FALSE),0)","v":"04102-Coquimbo"},"16200100","2022-05-18T15:29:00",1,0,1,0,4]
[{"$nulls":23},4,"5",2022,"200607",{"$f":"IFERROR(VLOOKUP(Tabla_SERIED_12_5[[#This Row],[IdEstablecimiento]],'[1]Establecimiento 2023'!$A$1:$E$183,3,FALSE),0)","v":"200607-Centro de Salud Familiar Lila Cortés Godoy"},{"$f":"IFERROR(VLOOKUP(Tabla_SERIED_12_5[[#This Row],[IdEstablecimiento]],'[1]Establecimiento 2023'!$A$1:$E$183,5,FALSE),0)","v":"04102-Coquimbo"},"16200230","2022-05-18T15:29:00",1,0,1,0,0]
[{"$nulls":23},3,"5",2022,"105454",{"$f":"IFERROR(VLOOKUP(Tabla_SERIED_12_5[[#This Row],[IdEstablecimiento]],'[1]Establecimiento 2023'!$A$1:$E$183,3,FALSE),0)","v":"105454-Posta de Salud Rural Cunlagua"},{"$f":"IFERROR(VLOOKUP(Tabla_SERIED_12_5[[#This Row],[IdEstablecimiento]],'[1]Establecimiento 2023'!$A$1:$E$183,5,FALSE),0)","v":"04204-Salamanca"},"15900020","2022-04-19T09:49:04",2.4,null,null,2.4]
[{"$nulls":23},3,"5",2022,"105454",{"$f":"IFERROR(VLOOKUP(Tabla_SERIED_12_5[[#This Row],[IdEstablecimiento]],'[1]Establecimiento 2023'!$A$1:$E$183,3,FALSE),0)","v":"105454-Posta de Salud Rural Cunlagua"},{"$f":"IFERROR(VLOOKUP(Tabla_SERIED_12_5[[#This Row],[IdEstablecimiento]],'[1]Establecimiento 2023'!$A$1:$E$183,5,FALSE),0)","v":"04204-Salamanca"},"15050100","2022-04-19T09:49:04",2,1,1,{"$nulls":5},1,1]
[{"$nulls":23},3,"5",2022,"105454",{"$f":"IFERROR(VLOOKUP(Tabla_SERIED_12_5[[#This Row],[IdEstablecimiento]],'[1]Establecimiento 2023'!$A$1:$E$183,3,FALSE),0)","v":"105454-Posta de Salud Rural Cunlagua"},{"$f":"IFERROR(VLOOKUP(Tabla_SERIED_12_5[[#This Row],[IdEstablecimiento]],'[1]Establecimiento 2023'!$A$1:$E$183,5,FALSE),0)","v":"04204-Salamanca"},"15050200","2022-04-19T09:49:04",1,1,{"$nulls":3},1]
[{"$nulls":23},4,"5",2022,"105460",{"$f":"IFERROR(VLOOKUP(Tabla_SERIED_12_5[[#This Row],[IdEstablecimiento]],'[1]Establecimiento 2023'!$A$1:$E$183,3,FALSE),0)","v":"105460-Centro Comunitario de Salud Familiar Cogotí 18"},{"$f":"IFERROR(VLOOKUP(Tabla_SERIED_12_5[[#This Row],[IdEstablecimiento]],'[1]Establecimiento 2023'!$A$1:$E$183,5,FALSE),0)","v":"04302-Combarbalá"},"15010100","2022-08-22T07:36:12",2,{"$nulls":3},2]
[{"$nulls":23},4,"5",2022,"105460",{"$f":"IFERROR(VLOOKUP(Tabla_SERIED_12_5[[#This Row],[IdEstablecimiento]],'[1]Establecimiento 2023'!$A$1:$E$183,3,FALSE),0)","v":"105460-Centro Comunitario de Salud Familiar Cogotí 18"},{"$f":"IFERROR(VLOOKUP(Tabla_SERIED_12_5[[#This Row],[IdEstablecimiento]],'[1]Establecimiento 2023'!$A$1:$E$183,5,FALSE),0)","v":"04302-Combarbalá"},"15010200","2022-08-22T07:36:12",38,{"$nulls":4},2,10,26]
[{"$nulls":23},6,"5",2022,"105304",{"$f":"IFERROR(VLOOKUP(Tabla_SERIED_12_5[[#This Row],[IdEstablecimiento]],'[1]Establecimiento 2023'!$A$1:$E$183,3,FALSE),0)","v":"105304-Centro de Salud Familiar Santa Cecilia"},{"$f":"IFERROR(VLOOKUP(Tabla_SERIED_12_5[[#This Row],[IdEstablecimiento]],'[1]Establecimiento 2023'!$A$1:$E$183,5,FALSE),0)","v":"04102-Coquimbo"},"15030200","2022-07-14T13:37:00",3.6,null,null,3.6]
[{"$nulls":23},6,"5",2022,"105304",{"$f":"IFERROR(VLOOKUP(Tabla_SERIED_12_5[[#This Row],[IdEstablecimiento]],'[1]Establecimiento 2023'!$A$1:$E$183,3,FALSE),0)","v":"105304-Centro de Salud Familiar Santa Cecilia"},{"$f":"IFERROR(VLOOKUP(Tabla_SERIED_12_5[[#This Row],[IdEstablecimiento]],'[1]Establecimiento 2023'!$A$1:$E$183,5,FALSE),0)","v":"04102-Coquimbo"},"15080012","2022-07-14T13:37:00",2,null,null,2]
[{"$nulls":23},6,"5",2022,"105304",{"$f":"IFERROR(VLOOKUP(Tabla_SERIED_12_5[[#This Row],[IdEstablecimiento]],'[1]Establecimiento 2023'!$A$1:$E$183,3,FALSE),0)","v":"105304-Centro de Salud Familiar Santa Cecilia"},{"$f":"IFERROR(VLOOKUP(Tabla_SERIED_12_5[[#This Row],[IdEstablecimiento]],'[1]Establecimiento 2023'!$A$1:$E$183,5,FALSE),0)","v":"04102-Coquimbo"},"15900030","2022-07-14T13:37:00",6.4,3.2,0,0,3.2,0]
[{"$nulls":23},6,"5",2022,"105304",{"$f":"IFERROR(VLOOKUP(Tabla_SERIED_12_5[[#This Row],[IdEstablecimiento]],'[1]Establecimiento 2023'!$A$1:$E$183,3,FALSE),0)","v":"105304-Centro de Salud Familiar Santa Cecilia"},{"$f":"IFERROR(VLOOKUP(Tabla_SERIED_12_5[[#This Row],[IdEstablecimiento]],'[1]Establecimiento 2023'!$A$1:$E$183,5,FALSE),0)","v":"04102-Coquimbo"},"15900040","2022-07-14T13:37:00",4,0,4,0,0,0]
[{"$nulls":23},6,"5",2022,"105304",{"$f":"IFERROR(VLOOKUP(Tabla_SERIED_12_5[[#This Row],[IdEstablecimiento]],'[1]Establecimiento 2023'!$A$1:$E$183,3,FALSE),0)","v":"105304-Centro de Salud Familiar Santa Cecilia"},{"$f":"IFERROR(VLOOKUP(Tabla_SERIED_12_5[[#This Row],[IdEstablecimiento]],'[1]Establecimiento 2023'!$A$1:$E$183,5,FALSE),0)","v":"04102-Coquimbo"},"15050100","2022-07-14T13:37:00",435,173,262,7,13,39,61,41,97,85,64,null,9,5,14]
[{"$nulls":23},6,"5",2022,"105304",{"$f":"IFERROR(VLOOKUP(Tabla_SERIED_12_5[[#This Row],[IdEstablecimiento]],'[1]Establecimiento 2023'!$A$1:$E$183,3,FALSE),0)","v":"105304-Centro de Salud Familiar Santa Cecilia"},{"$f":"IFERROR(VLOOKUP(Tabla_SERIED_12_5[[#This Row],[IdEstablecimiento]],'[1]Establecimiento 2023'!$A$1:$E$183,5,FALSE),0)","v":"04102-Coquimbo"},"15050200","2022-07-14T13:37:00",10,8,2,0,1,4,1,0,2,0,null,2,0,0,0]
[{"$nulls":23},6,"5",2022,"105304",{"$f":"IFERROR(VLOOKUP(Tabla_SERIED_12_5[[#This Row],[IdEstablecimiento]],'[1]Establecimiento 2023'!$A$1:$E$183,3,FALSE),0)","v":"105304-Centro de Salud Familiar Santa Cecilia"},{"$f":"IFERROR(VLOOKUP(Tabla_SERIED_12_5[[#This Row],[IdEstablecimiento]],'[1]Establecimiento 2023'!$A$1:$E$183,5,FALSE),0)","v":"04102-Coquimbo"},"15050500","2022-07-14T13:37:00",4,4,null,4,0]
[{"$nulls":23},6,"5",2022,"105304",{"$f":"IFERROR(VLOOKUP(Tabla_SERIED_12_5[[#This Row],[IdEstablecimiento]],'[1]Establecimiento 2023'!$A$1:$E$183,3,FALSE),0)","v":"105304-Centro de Salud Familiar Santa Cecilia"},{"$f":"IFERROR(VLOOKUP(Tabla_SERIED_12_5[[#This Row],[IdEstablecimiento]],'[1]Establecimiento 2023'!$A$1:$E$183,5,FALSE),0)","v":"04102-Coquimbo"},"15900050","2022-07-14T13:37:00",3,1,2,1,1,null,1]
[{"$nulls":23},6,"5",2022,"105304",{"$f":"IFERROR(VLOOKUP(Tabla_SERIED_12_5[[#This Row],[IdEstablecimiento]],'[1]Establecimiento 2023'!$A$1:$E$183,3,FALSE),0)","v":"105304-Centro de Salud Familiar Santa Cecilia"},{"$f":"IFERROR(VLOOKUP(Tabla_SERIED_12_5[[#This Row],[IdEstablecimiento]],'[1]Establecimiento 2023'!$A$1:$E$183,5,FALSE),0)","v":"04102-Coquimbo"},"15020100","2022-07-14T13:37:00",6,{"$nulls":3},4,2]
[{"$nulls":23},4,"5",2022,"105321",{"$f":"IFERROR(VLOOKUP(Tabla_SERIED_12_5[[#This Row],[IdEstablecimiento]],'[1]Establecimiento 2023'!$A$1:$E$183,3,FALSE),0)","v":"105321-Centro de Salud Familiar Tongoy"},{"$f":"IFERROR(VLOOKUP(Tabla_SERIED_12_5[[#This Row],[IdEstablecimiento]],'[1]Establecimiento 2023'!$A$1:$E$183,5,FALSE),0)","v":"04102-Coquimbo"},"15050100","2022-05-18T11:53:25",145,57,88,4,6,14,15,14,34,17,34,null,6,null,1]
[{"$nulls":23},4,"5",2022,"105321",{"$f":"IFERROR(VLOOKUP(Tabla_SERIED_12_5[[#This Row],[IdEstablecimiento]],'[1]Establecimiento 2023'!$A$1:$E$183,3,FALSE),0)","v":"105321-Centro de Salud Familiar Tongoy"},{"$f":"IFERROR(VLOOKUP(Tabla_SERIED_12_5[[#This Row],[IdEstablecimiento]],'[1]Establecimiento 2023'!$A$1:$E$183,5,FALSE),0)","v":"04102-Coquimbo"},"15050200","2022-05-18T11:53:25",5,0,5,{"$nulls":3},0,1,1,null,null,3]
[{"$nulls":23},4,"5",2022,"105321",{"$f":"IFERROR(VLOOKUP(Tabla_SERIED_12_5[[#This Row],[IdEstablecimiento]],'[1]Establecimiento 2023'!$A$1:$E$183,3,FALSE),0)","v":"105321-Centro de Salud Familiar Tongoy"},{"$f":"IFERROR(VLOOKUP(Tabla_SERIED_12_5[[#This Row],[IdEstablecimiento]],'[1]Establecimiento 2023'!$A$1:$E$183,5,FALSE),0)","v":"04102-Coquimbo"},"15050500","2022-05-18T11:53:25",2,1,1,2]
[{"$nulls":23},4,"5",2022,"105321",{"$f":"IFERROR(VLOOKUP(Tabla_SERIED_12_5[[#This Row],[IdEstablecimiento]],'[1]Establecimiento 2023'!$A$1:$E$183,3,FALSE),0)","v":"105321-Centro de Salud Familiar Tongoy"},{"$f":"IFERROR(VLOOKUP(Tabla_SERIED_12_5[[#This Row],[IdEstablecimiento]],'[1]Establecimiento 2023'!$A$1:$E$183,5,FALSE),0)","v":"04102-Coquimbo"},"16090300","2022-05-18T11:53:25",128,128]
[{"$nulls":23},4,"5",2022,"105480",{"$f":"IFERROR(VLOOKUP(Tabla_SERIED_12_5[[#This Row],[IdEstablecimiento]],'[1]Establecimiento 2023'!$A$1:$E$183,3,FALSE),0)","v":"105480-Posta de Salud Rural Quilimarí"},{"$f":"IFERROR(VLOOKUP(Tabla_SERIED_12_5[[#This Row],[IdEstablecimiento]],'[1]Establecimiento 2023'!$A$1:$E$183,5,FALSE),0)","v":"04203-Los Vilos"},"15010200","2022-05-18T15:14:23",59,{"$nulls":4},16,24,19]
[{"$nulls":23},4,"5",2022,"105480",{"$f":"IFERROR(VLOOKUP(Tabla_SERIED_12_5[[#This Row],[IdEstablecimiento]],'[1]Establecimiento 2023'!$A$1:$E$183,3,FALSE),0)","v":"105480-Posta de Salud Rural Quilimarí"},{"$f":"IFERROR(VLOOKUP(Tabla_SERIED_12_5[[#This Row],[IdEstablecimiento]],'[1]Establecimiento 2023'!$A$1:$E$183,5,FALSE),0)","v":"04203-Los Vilos"},"15080008","2022-05-18T15:14:23",10,{"$nulls":7},8,null,2]
[{"$nulls":23},4,"5",2022,"105480",{"$f":"IFERROR(VLOOKUP(Tabla_SERIED_12_5[[#This Row],[IdEstablecimiento]],'[1]Establecimiento 2023'!$A$1:$E$183,3,FALSE),0)","v":"105480-Posta de Salud Rural Quilimarí"},{"$f":"IFERROR(VLOOKUP(Tabla_SERIED_12_5[[#This Row],[IdEstablecimiento]],'[1]Establecimiento 2023'!$A$1:$E$183,5,FALSE),0)","v":"04203-Los Vilos"},"15900010","2022-05-18T15:14:23",16,null,1.6,14.4]
[{"$nulls":23},4,"5",2022,"105480",{"$f":"IFERROR(VLOOKUP(Tabla_SERIED_12_5[[#This Row],[IdEstablecimiento]],'[1]Establecimiento 2023'!$A$1:$E$183,3,FALSE),0)","v":"105480-Posta de Salud Rural Quilimarí"},{"$f":"IFERROR(VLOOKUP(Tabla_SERIED_12_5[[#This Row],[IdEstablecimiento]],'[1]Establecimiento 2023'!$A$1:$E$183,5,FALSE),0)","v":"04203-Los Vilos"},"15050100","2022-05-18T15:14:23",57,22,35,null,1,4,13,8,12,10,8,null,1]
[{"$nulls":23},4,"5",2022,"105480",{"$f":"IFERROR(VLOOKUP(Tabla_SERIED_12_5[[#This Row],[IdEstablecimiento]],'[1]Establecimiento 2023'!$A$1:$E$183,3,FALSE),0)","v":"105480-Posta de Salud Rural Quilimarí"},{"$f":"IFERROR(VLOOKUP(Tabla_SERIED_12_5[[#This Row],[IdEstablecimiento]],'[1]Establecimiento 2023'!$A$1:$E$183,5,FALSE),0)","v":"04203-Los Vilos"},"16090300","2022-05-18T15:14:23",58,58]
[{"$nulls":23},4,"5",2022,"105480",{"$f":"IFERROR(VLOOKUP(Tabla_SERIED_12_5[[#This Row],[IdEstablecimiento]],'[1]Establecimiento 2023'!$A$1:$E$183,3,FALSE),0)","v":"105480-Posta de Salud Rural Quilimarí"},{"$f":"IFERROR(VLOOKUP(Tabla_SERIED_12_5[[#This Row],[IdEstablecimiento]],'[1]Establecimiento 2023'!$A$1:$E$183,5,FALSE),0)","v":"04203-Los Vilos"},"16200210","2022-05-18T15:14:23",1,1]
[{"$nulls":23},4,"5",2022,"105480",{"$f":"IFERROR(VLOOKUP(Tabla_SERIED_12_5[[#This Row],[IdEstablecimiento]],'[1]Establecimiento 2023'!$A$1:$E$183,3,FALSE),0)","v":"105480-Posta de Salud Rural Quilimarí"},{"$f":"IFERROR(VLOOKUP(Tabla_SERIED_12_5[[#This Row],[IdEstablecimiento]],'[1]Establecimiento 2023'!$A$1:$E$183,5,FALSE),0)","v":"04203-Los Vilos"},"16100300","2022-05-18T15:14:23",58,23,35]
[{"$nulls":23},4,"5",2022,"105480",{"$f":"IFERROR(VLOOKUP(Tabla_SERIED_12_5[[#This Row],[IdEstablecimiento]],'[1]Establecimiento 2023'!$A$1:$E$183,3,FALSE),0)","v":"105480-Posta de Salud Rural Quilimarí"},{"$f":"IFERROR(VLOOKUP(Tabla_SERIED_12_5[[#This Row],[IdEstablecimiento]],'[1]Establecimiento 2023'!$A$1:$E$183,5,FALSE),0)","v":"04203-Los Vilos"},"16200220","2022-05-18T15:14:23",1,1,0]
[{"$nulls":23},4,"5",2022,"105481",{"$f":"IFERROR(VLOOKUP(Tabla_SERIED_12_5[[#This Row],[IdEstablecimiento]],'[1]Establecimiento 2023'!$A$1:$E$183,3,FALSE),0)","v":"105481-Posta de Salud Rural Tilama"},{"$f":"IFERROR(VLOOKUP(Tabla_SERIED_12_5[[#This Row],[IdEstablecimiento]],'[1]Establecimiento 2023'!$A$1:$E$183,5,FALSE),0)","v":"04203-Los Vilos"},"15010200","2022-05-18T15:14:35",6,{"$nulls":5},2,4]
[{"$nulls":23},4,"5",2022,"105481",{"$f":"IFERROR(VLOOKUP(Tabla_SERIED_12_5[[#This Row],[IdEstablecimiento]],'[1]Establecimiento 2023'!$A$1:$E$183,3,FALSE),0)","v":"105481-Posta de Salud Rural Tilama"},{"$f":"IFERROR(VLOOKUP(Tabla_SERIED_12_5[[#This Row],[IdEstablecimiento]],'[1]Establecimiento 2023'!$A$1:$E$183,5,FALSE),0)","v":"04203-Los Vilos"},"15080008","2022-05-18T15:14:35",1,{"$nulls":7},1]
[{"$nulls":23},3,"5",2022,"105317",{"$f":"IFERROR(VLOOKUP(Tabla_SERIED_12_5[[#This Row],[IdEstablecimiento]],'[1]Establecimiento 2023'!$A$1:$E$183,3,FALSE),0)","v":"105317-Centro de Salud Familiar Jorge Jordán Domic"},{"$f":"IFERROR(VLOOKUP(Tabla_SERIED_12_5[[#This Row],[IdEstablecimiento]],'[1]Establecimiento 2023'!$A$1:$E$183,5,FALSE),0)","v":"04301-Ovalle"},"15080009","2022-04-19T08:10:01",12,{"$nulls":8},9,3]
[{"$nulls":23},3,"5",2022,"105317",{"$f":"IFERROR(VLOOKUP(Tabla_SERIED_12_5[[#This Row],[IdEstablecimiento]],'[1]Establecimiento 2023'!$A$1:$E$183,3,FALSE),0)","v":"105317-Centro de Salud Familiar Jorge Jordán Domic"},{"$f":"IFERROR(VLOOKUP(Tabla_SERIED_12_5[[#This Row],[IdEstablecimiento]],'[1]Establecimiento 2023'!$A$1:$E$183,5,FALSE),0)","v":"04301-Ovalle"},"15900020","2022-04-19T08:10:01",12.8,null,6.4,6.4]
[{"$nulls":23},3,"5",2022,"105317",{"$f":"IFERROR(VLOOKUP(Tabla_SERIED_12_5[[#This Row],[IdEstablecimiento]],'[1]Establecimiento 2023'!$A$1:$E$183,3,FALSE),0)","v":"105317-Centro de Salud Familiar Jorge Jordán Domic"},{"$f":"IFERROR(VLOOKUP(Tabla_SERIED_12_5[[#This Row],[IdEstablecimiento]],'[1]Establecimiento 2023'!$A$1:$E$183,5,FALSE),0)","v":"04301-Ovalle"},"15030100","2022-04-19T08:10:01",7.2,null,4,3.2]
[{"$nulls":23},3,"5",2022,"105317",{"$f":"IFERROR(VLOOKUP(Tabla_SERIED_12_5[[#This Row],[IdEstablecimiento]],'[1]Establecimiento 2023'!$A$1:$E$183,3,FALSE),0)","v":"105317-Centro de Salud Familiar Jorge Jordán Domic"},{"$f":"IFERROR(VLOOKUP(Tabla_SERIED_12_5[[#This Row],[IdEstablecimiento]],'[1]Establecimiento 2023'!$A$1:$E$183,5,FALSE),0)","v":"04301-Ovalle"},"15901500","2022-04-19T08:10:01",9.6,3.2,3.2,3.2]
[{"$nulls":23},3,"5",2022,"105317",{"$f":"IFERROR(VLOOKUP(Tabla_SERIED_12_5[[#This Row],[IdEstablecimiento]],'[1]Establecimiento 2023'!$A$1:$E$183,3,FALSE),0)","v":"105317-Centro de Salud Familiar Jorge Jordán Domic"},{"$f":"IFERROR(VLOOKUP(Tabla_SERIED_12_5[[#This Row],[IdEstablecimiento]],'[1]Establecimiento 2023'!$A$1:$E$183,5,FALSE),0)","v":"04301-Ovalle"},"15900030","2022-04-19T08:10:01",30.4,0.8,null,15.2,3.2,11.2]
[{"$nulls":23},1,"5",2022,"105470",{"$f":"IFERROR(VLOOKUP(Tabla_SERIED_12_5[[#This Row],[IdEstablecimiento]],'[1]Establecimiento 2023'!$A$1:$E$183,3,FALSE),0)","v":"105470-Posta de Salud Rural Huanta"},{"$f":"IFERROR(VLOOKUP(Tabla_SERIED_12_5[[#This Row],[IdEstablecimiento]],'[1]Establecimiento 2023'!$A$1:$E$183,5,FALSE),0)","v":"04106-Vicuña"},"16090300","2022-02-17T03:53:06",15,15]
[{"$nulls":23},1,"5",2022,"105470",{"$f":"IFERROR(VLOOKUP(Tabla_SERIED_12_5[[#This Row],[IdEstablecimiento]],'[1]Establecimiento 2023'!$A$1:$E$183,3,FALSE),0)","v":"105470-Posta de Salud Rural Huanta"},{"$f":"IFERROR(VLOOKUP(Tabla_SERIED_12_5[[#This Row],[IdEstablecimiento]],'[1]Establecimiento 2023'!$A$1:$E$183,5,FALSE),0)","v":"04106-Vicuña"},"16100300","2022-02-17T03:53:06",15,7,8]
[{"$nulls":23},1,"5",2022,"105471",{"$f":"IFERROR(VLOOKUP(Tabla_SERIED_12_5[[#This Row],[IdEstablecimiento]],'[1]Establecimiento 2023'!$A$1:$E$183,3,FALSE),0)","v":"105471-Posta de Salud Rural Peralillo Vicuña"},{"$f":"IFERROR(VLOOKUP(Tabla_SERIED_12_5[[#This Row],[IdEstablecimiento]],'[1]Establecimiento 2023'!$A$1:$E$183,5,FALSE),0)","v":"04106-Vicuña"},"15010100","2022-02-17T03:53:24",8,null,null,2,4,null,2]
[{"$nulls":23},1,"5",2022,"105471",{"$f":"IFERROR(VLOOKUP(Tabla_SERIED_12_5[[#This Row],[IdEstablecimiento]],'[1]Establecimiento 2023'!$A$1:$E$183,3,FALSE),0)","v":"105471-Posta de Salud Rural Peralillo Vicuña"},{"$f":"IFERROR(VLOOKUP(Tabla_SERIED_12_5[[#This Row],[IdEstablecimiento]],'[1]Establecimiento 2023'!$A$1:$E$183,5,FALSE),0)","v":"04106-Vicuña"},"15010200","2022-02-17T03:53:24",24,{"$nulls":4},10,12,2]
[{"$nulls":23},1,"5",2022,"105471",{"$f":"IFERROR(VLOOKUP(Tabla_SERIED_12_5[[#This Row],[IdEstablecimiento]],'[1]Establecimiento 2023'!$A$1:$E$183,3,FALSE),0)","v":"105471-Posta de Salud Rural Peralillo Vicuña"},{"$f":"IFERROR(VLOOKUP(Tabla_SERIED_12_5[[#This Row],[IdEstablecimiento]],'[1]Establecimiento 2023'!$A$1:$E$183,5,FALSE),0)","v":"04106-Vicuña"},"15080008","2022-02-17T03:53:24",7,{"$nulls":7},5,null,2]
[{"$nulls":23},1,"5",2022,"105471",{"$f":"IFERROR(VLOOKUP(Tabla_SERIED_12_5[[#This Row],[IdEstablecimiento]],'[1]Establecimiento 2023'!$A$1:$E$183,3,FALSE),0)","v":"105471-Posta de Salud Rural Peralillo Vicuña"},{"$f":"IFERROR(VLOOKUP(Tabla_SERIED_12_5[[#This Row],[IdEstablecimiento]],'[1]Establecimiento 2023'!$A$1:$E$183,5,FALSE),0)","v":"04106-Vicuña"},"15900010","2022-02-17T03:53:24",3.2,null,null,3.2]
[{"$nulls":23},2,"5",2022,"105475",{"$f":"IFERROR(VLOOKUP(Tabla_SERIED_12_5[[#This Row],[IdEstablecimiento]],'[1]Establecimiento 2023'!$A$1:$E$183,3,FALSE),0)","v":"105475-Posta de Salud Rural Horcón (Paiguano)"},{"$f":"IFERROR(VLOOKUP(Tabla_SERIED_12_5[[#This Row],[IdEstablecimiento]],'[1]Establecimiento 2023'!$A$1:$E$183,5,FALSE),0)","v":"04105-Paiguano"},"16100300","2022-03-17T09:52:01",46,23,23,0,6]
[{"$nulls":23},2,"5",2022,"105475",{"$f":"IFERROR(VLOOKUP(Tabla_SERIED_12_5[[#This Row],[IdEstablecimiento]],'[1]Establecimiento 2023'!$A$1:$E$183,3,FALSE),0)","v":"105475-Posta de Salud Rural Horcón (Paiguano)"},{"$f":"IFERROR(VLOOKUP(Tabla_SERIED_12_5[[#This Row],[IdEstablecimiento]],'[1]Establecimiento 2023'!$A$1:$E$183,5,FALSE),0)","v":"04105-Paiguano"},"16200220","2022-03-17T09:52:01",1,1]
[{"$nulls":23},2,"5",2022,"105475",{"$f":"IFERROR(VLOOKUP(Tabla_SERIED_12_5[[#This Row],[IdEstablecimiento]],'[1]Establecimiento 2023'!$A$1:$E$183,3,FALSE),0)","v":"105475-Posta de Salud Rural Horcón (Paiguano)"},{"$f":"IFERROR(VLOOKUP(Tabla_SERIED_12_5[[#This Row],[IdEstablecimiento]],'[1]Establecimiento 2023'!$A$1:$E$183,5,FALSE),0)","v":"04105-Paiguano"},"16100600","2022-03-17T09:52:01",1,null,1]
[{"$nulls":23},1,"5",2022,"200499",{"$f":"IFERROR(VLOOKUP(Tabla_SERIED_12_5[[#This Row],[IdEstablecimiento]],'[1]Establecimiento 2023'!$A$1:$E$183,3,FALSE),0)","v":"200499-Centro de Salud Familiar Rural Pan de Azúcar"},{"$f":"IFERROR(VLOOKUP(Tabla_SERIED_12_5[[#This Row],[IdEstablecimiento]],'[1]Establecimiento 2023'!$A$1:$E$183,5,FALSE),0)","v":"04102-Coquimbo"},"15900010","2022-02-17T04:31:18",39.2,4,14.4,20.8]
[{"$nulls":23},1,"5",2022,"200499",{"$f":"IFERROR(VLOOKUP(Tabla_SERIED_12_5[[#This Row],[IdEstablecimiento]],'[1]Establecimiento 2023'!$A$1:$E$183,3,FALSE),0)","v":"200499-Centro de Salud Familiar Rural Pan de Azúcar"},{"$f":"IFERROR(VLOOKUP(Tabla_SERIED_12_5[[#This Row],[IdEstablecimiento]],'[1]Establecimiento 2023'!$A$1:$E$183,5,FALSE),0)","v":"04102-Coquimbo"},"15010300","2022-02-17T04:31:18",3,null,null,3]
[{"$nulls":23},2,"5",2022,"105427",{"$f":"IFERROR(VLOOKUP(Tabla_SERIED_12_5[[#This Row],[IdEstablecimiento]],'[1]Establecimiento 2023'!$A$1:$E$183,3,FALSE),0)","v":"105427-Posta de Salud Rural Hacienda Valdivia"},{"$f":"IFERROR(VLOOKUP(Tabla_SERIED_12_5[[#This Row],[IdEstablecimiento]],'[1]Establecimiento 2023'!$A$1:$E$183,5,FALSE),0)","v":"04303-Monte Patria"},"16200100","2022-05-18T15:46:26",9,5,4,null,3]
[{"$nulls":23},2,"5",2022,"105427",{"$f":"IFERROR(VLOOKUP(Tabla_SERIED_12_5[[#This Row],[IdEstablecimiento]],'[1]Establecimiento 2023'!$A$1:$E$183,3,FALSE),0)","v":"105427-Posta de Salud Rural Hacienda Valdivia"},{"$f":"IFERROR(VLOOKUP(Tabla_SERIED_12_5[[#This Row],[IdEstablecimiento]],'[1]Establecimiento 2023'!$A$1:$E$183,5,FALSE),0)","v":"04303-Monte Patria"},"16200230","2022-05-18T15:46:26",1,null,1]
[{"$nulls":23},1,"5",2022,"105471",{"$f":"IFERROR(VLOOKUP(Tabla_SERIED_12_5[[#This Row],[IdEstablecimiento]],'[1]Establecimiento 2023'!$A$1:$E$183,3,FALSE),0)","v":"105471-Posta de Salud Rural Peralillo Vicuña"},{"$f":"IFERROR(VLOOKUP(Tabla_SERIED_12_5[[#This Row],[IdEstablecimiento]],'[1]Establecimiento 2023'!$A$1:$E$183,5,FALSE),0)","v":"04106-Vicuña"},"15050100","2022-02-17T03:53:24",22,10,12,null,null,1,2,5,7,1,5,null,1]
[{"$nulls":23},1,"5",2022,"105471",{"$f":"IFERROR(VLOOKUP(Tabla_SERIED_12_5[[#This Row],[IdEstablecimiento]],'[1]Establecimiento 2023'!$A$1:$E$183,3,FALSE),0)","v":"105471-Posta de Salud Rural Peralillo Vicuña"},{"$f":"IFERROR(VLOOKUP(Tabla_SERIED_12_5[[#This Row],[IdEstablecimiento]],'[1]Establecimiento 2023'!$A$1:$E$183,5,FALSE),0)","v":"04106-Vicuña"},"16090300","2022-02-17T03:53:24",55,55]
[{"$nulls":23},1,"5",2022,"105471",{"$f":"IFERROR(VLOOKUP(Tabla_SERIED_12_5[[#This Row],[IdEstablecimiento]],'[1]Establecimiento 2023'!$A$1:$E$183,3,FALSE),0)","v":"105471-Posta de Salud Rural Peralillo Vicuña"},{"$f":"IFERROR(VLOOKUP(Tabla_SERIED_12_5[[#This Row],[IdEstablecimiento]],'[1]Establecimiento 2023'!$A$1:$E$183,5,FALSE),0)","v":"04106-Vicuña"},"16200210","2022-02-17T03:53:24",2,2]
[{"$nulls":23},1,"5",2022,"105317",{"$f":"IFERROR(VLOOKUP(Tabla_SERIED_12_5[[#This Row],[IdEstablecimiento]],'[1]Establecimiento 2023'!$A$1:$E$183,3,FALSE),0)","v":"105317-Centro de Salud Familiar Jorge Jordán Domic"},{"$f":"IFERROR(VLOOKUP(Tabla_SERIED_12_5[[#This Row],[IdEstablecimiento]],'[1]Establecimiento 2023'!$A$1:$E$183,5,FALSE),0)","v":"04301-Ovalle"},"16200230","2022-02-16T10:49:06",2,0,2,0,0]
[{"$nulls":23},1,"5",2022,"105318",{"$f":"IFERROR(VLOOKUP(Tabla_SERIED_12_5[[#This Row],[IdEstablecimiento]],'[1]Establecimiento 2023'!$A$1:$E$183,3,FALSE),0)","v":"105318-Centro de Salud Familiar El Palqui"},{"$f":"IFERROR(VLOOKUP(Tabla_SERIED_12_5[[#This Row],[IdEstablecimiento]],'[1]Establecimiento 2023'!$A$1:$E$183,5,FALSE),0)","v":"04303-Monte Patria"},"15010100","2022-02-16T10:49:52",66,null,null,22,44]
[{"$nulls":23},1,"5",2022,"105318",{"$f":"IFERROR(VLOOKUP(Tabla_SERIED_12_5[[#This Row],[IdEstablecimiento]],'[1]Establecimiento 2023'!$A$1:$E$183,3,FALSE),0)","v":"105318-Centro de Salud Familiar El Palqui"},{"$f":"IFERROR(VLOOKUP(Tabla_SERIED_12_5[[#This Row],[IdEstablecimiento]],'[1]Establecimiento 2023'!$A$1:$E$183,5,FALSE),0)","v":"04303-Monte Patria"},"15010200","2022-02-16T10:49:52",331,{"$nulls":4},76,122,133]
[{"$nulls":23},3,"5",2022,"105464",{"$f":"IFERROR(VLOOKUP(Tabla_SERIED_12_5[[#This Row],[IdEstablecimiento]],'[1]Establecimiento 2023'!$A$1:$E$183,3,FALSE),0)","v":"105464-Posta de Salud Rural La Ligua"},{"$f":"IFERROR(VLOOKUP(Tabla_SERIED_12_5[[#This Row],[IdEstablecimiento]],'[1]Establecimiento 2023'!$A$1:$E$183,5,FALSE),0)","v":"04302-Combarbalá"},"16200220","2022-04-19T10:00:47",6,3,3]
[{"$nulls":23},3,"5",2022,"105464",{"$f":"IFERROR(VLOOKUP(Tabla_SERIED_12_5[[#This Row],[IdEstablecimiento]],'[1]Establecimiento 2023'!$A$1:$E$183,3,FALSE),0)","v":"105464-Posta de Salud Rural La Ligua"},{"$f":"IFERROR(VLOOKUP(Tabla_SERIED_12_5[[#This Row],[IdEstablecimiento]],'[1]Establecimiento 2023'!$A$1:$E$183,5,FALSE),0)","v":"04302-Combarbalá"},"16200100","2022-04-19T10:00:47",4,2,2]
[{"$nulls":23},3,"5",2022,"105465",{"$f":"IFERROR(VLOOKUP(Tabla_SERIED_12_5[[#This Row],[IdEstablecimiento]],'[1]Establecimiento 2023'!$A$1:$E$183,3,FALSE),0)","v":"105465-Posta de Salud Rural Ramadilla"},{"$f":"IFERROR(VLOOKUP(Tabla_SERIED_12_5[[#This Row],[IdEstablecimiento]],'[1]Establecimiento 2023'!$A$1:$E$183,5,FALSE),0)","v":"04302-Combarbalá"},"15010100","2022-04-19T10:01:03",4,{"$nulls":3},4]
[{"$nulls":23},3,"5",2022,"105465",{"$f":"IFERROR(VLOOKUP(Tabla_SERIED_12_5[[#This Row],[IdEstablecimiento]],'[1]Establecimiento 2023'!$A$1:$E$183,3,FALSE),0)","v":"105465-Posta de Salud Rural Ramadilla"},{"$f":"IFERROR(VLOOKUP(Tabla_SERIED_12_5[[#This Row],[IdEstablecimiento]],'[1]Establecimiento 2023'!$A$1:$E$183,5,FALSE),0)","v":"04302-Combarbalá"},"15010200","2022-04-19T10:01:03",24,{"$nulls":4},2,14,8]
[{"$nulls":23},3,"5",2022,"105465",{"$f":"IFERROR(VLOOKUP(Tabla_SERIED_12_5[[#This Row],[IdEstablecimiento]],'[1]Establecimiento 2023'!$A$1:$E$183,3,FALSE),0)","v":"105465-Posta de Salud Rural Ramadilla"},{"$f":"IFERROR(VLOOKUP(Tabla_SERIED_12_5[[#This Row],[IdEstablecimiento]],'[1]Establecimiento 2023'!$A$1:$E$183,5,FALSE),0)","v":"04302-Combarbalá"},"15080008","2022-04-19T10:01:03",4,{"$nulls":9},2,null,2]
[{"$nulls":23},3,"5",2022,"105465",{"$f":"IFERROR(VLOOKUP(Tabla_SERIED_12_5[[#This Row],[IdEstablecimiento]],'[1]Establecimiento 2023'!$A$1:$E$183,3,FALSE),0)","v":"105465-Posta de Salud Rural Ramadilla"},{"$f":"IFERROR(VLOOKUP(Tabla_SERIED_12_5[[#This Row],[IdEstablecimiento]],'[1]Establecimiento 2023'!$A$1:$E$183,5,FALSE),0)","v":"04302-Combarbalá"},"15050100","2022-04-19T10:01:03",17,9,8,{"$nulls":3},2,1,7,4,null,null,1,null,2]
[{"$nulls":23},3,"5",2022,"105465",{"$f":"IFERROR(VLOOKUP(Tabla_SERIED_12_5[[#This Row],[IdEstablecimiento]],'[1]Establecimiento 2023'!$A$1:$E$183,3,FALSE),0)","v":"105465-Posta de Salud Rural Ramadilla"},{"$f":"IFERROR(VLOOKUP(Tabla_SERIED_12_5[[#This Row],[IdEstablecimiento]],'[1]Establecimiento 2023'!$A$1:$E$183,5,FALSE),0)","v":"04302-Combarbalá"},"16090300","2022-04-19T10:01:03",102,102]
[{"$nulls":23},3,"5",2022,"105465",{"$f":"IFERROR(VLOOKUP(Tabla_SERIED_12_5[[#This Row],[IdEstablecimiento]],'[1]Establecimiento 2023'!$A$1:$E$183,3,FALSE),0)","v":"105465-Posta de Salud Rural Ramadilla"},{"$f":"IFERROR(VLOOKUP(Tabla_SERIED_12_5[[#This Row],[IdEstablecimiento]],'[1]Establecimiento 2023'!$A$1:$E$183,5,FALSE),0)","v":"04302-Combarbalá"},"16200210","2022-04-19T10:01:03",13,13]
[{"$nulls":23},2,"5",2022,"105322",{"$f":"IFERROR(VLOOKUP(Tabla_SERIED_12_5[[#This Row],[IdEstablecimiento]],'[1]Establecimiento 2023'!$A$1:$E$183,3,FALSE),0)","v":"105322-Centro de Salud Familiar Marcos Macuada"},{"$f":"IFERROR(VLOOKUP(Tabla_SERIED_12_5[[#This Row],[IdEstablecimiento]],'[1]Establecimiento 2023'!$A$1:$E$183,5,FALSE),0)","v":"04301-Ovalle"},"15050100","2022-03-17T09:31:26",406,158,248,3,11,25,59,39,105,86,52,null,22,2,2]
[{"$nulls":23},2,"5",2022,"105493",{"$f":"IFERROR(VLOOKUP(Tabla_SERIED_12_5[[#This Row],[IdEstablecimiento]],'[1]Establecimiento 2023'!$A$1:$E$183,3,FALSE),0)","v":"105493-Posta de Salud Rural Mincha Sur"},{"$f":"IFERROR(VLOOKUP(Tabla_SERIED_12_5[[#This Row],[IdEstablecimiento]],'[1]Establecimiento 2023'!$A$1:$E$183,5,FALSE),0)","v":"04202-Canela"},"16100300","2022-03-17T09:57:39",28,12,16,0,0]
[{"$nulls":23},2,"5",2022,"105493",{"$f":"IFERROR(VLOOKUP(Tabla_SERIED_12_5[[#This Row],[IdEstablecimiento]],'[1]Establecimiento 2023'!$A$1:$E$183,3,FALSE),0)","v":"105493-Posta de Salud Rural Mincha Sur"},{"$f":"IFERROR(VLOOKUP(Tabla_SERIED_12_5[[#This Row],[IdEstablecimiento]],'[1]Establecimiento 2023'!$A$1:$E$183,5,FALSE),0)","v":"04202-Canela"},"16200220","2022-03-17T09:57:39",1,0,1,0,0]
[{"$nulls":23},2,"5",2022,"105501",{"$f":"IFERROR(VLOOKUP(Tabla_SERIED_12_5[[#This Row],[IdEstablecimiento]],'[1]Establecimiento 2023'!$A$1:$E$183,3,FALSE),0)","v":"105501-Posta de Salud Rural Arboleda Grande"},{"$f":"IFERROR(VLOOKUP(Tabla_SERIED_12_5[[#This Row],[IdEstablecimiento]],'[1]Establecimiento 2023'!$A$1:$E$183,5,FALSE),0)","v":"04204-Salamanca"},"16200220","2022-03-17T10:00:56",2,null,2]
[{"$nulls":23},2,"5",2022,"105503",{"$f":"IFERROR(VLOOKUP(Tabla_SERIED_12_5[[#This Row],[IdEstablecimiento]],'[1]Establecimiento 2023'!$A$1:$E$183,3,FALSE),0)","v":"105503-Posta de Salud Rural Tabaqueros"},{"$f":"IFERROR(VLOOKUP(Tabla_SERIED_12_5[[#This Row],[IdEstablecimiento]],'[1]Establecimiento 2023'!$A$1:$E$183,5,FALSE),0)","v":"04305-Río Hurtado"},"15010200","2022-03-17T10:01:17",14,{"$nulls":5},4,10]
[{"$nulls":23},2,"5",2022,"200258",{"$f":"IFERROR(VLOOKUP(Tabla_SERIED_12_5[[#This Row],[IdEstablecimiento]],'[1]Establecimiento 2023'!$A$1:$E$183,3,FALSE),0)","v":"200258-Centro Comunitario de Salud Familiar Los Copihues"},{"$f":"IFERROR(VLOOKUP(Tabla_SERIED_12_5[[#This Row],[IdEstablecimiento]],'[1]Establecimiento 2023'!$A$1:$E$183,5,FALSE),0)","v":"04301-Ovalle"},"15020200","2022-03-17T10:06:13",2,{"$nulls":4},0,0,2]
[{"$nulls":23},2,"5",2022,"200258",{"$f":"IFERROR(VLOOKUP(Tabla_SERIED_12_5[[#This Row],[IdEstablecimiento]],'[1]Establecimiento 2023'!$A$1:$E$183,3,FALSE),0)","v":"200258-Centro Comunitario de Salud Familiar Los Copihues"},{"$f":"IFERROR(VLOOKUP(Tabla_SERIED_12_5[[#This Row],[IdEstablecimiento]],'[1]Establecimiento 2023'!$A$1:$E$183,5,FALSE),0)","v":"04301-Ovalle"},"15060100","2022-03-17T10:06:13",1,1,{"$nulls":7},1]
[{"$nulls":23},2,"5",2022,"200258",{"$f":"IFERROR(VLOOKUP(Tabla_SERIED_12_5[[#This Row],[IdEstablecimiento]],'[1]Establecimiento 2023'!$A$1:$E$183,3,FALSE),0)","v":"200258-Centro Comunitario de Salud Familiar Los Copihues"},{"$f":"IFERROR(VLOOKUP(Tabla_SERIED_12_5[[#This Row],[IdEstablecimiento]],'[1]Establecimiento 2023'!$A$1:$E$183,5,FALSE),0)","v":"04301-Ovalle"},"16090300","2022-03-17T10:06:13",92,92]
[{"$nulls":23},2,"5",2022,"200258",{"$f":"IFERROR(VLOOKUP(Tabla_SERIED_12_5[[#This Row],[IdEstablecimiento]],'[1]Establecimiento 2023'!$A$1:$E$183,3,FALSE),0)","v":"200258-Centro Comunitario de Salud Familiar Los Copihues"},{"$f":"IFERROR(VLOOKUP(Tabla_SERIED_12_5[[#This Row],[IdEstablecimiento]],'[1]Establecimiento 2023'!$A$1:$E$183,5,FALSE),0)","v":"04301-Ovalle"},"16200210","2022-03-17T10:06:13",7,7]
[{"$nulls":23},3,"5",2022,"105323",{"$f":"IFERROR(VLOOKUP(Tabla_SERIED_12_5[[#This Row],[IdEstablecimiento]],'[1]Establecimiento 2023'!$A$1:$E$183,3,FALSE),0)","v":"105323-Centro de Salud Familiar Dr. Sergio Aguilar Delgado"},{"$f":"IFERROR(VLOOKUP(Tabla_SERIED_12_5[[#This Row],[IdEstablecimiento]],'[1]Establecimiento 2023'!$A$1:$E$183,5,FALSE),0)","v":"04102-Coquimbo"},"16100100","2022-04-19T08:11:27",2,1,1]
[{"$nulls":23},3,"5",2022,"105323",{"$f":"IFERROR(VLOOKUP(Tabla_SERIED_12_5[[#This Row],[IdEstablecimiento]],'[1]Establecimiento 2023'!$A$1:$E$183,3,FALSE),0)","v":"105323-Centro de Salud Familiar Dr. Sergio Aguilar Delgado"},{"$f":"IFERROR(VLOOKUP(Tabla_SERIED_12_5[[#This Row],[IdEstablecimiento]],'[1]Establecimiento 2023'!$A$1:$E$183,5,FALSE),0)","v":"04102-Coquimbo"},"16200100","2022-04-19T08:11:27",63,28,35,1,28]
[{"$nulls":23},3,"5",2022,"105323",{"$f":"IFERROR(VLOOKUP(Tabla_SERIED_12_5[[#This Row],[IdEstablecimiento]],'[1]Establecimiento 2023'!$A$1:$E$183,3,FALSE),0)","v":"105323-Centro de Salud Familiar Dr. Sergio Aguilar Delgado"},{"$f":"IFERROR(VLOOKUP(Tabla_SERIED_12_5[[#This Row],[IdEstablecimiento]],'[1]Establecimiento 2023'!$A$1:$E$183,5,FALSE),0)","v":"04102-Coquimbo"},"16200230","2022-04-19T08:11:27",1,null,1]
[{"$nulls":23},2,"5",2022,"105324",{"$f":"IFERROR(VLOOKUP(Tabla_SERIED_12_5[[#This Row],[IdEstablecimiento]],'[1]Establecimiento 2023'!$A$1:$E$183,3,FALSE),0)","v":"105324-Centro de Salud Familiar Sotaquí"},{"$f":"IFERROR(VLOOKUP(Tabla_SERIED_12_5[[#This Row],[IdEstablecimiento]],'[1]Establecimiento 2023'!$A$1:$E$183,5,FALSE),0)","v":"04301-Ovalle"},"16090300","2022-03-17T09:31:53",253,253]
[{"$nulls":23},2,"5",2022,"105324",{"$f":"IFERROR(VLOOKUP(Tabla_SERIED_12_5[[#This Row],[IdEstablecimiento]],'[1]Establecimiento 2023'!$A$1:$E$183,3,FALSE),0)","v":"105324-Centro de Salud Familiar Sotaquí"},{"$f":"IFERROR(VLOOKUP(Tabla_SERIED_12_5[[#This Row],[IdEstablecimiento]],'[1]Establecimiento 2023'!$A$1:$E$183,5,FALSE),0)","v":"04301-Ovalle"},"16200210","2022-03-17T09:31:53",1,1]
[{"$nulls":23},2,"5",2022,"105324",{"$f":"IFERROR(VLOOKUP(Tabla_SERIED_12_5[[#This Row],[IdEstablecimiento]],'[1]Establecimiento 2023'!$A$1:$E$183,3,FALSE),0)","v":"105324-Centro de Salud Familiar Sotaquí"},{"$f":"IFERROR(VLOOKUP(Tabla_SERIED_12_5[[#This Row],[IdEstablecimiento]],'[1]Establecimiento 2023'!$A$1:$E$183,5,FALSE),0)","v":"04301-Ovalle"},"16100300","2022-03-17T09:31:53",253,118,135,2,47]
[{"$nulls":23},2,"5",2022,"105324",{"$f":"IFERROR(VLOOKUP(Tabla_SERIED_12_5[[#This Row],[IdEstablecimiento]],'[1]Establecimiento 2023'!$A$1:$E$183,3,FALSE),0)","v":"105324-Centro de Salud Familiar Sotaquí"},{"$f":"IFERROR(VLOOKUP(Tabla_SERIED_12_5[[#This Row],[IdEstablecimiento]],'[1]Establecimiento 2023'!$A$1:$E$183,5,FALSE),0)","v":"04301-Ovalle"},"16200220","2022-03-17T09:31:53",1,0,1]
[{"$nulls":23},2,"5",2022,"105324",{"$f":"IFERROR(VLOOKUP(Tabla_SERIED_12_5[[#This Row],[IdEstablecimiento]],'[1]Establecimiento 2023'!$A$1:$E$183,3,FALSE),0)","v":"105324-Centro de Salud Familiar Sotaquí"},{"$f":"IFERROR(VLOOKUP(Tabla_SERIED_12_5[[#This Row],[IdEstablecimiento]],'[1]Establecimiento 2023'!$A$1:$E$183,5,FALSE),0)","v":"04301-Ovalle"},"16200100","2022-03-17T09:31:53",3,3]
[{"$nulls":23},2,"5",2022,"105325",{"$f":"IFERROR(VLOOKUP(Tabla_SERIED_12_5[[#This Row],[IdEstablecimiento]],'[1]Establecimiento 2023'!$A$1:$E$183,3,FALSE),0)","v":"105325-Centro de Salud Familiar Juan Pablo II (La Serena)"},{"$f":"IFERROR(VLOOKUP(Tabla_SERIED_12_5[[#This Row],[IdEstablecimiento]],'[1]Establecimiento 2023'!$A$1:$E$183,5,FALSE),0)","v":"04101-La Serena"},"15010100","2022-03-17T09:32:05",116,{"$nulls":3},116,0]
[{"$nulls":23},6,"5",2022,"105463",{"$f":"IFERROR(VLOOKUP(Tabla_SERIED_12_5[[#This Row],[IdEstablecimiento]],'[1]Establecimiento 2023'!$A$1:$E$183,3,FALSE),0)","v":"105463-Posta de Salud Rural Quilitapia"},{"$f":"IFERROR(VLOOKUP(Tabla_SERIED_12_5[[#This Row],[IdEstablecimiento]],'[1]Establecimiento 2023'!$A$1:$E$183,5,FALSE),0)","v":"04302-Combarbalá"},"15900010","2022-07-14T14:23:44",1.6,null,null,1.6]
[{"$nulls":23},6,"5",2022,"105463",{"$f":"IFERROR(VLOOKUP(Tabla_SERIED_12_5[[#This Row],[IdEstablecimiento]],'[1]Establecimiento 2023'!$A$1:$E$183,3,FALSE),0)","v":"105463-Posta de Salud Rural Quilitapia"},{"$f":"IFERROR(VLOOKUP(Tabla_SERIED_12_5[[#This Row],[IdEstablecimiento]],'[1]Establecimiento 2023'!$A$1:$E$183,5,FALSE),0)","v":"04302-Combarbalá"},"15080009","2022-07-14T14:23:44",3,{"$nulls":8},3]
[{"$nulls":23},6,"5",2022,"105463",{"$f":"IFERROR(VLOOKUP(Tabla_SERIED_12_5[[#This Row],[IdEstablecimiento]],'[1]Establecimiento 2023'!$A$1:$E$183,3,FALSE),0)","v":"105463-Posta de Salud Rural Quilitapia"},{"$f":"IFERROR(VLOOKUP(Tabla_SERIED_12_5[[#This Row],[IdEstablecimiento]],'[1]Establecimiento 2023'!$A$1:$E$183,5,FALSE),0)","v":"04302-Combarbalá"},"15050100","2022-07-14T14:23:44",16,8,8,null,null,1,null,3,5,6,1]
[{"$nulls":23},6,"5",2022,"105463",{"$f":"IFERROR(VLOOKUP(Tabla_SERIED_12_5[[#This Row],[IdEstablecimiento]],'[1]Establecimiento 2023'!$A$1:$E$183,3,FALSE),0)","v":"105463-Posta de Salud Rural Quilitapia"},{"$f":"IFERROR(VLOOKUP(Tabla_SERIED_12_5[[#This Row],[IdEstablecimiento]],'[1]Establecimiento 2023'!$A$1:$E$183,5,FALSE),0)","v":"04302-Combarbalá"},"15050200","2022-07-14T14:23:44",1,null,1,{"$nulls":8},1]
[{"$nulls":23},6,"5",2022,"105463",{"$f":"IFERROR(VLOOKUP(Tabla_SERIED_12_5[[#This Row],[IdEstablecimiento]],'[1]Establecimiento 2023'!$A$1:$E$183,3,FALSE),0)","v":"105463-Posta de Salud Rural Quilitapia"},{"$f":"IFERROR(VLOOKUP(Tabla_SERIED_12_5[[#This Row],[IdEstablecimiento]],'[1]Establecimiento 2023'!$A$1:$E$183,5,FALSE),0)","v":"04302-Combarbalá"},"16090300","2022-07-14T14:23:44",89,108]
[{"$nulls":23},6,"5",2022,"105463",{"$f":"IFERROR(VLOOKUP(Tabla_SERIED_12_5[[#This Row],[IdEstablecimiento]],'[1]Establecimiento 2023'!$A$1:$E$183,3,FALSE),0)","v":"105463-Posta de Salud Rural Quilitapia"},{"$f":"IFERROR(VLOOKUP(Tabla_SERIED_12_5[[#This Row],[IdEstablecimiento]],'[1]Establecimiento 2023'!$A$1:$E$183,5,FALSE),0)","v":"04302-Combarbalá"},"16200210","2022-07-14T14:23:44",12,13]
[{"$nulls":23},6,"5",2022,"105463",{"$f":"IFERROR(VLOOKUP(Tabla_SERIED_12_5[[#This Row],[IdEstablecimiento]],'[1]Establecimiento 2023'!$A$1:$E$183,3,FALSE),0)","v":"105463-Posta de Salud Rural Quilitapia"},{"$f":"IFERROR(VLOOKUP(Tabla_SERIED_12_5[[#This Row],[IdEstablecimiento]],'[1]Establecimiento 2023'!$A$1:$E$183,5,FALSE),0)","v":"04302-Combarbalá"},"16100300","2022-07-14T14:23:44",94,40,54,null,31]
[{"$nulls":23},6,"5",2022,"105463",{"$f":"IFERROR(VLOOKUP(Tabla_SERIED_12_5[[#This Row],[IdEstablecimiento]],'[1]Establecimiento 2023'!$A$1:$E$183,3,FALSE),0)","v":"105463-Posta de Salud Rural Quilitapia"},{"$f":"IFERROR(VLOOKUP(Tabla_SERIED_12_5[[#This Row],[IdEstablecimiento]],'[1]Establecimiento 2023'!$A$1:$E$183,5,FALSE),0)","v":"04302-Combarbalá"},"16200220","2022-07-14T14:23:44",27,4,23]
[{"$nulls":23},1,"5",2022,"200402",{"$f":"IFERROR(VLOOKUP(Tabla_SERIED_12_5[[#This Row],[IdEstablecimiento]],'[1]Establecimiento 2023'!$A$1:$E$183,3,FALSE),0)","v":"200402-Centro Comunitario de Salud Familiar Arcos de Pinamar"},{"$f":"IFERROR(VLOOKUP(Tabla_SERIED_12_5[[#This Row],[IdEstablecimiento]],'[1]Establecimiento 2023'!$A$1:$E$183,5,FALSE),0)","v":"04101-La Serena"},"15050100","2022-02-17T04:30:36",68,31,37,2,1,8,8,10,12,9,10,null,7,1]
[{"$nulls":23},1,"5",2022,"200402",{"$f":"IFERROR(VLOOKUP(Tabla_SERIED_12_5[[#This Row],[IdEstablecimiento]],'[1]Establecimiento 2023'!$A$1:$E$183,3,FALSE),0)","v":"200402-Centro Comunitario de Salud Familiar Arcos de Pinamar"},{"$f":"IFERROR(VLOOKUP(Tabla_SERIED_12_5[[#This Row],[IdEstablecimiento]],'[1]Establecimiento 2023'!$A$1:$E$183,5,FALSE),0)","v":"04101-La Serena"},"15050200","2022-02-17T04:30:36",3,2,1,{"$nulls":3},2,null,1]
[{"$nulls":23},1,"5",2022,"200402",{"$f":"IFERROR(VLOOKUP(Tabla_SERIED_12_5[[#This Row],[IdEstablecimiento]],'[1]Establecimiento 2023'!$A$1:$E$183,3,FALSE),0)","v":"200402-Centro Comunitario de Salud Familiar Arcos de Pinamar"},{"$f":"IFERROR(VLOOKUP(Tabla_SERIED_12_5[[#This Row],[IdEstablecimiento]],'[1]Establecimiento 2023'!$A$1:$E$183,5,FALSE),0)","v":"04101-La Serena"},"15900050","2022-02-17T04:30:36",2,1,1,null,null,1,1]
[{"$nulls":23},1,"5",2022,"200402",{"$f":"IFERROR(VLOOKUP(Tabla_SERIED_12_5[[#This Row],[IdEstablecimiento]],'[1]Establecimiento 2023'!$A$1:$E$183,3,FALSE),0)","v":"200402-Centro Comunitario de Salud Familiar Arcos de Pinamar"},{"$f":"IFERROR(VLOOKUP(Tabla_SERIED_12_5[[#This Row],[IdEstablecimiento]],'[1]Establecimiento 2023'!$A$1:$E$183,5,FALSE),0)","v":"04101-La Serena"},"15020100","2022-02-17T04:30:36",8,null,null,8]
[{"$nulls":23},1,"5",2022,"200402",{"$f":"IFERROR(VLOOKUP(Tabla_SERIED_12_5[[#This Row],[IdEstablecimiento]],'[1]Establecimiento 2023'!$A$1:$E$183,3,FALSE),0)","v":"200402-Centro Comunitario de Salud Familiar Arcos de Pinamar"},{"$f":"IFERROR(VLOOKUP(Tabla_SERIED_12_5[[#This Row],[IdEstablecimiento]],'[1]Establecimiento 2023'!$A$1:$E$183,5,FALSE),0)","v":"04101-La Serena"},"15020200","2022-02-17T04:30:36",2,{"$nulls":5},2]
[{"$nulls":23},1,"5",2022,"200402",{"$f":"IFERROR(VLOOKUP(Tabla_SERIED_12_5[[#This Row],[IdEstablecimiento]],'[1]Establecimiento 2023'!$A$1:$E$183,3,FALSE),0)","v":"200402-Centro Comunitario de Salud Familiar Arcos de Pinamar"},{"$f":"IFERROR(VLOOKUP(Tabla_SERIED_12_5[[#This Row],[IdEstablecimiento]],'[1]Establecimiento 2023'!$A$1:$E$183,5,FALSE),0)","v":"04101-La Serena"},"15060100","2022-02-17T04:30:36",5,{"$nulls":4},4,null,null,1]
[{"$nulls":23},3,"5",2022,"105447",{"$f":"IFERROR(VLOOKUP(Tabla_SERIED_12_5[[#This Row],[IdEstablecimiento]],'[1]Establecimiento 2023'!$A$1:$E$183,3,FALSE),0)","v":"105447-Posta de Salud Rural Peralillo Illapel"},{"$f":"IFERROR(VLOOKUP(Tabla_SERIED_12_5[[#This Row],[IdEstablecimiento]],'[1]Establecimiento 2023'!$A$1:$E$183,5,FALSE),0)","v":"04201-Illapel"},"15050100","2022-04-19T09:46:42",27,12,15,null,null,1,3,3,8,9,2,{"$nulls":3},1]
[{"$nulls":23},3,"5",2022,"105447",{"$f":"IFERROR(VLOOKUP(Tabla_SERIED_12_5[[#This Row],[IdEstablecimiento]],'[1]Establecimiento 2023'!$A$1:$E$183,3,FALSE),0)","v":"105447-Posta de Salud Rural Peralillo Illapel"},{"$f":"IFERROR(VLOOKUP(Tabla_SERIED_12_5[[#This Row],[IdEstablecimiento]],'[1]Establecimiento 2023'!$A$1:$E$183,5,FALSE),0)","v":"04201-Illapel"},"16090300","2022-04-19T09:46:42",43,43]
[{"$nulls":23},3,"5",2022,"105447",{"$f":"IFERROR(VLOOKUP(Tabla_SERIED_12_5[[#This Row],[IdEstablecimiento]],'[1]Establecimiento 2023'!$A$1:$E$183,3,FALSE),0)","v":"105447-Posta de Salud Rural Peralillo Illapel"},{"$f":"IFERROR(VLOOKUP(Tabla_SERIED_12_5[[#This Row],[IdEstablecimiento]],'[1]Establecimiento 2023'!$A$1:$E$183,5,FALSE),0)","v":"04201-Illapel"},"16100300","2022-04-19T09:46:42",43,17,26]
[{"$nulls":23},1,"5",2022,"105434",{"$f":"IFERROR(VLOOKUP(Tabla_SERIED_12_5[[#This Row],[IdEstablecimiento]],'[1]Establecimiento 2023'!$A$1:$E$183,3,FALSE),0)","v":"105434-Posta de Salud Rural San Marcos (Combarbalá)"},{"$f":"IFERROR(VLOOKUP(Tabla_SERIED_12_5[[#This Row],[IdEstablecimiento]],'[1]Establecimiento 2023'!$A$1:$E$183,5,FALSE),0)","v":"04302-Combarbalá"},"15080008","2022-02-16T11:01:23",3,{"$nulls":7},3]
[{"$nulls":23},1,"5",2022,"105434",{"$f":"IFERROR(VLOOKUP(Tabla_SERIED_12_5[[#This Row],[IdEstablecimiento]],'[1]Establecimiento 2023'!$A$1:$E$183,3,FALSE),0)","v":"105434-Posta de Salud Rural San Marcos (Combarbalá)"},{"$f":"IFERROR(VLOOKUP(Tabla_SERIED_12_5[[#This Row],[IdEstablecimiento]],'[1]Establecimiento 2023'!$A$1:$E$183,5,FALSE),0)","v":"04302-Combarbalá"},"15050100","2022-02-16T11:01:23",7,3,4,{"$nulls":3},1,1,1,1,3]
[{"$nulls":23},1,"5",2022,"105434",{"$f":"IFERROR(VLOOKUP(Tabla_SERIED_12_5[[#This Row],[IdEstablecimiento]],'[1]Establecimiento 2023'!$A$1:$E$183,3,FALSE),0)","v":"105434-Posta de Salud Rural San Marcos (Combarbalá)"},{"$f":"IFERROR(VLOOKUP(Tabla_SERIED_12_5[[#This Row],[IdEstablecimiento]],'[1]Establecimiento 2023'!$A$1:$E$183,5,FALSE),0)","v":"04302-Combarbalá"},"16090300","2022-02-16T11:01:23",36,36]
[{"$nulls":23},1,"5",2022,"105434",{"$f":"IFERROR(VLOOKUP(Tabla_SERIED_12_5[[#This Row],[IdEstablecimiento]],'[1]Establecimiento 2023'!$A$1:$E$183,3,FALSE),0)","v":"105434-Posta de Salud Rural San Marcos (Combarbalá)"},{"$f":"IFERROR(VLOOKUP(Tabla_SERIED_12_5[[#This Row],[IdEstablecimiento]],'[1]Establecimiento 2023'!$A$1:$E$183,5,FALSE),0)","v":"04302-Combarbalá"},"16200210","2022-02-16T11:01:23",5,5]
[{"$nulls":23},1,"5",2022,"105434",{"$f":"IFERROR(VLOOKUP(Tabla_SERIED_12_5[[#This Row],[IdEstablecimiento]],'[1]Establecimiento 2023'!$A$1:$E$183,3,FALSE),0)","v":"105434-Posta de Salud Rural San Marcos (Combarbalá)"},{"$f":"IFERROR(VLOOKUP(Tabla_SERIED_12_5[[#This Row],[IdEstablecimiento]],'[1]Establecimiento 2023'!$A$1:$E$183,5,FALSE),0)","v":"04302-Combarbalá"},"16100300","2022-02-16T11:01:23",36,17,19,null,23]
[{"$nulls":23},1,"5",2022,"105434",{"$f":"IFERROR(VLOOKUP(Tabla_SERIED_12_5[[#This Row],[IdEstablecimiento]],'[1]Establecimiento 2023'!$A$1:$E$183,3,FALSE),0)","v":"105434-Posta de Salud Rural San Marcos (Combarbalá)"},{"$f":"IFERROR(VLOOKUP(Tabla_SERIED_12_5[[#This Row],[IdEstablecimiento]],'[1]Establecimiento 2023'!$A$1:$E$183,5,FALSE),0)","v":"04302-Combarbalá"},"16200220","2022-02-16T11:01:23",5,1,4,null,5]
[{"$nulls":23},3,"5",2022,"105317",{"$f":"IFERROR(VLOOKUP(Tabla_SERIED_12_5[[#This Row],[IdEstablecimiento]],'[1]Establecimiento 2023'!$A$1:$E$183,3,FALSE),0)","v":"105317-Centro de Salud Familiar Jorge Jordán Domic"},{"$f":"IFERROR(VLOOKUP(Tabla_SERIED_12_5[[#This Row],[IdEstablecimiento]],'[1]Establecimiento 2023'!$A$1:$E$183,5,FALSE),0)","v":"04301-Ovalle"},"15900040","2022-04-19T08:10:01",1.2,null,1.2]
[{"$nulls":23},3,"5",2022,"105317",{"$f":"IFERROR(VLOOKUP(Tabla_SERIED_12_5[[#This Row],[IdEstablecimiento]],'[1]Establecimiento 2023'!$A$1:$E$183,3,FALSE),0)","v":"105317-Centro de Salud Familiar Jorge Jordán Domic"},{"$f":"IFERROR(VLOOKUP(Tabla_SERIED_12_5[[#This Row],[IdEstablecimiento]],'[1]Establecimiento 2023'!$A$1:$E$183,5,FALSE),0)","v":"04301-Ovalle"},"15050100","2022-04-19T08:10:01",561,188,373,3,9,31,56,57,122,116,96,null,41,9,21]
[{"$nulls":23},3,"5",2022,"105317",{"$f":"IFERROR(VLOOKUP(Tabla_SERIED_12_5[[#This Row],[IdEstablecimiento]],'[1]Establecimiento 2023'!$A$1:$E$183,3,FALSE),0)","v":"105317-Centro de Salud Familiar Jorge Jordán Domic"},{"$f":"IFERROR(VLOOKUP(Tabla_SERIED_12_5[[#This Row],[IdEstablecimiento]],'[1]Establecimiento 2023'!$A$1:$E$183,5,FALSE),0)","v":"04301-Ovalle"},"15050200","2022-04-19T08:10:01",18,11,7,null,2,2,null,2,4,4,null,3,1]
[{"$nulls":23},3,"5",2022,"105317",{"$f":"IFERROR(VLOOKUP(Tabla_SERIED_12_5[[#This Row],[IdEstablecimiento]],'[1]Establecimiento 2023'!$A$1:$E$183,3,FALSE),0)","v":"105317-Centro de Salud Familiar Jorge Jordán Domic"},{"$f":"IFERROR(VLOOKUP(Tabla_SERIED_12_5[[#This Row],[IdEstablecimiento]],'[1]Establecimiento 2023'!$A$1:$E$183,5,FALSE),0)","v":"04301-Ovalle"},"15050500","2022-04-19T08:10:01",6,3,3,2,2,2]
[{"$nulls":23},6,"5",2022,"105304",{"$f":"IFERROR(VLOOKUP(Tabla_SERIED_12_5[[#This Row],[IdEstablecimiento]],'[1]Establecimiento 2023'!$A$1:$E$183,3,FALSE),0)","v":"105304-Centro de Salud Familiar Santa Cecilia"},{"$f":"IFERROR(VLOOKUP(Tabla_SERIED_12_5[[#This Row],[IdEstablecimiento]],'[1]Establecimiento 2023'!$A$1:$E$183,5,FALSE),0)","v":"04102-Coquimbo"},"15020200","2022-07-14T13:37:00",8,{"$nulls":4},6,2,0]
[{"$nulls":23},6,"5",2022,"105304",{"$f":"IFERROR(VLOOKUP(Tabla_SERIED_12_5[[#This Row],[IdEstablecimiento]],'[1]Establecimiento 2023'!$A$1:$E$183,3,FALSE),0)","v":"105304-Centro de Salud Familiar Santa Cecilia"},{"$f":"IFERROR(VLOOKUP(Tabla_SERIED_12_5[[#This Row],[IdEstablecimiento]],'[1]Establecimiento 2023'!$A$1:$E$183,5,FALSE),0)","v":"04102-Coquimbo"},"15901200","2022-07-14T13:37:00",12.8,null,4.8,null,3.2,4.8]
[{"$nulls":23},6,"5",2022,"105304",{"$f":"IFERROR(VLOOKUP(Tabla_SERIED_12_5[[#This Row],[IdEstablecimiento]],'[1]Establecimiento 2023'!$A$1:$E$183,3,FALSE),0)","v":"105304-Centro de Salud Familiar Santa Cecilia"},{"$f":"IFERROR(VLOOKUP(Tabla_SERIED_12_5[[#This Row],[IdEstablecimiento]],'[1]Establecimiento 2023'!$A$1:$E$183,5,FALSE),0)","v":"04102-Coquimbo"},"15901300","2022-07-14T13:37:00",3.2,null,null,3.2]
[{"$nulls":23},6,"5",2022,"105304",{"$f":"IFERROR(VLOOKUP(Tabla_SERIED_12_5[[#This Row],[IdEstablecimiento]],'[1]Establecimiento 2023'!$A$1:$E$183,3,FALSE),0)","v":"105304-Centro de Salud Familiar Santa Cecilia"},{"$f":"IFERROR(VLOOKUP(Tabla_SERIED_12_5[[#This Row],[IdEstablecimiento]],'[1]Establecimiento 2023'!$A$1:$E$183,5,FALSE),0)","v":"04102-Coquimbo"},"15060100","2022-07-14T13:37:00",7,4,3,0,0,0,2,1,3,1]
[{"$nulls":23},6,"5",2022,"105304",{"$f":"IFERROR(VLOOKUP(Tabla_SERIED_12_5[[#This Row],[IdEstablecimiento]],'[1]Establecimiento 2023'!$A$1:$E$183,3,FALSE),0)","v":"105304-Centro de Salud Familiar Santa Cecilia"},{"$f":"IFERROR(VLOOKUP(Tabla_SERIED_12_5[[#This Row],[IdEstablecimiento]],'[1]Establecimiento 2023'!$A$1:$E$183,5,FALSE),0)","v":"04102-Coquimbo"},"15901400","2022-07-14T13:37:00",4,3,1,null,1,1,1,1]
[{"$nulls":23},6,"5",2022,"105304",{"$f":"IFERROR(VLOOKUP(Tabla_SERIED_12_5[[#This Row],[IdEstablecimiento]],'[1]Establecimiento 2023'!$A$1:$E$183,3,FALSE),0)","v":"105304-Centro de Salud Familiar Santa Cecilia"},{"$f":"IFERROR(VLOOKUP(Tabla_SERIED_12_5[[#This Row],[IdEstablecimiento]],'[1]Establecimiento 2023'!$A$1:$E$183,5,FALSE),0)","v":"04102-Coquimbo"},"16090300","2022-07-14T13:37:00",439,439]
[{"$nulls":23},6,"5",2022,"105304",{"$f":"IFERROR(VLOOKUP(Tabla_SERIED_12_5[[#This Row],[IdEstablecimiento]],'[1]Establecimiento 2023'!$A$1:$E$183,3,FALSE),0)","v":"105304-Centro de Salud Familiar Santa Cecilia"},{"$f":"IFERROR(VLOOKUP(Tabla_SERIED_12_5[[#This Row],[IdEstablecimiento]],'[1]Establecimiento 2023'!$A$1:$E$183,5,FALSE),0)","v":"04102-Coquimbo"},"16200210","2022-07-14T13:37:00",46,46]
[{"$nulls":23},6,"5",2022,"105304",{"$f":"IFERROR(VLOOKUP(Tabla_SERIED_12_5[[#This Row],[IdEstablecimiento]],'[1]Establecimiento 2023'!$A$1:$E$183,3,FALSE),0)","v":"105304-Centro de Salud Familiar Santa Cecilia"},{"$f":"IFERROR(VLOOKUP(Tabla_SERIED_12_5[[#This Row],[IdEstablecimiento]],'[1]Establecimiento 2023'!$A$1:$E$183,5,FALSE),0)","v":"04102-Coquimbo"},"16100300","2022-07-14T13:37:00",439,173,266,6,108]
[{"$nulls":23},4,"5",2022,"105436",{"$f":"IFERROR(VLOOKUP(Tabla_SERIED_12_5[[#This Row],[IdEstablecimiento]],'[1]Establecimiento 2023'!$A$1:$E$183,3,FALSE),0)","v":"105436-Posta de Salud Rural El Maitén"},{"$f":"IFERROR(VLOOKUP(Tabla_SERIED_12_5[[#This Row],[IdEstablecimiento]],'[1]Establecimiento 2023'!$A$1:$E$183,5,FALSE),0)","v":"04303-Monte Patria"},"16100300","2022-05-18T14:57:01",7,2,5,0,0]
[{"$nulls":23},4,"5",2022,"105436",{"$f":"IFERROR(VLOOKUP(Tabla_SERIED_12_5[[#This Row],[IdEstablecimiento]],'[1]Establecimiento 2023'!$A$1:$E$183,3,FALSE),0)","v":"105436-Posta de Salud Rural El Maitén"},{"$f":"IFERROR(VLOOKUP(Tabla_SERIED_12_5[[#This Row],[IdEstablecimiento]],'[1]Establecimiento 2023'!$A$1:$E$183,5,FALSE),0)","v":"04303-Monte Patria"},"16200220","2022-05-18T14:57:01",1,0,1,0,0]
[{"$nulls":23},4,"5",2022,"105437",{"$f":"IFERROR(VLOOKUP(Tabla_SERIED_12_5[[#This Row],[IdEstablecimiento]],'[1]Establecimiento 2023'!$A$1:$E$183,3,FALSE),0)","v":"105437-Posta de Salud Rural Chalinga"},{"$f":"IFERROR(VLOOKUP(Tabla_SERIED_12_5[[#This Row],[IdEstablecimiento]],'[1]Establecimiento 2023'!$A$1:$E$183,5,FALSE),0)","v":"04301-Ovalle"},"15010100","2022-05-18T14:57:14",4,{"$nulls":3},4]
[{"$nulls":23},4,"5",2022,"105437",{"$f":"IFERROR(VLOOKUP(Tabla_SERIED_12_5[[#This Row],[IdEstablecimiento]],'[1]Establecimiento 2023'!$A$1:$E$183,3,FALSE),0)","v":"105437-Posta de Salud Rural Chalinga"},{"$f":"IFERROR(VLOOKUP(Tabla_SERIED_12_5[[#This Row],[IdEstablecimiento]],'[1]Establecimiento 2023'!$A$1:$E$183,5,FALSE),0)","v":"04301-Ovalle"},"15010200","2022-05-18T14:57:14",14,{"$nulls":5},10,4]
[{"$nulls":23},4,"5",2022,"105437",{"$f":"IFERROR(VLOOKUP(Tabla_SERIED_12_5[[#This Row],[IdEstablecimiento]],'[1]Establecimiento 2023'!$A$1:$E$183,3,FALSE),0)","v":"105437-Posta de Salud Rural Chalinga"},{"$f":"IFERROR(VLOOKUP(Tabla_SERIED_12_5[[#This Row],[IdEstablecimiento]],'[1]Establecimiento 2023'!$A$1:$E$183,5,FALSE),0)","v":"04301-Ovalle"},"15080008","2022-05-18T14:57:14",3,{"$nulls":9},2,null,1]
[{"$nulls":23},7,"5",2022,"105105",{"$f":"IFERROR(VLOOKUP(Tabla_SERIED_12_5[[#This Row],[IdEstablecimiento]],'[1]Establecimiento 2023'!$A$1:$E$183,3,FALSE),0)","v":"105105-Hospital San Juan de Dios (Combarbalá)"},{"$f":"IFERROR(VLOOKUP(Tabla_SERIED_12_5[[#This Row],[IdEstablecimiento]],'[1]Establecimiento 2023'!$A$1:$E$183,5,FALSE),0)","v":"105105-Hospital Combarbalá"},"15900010","2022-08-19T11:37:58",33.7,4.5,15.8,13.4]
[{"$nulls":23},7,"5",2022,"105105",{"$f":"IFERROR(VLOOKUP(Tabla_SERIED_12_5[[#This Row],[IdEstablecimiento]],'[1]Establecimiento 2023'!$A$1:$E$183,3,FALSE),0)","v":"105105-Hospital San Juan de Dios (Combarbalá)"},{"$f":"IFERROR(VLOOKUP(Tabla_SERIED_12_5[[#This Row],[IdEstablecimiento]],'[1]Establecimiento 2023'!$A$1:$E$183,5,FALSE),0)","v":"105105-Hospital Combarbalá"},"15010400","2022-08-19T11:37:58",14,{"$nulls":4},2,10,2]
[{"$nulls":23},7,"5",2022,"105105",{"$f":"IFERROR(VLOOKUP(Tabla_SERIED_12_5[[#This Row],[IdEstablecimiento]],'[1]Establecimiento 2023'!$A$1:$E$183,3,FALSE),0)","v":"105105-Hospital San Juan de Dios (Combarbalá)"},{"$f":"IFERROR(VLOOKUP(Tabla_SERIED_12_5[[#This Row],[IdEstablecimiento]],'[1]Establecimiento 2023'!$A$1:$E$183,5,FALSE),0)","v":"105105-Hospital Combarbalá"},"15010500","2022-08-19T11:37:58",14,{"$nulls":4},2,10,2]
[{"$nulls":23},7,"5",2022,"105105",{"$f":"IFERROR(VLOOKUP(Tabla_SERIED_12_5[[#This Row],[IdEstablecimiento]],'[1]Establecimiento 2023'!$A$1:$E$183,3,FALSE),0)","v":"105105-Hospital San Juan de Dios (Combarbalá)"},{"$f":"IFERROR(VLOOKUP(Tabla_SERIED_12_5[[#This Row],[IdEstablecimiento]],'[1]Establecimiento 2023'!$A$1:$E$183,5,FALSE),0)","v":"105105-Hospital Combarbalá"},"15080009","2022-08-19T11:37:58",3,{"$nulls":8},3]
[{"$nulls":23},7,"5",2022,"105105",{"$f":"IFERROR(VLOOKUP(Tabla_SERIED_12_5[[#This Row],[IdEstablecimiento]],'[1]Establecimiento 2023'!$A$1:$E$183,3,FALSE),0)","v":"105105-Hospital San Juan de Dios (Combarbalá)"},{"$f":"IFERROR(VLOOKUP(Tabla_SERIED_12_5[[#This Row],[IdEstablecimiento]],'[1]Establecimiento 2023'!$A$1:$E$183,5,FALSE),0)","v":"105105-Hospital Combarbalá"},"15050100","2022-08-19T11:37:58",200,85,115,2,5,6,15,22,47,54,20,null,15,6,8]
[{"$nulls":23},7,"5",2022,"105105",{"$f":"IFERROR(VLOOKUP(Tabla_SERIED_12_5[[#This Row],[IdEstablecimiento]],'[1]Establecimiento 2023'!$A$1:$E$183,3,FALSE),0)","v":"105105-Hospital San Juan de Dios (Combarbalá)"},{"$f":"IFERROR(VLOOKUP(Tabla_SERIED_12_5[[#This Row],[IdEstablecimiento]],'[1]Establecimiento 2023'!$A$1:$E$183,5,FALSE),0)","v":"105105-Hospital Combarbalá"},"15050200","2022-08-19T11:37:58",8,5,3,{"$nulls":4},1,5,1,null,1]
[{"$nulls":23},7,"5",2022,"105105",{"$f":"IFERROR(VLOOKUP(Tabla_SERIED_12_5[[#This Row],[IdEstablecimiento]],'[1]Establecimiento 2023'!$A$1:$E$183,3,FALSE),0)","v":"105105-Hospital San Juan de Dios (Combarbalá)"},{"$f":"IFERROR(VLOOKUP(Tabla_SERIED_12_5[[#This Row],[IdEstablecimiento]],'[1]Establecimiento 2023'!$A$1:$E$183,5,FALSE),0)","v":"105105-Hospital Combarbalá"},"16090300","2022-08-19T11:37:58",369,369]
[{"$nulls":23},7,"5",2022,"105105",{"$f":"IFERROR(VLOOKUP(Tabla_SERIED_12_5[[#This Row],[IdEstablecimiento]],'[1]Establecimiento 2023'!$A$1:$E$183,3,FALSE),0)","v":"105105-Hospital San Juan de Dios (Combarbalá)"},{"$f":"IFERROR(VLOOKUP(Tabla_SERIED_12_5[[#This Row],[IdEstablecimiento]],'[1]Establecimiento 2023'!$A$1:$E$183,5,FALSE),0)","v":"105105-Hospital Combarbalá"},"16200210","2022-08-19T11:37:58",25,25]
[{"$nulls":23},7,"5",2022,"105105",{"$f":"IFERROR(VLOOKUP(Tabla_SERIED_12_5[[#This Row],[IdEstablecimiento]],'[1]Establecimiento 2023'!$A$1:$E$183,3,FALSE),0)","v":"105105-Hospital San Juan de Dios (Combarbalá)"},{"$f":"IFERROR(VLOOKUP(Tabla_SERIED_12_5[[#This Row],[IdEstablecimiento]],'[1]Establecimiento 2023'!$A$1:$E$183,5,FALSE),0)","v":"105105-Hospital Combarbalá"},"16100300","2022-08-19T11:37:58",369,146,223,8,60]
[{"$nulls":23},7,"5",2022,"105105",{"$f":"IFERROR(VLOOKUP(Tabla_SERIED_12_5[[#This Row],[IdEstablecimiento]],'[1]Establecimiento 2023'!$A$1:$E$183,3,FALSE),0)","v":"105105-Hospital San Juan de Dios (Combarbalá)"},{"$f":"IFERROR(VLOOKUP(Tabla_SERIED_12_5[[#This Row],[IdEstablecimiento]],'[1]Establecimiento 2023'!$A$1:$E$183,5,FALSE),0)","v":"105105-Hospital Combarbalá"},"16200220","2022-08-19T11:37:58",25,7,18,0,5]
[{"$nulls":23},1,"5",2022,"105405",{"$f":"IFERROR(VLOOKUP(Tabla_SERIED_12_5[[#This Row],[IdEstablecimiento]],'[1]Establecimiento 2023'!$A$1:$E$183,3,FALSE),0)","v":"105405-Posta de Salud Rural Guanaqueros"},{"$f":"IFERROR(VLOOKUP(Tabla_SERIED_12_5[[#This Row],[IdEstablecimiento]],'[1]Establecimiento 2023'!$A$1:$E$183,5,FALSE),0)","v":"04102-Coquimbo"},"15010100","2022-02-16T10:53:45",16,null,null,2,14]
[{"$nulls":23},1,"5",2022,"105405",{"$f":"IFERROR(VLOOKUP(Tabla_SERIED_12_5[[#This Row],[IdEstablecimiento]],'[1]Establecimiento 2023'!$A$1:$E$183,3,FALSE),0)","v":"105405-Posta de Salud Rural Guanaqueros"},{"$f":"IFERROR(VLOOKUP(Tabla_SERIED_12_5[[#This Row],[IdEstablecimiento]],'[1]Establecimiento 2023'!$A$1:$E$183,5,FALSE),0)","v":"04102-Coquimbo"},"15010200","2022-02-16T10:53:45",54,{"$nulls":4},10,22,22]
[{"$nulls":23},1,"5",2022,"105405",{"$f":"IFERROR(VLOOKUP(Tabla_SERIED_12_5[[#This Row],[IdEstablecimiento]],'[1]Establecimiento 2023'!$A$1:$E$183,3,FALSE),0)","v":"105405-Posta de Salud Rural Guanaqueros"},{"$f":"IFERROR(VLOOKUP(Tabla_SERIED_12_5[[#This Row],[IdEstablecimiento]],'[1]Establecimiento 2023'!$A$1:$E$183,5,FALSE),0)","v":"04102-Coquimbo"},"15080008","2022-02-16T10:53:45",6,{"$nulls":7},6]
[{"$nulls":23},1,"5",2022,"105405",{"$f":"IFERROR(VLOOKUP(Tabla_SERIED_12_5[[#This Row],[IdEstablecimiento]],'[1]Establecimiento 2023'!$A$1:$E$183,3,FALSE),0)","v":"105405-Posta de Salud Rural Guanaqueros"},{"$f":"IFERROR(VLOOKUP(Tabla_SERIED_12_5[[#This Row],[IdEstablecimiento]],'[1]Establecimiento 2023'!$A$1:$E$183,5,FALSE),0)","v":"04102-Coquimbo"},"15900010","2022-02-16T10:53:45",23.2,3.2,11.2,8.8]
[{"$nulls":23},1,"5",2022,"105409",{"$f":"IFERROR(VLOOKUP(Tabla_SERIED_12_5[[#This Row],[IdEstablecimiento]],'[1]Establecimiento 2023'!$A$1:$E$183,3,FALSE),0)","v":"105409-Posta de Salud Rural El Chañar"},{"$f":"IFERROR(VLOOKUP(Tabla_SERIED_12_5[[#This Row],[IdEstablecimiento]],'[1]Establecimiento 2023'!$A$1:$E$183,5,FALSE),0)","v":"04305-Río Hurtado"},"15020200","2022-02-16T10:54:29",2,{"$nulls":6},2]
[{"$nulls":23},3,"5",2022,"105459",{"$f":"IFERROR(VLOOKUP(Tabla_SERIED_12_5[[#This Row],[IdEstablecimiento]],'[1]Establecimiento 2023'!$A$1:$E$183,3,FALSE),0)","v":"105459-Posta de Salud Rural Barrancas"},{"$f":"IFERROR(VLOOKUP(Tabla_SERIED_12_5[[#This Row],[IdEstablecimiento]],'[1]Establecimiento 2023'!$A$1:$E$183,5,FALSE),0)","v":"04302-Combarbalá"},"16200220","2022-04-19T09:59:19",2,1,1]
[{"$nulls":23},2,"5",2022,"105300",{"$f":"IFERROR(VLOOKUP(Tabla_SERIED_12_5[[#This Row],[IdEstablecimiento]],'[1]Establecimiento 2023'!$A$1:$E$183,3,FALSE),0)","v":"105300-Centro de Salud Familiar Cardenal Caro"},{"$f":"IFERROR(VLOOKUP(Tabla_SERIED_12_5[[#This Row],[IdEstablecimiento]],'[1]Establecimiento 2023'!$A$1:$E$183,5,FALSE),0)","v":"04101-La Serena"},"15010400","2022-03-17T09:26:33",6,{"$nulls":5},6]
[{"$nulls":23},2,"5",2022,"105300",{"$f":"IFERROR(VLOOKUP(Tabla_SERIED_12_5[[#This Row],[IdEstablecimiento]],'[1]Establecimiento 2023'!$A$1:$E$183,3,FALSE),0)","v":"105300-Centro de Salud Familiar Cardenal Caro"},{"$f":"IFERROR(VLOOKUP(Tabla_SERIED_12_5[[#This Row],[IdEstablecimiento]],'[1]Establecimiento 2023'!$A$1:$E$183,5,FALSE),0)","v":"04101-La Serena"},"15010500","2022-03-17T09:26:33",6,{"$nulls":5},6]
[{"$nulls":23},6,"5",2022,"105499",{"$f":"IFERROR(VLOOKUP(Tabla_SERIED_12_5[[#This Row],[IdEstablecimiento]],'[1]Establecimiento 2023'!$A$1:$E$183,3,FALSE),0)","v":"105499-Posta de Salud Rural Lambert"},{"$f":"IFERROR(VLOOKUP(Tabla_SERIED_12_5[[#This Row],[IdEstablecimiento]],'[1]Establecimiento 2023'!$A$1:$E$183,5,FALSE),0)","v":"04101-La Serena"},"15900010","2022-07-14T14:35:16",21.6,7.2,null,14.4]
[{"$nulls":23},6,"5",2022,"105499",{"$f":"IFERROR(VLOOKUP(Tabla_SERIED_12_5[[#This Row],[IdEstablecimiento]],'[1]Establecimiento 2023'!$A$1:$E$183,3,FALSE),0)","v":"105499-Posta de Salud Rural Lambert"},{"$f":"IFERROR(VLOOKUP(Tabla_SERIED_12_5[[#This Row],[IdEstablecimiento]],'[1]Establecimiento 2023'!$A$1:$E$183,5,FALSE),0)","v":"04101-La Serena"},"15030100","2022-07-14T14:35:16",3.2,null,null,3.2]
[{"$nulls":23},6,"5",2022,"105499",{"$f":"IFERROR(VLOOKUP(Tabla_SERIED_12_5[[#This Row],[IdEstablecimiento]],'[1]Establecimiento 2023'!$A$1:$E$183,3,FALSE),0)","v":"105499-Posta de Salud Rural Lambert"},{"$f":"IFERROR(VLOOKUP(Tabla_SERIED_12_5[[#This Row],[IdEstablecimiento]],'[1]Establecimiento 2023'!$A$1:$E$183,5,FALSE),0)","v":"04101-La Serena"},"15050100","2022-07-14T14:35:16",22,12,10,2,null,4,2,1,5,5,3]
[{"$nulls":23},6,"5",2022,"105499",{"$f":"IFERROR(VLOOKUP(Tabla_SERIED_12_5[[#This Row],[IdEstablecimiento]],'[1]Establecimiento 2023'!$A$1:$E$183,3,FALSE),0)","v":"105499-Posta de Salud Rural Lambert"},{"$f":"IFERROR(VLOOKUP(Tabla_SERIED_12_5[[#This Row],[IdEstablecimiento]],'[1]Establecimiento 2023'!$A$1:$E$183,5,FALSE),0)","v":"04101-La Serena"},"15050500","2022-07-14T14:35:16",1,1,0,1]
[{"$nulls":23},6,"5",2022,"105499",{"$f":"IFERROR(VLOOKUP(Tabla_SERIED_12_5[[#This Row],[IdEstablecimiento]],'[1]Establecimiento 2023'!$A$1:$E$183,3,FALSE),0)","v":"105499-Posta de Salud Rural Lambert"},{"$f":"IFERROR(VLOOKUP(Tabla_SERIED_12_5[[#This Row],[IdEstablecimiento]],'[1]Establecimiento 2023'!$A$1:$E$183,5,FALSE),0)","v":"04101-La Serena"},"16090300","2022-07-14T14:35:16",8,8]
[{"$nulls":23},6,"5",2022,"105499",{"$f":"IFERROR(VLOOKUP(Tabla_SERIED_12_5[[#This Row],[IdEstablecimiento]],'[1]Establecimiento 2023'!$A$1:$E$183,3,FALSE),0)","v":"105499-Posta de Salud Rural Lambert"},{"$f":"IFERROR(VLOOKUP(Tabla_SERIED_12_5[[#This Row],[IdEstablecimiento]],'[1]Establecimiento 2023'!$A$1:$E$183,5,FALSE),0)","v":"04101-La Serena"},"16090500","2022-07-14T14:35:16",1,1]
[{"$nulls":23},6,"5",2022,"105499",{"$f":"IFERROR(VLOOKUP(Tabla_SERIED_12_5[[#This Row],[IdEstablecimiento]],'[1]Establecimiento 2023'!$A$1:$E$183,3,FALSE),0)","v":"105499-Posta de Salud Rural Lambert"},{"$f":"IFERROR(VLOOKUP(Tabla_SERIED_12_5[[#This Row],[IdEstablecimiento]],'[1]Establecimiento 2023'!$A$1:$E$183,5,FALSE),0)","v":"04101-La Serena"},"16100300","2022-07-14T14:35:16",8,4,4,0,30]
[{"$nulls":23},6,"5",2022,"105499",{"$f":"IFERROR(VLOOKUP(Tabla_SERIED_12_5[[#This Row],[IdEstablecimiento]],'[1]Establecimiento 2023'!$A$1:$E$183,3,FALSE),0)","v":"105499-Posta de Salud Rural Lambert"},{"$f":"IFERROR(VLOOKUP(Tabla_SERIED_12_5[[#This Row],[IdEstablecimiento]],'[1]Establecimiento 2023'!$A$1:$E$183,5,FALSE),0)","v":"04101-La Serena"},"16100600","2022-07-14T14:35:16",1,1,0,0,0]
[{"$nulls":23},6,"5",2022,"105500",{"$f":"IFERROR(VLOOKUP(Tabla_SERIED_12_5[[#This Row],[IdEstablecimiento]],'[1]Establecimiento 2023'!$A$1:$E$183,3,FALSE),0)","v":"105500-Posta de Salud Rural Caleta Hornos"},{"$f":"IFERROR(VLOOKUP(Tabla_SERIED_12_5[[#This Row],[IdEstablecimiento]],'[1]Establecimiento 2023'!$A$1:$E$183,5,FALSE),0)","v":"04104-La Higuera"},"15010100","2022-07-14T14:35:28",4,null,null,2,2]
[{"$nulls":23},6,"5",2022,"105500",{"$f":"IFERROR(VLOOKUP(Tabla_SERIED_12_5[[#This Row],[IdEstablecimiento]],'[1]Establecimiento 2023'!$A$1:$E$183,3,FALSE),0)","v":"105500-Posta de Salud Rural Caleta Hornos"},{"$f":"IFERROR(VLOOKUP(Tabla_SERIED_12_5[[#This Row],[IdEstablecimiento]],'[1]Establecimiento 2023'!$A$1:$E$183,5,FALSE),0)","v":"04104-La Higuera"},"15010200","2022-07-14T14:35:28",18,{"$nulls":4},4,6,8]
[{"$nulls":23},6,"5",2022,"105500",{"$f":"IFERROR(VLOOKUP(Tabla_SERIED_12_5[[#This Row],[IdEstablecimiento]],'[1]Establecimiento 2023'!$A$1:$E$183,3,FALSE),0)","v":"105500-Posta de Salud Rural Caleta Hornos"},{"$f":"IFERROR(VLOOKUP(Tabla_SERIED_12_5[[#This Row],[IdEstablecimiento]],'[1]Establecimiento 2023'!$A$1:$E$183,5,FALSE),0)","v":"04104-La Higuera"},"15080008","2022-07-14T14:35:28",6,{"$nulls":7},2,null,4]
[{"$nulls":23},6,"5",2022,"105500",{"$f":"IFERROR(VLOOKUP(Tabla_SERIED_12_5[[#This Row],[IdEstablecimiento]],'[1]Establecimiento 2023'!$A$1:$E$183,3,FALSE),0)","v":"105500-Posta de Salud Rural Caleta Hornos"},{"$f":"IFERROR(VLOOKUP(Tabla_SERIED_12_5[[#This Row],[IdEstablecimiento]],'[1]Establecimiento 2023'!$A$1:$E$183,5,FALSE),0)","v":"04104-La Higuera"},"15900010","2022-07-14T14:35:28",6,null,3,3]
[{"$nulls":23},6,"5",2022,"105500",{"$f":"IFERROR(VLOOKUP(Tabla_SERIED_12_5[[#This Row],[IdEstablecimiento]],'[1]Establecimiento 2023'!$A$1:$E$183,3,FALSE),0)","v":"105500-Posta de Salud Rural Caleta Hornos"},{"$f":"IFERROR(VLOOKUP(Tabla_SERIED_12_5[[#This Row],[IdEstablecimiento]],'[1]Establecimiento 2023'!$A$1:$E$183,5,FALSE),0)","v":"04104-La Higuera"},"15010400","2022-07-14T14:35:28",4,{"$nulls":5},2,2]
[{"$nulls":23},6,"5",2022,"105500",{"$f":"IFERROR(VLOOKUP(Tabla_SERIED_12_5[[#This Row],[IdEstablecimiento]],'[1]Establecimiento 2023'!$A$1:$E$183,3,FALSE),0)","v":"105500-Posta de Salud Rural Caleta Hornos"},{"$f":"IFERROR(VLOOKUP(Tabla_SERIED_12_5[[#This Row],[IdEstablecimiento]],'[1]Establecimiento 2023'!$A$1:$E$183,5,FALSE),0)","v":"04104-La Higuera"},"15010500","2022-07-14T14:35:28",4,{"$nulls":5},2,2]
[{"$nulls":23},6,"5",2022,"105500",{"$f":"IFERROR(VLOOKUP(Tabla_SERIED_12_5[[#This Row],[IdEstablecimiento]],'[1]Establecimiento 2023'!$A$1:$E$183,3,FALSE),0)","v":"105500-Posta de Salud Rural Caleta Hornos"},{"$f":"IFERROR(VLOOKUP(Tabla_SERIED_12_5[[#This Row],[IdEstablecimiento]],'[1]Establecimiento 2023'!$A$1:$E$183,5,FALSE),0)","v":"04104-La Higuera"},"15900030","2022-07-14T14:35:28",1.2,null,null,1.2]
[{"$nulls":23},6,"5",2022,"105500",{"$f":"IFERROR(VLOOKUP(Tabla_SERIED_12_5[[#This Row],[IdEstablecimiento]],'[1]Establecimiento 2023'!$A$1:$E$183,3,FALSE),0)","v":"105500-Posta de Salud Rural Caleta Hornos"},{"$f":"IFERROR(VLOOKUP(Tabla_SERIED_12_5[[#This Row],[IdEstablecimiento]],'[1]Establecimiento 2023'!$A$1:$E$183,5,FALSE),0)","v":"04104-La Higuera"},"15050100","2022-07-14T14:35:28",18,10,8,null,1,2,1,2,4,5,1,null,2]
[{"$nulls":23},3,"5",2022,"105317",{"$f":"IFERROR(VLOOKUP(Tabla_SERIED_12_5[[#This Row],[IdEstablecimiento]],'[1]Establecimiento 2023'!$A$1:$E$183,3,FALSE),0)","v":"105317-Centro de Salud Familiar Jorge Jordán Domic"},{"$f":"IFERROR(VLOOKUP(Tabla_SERIED_12_5[[#This Row],[IdEstablecimiento]],'[1]Establecimiento 2023'!$A$1:$E$183,5,FALSE),0)","v":"04301-Ovalle"},"15900050","2022-04-19T08:10:01",10,8,2,1,1,4,1,3]
[{"$nulls":23},3,"5",2022,"105317",{"$f":"IFERROR(VLOOKUP(Tabla_SERIED_12_5[[#This Row],[IdEstablecimiento]],'[1]Establecimiento 2023'!$A$1:$E$183,3,FALSE),0)","v":"105317-Centro de Salud Familiar Jorge Jordán Domic"},{"$f":"IFERROR(VLOOKUP(Tabla_SERIED_12_5[[#This Row],[IdEstablecimiento]],'[1]Establecimiento 2023'!$A$1:$E$183,5,FALSE),0)","v":"04301-Ovalle"},"15020100","2022-04-19T08:10:01",2,null,null,2]
[{"$nulls":23},3,"5",2022,"105317",{"$f":"IFERROR(VLOOKUP(Tabla_SERIED_12_5[[#This Row],[IdEstablecimiento]],'[1]Establecimiento 2023'!$A$1:$E$183,3,FALSE),0)","v":"105317-Centro de Salud Familiar Jorge Jordán Domic"},{"$f":"IFERROR(VLOOKUP(Tabla_SERIED_12_5[[#This Row],[IdEstablecimiento]],'[1]Establecimiento 2023'!$A$1:$E$183,5,FALSE),0)","v":"04301-Ovalle"},"15020200","2022-04-19T08:10:01",16,{"$nulls":5},10,6]
[{"$nulls":23},3,"5",2022,"105317",{"$f":"IFERROR(VLOOKUP(Tabla_SERIED_12_5[[#This Row],[IdEstablecimiento]],'[1]Establecimiento 2023'!$A$1:$E$183,3,FALSE),0)","v":"105317-Centro de Salud Familiar Jorge Jordán Domic"},{"$f":"IFERROR(VLOOKUP(Tabla_SERIED_12_5[[#This Row],[IdEstablecimiento]],'[1]Establecimiento 2023'!$A$1:$E$183,5,FALSE),0)","v":"04301-Ovalle"},"15060100","2022-04-19T08:10:01",9,3,6,null,null,1,null,null,5,3]
[{"$nulls":23},4,"5",2022,"105321",{"$f":"IFERROR(VLOOKUP(Tabla_SERIED_12_5[[#This Row],[IdEstablecimiento]],'[1]Establecimiento 2023'!$A$1:$E$183,3,FALSE),0)","v":"105321-Centro de Salud Familiar Tongoy"},{"$f":"IFERROR(VLOOKUP(Tabla_SERIED_12_5[[#This Row],[IdEstablecimiento]],'[1]Establecimiento 2023'!$A$1:$E$183,5,FALSE),0)","v":"04102-Coquimbo"},"16200210","2022-05-18T11:53:25",4,4]
[{"$nulls":23},4,"5",2022,"105321",{"$f":"IFERROR(VLOOKUP(Tabla_SERIED_12_5[[#This Row],[IdEstablecimiento]],'[1]Establecimiento 2023'!$A$1:$E$183,3,FALSE),0)","v":"105321-Centro de Salud Familiar Tongoy"},{"$f":"IFERROR(VLOOKUP(Tabla_SERIED_12_5[[#This Row],[IdEstablecimiento]],'[1]Establecimiento 2023'!$A$1:$E$183,5,FALSE),0)","v":"04102-Coquimbo"},"16100300","2022-05-18T11:53:25",128,56,72,2,40]
[{"$nulls":23},4,"5",2022,"105321",{"$f":"IFERROR(VLOOKUP(Tabla_SERIED_12_5[[#This Row],[IdEstablecimiento]],'[1]Establecimiento 2023'!$A$1:$E$183,3,FALSE),0)","v":"105321-Centro de Salud Familiar Tongoy"},{"$f":"IFERROR(VLOOKUP(Tabla_SERIED_12_5[[#This Row],[IdEstablecimiento]],'[1]Establecimiento 2023'!$A$1:$E$183,5,FALSE),0)","v":"04102-Coquimbo"},"16200220","2022-05-18T11:53:25",4,1,3,1]
[{"$nulls":23},4,"5",2022,"105322",{"$f":"IFERROR(VLOOKUP(Tabla_SERIED_12_5[[#This Row],[IdEstablecimiento]],'[1]Establecimiento 2023'!$A$1:$E$183,3,FALSE),0)","v":"105322-Centro de Salud Familiar Marcos Macuada"},{"$f":"IFERROR(VLOOKUP(Tabla_SERIED_12_5[[#This Row],[IdEstablecimiento]],'[1]Establecimiento 2023'!$A$1:$E$183,5,FALSE),0)","v":"04301-Ovalle"},"15010100","2022-05-18T11:53:39",168,{"$nulls":3},168,0]
[{"$nulls":23},4,"5",2022,"105322",{"$f":"IFERROR(VLOOKUP(Tabla_SERIED_12_5[[#This Row],[IdEstablecimiento]],'[1]Establecimiento 2023'!$A$1:$E$183,3,FALSE),0)","v":"105322-Centro de Salud Familiar Marcos Macuada"},{"$f":"IFERROR(VLOOKUP(Tabla_SERIED_12_5[[#This Row],[IdEstablecimiento]],'[1]Establecimiento 2023'!$A$1:$E$183,5,FALSE),0)","v":"04301-Ovalle"},"15010200","2022-05-18T11:53:39",431,{"$nulls":4},6,220,205]
[{"$nulls":23},4,"5",2022,"105322",{"$f":"IFERROR(VLOOKUP(Tabla_SERIED_12_5[[#This Row],[IdEstablecimiento]],'[1]Establecimiento 2023'!$A$1:$E$183,3,FALSE),0)","v":"105322-Centro de Salud Familiar Marcos Macuada"},{"$f":"IFERROR(VLOOKUP(Tabla_SERIED_12_5[[#This Row],[IdEstablecimiento]],'[1]Establecimiento 2023'!$A$1:$E$183,5,FALSE),0)","v":"04301-Ovalle"},"15080008","2022-05-18T11:53:39",110,{"$nulls":7},61,null,40,4,5]
[{"$nulls":23},4,"5",2022,"105322",{"$f":"IFERROR(VLOOKUP(Tabla_SERIED_12_5[[#This Row],[IdEstablecimiento]],'[1]Establecimiento 2023'!$A$1:$E$183,3,FALSE),0)","v":"105322-Centro de Salud Familiar Marcos Macuada"},{"$f":"IFERROR(VLOOKUP(Tabla_SERIED_12_5[[#This Row],[IdEstablecimiento]],'[1]Establecimiento 2023'!$A$1:$E$183,5,FALSE),0)","v":"04301-Ovalle"},"15900010","2022-05-18T11:53:39",140,4.8,42.4,92.8]
[{"$nulls":23},4,"5",2022,"105322",{"$f":"IFERROR(VLOOKUP(Tabla_SERIED_12_5[[#This Row],[IdEstablecimiento]],'[1]Establecimiento 2023'!$A$1:$E$183,3,FALSE),0)","v":"105322-Centro de Salud Familiar Marcos Macuada"},{"$f":"IFERROR(VLOOKUP(Tabla_SERIED_12_5[[#This Row],[IdEstablecimiento]],'[1]Establecimiento 2023'!$A$1:$E$183,5,FALSE),0)","v":"04301-Ovalle"},"15010300","2022-05-18T11:53:39",2,{"$nulls":3},2,0]
[{"$nulls":23},4,"5",2022,"105322",{"$f":"IFERROR(VLOOKUP(Tabla_SERIED_12_5[[#This Row],[IdEstablecimiento]],'[1]Establecimiento 2023'!$A$1:$E$183,3,FALSE),0)","v":"105322-Centro de Salud Familiar Marcos Macuada"},{"$f":"IFERROR(VLOOKUP(Tabla_SERIED_12_5[[#This Row],[IdEstablecimiento]],'[1]Establecimiento 2023'!$A$1:$E$183,5,FALSE),0)","v":"04301-Ovalle"},"15010400","2022-05-18T11:53:39",4,{"$nulls":4},0,4,0]
[{"$nulls":23},4,"5",2022,"105322",{"$f":"IFERROR(VLOOKUP(Tabla_SERIED_12_5[[#This Row],[IdEstablecimiento]],'[1]Establecimiento 2023'!$A$1:$E$183,3,FALSE),0)","v":"105322-Centro de Salud Familiar Marcos Macuada"},{"$f":"IFERROR(VLOOKUP(Tabla_SERIED_12_5[[#This Row],[IdEstablecimiento]],'[1]Establecimiento 2023'!$A$1:$E$183,5,FALSE),0)","v":"04301-Ovalle"},"15010500","2022-05-18T11:53:39",6,null,0,0,2,0,4,0]
[{"$nulls":23},4,"5",2022,"105322",{"$f":"IFERROR(VLOOKUP(Tabla_SERIED_12_5[[#This Row],[IdEstablecimiento]],'[1]Establecimiento 2023'!$A$1:$E$183,3,FALSE),0)","v":"105322-Centro de Salud Familiar Marcos Macuada"},{"$f":"IFERROR(VLOOKUP(Tabla_SERIED_12_5[[#This Row],[IdEstablecimiento]],'[1]Establecimiento 2023'!$A$1:$E$183,5,FALSE),0)","v":"04301-Ovalle"},"15080009","2022-05-18T11:53:39",3,{"$nulls":8},3,0,0,0]
[{"$nulls":23},5,"5",2022,"105326",{"$f":"IFERROR(VLOOKUP(Tabla_SERIED_12_5[[#This Row],[IdEstablecimiento]],'[1]Establecimiento 2023'!$A$1:$E$183,3,FALSE),0)","v":"105326-Centro de Salud Familiar Villa San Rafael de Rozas"},{"$f":"IFERROR(VLOOKUP(Tabla_SERIED_12_5[[#This Row],[IdEstablecimiento]],'[1]Establecimiento 2023'!$A$1:$E$183,5,FALSE),0)","v":"04201-Illapel"},"15050500","2022-06-20T17:06:31",2,null,2,null,null,2]
[{"$nulls":23},5,"5",2022,"105326",{"$f":"IFERROR(VLOOKUP(Tabla_SERIED_12_5[[#This Row],[IdEstablecimiento]],'[1]Establecimiento 2023'!$A$1:$E$183,3,FALSE),0)","v":"105326-Centro de Salud Familiar Villa San Rafael de Rozas"},{"$f":"IFERROR(VLOOKUP(Tabla_SERIED_12_5[[#This Row],[IdEstablecimiento]],'[1]Establecimiento 2023'!$A$1:$E$183,5,FALSE),0)","v":"04201-Illapel"},"15900050","2022-06-20T17:06:31",1,null,1,1]
[{"$nulls":23},5,"5",2022,"105326",{"$f":"IFERROR(VLOOKUP(Tabla_SERIED_12_5[[#This Row],[IdEstablecimiento]],'[1]Establecimiento 2023'!$A$1:$E$183,3,FALSE),0)","v":"105326-Centro de Salud Familiar Villa San Rafael de Rozas"},{"$f":"IFERROR(VLOOKUP(Tabla_SERIED_12_5[[#This Row],[IdEstablecimiento]],'[1]Establecimiento 2023'!$A$1:$E$183,5,FALSE),0)","v":"04201-Illapel"},"15020200","2022-06-20T17:06:31",4,{"$nulls":5},2,2]
[{"$nulls":23},5,"5",2022,"105326",{"$f":"IFERROR(VLOOKUP(Tabla_SERIED_12_5[[#This Row],[IdEstablecimiento]],'[1]Establecimiento 2023'!$A$1:$E$183,3,FALSE),0)","v":"105326-Centro de Salud Familiar Villa San Rafael de Rozas"},{"$f":"IFERROR(VLOOKUP(Tabla_SERIED_12_5[[#This Row],[IdEstablecimiento]],'[1]Establecimiento 2023'!$A$1:$E$183,5,FALSE),0)","v":"04201-Illapel"},"15060100","2022-06-20T17:06:31",2,2,{"$nulls":6},1,1]
[{"$nulls":23},5,"5",2022,"105326",{"$f":"IFERROR(VLOOKUP(Tabla_SERIED_12_5[[#This Row],[IdEstablecimiento]],'[1]Establecimiento 2023'!$A$1:$E$183,3,FALSE),0)","v":"105326-Centro de Salud Familiar Villa San Rafael de Rozas"},{"$f":"IFERROR(VLOOKUP(Tabla_SERIED_12_5[[#This Row],[IdEstablecimiento]],'[1]Establecimiento 2023'!$A$1:$E$183,5,FALSE),0)","v":"04201-Illapel"},"16090300","2022-06-20T17:06:31",186,186]
[{"$nulls":23},5,"5",2022,"105326",{"$f":"IFERROR(VLOOKUP(Tabla_SERIED_12_5[[#This Row],[IdEstablecimiento]],'[1]Establecimiento 2023'!$A$1:$E$183,3,FALSE),0)","v":"105326-Centro de Salud Familiar Villa San Rafael de Rozas"},{"$f":"IFERROR(VLOOKUP(Tabla_SERIED_12_5[[#This Row],[IdEstablecimiento]],'[1]Establecimiento 2023'!$A$1:$E$183,5,FALSE),0)","v":"04201-Illapel"},"16090500","2022-06-20T17:06:31",9,9]
[{"$nulls":23},5,"5",2022,"105326",{"$f":"IFERROR(VLOOKUP(Tabla_SERIED_12_5[[#This Row],[IdEstablecimiento]],'[1]Establecimiento 2023'!$A$1:$E$183,3,FALSE),0)","v":"105326-Centro de Salud Familiar Villa San Rafael de Rozas"},{"$f":"IFERROR(VLOOKUP(Tabla_SERIED_12_5[[#This Row],[IdEstablecimiento]],'[1]Establecimiento 2023'!$A$1:$E$183,5,FALSE),0)","v":"04201-Illapel"},"16100300","2022-06-20T17:06:31",186,65,121,7,94]
[{"$nulls":23},5,"5",2022,"105326",{"$f":"IFERROR(VLOOKUP(Tabla_SERIED_12_5[[#This Row],[IdEstablecimiento]],'[1]Establecimiento 2023'!$A$1:$E$183,3,FALSE),0)","v":"105326-Centro de Salud Familiar Villa San Rafael de Rozas"},{"$f":"IFERROR(VLOOKUP(Tabla_SERIED_12_5[[#This Row],[IdEstablecimiento]],'[1]Establecimiento 2023'!$A$1:$E$183,5,FALSE),0)","v":"04201-Illapel"},"16100600","2022-06-20T17:06:31",9,3,6,0,0]
[{"$nulls":23},5,"5",2022,"105400",{"$f":"IFERROR(VLOOKUP(Tabla_SERIED_12_5[[#This Row],[IdEstablecimiento]],'[1]Establecimiento 2023'!$A$1:$E$183,3,FALSE),0)","v":"105400-Posta de Salud Rural Algarrobito"},{"$f":"IFERROR(VLOOKUP(Tabla_SERIED_12_5[[#This Row],[IdEstablecimiento]],'[1]Establecimiento 2023'!$A$1:$E$183,5,FALSE),0)","v":"04101-La Serena"},"15010100","2022-06-20T17:06:50",15,{"$nulls":3},14,{"$nulls":3},1]
[{"$nulls":23},7,"5",2022,"105106",{"$f":"IFERROR(VLOOKUP(Tabla_SERIED_12_5[[#This Row],[IdEstablecimiento]],'[1]Establecimiento 2023'!$A$1:$E$183,3,FALSE),0)","v":"105106-Hospital Dr. José Arraño (Andacollo)"},{"$f":"IFERROR(VLOOKUP(Tabla_SERIED_12_5[[#This Row],[IdEstablecimiento]],'[1]Establecimiento 2023'!$A$1:$E$183,5,FALSE),0)","v":"105106-Hospital Andacollo"},"15010100","2022-08-19T11:39:31",54,{"$nulls":3},54]
[{"$nulls":23},7,"5",2022,"105106",{"$f":"IFERROR(VLOOKUP(Tabla_SERIED_12_5[[#This Row],[IdEstablecimiento]],'[1]Establecimiento 2023'!$A$1:$E$183,3,FALSE),0)","v":"105106-Hospital Dr. José Arraño (Andacollo)"},{"$f":"IFERROR(VLOOKUP(Tabla_SERIED_12_5[[#This Row],[IdEstablecimiento]],'[1]Establecimiento 2023'!$A$1:$E$183,5,FALSE),0)","v":"105106-Hospital Andacollo"},"15010200","2022-08-19T11:39:31",208,{"$nulls":4},44,100,64]
[{"$nulls":23},8,"5",2022,"105466",{"$f":"IFERROR(VLOOKUP(Tabla_SERIED_12_5[[#This Row],[IdEstablecimiento]],'[1]Establecimiento 2023'!$A$1:$E$183,3,FALSE),0)","v":"105466-Posta de Salud Rural Valle Hermoso"},{"$f":"IFERROR(VLOOKUP(Tabla_SERIED_12_5[[#This Row],[IdEstablecimiento]],'[1]Establecimiento 2023'!$A$1:$E$183,5,FALSE),0)","v":"04302-Combarbalá"},"16200220","2022-09-21T07:48:09",10,7,3]
[{"$nulls":23},8,"5",2022,"105467",{"$f":"IFERROR(VLOOKUP(Tabla_SERIED_12_5[[#This Row],[IdEstablecimiento]],'[1]Establecimiento 2023'!$A$1:$E$183,3,FALSE),0)","v":"105467-Posta de Salud Rural Diaguitas"},{"$f":"IFERROR(VLOOKUP(Tabla_SERIED_12_5[[#This Row],[IdEstablecimiento]],'[1]Establecimiento 2023'!$A$1:$E$183,5,FALSE),0)","v":"04106-Vicuña"},"15010100","2022-09-21T07:48:20",8,{"$nulls":3},8]
[{"$nulls":23},8,"5",2022,"105467",{"$f":"IFERROR(VLOOKUP(Tabla_SERIED_12_5[[#This Row],[IdEstablecimiento]],'[1]Establecimiento 2023'!$A$1:$E$183,3,FALSE),0)","v":"105467-Posta de Salud Rural Diaguitas"},{"$f":"IFERROR(VLOOKUP(Tabla_SERIED_12_5[[#This Row],[IdEstablecimiento]],'[1]Establecimiento 2023'!$A$1:$E$183,5,FALSE),0)","v":"04106-Vicuña"},"15010200","2022-09-21T07:48:20",24,{"$nulls":4},8,12,4]
[{"$nulls":23},8,"5",2022,"105467",{"$f":"IFERROR(VLOOKUP(Tabla_SERIED_12_5[[#This Row],[IdEstablecimiento]],'[1]Establecimiento 2023'!$A$1:$E$183,3,FALSE),0)","v":"105467-Posta de Salud Rural Diaguitas"},{"$f":"IFERROR(VLOOKUP(Tabla_SERIED_12_5[[#This Row],[IdEstablecimiento]],'[1]Establecimiento 2023'!$A$1:$E$183,5,FALSE),0)","v":"04106-Vicuña"},"15080008","2022-09-21T07:48:20",6,{"$nulls":7},4,null,2]
[{"$nulls":23},8,"5",2022,"105467",{"$f":"IFERROR(VLOOKUP(Tabla_SERIED_12_5[[#This Row],[IdEstablecimiento]],'[1]Establecimiento 2023'!$A$1:$E$183,3,FALSE),0)","v":"105467-Posta de Salud Rural Diaguitas"},{"$f":"IFERROR(VLOOKUP(Tabla_SERIED_12_5[[#This Row],[IdEstablecimiento]],'[1]Establecimiento 2023'!$A$1:$E$183,5,FALSE),0)","v":"04106-Vicuña"},"15900010","2022-09-21T07:48:20",8.1,null,null,8.1]
[{"$nulls":23},8,"5",2022,"105467",{"$f":"IFERROR(VLOOKUP(Tabla_SERIED_12_5[[#This Row],[IdEstablecimiento]],'[1]Establecimiento 2023'!$A$1:$E$183,3,FALSE),0)","v":"105467-Posta de Salud Rural Diaguitas"},{"$f":"IFERROR(VLOOKUP(Tabla_SERIED_12_5[[#This Row],[IdEstablecimiento]],'[1]Establecimiento 2023'!$A$1:$E$183,5,FALSE),0)","v":"04106-Vicuña"},"15010400","2022-09-21T07:48:20",4,{"$nulls":4},2,null,2]
[{"$nulls":23},8,"5",2022,"105467",{"$f":"IFERROR(VLOOKUP(Tabla_SERIED_12_5[[#This Row],[IdEstablecimiento]],'[1]Establecimiento 2023'!$A$1:$E$183,3,FALSE),0)","v":"105467-Posta de Salud Rural Diaguitas"},{"$f":"IFERROR(VLOOKUP(Tabla_SERIED_12_5[[#This Row],[IdEstablecimiento]],'[1]Establecimiento 2023'!$A$1:$E$183,5,FALSE),0)","v":"04106-Vicuña"},"15010500","2022-09-21T07:48:20",4,{"$nulls":4},2,null,2]
[{"$nulls":23},8,"5",2022,"105467",{"$f":"IFERROR(VLOOKUP(Tabla_SERIED_12_5[[#This Row],[IdEstablecimiento]],'[1]Establecimiento 2023'!$A$1:$E$183,3,FALSE),0)","v":"105467-Posta de Salud Rural Diaguitas"},{"$f":"IFERROR(VLOOKUP(Tabla_SERIED_12_5[[#This Row],[IdEstablecimiento]],'[1]Establecimiento 2023'!$A$1:$E$183,5,FALSE),0)","v":"04106-Vicuña"},"15050100","2022-09-21T07:48:20",24,9,15,null,null,3,4,4,6,2,4,null,1]
[{"$nulls":23},3,"5",2022,"105305",{"$f":"IFERROR(VLOOKUP(Tabla_SERIED_12_5[[#This Row],[IdEstablecimiento]],'[1]Establecimiento 2023'!$A$1:$E$183,3,FALSE),0)","v":"105305-Centro de Salud Familiar Tierras Blancas"},{"$f":"IFERROR(VLOOKUP(Tabla_SERIED_12_5[[#This Row],[IdEstablecimiento]],'[1]Establecimiento 2023'!$A$1:$E$183,5,FALSE),0)","v":"04102-Coquimbo"},"15050200","2022-04-19T08:03:19",17,7,10,{"$nulls":4},3,7,3,null,4]
[{"$nulls":23},3,"5",2022,"105461",{"$f":"IFERROR(VLOOKUP(Tabla_SERIED_12_5[[#This Row],[IdEstablecimiento]],'[1]Establecimiento 2023'!$A$1:$E$183,3,FALSE),0)","v":"105461-Posta de Salud Rural El Huacho"},{"$f":"IFERROR(VLOOKUP(Tabla_SERIED_12_5[[#This Row],[IdEstablecimiento]],'[1]Establecimiento 2023'!$A$1:$E$183,5,FALSE),0)","v":"04302-Combarbalá"},"16200210","2022-04-19T09:59:54",2,2]
[{"$nulls":23},3,"5",2022,"105461",{"$f":"IFERROR(VLOOKUP(Tabla_SERIED_12_5[[#This Row],[IdEstablecimiento]],'[1]Establecimiento 2023'!$A$1:$E$183,3,FALSE),0)","v":"105461-Posta de Salud Rural El Huacho"},{"$f":"IFERROR(VLOOKUP(Tabla_SERIED_12_5[[#This Row],[IdEstablecimiento]],'[1]Establecimiento 2023'!$A$1:$E$183,5,FALSE),0)","v":"04302-Combarbalá"},"16100300","2022-04-19T09:59:54",41,15,26,null,4]
[{"$nulls":23},3,"5",2022,"105461",{"$f":"IFERROR(VLOOKUP(Tabla_SERIED_12_5[[#This Row],[IdEstablecimiento]],'[1]Establecimiento 2023'!$A$1:$E$183,3,FALSE),0)","v":"105461-Posta de Salud Rural El Huacho"},{"$f":"IFERROR(VLOOKUP(Tabla_SERIED_12_5[[#This Row],[IdEstablecimiento]],'[1]Establecimiento 2023'!$A$1:$E$183,5,FALSE),0)","v":"04302-Combarbalá"},"16200220","2022-04-19T09:59:54",2,1,1]
[{"$nulls":23},3,"5",2022,"105462",{"$f":"IFERROR(VLOOKUP(Tabla_SERIED_12_5[[#This Row],[IdEstablecimiento]],'[1]Establecimiento 2023'!$A$1:$E$183,3,FALSE),0)","v":"105462-Posta de Salud Rural El Sauce (Combarbalá)"},{"$f":"IFERROR(VLOOKUP(Tabla_SERIED_12_5[[#This Row],[IdEstablecimiento]],'[1]Establecimiento 2023'!$A$1:$E$183,5,FALSE),0)","v":"04302-Combarbalá"},"15010100","2022-04-19T10:00:13",2,{"$nulls":3},2]
[{"$nulls":23},3,"5",2022,"105462",{"$f":"IFERROR(VLOOKUP(Tabla_SERIED_12_5[[#This Row],[IdEstablecimiento]],'[1]Establecimiento 2023'!$A$1:$E$183,3,FALSE),0)","v":"105462-Posta de Salud Rural El Sauce (Combarbalá)"},{"$f":"IFERROR(VLOOKUP(Tabla_SERIED_12_5[[#This Row],[IdEstablecimiento]],'[1]Establecimiento 2023'!$A$1:$E$183,5,FALSE),0)","v":"04302-Combarbalá"},"15010200","2022-04-19T10:00:13",28,{"$nulls":4},10,12,6]
[{"$nulls":23},3,"5",2022,"105462",{"$f":"IFERROR(VLOOKUP(Tabla_SERIED_12_5[[#This Row],[IdEstablecimiento]],'[1]Establecimiento 2023'!$A$1:$E$183,3,FALSE),0)","v":"105462-Posta de Salud Rural El Sauce (Combarbalá)"},{"$f":"IFERROR(VLOOKUP(Tabla_SERIED_12_5[[#This Row],[IdEstablecimiento]],'[1]Establecimiento 2023'!$A$1:$E$183,5,FALSE),0)","v":"04302-Combarbalá"},"15080008","2022-04-19T10:00:13",5,{"$nulls":7},3,null,2]
[{"$nulls":23},1,"5",2022,"105321",{"$f":"IFERROR(VLOOKUP(Tabla_SERIED_12_5[[#This Row],[IdEstablecimiento]],'[1]Establecimiento 2023'!$A$1:$E$183,3,FALSE),0)","v":"105321-Centro de Salud Familiar Tongoy"},{"$f":"IFERROR(VLOOKUP(Tabla_SERIED_12_5[[#This Row],[IdEstablecimiento]],'[1]Establecimiento 2023'!$A$1:$E$183,5,FALSE),0)","v":"04102-Coquimbo"},"15010400","2022-02-16T10:50:26",2,{"$nulls":4},2]
[{"$nulls":23},7,"5",2022,"105323",{"$f":"IFERROR(VLOOKUP(Tabla_SERIED_12_5[[#This Row],[IdEstablecimiento]],'[1]Establecimiento 2023'!$A$1:$E$183,3,FALSE),0)","v":"105323-Centro de Salud Familiar Dr. Sergio Aguilar Delgado"},{"$f":"IFERROR(VLOOKUP(Tabla_SERIED_12_5[[#This Row],[IdEstablecimiento]],'[1]Establecimiento 2023'!$A$1:$E$183,5,FALSE),0)","v":"04102-Coquimbo"},"16100300","2022-08-19T12:02:42",956,359,597,20,191]
[{"$nulls":23},7,"5",2022,"105323",{"$f":"IFERROR(VLOOKUP(Tabla_SERIED_12_5[[#This Row],[IdEstablecimiento]],'[1]Establecimiento 2023'!$A$1:$E$183,3,FALSE),0)","v":"105323-Centro de Salud Familiar Dr. Sergio Aguilar Delgado"},{"$f":"IFERROR(VLOOKUP(Tabla_SERIED_12_5[[#This Row],[IdEstablecimiento]],'[1]Establecimiento 2023'!$A$1:$E$183,5,FALSE),0)","v":"04102-Coquimbo"},"16200220","2022-08-19T12:02:42",15,4,11,null,2]
[{"$nulls":23},7,"5",2022,"105323",{"$f":"IFERROR(VLOOKUP(Tabla_SERIED_12_5[[#This Row],[IdEstablecimiento]],'[1]Establecimiento 2023'!$A$1:$E$183,3,FALSE),0)","v":"105323-Centro de Salud Familiar Dr. Sergio Aguilar Delgado"},{"$f":"IFERROR(VLOOKUP(Tabla_SERIED_12_5[[#This Row],[IdEstablecimiento]],'[1]Establecimiento 2023'!$A$1:$E$183,5,FALSE),0)","v":"04102-Coquimbo"},"16100100","2022-08-19T12:02:42",3,2,1]
[{"$nulls":23},7,"5",2022,"105323",{"$f":"IFERROR(VLOOKUP(Tabla_SERIED_12_5[[#This Row],[IdEstablecimiento]],'[1]Establecimiento 2023'!$A$1:$E$183,3,FALSE),0)","v":"105323-Centro de Salud Familiar Dr. Sergio Aguilar Delgado"},{"$f":"IFERROR(VLOOKUP(Tabla_SERIED_12_5[[#This Row],[IdEstablecimiento]],'[1]Establecimiento 2023'!$A$1:$E$183,5,FALSE),0)","v":"04102-Coquimbo"},"16200100","2022-08-19T12:02:42",76,32,44,null,15]
[{"$nulls":23},7,"5",2022,"105323",{"$f":"IFERROR(VLOOKUP(Tabla_SERIED_12_5[[#This Row],[IdEstablecimiento]],'[1]Establecimiento 2023'!$A$1:$E$183,3,FALSE),0)","v":"105323-Centro de Salud Familiar Dr. Sergio Aguilar Delgado"},{"$f":"IFERROR(VLOOKUP(Tabla_SERIED_12_5[[#This Row],[IdEstablecimiento]],'[1]Establecimiento 2023'!$A$1:$E$183,5,FALSE),0)","v":"04102-Coquimbo"},"16200230","2022-08-19T12:02:42",1,null,1]
[{"$nulls":23},7,"5",2022,"105324",{"$f":"IFERROR(VLOOKUP(Tabla_SERIED_12_5[[#This Row],[IdEstablecimiento]],'[1]Establecimiento 2023'!$A$1:$E$183,3,FALSE),0)","v":"105324-Centro de Salud Familiar Sotaquí"},{"$f":"IFERROR(VLOOKUP(Tabla_SERIED_12_5[[#This Row],[IdEstablecimiento]],'[1]Establecimiento 2023'!$A$1:$E$183,5,FALSE),0)","v":"04301-Ovalle"},"15010100","2022-08-19T12:02:52",38,{"$nulls":3},36,{"$nulls":5},2]
[{"$nulls":23},7,"5",2022,"105324",{"$f":"IFERROR(VLOOKUP(Tabla_SERIED_12_5[[#This Row],[IdEstablecimiento]],'[1]Establecimiento 2023'!$A$1:$E$183,3,FALSE),0)","v":"105324-Centro de Salud Familiar Sotaquí"},{"$f":"IFERROR(VLOOKUP(Tabla_SERIED_12_5[[#This Row],[IdEstablecimiento]],'[1]Establecimiento 2023'!$A$1:$E$183,5,FALSE),0)","v":"04301-Ovalle"},"15010200","2022-08-19T12:02:52",164,{"$nulls":4},28,64,72]
[{"$nulls":23},7,"5",2022,"105324",{"$f":"IFERROR(VLOOKUP(Tabla_SERIED_12_5[[#This Row],[IdEstablecimiento]],'[1]Establecimiento 2023'!$A$1:$E$183,3,FALSE),0)","v":"105324-Centro de Salud Familiar Sotaquí"},{"$f":"IFERROR(VLOOKUP(Tabla_SERIED_12_5[[#This Row],[IdEstablecimiento]],'[1]Establecimiento 2023'!$A$1:$E$183,5,FALSE),0)","v":"04301-Ovalle"},"15080008","2022-08-19T12:02:52",58,{"$nulls":7},18,null,34,null,6]
[{"$nulls":23},7,"5",2022,"105324",{"$f":"IFERROR(VLOOKUP(Tabla_SERIED_12_5[[#This Row],[IdEstablecimiento]],'[1]Establecimiento 2023'!$A$1:$E$183,3,FALSE),0)","v":"105324-Centro de Salud Familiar Sotaquí"},{"$f":"IFERROR(VLOOKUP(Tabla_SERIED_12_5[[#This Row],[IdEstablecimiento]],'[1]Establecimiento 2023'!$A$1:$E$183,5,FALSE),0)","v":"04301-Ovalle"},"15900010","2022-08-19T12:02:52",45.9,null,12.6,33.3]
[{"$nulls":23},2,"5",2022,"105487",{"$f":"IFERROR(VLOOKUP(Tabla_SERIED_12_5[[#This Row],[IdEstablecimiento]],'[1]Establecimiento 2023'!$A$1:$E$183,3,FALSE),0)","v":"105487-Posta de Salud Rural Cañas Uno"},{"$f":"IFERROR(VLOOKUP(Tabla_SERIED_12_5[[#This Row],[IdEstablecimiento]],'[1]Establecimiento 2023'!$A$1:$E$183,5,FALSE),0)","v":"04201-Illapel"},"15080008","2022-03-17T09:56:14",12,{"$nulls":7},8,null,4]
[{"$nulls":23},2,"5",2022,"105487",{"$f":"IFERROR(VLOOKUP(Tabla_SERIED_12_5[[#This Row],[IdEstablecimiento]],'[1]Establecimiento 2023'!$A$1:$E$183,3,FALSE),0)","v":"105487-Posta de Salud Rural Cañas Uno"},{"$f":"IFERROR(VLOOKUP(Tabla_SERIED_12_5[[#This Row],[IdEstablecimiento]],'[1]Establecimiento 2023'!$A$1:$E$183,5,FALSE),0)","v":"04201-Illapel"},"15900010","2022-03-17T09:56:14",5.6,null,3.2,2.4]
[{"$nulls":23},2,"5",2022,"105487",{"$f":"IFERROR(VLOOKUP(Tabla_SERIED_12_5[[#This Row],[IdEstablecimiento]],'[1]Establecimiento 2023'!$A$1:$E$183,3,FALSE),0)","v":"105487-Posta de Salud Rural Cañas Uno"},{"$f":"IFERROR(VLOOKUP(Tabla_SERIED_12_5[[#This Row],[IdEstablecimiento]],'[1]Establecimiento 2023'!$A$1:$E$183,5,FALSE),0)","v":"04201-Illapel"},"15050100","2022-03-17T09:56:14",62,19,43,null,1,1,15,5,12,18,8,null,2]
[{"$nulls":23},2,"5",2022,"105487",{"$f":"IFERROR(VLOOKUP(Tabla_SERIED_12_5[[#This Row],[IdEstablecimiento]],'[1]Establecimiento 2023'!$A$1:$E$183,3,FALSE),0)","v":"105487-Posta de Salud Rural Cañas Uno"},{"$f":"IFERROR(VLOOKUP(Tabla_SERIED_12_5[[#This Row],[IdEstablecimiento]],'[1]Establecimiento 2023'!$A$1:$E$183,5,FALSE),0)","v":"04201-Illapel"},"16090300","2022-03-17T09:56:14",130,130]
[{"$nulls":23},2,"5",2022,"105457",{"$f":"IFERROR(VLOOKUP(Tabla_SERIED_12_5[[#This Row],[IdEstablecimiento]],'[1]Establecimiento 2023'!$A$1:$E$183,3,FALSE),0)","v":"105457-Posta de Salud Rural San Agustín (Salamanca)"},{"$f":"IFERROR(VLOOKUP(Tabla_SERIED_12_5[[#This Row],[IdEstablecimiento]],'[1]Establecimiento 2023'!$A$1:$E$183,5,FALSE),0)","v":"04204-Salamanca"},"15050200","2022-03-17T09:45:33",1,1,{"$nulls":7},1]
[{"$nulls":23},2,"5",2022,"105457",{"$f":"IFERROR(VLOOKUP(Tabla_SERIED_12_5[[#This Row],[IdEstablecimiento]],'[1]Establecimiento 2023'!$A$1:$E$183,3,FALSE),0)","v":"105457-Posta de Salud Rural San Agustín (Salamanca)"},{"$f":"IFERROR(VLOOKUP(Tabla_SERIED_12_5[[#This Row],[IdEstablecimiento]],'[1]Establecimiento 2023'!$A$1:$E$183,5,FALSE),0)","v":"04204-Salamanca"},"16090300","2022-03-17T09:45:33",40,40]
[{"$nulls":23},3,"5",2022,"105471",{"$f":"IFERROR(VLOOKUP(Tabla_SERIED_12_5[[#This Row],[IdEstablecimiento]],'[1]Establecimiento 2023'!$A$1:$E$183,3,FALSE),0)","v":"105471-Posta de Salud Rural Peralillo Vicuña"},{"$f":"IFERROR(VLOOKUP(Tabla_SERIED_12_5[[#This Row],[IdEstablecimiento]],'[1]Establecimiento 2023'!$A$1:$E$183,5,FALSE),0)","v":"04106-Vicuña"},"16100300","2022-04-19T10:02:34",45,19,26,null,67]
[{"$nulls":23},3,"5",2022,"105471",{"$f":"IFERROR(VLOOKUP(Tabla_SERIED_12_5[[#This Row],[IdEstablecimiento]],'[1]Establecimiento 2023'!$A$1:$E$183,3,FALSE),0)","v":"105471-Posta de Salud Rural Peralillo Vicuña"},{"$f":"IFERROR(VLOOKUP(Tabla_SERIED_12_5[[#This Row],[IdEstablecimiento]],'[1]Establecimiento 2023'!$A$1:$E$183,5,FALSE),0)","v":"04106-Vicuña"},"16200220","2022-04-19T10:02:34",2,1,1,null,4]
[{"$nulls":23},3,"5",2022,"105472",{"$f":"IFERROR(VLOOKUP(Tabla_SERIED_12_5[[#This Row],[IdEstablecimiento]],'[1]Establecimiento 2023'!$A$1:$E$183,3,FALSE),0)","v":"105472-Posta de Salud Rural Rivadavia"},{"$f":"IFERROR(VLOOKUP(Tabla_SERIED_12_5[[#This Row],[IdEstablecimiento]],'[1]Establecimiento 2023'!$A$1:$E$183,5,FALSE),0)","v":"04106-Vicuña"},"15010100","2022-04-19T10:02:47",2,{"$nulls":3},2]
[{"$nulls":23},3,"5",2022,"105472",{"$f":"IFERROR(VLOOKUP(Tabla_SERIED_12_5[[#This Row],[IdEstablecimiento]],'[1]Establecimiento 2023'!$A$1:$E$183,3,FALSE),0)","v":"105472-Posta de Salud Rural Rivadavia"},{"$f":"IFERROR(VLOOKUP(Tabla_SERIED_12_5[[#This Row],[IdEstablecimiento]],'[1]Establecimiento 2023'!$A$1:$E$183,5,FALSE),0)","v":"04106-Vicuña"},"15010200","2022-04-19T10:02:47",16,{"$nulls":4},4,8,4]
[{"$nulls":23},3,"5",2022,"105472",{"$f":"IFERROR(VLOOKUP(Tabla_SERIED_12_5[[#This Row],[IdEstablecimiento]],'[1]Establecimiento 2023'!$A$1:$E$183,3,FALSE),0)","v":"105472-Posta de Salud Rural Rivadavia"},{"$f":"IFERROR(VLOOKUP(Tabla_SERIED_12_5[[#This Row],[IdEstablecimiento]],'[1]Establecimiento 2023'!$A$1:$E$183,5,FALSE),0)","v":"04106-Vicuña"},"15080008","2022-04-19T10:02:47",4,{"$nulls":7},1,null,2,null,1]
[{"$nulls":23},3,"5",2022,"105472",{"$f":"IFERROR(VLOOKUP(Tabla_SERIED_12_5[[#This Row],[IdEstablecimiento]],'[1]Establecimiento 2023'!$A$1:$E$183,3,FALSE),0)","v":"105472-Posta de Salud Rural Rivadavia"},{"$f":"IFERROR(VLOOKUP(Tabla_SERIED_12_5[[#This Row],[IdEstablecimiento]],'[1]Establecimiento 2023'!$A$1:$E$183,5,FALSE),0)","v":"04106-Vicuña"},"15010300","2022-04-19T10:02:47",2,{"$nulls":3},2]
[{"$nulls":23},3,"5",2022,"105472",{"$f":"IFERROR(VLOOKUP(Tabla_SERIED_12_5[[#This Row],[IdEstablecimiento]],'[1]Establecimiento 2023'!$A$1:$E$183,3,FALSE),0)","v":"105472-Posta de Salud Rural Rivadavia"},{"$f":"IFERROR(VLOOKUP(Tabla_SERIED_12_5[[#This Row],[IdEstablecimiento]],'[1]Establecimiento 2023'!$A$1:$E$183,5,FALSE),0)","v":"04106-Vicuña"},"15010400","2022-04-19T10:02:47",2,{"$nulls":5},2]
[{"$nulls":23},3,"5",2022,"105472",{"$f":"IFERROR(VLOOKUP(Tabla_SERIED_12_5[[#This Row],[IdEstablecimiento]],'[1]Establecimiento 2023'!$A$1:$E$183,3,FALSE),0)","v":"105472-Posta de Salud Rural Rivadavia"},{"$f":"IFERROR(VLOOKUP(Tabla_SERIED_12_5[[#This Row],[IdEstablecimiento]],'[1]Establecimiento 2023'!$A$1:$E$183,5,FALSE),0)","v":"04106-Vicuña"},"15010500","2022-04-19T10:02:47",4,{"$nulls":3},2,null,2]
[{"$nulls":23},3,"5",2022,"105472",{"$f":"IFERROR(VLOOKUP(Tabla_SERIED_12_5[[#This Row],[IdEstablecimiento]],'[1]Establecimiento 2023'!$A$1:$E$183,3,FALSE),0)","v":"105472-Posta de Salud Rural Rivadavia"},{"$f":"IFERROR(VLOOKUP(Tabla_SERIED_12_5[[#This Row],[IdEstablecimiento]],'[1]Establecimiento 2023'!$A$1:$E$183,5,FALSE),0)","v":"04106-Vicuña"},"15030200","2022-04-19T10:02:47",2.7,null,null,2.7]
[{"$nulls":23},3,"5",2022,"105472",{"$f":"IFERROR(VLOOKUP(Tabla_SERIED_12_5[[#This Row],[IdEstablecimiento]],'[1]Establecimiento 2023'!$A$1:$E$183,3,FALSE),0)","v":"105472-Posta de Salud Rural Rivadavia"},{"$f":"IFERROR(VLOOKUP(Tabla_SERIED_12_5[[#This Row],[IdEstablecimiento]],'[1]Establecimiento 2023'!$A$1:$E$183,5,FALSE),0)","v":"04106-Vicuña"},"15901500","2022-04-19T10:02:47",2.4,null,null,2.4]
[{"$nulls":23},3,"5",2022,"105472",{"$f":"IFERROR(VLOOKUP(Tabla_SERIED_12_5[[#This Row],[IdEstablecimiento]],'[1]Establecimiento 2023'!$A$1:$E$183,3,FALSE),0)","v":"105472-Posta de Salud Rural Rivadavia"},{"$f":"IFERROR(VLOOKUP(Tabla_SERIED_12_5[[#This Row],[IdEstablecimiento]],'[1]Establecimiento 2023'!$A$1:$E$183,5,FALSE),0)","v":"04106-Vicuña"},"15050100","2022-04-19T10:02:47",14,7,7,null,null,2,1,2,4,2,1,null,1,null,1]
[{"$nulls":23},3,"5",2022,"105472",{"$f":"IFERROR(VLOOKUP(Tabla_SERIED_12_5[[#This Row],[IdEstablecimiento]],'[1]Establecimiento 2023'!$A$1:$E$183,3,FALSE),0)","v":"105472-Posta de Salud Rural Rivadavia"},{"$f":"IFERROR(VLOOKUP(Tabla_SERIED_12_5[[#This Row],[IdEstablecimiento]],'[1]Establecimiento 2023'!$A$1:$E$183,5,FALSE),0)","v":"04106-Vicuña"},"15050200","2022-04-19T10:02:47",2,1,1,{"$nulls":3},1,null,1]
[{"$nulls":23},3,"5",2022,"105472",{"$f":"IFERROR(VLOOKUP(Tabla_SERIED_12_5[[#This Row],[IdEstablecimiento]],'[1]Establecimiento 2023'!$A$1:$E$183,3,FALSE),0)","v":"105472-Posta de Salud Rural Rivadavia"},{"$f":"IFERROR(VLOOKUP(Tabla_SERIED_12_5[[#This Row],[IdEstablecimiento]],'[1]Establecimiento 2023'!$A$1:$E$183,5,FALSE),0)","v":"04106-Vicuña"},"16090300","2022-04-19T10:02:47",46,46]
[{"$nulls":23},3,"5",2022,"105472",{"$f":"IFERROR(VLOOKUP(Tabla_SERIED_12_5[[#This Row],[IdEstablecimiento]],'[1]Establecimiento 2023'!$A$1:$E$183,3,FALSE),0)","v":"105472-Posta de Salud Rural Rivadavia"},{"$f":"IFERROR(VLOOKUP(Tabla_SERIED_12_5[[#This Row],[IdEstablecimiento]],'[1]Establecimiento 2023'!$A$1:$E$183,5,FALSE),0)","v":"04106-Vicuña"},"16200210","2022-04-19T10:02:47",5,5]
[{"$nulls":23},3,"5",2022,"105472",{"$f":"IFERROR(VLOOKUP(Tabla_SERIED_12_5[[#This Row],[IdEstablecimiento]],'[1]Establecimiento 2023'!$A$1:$E$183,3,FALSE),0)","v":"105472-Posta de Salud Rural Rivadavia"},{"$f":"IFERROR(VLOOKUP(Tabla_SERIED_12_5[[#This Row],[IdEstablecimiento]],'[1]Establecimiento 2023'!$A$1:$E$183,5,FALSE),0)","v":"04106-Vicuña"},"16090500","2022-04-19T10:02:47",3,3]
[{"$nulls":23},3,"5",2022,"105472",{"$f":"IFERROR(VLOOKUP(Tabla_SERIED_12_5[[#This Row],[IdEstablecimiento]],'[1]Establecimiento 2023'!$A$1:$E$183,3,FALSE),0)","v":"105472-Posta de Salud Rural Rivadavia"},{"$f":"IFERROR(VLOOKUP(Tabla_SERIED_12_5[[#This Row],[IdEstablecimiento]],'[1]Establecimiento 2023'!$A$1:$E$183,5,FALSE),0)","v":"04106-Vicuña"},"16100300","2022-04-19T10:02:47",46,17,29,null,8]
[{"$nulls":23},3,"5",2022,"105472",{"$f":"IFERROR(VLOOKUP(Tabla_SERIED_12_5[[#This Row],[IdEstablecimiento]],'[1]Establecimiento 2023'!$A$1:$E$183,3,FALSE),0)","v":"105472-Posta de Salud Rural Rivadavia"},{"$f":"IFERROR(VLOOKUP(Tabla_SERIED_12_5[[#This Row],[IdEstablecimiento]],'[1]Establecimiento 2023'!$A$1:$E$183,5,FALSE),0)","v":"04106-Vicuña"},"16200220","2022-04-19T10:02:47",5,3,2,null,2]
[{"$nulls":23},2,"5",2022,"105106",{"$f":"IFERROR(VLOOKUP(Tabla_SERIED_12_5[[#This Row],[IdEstablecimiento]],'[1]Establecimiento 2023'!$A$1:$E$183,3,FALSE),0)","v":"105106-Hospital Dr. José Arraño (Andacollo)"},{"$f":"IFERROR(VLOOKUP(Tabla_SERIED_12_5[[#This Row],[IdEstablecimiento]],'[1]Establecimiento 2023'!$A$1:$E$183,5,FALSE),0)","v":"105106-Hospital Andacollo"},"15020100","2022-03-17T09:25:50",2,{"$nulls":3},2]
[{"$nulls":23},4,"5",2022,"105722",{"$f":"IFERROR(VLOOKUP(Tabla_SERIED_12_5[[#This Row],[IdEstablecimiento]],'[1]Establecimiento 2023'!$A$1:$E$183,3,FALSE),0)","v":"105722-Centro Comunitario de Salud Familiar San José de la Dehesa"},{"$f":"IFERROR(VLOOKUP(Tabla_SERIED_12_5[[#This Row],[IdEstablecimiento]],'[1]Establecimiento 2023'!$A$1:$E$183,5,FALSE),0)","v":"04301-Ovalle"},"15050200","2022-05-18T15:23:27",3,1,2,{"$nulls":4},1,1,1]
[{"$nulls":23},4,"5",2022,"105722",{"$f":"IFERROR(VLOOKUP(Tabla_SERIED_12_5[[#This Row],[IdEstablecimiento]],'[1]Establecimiento 2023'!$A$1:$E$183,3,FALSE),0)","v":"105722-Centro Comunitario de Salud Familiar San José de la Dehesa"},{"$f":"IFERROR(VLOOKUP(Tabla_SERIED_12_5[[#This Row],[IdEstablecimiento]],'[1]Establecimiento 2023'!$A$1:$E$183,5,FALSE),0)","v":"04301-Ovalle"},"15900050","2022-05-18T15:23:27",1,null,1,1]
[{"$nulls":23},4,"5",2022,"105722",{"$f":"IFERROR(VLOOKUP(Tabla_SERIED_12_5[[#This Row],[IdEstablecimiento]],'[1]Establecimiento 2023'!$A$1:$E$183,3,FALSE),0)","v":"105722-Centro Comunitario de Salud Familiar San José de la Dehesa"},{"$f":"IFERROR(VLOOKUP(Tabla_SERIED_12_5[[#This Row],[IdEstablecimiento]],'[1]Establecimiento 2023'!$A$1:$E$183,5,FALSE),0)","v":"04301-Ovalle"},"16090300","2022-05-18T15:23:27",147,147]
[{"$nulls":23},4,"5",2022,"105722",{"$f":"IFERROR(VLOOKUP(Tabla_SERIED_12_5[[#This Row],[IdEstablecimiento]],'[1]Establecimiento 2023'!$A$1:$E$183,3,FALSE),0)","v":"105722-Centro Comunitario de Salud Familiar San José de la Dehesa"},{"$f":"IFERROR(VLOOKUP(Tabla_SERIED_12_5[[#This Row],[IdEstablecimiento]],'[1]Establecimiento 2023'!$A$1:$E$183,5,FALSE),0)","v":"04301-Ovalle"},"16200210","2022-05-18T15:23:27",23,23]
[{"$nulls":23},4,"5",2022,"105722",{"$f":"IFERROR(VLOOKUP(Tabla_SERIED_12_5[[#This Row],[IdEstablecimiento]],'[1]Establecimiento 2023'!$A$1:$E$183,3,FALSE),0)","v":"105722-Centro Comunitario de Salud Familiar San José de la Dehesa"},{"$f":"IFERROR(VLOOKUP(Tabla_SERIED_12_5[[#This Row],[IdEstablecimiento]],'[1]Establecimiento 2023'!$A$1:$E$183,5,FALSE),0)","v":"04301-Ovalle"},"16100300","2022-05-18T15:23:27",147,74,73,0,98]
[{"$nulls":23},4,"5",2022,"105722",{"$f":"IFERROR(VLOOKUP(Tabla_SERIED_12_5[[#This Row],[IdEstablecimiento]],'[1]Establecimiento 2023'!$A$1:$E$183,3,FALSE),0)","v":"105722-Centro Comunitario de Salud Familiar San José de la Dehesa"},{"$f":"IFERROR(VLOOKUP(Tabla_SERIED_12_5[[#This Row],[IdEstablecimiento]],'[1]Establecimiento 2023'!$A$1:$E$183,5,FALSE),0)","v":"04301-Ovalle"},"16200220","2022-05-18T15:23:27",23,10,13,1,0]
[{"$nulls":23},4,"5",2022,"105723",{"$f":"IFERROR(VLOOKUP(Tabla_SERIED_12_5[[#This Row],[IdEstablecimiento]],'[1]Establecimiento 2023'!$A$1:$E$183,3,FALSE),0)","v":"105723-Centro Comunitario de Salud Familiar Limarí"},{"$f":"IFERROR(VLOOKUP(Tabla_SERIED_12_5[[#This Row],[IdEstablecimiento]],'[1]Establecimiento 2023'!$A$1:$E$183,5,FALSE),0)","v":"04301-Ovalle"},"15010100","2022-05-18T15:23:39",22,{"$nulls":3},22]
[{"$nulls":23},4,"5",2022,"105723",{"$f":"IFERROR(VLOOKUP(Tabla_SERIED_12_5[[#This Row],[IdEstablecimiento]],'[1]Establecimiento 2023'!$A$1:$E$183,3,FALSE),0)","v":"105723-Centro Comunitario de Salud Familiar Limarí"},{"$f":"IFERROR(VLOOKUP(Tabla_SERIED_12_5[[#This Row],[IdEstablecimiento]],'[1]Establecimiento 2023'!$A$1:$E$183,5,FALSE),0)","v":"04301-Ovalle"},"15010200","2022-05-18T15:23:39",78,{"$nulls":4},22,30,26]
[{"$nulls":23},4,"5",2022,"105723",{"$f":"IFERROR(VLOOKUP(Tabla_SERIED_12_5[[#This Row],[IdEstablecimiento]],'[1]Establecimiento 2023'!$A$1:$E$183,3,FALSE),0)","v":"105723-Centro Comunitario de Salud Familiar Limarí"},{"$f":"IFERROR(VLOOKUP(Tabla_SERIED_12_5[[#This Row],[IdEstablecimiento]],'[1]Establecimiento 2023'!$A$1:$E$183,5,FALSE),0)","v":"04301-Ovalle"},"15080008","2022-05-18T15:23:39",24,{"$nulls":7},14,null,10]
[{"$nulls":23},4,"5",2022,"105723",{"$f":"IFERROR(VLOOKUP(Tabla_SERIED_12_5[[#This Row],[IdEstablecimiento]],'[1]Establecimiento 2023'!$A$1:$E$183,3,FALSE),0)","v":"105723-Centro Comunitario de Salud Familiar Limarí"},{"$f":"IFERROR(VLOOKUP(Tabla_SERIED_12_5[[#This Row],[IdEstablecimiento]],'[1]Establecimiento 2023'!$A$1:$E$183,5,FALSE),0)","v":"04301-Ovalle"},"15900010","2022-05-18T15:23:39",4.8,null,null,4.8]
[{"$nulls":23},4,"5",2022,"105459",{"$f":"IFERROR(VLOOKUP(Tabla_SERIED_12_5[[#This Row],[IdEstablecimiento]],'[1]Establecimiento 2023'!$A$1:$E$183,3,FALSE),0)","v":"105459-Posta de Salud Rural Barrancas"},{"$f":"IFERROR(VLOOKUP(Tabla_SERIED_12_5[[#This Row],[IdEstablecimiento]],'[1]Establecimiento 2023'!$A$1:$E$183,5,FALSE),0)","v":"04302-Combarbalá"},"16090300","2022-05-18T15:05:53",58,58]
[{"$nulls":23},4,"5",2022,"105459",{"$f":"IFERROR(VLOOKUP(Tabla_SERIED_12_5[[#This Row],[IdEstablecimiento]],'[1]Establecimiento 2023'!$A$1:$E$183,3,FALSE),0)","v":"105459-Posta de Salud Rural Barrancas"},{"$f":"IFERROR(VLOOKUP(Tabla_SERIED_12_5[[#This Row],[IdEstablecimiento]],'[1]Establecimiento 2023'!$A$1:$E$183,5,FALSE),0)","v":"04302-Combarbalá"},"16090500","2022-05-18T15:05:53",2,2]
[{"$nulls":23},4,"5",2022,"105459",{"$f":"IFERROR(VLOOKUP(Tabla_SERIED_12_5[[#This Row],[IdEstablecimiento]],'[1]Establecimiento 2023'!$A$1:$E$183,3,FALSE),0)","v":"105459-Posta de Salud Rural Barrancas"},{"$f":"IFERROR(VLOOKUP(Tabla_SERIED_12_5[[#This Row],[IdEstablecimiento]],'[1]Establecimiento 2023'!$A$1:$E$183,5,FALSE),0)","v":"04302-Combarbalá"},"16100300","2022-05-18T15:05:53",58,29,29]
[{"$nulls":23},4,"5",2022,"105459",{"$f":"IFERROR(VLOOKUP(Tabla_SERIED_12_5[[#This Row],[IdEstablecimiento]],'[1]Establecimiento 2023'!$A$1:$E$183,3,FALSE),0)","v":"105459-Posta de Salud Rural Barrancas"},{"$f":"IFERROR(VLOOKUP(Tabla_SERIED_12_5[[#This Row],[IdEstablecimiento]],'[1]Establecimiento 2023'!$A$1:$E$183,5,FALSE),0)","v":"04302-Combarbalá"},"16100600","2022-05-18T15:05:53",2,1,1]
[{"$nulls":23},4,"5",2022,"105461",{"$f":"IFERROR(VLOOKUP(Tabla_SERIED_12_5[[#This Row],[IdEstablecimiento]],'[1]Establecimiento 2023'!$A$1:$E$183,3,FALSE),0)","v":"105461-Posta de Salud Rural El Huacho"},{"$f":"IFERROR(VLOOKUP(Tabla_SERIED_12_5[[#This Row],[IdEstablecimiento]],'[1]Establecimiento 2023'!$A$1:$E$183,5,FALSE),0)","v":"04302-Combarbalá"},"15010200","2022-05-18T15:06:26",10,{"$nulls":4},2,4,4]
[{"$nulls":23},5,"5",2022,"105430",{"$f":"IFERROR(VLOOKUP(Tabla_SERIED_12_5[[#This Row],[IdEstablecimiento]],'[1]Establecimiento 2023'!$A$1:$E$183,3,FALSE),0)","v":"105430-Posta de Salud Rural Mialqui"},{"$f":"IFERROR(VLOOKUP(Tabla_SERIED_12_5[[#This Row],[IdEstablecimiento]],'[1]Establecimiento 2023'!$A$1:$E$183,5,FALSE),0)","v":"04303-Monte Patria"},"15010200","2022-06-20T17:13:52",6,{"$nulls":5},2,4]
[{"$nulls":23},5,"5",2022,"105499",{"$f":"IFERROR(VLOOKUP(Tabla_SERIED_12_5[[#This Row],[IdEstablecimiento]],'[1]Establecimiento 2023'!$A$1:$E$183,3,FALSE),0)","v":"105499-Posta de Salud Rural Lambert"},{"$f":"IFERROR(VLOOKUP(Tabla_SERIED_12_5[[#This Row],[IdEstablecimiento]],'[1]Establecimiento 2023'!$A$1:$E$183,5,FALSE),0)","v":"04101-La Serena"},"15010200","2022-06-20T17:27:18",12,{"$nulls":5},4,8]
[{"$nulls":23},5,"5",2022,"105499",{"$f":"IFERROR(VLOOKUP(Tabla_SERIED_12_5[[#This Row],[IdEstablecimiento]],'[1]Establecimiento 2023'!$A$1:$E$183,3,FALSE),0)","v":"105499-Posta de Salud Rural Lambert"},{"$f":"IFERROR(VLOOKUP(Tabla_SERIED_12_5[[#This Row],[IdEstablecimiento]],'[1]Establecimiento 2023'!$A$1:$E$183,5,FALSE),0)","v":"04101-La Serena"},"15080008","2022-06-20T17:27:18",5,{"$nulls":7},5]
[{"$nulls":23},5,"5",2022,"105499",{"$f":"IFERROR(VLOOKUP(Tabla_SERIED_12_5[[#This Row],[IdEstablecimiento]],'[1]Establecimiento 2023'!$A$1:$E$183,3,FALSE),0)","v":"105499-Posta de Salud Rural Lambert"},{"$f":"IFERROR(VLOOKUP(Tabla_SERIED_12_5[[#This Row],[IdEstablecimiento]],'[1]Establecimiento 2023'!$A$1:$E$183,5,FALSE),0)","v":"04101-La Serena"},"15900010","2022-06-20T17:27:18",6.4,null,null,6.4]
[{"$nulls":23},5,"5",2022,"105499",{"$f":"IFERROR(VLOOKUP(Tabla_SERIED_12_5[[#This Row],[IdEstablecimiento]],'[1]Establecimiento 2023'!$A$1:$E$183,3,FALSE),0)","v":"105499-Posta de Salud Rural Lambert"},{"$f":"IFERROR(VLOOKUP(Tabla_SERIED_12_5[[#This Row],[IdEstablecimiento]],'[1]Establecimiento 2023'!$A$1:$E$183,5,FALSE),0)","v":"04101-La Serena"},"15050100","2022-06-20T17:27:18",13,3,10,null,null,2,null,null,2,4,5]
[{"$nulls":23},5,"5",2022,"105499",{"$f":"IFERROR(VLOOKUP(Tabla_SERIED_12_5[[#This Row],[IdEstablecimiento]],'[1]Establecimiento 2023'!$A$1:$E$183,3,FALSE),0)","v":"105499-Posta de Salud Rural Lambert"},{"$f":"IFERROR(VLOOKUP(Tabla_SERIED_12_5[[#This Row],[IdEstablecimiento]],'[1]Establecimiento 2023'!$A$1:$E$183,5,FALSE),0)","v":"04101-La Serena"},"16090300","2022-06-20T17:27:18",11,11]
[{"$nulls":23},5,"5",2022,"105499",{"$f":"IFERROR(VLOOKUP(Tabla_SERIED_12_5[[#This Row],[IdEstablecimiento]],'[1]Establecimiento 2023'!$A$1:$E$183,3,FALSE),0)","v":"105499-Posta de Salud Rural Lambert"},{"$f":"IFERROR(VLOOKUP(Tabla_SERIED_12_5[[#This Row],[IdEstablecimiento]],'[1]Establecimiento 2023'!$A$1:$E$183,5,FALSE),0)","v":"04101-La Serena"},"16200210","2022-06-20T17:27:18",1,1]
[{"$nulls":23},5,"5",2022,"105499",{"$f":"IFERROR(VLOOKUP(Tabla_SERIED_12_5[[#This Row],[IdEstablecimiento]],'[1]Establecimiento 2023'!$A$1:$E$183,3,FALSE),0)","v":"105499-Posta de Salud Rural Lambert"},{"$f":"IFERROR(VLOOKUP(Tabla_SERIED_12_5[[#This Row],[IdEstablecimiento]],'[1]Establecimiento 2023'!$A$1:$E$183,5,FALSE),0)","v":"04101-La Serena"},"16100300","2022-06-20T17:27:18",11,6,5,3,29]
[{"$nulls":23},5,"5",2022,"105499",{"$f":"IFERROR(VLOOKUP(Tabla_SERIED_12_5[[#This Row],[IdEstablecimiento]],'[1]Establecimiento 2023'!$A$1:$E$183,3,FALSE),0)","v":"105499-Posta de Salud Rural Lambert"},{"$f":"IFERROR(VLOOKUP(Tabla_SERIED_12_5[[#This Row],[IdEstablecimiento]],'[1]Establecimiento 2023'!$A$1:$E$183,5,FALSE),0)","v":"04101-La Serena"},"16200220","2022-06-20T17:27:18",1,0,1]
[{"$nulls":23},4,"5",2022,"105422",{"$f":"IFERROR(VLOOKUP(Tabla_SERIED_12_5[[#This Row],[IdEstablecimiento]],'[1]Establecimiento 2023'!$A$1:$E$183,3,FALSE),0)","v":"105422-Posta de Salud Rural Hornillos"},{"$f":"IFERROR(VLOOKUP(Tabla_SERIED_12_5[[#This Row],[IdEstablecimiento]],'[1]Establecimiento 2023'!$A$1:$E$183,5,FALSE),0)","v":"04301-Ovalle"},"15010200","2022-05-18T14:54:06",18,{"$nulls":5},10,8]
[{"$nulls":23},4,"5",2022,"105422",{"$f":"IFERROR(VLOOKUP(Tabla_SERIED_12_5[[#This Row],[IdEstablecimiento]],'[1]Establecimiento 2023'!$A$1:$E$183,3,FALSE),0)","v":"105422-Posta de Salud Rural Hornillos"},{"$f":"IFERROR(VLOOKUP(Tabla_SERIED_12_5[[#This Row],[IdEstablecimiento]],'[1]Establecimiento 2023'!$A$1:$E$183,5,FALSE),0)","v":"04301-Ovalle"},"15080008","2022-05-18T14:54:06",7,{"$nulls":7},2,null,2,null,3]
[{"$nulls":23},4,"5",2022,"105422",{"$f":"IFERROR(VLOOKUP(Tabla_SERIED_12_5[[#This Row],[IdEstablecimiento]],'[1]Establecimiento 2023'!$A$1:$E$183,3,FALSE),0)","v":"105422-Posta de Salud Rural Hornillos"},{"$f":"IFERROR(VLOOKUP(Tabla_SERIED_12_5[[#This Row],[IdEstablecimiento]],'[1]Establecimiento 2023'!$A$1:$E$183,5,FALSE),0)","v":"04301-Ovalle"},"15050100","2022-05-18T14:54:06",15,6,9,{"$nulls":5},5,4,2,null,1,null,3]
[{"$nulls":23},4,"5",2022,"105422",{"$f":"IFERROR(VLOOKUP(Tabla_SERIED_12_5[[#This Row],[IdEstablecimiento]],'[1]Establecimiento 2023'!$A$1:$E$183,3,FALSE),0)","v":"105422-Posta de Salud Rural Hornillos"},{"$f":"IFERROR(VLOOKUP(Tabla_SERIED_12_5[[#This Row],[IdEstablecimiento]],'[1]Establecimiento 2023'!$A$1:$E$183,5,FALSE),0)","v":"04301-Ovalle"},"16090300","2022-05-18T14:54:06",42,42]
[{"$nulls":23},4,"5",2022,"105422",{"$f":"IFERROR(VLOOKUP(Tabla_SERIED_12_5[[#This Row],[IdEstablecimiento]],'[1]Establecimiento 2023'!$A$1:$E$183,3,FALSE),0)","v":"105422-Posta de Salud Rural Hornillos"},{"$f":"IFERROR(VLOOKUP(Tabla_SERIED_12_5[[#This Row],[IdEstablecimiento]],'[1]Establecimiento 2023'!$A$1:$E$183,5,FALSE),0)","v":"04301-Ovalle"},"16200210","2022-05-18T14:54:06",4,4]
[{"$nulls":23},4,"5",2022,"105422",{"$f":"IFERROR(VLOOKUP(Tabla_SERIED_12_5[[#This Row],[IdEstablecimiento]],'[1]Establecimiento 2023'!$A$1:$E$183,3,FALSE),0)","v":"105422-Posta de Salud Rural Hornillos"},{"$f":"IFERROR(VLOOKUP(Tabla_SERIED_12_5[[#This Row],[IdEstablecimiento]],'[1]Establecimiento 2023'!$A$1:$E$183,5,FALSE),0)","v":"04301-Ovalle"},"16100300","2022-05-18T14:54:06",42,16,26,0,3]
[{"$nulls":23},7,"5",2022,"105453",{"$f":"IFERROR(VLOOKUP(Tabla_SERIED_12_5[[#This Row],[IdEstablecimiento]],'[1]Establecimiento 2023'!$A$1:$E$183,3,FALSE),0)","v":"105453-Posta de Salud Rural Tranquilla"},{"$f":"IFERROR(VLOOKUP(Tabla_SERIED_12_5[[#This Row],[IdEstablecimiento]],'[1]Establecimiento 2023'!$A$1:$E$183,5,FALSE),0)","v":"04204-Salamanca"},"15050100","2022-08-22T05:58:33",36,18,18,null,null,1,5,3,13,13,{"$nulls":4},1]
[{"$nulls":23},7,"5",2022,"105453",{"$f":"IFERROR(VLOOKUP(Tabla_SERIED_12_5[[#This Row],[IdEstablecimiento]],'[1]Establecimiento 2023'!$A$1:$E$183,3,FALSE),0)","v":"105453-Posta de Salud Rural Tranquilla"},{"$f":"IFERROR(VLOOKUP(Tabla_SERIED_12_5[[#This Row],[IdEstablecimiento]],'[1]Establecimiento 2023'!$A$1:$E$183,5,FALSE),0)","v":"04204-Salamanca"},"15050200","2022-08-22T05:58:33",2,2,null,null,1,{"$nulls":3},1]
[{"$nulls":23},7,"5",2022,"105453",{"$f":"IFERROR(VLOOKUP(Tabla_SERIED_12_5[[#This Row],[IdEstablecimiento]],'[1]Establecimiento 2023'!$A$1:$E$183,3,FALSE),0)","v":"105453-Posta de Salud Rural Tranquilla"},{"$f":"IFERROR(VLOOKUP(Tabla_SERIED_12_5[[#This Row],[IdEstablecimiento]],'[1]Establecimiento 2023'!$A$1:$E$183,5,FALSE),0)","v":"04204-Salamanca"},"16090300","2022-08-22T05:58:33",76,76]
[{"$nulls":23},5,"5",2022,"105430",{"$f":"IFERROR(VLOOKUP(Tabla_SERIED_12_5[[#This Row],[IdEstablecimiento]],'[1]Establecimiento 2023'!$A$1:$E$183,3,FALSE),0)","v":"105430-Posta de Salud Rural Mialqui"},{"$f":"IFERROR(VLOOKUP(Tabla_SERIED_12_5[[#This Row],[IdEstablecimiento]],'[1]Establecimiento 2023'!$A$1:$E$183,5,FALSE),0)","v":"04303-Monte Patria"},"15080008","2022-06-20T17:13:52",9,{"$nulls":7},2,null,6,0,1]
[{"$nulls":23},5,"5",2022,"105430",{"$f":"IFERROR(VLOOKUP(Tabla_SERIED_12_5[[#This Row],[IdEstablecimiento]],'[1]Establecimiento 2023'!$A$1:$E$183,3,FALSE),0)","v":"105430-Posta de Salud Rural Mialqui"},{"$f":"IFERROR(VLOOKUP(Tabla_SERIED_12_5[[#This Row],[IdEstablecimiento]],'[1]Establecimiento 2023'!$A$1:$E$183,5,FALSE),0)","v":"04303-Monte Patria"},"15900010","2022-06-20T17:13:52",2.4,2.4]
[{"$nulls":23},5,"5",2022,"105430",{"$f":"IFERROR(VLOOKUP(Tabla_SERIED_12_5[[#This Row],[IdEstablecimiento]],'[1]Establecimiento 2023'!$A$1:$E$183,3,FALSE),0)","v":"105430-Posta de Salud Rural Mialqui"},{"$f":"IFERROR(VLOOKUP(Tabla_SERIED_12_5[[#This Row],[IdEstablecimiento]],'[1]Establecimiento 2023'!$A$1:$E$183,5,FALSE),0)","v":"04303-Monte Patria"},"15010400","2022-06-20T17:13:52",6,{"$nulls":5},2,4]
[{"$nulls":23},5,"5",2022,"105430",{"$f":"IFERROR(VLOOKUP(Tabla_SERIED_12_5[[#This Row],[IdEstablecimiento]],'[1]Establecimiento 2023'!$A$1:$E$183,3,FALSE),0)","v":"105430-Posta de Salud Rural Mialqui"},{"$f":"IFERROR(VLOOKUP(Tabla_SERIED_12_5[[#This Row],[IdEstablecimiento]],'[1]Establecimiento 2023'!$A$1:$E$183,5,FALSE),0)","v":"04303-Monte Patria"},"15010500","2022-06-20T17:13:52",6,{"$nulls":5},2,4]
[{"$nulls":23},5,"5",2022,"105430",{"$f":"IFERROR(VLOOKUP(Tabla_SERIED_12_5[[#This Row],[IdEstablecimiento]],'[1]Establecimiento 2023'!$A$1:$E$183,3,FALSE),0)","v":"105430-Posta de Salud Rural Mialqui"},{"$f":"IFERROR(VLOOKUP(Tabla_SERIED_12_5[[#This Row],[IdEstablecimiento]],'[1]Establecimiento 2023'!$A$1:$E$183,5,FALSE),0)","v":"04303-Monte Patria"},"15050100","2022-06-20T17:13:52",13,2,11,2,null,null,2,null,1,2,2,null,3,0,1]
[{"$nulls":23},5,"5",2022,"105430",{"$f":"IFERROR(VLOOKUP(Tabla_SERIED_12_5[[#This Row],[IdEstablecimiento]],'[1]Establecimiento 2023'!$A$1:$E$183,3,FALSE),0)","v":"105430-Posta de Salud Rural Mialqui"},{"$f":"IFERROR(VLOOKUP(Tabla_SERIED_12_5[[#This Row],[IdEstablecimiento]],'[1]Establecimiento 2023'!$A$1:$E$183,5,FALSE),0)","v":"04303-Monte Patria"},"15050200","2022-06-20T17:13:52",3,3,0,{"$nulls":5},1,2]
[{"$nulls":23},5,"5",2022,"105430",{"$f":"IFERROR(VLOOKUP(Tabla_SERIED_12_5[[#This Row],[IdEstablecimiento]],'[1]Establecimiento 2023'!$A$1:$E$183,3,FALSE),0)","v":"105430-Posta de Salud Rural Mialqui"},{"$f":"IFERROR(VLOOKUP(Tabla_SERIED_12_5[[#This Row],[IdEstablecimiento]],'[1]Establecimiento 2023'!$A$1:$E$183,5,FALSE),0)","v":"04303-Monte Patria"},"16090300","2022-06-20T17:13:52",16,16]
[{"$nulls":23},5,"5",2022,"105430",{"$f":"IFERROR(VLOOKUP(Tabla_SERIED_12_5[[#This Row],[IdEstablecimiento]],'[1]Establecimiento 2023'!$A$1:$E$183,3,FALSE),0)","v":"105430-Posta de Salud Rural Mialqui"},{"$f":"IFERROR(VLOOKUP(Tabla_SERIED_12_5[[#This Row],[IdEstablecimiento]],'[1]Establecimiento 2023'!$A$1:$E$183,5,FALSE),0)","v":"04303-Monte Patria"},"16200210","2022-06-20T17:13:52",4,4]
[{"$nulls":23},5,"5",2022,"105430",{"$f":"IFERROR(VLOOKUP(Tabla_SERIED_12_5[[#This Row],[IdEstablecimiento]],'[1]Establecimiento 2023'!$A$1:$E$183,3,FALSE),0)","v":"105430-Posta de Salud Rural Mialqui"},{"$f":"IFERROR(VLOOKUP(Tabla_SERIED_12_5[[#This Row],[IdEstablecimiento]],'[1]Establecimiento 2023'!$A$1:$E$183,5,FALSE),0)","v":"04303-Monte Patria"},"16100300","2022-06-20T17:13:52",9,4,5,2,0]
[{"$nulls":23},5,"5",2022,"105430",{"$f":"IFERROR(VLOOKUP(Tabla_SERIED_12_5[[#This Row],[IdEstablecimiento]],'[1]Establecimiento 2023'!$A$1:$E$183,3,FALSE),0)","v":"105430-Posta de Salud Rural Mialqui"},{"$f":"IFERROR(VLOOKUP(Tabla_SERIED_12_5[[#This Row],[IdEstablecimiento]],'[1]Establecimiento 2023'!$A$1:$E$183,5,FALSE),0)","v":"04303-Monte Patria"},"16200220","2022-06-20T17:13:52",2,1,1,0,0]
[{"$nulls":23},5,"5",2022,"105431",{"$f":"IFERROR(VLOOKUP(Tabla_SERIED_12_5[[#This Row],[IdEstablecimiento]],'[1]Establecimiento 2023'!$A$1:$E$183,3,FALSE),0)","v":"105431-Posta de Salud Rural Pedregal"},{"$f":"IFERROR(VLOOKUP(Tabla_SERIED_12_5[[#This Row],[IdEstablecimiento]],'[1]Establecimiento 2023'!$A$1:$E$183,5,FALSE),0)","v":"04303-Monte Patria"},"15010100","2022-06-20T17:14:04",2,{"$nulls":3},2]
[{"$nulls":23},5,"5",2022,"105431",{"$f":"IFERROR(VLOOKUP(Tabla_SERIED_12_5[[#This Row],[IdEstablecimiento]],'[1]Establecimiento 2023'!$A$1:$E$183,3,FALSE),0)","v":"105431-Posta de Salud Rural Pedregal"},{"$f":"IFERROR(VLOOKUP(Tabla_SERIED_12_5[[#This Row],[IdEstablecimiento]],'[1]Establecimiento 2023'!$A$1:$E$183,5,FALSE),0)","v":"04303-Monte Patria"},"15010200","2022-06-20T17:14:04",6,{"$nulls":4},2,2,2]
[{"$nulls":23},5,"5",2022,"105431",{"$f":"IFERROR(VLOOKUP(Tabla_SERIED_12_5[[#This Row],[IdEstablecimiento]],'[1]Establecimiento 2023'!$A$1:$E$183,3,FALSE),0)","v":"105431-Posta de Salud Rural Pedregal"},{"$f":"IFERROR(VLOOKUP(Tabla_SERIED_12_5[[#This Row],[IdEstablecimiento]],'[1]Establecimiento 2023'!$A$1:$E$183,5,FALSE),0)","v":"04303-Monte Patria"},"15080008","2022-06-20T17:14:04",2,{"$nulls":7},2]
[{"$nulls":23},5,"5",2022,"105431",{"$f":"IFERROR(VLOOKUP(Tabla_SERIED_12_5[[#This Row],[IdEstablecimiento]],'[1]Establecimiento 2023'!$A$1:$E$183,3,FALSE),0)","v":"105431-Posta de Salud Rural Pedregal"},{"$f":"IFERROR(VLOOKUP(Tabla_SERIED_12_5[[#This Row],[IdEstablecimiento]],'[1]Establecimiento 2023'!$A$1:$E$183,5,FALSE),0)","v":"04303-Monte Patria"},"15050100","2022-06-20T17:14:04",6,1,5,{"$nulls":3},1,1,1,1,2]
[{"$nulls":23},5,"5",2022,"105431",{"$f":"IFERROR(VLOOKUP(Tabla_SERIED_12_5[[#This Row],[IdEstablecimiento]],'[1]Establecimiento 2023'!$A$1:$E$183,3,FALSE),0)","v":"105431-Posta de Salud Rural Pedregal"},{"$f":"IFERROR(VLOOKUP(Tabla_SERIED_12_5[[#This Row],[IdEstablecimiento]],'[1]Establecimiento 2023'!$A$1:$E$183,5,FALSE),0)","v":"04303-Monte Patria"},"16090300","2022-06-20T17:14:04",114,114]
[{"$nulls":23},5,"5",2022,"105431",{"$f":"IFERROR(VLOOKUP(Tabla_SERIED_12_5[[#This Row],[IdEstablecimiento]],'[1]Establecimiento 2023'!$A$1:$E$183,3,FALSE),0)","v":"105431-Posta de Salud Rural Pedregal"},{"$f":"IFERROR(VLOOKUP(Tabla_SERIED_12_5[[#This Row],[IdEstablecimiento]],'[1]Establecimiento 2023'!$A$1:$E$183,5,FALSE),0)","v":"04303-Monte Patria"},"16200210","2022-06-20T17:14:04",2,2]
[{"$nulls":23},5,"5",2022,"105431",{"$f":"IFERROR(VLOOKUP(Tabla_SERIED_12_5[[#This Row],[IdEstablecimiento]],'[1]Establecimiento 2023'!$A$1:$E$183,3,FALSE),0)","v":"105431-Posta de Salud Rural Pedregal"},{"$f":"IFERROR(VLOOKUP(Tabla_SERIED_12_5[[#This Row],[IdEstablecimiento]],'[1]Establecimiento 2023'!$A$1:$E$183,5,FALSE),0)","v":"04303-Monte Patria"},"16100300","2022-06-20T17:14:04",57,26,31]
[{"$nulls":23},5,"5",2022,"105431",{"$f":"IFERROR(VLOOKUP(Tabla_SERIED_12_5[[#This Row],[IdEstablecimiento]],'[1]Establecimiento 2023'!$A$1:$E$183,3,FALSE),0)","v":"105431-Posta de Salud Rural Pedregal"},{"$f":"IFERROR(VLOOKUP(Tabla_SERIED_12_5[[#This Row],[IdEstablecimiento]],'[1]Establecimiento 2023'!$A$1:$E$183,5,FALSE),0)","v":"04303-Monte Patria"},"16200220","2022-06-20T17:14:04",1,1]
[{"$nulls":23},5,"5",2022,"105432",{"$f":"IFERROR(VLOOKUP(Tabla_SERIED_12_5[[#This Row],[IdEstablecimiento]],'[1]Establecimiento 2023'!$A$1:$E$183,3,FALSE),0)","v":"105432-Posta de Salud Rural Rapel (Monte Patria)"},{"$f":"IFERROR(VLOOKUP(Tabla_SERIED_12_5[[#This Row],[IdEstablecimiento]],'[1]Establecimiento 2023'!$A$1:$E$183,5,FALSE),0)","v":"04303-Monte Patria"},"15010100","2022-06-20T17:14:45",8,{"$nulls":3},8]
[{"$nulls":23},5,"5",2022,"105432",{"$f":"IFERROR(VLOOKUP(Tabla_SERIED_12_5[[#This Row],[IdEstablecimiento]],'[1]Establecimiento 2023'!$A$1:$E$183,3,FALSE),0)","v":"105432-Posta de Salud Rural Rapel (Monte Patria)"},{"$f":"IFERROR(VLOOKUP(Tabla_SERIED_12_5[[#This Row],[IdEstablecimiento]],'[1]Establecimiento 2023'!$A$1:$E$183,5,FALSE),0)","v":"04303-Monte Patria"},"15010200","2022-06-20T17:14:45",30,{"$nulls":4},12,14,4]
[{"$nulls":23},5,"5",2022,"105432",{"$f":"IFERROR(VLOOKUP(Tabla_SERIED_12_5[[#This Row],[IdEstablecimiento]],'[1]Establecimiento 2023'!$A$1:$E$183,3,FALSE),0)","v":"105432-Posta de Salud Rural Rapel (Monte Patria)"},{"$f":"IFERROR(VLOOKUP(Tabla_SERIED_12_5[[#This Row],[IdEstablecimiento]],'[1]Establecimiento 2023'!$A$1:$E$183,5,FALSE),0)","v":"04303-Monte Patria"},"15080008","2022-06-20T17:14:45",8,{"$nulls":7},2,null,4,null,2]
[{"$nulls":23},5,"5",2022,"105432",{"$f":"IFERROR(VLOOKUP(Tabla_SERIED_12_5[[#This Row],[IdEstablecimiento]],'[1]Establecimiento 2023'!$A$1:$E$183,3,FALSE),0)","v":"105432-Posta de Salud Rural Rapel (Monte Patria)"},{"$f":"IFERROR(VLOOKUP(Tabla_SERIED_12_5[[#This Row],[IdEstablecimiento]],'[1]Establecimiento 2023'!$A$1:$E$183,5,FALSE),0)","v":"04303-Monte Patria"},"15900010","2022-06-20T17:14:45",4.8,null,null,4.8]
[{"$nulls":23},5,"5",2022,"105432",{"$f":"IFERROR(VLOOKUP(Tabla_SERIED_12_5[[#This Row],[IdEstablecimiento]],'[1]Establecimiento 2023'!$A$1:$E$183,3,FALSE),0)","v":"105432-Posta de Salud Rural Rapel (Monte Patria)"},{"$f":"IFERROR(VLOOKUP(Tabla_SERIED_12_5[[#This Row],[IdEstablecimiento]],'[1]Establecimiento 2023'!$A$1:$E$183,5,FALSE),0)","v":"04303-Monte Patria"},"15050100","2022-06-20T17:14:45",25,7,18,{"$nulls":3},4,6,7,2,2,null,2,null,2]
[{"$nulls":23},5,"5",2022,"105432",{"$f":"IFERROR(VLOOKUP(Tabla_SERIED_12_5[[#This Row],[IdEstablecimiento]],'[1]Establecimiento 2023'!$A$1:$E$183,3,FALSE),0)","v":"105432-Posta de Salud Rural Rapel (Monte Patria)"},{"$f":"IFERROR(VLOOKUP(Tabla_SERIED_12_5[[#This Row],[IdEstablecimiento]],'[1]Establecimiento 2023'!$A$1:$E$183,5,FALSE),0)","v":"04303-Monte Patria"},"16090300","2022-06-20T17:14:45",72,72]
[{"$nulls":23},5,"5",2022,"105432",{"$f":"IFERROR(VLOOKUP(Tabla_SERIED_12_5[[#This Row],[IdEstablecimiento]],'[1]Establecimiento 2023'!$A$1:$E$183,3,FALSE),0)","v":"105432-Posta de Salud Rural Rapel (Monte Patria)"},{"$f":"IFERROR(VLOOKUP(Tabla_SERIED_12_5[[#This Row],[IdEstablecimiento]],'[1]Establecimiento 2023'!$A$1:$E$183,5,FALSE),0)","v":"04303-Monte Patria"},"16200210","2022-06-20T17:14:45",4,4]
[{"$nulls":23},5,"5",2022,"105432",{"$f":"IFERROR(VLOOKUP(Tabla_SERIED_12_5[[#This Row],[IdEstablecimiento]],'[1]Establecimiento 2023'!$A$1:$E$183,3,FALSE),0)","v":"105432-Posta de Salud Rural Rapel (Monte Patria)"},{"$f":"IFERROR(VLOOKUP(Tabla_SERIED_12_5[[#This Row],[IdEstablecimiento]],'[1]Establecimiento 2023'!$A$1:$E$183,5,FALSE),0)","v":"04303-Monte Patria"},"16100300","2022-06-20T17:14:45",36,13,23,null,3]
[{"$nulls":23},5,"5",2022,"105432",{"$f":"IFERROR(VLOOKUP(Tabla_SERIED_12_5[[#This Row],[IdEstablecimiento]],'[1]Establecimiento 2023'!$A$1:$E$183,3,FALSE),0)","v":"105432-Posta de Salud Rural Rapel (Monte Patria)"},{"$f":"IFERROR(VLOOKUP(Tabla_SERIED_12_5[[#This Row],[IdEstablecimiento]],'[1]Establecimiento 2023'!$A$1:$E$183,5,FALSE),0)","v":"04303-Monte Patria"},"16200220","2022-06-20T17:14:45",2,1,1]
[{"$nulls":23},5,"5",2022,"105433",{"$f":"IFERROR(VLOOKUP(Tabla_SERIED_12_5[[#This Row],[IdEstablecimiento]],'[1]Establecimiento 2023'!$A$1:$E$183,3,FALSE),0)","v":"105433-Posta de Salud Rural San Lorenzo (Combarbalá)"},{"$f":"IFERROR(VLOOKUP(Tabla_SERIED_12_5[[#This Row],[IdEstablecimiento]],'[1]Establecimiento 2023'!$A$1:$E$183,5,FALSE),0)","v":"04302-Combarbalá"},"15010200","2022-06-20T17:14:59",4,{"$nulls":5},4]
[{"$nulls":23},5,"5",2022,"105433",{"$f":"IFERROR(VLOOKUP(Tabla_SERIED_12_5[[#This Row],[IdEstablecimiento]],'[1]Establecimiento 2023'!$A$1:$E$183,3,FALSE),0)","v":"105433-Posta de Salud Rural San Lorenzo (Combarbalá)"},{"$f":"IFERROR(VLOOKUP(Tabla_SERIED_12_5[[#This Row],[IdEstablecimiento]],'[1]Establecimiento 2023'!$A$1:$E$183,5,FALSE),0)","v":"04302-Combarbalá"},"15050100","2022-06-20T17:14:59",2,1,1,{"$nulls":5},2]
[{"$nulls":23},5,"5",2022,"105433",{"$f":"IFERROR(VLOOKUP(Tabla_SERIED_12_5[[#This Row],[IdEstablecimiento]],'[1]Establecimiento 2023'!$A$1:$E$183,3,FALSE),0)","v":"105433-Posta de Salud Rural San Lorenzo (Combarbalá)"},{"$f":"IFERROR(VLOOKUP(Tabla_SERIED_12_5[[#This Row],[IdEstablecimiento]],'[1]Establecimiento 2023'!$A$1:$E$183,5,FALSE),0)","v":"04302-Combarbalá"},"16090300","2022-06-20T17:14:59",18,18]
[{"$nulls":23},5,"5",2022,"105433",{"$f":"IFERROR(VLOOKUP(Tabla_SERIED_12_5[[#This Row],[IdEstablecimiento]],'[1]Establecimiento 2023'!$A$1:$E$183,3,FALSE),0)","v":"105433-Posta de Salud Rural San Lorenzo (Combarbalá)"},{"$f":"IFERROR(VLOOKUP(Tabla_SERIED_12_5[[#This Row],[IdEstablecimiento]],'[1]Establecimiento 2023'!$A$1:$E$183,5,FALSE),0)","v":"04302-Combarbalá"},"16200210","2022-06-20T17:14:59",2,2]
[{"$nulls":23},5,"5",2022,"105433",{"$f":"IFERROR(VLOOKUP(Tabla_SERIED_12_5[[#This Row],[IdEstablecimiento]],'[1]Establecimiento 2023'!$A$1:$E$183,3,FALSE),0)","v":"105433-Posta de Salud Rural San Lorenzo (Combarbalá)"},{"$f":"IFERROR(VLOOKUP(Tabla_SERIED_12_5[[#This Row],[IdEstablecimiento]],'[1]Establecimiento 2023'!$A$1:$E$183,5,FALSE),0)","v":"04302-Combarbalá"},"16100300","2022-06-20T17:14:59",18,8,10]
[{"$nulls":23},5,"5",2022,"105433",{"$f":"IFERROR(VLOOKUP(Tabla_SERIED_12_5[[#This Row],[IdEstablecimiento]],'[1]Establecimiento 2023'!$A$1:$E$183,3,FALSE),0)","v":"105433-Posta de Salud Rural San Lorenzo (Combarbalá)"},{"$f":"IFERROR(VLOOKUP(Tabla_SERIED_12_5[[#This Row],[IdEstablecimiento]],'[1]Establecimiento 2023'!$A$1:$E$183,5,FALSE),0)","v":"04302-Combarbalá"},"16200220","2022-06-20T17:14:59",2,null,2]
[{"$nulls":23},5,"5",2022,"105434",{"$f":"IFERROR(VLOOKUP(Tabla_SERIED_12_5[[#This Row],[IdEstablecimiento]],'[1]Establecimiento 2023'!$A$1:$E$183,3,FALSE),0)","v":"105434-Posta de Salud Rural San Marcos (Combarbalá)"},{"$f":"IFERROR(VLOOKUP(Tabla_SERIED_12_5[[#This Row],[IdEstablecimiento]],'[1]Establecimiento 2023'!$A$1:$E$183,5,FALSE),0)","v":"04302-Combarbalá"},"15010200","2022-06-20T17:15:13",16,{"$nulls":4},2,8,6]
[{"$nulls":23},5,"5",2022,"105434",{"$f":"IFERROR(VLOOKUP(Tabla_SERIED_12_5[[#This Row],[IdEstablecimiento]],'[1]Establecimiento 2023'!$A$1:$E$183,3,FALSE),0)","v":"105434-Posta de Salud Rural San Marcos (Combarbalá)"},{"$f":"IFERROR(VLOOKUP(Tabla_SERIED_12_5[[#This Row],[IdEstablecimiento]],'[1]Establecimiento 2023'!$A$1:$E$183,5,FALSE),0)","v":"04302-Combarbalá"},"15080008","2022-06-20T17:15:13",4,{"$nulls":7},4]
[{"$nulls":23},1,"5",2022,"105475",{"$f":"IFERROR(VLOOKUP(Tabla_SERIED_12_5[[#This Row],[IdEstablecimiento]],'[1]Establecimiento 2023'!$A$1:$E$183,3,FALSE),0)","v":"105475-Posta de Salud Rural Horcón (Paiguano)"},{"$f":"IFERROR(VLOOKUP(Tabla_SERIED_12_5[[#This Row],[IdEstablecimiento]],'[1]Establecimiento 2023'!$A$1:$E$183,5,FALSE),0)","v":"04105-Paiguano"},"15010100","2022-02-17T03:54:37",4,{"$nulls":3},4]
[{"$nulls":23},1,"5",2022,"105475",{"$f":"IFERROR(VLOOKUP(Tabla_SERIED_12_5[[#This Row],[IdEstablecimiento]],'[1]Establecimiento 2023'!$A$1:$E$183,3,FALSE),0)","v":"105475-Posta de Salud Rural Horcón (Paiguano)"},{"$f":"IFERROR(VLOOKUP(Tabla_SERIED_12_5[[#This Row],[IdEstablecimiento]],'[1]Establecimiento 2023'!$A$1:$E$183,5,FALSE),0)","v":"04105-Paiguano"},"15010200","2022-02-17T03:54:37",16,{"$nulls":4},2,8,6]
[{"$nulls":23},1,"5",2022,"105475",{"$f":"IFERROR(VLOOKUP(Tabla_SERIED_12_5[[#This Row],[IdEstablecimiento]],'[1]Establecimiento 2023'!$A$1:$E$183,3,FALSE),0)","v":"105475-Posta de Salud Rural Horcón (Paiguano)"},{"$f":"IFERROR(VLOOKUP(Tabla_SERIED_12_5[[#This Row],[IdEstablecimiento]],'[1]Establecimiento 2023'!$A$1:$E$183,5,FALSE),0)","v":"04105-Paiguano"},"15080008","2022-02-17T03:54:37",3,{"$nulls":10},1,2]
[{"$nulls":23},1,"5",2022,"105475",{"$f":"IFERROR(VLOOKUP(Tabla_SERIED_12_5[[#This Row],[IdEstablecimiento]],'[1]Establecimiento 2023'!$A$1:$E$183,3,FALSE),0)","v":"105475-Posta de Salud Rural Horcón (Paiguano)"},{"$f":"IFERROR(VLOOKUP(Tabla_SERIED_12_5[[#This Row],[IdEstablecimiento]],'[1]Establecimiento 2023'!$A$1:$E$183,5,FALSE),0)","v":"04105-Paiguano"},"15900010","2022-02-17T03:54:37",3.2,null,null,3.2]
[{"$nulls":23},3,"5",2022,"105310",{"$f":"IFERROR(VLOOKUP(Tabla_SERIED_12_5[[#This Row],[IdEstablecimiento]],'[1]Establecimiento 2023'!$A$1:$E$183,3,FALSE),0)","v":"105310-Centro de Salud Familiar Pichasca"},{"$f":"IFERROR(VLOOKUP(Tabla_SERIED_12_5[[#This Row],[IdEstablecimiento]],'[1]Establecimiento 2023'!$A$1:$E$183,5,FALSE),0)","v":"04305-Río Hurtado"},"15010400","2022-04-19T08:08:30",4,{"$nulls":5},4]
[{"$nulls":23},3,"5",2022,"105310",{"$f":"IFERROR(VLOOKUP(Tabla_SERIED_12_5[[#This Row],[IdEstablecimiento]],'[1]Establecimiento 2023'!$A$1:$E$183,3,FALSE),0)","v":"105310-Centro de Salud Familiar Pichasca"},{"$f":"IFERROR(VLOOKUP(Tabla_SERIED_12_5[[#This Row],[IdEstablecimiento]],'[1]Establecimiento 2023'!$A$1:$E$183,5,FALSE),0)","v":"04305-Río Hurtado"},"15010500","2022-04-19T08:08:30",4,{"$nulls":5},4]
[{"$nulls":23},3,"5",2022,"105310",{"$f":"IFERROR(VLOOKUP(Tabla_SERIED_12_5[[#This Row],[IdEstablecimiento]],'[1]Establecimiento 2023'!$A$1:$E$183,3,FALSE),0)","v":"105310-Centro de Salud Familiar Pichasca"},{"$f":"IFERROR(VLOOKUP(Tabla_SERIED_12_5[[#This Row],[IdEstablecimiento]],'[1]Establecimiento 2023'!$A$1:$E$183,5,FALSE),0)","v":"04305-Río Hurtado"},"15050100","2022-04-19T08:08:30",21,8,13,null,1,null,1,1,7,9,null,null,2,0,0]
[{"$nulls":23},3,"5",2022,"105310",{"$f":"IFERROR(VLOOKUP(Tabla_SERIED_12_5[[#This Row],[IdEstablecimiento]],'[1]Establecimiento 2023'!$A$1:$E$183,3,FALSE),0)","v":"105310-Centro de Salud Familiar Pichasca"},{"$f":"IFERROR(VLOOKUP(Tabla_SERIED_12_5[[#This Row],[IdEstablecimiento]],'[1]Establecimiento 2023'!$A$1:$E$183,5,FALSE),0)","v":"04305-Río Hurtado"},"15050200","2022-04-19T08:08:30",2,null,2,{"$nulls":5},2,{"$nulls":3},0,0,0]
[{"$nulls":23},3,"5",2022,"105310",{"$f":"IFERROR(VLOOKUP(Tabla_SERIED_12_5[[#This Row],[IdEstablecimiento]],'[1]Establecimiento 2023'!$A$1:$E$183,3,FALSE),0)","v":"105310-Centro de Salud Familiar Pichasca"},{"$f":"IFERROR(VLOOKUP(Tabla_SERIED_12_5[[#This Row],[IdEstablecimiento]],'[1]Establecimiento 2023'!$A$1:$E$183,5,FALSE),0)","v":"04305-Río Hurtado"},"16090300","2022-04-19T08:08:30",72,72]
[{"$nulls":23},3,"5",2022,"105310",{"$f":"IFERROR(VLOOKUP(Tabla_SERIED_12_5[[#This Row],[IdEstablecimiento]],'[1]Establecimiento 2023'!$A$1:$E$183,3,FALSE),0)","v":"105310-Centro de Salud Familiar Pichasca"},{"$f":"IFERROR(VLOOKUP(Tabla_SERIED_12_5[[#This Row],[IdEstablecimiento]],'[1]Establecimiento 2023'!$A$1:$E$183,5,FALSE),0)","v":"04305-Río Hurtado"},"16200210","2022-04-19T08:08:30",14,14]
[{"$nulls":23},3,"5",2022,"105310",{"$f":"IFERROR(VLOOKUP(Tabla_SERIED_12_5[[#This Row],[IdEstablecimiento]],'[1]Establecimiento 2023'!$A$1:$E$183,3,FALSE),0)","v":"105310-Centro de Salud Familiar Pichasca"},{"$f":"IFERROR(VLOOKUP(Tabla_SERIED_12_5[[#This Row],[IdEstablecimiento]],'[1]Establecimiento 2023'!$A$1:$E$183,5,FALSE),0)","v":"04305-Río Hurtado"},"16100300","2022-04-19T08:08:30",72,32,40,1,22]
[{"$nulls":23},3,"5",2022,"105310",{"$f":"IFERROR(VLOOKUP(Tabla_SERIED_12_5[[#This Row],[IdEstablecimiento]],'[1]Establecimiento 2023'!$A$1:$E$183,3,FALSE),0)","v":"105310-Centro de Salud Familiar Pichasca"},{"$f":"IFERROR(VLOOKUP(Tabla_SERIED_12_5[[#This Row],[IdEstablecimiento]],'[1]Establecimiento 2023'!$A$1:$E$183,5,FALSE),0)","v":"04305-Río Hurtado"},"16200220","2022-04-19T08:08:30",14,5,9,1,5]
[{"$nulls":23},3,"5",2022,"105311",{"$f":"IFERROR(VLOOKUP(Tabla_SERIED_12_5[[#This Row],[IdEstablecimiento]],'[1]Establecimiento 2023'!$A$1:$E$183,3,FALSE),0)","v":"105311-Centro de Salud Familiar Chañaral Alto"},{"$f":"IFERROR(VLOOKUP(Tabla_SERIED_12_5[[#This Row],[IdEstablecimiento]],'[1]Establecimiento 2023'!$A$1:$E$183,5,FALSE),0)","v":"04303-Monte Patria"},"15010100","2022-04-19T08:08:42",20,{"$nulls":3},20]
[{"$nulls":23},3,"5",2022,"105311",{"$f":"IFERROR(VLOOKUP(Tabla_SERIED_12_5[[#This Row],[IdEstablecimiento]],'[1]Establecimiento 2023'!$A$1:$E$183,3,FALSE),0)","v":"105311-Centro de Salud Familiar Chañaral Alto"},{"$f":"IFERROR(VLOOKUP(Tabla_SERIED_12_5[[#This Row],[IdEstablecimiento]],'[1]Establecimiento 2023'!$A$1:$E$183,5,FALSE),0)","v":"04303-Monte Patria"},"15010200","2022-04-19T08:08:42",116,{"$nulls":4},12,54,50]
[{"$nulls":23},3,"5",2022,"105311",{"$f":"IFERROR(VLOOKUP(Tabla_SERIED_12_5[[#This Row],[IdEstablecimiento]],'[1]Establecimiento 2023'!$A$1:$E$183,3,FALSE),0)","v":"105311-Centro de Salud Familiar Chañaral Alto"},{"$f":"IFERROR(VLOOKUP(Tabla_SERIED_12_5[[#This Row],[IdEstablecimiento]],'[1]Establecimiento 2023'!$A$1:$E$183,5,FALSE),0)","v":"04303-Monte Patria"},"15080008","2022-04-19T08:08:42",37,{"$nulls":7},17,null,16,null,4]
[{"$nulls":23},3,"5",2022,"105311",{"$f":"IFERROR(VLOOKUP(Tabla_SERIED_12_5[[#This Row],[IdEstablecimiento]],'[1]Establecimiento 2023'!$A$1:$E$183,3,FALSE),0)","v":"105311-Centro de Salud Familiar Chañaral Alto"},{"$f":"IFERROR(VLOOKUP(Tabla_SERIED_12_5[[#This Row],[IdEstablecimiento]],'[1]Establecimiento 2023'!$A$1:$E$183,5,FALSE),0)","v":"04303-Monte Patria"},"15900010","2022-04-19T08:08:42",20,4,4,12]
[{"$nulls":23},7,"5",2022,"105453",{"$f":"IFERROR(VLOOKUP(Tabla_SERIED_12_5[[#This Row],[IdEstablecimiento]],'[1]Establecimiento 2023'!$A$1:$E$183,3,FALSE),0)","v":"105453-Posta de Salud Rural Tranquilla"},{"$f":"IFERROR(VLOOKUP(Tabla_SERIED_12_5[[#This Row],[IdEstablecimiento]],'[1]Establecimiento 2023'!$A$1:$E$183,5,FALSE),0)","v":"04204-Salamanca"},"16200210","2022-08-22T05:58:33",6,6]
[{"$nulls":23},7,"5",2022,"105453",{"$f":"IFERROR(VLOOKUP(Tabla_SERIED_12_5[[#This Row],[IdEstablecimiento]],'[1]Establecimiento 2023'!$A$1:$E$183,3,FALSE),0)","v":"105453-Posta de Salud Rural Tranquilla"},{"$f":"IFERROR(VLOOKUP(Tabla_SERIED_12_5[[#This Row],[IdEstablecimiento]],'[1]Establecimiento 2023'!$A$1:$E$183,5,FALSE),0)","v":"04204-Salamanca"},"16100300","2022-08-22T05:58:33",76,39,37]
[{"$nulls":23},7,"5",2022,"105453",{"$f":"IFERROR(VLOOKUP(Tabla_SERIED_12_5[[#This Row],[IdEstablecimiento]],'[1]Establecimiento 2023'!$A$1:$E$183,3,FALSE),0)","v":"105453-Posta de Salud Rural Tranquilla"},{"$f":"IFERROR(VLOOKUP(Tabla_SERIED_12_5[[#This Row],[IdEstablecimiento]],'[1]Establecimiento 2023'!$A$1:$E$183,5,FALSE),0)","v":"04204-Salamanca"},"16200220","2022-08-22T05:58:33",6,3,3]
[{"$nulls":23},7,"5",2022,"105454",{"$f":"IFERROR(VLOOKUP(Tabla_SERIED_12_5[[#This Row],[IdEstablecimiento]],'[1]Establecimiento 2023'!$A$1:$E$183,3,FALSE),0)","v":"105454-Posta de Salud Rural Cunlagua"},{"$f":"IFERROR(VLOOKUP(Tabla_SERIED_12_5[[#This Row],[IdEstablecimiento]],'[1]Establecimiento 2023'!$A$1:$E$183,5,FALSE),0)","v":"04204-Salamanca"},"15010200","2022-08-22T05:58:47",2,{"$nulls":5},2]
[{"$nulls":23},7,"5",2022,"105454",{"$f":"IFERROR(VLOOKUP(Tabla_SERIED_12_5[[#This Row],[IdEstablecimiento]],'[1]Establecimiento 2023'!$A$1:$E$183,3,FALSE),0)","v":"105454-Posta de Salud Rural Cunlagua"},{"$f":"IFERROR(VLOOKUP(Tabla_SERIED_12_5[[#This Row],[IdEstablecimiento]],'[1]Establecimiento 2023'!$A$1:$E$183,5,FALSE),0)","v":"04204-Salamanca"},"15080008","2022-08-22T05:58:47",1,{"$nulls":11},1]
[{"$nulls":23},7,"5",2022,"105454",{"$f":"IFERROR(VLOOKUP(Tabla_SERIED_12_5[[#This Row],[IdEstablecimiento]],'[1]Establecimiento 2023'!$A$1:$E$183,3,FALSE),0)","v":"105454-Posta de Salud Rural Cunlagua"},{"$f":"IFERROR(VLOOKUP(Tabla_SERIED_12_5[[#This Row],[IdEstablecimiento]],'[1]Establecimiento 2023'!$A$1:$E$183,5,FALSE),0)","v":"04204-Salamanca"},"15010500","2022-08-22T05:58:47",2,null,null,2]
[{"$nulls":23},5,"5",2022,"105500",{"$f":"IFERROR(VLOOKUP(Tabla_SERIED_12_5[[#This Row],[IdEstablecimiento]],'[1]Establecimiento 2023'!$A$1:$E$183,3,FALSE),0)","v":"105500-Posta de Salud Rural Caleta Hornos"},{"$f":"IFERROR(VLOOKUP(Tabla_SERIED_12_5[[#This Row],[IdEstablecimiento]],'[1]Establecimiento 2023'!$A$1:$E$183,5,FALSE),0)","v":"04104-La Higuera"},"15010100","2022-06-20T17:27:31",14,null,null,8,6]
[{"$nulls":23},5,"5",2022,"105500",{"$f":"IFERROR(VLOOKUP(Tabla_SERIED_12_5[[#This Row],[IdEstablecimiento]],'[1]Establecimiento 2023'!$A$1:$E$183,3,FALSE),0)","v":"105500-Posta de Salud Rural Caleta Hornos"},{"$f":"IFERROR(VLOOKUP(Tabla_SERIED_12_5[[#This Row],[IdEstablecimiento]],'[1]Establecimiento 2023'!$A$1:$E$183,5,FALSE),0)","v":"04104-La Higuera"},"15010200","2022-06-20T17:27:31",30,{"$nulls":4},2,12,16]
[{"$nulls":23},5,"5",2022,"105500",{"$f":"IFERROR(VLOOKUP(Tabla_SERIED_12_5[[#This Row],[IdEstablecimiento]],'[1]Establecimiento 2023'!$A$1:$E$183,3,FALSE),0)","v":"105500-Posta de Salud Rural Caleta Hornos"},{"$f":"IFERROR(VLOOKUP(Tabla_SERIED_12_5[[#This Row],[IdEstablecimiento]],'[1]Establecimiento 2023'!$A$1:$E$183,5,FALSE),0)","v":"04104-La Higuera"},"15080008","2022-06-20T17:27:31",3,{"$nulls":7},1,null,2]
[{"$nulls":23},1,"5",2022,"105702",{"$f":"IFERROR(VLOOKUP(Tabla_SERIED_12_5[[#This Row],[IdEstablecimiento]],'[1]Establecimiento 2023'!$A$1:$E$183,3,FALSE),0)","v":"105702-Centro Comunitario de Salud Familiar Lambert"},{"$f":"IFERROR(VLOOKUP(Tabla_SERIED_12_5[[#This Row],[IdEstablecimiento]],'[1]Establecimiento 2023'!$A$1:$E$183,5,FALSE),0)","v":"04101-La Serena"},"16090300","2022-02-17T04:23:12",33,33]
[{"$nulls":23},1,"5",2022,"105702",{"$f":"IFERROR(VLOOKUP(Tabla_SERIED_12_5[[#This Row],[IdEstablecimiento]],'[1]Establecimiento 2023'!$A$1:$E$183,3,FALSE),0)","v":"105702-Centro Comunitario de Salud Familiar Lambert"},{"$f":"IFERROR(VLOOKUP(Tabla_SERIED_12_5[[#This Row],[IdEstablecimiento]],'[1]Establecimiento 2023'!$A$1:$E$183,5,FALSE),0)","v":"04101-La Serena"},"16100300","2022-02-17T04:23:12",33,8,25,1,13]
[{"$nulls":23},1,"5",2022,"105722",{"$f":"IFERROR(VLOOKUP(Tabla_SERIED_12_5[[#This Row],[IdEstablecimiento]],'[1]Establecimiento 2023'!$A$1:$E$183,3,FALSE),0)","v":"105722-Centro Comunitario de Salud Familiar San José de la Dehesa"},{"$f":"IFERROR(VLOOKUP(Tabla_SERIED_12_5[[#This Row],[IdEstablecimiento]],'[1]Establecimiento 2023'!$A$1:$E$183,5,FALSE),0)","v":"04301-Ovalle"},"15010100","2022-02-17T04:25:36",50,null,null,14,36]
[{"$nulls":23},1,"5",2022,"105722",{"$f":"IFERROR(VLOOKUP(Tabla_SERIED_12_5[[#This Row],[IdEstablecimiento]],'[1]Establecimiento 2023'!$A$1:$E$183,3,FALSE),0)","v":"105722-Centro Comunitario de Salud Familiar San José de la Dehesa"},{"$f":"IFERROR(VLOOKUP(Tabla_SERIED_12_5[[#This Row],[IdEstablecimiento]],'[1]Establecimiento 2023'!$A$1:$E$183,5,FALSE),0)","v":"04301-Ovalle"},"15010200","2022-02-17T04:25:36",138,{"$nulls":4},32,68,38]
[{"$nulls":23},1,"5",2022,"105722",{"$f":"IFERROR(VLOOKUP(Tabla_SERIED_12_5[[#This Row],[IdEstablecimiento]],'[1]Establecimiento 2023'!$A$1:$E$183,3,FALSE),0)","v":"105722-Centro Comunitario de Salud Familiar San José de la Dehesa"},{"$f":"IFERROR(VLOOKUP(Tabla_SERIED_12_5[[#This Row],[IdEstablecimiento]],'[1]Establecimiento 2023'!$A$1:$E$183,5,FALSE),0)","v":"04301-Ovalle"},"15080008","2022-02-17T04:25:36",32,{"$nulls":7},21,null,6,4,1]
[{"$nulls":23},1,"5",2022,"105722",{"$f":"IFERROR(VLOOKUP(Tabla_SERIED_12_5[[#This Row],[IdEstablecimiento]],'[1]Establecimiento 2023'!$A$1:$E$183,3,FALSE),0)","v":"105722-Centro Comunitario de Salud Familiar San José de la Dehesa"},{"$f":"IFERROR(VLOOKUP(Tabla_SERIED_12_5[[#This Row],[IdEstablecimiento]],'[1]Establecimiento 2023'!$A$1:$E$183,5,FALSE),0)","v":"04301-Ovalle"},"15900010","2022-02-17T04:25:36",18.4,4.8,null,13.6]
[{"$nulls":23},1,"5",2022,"105722",{"$f":"IFERROR(VLOOKUP(Tabla_SERIED_12_5[[#This Row],[IdEstablecimiento]],'[1]Establecimiento 2023'!$A$1:$E$183,3,FALSE),0)","v":"105722-Centro Comunitario de Salud Familiar San José de la Dehesa"},{"$f":"IFERROR(VLOOKUP(Tabla_SERIED_12_5[[#This Row],[IdEstablecimiento]],'[1]Establecimiento 2023'!$A$1:$E$183,5,FALSE),0)","v":"04301-Ovalle"},"15010300","2022-02-17T04:25:36",2,{"$nulls":3},2]
[{"$nulls":23},1,"5",2022,"105722",{"$f":"IFERROR(VLOOKUP(Tabla_SERIED_12_5[[#This Row],[IdEstablecimiento]],'[1]Establecimiento 2023'!$A$1:$E$183,3,FALSE),0)","v":"105722-Centro Comunitario de Salud Familiar San José de la Dehesa"},{"$f":"IFERROR(VLOOKUP(Tabla_SERIED_12_5[[#This Row],[IdEstablecimiento]],'[1]Establecimiento 2023'!$A$1:$E$183,5,FALSE),0)","v":"04301-Ovalle"},"15010400","2022-02-17T04:25:36",2,{"$nulls":5},2]
[{"$nulls":23},5,"5",2022,"105304",{"$f":"IFERROR(VLOOKUP(Tabla_SERIED_12_5[[#This Row],[IdEstablecimiento]],'[1]Establecimiento 2023'!$A$1:$E$183,3,FALSE),0)","v":"105304-Centro de Salud Familiar Santa Cecilia"},{"$f":"IFERROR(VLOOKUP(Tabla_SERIED_12_5[[#This Row],[IdEstablecimiento]],'[1]Establecimiento 2023'!$A$1:$E$183,5,FALSE),0)","v":"04102-Coquimbo"},"16200210","2022-06-20T17:00:17",53,53]
[{"$nulls":23},5,"5",2022,"105304",{"$f":"IFERROR(VLOOKUP(Tabla_SERIED_12_5[[#This Row],[IdEstablecimiento]],'[1]Establecimiento 2023'!$A$1:$E$183,3,FALSE),0)","v":"105304-Centro de Salud Familiar Santa Cecilia"},{"$f":"IFERROR(VLOOKUP(Tabla_SERIED_12_5[[#This Row],[IdEstablecimiento]],'[1]Establecimiento 2023'!$A$1:$E$183,5,FALSE),0)","v":"04102-Coquimbo"},"16100300","2022-06-20T17:00:17",461,186,275,6,92]
[{"$nulls":23},5,"5",2022,"105304",{"$f":"IFERROR(VLOOKUP(Tabla_SERIED_12_5[[#This Row],[IdEstablecimiento]],'[1]Establecimiento 2023'!$A$1:$E$183,3,FALSE),0)","v":"105304-Centro de Salud Familiar Santa Cecilia"},{"$f":"IFERROR(VLOOKUP(Tabla_SERIED_12_5[[#This Row],[IdEstablecimiento]],'[1]Establecimiento 2023'!$A$1:$E$183,5,FALSE),0)","v":"04102-Coquimbo"},"16200220","2022-06-20T17:00:17",53,23,30,3,10]
[{"$nulls":23},5,"5",2022,"105304",{"$f":"IFERROR(VLOOKUP(Tabla_SERIED_12_5[[#This Row],[IdEstablecimiento]],'[1]Establecimiento 2023'!$A$1:$E$183,3,FALSE),0)","v":"105304-Centro de Salud Familiar Santa Cecilia"},{"$f":"IFERROR(VLOOKUP(Tabla_SERIED_12_5[[#This Row],[IdEstablecimiento]],'[1]Establecimiento 2023'!$A$1:$E$183,5,FALSE),0)","v":"04102-Coquimbo"},"16200100","2022-06-20T17:00:17",0,0,0,0,6]
[{"$nulls":23},5,"5",2022,"105305",{"$f":"IFERROR(VLOOKUP(Tabla_SERIED_12_5[[#This Row],[IdEstablecimiento]],'[1]Establecimiento 2023'!$A$1:$E$183,3,FALSE),0)","v":"105305-Centro de Salud Familiar Tierras Blancas"},{"$f":"IFERROR(VLOOKUP(Tabla_SERIED_12_5[[#This Row],[IdEstablecimiento]],'[1]Establecimiento 2023'!$A$1:$E$183,5,FALSE),0)","v":"04102-Coquimbo"},"15010100","2022-06-20T17:00:49",142,{"$nulls":3},138,2,2]
[{"$nulls":23},5,"5",2022,"105305",{"$f":"IFERROR(VLOOKUP(Tabla_SERIED_12_5[[#This Row],[IdEstablecimiento]],'[1]Establecimiento 2023'!$A$1:$E$183,3,FALSE),0)","v":"105305-Centro de Salud Familiar Tierras Blancas"},{"$f":"IFERROR(VLOOKUP(Tabla_SERIED_12_5[[#This Row],[IdEstablecimiento]],'[1]Establecimiento 2023'!$A$1:$E$183,5,FALSE),0)","v":"04102-Coquimbo"},"15010200","2022-06-20T17:00:49",720,{"$nulls":4},144,320,256]
[{"$nulls":23},5,"5",2022,"105305",{"$f":"IFERROR(VLOOKUP(Tabla_SERIED_12_5[[#This Row],[IdEstablecimiento]],'[1]Establecimiento 2023'!$A$1:$E$183,3,FALSE),0)","v":"105305-Centro de Salud Familiar Tierras Blancas"},{"$f":"IFERROR(VLOOKUP(Tabla_SERIED_12_5[[#This Row],[IdEstablecimiento]],'[1]Establecimiento 2023'!$A$1:$E$183,5,FALSE),0)","v":"04102-Coquimbo"},"15080008","2022-06-20T17:00:49",208,{"$nulls":7},106,null,72,6,24]
[{"$nulls":23},5,"5",2022,"105305",{"$f":"IFERROR(VLOOKUP(Tabla_SERIED_12_5[[#This Row],[IdEstablecimiento]],'[1]Establecimiento 2023'!$A$1:$E$183,3,FALSE),0)","v":"105305-Centro de Salud Familiar Tierras Blancas"},{"$f":"IFERROR(VLOOKUP(Tabla_SERIED_12_5[[#This Row],[IdEstablecimiento]],'[1]Establecimiento 2023'!$A$1:$E$183,5,FALSE),0)","v":"04102-Coquimbo"},"15900010","2022-06-20T17:00:49",213.6,5.6,32.8,175.2]
[{"$nulls":23},5,"5",2022,"105305",{"$f":"IFERROR(VLOOKUP(Tabla_SERIED_12_5[[#This Row],[IdEstablecimiento]],'[1]Establecimiento 2023'!$A$1:$E$183,3,FALSE),0)","v":"105305-Centro de Salud Familiar Tierras Blancas"},{"$f":"IFERROR(VLOOKUP(Tabla_SERIED_12_5[[#This Row],[IdEstablecimiento]],'[1]Establecimiento 2023'!$A$1:$E$183,5,FALSE),0)","v":"04102-Coquimbo"},"15010300","2022-06-20T17:00:49",4,{"$nulls":3},4]
[{"$nulls":23},5,"5",2022,"105305",{"$f":"IFERROR(VLOOKUP(Tabla_SERIED_12_5[[#This Row],[IdEstablecimiento]],'[1]Establecimiento 2023'!$A$1:$E$183,3,FALSE),0)","v":"105305-Centro de Salud Familiar Tierras Blancas"},{"$f":"IFERROR(VLOOKUP(Tabla_SERIED_12_5[[#This Row],[IdEstablecimiento]],'[1]Establecimiento 2023'!$A$1:$E$183,5,FALSE),0)","v":"04102-Coquimbo"},"15010400","2022-06-20T17:00:49",20,{"$nulls":4},2,14,4]
[{"$nulls":23},5,"5",2022,"105305",{"$f":"IFERROR(VLOOKUP(Tabla_SERIED_12_5[[#This Row],[IdEstablecimiento]],'[1]Establecimiento 2023'!$A$1:$E$183,3,FALSE),0)","v":"105305-Centro de Salud Familiar Tierras Blancas"},{"$f":"IFERROR(VLOOKUP(Tabla_SERIED_12_5[[#This Row],[IdEstablecimiento]],'[1]Establecimiento 2023'!$A$1:$E$183,5,FALSE),0)","v":"04102-Coquimbo"},"15010500","2022-06-20T17:00:49",24,{"$nulls":3},4,2,14,4]
[{"$nulls":23},6,"5",2022,"200494",{"$f":"IFERROR(VLOOKUP(Tabla_SERIED_12_5[[#This Row],[IdEstablecimiento]],'[1]Establecimiento 2023'!$A$1:$E$183,3,FALSE),0)","v":"200494-Centro de Salud Familiar El Sauce"},{"$f":"IFERROR(VLOOKUP(Tabla_SERIED_12_5[[#This Row],[IdEstablecimiento]],'[1]Establecimiento 2023'!$A$1:$E$183,5,FALSE),0)","v":"04102-Coquimbo"},"15030100","2022-07-14T14:43:52",6.4,null,null,6.4]
[{"$nulls":23},6,"5",2022,"200494",{"$f":"IFERROR(VLOOKUP(Tabla_SERIED_12_5[[#This Row],[IdEstablecimiento]],'[1]Establecimiento 2023'!$A$1:$E$183,3,FALSE),0)","v":"200494-Centro de Salud Familiar El Sauce"},{"$f":"IFERROR(VLOOKUP(Tabla_SERIED_12_5[[#This Row],[IdEstablecimiento]],'[1]Establecimiento 2023'!$A$1:$E$183,5,FALSE),0)","v":"04102-Coquimbo"},"15900030","2022-07-14T14:43:52",36.4,null,6,6.8,14,9.6]
[{"$nulls":23},6,"5",2022,"200494",{"$f":"IFERROR(VLOOKUP(Tabla_SERIED_12_5[[#This Row],[IdEstablecimiento]],'[1]Establecimiento 2023'!$A$1:$E$183,3,FALSE),0)","v":"200494-Centro de Salud Familiar El Sauce"},{"$f":"IFERROR(VLOOKUP(Tabla_SERIED_12_5[[#This Row],[IdEstablecimiento]],'[1]Establecimiento 2023'!$A$1:$E$183,5,FALSE),0)","v":"04102-Coquimbo"},"15900040","2022-07-14T14:43:52",3.2,null,null,3.2]
[{"$nulls":23},6,"5",2022,"200494",{"$f":"IFERROR(VLOOKUP(Tabla_SERIED_12_5[[#This Row],[IdEstablecimiento]],'[1]Establecimiento 2023'!$A$1:$E$183,3,FALSE),0)","v":"200494-Centro de Salud Familiar El Sauce"},{"$f":"IFERROR(VLOOKUP(Tabla_SERIED_12_5[[#This Row],[IdEstablecimiento]],'[1]Establecimiento 2023'!$A$1:$E$183,5,FALSE),0)","v":"04102-Coquimbo"},"15050100","2022-07-14T14:43:52",491,158,333,5,10,51,54,48,92,66,83,null,28,4,50]
[{"$nulls":23},6,"5",2022,"200494",{"$f":"IFERROR(VLOOKUP(Tabla_SERIED_12_5[[#This Row],[IdEstablecimiento]],'[1]Establecimiento 2023'!$A$1:$E$183,3,FALSE),0)","v":"200494-Centro de Salud Familiar El Sauce"},{"$f":"IFERROR(VLOOKUP(Tabla_SERIED_12_5[[#This Row],[IdEstablecimiento]],'[1]Establecimiento 2023'!$A$1:$E$183,5,FALSE),0)","v":"04102-Coquimbo"},"15050200","2022-07-14T14:43:52",5,4,1,{"$nulls":3},1,2,null,2]
[{"$nulls":23},6,"5",2022,"200494",{"$f":"IFERROR(VLOOKUP(Tabla_SERIED_12_5[[#This Row],[IdEstablecimiento]],'[1]Establecimiento 2023'!$A$1:$E$183,3,FALSE),0)","v":"200494-Centro de Salud Familiar El Sauce"},{"$f":"IFERROR(VLOOKUP(Tabla_SERIED_12_5[[#This Row],[IdEstablecimiento]],'[1]Establecimiento 2023'!$A$1:$E$183,5,FALSE),0)","v":"04102-Coquimbo"},"15050500","2022-07-14T14:43:52",2,2,{"$nulls":3},2]
[{"$nulls":23},6,"5",2022,"200494",{"$f":"IFERROR(VLOOKUP(Tabla_SERIED_12_5[[#This Row],[IdEstablecimiento]],'[1]Establecimiento 2023'!$A$1:$E$183,3,FALSE),0)","v":"200494-Centro de Salud Familiar El Sauce"},{"$f":"IFERROR(VLOOKUP(Tabla_SERIED_12_5[[#This Row],[IdEstablecimiento]],'[1]Establecimiento 2023'!$A$1:$E$183,5,FALSE),0)","v":"04102-Coquimbo"},"15900050","2022-07-14T14:43:52",12,6,6,null,2,3,4,3]
[{"$nulls":23},6,"5",2022,"200494",{"$f":"IFERROR(VLOOKUP(Tabla_SERIED_12_5[[#This Row],[IdEstablecimiento]],'[1]Establecimiento 2023'!$A$1:$E$183,3,FALSE),0)","v":"200494-Centro de Salud Familiar El Sauce"},{"$f":"IFERROR(VLOOKUP(Tabla_SERIED_12_5[[#This Row],[IdEstablecimiento]],'[1]Establecimiento 2023'!$A$1:$E$183,5,FALSE),0)","v":"04102-Coquimbo"},"16090300","2022-07-14T14:43:52",294,294]
[{"$nulls":23},6,"5",2022,"200494",{"$f":"IFERROR(VLOOKUP(Tabla_SERIED_12_5[[#This Row],[IdEstablecimiento]],'[1]Establecimiento 2023'!$A$1:$E$183,3,FALSE),0)","v":"200494-Centro de Salud Familiar El Sauce"},{"$f":"IFERROR(VLOOKUP(Tabla_SERIED_12_5[[#This Row],[IdEstablecimiento]],'[1]Establecimiento 2023'!$A$1:$E$183,5,FALSE),0)","v":"04102-Coquimbo"},"16200210","2022-07-14T14:43:52",22,22]
[{"$nulls":23},6,"5",2022,"200494",{"$f":"IFERROR(VLOOKUP(Tabla_SERIED_12_5[[#This Row],[IdEstablecimiento]],'[1]Establecimiento 2023'!$A$1:$E$183,3,FALSE),0)","v":"200494-Centro de Salud Familiar El Sauce"},{"$f":"IFERROR(VLOOKUP(Tabla_SERIED_12_5[[#This Row],[IdEstablecimiento]],'[1]Establecimiento 2023'!$A$1:$E$183,5,FALSE),0)","v":"04102-Coquimbo"},"16090100","2022-07-14T14:43:52",2,2]
[{"$nulls":23},6,"5",2022,"200494",{"$f":"IFERROR(VLOOKUP(Tabla_SERIED_12_5[[#This Row],[IdEstablecimiento]],'[1]Establecimiento 2023'!$A$1:$E$183,3,FALSE),0)","v":"200494-Centro de Salud Familiar El Sauce"},{"$f":"IFERROR(VLOOKUP(Tabla_SERIED_12_5[[#This Row],[IdEstablecimiento]],'[1]Establecimiento 2023'!$A$1:$E$183,5,FALSE),0)","v":"04102-Coquimbo"},"16100300","2022-07-14T14:43:52",294,122,172,16,17]
[{"$nulls":23},6,"5",2022,"200494",{"$f":"IFERROR(VLOOKUP(Tabla_SERIED_12_5[[#This Row],[IdEstablecimiento]],'[1]Establecimiento 2023'!$A$1:$E$183,3,FALSE),0)","v":"200494-Centro de Salud Familiar El Sauce"},{"$f":"IFERROR(VLOOKUP(Tabla_SERIED_12_5[[#This Row],[IdEstablecimiento]],'[1]Establecimiento 2023'!$A$1:$E$183,5,FALSE),0)","v":"04102-Coquimbo"},"16200220","2022-07-14T14:43:52",22,9,13,1,37]
[{"$nulls":23},6,"5",2022,"200494",{"$f":"IFERROR(VLOOKUP(Tabla_SERIED_12_5[[#This Row],[IdEstablecimiento]],'[1]Establecimiento 2023'!$A$1:$E$183,3,FALSE),0)","v":"200494-Centro de Salud Familiar El Sauce"},{"$f":"IFERROR(VLOOKUP(Tabla_SERIED_12_5[[#This Row],[IdEstablecimiento]],'[1]Establecimiento 2023'!$A$1:$E$183,5,FALSE),0)","v":"04102-Coquimbo"},"16100100","2022-07-14T14:43:52",2,1,1]
[{"$nulls":23},6,"5",2022,"200494",{"$f":"IFERROR(VLOOKUP(Tabla_SERIED_12_5[[#This Row],[IdEstablecimiento]],'[1]Establecimiento 2023'!$A$1:$E$183,3,FALSE),0)","v":"200494-Centro de Salud Familiar El Sauce"},{"$f":"IFERROR(VLOOKUP(Tabla_SERIED_12_5[[#This Row],[IdEstablecimiento]],'[1]Establecimiento 2023'!$A$1:$E$183,5,FALSE),0)","v":"04102-Coquimbo"},"16200100","2022-07-14T14:43:52",7,4,3]
[{"$nulls":23},6,"5",2022,"200494",{"$f":"IFERROR(VLOOKUP(Tabla_SERIED_12_5[[#This Row],[IdEstablecimiento]],'[1]Establecimiento 2023'!$A$1:$E$183,3,FALSE),0)","v":"200494-Centro de Salud Familiar El Sauce"},{"$f":"IFERROR(VLOOKUP(Tabla_SERIED_12_5[[#This Row],[IdEstablecimiento]],'[1]Establecimiento 2023'!$A$1:$E$183,5,FALSE),0)","v":"04102-Coquimbo"},"16200230","2022-07-14T14:43:52",1,null,1]
[{"$nulls":23},1,"5",2022,"200258",{"$f":"IFERROR(VLOOKUP(Tabla_SERIED_12_5[[#This Row],[IdEstablecimiento]],'[1]Establecimiento 2023'!$A$1:$E$183,3,FALSE),0)","v":"200258-Centro Comunitario de Salud Familiar Los Copihues"},{"$f":"IFERROR(VLOOKUP(Tabla_SERIED_12_5[[#This Row],[IdEstablecimiento]],'[1]Establecimiento 2023'!$A$1:$E$183,5,FALSE),0)","v":"04301-Ovalle"},"15060200","2022-02-17T04:29:12",1,1,0,0,0,0,1,0,0,0,null,0,0,0,0]
[{"$nulls":23},1,"5",2022,"105464",{"$f":"IFERROR(VLOOKUP(Tabla_SERIED_12_5[[#This Row],[IdEstablecimiento]],'[1]Establecimiento 2023'!$A$1:$E$183,3,FALSE),0)","v":"105464-Posta de Salud Rural La Ligua"},{"$f":"IFERROR(VLOOKUP(Tabla_SERIED_12_5[[#This Row],[IdEstablecimiento]],'[1]Establecimiento 2023'!$A$1:$E$183,5,FALSE),0)","v":"04302-Combarbalá"},"15010100","2022-02-17T03:50:56",4,{"$nulls":3},4]
[{"$nulls":23},1,"5",2022,"105464",{"$f":"IFERROR(VLOOKUP(Tabla_SERIED_12_5[[#This Row],[IdEstablecimiento]],'[1]Establecimiento 2023'!$A$1:$E$183,3,FALSE),0)","v":"105464-Posta de Salud Rural La Ligua"},{"$f":"IFERROR(VLOOKUP(Tabla_SERIED_12_5[[#This Row],[IdEstablecimiento]],'[1]Establecimiento 2023'!$A$1:$E$183,5,FALSE),0)","v":"04302-Combarbalá"},"15010200","2022-02-17T03:50:56",4,{"$nulls":6},4]
[{"$nulls":23},1,"5",2022,"105464",{"$f":"IFERROR(VLOOKUP(Tabla_SERIED_12_5[[#This Row],[IdEstablecimiento]],'[1]Establecimiento 2023'!$A$1:$E$183,3,FALSE),0)","v":"105464-Posta de Salud Rural La Ligua"},{"$f":"IFERROR(VLOOKUP(Tabla_SERIED_12_5[[#This Row],[IdEstablecimiento]],'[1]Establecimiento 2023'!$A$1:$E$183,5,FALSE),0)","v":"04302-Combarbalá"},"15080008","2022-02-17T03:50:56",1,{"$nulls":7},1]
[{"$nulls":23},1,"5",2022,"105464",{"$f":"IFERROR(VLOOKUP(Tabla_SERIED_12_5[[#This Row],[IdEstablecimiento]],'[1]Establecimiento 2023'!$A$1:$E$183,3,FALSE),0)","v":"105464-Posta de Salud Rural La Ligua"},{"$f":"IFERROR(VLOOKUP(Tabla_SERIED_12_5[[#This Row],[IdEstablecimiento]],'[1]Establecimiento 2023'!$A$1:$E$183,5,FALSE),0)","v":"04302-Combarbalá"},"15080009","2022-02-17T03:50:56",2,{"$nulls":10},2]
[{"$nulls":23},1,"5",2022,"105464",{"$f":"IFERROR(VLOOKUP(Tabla_SERIED_12_5[[#This Row],[IdEstablecimiento]],'[1]Establecimiento 2023'!$A$1:$E$183,3,FALSE),0)","v":"105464-Posta de Salud Rural La Ligua"},{"$f":"IFERROR(VLOOKUP(Tabla_SERIED_12_5[[#This Row],[IdEstablecimiento]],'[1]Establecimiento 2023'!$A$1:$E$183,5,FALSE),0)","v":"04302-Combarbalá"},"15900020","2022-02-17T03:50:56",0.8,0.8]
[{"$nulls":23},1,"5",2022,"105464",{"$f":"IFERROR(VLOOKUP(Tabla_SERIED_12_5[[#This Row],[IdEstablecimiento]],'[1]Establecimiento 2023'!$A$1:$E$183,3,FALSE),0)","v":"105464-Posta de Salud Rural La Ligua"},{"$f":"IFERROR(VLOOKUP(Tabla_SERIED_12_5[[#This Row],[IdEstablecimiento]],'[1]Establecimiento 2023'!$A$1:$E$183,5,FALSE),0)","v":"04302-Combarbalá"},"15050100","2022-02-17T03:50:56",5,2,3,{"$nulls":3},2,null,null,2,1]
[{"$nulls":23},1,"5",2022,"105464",{"$f":"IFERROR(VLOOKUP(Tabla_SERIED_12_5[[#This Row],[IdEstablecimiento]],'[1]Establecimiento 2023'!$A$1:$E$183,3,FALSE),0)","v":"105464-Posta de Salud Rural La Ligua"},{"$f":"IFERROR(VLOOKUP(Tabla_SERIED_12_5[[#This Row],[IdEstablecimiento]],'[1]Establecimiento 2023'!$A$1:$E$183,5,FALSE),0)","v":"04302-Combarbalá"},"15050200","2022-02-17T03:50:56",2,null,2,1,{"$nulls":9},1]
[{"$nulls":23},1,"5",2022,"105465",{"$f":"IFERROR(VLOOKUP(Tabla_SERIED_12_5[[#This Row],[IdEstablecimiento]],'[1]Establecimiento 2023'!$A$1:$E$183,3,FALSE),0)","v":"105465-Posta de Salud Rural Ramadilla"},{"$f":"IFERROR(VLOOKUP(Tabla_SERIED_12_5[[#This Row],[IdEstablecimiento]],'[1]Establecimiento 2023'!$A$1:$E$183,5,FALSE),0)","v":"04302-Combarbalá"},"15080008","2022-02-17T03:51:14",4,{"$nulls":9},2,null,2]
[{"$nulls":23},1,"5",2022,"105465",{"$f":"IFERROR(VLOOKUP(Tabla_SERIED_12_5[[#This Row],[IdEstablecimiento]],'[1]Establecimiento 2023'!$A$1:$E$183,3,FALSE),0)","v":"105465-Posta de Salud Rural Ramadilla"},{"$f":"IFERROR(VLOOKUP(Tabla_SERIED_12_5[[#This Row],[IdEstablecimiento]],'[1]Establecimiento 2023'!$A$1:$E$183,5,FALSE),0)","v":"04302-Combarbalá"},"15050100","2022-02-17T03:51:14",19,10,9,{"$nulls":3},2,2,8,4,null,null,1,null,2]
[{"$nulls":23},1,"5",2022,"105465",{"$f":"IFERROR(VLOOKUP(Tabla_SERIED_12_5[[#This Row],[IdEstablecimiento]],'[1]Establecimiento 2023'!$A$1:$E$183,3,FALSE),0)","v":"105465-Posta de Salud Rural Ramadilla"},{"$f":"IFERROR(VLOOKUP(Tabla_SERIED_12_5[[#This Row],[IdEstablecimiento]],'[1]Establecimiento 2023'!$A$1:$E$183,5,FALSE),0)","v":"04302-Combarbalá"},"16090300","2022-02-17T03:51:14",88,88]
[{"$nulls":23},1,"5",2022,"105465",{"$f":"IFERROR(VLOOKUP(Tabla_SERIED_12_5[[#This Row],[IdEstablecimiento]],'[1]Establecimiento 2023'!$A$1:$E$183,3,FALSE),0)","v":"105465-Posta de Salud Rural Ramadilla"},{"$f":"IFERROR(VLOOKUP(Tabla_SERIED_12_5[[#This Row],[IdEstablecimiento]],'[1]Establecimiento 2023'!$A$1:$E$183,5,FALSE),0)","v":"04302-Combarbalá"},"16200210","2022-02-17T03:51:14",11,11]
[{"$nulls":23},1,"5",2022,"105465",{"$f":"IFERROR(VLOOKUP(Tabla_SERIED_12_5[[#This Row],[IdEstablecimiento]],'[1]Establecimiento 2023'!$A$1:$E$183,3,FALSE),0)","v":"105465-Posta de Salud Rural Ramadilla"},{"$f":"IFERROR(VLOOKUP(Tabla_SERIED_12_5[[#This Row],[IdEstablecimiento]],'[1]Establecimiento 2023'!$A$1:$E$183,5,FALSE),0)","v":"04302-Combarbalá"},"16100300","2022-02-17T03:51:14",88,40,48,null,1]
[{"$nulls":23},1,"5",2022,"105465",{"$f":"IFERROR(VLOOKUP(Tabla_SERIED_12_5[[#This Row],[IdEstablecimiento]],'[1]Establecimiento 2023'!$A$1:$E$183,3,FALSE),0)","v":"105465-Posta de Salud Rural Ramadilla"},{"$f":"IFERROR(VLOOKUP(Tabla_SERIED_12_5[[#This Row],[IdEstablecimiento]],'[1]Establecimiento 2023'!$A$1:$E$183,5,FALSE),0)","v":"04302-Combarbalá"},"16200220","2022-02-17T03:51:14",11,4,7,null,2]
[{"$nulls":23},1,"5",2022,"105466",{"$f":"IFERROR(VLOOKUP(Tabla_SERIED_12_5[[#This Row],[IdEstablecimiento]],'[1]Establecimiento 2023'!$A$1:$E$183,3,FALSE),0)","v":"105466-Posta de Salud Rural Valle Hermoso"},{"$f":"IFERROR(VLOOKUP(Tabla_SERIED_12_5[[#This Row],[IdEstablecimiento]],'[1]Establecimiento 2023'!$A$1:$E$183,5,FALSE),0)","v":"04302-Combarbalá"},"15010100","2022-02-17T03:51:34",2,null,null,2]
[{"$nulls":23},1,"5",2022,"105466",{"$f":"IFERROR(VLOOKUP(Tabla_SERIED_12_5[[#This Row],[IdEstablecimiento]],'[1]Establecimiento 2023'!$A$1:$E$183,3,FALSE),0)","v":"105466-Posta de Salud Rural Valle Hermoso"},{"$f":"IFERROR(VLOOKUP(Tabla_SERIED_12_5[[#This Row],[IdEstablecimiento]],'[1]Establecimiento 2023'!$A$1:$E$183,5,FALSE),0)","v":"04302-Combarbalá"},"15010200","2022-02-17T03:51:34",8,{"$nulls":5},4,4]
[{"$nulls":23},1,"5",2022,"105466",{"$f":"IFERROR(VLOOKUP(Tabla_SERIED_12_5[[#This Row],[IdEstablecimiento]],'[1]Establecimiento 2023'!$A$1:$E$183,3,FALSE),0)","v":"105466-Posta de Salud Rural Valle Hermoso"},{"$f":"IFERROR(VLOOKUP(Tabla_SERIED_12_5[[#This Row],[IdEstablecimiento]],'[1]Establecimiento 2023'!$A$1:$E$183,5,FALSE),0)","v":"04302-Combarbalá"},"15080008","2022-02-17T03:51:34",3,{"$nulls":9},2,null,1]
[{"$nulls":23},2,"5",2022,"200366",{"$f":"IFERROR(VLOOKUP(Tabla_SERIED_12_5[[#This Row],[IdEstablecimiento]],'[1]Establecimiento 2023'!$A$1:$E$183,3,FALSE),0)","v":"200366-Centro de Salud Familiar Urbano de Illapel"},{"$f":"IFERROR(VLOOKUP(Tabla_SERIED_12_5[[#This Row],[IdEstablecimiento]],'[1]Establecimiento 2023'!$A$1:$E$183,5,FALSE),0)","v":"04201-Illapel"},"15080008","2022-03-17T10:07:01",80,{"$nulls":7},57,null,20,1,2]
[{"$nulls":23},2,"5",2022,"200366",{"$f":"IFERROR(VLOOKUP(Tabla_SERIED_12_5[[#This Row],[IdEstablecimiento]],'[1]Establecimiento 2023'!$A$1:$E$183,3,FALSE),0)","v":"200366-Centro de Salud Familiar Urbano de Illapel"},{"$f":"IFERROR(VLOOKUP(Tabla_SERIED_12_5[[#This Row],[IdEstablecimiento]],'[1]Establecimiento 2023'!$A$1:$E$183,5,FALSE),0)","v":"04201-Illapel"},"15900010","2022-03-17T10:07:01",69.6,10.4,28.8,30.4]
[{"$nulls":23},2,"5",2022,"200366",{"$f":"IFERROR(VLOOKUP(Tabla_SERIED_12_5[[#This Row],[IdEstablecimiento]],'[1]Establecimiento 2023'!$A$1:$E$183,3,FALSE),0)","v":"200366-Centro de Salud Familiar Urbano de Illapel"},{"$f":"IFERROR(VLOOKUP(Tabla_SERIED_12_5[[#This Row],[IdEstablecimiento]],'[1]Establecimiento 2023'!$A$1:$E$183,5,FALSE),0)","v":"04201-Illapel"},"15010300","2022-03-17T10:07:01",7,null,null,3,4]
[{"$nulls":23},2,"5",2022,"200366",{"$f":"IFERROR(VLOOKUP(Tabla_SERIED_12_5[[#This Row],[IdEstablecimiento]],'[1]Establecimiento 2023'!$A$1:$E$183,3,FALSE),0)","v":"200366-Centro de Salud Familiar Urbano de Illapel"},{"$f":"IFERROR(VLOOKUP(Tabla_SERIED_12_5[[#This Row],[IdEstablecimiento]],'[1]Establecimiento 2023'!$A$1:$E$183,5,FALSE),0)","v":"04201-Illapel"},"15010400","2022-03-17T10:07:01",18,{"$nulls":4},2,12,4]
[{"$nulls":23},2,"5",2022,"200366",{"$f":"IFERROR(VLOOKUP(Tabla_SERIED_12_5[[#This Row],[IdEstablecimiento]],'[1]Establecimiento 2023'!$A$1:$E$183,3,FALSE),0)","v":"200366-Centro de Salud Familiar Urbano de Illapel"},{"$f":"IFERROR(VLOOKUP(Tabla_SERIED_12_5[[#This Row],[IdEstablecimiento]],'[1]Establecimiento 2023'!$A$1:$E$183,5,FALSE),0)","v":"04201-Illapel"},"15010500","2022-03-17T10:07:01",24,null,null,2,4,2,12,4]
[{"$nulls":23},2,"5",2022,"200366",{"$f":"IFERROR(VLOOKUP(Tabla_SERIED_12_5[[#This Row],[IdEstablecimiento]],'[1]Establecimiento 2023'!$A$1:$E$183,3,FALSE),0)","v":"200366-Centro de Salud Familiar Urbano de Illapel"},{"$f":"IFERROR(VLOOKUP(Tabla_SERIED_12_5[[#This Row],[IdEstablecimiento]],'[1]Establecimiento 2023'!$A$1:$E$183,5,FALSE),0)","v":"04201-Illapel"},"15030100","2022-03-17T10:07:01",4,null,4]
[{"$nulls":23},2,"5",2022,"200366",{"$f":"IFERROR(VLOOKUP(Tabla_SERIED_12_5[[#This Row],[IdEstablecimiento]],'[1]Establecimiento 2023'!$A$1:$E$183,3,FALSE),0)","v":"200366-Centro de Salud Familiar Urbano de Illapel"},{"$f":"IFERROR(VLOOKUP(Tabla_SERIED_12_5[[#This Row],[IdEstablecimiento]],'[1]Establecimiento 2023'!$A$1:$E$183,5,FALSE),0)","v":"04201-Illapel"},"15900030","2022-03-17T10:07:01",8.8,null,4.8,4]
[{"$nulls":23},2,"5",2022,"200366",{"$f":"IFERROR(VLOOKUP(Tabla_SERIED_12_5[[#This Row],[IdEstablecimiento]],'[1]Establecimiento 2023'!$A$1:$E$183,3,FALSE),0)","v":"200366-Centro de Salud Familiar Urbano de Illapel"},{"$f":"IFERROR(VLOOKUP(Tabla_SERIED_12_5[[#This Row],[IdEstablecimiento]],'[1]Establecimiento 2023'!$A$1:$E$183,5,FALSE),0)","v":"04201-Illapel"},"15050100","2022-03-17T10:07:01",268,116,152,4,10,15,26,20,91,63,30,null,6,1,2]
[{"$nulls":23},2,"5",2022,"200366",{"$f":"IFERROR(VLOOKUP(Tabla_SERIED_12_5[[#This Row],[IdEstablecimiento]],'[1]Establecimiento 2023'!$A$1:$E$183,3,FALSE),0)","v":"200366-Centro de Salud Familiar Urbano de Illapel"},{"$f":"IFERROR(VLOOKUP(Tabla_SERIED_12_5[[#This Row],[IdEstablecimiento]],'[1]Establecimiento 2023'!$A$1:$E$183,5,FALSE),0)","v":"04201-Illapel"},"15050200","2022-03-17T10:07:01",9,5,4,null,null,1,2,1,4,1]
[{"$nulls":23},2,"5",2022,"200366",{"$f":"IFERROR(VLOOKUP(Tabla_SERIED_12_5[[#This Row],[IdEstablecimiento]],'[1]Establecimiento 2023'!$A$1:$E$183,3,FALSE),0)","v":"200366-Centro de Salud Familiar Urbano de Illapel"},{"$f":"IFERROR(VLOOKUP(Tabla_SERIED_12_5[[#This Row],[IdEstablecimiento]],'[1]Establecimiento 2023'!$A$1:$E$183,5,FALSE),0)","v":"04201-Illapel"},"15050500","2022-03-17T10:07:01",1,1,null,null,1]
[{"$nulls":23},2,"5",2022,"200366",{"$f":"IFERROR(VLOOKUP(Tabla_SERIED_12_5[[#This Row],[IdEstablecimiento]],'[1]Establecimiento 2023'!$A$1:$E$183,3,FALSE),0)","v":"200366-Centro de Salud Familiar Urbano de Illapel"},{"$f":"IFERROR(VLOOKUP(Tabla_SERIED_12_5[[#This Row],[IdEstablecimiento]],'[1]Establecimiento 2023'!$A$1:$E$183,5,FALSE),0)","v":"04201-Illapel"},"15900050","2022-03-17T10:07:01",2,2,null,null,1,1]
[{"$nulls":23},2,"5",2022,"200366",{"$f":"IFERROR(VLOOKUP(Tabla_SERIED_12_5[[#This Row],[IdEstablecimiento]],'[1]Establecimiento 2023'!$A$1:$E$183,3,FALSE),0)","v":"200366-Centro de Salud Familiar Urbano de Illapel"},{"$f":"IFERROR(VLOOKUP(Tabla_SERIED_12_5[[#This Row],[IdEstablecimiento]],'[1]Establecimiento 2023'!$A$1:$E$183,5,FALSE),0)","v":"04201-Illapel"},"15020100","2022-03-17T10:07:01",4,{"$nulls":3},4]
[{"$nulls":23},2,"5",2022,"200366",{"$f":"IFERROR(VLOOKUP(Tabla_SERIED_12_5[[#This Row],[IdEstablecimiento]],'[1]Establecimiento 2023'!$A$1:$E$183,3,FALSE),0)","v":"200366-Centro de Salud Familiar Urbano de Illapel"},{"$f":"IFERROR(VLOOKUP(Tabla_SERIED_12_5[[#This Row],[IdEstablecimiento]],'[1]Establecimiento 2023'!$A$1:$E$183,5,FALSE),0)","v":"04201-Illapel"},"15901300","2022-03-17T10:07:01",3.2,null,null,3.2]
[{"$nulls":23},2,"5",2022,"200366",{"$f":"IFERROR(VLOOKUP(Tabla_SERIED_12_5[[#This Row],[IdEstablecimiento]],'[1]Establecimiento 2023'!$A$1:$E$183,3,FALSE),0)","v":"200366-Centro de Salud Familiar Urbano de Illapel"},{"$f":"IFERROR(VLOOKUP(Tabla_SERIED_12_5[[#This Row],[IdEstablecimiento]],'[1]Establecimiento 2023'!$A$1:$E$183,5,FALSE),0)","v":"04201-Illapel"},"15060100","2022-03-17T10:07:01",1,1,{"$nulls":4},1]
[{"$nulls":23},2,"5",2022,"200366",{"$f":"IFERROR(VLOOKUP(Tabla_SERIED_12_5[[#This Row],[IdEstablecimiento]],'[1]Establecimiento 2023'!$A$1:$E$183,3,FALSE),0)","v":"200366-Centro de Salud Familiar Urbano de Illapel"},{"$f":"IFERROR(VLOOKUP(Tabla_SERIED_12_5[[#This Row],[IdEstablecimiento]],'[1]Establecimiento 2023'!$A$1:$E$183,5,FALSE),0)","v":"04201-Illapel"},"15901400","2022-03-17T10:07:01",1,1,{"$nulls":3},1]
[{"$nulls":23},2,"5",2022,"200366",{"$f":"IFERROR(VLOOKUP(Tabla_SERIED_12_5[[#This Row],[IdEstablecimiento]],'[1]Establecimiento 2023'!$A$1:$E$183,3,FALSE),0)","v":"200366-Centro de Salud Familiar Urbano de Illapel"},{"$f":"IFERROR(VLOOKUP(Tabla_SERIED_12_5[[#This Row],[IdEstablecimiento]],'[1]Establecimiento 2023'!$A$1:$E$183,5,FALSE),0)","v":"04201-Illapel"},"16090300","2022-03-17T10:07:01",664,664]
[{"$nulls":23},2,"5",2022,"200366",{"$f":"IFERROR(VLOOKUP(Tabla_SERIED_12_5[[#This Row],[IdEstablecimiento]],'[1]Establecimiento 2023'!$A$1:$E$183,3,FALSE),0)","v":"200366-Centro de Salud Familiar Urbano de Illapel"},{"$f":"IFERROR(VLOOKUP(Tabla_SERIED_12_5[[#This Row],[IdEstablecimiento]],'[1]Establecimiento 2023'!$A$1:$E$183,5,FALSE),0)","v":"04201-Illapel"},"16200210","2022-03-17T10:07:01",4,4]
[{"$nulls":23},6,"5",2022,"105106",{"$f":"IFERROR(VLOOKUP(Tabla_SERIED_12_5[[#This Row],[IdEstablecimiento]],'[1]Establecimiento 2023'!$A$1:$E$183,3,FALSE),0)","v":"105106-Hospital Dr. José Arraño (Andacollo)"},{"$f":"IFERROR(VLOOKUP(Tabla_SERIED_12_5[[#This Row],[IdEstablecimiento]],'[1]Establecimiento 2023'!$A$1:$E$183,5,FALSE),0)","v":"105106-Hospital Andacollo"},"15010300","2022-07-14T12:56:04",2,{"$nulls":4},2]
[{"$nulls":23},6,"5",2022,"105106",{"$f":"IFERROR(VLOOKUP(Tabla_SERIED_12_5[[#This Row],[IdEstablecimiento]],'[1]Establecimiento 2023'!$A$1:$E$183,3,FALSE),0)","v":"105106-Hospital Dr. José Arraño (Andacollo)"},{"$f":"IFERROR(VLOOKUP(Tabla_SERIED_12_5[[#This Row],[IdEstablecimiento]],'[1]Establecimiento 2023'!$A$1:$E$183,5,FALSE),0)","v":"105106-Hospital Andacollo"},"15010400","2022-07-14T12:56:04",12,{"$nulls":5},10,2]
[{"$nulls":23},6,"5",2022,"105106",{"$f":"IFERROR(VLOOKUP(Tabla_SERIED_12_5[[#This Row],[IdEstablecimiento]],'[1]Establecimiento 2023'!$A$1:$E$183,3,FALSE),0)","v":"105106-Hospital Dr. José Arraño (Andacollo)"},{"$f":"IFERROR(VLOOKUP(Tabla_SERIED_12_5[[#This Row],[IdEstablecimiento]],'[1]Establecimiento 2023'!$A$1:$E$183,5,FALSE),0)","v":"105106-Hospital Andacollo"},"15010500","2022-07-14T12:56:04",14,{"$nulls":4},2,10,2]
[{"$nulls":23},6,"5",2022,"105106",{"$f":"IFERROR(VLOOKUP(Tabla_SERIED_12_5[[#This Row],[IdEstablecimiento]],'[1]Establecimiento 2023'!$A$1:$E$183,3,FALSE),0)","v":"105106-Hospital Dr. José Arraño (Andacollo)"},{"$f":"IFERROR(VLOOKUP(Tabla_SERIED_12_5[[#This Row],[IdEstablecimiento]],'[1]Establecimiento 2023'!$A$1:$E$183,5,FALSE),0)","v":"105106-Hospital Andacollo"},"15900030","2022-07-14T12:56:04",4,null,4]
[{"$nulls":23},6,"5",2022,"105106",{"$f":"IFERROR(VLOOKUP(Tabla_SERIED_12_5[[#This Row],[IdEstablecimiento]],'[1]Establecimiento 2023'!$A$1:$E$183,3,FALSE),0)","v":"105106-Hospital Dr. José Arraño (Andacollo)"},{"$f":"IFERROR(VLOOKUP(Tabla_SERIED_12_5[[#This Row],[IdEstablecimiento]],'[1]Establecimiento 2023'!$A$1:$E$183,5,FALSE),0)","v":"105106-Hospital Andacollo"},"15050100","2022-07-14T12:56:04",174,76,98,1,4,10,24,13,46,38,23,null,7,5,3]
[{"$nulls":23},6,"5",2022,"105106",{"$f":"IFERROR(VLOOKUP(Tabla_SERIED_12_5[[#This Row],[IdEstablecimiento]],'[1]Establecimiento 2023'!$A$1:$E$183,3,FALSE),0)","v":"105106-Hospital Dr. José Arraño (Andacollo)"},{"$f":"IFERROR(VLOOKUP(Tabla_SERIED_12_5[[#This Row],[IdEstablecimiento]],'[1]Establecimiento 2023'!$A$1:$E$183,5,FALSE),0)","v":"105106-Hospital Andacollo"},"15050200","2022-07-14T12:56:04",7,3,4,{"$nulls":4},1,5,1]
[{"$nulls":23},6,"5",2022,"105106",{"$f":"IFERROR(VLOOKUP(Tabla_SERIED_12_5[[#This Row],[IdEstablecimiento]],'[1]Establecimiento 2023'!$A$1:$E$183,3,FALSE),0)","v":"105106-Hospital Dr. José Arraño (Andacollo)"},{"$f":"IFERROR(VLOOKUP(Tabla_SERIED_12_5[[#This Row],[IdEstablecimiento]],'[1]Establecimiento 2023'!$A$1:$E$183,5,FALSE),0)","v":"105106-Hospital Andacollo"},"15900050","2022-07-14T12:56:04",1,0,1,null,1]
[{"$nulls":23},4,"5",2022,"105436",{"$f":"IFERROR(VLOOKUP(Tabla_SERIED_12_5[[#This Row],[IdEstablecimiento]],'[1]Establecimiento 2023'!$A$1:$E$183,3,FALSE),0)","v":"105436-Posta de Salud Rural El Maitén"},{"$f":"IFERROR(VLOOKUP(Tabla_SERIED_12_5[[#This Row],[IdEstablecimiento]],'[1]Establecimiento 2023'!$A$1:$E$183,5,FALSE),0)","v":"04303-Monte Patria"},"16200210","2022-05-18T14:57:01",2,2]
[{"$nulls":23},5,"5",2022,"105107",{"$f":"IFERROR(VLOOKUP(Tabla_SERIED_12_5[[#This Row],[IdEstablecimiento]],'[1]Establecimiento 2023'!$A$1:$E$183,3,FALSE),0)","v":"105107-Hospital San Juan de Dios (Vicuña)"},{"$f":"IFERROR(VLOOKUP(Tabla_SERIED_12_5[[#This Row],[IdEstablecimiento]],'[1]Establecimiento 2023'!$A$1:$E$183,5,FALSE),0)","v":"105107-Hospital Vicuña"},"15010100","2022-06-20T16:57:55",76,null,null,2,74]
[{"$nulls":23},5,"5",2022,"105107",{"$f":"IFERROR(VLOOKUP(Tabla_SERIED_12_5[[#This Row],[IdEstablecimiento]],'[1]Establecimiento 2023'!$A$1:$E$183,3,FALSE),0)","v":"105107-Hospital San Juan de Dios (Vicuña)"},{"$f":"IFERROR(VLOOKUP(Tabla_SERIED_12_5[[#This Row],[IdEstablecimiento]],'[1]Establecimiento 2023'!$A$1:$E$183,5,FALSE),0)","v":"105107-Hospital Vicuña"},"15010200","2022-06-20T16:57:55",256,{"$nulls":4},64,122,70]
[{"$nulls":23},5,"5",2022,"105315",{"$f":"IFERROR(VLOOKUP(Tabla_SERIED_12_5[[#This Row],[IdEstablecimiento]],'[1]Establecimiento 2023'!$A$1:$E$183,3,FALSE),0)","v":"105315-Centro de Salud Familiar Cerrillos de Tamaya"},{"$f":"IFERROR(VLOOKUP(Tabla_SERIED_12_5[[#This Row],[IdEstablecimiento]],'[1]Establecimiento 2023'!$A$1:$E$183,5,FALSE),0)","v":"04301-Ovalle"},"15050100","2022-06-20T17:03:54",167,70,97,1,4,8,16,19,38,33,29,null,14,1,4]
[{"$nulls":23},5,"5",2022,"105315",{"$f":"IFERROR(VLOOKUP(Tabla_SERIED_12_5[[#This Row],[IdEstablecimiento]],'[1]Establecimiento 2023'!$A$1:$E$183,3,FALSE),0)","v":"105315-Centro de Salud Familiar Cerrillos de Tamaya"},{"$f":"IFERROR(VLOOKUP(Tabla_SERIED_12_5[[#This Row],[IdEstablecimiento]],'[1]Establecimiento 2023'!$A$1:$E$183,5,FALSE),0)","v":"04301-Ovalle"},"15050200","2022-06-20T17:03:54",4,null,4,{"$nulls":4},1,{"$nulls":3},3]
[{"$nulls":23},5,"5",2022,"105315",{"$f":"IFERROR(VLOOKUP(Tabla_SERIED_12_5[[#This Row],[IdEstablecimiento]],'[1]Establecimiento 2023'!$A$1:$E$183,3,FALSE),0)","v":"105315-Centro de Salud Familiar Cerrillos de Tamaya"},{"$f":"IFERROR(VLOOKUP(Tabla_SERIED_12_5[[#This Row],[IdEstablecimiento]],'[1]Establecimiento 2023'!$A$1:$E$183,5,FALSE),0)","v":"04301-Ovalle"},"15050500","2022-06-20T17:03:54",1,null,1,null,1]
[{"$nulls":23},5,"5",2022,"105315",{"$f":"IFERROR(VLOOKUP(Tabla_SERIED_12_5[[#This Row],[IdEstablecimiento]],'[1]Establecimiento 2023'!$A$1:$E$183,3,FALSE),0)","v":"105315-Centro de Salud Familiar Cerrillos de Tamaya"},{"$f":"IFERROR(VLOOKUP(Tabla_SERIED_12_5[[#This Row],[IdEstablecimiento]],'[1]Establecimiento 2023'!$A$1:$E$183,5,FALSE),0)","v":"04301-Ovalle"},"15900050","2022-06-20T17:03:54",3,1,2,1,1,null,1]
[{"$nulls":23},5,"5",2022,"105315",{"$f":"IFERROR(VLOOKUP(Tabla_SERIED_12_5[[#This Row],[IdEstablecimiento]],'[1]Establecimiento 2023'!$A$1:$E$183,3,FALSE),0)","v":"105315-Centro de Salud Familiar Cerrillos de Tamaya"},{"$f":"IFERROR(VLOOKUP(Tabla_SERIED_12_5[[#This Row],[IdEstablecimiento]],'[1]Establecimiento 2023'!$A$1:$E$183,5,FALSE),0)","v":"04301-Ovalle"},"16090300","2022-06-20T17:03:54",252,252]
[{"$nulls":23},5,"5",2022,"105315",{"$f":"IFERROR(VLOOKUP(Tabla_SERIED_12_5[[#This Row],[IdEstablecimiento]],'[1]Establecimiento 2023'!$A$1:$E$183,3,FALSE),0)","v":"105315-Centro de Salud Familiar Cerrillos de Tamaya"},{"$f":"IFERROR(VLOOKUP(Tabla_SERIED_12_5[[#This Row],[IdEstablecimiento]],'[1]Establecimiento 2023'!$A$1:$E$183,5,FALSE),0)","v":"04301-Ovalle"},"16200210","2022-06-20T17:03:54",20,20]
[{"$nulls":23},5,"5",2022,"105315",{"$f":"IFERROR(VLOOKUP(Tabla_SERIED_12_5[[#This Row],[IdEstablecimiento]],'[1]Establecimiento 2023'!$A$1:$E$183,3,FALSE),0)","v":"105315-Centro de Salud Familiar Cerrillos de Tamaya"},{"$f":"IFERROR(VLOOKUP(Tabla_SERIED_12_5[[#This Row],[IdEstablecimiento]],'[1]Establecimiento 2023'!$A$1:$E$183,5,FALSE),0)","v":"04301-Ovalle"},"16100300","2022-06-20T17:03:54",252,125,127,2,30]
[{"$nulls":23},5,"5",2022,"105315",{"$f":"IFERROR(VLOOKUP(Tabla_SERIED_12_5[[#This Row],[IdEstablecimiento]],'[1]Establecimiento 2023'!$A$1:$E$183,3,FALSE),0)","v":"105315-Centro de Salud Familiar Cerrillos de Tamaya"},{"$f":"IFERROR(VLOOKUP(Tabla_SERIED_12_5[[#This Row],[IdEstablecimiento]],'[1]Establecimiento 2023'!$A$1:$E$183,5,FALSE),0)","v":"04301-Ovalle"},"16200220","2022-06-20T17:03:54",20,9,11,0,4]
[{"$nulls":23},5,"5",2022,"105435",{"$f":"IFERROR(VLOOKUP(Tabla_SERIED_12_5[[#This Row],[IdEstablecimiento]],'[1]Establecimiento 2023'!$A$1:$E$183,3,FALSE),0)","v":"105435-Posta de Salud Rural Tulahuén"},{"$f":"IFERROR(VLOOKUP(Tabla_SERIED_12_5[[#This Row],[IdEstablecimiento]],'[1]Establecimiento 2023'!$A$1:$E$183,5,FALSE),0)","v":"04303-Monte Patria"},"16100300","2022-06-20T17:15:27",135,62,73]
[{"$nulls":23},5,"5",2022,"105435",{"$f":"IFERROR(VLOOKUP(Tabla_SERIED_12_5[[#This Row],[IdEstablecimiento]],'[1]Establecimiento 2023'!$A$1:$E$183,3,FALSE),0)","v":"105435-Posta de Salud Rural Tulahuén"},{"$f":"IFERROR(VLOOKUP(Tabla_SERIED_12_5[[#This Row],[IdEstablecimiento]],'[1]Establecimiento 2023'!$A$1:$E$183,5,FALSE),0)","v":"04303-Monte Patria"},"16200220","2022-06-20T17:15:27",1,1]
[{"$nulls":23},5,"5",2022,"105436",{"$f":"IFERROR(VLOOKUP(Tabla_SERIED_12_5[[#This Row],[IdEstablecimiento]],'[1]Establecimiento 2023'!$A$1:$E$183,3,FALSE),0)","v":"105436-Posta de Salud Rural El Maitén"},{"$f":"IFERROR(VLOOKUP(Tabla_SERIED_12_5[[#This Row],[IdEstablecimiento]],'[1]Establecimiento 2023'!$A$1:$E$183,5,FALSE),0)","v":"04303-Monte Patria"},"15010100","2022-06-20T17:15:40",6,{"$nulls":3},6]
[{"$nulls":23},5,"5",2022,"105436",{"$f":"IFERROR(VLOOKUP(Tabla_SERIED_12_5[[#This Row],[IdEstablecimiento]],'[1]Establecimiento 2023'!$A$1:$E$183,3,FALSE),0)","v":"105436-Posta de Salud Rural El Maitén"},{"$f":"IFERROR(VLOOKUP(Tabla_SERIED_12_5[[#This Row],[IdEstablecimiento]],'[1]Establecimiento 2023'!$A$1:$E$183,5,FALSE),0)","v":"04303-Monte Patria"},"15010200","2022-06-20T17:15:40",8,{"$nulls":5},2,6]
[{"$nulls":23},5,"5",2022,"105436",{"$f":"IFERROR(VLOOKUP(Tabla_SERIED_12_5[[#This Row],[IdEstablecimiento]],'[1]Establecimiento 2023'!$A$1:$E$183,3,FALSE),0)","v":"105436-Posta de Salud Rural El Maitén"},{"$f":"IFERROR(VLOOKUP(Tabla_SERIED_12_5[[#This Row],[IdEstablecimiento]],'[1]Establecimiento 2023'!$A$1:$E$183,5,FALSE),0)","v":"04303-Monte Patria"},"15080008","2022-06-20T17:15:40",4,{"$nulls":7},3,{"$nulls":3},1]
[{"$nulls":23},5,"5",2022,"105436",{"$f":"IFERROR(VLOOKUP(Tabla_SERIED_12_5[[#This Row],[IdEstablecimiento]],'[1]Establecimiento 2023'!$A$1:$E$183,3,FALSE),0)","v":"105436-Posta de Salud Rural El Maitén"},{"$f":"IFERROR(VLOOKUP(Tabla_SERIED_12_5[[#This Row],[IdEstablecimiento]],'[1]Establecimiento 2023'!$A$1:$E$183,5,FALSE),0)","v":"04303-Monte Patria"},"15900010","2022-06-20T17:15:40",4,null,null,4]
[{"$nulls":23},4,"5",2022,"200569",{"$f":"IFERROR(VLOOKUP(Tabla_SERIED_12_5[[#This Row],[IdEstablecimiento]],'[1]Establecimiento 2023'!$A$1:$E$183,3,FALSE),0)","v":"200569-Centro de Salud Familiar Fray Jorge"},{"$f":"IFERROR(VLOOKUP(Tabla_SERIED_12_5[[#This Row],[IdEstablecimiento]],'[1]Establecimiento 2023'!$A$1:$E$183,5,FALSE),0)","v":"04301-Ovalle"},"15900050","2022-05-18T15:28:33",1,0,1,null,1]
[{"$nulls":23},6,"5",2022,"105456",{"$f":"IFERROR(VLOOKUP(Tabla_SERIED_12_5[[#This Row],[IdEstablecimiento]],'[1]Establecimiento 2023'!$A$1:$E$183,3,FALSE),0)","v":"105456-Posta de Salud Rural Llimpo"},{"$f":"IFERROR(VLOOKUP(Tabla_SERIED_12_5[[#This Row],[IdEstablecimiento]],'[1]Establecimiento 2023'!$A$1:$E$183,5,FALSE),0)","v":"04204-Salamanca"},"15010100","2022-07-14T14:19:23",6,null,null,2,4]
[{"$nulls":23},6,"5",2022,"105456",{"$f":"IFERROR(VLOOKUP(Tabla_SERIED_12_5[[#This Row],[IdEstablecimiento]],'[1]Establecimiento 2023'!$A$1:$E$183,3,FALSE),0)","v":"105456-Posta de Salud Rural Llimpo"},{"$f":"IFERROR(VLOOKUP(Tabla_SERIED_12_5[[#This Row],[IdEstablecimiento]],'[1]Establecimiento 2023'!$A$1:$E$183,5,FALSE),0)","v":"04204-Salamanca"},"15010200","2022-07-14T14:19:23",28,{"$nulls":5},8,20]
[{"$nulls":23},6,"5",2022,"105456",{"$f":"IFERROR(VLOOKUP(Tabla_SERIED_12_5[[#This Row],[IdEstablecimiento]],'[1]Establecimiento 2023'!$A$1:$E$183,3,FALSE),0)","v":"105456-Posta de Salud Rural Llimpo"},{"$f":"IFERROR(VLOOKUP(Tabla_SERIED_12_5[[#This Row],[IdEstablecimiento]],'[1]Establecimiento 2023'!$A$1:$E$183,5,FALSE),0)","v":"04204-Salamanca"},"15080008","2022-07-14T14:19:23",4,{"$nulls":7},3,null,null,1]
[{"$nulls":23},6,"5",2022,"105456",{"$f":"IFERROR(VLOOKUP(Tabla_SERIED_12_5[[#This Row],[IdEstablecimiento]],'[1]Establecimiento 2023'!$A$1:$E$183,3,FALSE),0)","v":"105456-Posta de Salud Rural Llimpo"},{"$f":"IFERROR(VLOOKUP(Tabla_SERIED_12_5[[#This Row],[IdEstablecimiento]],'[1]Establecimiento 2023'!$A$1:$E$183,5,FALSE),0)","v":"04204-Salamanca"},"15900010","2022-07-14T14:19:23",1.6,null,1.6]
[{"$nulls":23},6,"5",2022,"105456",{"$f":"IFERROR(VLOOKUP(Tabla_SERIED_12_5[[#This Row],[IdEstablecimiento]],'[1]Establecimiento 2023'!$A$1:$E$183,3,FALSE),0)","v":"105456-Posta de Salud Rural Llimpo"},{"$f":"IFERROR(VLOOKUP(Tabla_SERIED_12_5[[#This Row],[IdEstablecimiento]],'[1]Establecimiento 2023'!$A$1:$E$183,5,FALSE),0)","v":"04204-Salamanca"},"15010400","2022-07-14T14:19:23",2,{"$nulls":5},2]
[{"$nulls":23},6,"5",2022,"105460",{"$f":"IFERROR(VLOOKUP(Tabla_SERIED_12_5[[#This Row],[IdEstablecimiento]],'[1]Establecimiento 2023'!$A$1:$E$183,3,FALSE),0)","v":"105460-Centro Comunitario de Salud Familiar Cogotí 18"},{"$f":"IFERROR(VLOOKUP(Tabla_SERIED_12_5[[#This Row],[IdEstablecimiento]],'[1]Establecimiento 2023'!$A$1:$E$183,5,FALSE),0)","v":"04302-Combarbalá"},"15010100","2022-07-14T14:20:12",2,{"$nulls":3},2]
[{"$nulls":23},6,"5",2022,"105460",{"$f":"IFERROR(VLOOKUP(Tabla_SERIED_12_5[[#This Row],[IdEstablecimiento]],'[1]Establecimiento 2023'!$A$1:$E$183,3,FALSE),0)","v":"105460-Centro Comunitario de Salud Familiar Cogotí 18"},{"$f":"IFERROR(VLOOKUP(Tabla_SERIED_12_5[[#This Row],[IdEstablecimiento]],'[1]Establecimiento 2023'!$A$1:$E$183,5,FALSE),0)","v":"04302-Combarbalá"},"15010200","2022-07-14T14:20:12",26,{"$nulls":4},2,12,12]
[{"$nulls":23},6,"5",2022,"105460",{"$f":"IFERROR(VLOOKUP(Tabla_SERIED_12_5[[#This Row],[IdEstablecimiento]],'[1]Establecimiento 2023'!$A$1:$E$183,3,FALSE),0)","v":"105460-Centro Comunitario de Salud Familiar Cogotí 18"},{"$f":"IFERROR(VLOOKUP(Tabla_SERIED_12_5[[#This Row],[IdEstablecimiento]],'[1]Establecimiento 2023'!$A$1:$E$183,5,FALSE),0)","v":"04302-Combarbalá"},"15080008","2022-07-14T14:20:12",3,{"$nulls":7},1,null,2]
[{"$nulls":23},6,"5",2022,"105460",{"$f":"IFERROR(VLOOKUP(Tabla_SERIED_12_5[[#This Row],[IdEstablecimiento]],'[1]Establecimiento 2023'!$A$1:$E$183,3,FALSE),0)","v":"105460-Centro Comunitario de Salud Familiar Cogotí 18"},{"$f":"IFERROR(VLOOKUP(Tabla_SERIED_12_5[[#This Row],[IdEstablecimiento]],'[1]Establecimiento 2023'!$A$1:$E$183,5,FALSE),0)","v":"04302-Combarbalá"},"15010400","2022-07-14T14:20:12",2,{"$nulls":5},2]
[{"$nulls":23},6,"5",2022,"105460",{"$f":"IFERROR(VLOOKUP(Tabla_SERIED_12_5[[#This Row],[IdEstablecimiento]],'[1]Establecimiento 2023'!$A$1:$E$183,3,FALSE),0)","v":"105460-Centro Comunitario de Salud Familiar Cogotí 18"},{"$f":"IFERROR(VLOOKUP(Tabla_SERIED_12_5[[#This Row],[IdEstablecimiento]],'[1]Establecimiento 2023'!$A$1:$E$183,5,FALSE),0)","v":"04302-Combarbalá"},"15010500","2022-07-14T14:20:12",2,{"$nulls":5},2]
[{"$nulls":23},6,"5",2022,"105460",{"$f":"IFERROR(VLOOKUP(Tabla_SERIED_12_5[[#This Row],[IdEstablecimiento]],'[1]Establecimiento 2023'!$A$1:$E$183,3,FALSE),0)","v":"105460-Centro Comunitario de Salud Familiar Cogotí 18"},{"$f":"IFERROR(VLOOKUP(Tabla_SERIED_12_5[[#This Row],[IdEstablecimiento]],'[1]Establecimiento 2023'!$A$1:$E$183,5,FALSE),0)","v":"04302-Combarbalá"},"15050100","2022-07-14T14:20:12",16,8,8,{"$nulls":3},1,1,6,6,1,null,1]
[{"$nulls":23},6,"5",2022,"105460",{"$f":"IFERROR(VLOOKUP(Tabla_SERIED_12_5[[#This Row],[IdEstablecimiento]],'[1]Establecimiento 2023'!$A$1:$E$183,3,FALSE),0)","v":"105460-Centro Comunitario de Salud Familiar Cogotí 18"},{"$f":"IFERROR(VLOOKUP(Tabla_SERIED_12_5[[#This Row],[IdEstablecimiento]],'[1]Establecimiento 2023'!$A$1:$E$183,5,FALSE),0)","v":"04302-Combarbalá"},"15050200","2022-07-14T14:20:12",1,null,1,{"$nulls":5},1]
[{"$nulls":23},6,"5",2022,"105460",{"$f":"IFERROR(VLOOKUP(Tabla_SERIED_12_5[[#This Row],[IdEstablecimiento]],'[1]Establecimiento 2023'!$A$1:$E$183,3,FALSE),0)","v":"105460-Centro Comunitario de Salud Familiar Cogotí 18"},{"$f":"IFERROR(VLOOKUP(Tabla_SERIED_12_5[[#This Row],[IdEstablecimiento]],'[1]Establecimiento 2023'!$A$1:$E$183,5,FALSE),0)","v":"04302-Combarbalá"},"16090300","2022-07-14T14:20:12",58,58]
[{"$nulls":23},6,"5",2022,"105460",{"$f":"IFERROR(VLOOKUP(Tabla_SERIED_12_5[[#This Row],[IdEstablecimiento]],'[1]Establecimiento 2023'!$A$1:$E$183,3,FALSE),0)","v":"105460-Centro Comunitario de Salud Familiar Cogotí 18"},{"$f":"IFERROR(VLOOKUP(Tabla_SERIED_12_5[[#This Row],[IdEstablecimiento]],'[1]Establecimiento 2023'!$A$1:$E$183,5,FALSE),0)","v":"04302-Combarbalá"},"16200210","2022-07-14T14:20:12",4,4]
[{"$nulls":23},8,"5",2022,"105300",{"$f":"IFERROR(VLOOKUP(Tabla_SERIED_12_5[[#This Row],[IdEstablecimiento]],'[1]Establecimiento 2023'!$A$1:$E$183,3,FALSE),0)","v":"105300-Centro de Salud Familiar Cardenal Caro"},{"$f":"IFERROR(VLOOKUP(Tabla_SERIED_12_5[[#This Row],[IdEstablecimiento]],'[1]Establecimiento 2023'!$A$1:$E$183,5,FALSE),0)","v":"04101-La Serena"},"15900030","2022-09-21T07:14:41",6.8,null,null,6.8]
[{"$nulls":23},8,"5",2022,"105300",{"$f":"IFERROR(VLOOKUP(Tabla_SERIED_12_5[[#This Row],[IdEstablecimiento]],'[1]Establecimiento 2023'!$A$1:$E$183,3,FALSE),0)","v":"105300-Centro de Salud Familiar Cardenal Caro"},{"$f":"IFERROR(VLOOKUP(Tabla_SERIED_12_5[[#This Row],[IdEstablecimiento]],'[1]Establecimiento 2023'!$A$1:$E$183,5,FALSE),0)","v":"04101-La Serena"},"15050100","2022-09-21T07:14:41",439,163,276,2,17,32,43,43,91,64,87,null,28,6,26]
[{"$nulls":23},8,"5",2022,"105300",{"$f":"IFERROR(VLOOKUP(Tabla_SERIED_12_5[[#This Row],[IdEstablecimiento]],'[1]Establecimiento 2023'!$A$1:$E$183,3,FALSE),0)","v":"105300-Centro de Salud Familiar Cardenal Caro"},{"$f":"IFERROR(VLOOKUP(Tabla_SERIED_12_5[[#This Row],[IdEstablecimiento]],'[1]Establecimiento 2023'!$A$1:$E$183,5,FALSE),0)","v":"04101-La Serena"},"15050200","2022-09-21T07:14:41",3,null,3,null,null,1,1,null,null,1]
[{"$nulls":23},8,"5",2022,"105300",{"$f":"IFERROR(VLOOKUP(Tabla_SERIED_12_5[[#This Row],[IdEstablecimiento]],'[1]Establecimiento 2023'!$A$1:$E$183,3,FALSE),0)","v":"105300-Centro de Salud Familiar Cardenal Caro"},{"$f":"IFERROR(VLOOKUP(Tabla_SERIED_12_5[[#This Row],[IdEstablecimiento]],'[1]Establecimiento 2023'!$A$1:$E$183,5,FALSE),0)","v":"04101-La Serena"},"15050500","2022-09-21T07:14:41",3,1,2,1,2]
[{"$nulls":23},8,"5",2022,"105300",{"$f":"IFERROR(VLOOKUP(Tabla_SERIED_12_5[[#This Row],[IdEstablecimiento]],'[1]Establecimiento 2023'!$A$1:$E$183,3,FALSE),0)","v":"105300-Centro de Salud Familiar Cardenal Caro"},{"$f":"IFERROR(VLOOKUP(Tabla_SERIED_12_5[[#This Row],[IdEstablecimiento]],'[1]Establecimiento 2023'!$A$1:$E$183,5,FALSE),0)","v":"04101-La Serena"},"15900050","2022-09-21T07:14:41",2,null,2,null,null,2]
[{"$nulls":23},8,"5",2022,"105300",{"$f":"IFERROR(VLOOKUP(Tabla_SERIED_12_5[[#This Row],[IdEstablecimiento]],'[1]Establecimiento 2023'!$A$1:$E$183,3,FALSE),0)","v":"105300-Centro de Salud Familiar Cardenal Caro"},{"$f":"IFERROR(VLOOKUP(Tabla_SERIED_12_5[[#This Row],[IdEstablecimiento]],'[1]Establecimiento 2023'!$A$1:$E$183,5,FALSE),0)","v":"04101-La Serena"},"15020100","2022-09-21T07:14:41",31,null,1,16,14]
[{"$nulls":23},8,"5",2022,"105300",{"$f":"IFERROR(VLOOKUP(Tabla_SERIED_12_5[[#This Row],[IdEstablecimiento]],'[1]Establecimiento 2023'!$A$1:$E$183,3,FALSE),0)","v":"105300-Centro de Salud Familiar Cardenal Caro"},{"$f":"IFERROR(VLOOKUP(Tabla_SERIED_12_5[[#This Row],[IdEstablecimiento]],'[1]Establecimiento 2023'!$A$1:$E$183,5,FALSE),0)","v":"04101-La Serena"},"15020200","2022-09-21T07:14:41",34,{"$nulls":4},8,20,6]
[{"$nulls":23},8,"5",2022,"105300",{"$f":"IFERROR(VLOOKUP(Tabla_SERIED_12_5[[#This Row],[IdEstablecimiento]],'[1]Establecimiento 2023'!$A$1:$E$183,3,FALSE),0)","v":"105300-Centro de Salud Familiar Cardenal Caro"},{"$f":"IFERROR(VLOOKUP(Tabla_SERIED_12_5[[#This Row],[IdEstablecimiento]],'[1]Establecimiento 2023'!$A$1:$E$183,5,FALSE),0)","v":"04101-La Serena"},"15080010","2022-09-21T07:14:41",2,{"$nulls":7},1,null,null,1]
[{"$nulls":23},8,"5",2022,"105300",{"$f":"IFERROR(VLOOKUP(Tabla_SERIED_12_5[[#This Row],[IdEstablecimiento]],'[1]Establecimiento 2023'!$A$1:$E$183,3,FALSE),0)","v":"105300-Centro de Salud Familiar Cardenal Caro"},{"$f":"IFERROR(VLOOKUP(Tabla_SERIED_12_5[[#This Row],[IdEstablecimiento]],'[1]Establecimiento 2023'!$A$1:$E$183,5,FALSE),0)","v":"04101-La Serena"},"15901200","2022-09-21T07:14:41",107.6,3.6,12.8,28.8,36.8,25.6]
[{"$nulls":23},8,"5",2022,"105300",{"$f":"IFERROR(VLOOKUP(Tabla_SERIED_12_5[[#This Row],[IdEstablecimiento]],'[1]Establecimiento 2023'!$A$1:$E$183,3,FALSE),0)","v":"105300-Centro de Salud Familiar Cardenal Caro"},{"$f":"IFERROR(VLOOKUP(Tabla_SERIED_12_5[[#This Row],[IdEstablecimiento]],'[1]Establecimiento 2023'!$A$1:$E$183,5,FALSE),0)","v":"04101-La Serena"},"15901300","2022-09-21T07:14:41",14.8,null,7.6,7.2]
[{"$nulls":23},8,"5",2022,"105300",{"$f":"IFERROR(VLOOKUP(Tabla_SERIED_12_5[[#This Row],[IdEstablecimiento]],'[1]Establecimiento 2023'!$A$1:$E$183,3,FALSE),0)","v":"105300-Centro de Salud Familiar Cardenal Caro"},{"$f":"IFERROR(VLOOKUP(Tabla_SERIED_12_5[[#This Row],[IdEstablecimiento]],'[1]Establecimiento 2023'!$A$1:$E$183,5,FALSE),0)","v":"04101-La Serena"},"15060100","2022-09-21T07:14:41",35,21,14,null,1,8,7,4,10,3,1,null,null,1]
[{"$nulls":23},8,"5",2022,"105300",{"$f":"IFERROR(VLOOKUP(Tabla_SERIED_12_5[[#This Row],[IdEstablecimiento]],'[1]Establecimiento 2023'!$A$1:$E$183,3,FALSE),0)","v":"105300-Centro de Salud Familiar Cardenal Caro"},{"$f":"IFERROR(VLOOKUP(Tabla_SERIED_12_5[[#This Row],[IdEstablecimiento]],'[1]Establecimiento 2023'!$A$1:$E$183,5,FALSE),0)","v":"04101-La Serena"},"15901400","2022-09-21T07:14:41",35,28,7,1,7,10,10,7]
[{"$nulls":23},4,"5",2022,"105305",{"$f":"IFERROR(VLOOKUP(Tabla_SERIED_12_5[[#This Row],[IdEstablecimiento]],'[1]Establecimiento 2023'!$A$1:$E$183,3,FALSE),0)","v":"105305-Centro de Salud Familiar Tierras Blancas"},{"$f":"IFERROR(VLOOKUP(Tabla_SERIED_12_5[[#This Row],[IdEstablecimiento]],'[1]Establecimiento 2023'!$A$1:$E$183,5,FALSE),0)","v":"04102-Coquimbo"},"15060100","2022-05-18T11:50:14",17,11,6,1,null,null,4,4,3,5]
[{"$nulls":23},4,"5",2022,"105305",{"$f":"IFERROR(VLOOKUP(Tabla_SERIED_12_5[[#This Row],[IdEstablecimiento]],'[1]Establecimiento 2023'!$A$1:$E$183,3,FALSE),0)","v":"105305-Centro de Salud Familiar Tierras Blancas"},{"$f":"IFERROR(VLOOKUP(Tabla_SERIED_12_5[[#This Row],[IdEstablecimiento]],'[1]Establecimiento 2023'!$A$1:$E$183,5,FALSE),0)","v":"04102-Coquimbo"},"16090300","2022-05-18T11:50:14",642,642]
[{"$nulls":23},4,"5",2022,"105305",{"$f":"IFERROR(VLOOKUP(Tabla_SERIED_12_5[[#This Row],[IdEstablecimiento]],'[1]Establecimiento 2023'!$A$1:$E$183,3,FALSE),0)","v":"105305-Centro de Salud Familiar Tierras Blancas"},{"$f":"IFERROR(VLOOKUP(Tabla_SERIED_12_5[[#This Row],[IdEstablecimiento]],'[1]Establecimiento 2023'!$A$1:$E$183,5,FALSE),0)","v":"04102-Coquimbo"},"16200210","2022-05-18T11:50:14",61,61]
[{"$nulls":23},4,"5",2022,"105305",{"$f":"IFERROR(VLOOKUP(Tabla_SERIED_12_5[[#This Row],[IdEstablecimiento]],'[1]Establecimiento 2023'!$A$1:$E$183,3,FALSE),0)","v":"105305-Centro de Salud Familiar Tierras Blancas"},{"$f":"IFERROR(VLOOKUP(Tabla_SERIED_12_5[[#This Row],[IdEstablecimiento]],'[1]Establecimiento 2023'!$A$1:$E$183,5,FALSE),0)","v":"04102-Coquimbo"},"16100300","2022-05-18T11:50:14",642,270,372,6,199]
[{"$nulls":23},4,"5",2022,"105305",{"$f":"IFERROR(VLOOKUP(Tabla_SERIED_12_5[[#This Row],[IdEstablecimiento]],'[1]Establecimiento 2023'!$A$1:$E$183,3,FALSE),0)","v":"105305-Centro de Salud Familiar Tierras Blancas"},{"$f":"IFERROR(VLOOKUP(Tabla_SERIED_12_5[[#This Row],[IdEstablecimiento]],'[1]Establecimiento 2023'!$A$1:$E$183,5,FALSE),0)","v":"04102-Coquimbo"},"16200220","2022-05-18T11:50:14",61,22,39,null,20]
[{"$nulls":23},4,"5",2022,"105305",{"$f":"IFERROR(VLOOKUP(Tabla_SERIED_12_5[[#This Row],[IdEstablecimiento]],'[1]Establecimiento 2023'!$A$1:$E$183,3,FALSE),0)","v":"105305-Centro de Salud Familiar Tierras Blancas"},{"$f":"IFERROR(VLOOKUP(Tabla_SERIED_12_5[[#This Row],[IdEstablecimiento]],'[1]Establecimiento 2023'!$A$1:$E$183,5,FALSE),0)","v":"04102-Coquimbo"},"16200100","2022-05-18T11:50:14",10,6,4]
[{"$nulls":23},4,"5",2022,"105306",{"$f":"IFERROR(VLOOKUP(Tabla_SERIED_12_5[[#This Row],[IdEstablecimiento]],'[1]Establecimiento 2023'!$A$1:$E$183,3,FALSE),0)","v":"105306-Centro de Salud Familiar Paihuano"},{"$f":"IFERROR(VLOOKUP(Tabla_SERIED_12_5[[#This Row],[IdEstablecimiento]],'[1]Establecimiento 2023'!$A$1:$E$183,5,FALSE),0)","v":"04105-Paiguano"},"15010100","2022-05-18T11:50:26",6,{"$nulls":3},6]
[{"$nulls":23},4,"5",2022,"105491",{"$f":"IFERROR(VLOOKUP(Tabla_SERIED_12_5[[#This Row],[IdEstablecimiento]],'[1]Establecimiento 2023'!$A$1:$E$183,3,FALSE),0)","v":"105491-Posta de Salud Rural Quelén Bajo"},{"$f":"IFERROR(VLOOKUP(Tabla_SERIED_12_5[[#This Row],[IdEstablecimiento]],'[1]Establecimiento 2023'!$A$1:$E$183,5,FALSE),0)","v":"04204-Salamanca"},"15900010","2022-05-18T15:16:52",4,null,0.8,3.2]
[{"$nulls":23},5,"5",2022,"105107",{"$f":"IFERROR(VLOOKUP(Tabla_SERIED_12_5[[#This Row],[IdEstablecimiento]],'[1]Establecimiento 2023'!$A$1:$E$183,3,FALSE),0)","v":"105107-Hospital San Juan de Dios (Vicuña)"},{"$f":"IFERROR(VLOOKUP(Tabla_SERIED_12_5[[#This Row],[IdEstablecimiento]],'[1]Establecimiento 2023'!$A$1:$E$183,5,FALSE),0)","v":"105107-Hospital Vicuña"},"15900050","2022-06-20T16:57:55",1,null,1,{"$nulls":4},1]
[{"$nulls":23},5,"5",2022,"105107",{"$f":"IFERROR(VLOOKUP(Tabla_SERIED_12_5[[#This Row],[IdEstablecimiento]],'[1]Establecimiento 2023'!$A$1:$E$183,3,FALSE),0)","v":"105107-Hospital San Juan de Dios (Vicuña)"},{"$f":"IFERROR(VLOOKUP(Tabla_SERIED_12_5[[#This Row],[IdEstablecimiento]],'[1]Establecimiento 2023'!$A$1:$E$183,5,FALSE),0)","v":"105107-Hospital Vicuña"},"15020100","2022-06-20T16:57:55",1,1]
[{"$nulls":23},5,"5",2022,"105107",{"$f":"IFERROR(VLOOKUP(Tabla_SERIED_12_5[[#This Row],[IdEstablecimiento]],'[1]Establecimiento 2023'!$A$1:$E$183,3,FALSE),0)","v":"105107-Hospital San Juan de Dios (Vicuña)"},{"$f":"IFERROR(VLOOKUP(Tabla_SERIED_12_5[[#This Row],[IdEstablecimiento]],'[1]Establecimiento 2023'!$A$1:$E$183,5,FALSE),0)","v":"105107-Hospital Vicuña"},"15020200","2022-06-20T16:57:55",6,{"$nulls":5},6]
[{"$nulls":23},5,"5",2022,"105107",{"$f":"IFERROR(VLOOKUP(Tabla_SERIED_12_5[[#This Row],[IdEstablecimiento]],'[1]Establecimiento 2023'!$A$1:$E$183,3,FALSE),0)","v":"105107-Hospital San Juan de Dios (Vicuña)"},{"$f":"IFERROR(VLOOKUP(Tabla_SERIED_12_5[[#This Row],[IdEstablecimiento]],'[1]Establecimiento 2023'!$A$1:$E$183,5,FALSE),0)","v":"105107-Hospital Vicuña"},"15080010","2022-06-20T16:57:55",1,{"$nulls":10},1]
[{"$nulls":23},5,"5",2022,"105107",{"$f":"IFERROR(VLOOKUP(Tabla_SERIED_12_5[[#This Row],[IdEstablecimiento]],'[1]Establecimiento 2023'!$A$1:$E$183,3,FALSE),0)","v":"105107-Hospital San Juan de Dios (Vicuña)"},{"$f":"IFERROR(VLOOKUP(Tabla_SERIED_12_5[[#This Row],[IdEstablecimiento]],'[1]Establecimiento 2023'!$A$1:$E$183,5,FALSE),0)","v":"105107-Hospital Vicuña"},"15060100","2022-06-20T16:57:55",5,4,1,1,{"$nulls":4},3,{"$nulls":4},1]
[{"$nulls":23},5,"5",2022,"105107",{"$f":"IFERROR(VLOOKUP(Tabla_SERIED_12_5[[#This Row],[IdEstablecimiento]],'[1]Establecimiento 2023'!$A$1:$E$183,3,FALSE),0)","v":"105107-Hospital San Juan de Dios (Vicuña)"},{"$f":"IFERROR(VLOOKUP(Tabla_SERIED_12_5[[#This Row],[IdEstablecimiento]],'[1]Establecimiento 2023'!$A$1:$E$183,5,FALSE),0)","v":"105107-Hospital Vicuña"},"16090300","2022-06-20T16:57:55",454,454]
[{"$nulls":23},5,"5",2022,"105107",{"$f":"IFERROR(VLOOKUP(Tabla_SERIED_12_5[[#This Row],[IdEstablecimiento]],'[1]Establecimiento 2023'!$A$1:$E$183,3,FALSE),0)","v":"105107-Hospital San Juan de Dios (Vicuña)"},{"$f":"IFERROR(VLOOKUP(Tabla_SERIED_12_5[[#This Row],[IdEstablecimiento]],'[1]Establecimiento 2023'!$A$1:$E$183,5,FALSE),0)","v":"105107-Hospital Vicuña"},"16200210","2022-06-20T16:57:55",16,16]
[{"$nulls":23},5,"5",2022,"105107",{"$f":"IFERROR(VLOOKUP(Tabla_SERIED_12_5[[#This Row],[IdEstablecimiento]],'[1]Establecimiento 2023'!$A$1:$E$183,3,FALSE),0)","v":"105107-Hospital San Juan de Dios (Vicuña)"},{"$f":"IFERROR(VLOOKUP(Tabla_SERIED_12_5[[#This Row],[IdEstablecimiento]],'[1]Establecimiento 2023'!$A$1:$E$183,5,FALSE),0)","v":"105107-Hospital Vicuña"},"16100300","2022-06-20T16:57:55",227,87,140,null,71]
[{"$nulls":23},1,"5",2022,"105304",{"$f":"IFERROR(VLOOKUP(Tabla_SERIED_12_5[[#This Row],[IdEstablecimiento]],'[1]Establecimiento 2023'!$A$1:$E$183,3,FALSE),0)","v":"105304-Centro de Salud Familiar Santa Cecilia"},{"$f":"IFERROR(VLOOKUP(Tabla_SERIED_12_5[[#This Row],[IdEstablecimiento]],'[1]Establecimiento 2023'!$A$1:$E$183,5,FALSE),0)","v":"04102-Coquimbo"},"15080010","2022-02-16T10:35:19",1,{"$nulls":7},0,null,0,1,0]
[{"$nulls":23},1,"5",2022,"105304",{"$f":"IFERROR(VLOOKUP(Tabla_SERIED_12_5[[#This Row],[IdEstablecimiento]],'[1]Establecimiento 2023'!$A$1:$E$183,3,FALSE),0)","v":"105304-Centro de Salud Familiar Santa Cecilia"},{"$f":"IFERROR(VLOOKUP(Tabla_SERIED_12_5[[#This Row],[IdEstablecimiento]],'[1]Establecimiento 2023'!$A$1:$E$183,5,FALSE),0)","v":"04102-Coquimbo"},"15901200","2022-02-16T10:35:19",8,0,0,0,3.2,4.8]
[{"$nulls":23},1,"5",2022,"105304",{"$f":"IFERROR(VLOOKUP(Tabla_SERIED_12_5[[#This Row],[IdEstablecimiento]],'[1]Establecimiento 2023'!$A$1:$E$183,3,FALSE),0)","v":"105304-Centro de Salud Familiar Santa Cecilia"},{"$f":"IFERROR(VLOOKUP(Tabla_SERIED_12_5[[#This Row],[IdEstablecimiento]],'[1]Establecimiento 2023'!$A$1:$E$183,5,FALSE),0)","v":"04102-Coquimbo"},"15901300","2022-02-16T10:35:19",1.6,0,1.6,0,0,0]
[{"$nulls":23},1,"5",2022,"105304",{"$f":"IFERROR(VLOOKUP(Tabla_SERIED_12_5[[#This Row],[IdEstablecimiento]],'[1]Establecimiento 2023'!$A$1:$E$183,3,FALSE),0)","v":"105304-Centro de Salud Familiar Santa Cecilia"},{"$f":"IFERROR(VLOOKUP(Tabla_SERIED_12_5[[#This Row],[IdEstablecimiento]],'[1]Establecimiento 2023'!$A$1:$E$183,5,FALSE),0)","v":"04102-Coquimbo"},"15060100","2022-02-16T10:35:19",9,5,4,0,0,0,1,4,2,1,0,null,0,1,0]
[{"$nulls":23},1,"5",2022,"105304",{"$f":"IFERROR(VLOOKUP(Tabla_SERIED_12_5[[#This Row],[IdEstablecimiento]],'[1]Establecimiento 2023'!$A$1:$E$183,3,FALSE),0)","v":"105304-Centro de Salud Familiar Santa Cecilia"},{"$f":"IFERROR(VLOOKUP(Tabla_SERIED_12_5[[#This Row],[IdEstablecimiento]],'[1]Establecimiento 2023'!$A$1:$E$183,5,FALSE),0)","v":"04102-Coquimbo"},"15901400","2022-02-16T10:35:19",3,2,1,0,1,0,1,1]
[{"$nulls":23},1,"5",2022,"105304",{"$f":"IFERROR(VLOOKUP(Tabla_SERIED_12_5[[#This Row],[IdEstablecimiento]],'[1]Establecimiento 2023'!$A$1:$E$183,3,FALSE),0)","v":"105304-Centro de Salud Familiar Santa Cecilia"},{"$f":"IFERROR(VLOOKUP(Tabla_SERIED_12_5[[#This Row],[IdEstablecimiento]],'[1]Establecimiento 2023'!$A$1:$E$183,5,FALSE),0)","v":"04102-Coquimbo"},"16090300","2022-02-16T10:35:19",366,366]
[{"$nulls":23},1,"5",2022,"105455",{"$f":"IFERROR(VLOOKUP(Tabla_SERIED_12_5[[#This Row],[IdEstablecimiento]],'[1]Establecimiento 2023'!$A$1:$E$183,3,FALSE),0)","v":"105455-CESFAM Valle Alto"},{"$f":"IFERROR(VLOOKUP(Tabla_SERIED_12_5[[#This Row],[IdEstablecimiento]],'[1]Establecimiento 2023'!$A$1:$E$183,5,FALSE),0)","v":"04204-Salamanca"},"16090300","2022-02-16T11:36:40",51,51]
[{"$nulls":23},1,"5",2022,"105455",{"$f":"IFERROR(VLOOKUP(Tabla_SERIED_12_5[[#This Row],[IdEstablecimiento]],'[1]Establecimiento 2023'!$A$1:$E$183,3,FALSE),0)","v":"105455-CESFAM Valle Alto"},{"$f":"IFERROR(VLOOKUP(Tabla_SERIED_12_5[[#This Row],[IdEstablecimiento]],'[1]Establecimiento 2023'!$A$1:$E$183,5,FALSE),0)","v":"04204-Salamanca"},"16200210","2022-02-16T11:36:40",6,6]
[{"$nulls":23},1,"5",2022,"105455",{"$f":"IFERROR(VLOOKUP(Tabla_SERIED_12_5[[#This Row],[IdEstablecimiento]],'[1]Establecimiento 2023'!$A$1:$E$183,3,FALSE),0)","v":"105455-CESFAM Valle Alto"},{"$f":"IFERROR(VLOOKUP(Tabla_SERIED_12_5[[#This Row],[IdEstablecimiento]],'[1]Establecimiento 2023'!$A$1:$E$183,5,FALSE),0)","v":"04204-Salamanca"},"16100300","2022-02-16T11:36:40",51,21,30]
[{"$nulls":23},1,"5",2022,"105455",{"$f":"IFERROR(VLOOKUP(Tabla_SERIED_12_5[[#This Row],[IdEstablecimiento]],'[1]Establecimiento 2023'!$A$1:$E$183,3,FALSE),0)","v":"105455-CESFAM Valle Alto"},{"$f":"IFERROR(VLOOKUP(Tabla_SERIED_12_5[[#This Row],[IdEstablecimiento]],'[1]Establecimiento 2023'!$A$1:$E$183,5,FALSE),0)","v":"04204-Salamanca"},"16200220","2022-02-16T11:36:40",6,3,3]
[{"$nulls":23},1,"5",2022,"105456",{"$f":"IFERROR(VLOOKUP(Tabla_SERIED_12_5[[#This Row],[IdEstablecimiento]],'[1]Establecimiento 2023'!$A$1:$E$183,3,FALSE),0)","v":"105456-Posta de Salud Rural Llimpo"},{"$f":"IFERROR(VLOOKUP(Tabla_SERIED_12_5[[#This Row],[IdEstablecimiento]],'[1]Establecimiento 2023'!$A$1:$E$183,5,FALSE),0)","v":"04204-Salamanca"},"15010100","2022-02-16T11:36:54",2,{"$nulls":3},2]
[{"$nulls":23},1,"5",2022,"105456",{"$f":"IFERROR(VLOOKUP(Tabla_SERIED_12_5[[#This Row],[IdEstablecimiento]],'[1]Establecimiento 2023'!$A$1:$E$183,3,FALSE),0)","v":"105456-Posta de Salud Rural Llimpo"},{"$f":"IFERROR(VLOOKUP(Tabla_SERIED_12_5[[#This Row],[IdEstablecimiento]],'[1]Establecimiento 2023'!$A$1:$E$183,5,FALSE),0)","v":"04204-Salamanca"},"15010200","2022-02-16T11:36:54",43,{"$nulls":4},4,16,23]
[{"$nulls":23},1,"5",2022,"105456",{"$f":"IFERROR(VLOOKUP(Tabla_SERIED_12_5[[#This Row],[IdEstablecimiento]],'[1]Establecimiento 2023'!$A$1:$E$183,3,FALSE),0)","v":"105456-Posta de Salud Rural Llimpo"},{"$f":"IFERROR(VLOOKUP(Tabla_SERIED_12_5[[#This Row],[IdEstablecimiento]],'[1]Establecimiento 2023'!$A$1:$E$183,5,FALSE),0)","v":"04204-Salamanca"},"15080008","2022-02-16T11:36:54",3,{"$nulls":7},1,null,2]
[{"$nulls":23},1,"5",2022,"105456",{"$f":"IFERROR(VLOOKUP(Tabla_SERIED_12_5[[#This Row],[IdEstablecimiento]],'[1]Establecimiento 2023'!$A$1:$E$183,3,FALSE),0)","v":"105456-Posta de Salud Rural Llimpo"},{"$f":"IFERROR(VLOOKUP(Tabla_SERIED_12_5[[#This Row],[IdEstablecimiento]],'[1]Establecimiento 2023'!$A$1:$E$183,5,FALSE),0)","v":"04204-Salamanca"},"15050100","2022-02-16T11:36:54",25,14,11,{"$nulls":3},1,2,8,12,1,null,1]
[{"$nulls":23},1,"5",2022,"105401",{"$f":"IFERROR(VLOOKUP(Tabla_SERIED_12_5[[#This Row],[IdEstablecimiento]],'[1]Establecimiento 2023'!$A$1:$E$183,3,FALSE),0)","v":"105401-Posta de Salud Rural Las Rojas"},{"$f":"IFERROR(VLOOKUP(Tabla_SERIED_12_5[[#This Row],[IdEstablecimiento]],'[1]Establecimiento 2023'!$A$1:$E$183,5,FALSE),0)","v":"04101-La Serena"},"15010100","2022-02-16T10:52:59",6,{"$nulls":3},6]
[{"$nulls":23},1,"5",2022,"105401",{"$f":"IFERROR(VLOOKUP(Tabla_SERIED_12_5[[#This Row],[IdEstablecimiento]],'[1]Establecimiento 2023'!$A$1:$E$183,3,FALSE),0)","v":"105401-Posta de Salud Rural Las Rojas"},{"$f":"IFERROR(VLOOKUP(Tabla_SERIED_12_5[[#This Row],[IdEstablecimiento]],'[1]Establecimiento 2023'!$A$1:$E$183,5,FALSE),0)","v":"04101-La Serena"},"15010200","2022-02-16T10:52:59",24,{"$nulls":4},4,14,6]
[{"$nulls":23},3,"5",2022,"105319",{"$f":"IFERROR(VLOOKUP(Tabla_SERIED_12_5[[#This Row],[IdEstablecimiento]],'[1]Establecimiento 2023'!$A$1:$E$183,3,FALSE),0)","v":"105319-Centro de Salud Familiar Cardenal Raúl Silva Henríquez de La Serena"},{"$f":"IFERROR(VLOOKUP(Tabla_SERIED_12_5[[#This Row],[IdEstablecimiento]],'[1]Establecimiento 2023'!$A$1:$E$183,5,FALSE),0)","v":"04101-La Serena"},"15080009","2022-04-19T08:10:39",9,{"$nulls":8},9]
[{"$nulls":23},4,"5",2022,"105318",{"$f":"IFERROR(VLOOKUP(Tabla_SERIED_12_5[[#This Row],[IdEstablecimiento]],'[1]Establecimiento 2023'!$A$1:$E$183,3,FALSE),0)","v":"105318-Centro de Salud Familiar El Palqui"},{"$f":"IFERROR(VLOOKUP(Tabla_SERIED_12_5[[#This Row],[IdEstablecimiento]],'[1]Establecimiento 2023'!$A$1:$E$183,5,FALSE),0)","v":"04303-Monte Patria"},"15900050","2022-05-18T11:52:48",1,null,1,null,null,1]
[{"$nulls":23},2,"5",2022,"200366",{"$f":"IFERROR(VLOOKUP(Tabla_SERIED_12_5[[#This Row],[IdEstablecimiento]],'[1]Establecimiento 2023'!$A$1:$E$183,3,FALSE),0)","v":"200366-Centro de Salud Familiar Urbano de Illapel"},{"$f":"IFERROR(VLOOKUP(Tabla_SERIED_12_5[[#This Row],[IdEstablecimiento]],'[1]Establecimiento 2023'!$A$1:$E$183,5,FALSE),0)","v":"04201-Illapel"},"16200220","2022-03-17T10:07:01",2,null,2]
[{"$nulls":23},2,"5",2022,"200366",{"$f":"IFERROR(VLOOKUP(Tabla_SERIED_12_5[[#This Row],[IdEstablecimiento]],'[1]Establecimiento 2023'!$A$1:$E$183,3,FALSE),0)","v":"200366-Centro de Salud Familiar Urbano de Illapel"},{"$f":"IFERROR(VLOOKUP(Tabla_SERIED_12_5[[#This Row],[IdEstablecimiento]],'[1]Establecimiento 2023'!$A$1:$E$183,5,FALSE),0)","v":"04201-Illapel"},"16100100","2022-03-17T10:07:01",0,{"$nulls":3},1]
[{"$nulls":23},2,"5",2022,"200366",{"$f":"IFERROR(VLOOKUP(Tabla_SERIED_12_5[[#This Row],[IdEstablecimiento]],'[1]Establecimiento 2023'!$A$1:$E$183,3,FALSE),0)","v":"200366-Centro de Salud Familiar Urbano de Illapel"},{"$f":"IFERROR(VLOOKUP(Tabla_SERIED_12_5[[#This Row],[IdEstablecimiento]],'[1]Establecimiento 2023'!$A$1:$E$183,5,FALSE),0)","v":"04201-Illapel"},"16200100","2022-03-17T10:07:01",9,7,2,null,1]
[{"$nulls":23},2,"5",2022,"200367",{"$f":"IFERROR(VLOOKUP(Tabla_SERIED_12_5[[#This Row],[IdEstablecimiento]],'[1]Establecimiento 2023'!$A$1:$E$183,3,FALSE),0)","v":"200367-Centro Comunitario de Salud Familiar Colonia Limarí"},{"$f":"IFERROR(VLOOKUP(Tabla_SERIED_12_5[[#This Row],[IdEstablecimiento]],'[1]Establecimiento 2023'!$A$1:$E$183,5,FALSE),0)","v":"04301-Ovalle"},"15010100","2022-03-17T10:07:34",5,null,null,1,4]
[{"$nulls":23},1,"5",2022,"105511",{"$f":"IFERROR(VLOOKUP(Tabla_SERIED_12_5[[#This Row],[IdEstablecimiento]],'[1]Establecimiento 2023'!$A$1:$E$183,3,FALSE),0)","v":"105511-Posta de Salud Rural Los Cóndores"},{"$f":"IFERROR(VLOOKUP(Tabla_SERIED_12_5[[#This Row],[IdEstablecimiento]],'[1]Establecimiento 2023'!$A$1:$E$183,5,FALSE),0)","v":"04203-Los Vilos"},"16100300","2022-05-18T15:41:42",51,26,25,null,18]
[{"$nulls":23},2,"5",2022,"105435",{"$f":"IFERROR(VLOOKUP(Tabla_SERIED_12_5[[#This Row],[IdEstablecimiento]],'[1]Establecimiento 2023'!$A$1:$E$183,3,FALSE),0)","v":"105435-Posta de Salud Rural Tulahuén"},{"$f":"IFERROR(VLOOKUP(Tabla_SERIED_12_5[[#This Row],[IdEstablecimiento]],'[1]Establecimiento 2023'!$A$1:$E$183,5,FALSE),0)","v":"04303-Monte Patria"},"15050100","2022-03-17T09:40:08",24,12,12,{"$nulls":3},5,3,7,7,1,null,1]
[{"$nulls":23},2,"5",2022,"105435",{"$f":"IFERROR(VLOOKUP(Tabla_SERIED_12_5[[#This Row],[IdEstablecimiento]],'[1]Establecimiento 2023'!$A$1:$E$183,3,FALSE),0)","v":"105435-Posta de Salud Rural Tulahuén"},{"$f":"IFERROR(VLOOKUP(Tabla_SERIED_12_5[[#This Row],[IdEstablecimiento]],'[1]Establecimiento 2023'!$A$1:$E$183,5,FALSE),0)","v":"04303-Monte Patria"},"15050200","2022-03-17T09:40:08",1,1,{"$nulls":6},1]
[{"$nulls":23},2,"5",2022,"105435",{"$f":"IFERROR(VLOOKUP(Tabla_SERIED_12_5[[#This Row],[IdEstablecimiento]],'[1]Establecimiento 2023'!$A$1:$E$183,3,FALSE),0)","v":"105435-Posta de Salud Rural Tulahuén"},{"$f":"IFERROR(VLOOKUP(Tabla_SERIED_12_5[[#This Row],[IdEstablecimiento]],'[1]Establecimiento 2023'!$A$1:$E$183,5,FALSE),0)","v":"04303-Monte Patria"},"16090300","2022-03-17T09:40:08",10,10]
[{"$nulls":23},2,"5",2022,"105435",{"$f":"IFERROR(VLOOKUP(Tabla_SERIED_12_5[[#This Row],[IdEstablecimiento]],'[1]Establecimiento 2023'!$A$1:$E$183,3,FALSE),0)","v":"105435-Posta de Salud Rural Tulahuén"},{"$f":"IFERROR(VLOOKUP(Tabla_SERIED_12_5[[#This Row],[IdEstablecimiento]],'[1]Establecimiento 2023'!$A$1:$E$183,5,FALSE),0)","v":"04303-Monte Patria"},"16100300","2022-03-17T09:40:08",5,1,4]
[{"$nulls":23},2,"5",2022,"105436",{"$f":"IFERROR(VLOOKUP(Tabla_SERIED_12_5[[#This Row],[IdEstablecimiento]],'[1]Establecimiento 2023'!$A$1:$E$183,3,FALSE),0)","v":"105436-Posta de Salud Rural El Maitén"},{"$f":"IFERROR(VLOOKUP(Tabla_SERIED_12_5[[#This Row],[IdEstablecimiento]],'[1]Establecimiento 2023'!$A$1:$E$183,5,FALSE),0)","v":"04303-Monte Patria"},"15010100","2022-03-17T09:40:22",2,null,null,2]
[{"$nulls":23},2,"5",2022,"105319",{"$f":"IFERROR(VLOOKUP(Tabla_SERIED_12_5[[#This Row],[IdEstablecimiento]],'[1]Establecimiento 2023'!$A$1:$E$183,3,FALSE),0)","v":"105319-Centro de Salud Familiar Cardenal Raúl Silva Henríquez de La Serena"},{"$f":"IFERROR(VLOOKUP(Tabla_SERIED_12_5[[#This Row],[IdEstablecimiento]],'[1]Establecimiento 2023'!$A$1:$E$183,5,FALSE),0)","v":"04101-La Serena"},"15010200","2022-03-17T09:30:49",598,{"$nulls":4},134,270,194]
[{"$nulls":23},2,"5",2022,"105319",{"$f":"IFERROR(VLOOKUP(Tabla_SERIED_12_5[[#This Row],[IdEstablecimiento]],'[1]Establecimiento 2023'!$A$1:$E$183,3,FALSE),0)","v":"105319-Centro de Salud Familiar Cardenal Raúl Silva Henríquez de La Serena"},{"$f":"IFERROR(VLOOKUP(Tabla_SERIED_12_5[[#This Row],[IdEstablecimiento]],'[1]Establecimiento 2023'!$A$1:$E$183,5,FALSE),0)","v":"04101-La Serena"},"15080008","2022-03-17T09:30:49",108,{"$nulls":7},68,null,28,1,11]
[{"$nulls":23},2,"5",2022,"105319",{"$f":"IFERROR(VLOOKUP(Tabla_SERIED_12_5[[#This Row],[IdEstablecimiento]],'[1]Establecimiento 2023'!$A$1:$E$183,3,FALSE),0)","v":"105319-Centro de Salud Familiar Cardenal Raúl Silva Henríquez de La Serena"},{"$f":"IFERROR(VLOOKUP(Tabla_SERIED_12_5[[#This Row],[IdEstablecimiento]],'[1]Establecimiento 2023'!$A$1:$E$183,5,FALSE),0)","v":"04101-La Serena"},"15900010","2022-03-17T09:30:49",143.2,null,65.6,77.6]
[{"$nulls":23},2,"5",2022,"105319",{"$f":"IFERROR(VLOOKUP(Tabla_SERIED_12_5[[#This Row],[IdEstablecimiento]],'[1]Establecimiento 2023'!$A$1:$E$183,3,FALSE),0)","v":"105319-Centro de Salud Familiar Cardenal Raúl Silva Henríquez de La Serena"},{"$f":"IFERROR(VLOOKUP(Tabla_SERIED_12_5[[#This Row],[IdEstablecimiento]],'[1]Establecimiento 2023'!$A$1:$E$183,5,FALSE),0)","v":"04101-La Serena"},"15010400","2022-03-17T09:30:49",2,{"$nulls":5},2]
[{"$nulls":23},2,"5",2022,"105319",{"$f":"IFERROR(VLOOKUP(Tabla_SERIED_12_5[[#This Row],[IdEstablecimiento]],'[1]Establecimiento 2023'!$A$1:$E$183,3,FALSE),0)","v":"105319-Centro de Salud Familiar Cardenal Raúl Silva Henríquez de La Serena"},{"$f":"IFERROR(VLOOKUP(Tabla_SERIED_12_5[[#This Row],[IdEstablecimiento]],'[1]Establecimiento 2023'!$A$1:$E$183,5,FALSE),0)","v":"04101-La Serena"},"15010500","2022-03-17T09:30:49",2,{"$nulls":5},2]
[{"$nulls":23},2,"5",2022,"105319",{"$f":"IFERROR(VLOOKUP(Tabla_SERIED_12_5[[#This Row],[IdEstablecimiento]],'[1]Establecimiento 2023'!$A$1:$E$183,3,FALSE),0)","v":"105319-Centro de Salud Familiar Cardenal Raúl Silva Henríquez de La Serena"},{"$f":"IFERROR(VLOOKUP(Tabla_SERIED_12_5[[#This Row],[IdEstablecimiento]],'[1]Establecimiento 2023'!$A$1:$E$183,5,FALSE),0)","v":"04101-La Serena"},"15080009","2022-03-17T09:30:49",9,{"$nulls":8},9]
[{"$nulls":23},2,"5",2022,"105303",{"$f":"IFERROR(VLOOKUP(Tabla_SERIED_12_5[[#This Row],[IdEstablecimiento]],'[1]Establecimiento 2023'!$A$1:$E$183,3,FALSE),0)","v":"105303-Centro de Salud Familiar San Juan"},{"$f":"IFERROR(VLOOKUP(Tabla_SERIED_12_5[[#This Row],[IdEstablecimiento]],'[1]Establecimiento 2023'!$A$1:$E$183,5,FALSE),0)","v":"04102-Coquimbo"},"15020100","2022-03-17T09:27:11",8,0,0,4,4,0,0,0,0,0,0,0,0]
[{"$nulls":23},3,"5",2022,"105467",{"$f":"IFERROR(VLOOKUP(Tabla_SERIED_12_5[[#This Row],[IdEstablecimiento]],'[1]Establecimiento 2023'!$A$1:$E$183,3,FALSE),0)","v":"105467-Posta de Salud Rural Diaguitas"},{"$f":"IFERROR(VLOOKUP(Tabla_SERIED_12_5[[#This Row],[IdEstablecimiento]],'[1]Establecimiento 2023'!$A$1:$E$183,5,FALSE),0)","v":"04106-Vicuña"},"16090300","2022-04-19T10:01:39",27,27]
[{"$nulls":23},2,"5",2022,"105434",{"$f":"IFERROR(VLOOKUP(Tabla_SERIED_12_5[[#This Row],[IdEstablecimiento]],'[1]Establecimiento 2023'!$A$1:$E$183,3,FALSE),0)","v":"105434-Posta de Salud Rural San Marcos (Combarbalá)"},{"$f":"IFERROR(VLOOKUP(Tabla_SERIED_12_5[[#This Row],[IdEstablecimiento]],'[1]Establecimiento 2023'!$A$1:$E$183,5,FALSE),0)","v":"04302-Combarbalá"},"15010200","2022-03-17T09:39:53",29,{"$nulls":4},2,18,9]
[{"$nulls":23},2,"5",2022,"105434",{"$f":"IFERROR(VLOOKUP(Tabla_SERIED_12_5[[#This Row],[IdEstablecimiento]],'[1]Establecimiento 2023'!$A$1:$E$183,3,FALSE),0)","v":"105434-Posta de Salud Rural San Marcos (Combarbalá)"},{"$f":"IFERROR(VLOOKUP(Tabla_SERIED_12_5[[#This Row],[IdEstablecimiento]],'[1]Establecimiento 2023'!$A$1:$E$183,5,FALSE),0)","v":"04302-Combarbalá"},"15080008","2022-03-17T09:39:53",1,{"$nulls":7},1]
[{"$nulls":23},2,"5",2022,"105434",{"$f":"IFERROR(VLOOKUP(Tabla_SERIED_12_5[[#This Row],[IdEstablecimiento]],'[1]Establecimiento 2023'!$A$1:$E$183,3,FALSE),0)","v":"105434-Posta de Salud Rural San Marcos (Combarbalá)"},{"$f":"IFERROR(VLOOKUP(Tabla_SERIED_12_5[[#This Row],[IdEstablecimiento]],'[1]Establecimiento 2023'!$A$1:$E$183,5,FALSE),0)","v":"04302-Combarbalá"},"15050100","2022-03-17T09:39:53",17,9,8,{"$nulls":3},1,1,9,5,1]
[{"$nulls":23},2,"5",2022,"105434",{"$f":"IFERROR(VLOOKUP(Tabla_SERIED_12_5[[#This Row],[IdEstablecimiento]],'[1]Establecimiento 2023'!$A$1:$E$183,3,FALSE),0)","v":"105434-Posta de Salud Rural San Marcos (Combarbalá)"},{"$f":"IFERROR(VLOOKUP(Tabla_SERIED_12_5[[#This Row],[IdEstablecimiento]],'[1]Establecimiento 2023'!$A$1:$E$183,5,FALSE),0)","v":"04302-Combarbalá"},"16090300","2022-03-17T09:39:53",40,40]
[{"$nulls":23},2,"5",2022,"105434",{"$f":"IFERROR(VLOOKUP(Tabla_SERIED_12_5[[#This Row],[IdEstablecimiento]],'[1]Establecimiento 2023'!$A$1:$E$183,3,FALSE),0)","v":"105434-Posta de Salud Rural San Marcos (Combarbalá)"},{"$f":"IFERROR(VLOOKUP(Tabla_SERIED_12_5[[#This Row],[IdEstablecimiento]],'[1]Establecimiento 2023'!$A$1:$E$183,5,FALSE),0)","v":"04302-Combarbalá"},"16200210","2022-03-17T09:39:53",6,6]
[{"$nulls":23},2,"5",2022,"105434",{"$f":"IFERROR(VLOOKUP(Tabla_SERIED_12_5[[#This Row],[IdEstablecimiento]],'[1]Establecimiento 2023'!$A$1:$E$183,3,FALSE),0)","v":"105434-Posta de Salud Rural San Marcos (Combarbalá)"},{"$f":"IFERROR(VLOOKUP(Tabla_SERIED_12_5[[#This Row],[IdEstablecimiento]],'[1]Establecimiento 2023'!$A$1:$E$183,5,FALSE),0)","v":"04302-Combarbalá"},"16100300","2022-03-17T09:39:53",40,18,22,1,23]
[{"$nulls":23},2,"5",2022,"105434",{"$f":"IFERROR(VLOOKUP(Tabla_SERIED_12_5[[#This Row],[IdEstablecimiento]],'[1]Establecimiento 2023'!$A$1:$E$183,3,FALSE),0)","v":"105434-Posta de Salud Rural San Marcos (Combarbalá)"},{"$f":"IFERROR(VLOOKUP(Tabla_SERIED_12_5[[#This Row],[IdEstablecimiento]],'[1]Establecimiento 2023'!$A$1:$E$183,5,FALSE),0)","v":"04302-Combarbalá"},"16200220","2022-03-17T09:39:53",6,1,5,null,1]
[{"$nulls":23},2,"5",2022,"105435",{"$f":"IFERROR(VLOOKUP(Tabla_SERIED_12_5[[#This Row],[IdEstablecimiento]],'[1]Establecimiento 2023'!$A$1:$E$183,3,FALSE),0)","v":"105435-Posta de Salud Rural Tulahuén"},{"$f":"IFERROR(VLOOKUP(Tabla_SERIED_12_5[[#This Row],[IdEstablecimiento]],'[1]Establecimiento 2023'!$A$1:$E$183,5,FALSE),0)","v":"04303-Monte Patria"},"15010100","2022-03-17T09:40:08",10,{"$nulls":3},10]
[{"$nulls":23},2,"5",2022,"105435",{"$f":"IFERROR(VLOOKUP(Tabla_SERIED_12_5[[#This Row],[IdEstablecimiento]],'[1]Establecimiento 2023'!$A$1:$E$183,3,FALSE),0)","v":"105435-Posta de Salud Rural Tulahuén"},{"$f":"IFERROR(VLOOKUP(Tabla_SERIED_12_5[[#This Row],[IdEstablecimiento]],'[1]Establecimiento 2023'!$A$1:$E$183,5,FALSE),0)","v":"04303-Monte Patria"},"15010200","2022-03-17T09:40:08",34,{"$nulls":4},6,14,14]
[{"$nulls":23},2,"5",2022,"105435",{"$f":"IFERROR(VLOOKUP(Tabla_SERIED_12_5[[#This Row],[IdEstablecimiento]],'[1]Establecimiento 2023'!$A$1:$E$183,3,FALSE),0)","v":"105435-Posta de Salud Rural Tulahuén"},{"$f":"IFERROR(VLOOKUP(Tabla_SERIED_12_5[[#This Row],[IdEstablecimiento]],'[1]Establecimiento 2023'!$A$1:$E$183,5,FALSE),0)","v":"04303-Monte Patria"},"15080008","2022-03-17T09:40:08",3,{"$nulls":7},1,null,2]
[{"$nulls":23},4,"5",2022,"200499",{"$f":"IFERROR(VLOOKUP(Tabla_SERIED_12_5[[#This Row],[IdEstablecimiento]],'[1]Establecimiento 2023'!$A$1:$E$183,3,FALSE),0)","v":"200499-Centro de Salud Familiar Rural Pan de Azúcar"},{"$f":"IFERROR(VLOOKUP(Tabla_SERIED_12_5[[#This Row],[IdEstablecimiento]],'[1]Establecimiento 2023'!$A$1:$E$183,5,FALSE),0)","v":"04102-Coquimbo"},"16090300","2022-05-18T15:27:59",336,336]
[{"$nulls":23},4,"5",2022,"200499",{"$f":"IFERROR(VLOOKUP(Tabla_SERIED_12_5[[#This Row],[IdEstablecimiento]],'[1]Establecimiento 2023'!$A$1:$E$183,3,FALSE),0)","v":"200499-Centro de Salud Familiar Rural Pan de Azúcar"},{"$f":"IFERROR(VLOOKUP(Tabla_SERIED_12_5[[#This Row],[IdEstablecimiento]],'[1]Establecimiento 2023'!$A$1:$E$183,5,FALSE),0)","v":"04102-Coquimbo"},"16200210","2022-05-18T15:27:59",38,38]
[{"$nulls":23},4,"5",2022,"200499",{"$f":"IFERROR(VLOOKUP(Tabla_SERIED_12_5[[#This Row],[IdEstablecimiento]],'[1]Establecimiento 2023'!$A$1:$E$183,3,FALSE),0)","v":"200499-Centro de Salud Familiar Rural Pan de Azúcar"},{"$f":"IFERROR(VLOOKUP(Tabla_SERIED_12_5[[#This Row],[IdEstablecimiento]],'[1]Establecimiento 2023'!$A$1:$E$183,5,FALSE),0)","v":"04102-Coquimbo"},"16100300","2022-05-18T15:27:59",336,157,179,5,331]
[{"$nulls":23},4,"5",2022,"200499",{"$f":"IFERROR(VLOOKUP(Tabla_SERIED_12_5[[#This Row],[IdEstablecimiento]],'[1]Establecimiento 2023'!$A$1:$E$183,3,FALSE),0)","v":"200499-Centro de Salud Familiar Rural Pan de Azúcar"},{"$f":"IFERROR(VLOOKUP(Tabla_SERIED_12_5[[#This Row],[IdEstablecimiento]],'[1]Establecimiento 2023'!$A$1:$E$183,5,FALSE),0)","v":"04102-Coquimbo"},"16200220","2022-05-18T15:27:59",38,20,18,1,40]
[{"$nulls":23},4,"5",2022,"200538",{"$f":"IFERROR(VLOOKUP(Tabla_SERIED_12_5[[#This Row],[IdEstablecimiento]],'[1]Establecimiento 2023'!$A$1:$E$183,3,FALSE),0)","v":"200538-Centro de Salud Familiar San Isidro Calingasta"},{"$f":"IFERROR(VLOOKUP(Tabla_SERIED_12_5[[#This Row],[IdEstablecimiento]],'[1]Establecimiento 2023'!$A$1:$E$183,5,FALSE),0)","v":"04106-Vicuña"},"15010100","2022-05-18T15:28:12",28,null,null,2,26]
[{"$nulls":23},4,"5",2022,"200538",{"$f":"IFERROR(VLOOKUP(Tabla_SERIED_12_5[[#This Row],[IdEstablecimiento]],'[1]Establecimiento 2023'!$A$1:$E$183,3,FALSE),0)","v":"200538-Centro de Salud Familiar San Isidro Calingasta"},{"$f":"IFERROR(VLOOKUP(Tabla_SERIED_12_5[[#This Row],[IdEstablecimiento]],'[1]Establecimiento 2023'!$A$1:$E$183,5,FALSE),0)","v":"04106-Vicuña"},"15010200","2022-05-18T15:28:12",84,{"$nulls":4},14,36,34]
[{"$nulls":23},4,"5",2022,"200538",{"$f":"IFERROR(VLOOKUP(Tabla_SERIED_12_5[[#This Row],[IdEstablecimiento]],'[1]Establecimiento 2023'!$A$1:$E$183,3,FALSE),0)","v":"200538-Centro de Salud Familiar San Isidro Calingasta"},{"$f":"IFERROR(VLOOKUP(Tabla_SERIED_12_5[[#This Row],[IdEstablecimiento]],'[1]Establecimiento 2023'!$A$1:$E$183,5,FALSE),0)","v":"04106-Vicuña"},"15080008","2022-05-18T15:28:12",37,{"$nulls":7},15,null,10,12]
[{"$nulls":23},4,"5",2022,"200538",{"$f":"IFERROR(VLOOKUP(Tabla_SERIED_12_5[[#This Row],[IdEstablecimiento]],'[1]Establecimiento 2023'!$A$1:$E$183,3,FALSE),0)","v":"200538-Centro de Salud Familiar San Isidro Calingasta"},{"$f":"IFERROR(VLOOKUP(Tabla_SERIED_12_5[[#This Row],[IdEstablecimiento]],'[1]Establecimiento 2023'!$A$1:$E$183,5,FALSE),0)","v":"04106-Vicuña"},"15900010","2022-05-18T15:28:12",39.2,1.6,4,33.6]
[{"$nulls":23},4,"5",2022,"200538",{"$f":"IFERROR(VLOOKUP(Tabla_SERIED_12_5[[#This Row],[IdEstablecimiento]],'[1]Establecimiento 2023'!$A$1:$E$183,3,FALSE),0)","v":"200538-Centro de Salud Familiar San Isidro Calingasta"},{"$f":"IFERROR(VLOOKUP(Tabla_SERIED_12_5[[#This Row],[IdEstablecimiento]],'[1]Establecimiento 2023'!$A$1:$E$183,5,FALSE),0)","v":"04106-Vicuña"},"15010400","2022-05-18T15:28:12",10,{"$nulls":4},4,4,2]
[{"$nulls":23},4,"5",2022,"200538",{"$f":"IFERROR(VLOOKUP(Tabla_SERIED_12_5[[#This Row],[IdEstablecimiento]],'[1]Establecimiento 2023'!$A$1:$E$183,3,FALSE),0)","v":"200538-Centro de Salud Familiar San Isidro Calingasta"},{"$f":"IFERROR(VLOOKUP(Tabla_SERIED_12_5[[#This Row],[IdEstablecimiento]],'[1]Establecimiento 2023'!$A$1:$E$183,5,FALSE),0)","v":"04106-Vicuña"},"15010500","2022-05-18T15:28:12",10,{"$nulls":4},4,4,2]
[{"$nulls":23},4,"5",2022,"200538",{"$f":"IFERROR(VLOOKUP(Tabla_SERIED_12_5[[#This Row],[IdEstablecimiento]],'[1]Establecimiento 2023'!$A$1:$E$183,3,FALSE),0)","v":"200538-Centro de Salud Familiar San Isidro Calingasta"},{"$f":"IFERROR(VLOOKUP(Tabla_SERIED_12_5[[#This Row],[IdEstablecimiento]],'[1]Establecimiento 2023'!$A$1:$E$183,5,FALSE),0)","v":"04106-Vicuña"},"15080009","2022-05-18T15:28:12",3,{"$nulls":8},3]
[{"$nulls":23},4,"5",2022,"200538",{"$f":"IFERROR(VLOOKUP(Tabla_SERIED_12_5[[#This Row],[IdEstablecimiento]],'[1]Establecimiento 2023'!$A$1:$E$183,3,FALSE),0)","v":"200538-Centro de Salud Familiar San Isidro Calingasta"},{"$f":"IFERROR(VLOOKUP(Tabla_SERIED_12_5[[#This Row],[IdEstablecimiento]],'[1]Establecimiento 2023'!$A$1:$E$183,5,FALSE),0)","v":"04106-Vicuña"},"15900030","2022-05-18T15:28:12",2.4,{"$nulls":4},2.4]
[{"$nulls":23},4,"5",2022,"200538",{"$f":"IFERROR(VLOOKUP(Tabla_SERIED_12_5[[#This Row],[IdEstablecimiento]],'[1]Establecimiento 2023'!$A$1:$E$183,3,FALSE),0)","v":"200538-Centro de Salud Familiar San Isidro Calingasta"},{"$f":"IFERROR(VLOOKUP(Tabla_SERIED_12_5[[#This Row],[IdEstablecimiento]],'[1]Establecimiento 2023'!$A$1:$E$183,5,FALSE),0)","v":"04106-Vicuña"},"15050100","2022-05-18T15:28:12",105,50,55,1,2,15,13,7,18,17,15,null,5,12]
[{"$nulls":23},4,"5",2022,"200538",{"$f":"IFERROR(VLOOKUP(Tabla_SERIED_12_5[[#This Row],[IdEstablecimiento]],'[1]Establecimiento 2023'!$A$1:$E$183,3,FALSE),0)","v":"200538-Centro de Salud Familiar San Isidro Calingasta"},{"$f":"IFERROR(VLOOKUP(Tabla_SERIED_12_5[[#This Row],[IdEstablecimiento]],'[1]Establecimiento 2023'!$A$1:$E$183,5,FALSE),0)","v":"04106-Vicuña"},"15050200","2022-05-18T15:28:12",8,4,4,{"$nulls":4},2,2,1,null,3]
[{"$nulls":23},2,"5",2022,"105500",{"$f":"IFERROR(VLOOKUP(Tabla_SERIED_12_5[[#This Row],[IdEstablecimiento]],'[1]Establecimiento 2023'!$A$1:$E$183,3,FALSE),0)","v":"105500-Posta de Salud Rural Caleta Hornos"},{"$f":"IFERROR(VLOOKUP(Tabla_SERIED_12_5[[#This Row],[IdEstablecimiento]],'[1]Establecimiento 2023'!$A$1:$E$183,5,FALSE),0)","v":"04104-La Higuera"},"16100300","2022-06-22T11:16:10",18,11,7]
[{"$nulls":23},2,"5",2022,"105500",{"$f":"IFERROR(VLOOKUP(Tabla_SERIED_12_5[[#This Row],[IdEstablecimiento]],'[1]Establecimiento 2023'!$A$1:$E$183,3,FALSE),0)","v":"105500-Posta de Salud Rural Caleta Hornos"},{"$f":"IFERROR(VLOOKUP(Tabla_SERIED_12_5[[#This Row],[IdEstablecimiento]],'[1]Establecimiento 2023'!$A$1:$E$183,5,FALSE),0)","v":"04104-La Higuera"},"16200220","2022-06-22T11:16:10",1,0,1]
[{"$nulls":23},2,"5",2022,"105505",{"$f":"IFERROR(VLOOKUP(Tabla_SERIED_12_5[[#This Row],[IdEstablecimiento]],'[1]Establecimiento 2023'!$A$1:$E$183,3,FALSE),0)","v":"105505-Posta de Salud Rural Los Choros"},{"$f":"IFERROR(VLOOKUP(Tabla_SERIED_12_5[[#This Row],[IdEstablecimiento]],'[1]Establecimiento 2023'!$A$1:$E$183,5,FALSE),0)","v":"04104-La Higuera"},"15010100","2022-06-22T11:16:26",2,{"$nulls":3},2]
[{"$nulls":23},4,"5",2022,"105325",{"$f":"IFERROR(VLOOKUP(Tabla_SERIED_12_5[[#This Row],[IdEstablecimiento]],'[1]Establecimiento 2023'!$A$1:$E$183,3,FALSE),0)","v":"105325-Centro de Salud Familiar Juan Pablo II (La Serena)"},{"$f":"IFERROR(VLOOKUP(Tabla_SERIED_12_5[[#This Row],[IdEstablecimiento]],'[1]Establecimiento 2023'!$A$1:$E$183,5,FALSE),0)","v":"04101-La Serena"},"15030200","2022-05-18T11:54:38",2.7,null,null,2.7]
[{"$nulls":23},4,"5",2022,"105451",{"$f":"IFERROR(VLOOKUP(Tabla_SERIED_12_5[[#This Row],[IdEstablecimiento]],'[1]Establecimiento 2023'!$A$1:$E$183,3,FALSE),0)","v":"105451-Posta de Salud Rural Agua Fría"},{"$f":"IFERROR(VLOOKUP(Tabla_SERIED_12_5[[#This Row],[IdEstablecimiento]],'[1]Establecimiento 2023'!$A$1:$E$183,5,FALSE),0)","v":"04202-Canela"},"16100300","2022-05-18T15:04:14",80,42,38,0,4]
[{"$nulls":23},4,"5",2022,"105451",{"$f":"IFERROR(VLOOKUP(Tabla_SERIED_12_5[[#This Row],[IdEstablecimiento]],'[1]Establecimiento 2023'!$A$1:$E$183,3,FALSE),0)","v":"105451-Posta de Salud Rural Agua Fría"},{"$f":"IFERROR(VLOOKUP(Tabla_SERIED_12_5[[#This Row],[IdEstablecimiento]],'[1]Establecimiento 2023'!$A$1:$E$183,5,FALSE),0)","v":"04202-Canela"},"16200220","2022-05-18T15:04:14",7,3,4,0,0]
[{"$nulls":23},4,"5",2022,"105452",{"$f":"IFERROR(VLOOKUP(Tabla_SERIED_12_5[[#This Row],[IdEstablecimiento]],'[1]Establecimiento 2023'!$A$1:$E$183,3,FALSE),0)","v":"105452-Posta de Salud Rural Cuncumén(Salamanca)"},{"$f":"IFERROR(VLOOKUP(Tabla_SERIED_12_5[[#This Row],[IdEstablecimiento]],'[1]Establecimiento 2023'!$A$1:$E$183,5,FALSE),0)","v":"04204-Salamanca"},"15010100","2022-05-18T15:04:27",4,{"$nulls":3},2,{"$nulls":3},2]
[{"$nulls":23},4,"5",2022,"105452",{"$f":"IFERROR(VLOOKUP(Tabla_SERIED_12_5[[#This Row],[IdEstablecimiento]],'[1]Establecimiento 2023'!$A$1:$E$183,3,FALSE),0)","v":"105452-Posta de Salud Rural Cuncumén(Salamanca)"},{"$f":"IFERROR(VLOOKUP(Tabla_SERIED_12_5[[#This Row],[IdEstablecimiento]],'[1]Establecimiento 2023'!$A$1:$E$183,5,FALSE),0)","v":"04204-Salamanca"},"15010200","2022-05-18T15:04:27",18,{"$nulls":4},2,8,8]
[{"$nulls":23},4,"5",2022,"105452",{"$f":"IFERROR(VLOOKUP(Tabla_SERIED_12_5[[#This Row],[IdEstablecimiento]],'[1]Establecimiento 2023'!$A$1:$E$183,3,FALSE),0)","v":"105452-Posta de Salud Rural Cuncumén(Salamanca)"},{"$f":"IFERROR(VLOOKUP(Tabla_SERIED_12_5[[#This Row],[IdEstablecimiento]],'[1]Establecimiento 2023'!$A$1:$E$183,5,FALSE),0)","v":"04204-Salamanca"},"15080008","2022-05-18T15:04:27",6,{"$nulls":7},1,null,null,1,4]
[{"$nulls":23},4,"5",2022,"105452",{"$f":"IFERROR(VLOOKUP(Tabla_SERIED_12_5[[#This Row],[IdEstablecimiento]],'[1]Establecimiento 2023'!$A$1:$E$183,3,FALSE),0)","v":"105452-Posta de Salud Rural Cuncumén(Salamanca)"},{"$f":"IFERROR(VLOOKUP(Tabla_SERIED_12_5[[#This Row],[IdEstablecimiento]],'[1]Establecimiento 2023'!$A$1:$E$183,5,FALSE),0)","v":"04204-Salamanca"},"15900010","2022-05-18T15:04:27",4.8,null,2.4,2.4]
[{"$nulls":23},4,"5",2022,"105452",{"$f":"IFERROR(VLOOKUP(Tabla_SERIED_12_5[[#This Row],[IdEstablecimiento]],'[1]Establecimiento 2023'!$A$1:$E$183,3,FALSE),0)","v":"105452-Posta de Salud Rural Cuncumén(Salamanca)"},{"$f":"IFERROR(VLOOKUP(Tabla_SERIED_12_5[[#This Row],[IdEstablecimiento]],'[1]Establecimiento 2023'!$A$1:$E$183,5,FALSE),0)","v":"04204-Salamanca"},"15010500","2022-05-18T15:04:27",2,null,null,2]
[{"$nulls":23},4,"5",2022,"105452",{"$f":"IFERROR(VLOOKUP(Tabla_SERIED_12_5[[#This Row],[IdEstablecimiento]],'[1]Establecimiento 2023'!$A$1:$E$183,3,FALSE),0)","v":"105452-Posta de Salud Rural Cuncumén(Salamanca)"},{"$f":"IFERROR(VLOOKUP(Tabla_SERIED_12_5[[#This Row],[IdEstablecimiento]],'[1]Establecimiento 2023'!$A$1:$E$183,5,FALSE),0)","v":"04204-Salamanca"},"15080009","2022-05-18T15:04:27",1,{"$nulls":11},1]
[{"$nulls":23},3,"5",2022,"105700",{"$f":"IFERROR(VLOOKUP(Tabla_SERIED_12_5[[#This Row],[IdEstablecimiento]],'[1]Establecimiento 2023'!$A$1:$E$183,3,FALSE),0)","v":"105700-Centro Comunitario de Salud Familiar Villa el Indio"},{"$f":"IFERROR(VLOOKUP(Tabla_SERIED_12_5[[#This Row],[IdEstablecimiento]],'[1]Establecimiento 2023'!$A$1:$E$183,5,FALSE),0)","v":"04101-La Serena"},"16200220","2022-04-19T10:12:01",2,1,1]
[{"$nulls":23},2,"5",2022,"105460",{"$f":"IFERROR(VLOOKUP(Tabla_SERIED_12_5[[#This Row],[IdEstablecimiento]],'[1]Establecimiento 2023'!$A$1:$E$183,3,FALSE),0)","v":"105460-Centro Comunitario de Salud Familiar Cogotí 18"},{"$f":"IFERROR(VLOOKUP(Tabla_SERIED_12_5[[#This Row],[IdEstablecimiento]],'[1]Establecimiento 2023'!$A$1:$E$183,5,FALSE),0)","v":"04302-Combarbalá"},"16100300","2022-03-17T09:47:57",99,39,60,null,42]
[{"$nulls":23},2,"5",2022,"105460",{"$f":"IFERROR(VLOOKUP(Tabla_SERIED_12_5[[#This Row],[IdEstablecimiento]],'[1]Establecimiento 2023'!$A$1:$E$183,3,FALSE),0)","v":"105460-Centro Comunitario de Salud Familiar Cogotí 18"},{"$f":"IFERROR(VLOOKUP(Tabla_SERIED_12_5[[#This Row],[IdEstablecimiento]],'[1]Establecimiento 2023'!$A$1:$E$183,5,FALSE),0)","v":"04302-Combarbalá"},"16200220","2022-03-17T09:47:57",6,3,3,null,3]
[{"$nulls":23},2,"5",2022,"105461",{"$f":"IFERROR(VLOOKUP(Tabla_SERIED_12_5[[#This Row],[IdEstablecimiento]],'[1]Establecimiento 2023'!$A$1:$E$183,3,FALSE),0)","v":"105461-Posta de Salud Rural El Huacho"},{"$f":"IFERROR(VLOOKUP(Tabla_SERIED_12_5[[#This Row],[IdEstablecimiento]],'[1]Establecimiento 2023'!$A$1:$E$183,5,FALSE),0)","v":"04302-Combarbalá"},"15010100","2022-03-17T09:48:11",2,{"$nulls":3},2]
[{"$nulls":23},2,"5",2022,"105461",{"$f":"IFERROR(VLOOKUP(Tabla_SERIED_12_5[[#This Row],[IdEstablecimiento]],'[1]Establecimiento 2023'!$A$1:$E$183,3,FALSE),0)","v":"105461-Posta de Salud Rural El Huacho"},{"$f":"IFERROR(VLOOKUP(Tabla_SERIED_12_5[[#This Row],[IdEstablecimiento]],'[1]Establecimiento 2023'!$A$1:$E$183,5,FALSE),0)","v":"04302-Combarbalá"},"15010200","2022-03-17T09:48:11",8,{"$nulls":4},2,2,4]
[{"$nulls":23},4,"5",2022,"105310",{"$f":"IFERROR(VLOOKUP(Tabla_SERIED_12_5[[#This Row],[IdEstablecimiento]],'[1]Establecimiento 2023'!$A$1:$E$183,3,FALSE),0)","v":"105310-Centro de Salud Familiar Pichasca"},{"$f":"IFERROR(VLOOKUP(Tabla_SERIED_12_5[[#This Row],[IdEstablecimiento]],'[1]Establecimiento 2023'!$A$1:$E$183,5,FALSE),0)","v":"04305-Río Hurtado"},"15010300","2022-05-18T11:51:18",2,{"$nulls":3},2]
[{"$nulls":23},4,"5",2022,"105310",{"$f":"IFERROR(VLOOKUP(Tabla_SERIED_12_5[[#This Row],[IdEstablecimiento]],'[1]Establecimiento 2023'!$A$1:$E$183,3,FALSE),0)","v":"105310-Centro de Salud Familiar Pichasca"},{"$f":"IFERROR(VLOOKUP(Tabla_SERIED_12_5[[#This Row],[IdEstablecimiento]],'[1]Establecimiento 2023'!$A$1:$E$183,5,FALSE),0)","v":"04305-Río Hurtado"},"15010400","2022-05-18T11:51:18",6,{"$nulls":4},4,2]
[{"$nulls":23},4,"5",2022,"105310",{"$f":"IFERROR(VLOOKUP(Tabla_SERIED_12_5[[#This Row],[IdEstablecimiento]],'[1]Establecimiento 2023'!$A$1:$E$183,3,FALSE),0)","v":"105310-Centro de Salud Familiar Pichasca"},{"$f":"IFERROR(VLOOKUP(Tabla_SERIED_12_5[[#This Row],[IdEstablecimiento]],'[1]Establecimiento 2023'!$A$1:$E$183,5,FALSE),0)","v":"04305-Río Hurtado"},"15010500","2022-05-18T11:51:18",8,{"$nulls":3},2,4,2]
[{"$nulls":23},3,"5",2022,"105324",{"$f":"IFERROR(VLOOKUP(Tabla_SERIED_12_5[[#This Row],[IdEstablecimiento]],'[1]Establecimiento 2023'!$A$1:$E$183,3,FALSE),0)","v":"105324-Centro de Salud Familiar Sotaquí"},{"$f":"IFERROR(VLOOKUP(Tabla_SERIED_12_5[[#This Row],[IdEstablecimiento]],'[1]Establecimiento 2023'!$A$1:$E$183,5,FALSE),0)","v":"04301-Ovalle"},"15010100","2022-04-19T08:11:41",29,{"$nulls":3},26,{"$nulls":3},1,null,2]
[{"$nulls":23},3,"5",2022,"105324",{"$f":"IFERROR(VLOOKUP(Tabla_SERIED_12_5[[#This Row],[IdEstablecimiento]],'[1]Establecimiento 2023'!$A$1:$E$183,3,FALSE),0)","v":"105324-Centro de Salud Familiar Sotaquí"},{"$f":"IFERROR(VLOOKUP(Tabla_SERIED_12_5[[#This Row],[IdEstablecimiento]],'[1]Establecimiento 2023'!$A$1:$E$183,5,FALSE),0)","v":"04301-Ovalle"},"15010200","2022-04-19T08:11:41",172,{"$nulls":4},28,72,72]
[{"$nulls":23},3,"5",2022,"105324",{"$f":"IFERROR(VLOOKUP(Tabla_SERIED_12_5[[#This Row],[IdEstablecimiento]],'[1]Establecimiento 2023'!$A$1:$E$183,3,FALSE),0)","v":"105324-Centro de Salud Familiar Sotaquí"},{"$f":"IFERROR(VLOOKUP(Tabla_SERIED_12_5[[#This Row],[IdEstablecimiento]],'[1]Establecimiento 2023'!$A$1:$E$183,5,FALSE),0)","v":"04301-Ovalle"},"15080008","2022-04-19T08:11:41",48,{"$nulls":7},19,null,22,null,7]
[{"$nulls":23},3,"5",2022,"105324",{"$f":"IFERROR(VLOOKUP(Tabla_SERIED_12_5[[#This Row],[IdEstablecimiento]],'[1]Establecimiento 2023'!$A$1:$E$183,3,FALSE),0)","v":"105324-Centro de Salud Familiar Sotaquí"},{"$f":"IFERROR(VLOOKUP(Tabla_SERIED_12_5[[#This Row],[IdEstablecimiento]],'[1]Establecimiento 2023'!$A$1:$E$183,5,FALSE),0)","v":"04301-Ovalle"},"15900010","2022-04-19T08:11:41",32,4,3.2,24.8]
[{"$nulls":23},3,"5",2022,"105324",{"$f":"IFERROR(VLOOKUP(Tabla_SERIED_12_5[[#This Row],[IdEstablecimiento]],'[1]Establecimiento 2023'!$A$1:$E$183,3,FALSE),0)","v":"105324-Centro de Salud Familiar Sotaquí"},{"$f":"IFERROR(VLOOKUP(Tabla_SERIED_12_5[[#This Row],[IdEstablecimiento]],'[1]Establecimiento 2023'!$A$1:$E$183,5,FALSE),0)","v":"04301-Ovalle"},"15010400","2022-04-19T08:11:41",12,{"$nulls":5},6,6]
[{"$nulls":23},3,"5",2022,"105324",{"$f":"IFERROR(VLOOKUP(Tabla_SERIED_12_5[[#This Row],[IdEstablecimiento]],'[1]Establecimiento 2023'!$A$1:$E$183,3,FALSE),0)","v":"105324-Centro de Salud Familiar Sotaquí"},{"$f":"IFERROR(VLOOKUP(Tabla_SERIED_12_5[[#This Row],[IdEstablecimiento]],'[1]Establecimiento 2023'!$A$1:$E$183,5,FALSE),0)","v":"04301-Ovalle"},"15010500","2022-04-19T08:11:41",12,{"$nulls":5},6,6]
[{"$nulls":23},3,"5",2022,"105324",{"$f":"IFERROR(VLOOKUP(Tabla_SERIED_12_5[[#This Row],[IdEstablecimiento]],'[1]Establecimiento 2023'!$A$1:$E$183,3,FALSE),0)","v":"105324-Centro de Salud Familiar Sotaquí"},{"$f":"IFERROR(VLOOKUP(Tabla_SERIED_12_5[[#This Row],[IdEstablecimiento]],'[1]Establecimiento 2023'!$A$1:$E$183,5,FALSE),0)","v":"04301-Ovalle"},"15050100","2022-04-19T08:11:41",138,49,89,{"$nulls":3},13,14,36,36,20,null,12,null,7]
[{"$nulls":23},3,"5",2022,"105324",{"$f":"IFERROR(VLOOKUP(Tabla_SERIED_12_5[[#This Row],[IdEstablecimiento]],'[1]Establecimiento 2023'!$A$1:$E$183,3,FALSE),0)","v":"105324-Centro de Salud Familiar Sotaquí"},{"$f":"IFERROR(VLOOKUP(Tabla_SERIED_12_5[[#This Row],[IdEstablecimiento]],'[1]Establecimiento 2023'!$A$1:$E$183,5,FALSE),0)","v":"04301-Ovalle"},"15050200","2022-04-19T08:11:41",6,2,4,{"$nulls":5},3,3]
[{"$nulls":23},3,"5",2022,"105324",{"$f":"IFERROR(VLOOKUP(Tabla_SERIED_12_5[[#This Row],[IdEstablecimiento]],'[1]Establecimiento 2023'!$A$1:$E$183,3,FALSE),0)","v":"105324-Centro de Salud Familiar Sotaquí"},{"$f":"IFERROR(VLOOKUP(Tabla_SERIED_12_5[[#This Row],[IdEstablecimiento]],'[1]Establecimiento 2023'!$A$1:$E$183,5,FALSE),0)","v":"04301-Ovalle"},"16090300","2022-04-19T08:11:41",248,248]
[{"$nulls":23},3,"5",2022,"105324",{"$f":"IFERROR(VLOOKUP(Tabla_SERIED_12_5[[#This Row],[IdEstablecimiento]],'[1]Establecimiento 2023'!$A$1:$E$183,3,FALSE),0)","v":"105324-Centro de Salud Familiar Sotaquí"},{"$f":"IFERROR(VLOOKUP(Tabla_SERIED_12_5[[#This Row],[IdEstablecimiento]],'[1]Establecimiento 2023'!$A$1:$E$183,5,FALSE),0)","v":"04301-Ovalle"},"16200210","2022-04-19T08:11:41",3,3]
[{"$nulls":23},3,"5",2022,"105324",{"$f":"IFERROR(VLOOKUP(Tabla_SERIED_12_5[[#This Row],[IdEstablecimiento]],'[1]Establecimiento 2023'!$A$1:$E$183,3,FALSE),0)","v":"105324-Centro de Salud Familiar Sotaquí"},{"$f":"IFERROR(VLOOKUP(Tabla_SERIED_12_5[[#This Row],[IdEstablecimiento]],'[1]Establecimiento 2023'!$A$1:$E$183,5,FALSE),0)","v":"04301-Ovalle"},"16100300","2022-04-19T08:11:41",248,123,125,6,45]
[{"$nulls":23},3,"5",2022,"105324",{"$f":"IFERROR(VLOOKUP(Tabla_SERIED_12_5[[#This Row],[IdEstablecimiento]],'[1]Establecimiento 2023'!$A$1:$E$183,3,FALSE),0)","v":"105324-Centro de Salud Familiar Sotaquí"},{"$f":"IFERROR(VLOOKUP(Tabla_SERIED_12_5[[#This Row],[IdEstablecimiento]],'[1]Establecimiento 2023'!$A$1:$E$183,5,FALSE),0)","v":"04301-Ovalle"},"16200220","2022-04-19T08:11:41",3,2,1]
[{"$nulls":23},3,"5",2022,"105324",{"$f":"IFERROR(VLOOKUP(Tabla_SERIED_12_5[[#This Row],[IdEstablecimiento]],'[1]Establecimiento 2023'!$A$1:$E$183,3,FALSE),0)","v":"105324-Centro de Salud Familiar Sotaquí"},{"$f":"IFERROR(VLOOKUP(Tabla_SERIED_12_5[[#This Row],[IdEstablecimiento]],'[1]Establecimiento 2023'!$A$1:$E$183,5,FALSE),0)","v":"04301-Ovalle"},"16200100","2022-04-19T08:11:41",3,2,1]
[{"$nulls":23},3,"5",2022,"105325",{"$f":"IFERROR(VLOOKUP(Tabla_SERIED_12_5[[#This Row],[IdEstablecimiento]],'[1]Establecimiento 2023'!$A$1:$E$183,3,FALSE),0)","v":"105325-Centro de Salud Familiar Juan Pablo II (La Serena)"},{"$f":"IFERROR(VLOOKUP(Tabla_SERIED_12_5[[#This Row],[IdEstablecimiento]],'[1]Establecimiento 2023'!$A$1:$E$183,5,FALSE),0)","v":"04101-La Serena"},"15010100","2022-04-19T08:11:56",132,null,null,8,124,0]
[{"$nulls":23},5,"5",2022,"200367",{"$f":"IFERROR(VLOOKUP(Tabla_SERIED_12_5[[#This Row],[IdEstablecimiento]],'[1]Establecimiento 2023'!$A$1:$E$183,3,FALSE),0)","v":"200367-Centro Comunitario de Salud Familiar Colonia Limarí"},{"$f":"IFERROR(VLOOKUP(Tabla_SERIED_12_5[[#This Row],[IdEstablecimiento]],'[1]Establecimiento 2023'!$A$1:$E$183,5,FALSE),0)","v":"04301-Ovalle"},"15080008","2022-06-20T17:36:39",15,{"$nulls":7},6,null,6,1,2]
[{"$nulls":23},5,"5",2022,"200367",{"$f":"IFERROR(VLOOKUP(Tabla_SERIED_12_5[[#This Row],[IdEstablecimiento]],'[1]Establecimiento 2023'!$A$1:$E$183,3,FALSE),0)","v":"200367-Centro Comunitario de Salud Familiar Colonia Limarí"},{"$f":"IFERROR(VLOOKUP(Tabla_SERIED_12_5[[#This Row],[IdEstablecimiento]],'[1]Establecimiento 2023'!$A$1:$E$183,5,FALSE),0)","v":"04301-Ovalle"},"15900010","2022-06-20T17:36:39",12,null,3.2,8.8]
[{"$nulls":23},5,"5",2022,"200367",{"$f":"IFERROR(VLOOKUP(Tabla_SERIED_12_5[[#This Row],[IdEstablecimiento]],'[1]Establecimiento 2023'!$A$1:$E$183,3,FALSE),0)","v":"200367-Centro Comunitario de Salud Familiar Colonia Limarí"},{"$f":"IFERROR(VLOOKUP(Tabla_SERIED_12_5[[#This Row],[IdEstablecimiento]],'[1]Establecimiento 2023'!$A$1:$E$183,5,FALSE),0)","v":"04301-Ovalle"},"15010400","2022-06-20T17:36:39",2,{"$nulls":5},2]
[{"$nulls":23},5,"5",2022,"200367",{"$f":"IFERROR(VLOOKUP(Tabla_SERIED_12_5[[#This Row],[IdEstablecimiento]],'[1]Establecimiento 2023'!$A$1:$E$183,3,FALSE),0)","v":"200367-Centro Comunitario de Salud Familiar Colonia Limarí"},{"$f":"IFERROR(VLOOKUP(Tabla_SERIED_12_5[[#This Row],[IdEstablecimiento]],'[1]Establecimiento 2023'!$A$1:$E$183,5,FALSE),0)","v":"04301-Ovalle"},"15010500","2022-06-20T17:36:39",2,{"$nulls":5},2]
[{"$nulls":23},5,"5",2022,"200367",{"$f":"IFERROR(VLOOKUP(Tabla_SERIED_12_5[[#This Row],[IdEstablecimiento]],'[1]Establecimiento 2023'!$A$1:$E$183,3,FALSE),0)","v":"200367-Centro Comunitario de Salud Familiar Colonia Limarí"},{"$f":"IFERROR(VLOOKUP(Tabla_SERIED_12_5[[#This Row],[IdEstablecimiento]],'[1]Establecimiento 2023'!$A$1:$E$183,5,FALSE),0)","v":"04301-Ovalle"},"15050100","2022-06-20T17:36:39",59,22,37,null,1,5,3,5,15,18,6,null,3,1,2]
[{"$nulls":23},5,"5",2022,"200367",{"$f":"IFERROR(VLOOKUP(Tabla_SERIED_12_5[[#This Row],[IdEstablecimiento]],'[1]Establecimiento 2023'!$A$1:$E$183,3,FALSE),0)","v":"200367-Centro Comunitario de Salud Familiar Colonia Limarí"},{"$f":"IFERROR(VLOOKUP(Tabla_SERIED_12_5[[#This Row],[IdEstablecimiento]],'[1]Establecimiento 2023'!$A$1:$E$183,5,FALSE),0)","v":"04301-Ovalle"},"15050200","2022-06-20T17:36:39",1,1,{"$nulls":6},1]
[{"$nulls":23},5,"5",2022,"200367",{"$f":"IFERROR(VLOOKUP(Tabla_SERIED_12_5[[#This Row],[IdEstablecimiento]],'[1]Establecimiento 2023'!$A$1:$E$183,3,FALSE),0)","v":"200367-Centro Comunitario de Salud Familiar Colonia Limarí"},{"$f":"IFERROR(VLOOKUP(Tabla_SERIED_12_5[[#This Row],[IdEstablecimiento]],'[1]Establecimiento 2023'!$A$1:$E$183,5,FALSE),0)","v":"04301-Ovalle"},"15020100","2022-06-20T17:36:39",4,null,null,2,2]
[{"$nulls":23},5,"5",2022,"200367",{"$f":"IFERROR(VLOOKUP(Tabla_SERIED_12_5[[#This Row],[IdEstablecimiento]],'[1]Establecimiento 2023'!$A$1:$E$183,3,FALSE),0)","v":"200367-Centro Comunitario de Salud Familiar Colonia Limarí"},{"$f":"IFERROR(VLOOKUP(Tabla_SERIED_12_5[[#This Row],[IdEstablecimiento]],'[1]Establecimiento 2023'!$A$1:$E$183,5,FALSE),0)","v":"04301-Ovalle"},"15060100","2022-06-20T17:36:39",2,null,2,null,null,1,1]
[{"$nulls":23},8,"5",2022,"105309",{"$f":"IFERROR(VLOOKUP(Tabla_SERIED_12_5[[#This Row],[IdEstablecimiento]],'[1]Establecimiento 2023'!$A$1:$E$183,3,FALSE),0)","v":"105309-Centro de Salud Familiar Canela"},{"$f":"IFERROR(VLOOKUP(Tabla_SERIED_12_5[[#This Row],[IdEstablecimiento]],'[1]Establecimiento 2023'!$A$1:$E$183,5,FALSE),0)","v":"04202-Canela"},"16100700","2022-09-21T07:16:54",1,1,null,1]
[{"$nulls":23},8,"5",2022,"105309",{"$f":"IFERROR(VLOOKUP(Tabla_SERIED_12_5[[#This Row],[IdEstablecimiento]],'[1]Establecimiento 2023'!$A$1:$E$183,3,FALSE),0)","v":"105309-Centro de Salud Familiar Canela"},{"$f":"IFERROR(VLOOKUP(Tabla_SERIED_12_5[[#This Row],[IdEstablecimiento]],'[1]Establecimiento 2023'!$A$1:$E$183,5,FALSE),0)","v":"04202-Canela"},"16200100","2022-09-21T07:16:54",3,2,1]
[{"$nulls":23},8,"5",2022,"105310",{"$f":"IFERROR(VLOOKUP(Tabla_SERIED_12_5[[#This Row],[IdEstablecimiento]],'[1]Establecimiento 2023'!$A$1:$E$183,3,FALSE),0)","v":"105310-Centro de Salud Familiar Pichasca"},{"$f":"IFERROR(VLOOKUP(Tabla_SERIED_12_5[[#This Row],[IdEstablecimiento]],'[1]Establecimiento 2023'!$A$1:$E$183,5,FALSE),0)","v":"04305-Río Hurtado"},"15010200","2022-09-21T07:17:14",42,{"$nulls":4},10,26,6]
[{"$nulls":23},8,"5",2022,"105310",{"$f":"IFERROR(VLOOKUP(Tabla_SERIED_12_5[[#This Row],[IdEstablecimiento]],'[1]Establecimiento 2023'!$A$1:$E$183,3,FALSE),0)","v":"105310-Centro de Salud Familiar Pichasca"},{"$f":"IFERROR(VLOOKUP(Tabla_SERIED_12_5[[#This Row],[IdEstablecimiento]],'[1]Establecimiento 2023'!$A$1:$E$183,5,FALSE),0)","v":"04305-Río Hurtado"},"15080008","2022-09-21T07:17:14",10,{"$nulls":7},5,null,2,null,3]
[{"$nulls":23},8,"5",2022,"105310",{"$f":"IFERROR(VLOOKUP(Tabla_SERIED_12_5[[#This Row],[IdEstablecimiento]],'[1]Establecimiento 2023'!$A$1:$E$183,3,FALSE),0)","v":"105310-Centro de Salud Familiar Pichasca"},{"$f":"IFERROR(VLOOKUP(Tabla_SERIED_12_5[[#This Row],[IdEstablecimiento]],'[1]Establecimiento 2023'!$A$1:$E$183,5,FALSE),0)","v":"04305-Río Hurtado"},"15900010","2022-09-21T07:17:14",5,null,3.2,1.8]
[{"$nulls":23},8,"5",2022,"105310",{"$f":"IFERROR(VLOOKUP(Tabla_SERIED_12_5[[#This Row],[IdEstablecimiento]],'[1]Establecimiento 2023'!$A$1:$E$183,3,FALSE),0)","v":"105310-Centro de Salud Familiar Pichasca"},{"$f":"IFERROR(VLOOKUP(Tabla_SERIED_12_5[[#This Row],[IdEstablecimiento]],'[1]Establecimiento 2023'!$A$1:$E$183,5,FALSE),0)","v":"04305-Río Hurtado"},"15010300","2022-09-21T07:17:14",2,{"$nulls":3},2]
[{"$nulls":23},8,"5",2022,"105310",{"$f":"IFERROR(VLOOKUP(Tabla_SERIED_12_5[[#This Row],[IdEstablecimiento]],'[1]Establecimiento 2023'!$A$1:$E$183,3,FALSE),0)","v":"105310-Centro de Salud Familiar Pichasca"},{"$f":"IFERROR(VLOOKUP(Tabla_SERIED_12_5[[#This Row],[IdEstablecimiento]],'[1]Establecimiento 2023'!$A$1:$E$183,5,FALSE),0)","v":"04305-Río Hurtado"},"15010400","2022-09-21T07:17:14",6,{"$nulls":5},4,2]
[{"$nulls":23},8,"5",2022,"105310",{"$f":"IFERROR(VLOOKUP(Tabla_SERIED_12_5[[#This Row],[IdEstablecimiento]],'[1]Establecimiento 2023'!$A$1:$E$183,3,FALSE),0)","v":"105310-Centro de Salud Familiar Pichasca"},{"$f":"IFERROR(VLOOKUP(Tabla_SERIED_12_5[[#This Row],[IdEstablecimiento]],'[1]Establecimiento 2023'!$A$1:$E$183,5,FALSE),0)","v":"04305-Río Hurtado"},"15010500","2022-09-21T07:17:14",8,{"$nulls":3},2,null,4,2]
[{"$nulls":23},8,"5",2022,"105310",{"$f":"IFERROR(VLOOKUP(Tabla_SERIED_12_5[[#This Row],[IdEstablecimiento]],'[1]Establecimiento 2023'!$A$1:$E$183,3,FALSE),0)","v":"105310-Centro de Salud Familiar Pichasca"},{"$f":"IFERROR(VLOOKUP(Tabla_SERIED_12_5[[#This Row],[IdEstablecimiento]],'[1]Establecimiento 2023'!$A$1:$E$183,5,FALSE),0)","v":"04305-Río Hurtado"},"15900040","2022-09-21T07:17:14",8.8,null,null,8.8]
[{"$nulls":23},3,"5",2022,"105474",{"$f":"IFERROR(VLOOKUP(Tabla_SERIED_12_5[[#This Row],[IdEstablecimiento]],'[1]Establecimiento 2023'!$A$1:$E$183,3,FALSE),0)","v":"105474-Posta de Salud Rural Chapilca"},{"$f":"IFERROR(VLOOKUP(Tabla_SERIED_12_5[[#This Row],[IdEstablecimiento]],'[1]Establecimiento 2023'!$A$1:$E$183,5,FALSE),0)","v":"04106-Vicuña"},"15050100","2022-04-19T10:03:13",3,2,1,{"$nulls":3},1,2]
[{"$nulls":23},3,"5",2022,"105474",{"$f":"IFERROR(VLOOKUP(Tabla_SERIED_12_5[[#This Row],[IdEstablecimiento]],'[1]Establecimiento 2023'!$A$1:$E$183,3,FALSE),0)","v":"105474-Posta de Salud Rural Chapilca"},{"$f":"IFERROR(VLOOKUP(Tabla_SERIED_12_5[[#This Row],[IdEstablecimiento]],'[1]Establecimiento 2023'!$A$1:$E$183,5,FALSE),0)","v":"04106-Vicuña"},"16090300","2022-04-19T10:03:13",15,15]
[{"$nulls":23},3,"5",2022,"105474",{"$f":"IFERROR(VLOOKUP(Tabla_SERIED_12_5[[#This Row],[IdEstablecimiento]],'[1]Establecimiento 2023'!$A$1:$E$183,3,FALSE),0)","v":"105474-Posta de Salud Rural Chapilca"},{"$f":"IFERROR(VLOOKUP(Tabla_SERIED_12_5[[#This Row],[IdEstablecimiento]],'[1]Establecimiento 2023'!$A$1:$E$183,5,FALSE),0)","v":"04106-Vicuña"},"16100300","2022-04-19T10:03:13",15,6,9,null,4]
[{"$nulls":23},3,"5",2022,"105475",{"$f":"IFERROR(VLOOKUP(Tabla_SERIED_12_5[[#This Row],[IdEstablecimiento]],'[1]Establecimiento 2023'!$A$1:$E$183,3,FALSE),0)","v":"105475-Posta de Salud Rural Horcón (Paiguano)"},{"$f":"IFERROR(VLOOKUP(Tabla_SERIED_12_5[[#This Row],[IdEstablecimiento]],'[1]Establecimiento 2023'!$A$1:$E$183,5,FALSE),0)","v":"04105-Paiguano"},"15010100","2022-04-19T10:04:02",6,{"$nulls":3},6]
[{"$nulls":23},3,"5",2022,"105475",{"$f":"IFERROR(VLOOKUP(Tabla_SERIED_12_5[[#This Row],[IdEstablecimiento]],'[1]Establecimiento 2023'!$A$1:$E$183,3,FALSE),0)","v":"105475-Posta de Salud Rural Horcón (Paiguano)"},{"$f":"IFERROR(VLOOKUP(Tabla_SERIED_12_5[[#This Row],[IdEstablecimiento]],'[1]Establecimiento 2023'!$A$1:$E$183,5,FALSE),0)","v":"04105-Paiguano"},"15010200","2022-04-19T10:04:02",16,{"$nulls":4},2,8,6]
[{"$nulls":23},3,"5",2022,"105475",{"$f":"IFERROR(VLOOKUP(Tabla_SERIED_12_5[[#This Row],[IdEstablecimiento]],'[1]Establecimiento 2023'!$A$1:$E$183,3,FALSE),0)","v":"105475-Posta de Salud Rural Horcón (Paiguano)"},{"$f":"IFERROR(VLOOKUP(Tabla_SERIED_12_5[[#This Row],[IdEstablecimiento]],'[1]Establecimiento 2023'!$A$1:$E$183,5,FALSE),0)","v":"04105-Paiguano"},"15080008","2022-04-19T10:04:02",4,{"$nulls":7},2,null,2]
[{"$nulls":23},3,"5",2022,"105475",{"$f":"IFERROR(VLOOKUP(Tabla_SERIED_12_5[[#This Row],[IdEstablecimiento]],'[1]Establecimiento 2023'!$A$1:$E$183,3,FALSE),0)","v":"105475-Posta de Salud Rural Horcón (Paiguano)"},{"$f":"IFERROR(VLOOKUP(Tabla_SERIED_12_5[[#This Row],[IdEstablecimiento]],'[1]Establecimiento 2023'!$A$1:$E$183,5,FALSE),0)","v":"04105-Paiguano"},"15900010","2022-04-19T10:04:02",3.2,null,null,3.2]
[{"$nulls":23},3,"5",2022,"105475",{"$f":"IFERROR(VLOOKUP(Tabla_SERIED_12_5[[#This Row],[IdEstablecimiento]],'[1]Establecimiento 2023'!$A$1:$E$183,3,FALSE),0)","v":"105475-Posta de Salud Rural Horcón (Paiguano)"},{"$f":"IFERROR(VLOOKUP(Tabla_SERIED_12_5[[#This Row],[IdEstablecimiento]],'[1]Establecimiento 2023'!$A$1:$E$183,5,FALSE),0)","v":"04105-Paiguano"},"15010400","2022-04-19T10:04:02",2,{"$nulls":6},2]
[{"$nulls":23},3,"5",2022,"105475",{"$f":"IFERROR(VLOOKUP(Tabla_SERIED_12_5[[#This Row],[IdEstablecimiento]],'[1]Establecimiento 2023'!$A$1:$E$183,3,FALSE),0)","v":"105475-Posta de Salud Rural Horcón (Paiguano)"},{"$f":"IFERROR(VLOOKUP(Tabla_SERIED_12_5[[#This Row],[IdEstablecimiento]],'[1]Establecimiento 2023'!$A$1:$E$183,5,FALSE),0)","v":"04105-Paiguano"},"15010500","2022-04-19T10:04:02",4,null,null,2,{"$nulls":3},2]
[{"$nulls":23},3,"5",2022,"105475",{"$f":"IFERROR(VLOOKUP(Tabla_SERIED_12_5[[#This Row],[IdEstablecimiento]],'[1]Establecimiento 2023'!$A$1:$E$183,3,FALSE),0)","v":"105475-Posta de Salud Rural Horcón (Paiguano)"},{"$f":"IFERROR(VLOOKUP(Tabla_SERIED_12_5[[#This Row],[IdEstablecimiento]],'[1]Establecimiento 2023'!$A$1:$E$183,5,FALSE),0)","v":"04105-Paiguano"},"15900020","2022-04-19T10:04:02",3.2,null,null,3.2]
[{"$nulls":23},3,"5",2022,"105475",{"$f":"IFERROR(VLOOKUP(Tabla_SERIED_12_5[[#This Row],[IdEstablecimiento]],'[1]Establecimiento 2023'!$A$1:$E$183,3,FALSE),0)","v":"105475-Posta de Salud Rural Horcón (Paiguano)"},{"$f":"IFERROR(VLOOKUP(Tabla_SERIED_12_5[[#This Row],[IdEstablecimiento]],'[1]Establecimiento 2023'!$A$1:$E$183,5,FALSE),0)","v":"04105-Paiguano"},"15050100","2022-04-19T10:04:02",15,4,11,null,null,1,3,1,4,3,2,null,1]
[{"$nulls":23},3,"5",2022,"105305",{"$f":"IFERROR(VLOOKUP(Tabla_SERIED_12_5[[#This Row],[IdEstablecimiento]],'[1]Establecimiento 2023'!$A$1:$E$183,3,FALSE),0)","v":"105305-Centro de Salud Familiar Tierras Blancas"},{"$f":"IFERROR(VLOOKUP(Tabla_SERIED_12_5[[#This Row],[IdEstablecimiento]],'[1]Establecimiento 2023'!$A$1:$E$183,5,FALSE),0)","v":"04102-Coquimbo"},"15080008","2022-04-19T08:03:19",213,{"$nulls":7},123,null,76,2,12]
[{"$nulls":23},3,"5",2022,"105305",{"$f":"IFERROR(VLOOKUP(Tabla_SERIED_12_5[[#This Row],[IdEstablecimiento]],'[1]Establecimiento 2023'!$A$1:$E$183,3,FALSE),0)","v":"105305-Centro de Salud Familiar Tierras Blancas"},{"$f":"IFERROR(VLOOKUP(Tabla_SERIED_12_5[[#This Row],[IdEstablecimiento]],'[1]Establecimiento 2023'!$A$1:$E$183,5,FALSE),0)","v":"04102-Coquimbo"},"15900010","2022-04-19T08:03:19",141.6,3.2,26.4,112]
[{"$nulls":23},3,"5",2022,"105305",{"$f":"IFERROR(VLOOKUP(Tabla_SERIED_12_5[[#This Row],[IdEstablecimiento]],'[1]Establecimiento 2023'!$A$1:$E$183,3,FALSE),0)","v":"105305-Centro de Salud Familiar Tierras Blancas"},{"$f":"IFERROR(VLOOKUP(Tabla_SERIED_12_5[[#This Row],[IdEstablecimiento]],'[1]Establecimiento 2023'!$A$1:$E$183,5,FALSE),0)","v":"04102-Coquimbo"},"15010300","2022-04-19T08:03:19",2,{"$nulls":4},2]
[{"$nulls":23},3,"5",2022,"105305",{"$f":"IFERROR(VLOOKUP(Tabla_SERIED_12_5[[#This Row],[IdEstablecimiento]],'[1]Establecimiento 2023'!$A$1:$E$183,3,FALSE),0)","v":"105305-Centro de Salud Familiar Tierras Blancas"},{"$f":"IFERROR(VLOOKUP(Tabla_SERIED_12_5[[#This Row],[IdEstablecimiento]],'[1]Establecimiento 2023'!$A$1:$E$183,5,FALSE),0)","v":"04102-Coquimbo"},"15010400","2022-04-19T08:03:19",24,{"$nulls":4},4,14,6]
[{"$nulls":23},3,"5",2022,"105305",{"$f":"IFERROR(VLOOKUP(Tabla_SERIED_12_5[[#This Row],[IdEstablecimiento]],'[1]Establecimiento 2023'!$A$1:$E$183,3,FALSE),0)","v":"105305-Centro de Salud Familiar Tierras Blancas"},{"$f":"IFERROR(VLOOKUP(Tabla_SERIED_12_5[[#This Row],[IdEstablecimiento]],'[1]Establecimiento 2023'!$A$1:$E$183,5,FALSE),0)","v":"04102-Coquimbo"},"15010500","2022-04-19T08:03:19",26,{"$nulls":4},6,14,6]
[{"$nulls":23},3,"5",2022,"105305",{"$f":"IFERROR(VLOOKUP(Tabla_SERIED_12_5[[#This Row],[IdEstablecimiento]],'[1]Establecimiento 2023'!$A$1:$E$183,3,FALSE),0)","v":"105305-Centro de Salud Familiar Tierras Blancas"},{"$f":"IFERROR(VLOOKUP(Tabla_SERIED_12_5[[#This Row],[IdEstablecimiento]],'[1]Establecimiento 2023'!$A$1:$E$183,5,FALSE),0)","v":"04102-Coquimbo"},"15080009","2022-04-19T08:03:19",12,{"$nulls":8},12]
[{"$nulls":23},3,"5",2022,"105322",{"$f":"IFERROR(VLOOKUP(Tabla_SERIED_12_5[[#This Row],[IdEstablecimiento]],'[1]Establecimiento 2023'!$A$1:$E$183,3,FALSE),0)","v":"105322-Centro de Salud Familiar Marcos Macuada"},{"$f":"IFERROR(VLOOKUP(Tabla_SERIED_12_5[[#This Row],[IdEstablecimiento]],'[1]Establecimiento 2023'!$A$1:$E$183,5,FALSE),0)","v":"04301-Ovalle"},"15010200","2022-04-19T08:11:14",629,{"$nulls":4},106,266,257]
[{"$nulls":23},3,"5",2022,"105322",{"$f":"IFERROR(VLOOKUP(Tabla_SERIED_12_5[[#This Row],[IdEstablecimiento]],'[1]Establecimiento 2023'!$A$1:$E$183,3,FALSE),0)","v":"105322-Centro de Salud Familiar Marcos Macuada"},{"$f":"IFERROR(VLOOKUP(Tabla_SERIED_12_5[[#This Row],[IdEstablecimiento]],'[1]Establecimiento 2023'!$A$1:$E$183,5,FALSE),0)","v":"04301-Ovalle"},"15080008","2022-04-19T08:11:14",135,{"$nulls":7},64,null,60,5,6]
[{"$nulls":23},3,"5",2022,"105322",{"$f":"IFERROR(VLOOKUP(Tabla_SERIED_12_5[[#This Row],[IdEstablecimiento]],'[1]Establecimiento 2023'!$A$1:$E$183,3,FALSE),0)","v":"105322-Centro de Salud Familiar Marcos Macuada"},{"$f":"IFERROR(VLOOKUP(Tabla_SERIED_12_5[[#This Row],[IdEstablecimiento]],'[1]Establecimiento 2023'!$A$1:$E$183,5,FALSE),0)","v":"04301-Ovalle"},"15900010","2022-04-19T08:11:14",156,11.2,49.6,95.2]
[{"$nulls":23},3,"5",2022,"105322",{"$f":"IFERROR(VLOOKUP(Tabla_SERIED_12_5[[#This Row],[IdEstablecimiento]],'[1]Establecimiento 2023'!$A$1:$E$183,3,FALSE),0)","v":"105322-Centro de Salud Familiar Marcos Macuada"},{"$f":"IFERROR(VLOOKUP(Tabla_SERIED_12_5[[#This Row],[IdEstablecimiento]],'[1]Establecimiento 2023'!$A$1:$E$183,5,FALSE),0)","v":"04301-Ovalle"},"15010300","2022-04-19T08:11:14",2,{"$nulls":3},2,0]
[{"$nulls":23},3,"5",2022,"105322",{"$f":"IFERROR(VLOOKUP(Tabla_SERIED_12_5[[#This Row],[IdEstablecimiento]],'[1]Establecimiento 2023'!$A$1:$E$183,3,FALSE),0)","v":"105322-Centro de Salud Familiar Marcos Macuada"},{"$f":"IFERROR(VLOOKUP(Tabla_SERIED_12_5[[#This Row],[IdEstablecimiento]],'[1]Establecimiento 2023'!$A$1:$E$183,5,FALSE),0)","v":"04301-Ovalle"},"15010400","2022-04-19T08:11:14",4,{"$nulls":4},0,4,0]
[{"$nulls":23},2,"5",2022,"105446",{"$f":"IFERROR(VLOOKUP(Tabla_SERIED_12_5[[#This Row],[IdEstablecimiento]],'[1]Establecimiento 2023'!$A$1:$E$183,3,FALSE),0)","v":"105446-Posta de Salud Rural Matancilla"},{"$f":"IFERROR(VLOOKUP(Tabla_SERIED_12_5[[#This Row],[IdEstablecimiento]],'[1]Establecimiento 2023'!$A$1:$E$183,5,FALSE),0)","v":"04201-Illapel"},"15010200","2022-03-17T09:43:08",2,{"$nulls":5},2]
[{"$nulls":23},2,"5",2022,"105446",{"$f":"IFERROR(VLOOKUP(Tabla_SERIED_12_5[[#This Row],[IdEstablecimiento]],'[1]Establecimiento 2023'!$A$1:$E$183,3,FALSE),0)","v":"105446-Posta de Salud Rural Matancilla"},{"$f":"IFERROR(VLOOKUP(Tabla_SERIED_12_5[[#This Row],[IdEstablecimiento]],'[1]Establecimiento 2023'!$A$1:$E$183,5,FALSE),0)","v":"04201-Illapel"},"15050100","2022-03-17T09:43:08",1,1,0,{"$nulls":5},1]
[{"$nulls":23},2,"5",2022,"105446",{"$f":"IFERROR(VLOOKUP(Tabla_SERIED_12_5[[#This Row],[IdEstablecimiento]],'[1]Establecimiento 2023'!$A$1:$E$183,3,FALSE),0)","v":"105446-Posta de Salud Rural Matancilla"},{"$f":"IFERROR(VLOOKUP(Tabla_SERIED_12_5[[#This Row],[IdEstablecimiento]],'[1]Establecimiento 2023'!$A$1:$E$183,5,FALSE),0)","v":"04201-Illapel"},"16090300","2022-03-17T09:43:08",4,4]
[{"$nulls":23},2,"5",2022,"105446",{"$f":"IFERROR(VLOOKUP(Tabla_SERIED_12_5[[#This Row],[IdEstablecimiento]],'[1]Establecimiento 2023'!$A$1:$E$183,3,FALSE),0)","v":"105446-Posta de Salud Rural Matancilla"},{"$f":"IFERROR(VLOOKUP(Tabla_SERIED_12_5[[#This Row],[IdEstablecimiento]],'[1]Establecimiento 2023'!$A$1:$E$183,5,FALSE),0)","v":"04201-Illapel"},"16200210","2022-03-17T09:43:08",3,3]
[{"$nulls":23},2,"5",2022,"105446",{"$f":"IFERROR(VLOOKUP(Tabla_SERIED_12_5[[#This Row],[IdEstablecimiento]],'[1]Establecimiento 2023'!$A$1:$E$183,3,FALSE),0)","v":"105446-Posta de Salud Rural Matancilla"},{"$f":"IFERROR(VLOOKUP(Tabla_SERIED_12_5[[#This Row],[IdEstablecimiento]],'[1]Establecimiento 2023'!$A$1:$E$183,5,FALSE),0)","v":"04201-Illapel"},"16100300","2022-03-17T09:43:08",4,3,1]
[{"$nulls":23},2,"5",2022,"105446",{"$f":"IFERROR(VLOOKUP(Tabla_SERIED_12_5[[#This Row],[IdEstablecimiento]],'[1]Establecimiento 2023'!$A$1:$E$183,3,FALSE),0)","v":"105446-Posta de Salud Rural Matancilla"},{"$f":"IFERROR(VLOOKUP(Tabla_SERIED_12_5[[#This Row],[IdEstablecimiento]],'[1]Establecimiento 2023'!$A$1:$E$183,5,FALSE),0)","v":"04201-Illapel"},"16200220","2022-03-17T09:43:08",3,1,2]
[{"$nulls":23},2,"5",2022,"105722",{"$f":"IFERROR(VLOOKUP(Tabla_SERIED_12_5[[#This Row],[IdEstablecimiento]],'[1]Establecimiento 2023'!$A$1:$E$183,3,FALSE),0)","v":"105722-Centro Comunitario de Salud Familiar San José de la Dehesa"},{"$f":"IFERROR(VLOOKUP(Tabla_SERIED_12_5[[#This Row],[IdEstablecimiento]],'[1]Establecimiento 2023'!$A$1:$E$183,5,FALSE),0)","v":"04301-Ovalle"},"15010300","2022-03-17T10:05:32",2,{"$nulls":3},2]
[{"$nulls":23},2,"5",2022,"105722",{"$f":"IFERROR(VLOOKUP(Tabla_SERIED_12_5[[#This Row],[IdEstablecimiento]],'[1]Establecimiento 2023'!$A$1:$E$183,3,FALSE),0)","v":"105722-Centro Comunitario de Salud Familiar San José de la Dehesa"},{"$f":"IFERROR(VLOOKUP(Tabla_SERIED_12_5[[#This Row],[IdEstablecimiento]],'[1]Establecimiento 2023'!$A$1:$E$183,5,FALSE),0)","v":"04301-Ovalle"},"15010400","2022-03-17T10:05:32",4,{"$nulls":4},2,2]
[{"$nulls":23},2,"5",2022,"105722",{"$f":"IFERROR(VLOOKUP(Tabla_SERIED_12_5[[#This Row],[IdEstablecimiento]],'[1]Establecimiento 2023'!$A$1:$E$183,3,FALSE),0)","v":"105722-Centro Comunitario de Salud Familiar San José de la Dehesa"},{"$f":"IFERROR(VLOOKUP(Tabla_SERIED_12_5[[#This Row],[IdEstablecimiento]],'[1]Establecimiento 2023'!$A$1:$E$183,5,FALSE),0)","v":"04301-Ovalle"},"15010500","2022-03-17T10:05:32",8,null,null,2,2,2,2]
[{"$nulls":23},2,"5",2022,"105722",{"$f":"IFERROR(VLOOKUP(Tabla_SERIED_12_5[[#This Row],[IdEstablecimiento]],'[1]Establecimiento 2023'!$A$1:$E$183,3,FALSE),0)","v":"105722-Centro Comunitario de Salud Familiar San José de la Dehesa"},{"$f":"IFERROR(VLOOKUP(Tabla_SERIED_12_5[[#This Row],[IdEstablecimiento]],'[1]Establecimiento 2023'!$A$1:$E$183,5,FALSE),0)","v":"04301-Ovalle"},"15900020","2022-03-17T10:05:32",3.2,null,null,3.2]
[{"$nulls":23},2,"5",2022,"105722",{"$f":"IFERROR(VLOOKUP(Tabla_SERIED_12_5[[#This Row],[IdEstablecimiento]],'[1]Establecimiento 2023'!$A$1:$E$183,3,FALSE),0)","v":"105722-Centro Comunitario de Salud Familiar San José de la Dehesa"},{"$f":"IFERROR(VLOOKUP(Tabla_SERIED_12_5[[#This Row],[IdEstablecimiento]],'[1]Establecimiento 2023'!$A$1:$E$183,5,FALSE),0)","v":"04301-Ovalle"},"15900040","2022-03-17T10:05:32",3.2,3.2]
[{"$nulls":23},2,"5",2022,"105722",{"$f":"IFERROR(VLOOKUP(Tabla_SERIED_12_5[[#This Row],[IdEstablecimiento]],'[1]Establecimiento 2023'!$A$1:$E$183,3,FALSE),0)","v":"105722-Centro Comunitario de Salud Familiar San José de la Dehesa"},{"$f":"IFERROR(VLOOKUP(Tabla_SERIED_12_5[[#This Row],[IdEstablecimiento]],'[1]Establecimiento 2023'!$A$1:$E$183,5,FALSE),0)","v":"04301-Ovalle"},"15050100","2022-03-17T10:05:32",108,52,56,1,1,8,16,16,22,22,14,null,2,4,2]
[{"$nulls":23},3,"5",2022,"105702",{"$f":"IFERROR(VLOOKUP(Tabla_SERIED_12_5[[#This Row],[IdEstablecimiento]],'[1]Establecimiento 2023'!$A$1:$E$183,3,FALSE),0)","v":"105702-Centro Comunitario de Salud Familiar Lambert"},{"$f":"IFERROR(VLOOKUP(Tabla_SERIED_12_5[[#This Row],[IdEstablecimiento]],'[1]Establecimiento 2023'!$A$1:$E$183,5,FALSE),0)","v":"04101-La Serena"},"15020200","2022-04-19T10:12:38",2,{"$nulls":4},2]
[{"$nulls":23},3,"5",2022,"105702",{"$f":"IFERROR(VLOOKUP(Tabla_SERIED_12_5[[#This Row],[IdEstablecimiento]],'[1]Establecimiento 2023'!$A$1:$E$183,3,FALSE),0)","v":"105702-Centro Comunitario de Salud Familiar Lambert"},{"$f":"IFERROR(VLOOKUP(Tabla_SERIED_12_5[[#This Row],[IdEstablecimiento]],'[1]Establecimiento 2023'!$A$1:$E$183,5,FALSE),0)","v":"04101-La Serena"},"15060100","2022-04-19T10:12:38",1,1,0,{"$nulls":4},1]
[{"$nulls":23},2,"5",2022,"105304",{"$f":"IFERROR(VLOOKUP(Tabla_SERIED_12_5[[#This Row],[IdEstablecimiento]],'[1]Establecimiento 2023'!$A$1:$E$183,3,FALSE),0)","v":"105304-Centro de Salud Familiar Santa Cecilia"},{"$f":"IFERROR(VLOOKUP(Tabla_SERIED_12_5[[#This Row],[IdEstablecimiento]],'[1]Establecimiento 2023'!$A$1:$E$183,5,FALSE),0)","v":"04102-Coquimbo"},"15050200","2022-03-17T09:27:26",9,3,6,0,0,2,2,1,2,1,null,0,1,0,0]
[{"$nulls":23},2,"5",2022,"105304",{"$f":"IFERROR(VLOOKUP(Tabla_SERIED_12_5[[#This Row],[IdEstablecimiento]],'[1]Establecimiento 2023'!$A$1:$E$183,3,FALSE),0)","v":"105304-Centro de Salud Familiar Santa Cecilia"},{"$f":"IFERROR(VLOOKUP(Tabla_SERIED_12_5[[#This Row],[IdEstablecimiento]],'[1]Establecimiento 2023'!$A$1:$E$183,5,FALSE),0)","v":"04102-Coquimbo"},"15050500","2022-03-17T09:27:26",3,2,1,2,1,0]
[{"$nulls":23},2,"5",2022,"105304",{"$f":"IFERROR(VLOOKUP(Tabla_SERIED_12_5[[#This Row],[IdEstablecimiento]],'[1]Establecimiento 2023'!$A$1:$E$183,3,FALSE),0)","v":"105304-Centro de Salud Familiar Santa Cecilia"},{"$f":"IFERROR(VLOOKUP(Tabla_SERIED_12_5[[#This Row],[IdEstablecimiento]],'[1]Establecimiento 2023'!$A$1:$E$183,5,FALSE),0)","v":"04102-Coquimbo"},"15900050","2022-03-17T09:27:26",1,1,0,1,0,0]
[{"$nulls":23},4,"5",2022,"105322",{"$f":"IFERROR(VLOOKUP(Tabla_SERIED_12_5[[#This Row],[IdEstablecimiento]],'[1]Establecimiento 2023'!$A$1:$E$183,3,FALSE),0)","v":"105322-Centro de Salud Familiar Marcos Macuada"},{"$f":"IFERROR(VLOOKUP(Tabla_SERIED_12_5[[#This Row],[IdEstablecimiento]],'[1]Establecimiento 2023'!$A$1:$E$183,5,FALSE),0)","v":"04301-Ovalle"},"15060100","2022-05-18T11:53:39",10,5,5,0,0,2,3,1,3,1,0,null,0,0,0]
[{"$nulls":23},4,"5",2022,"105322",{"$f":"IFERROR(VLOOKUP(Tabla_SERIED_12_5[[#This Row],[IdEstablecimiento]],'[1]Establecimiento 2023'!$A$1:$E$183,3,FALSE),0)","v":"105322-Centro de Salud Familiar Marcos Macuada"},{"$f":"IFERROR(VLOOKUP(Tabla_SERIED_12_5[[#This Row],[IdEstablecimiento]],'[1]Establecimiento 2023'!$A$1:$E$183,5,FALSE),0)","v":"04301-Ovalle"},"16090300","2022-05-18T11:53:39",691,691]
[{"$nulls":23},4,"5",2022,"105322",{"$f":"IFERROR(VLOOKUP(Tabla_SERIED_12_5[[#This Row],[IdEstablecimiento]],'[1]Establecimiento 2023'!$A$1:$E$183,3,FALSE),0)","v":"105322-Centro de Salud Familiar Marcos Macuada"},{"$f":"IFERROR(VLOOKUP(Tabla_SERIED_12_5[[#This Row],[IdEstablecimiento]],'[1]Establecimiento 2023'!$A$1:$E$183,5,FALSE),0)","v":"04301-Ovalle"},"16200210","2022-05-18T11:53:39",22,22]
[{"$nulls":23},4,"5",2022,"105322",{"$f":"IFERROR(VLOOKUP(Tabla_SERIED_12_5[[#This Row],[IdEstablecimiento]],'[1]Establecimiento 2023'!$A$1:$E$183,3,FALSE),0)","v":"105322-Centro de Salud Familiar Marcos Macuada"},{"$f":"IFERROR(VLOOKUP(Tabla_SERIED_12_5[[#This Row],[IdEstablecimiento]],'[1]Establecimiento 2023'!$A$1:$E$183,5,FALSE),0)","v":"04301-Ovalle"},"16090100","2022-05-18T11:53:39",24,24]
[{"$nulls":23},4,"5",2022,"105322",{"$f":"IFERROR(VLOOKUP(Tabla_SERIED_12_5[[#This Row],[IdEstablecimiento]],'[1]Establecimiento 2023'!$A$1:$E$183,3,FALSE),0)","v":"105322-Centro de Salud Familiar Marcos Macuada"},{"$f":"IFERROR(VLOOKUP(Tabla_SERIED_12_5[[#This Row],[IdEstablecimiento]],'[1]Establecimiento 2023'!$A$1:$E$183,5,FALSE),0)","v":"04301-Ovalle"},"16100300","2022-05-18T11:53:39",691,258,433,18,521]
[{"$nulls":23},4,"5",2022,"105322",{"$f":"IFERROR(VLOOKUP(Tabla_SERIED_12_5[[#This Row],[IdEstablecimiento]],'[1]Establecimiento 2023'!$A$1:$E$183,3,FALSE),0)","v":"105322-Centro de Salud Familiar Marcos Macuada"},{"$f":"IFERROR(VLOOKUP(Tabla_SERIED_12_5[[#This Row],[IdEstablecimiento]],'[1]Establecimiento 2023'!$A$1:$E$183,5,FALSE),0)","v":"04301-Ovalle"},"16200220","2022-05-18T11:53:39",22,8,14,1,13]
[{"$nulls":23},4,"5",2022,"105322",{"$f":"IFERROR(VLOOKUP(Tabla_SERIED_12_5[[#This Row],[IdEstablecimiento]],'[1]Establecimiento 2023'!$A$1:$E$183,3,FALSE),0)","v":"105322-Centro de Salud Familiar Marcos Macuada"},{"$f":"IFERROR(VLOOKUP(Tabla_SERIED_12_5[[#This Row],[IdEstablecimiento]],'[1]Establecimiento 2023'!$A$1:$E$183,5,FALSE),0)","v":"04301-Ovalle"},"16100100","2022-05-18T11:53:39",24,9,15,0,0]
[{"$nulls":23},4,"5",2022,"105323",{"$f":"IFERROR(VLOOKUP(Tabla_SERIED_12_5[[#This Row],[IdEstablecimiento]],'[1]Establecimiento 2023'!$A$1:$E$183,3,FALSE),0)","v":"105323-Centro de Salud Familiar Dr. Sergio Aguilar Delgado"},{"$f":"IFERROR(VLOOKUP(Tabla_SERIED_12_5[[#This Row],[IdEstablecimiento]],'[1]Establecimiento 2023'!$A$1:$E$183,5,FALSE),0)","v":"04102-Coquimbo"},"15010100","2022-05-18T11:53:56",104,{"$nulls":3},96,8]
[{"$nulls":23},4,"5",2022,"105323",{"$f":"IFERROR(VLOOKUP(Tabla_SERIED_12_5[[#This Row],[IdEstablecimiento]],'[1]Establecimiento 2023'!$A$1:$E$183,3,FALSE),0)","v":"105323-Centro de Salud Familiar Dr. Sergio Aguilar Delgado"},{"$f":"IFERROR(VLOOKUP(Tabla_SERIED_12_5[[#This Row],[IdEstablecimiento]],'[1]Establecimiento 2023'!$A$1:$E$183,5,FALSE),0)","v":"04102-Coquimbo"},"15010200","2022-05-18T11:53:56",394,{"$nulls":4},78,178,138]
[{"$nulls":23},4,"5",2022,"105323",{"$f":"IFERROR(VLOOKUP(Tabla_SERIED_12_5[[#This Row],[IdEstablecimiento]],'[1]Establecimiento 2023'!$A$1:$E$183,3,FALSE),0)","v":"105323-Centro de Salud Familiar Dr. Sergio Aguilar Delgado"},{"$f":"IFERROR(VLOOKUP(Tabla_SERIED_12_5[[#This Row],[IdEstablecimiento]],'[1]Establecimiento 2023'!$A$1:$E$183,5,FALSE),0)","v":"04102-Coquimbo"},"15080008","2022-05-18T11:53:56",151,{"$nulls":7},85,null,32,9,25]
[{"$nulls":23},4,"5",2022,"105323",{"$f":"IFERROR(VLOOKUP(Tabla_SERIED_12_5[[#This Row],[IdEstablecimiento]],'[1]Establecimiento 2023'!$A$1:$E$183,3,FALSE),0)","v":"105323-Centro de Salud Familiar Dr. Sergio Aguilar Delgado"},{"$f":"IFERROR(VLOOKUP(Tabla_SERIED_12_5[[#This Row],[IdEstablecimiento]],'[1]Establecimiento 2023'!$A$1:$E$183,5,FALSE),0)","v":"04102-Coquimbo"},"15900010","2022-05-18T11:53:56",155.2,11.2,41.6,102.4]
[{"$nulls":23},4,"5",2022,"105323",{"$f":"IFERROR(VLOOKUP(Tabla_SERIED_12_5[[#This Row],[IdEstablecimiento]],'[1]Establecimiento 2023'!$A$1:$E$183,3,FALSE),0)","v":"105323-Centro de Salud Familiar Dr. Sergio Aguilar Delgado"},{"$f":"IFERROR(VLOOKUP(Tabla_SERIED_12_5[[#This Row],[IdEstablecimiento]],'[1]Establecimiento 2023'!$A$1:$E$183,5,FALSE),0)","v":"04102-Coquimbo"},"15010400","2022-05-18T11:53:56",22,{"$nulls":4},8,14]
[{"$nulls":23},4,"5",2022,"105323",{"$f":"IFERROR(VLOOKUP(Tabla_SERIED_12_5[[#This Row],[IdEstablecimiento]],'[1]Establecimiento 2023'!$A$1:$E$183,3,FALSE),0)","v":"105323-Centro de Salud Familiar Dr. Sergio Aguilar Delgado"},{"$f":"IFERROR(VLOOKUP(Tabla_SERIED_12_5[[#This Row],[IdEstablecimiento]],'[1]Establecimiento 2023'!$A$1:$E$183,5,FALSE),0)","v":"04102-Coquimbo"},"15010500","2022-05-18T11:53:56",30,null,2,6,null,8,14]
[{"$nulls":23},2,"5",2022,"105449",{"$f":"IFERROR(VLOOKUP(Tabla_SERIED_12_5[[#This Row],[IdEstablecimiento]],'[1]Establecimiento 2023'!$A$1:$E$183,3,FALSE),0)","v":"105449-Posta de Salud Rural Tunga Norte"},{"$f":"IFERROR(VLOOKUP(Tabla_SERIED_12_5[[#This Row],[IdEstablecimiento]],'[1]Establecimiento 2023'!$A$1:$E$183,5,FALSE),0)","v":"04201-Illapel"},"16200220","2022-03-17T09:43:47",2,0,2]
[{"$nulls":23},2,"5",2022,"105449",{"$f":"IFERROR(VLOOKUP(Tabla_SERIED_12_5[[#This Row],[IdEstablecimiento]],'[1]Establecimiento 2023'!$A$1:$E$183,3,FALSE),0)","v":"105449-Posta de Salud Rural Tunga Norte"},{"$f":"IFERROR(VLOOKUP(Tabla_SERIED_12_5[[#This Row],[IdEstablecimiento]],'[1]Establecimiento 2023'!$A$1:$E$183,5,FALSE),0)","v":"04201-Illapel"},"16100600","2022-03-17T09:43:47",1,1,0]
[{"$nulls":23},2,"5",2022,"105466",{"$f":"IFERROR(VLOOKUP(Tabla_SERIED_12_5[[#This Row],[IdEstablecimiento]],'[1]Establecimiento 2023'!$A$1:$E$183,3,FALSE),0)","v":"105466-Posta de Salud Rural Valle Hermoso"},{"$f":"IFERROR(VLOOKUP(Tabla_SERIED_12_5[[#This Row],[IdEstablecimiento]],'[1]Establecimiento 2023'!$A$1:$E$183,5,FALSE),0)","v":"04302-Combarbalá"},"16100300","2022-03-17T09:49:23",24,13,11,1,7]
[{"$nulls":23},2,"5",2022,"105466",{"$f":"IFERROR(VLOOKUP(Tabla_SERIED_12_5[[#This Row],[IdEstablecimiento]],'[1]Establecimiento 2023'!$A$1:$E$183,3,FALSE),0)","v":"105466-Posta de Salud Rural Valle Hermoso"},{"$f":"IFERROR(VLOOKUP(Tabla_SERIED_12_5[[#This Row],[IdEstablecimiento]],'[1]Establecimiento 2023'!$A$1:$E$183,5,FALSE),0)","v":"04302-Combarbalá"},"16200220","2022-03-17T09:49:23",10,6,4,1,1]
[{"$nulls":23},5,"5",2022,"105305",{"$f":"IFERROR(VLOOKUP(Tabla_SERIED_12_5[[#This Row],[IdEstablecimiento]],'[1]Establecimiento 2023'!$A$1:$E$183,3,FALSE),0)","v":"105305-Centro de Salud Familiar Tierras Blancas"},{"$f":"IFERROR(VLOOKUP(Tabla_SERIED_12_5[[#This Row],[IdEstablecimiento]],'[1]Establecimiento 2023'!$A$1:$E$183,5,FALSE),0)","v":"04102-Coquimbo"},"16200100","2022-06-20T17:00:49",17,10,7]
[{"$nulls":23},5,"5",2022,"105306",{"$f":"IFERROR(VLOOKUP(Tabla_SERIED_12_5[[#This Row],[IdEstablecimiento]],'[1]Establecimiento 2023'!$A$1:$E$183,3,FALSE),0)","v":"105306-Centro de Salud Familiar Paihuano"},{"$f":"IFERROR(VLOOKUP(Tabla_SERIED_12_5[[#This Row],[IdEstablecimiento]],'[1]Establecimiento 2023'!$A$1:$E$183,5,FALSE),0)","v":"04105-Paiguano"},"15010100","2022-06-20T17:00:59",6,{"$nulls":3},6]
[{"$nulls":23},5,"5",2022,"105306",{"$f":"IFERROR(VLOOKUP(Tabla_SERIED_12_5[[#This Row],[IdEstablecimiento]],'[1]Establecimiento 2023'!$A$1:$E$183,3,FALSE),0)","v":"105306-Centro de Salud Familiar Paihuano"},{"$f":"IFERROR(VLOOKUP(Tabla_SERIED_12_5[[#This Row],[IdEstablecimiento]],'[1]Establecimiento 2023'!$A$1:$E$183,5,FALSE),0)","v":"04105-Paiguano"},"15010200","2022-06-20T17:00:59",38,{"$nulls":4},8,20,10]
[{"$nulls":23},5,"5",2022,"105306",{"$f":"IFERROR(VLOOKUP(Tabla_SERIED_12_5[[#This Row],[IdEstablecimiento]],'[1]Establecimiento 2023'!$A$1:$E$183,3,FALSE),0)","v":"105306-Centro de Salud Familiar Paihuano"},{"$f":"IFERROR(VLOOKUP(Tabla_SERIED_12_5[[#This Row],[IdEstablecimiento]],'[1]Establecimiento 2023'!$A$1:$E$183,5,FALSE),0)","v":"04105-Paiguano"},"15080008","2022-06-20T17:00:59",8,{"$nulls":7},6,null,2]
[{"$nulls":23},5,"5",2022,"105306",{"$f":"IFERROR(VLOOKUP(Tabla_SERIED_12_5[[#This Row],[IdEstablecimiento]],'[1]Establecimiento 2023'!$A$1:$E$183,3,FALSE),0)","v":"105306-Centro de Salud Familiar Paihuano"},{"$f":"IFERROR(VLOOKUP(Tabla_SERIED_12_5[[#This Row],[IdEstablecimiento]],'[1]Establecimiento 2023'!$A$1:$E$183,5,FALSE),0)","v":"04105-Paiguano"},"15900010","2022-06-20T17:00:59",3.2,null,3.2]
[{"$nulls":23},6,"5",2022,"105493",{"$f":"IFERROR(VLOOKUP(Tabla_SERIED_12_5[[#This Row],[IdEstablecimiento]],'[1]Establecimiento 2023'!$A$1:$E$183,3,FALSE),0)","v":"105493-Posta de Salud Rural Mincha Sur"},{"$f":"IFERROR(VLOOKUP(Tabla_SERIED_12_5[[#This Row],[IdEstablecimiento]],'[1]Establecimiento 2023'!$A$1:$E$183,5,FALSE),0)","v":"04202-Canela"},"15050100","2022-07-14T14:34:29",1,0,1,0,0,0,0,0,1,0,0,null,0,0,0]
[{"$nulls":23},6,"5",2022,"105493",{"$f":"IFERROR(VLOOKUP(Tabla_SERIED_12_5[[#This Row],[IdEstablecimiento]],'[1]Establecimiento 2023'!$A$1:$E$183,3,FALSE),0)","v":"105493-Posta de Salud Rural Mincha Sur"},{"$f":"IFERROR(VLOOKUP(Tabla_SERIED_12_5[[#This Row],[IdEstablecimiento]],'[1]Establecimiento 2023'!$A$1:$E$183,5,FALSE),0)","v":"04202-Canela"},"16090300","2022-07-14T14:34:29",28,28]
[{"$nulls":23},6,"5",2022,"105493",{"$f":"IFERROR(VLOOKUP(Tabla_SERIED_12_5[[#This Row],[IdEstablecimiento]],'[1]Establecimiento 2023'!$A$1:$E$183,3,FALSE),0)","v":"105493-Posta de Salud Rural Mincha Sur"},{"$f":"IFERROR(VLOOKUP(Tabla_SERIED_12_5[[#This Row],[IdEstablecimiento]],'[1]Establecimiento 2023'!$A$1:$E$183,5,FALSE),0)","v":"04202-Canela"},"16200210","2022-07-14T14:34:29",1,1]
[{"$nulls":23},6,"5",2022,"105493",{"$f":"IFERROR(VLOOKUP(Tabla_SERIED_12_5[[#This Row],[IdEstablecimiento]],'[1]Establecimiento 2023'!$A$1:$E$183,3,FALSE),0)","v":"105493-Posta de Salud Rural Mincha Sur"},{"$f":"IFERROR(VLOOKUP(Tabla_SERIED_12_5[[#This Row],[IdEstablecimiento]],'[1]Establecimiento 2023'!$A$1:$E$183,5,FALSE),0)","v":"04202-Canela"},"16100300","2022-07-14T14:34:29",28,12,16,0,0]
[{"$nulls":23},6,"5",2022,"105493",{"$f":"IFERROR(VLOOKUP(Tabla_SERIED_12_5[[#This Row],[IdEstablecimiento]],'[1]Establecimiento 2023'!$A$1:$E$183,3,FALSE),0)","v":"105493-Posta de Salud Rural Mincha Sur"},{"$f":"IFERROR(VLOOKUP(Tabla_SERIED_12_5[[#This Row],[IdEstablecimiento]],'[1]Establecimiento 2023'!$A$1:$E$183,5,FALSE),0)","v":"04202-Canela"},"16200220","2022-07-14T14:34:29",1,0,1,0,0]
[{"$nulls":23},6,"5",2022,"105496",{"$f":"IFERROR(VLOOKUP(Tabla_SERIED_12_5[[#This Row],[IdEstablecimiento]],'[1]Establecimiento 2023'!$A$1:$E$183,3,FALSE),0)","v":"105496-Posta de Salud Rural Pintacura Sur"},{"$f":"IFERROR(VLOOKUP(Tabla_SERIED_12_5[[#This Row],[IdEstablecimiento]],'[1]Establecimiento 2023'!$A$1:$E$183,5,FALSE),0)","v":"04201-Illapel"},"15010100","2022-07-14T14:34:41",4,{"$nulls":3},4]
[{"$nulls":23},6,"5",2022,"105496",{"$f":"IFERROR(VLOOKUP(Tabla_SERIED_12_5[[#This Row],[IdEstablecimiento]],'[1]Establecimiento 2023'!$A$1:$E$183,3,FALSE),0)","v":"105496-Posta de Salud Rural Pintacura Sur"},{"$f":"IFERROR(VLOOKUP(Tabla_SERIED_12_5[[#This Row],[IdEstablecimiento]],'[1]Establecimiento 2023'!$A$1:$E$183,5,FALSE),0)","v":"04201-Illapel"},"15080008","2022-07-14T14:34:41",1,{"$nulls":7},1]
[{"$nulls":23},6,"5",2022,"105496",{"$f":"IFERROR(VLOOKUP(Tabla_SERIED_12_5[[#This Row],[IdEstablecimiento]],'[1]Establecimiento 2023'!$A$1:$E$183,3,FALSE),0)","v":"105496-Posta de Salud Rural Pintacura Sur"},{"$f":"IFERROR(VLOOKUP(Tabla_SERIED_12_5[[#This Row],[IdEstablecimiento]],'[1]Establecimiento 2023'!$A$1:$E$183,5,FALSE),0)","v":"04201-Illapel"},"15050100","2022-07-14T14:34:41",3,null,3,{"$nulls":3},2,{"$nulls":3},1]
[{"$nulls":23},6,"5",2022,"105496",{"$f":"IFERROR(VLOOKUP(Tabla_SERIED_12_5[[#This Row],[IdEstablecimiento]],'[1]Establecimiento 2023'!$A$1:$E$183,3,FALSE),0)","v":"105496-Posta de Salud Rural Pintacura Sur"},{"$f":"IFERROR(VLOOKUP(Tabla_SERIED_12_5[[#This Row],[IdEstablecimiento]],'[1]Establecimiento 2023'!$A$1:$E$183,5,FALSE),0)","v":"04201-Illapel"},"16090300","2022-07-14T14:34:41",31,31]
[{"$nulls":23},6,"5",2022,"105496",{"$f":"IFERROR(VLOOKUP(Tabla_SERIED_12_5[[#This Row],[IdEstablecimiento]],'[1]Establecimiento 2023'!$A$1:$E$183,3,FALSE),0)","v":"105496-Posta de Salud Rural Pintacura Sur"},{"$f":"IFERROR(VLOOKUP(Tabla_SERIED_12_5[[#This Row],[IdEstablecimiento]],'[1]Establecimiento 2023'!$A$1:$E$183,5,FALSE),0)","v":"04201-Illapel"},"16200210","2022-07-14T14:34:41",6,6]
[{"$nulls":23},6,"5",2022,"105496",{"$f":"IFERROR(VLOOKUP(Tabla_SERIED_12_5[[#This Row],[IdEstablecimiento]],'[1]Establecimiento 2023'!$A$1:$E$183,3,FALSE),0)","v":"105496-Posta de Salud Rural Pintacura Sur"},{"$f":"IFERROR(VLOOKUP(Tabla_SERIED_12_5[[#This Row],[IdEstablecimiento]],'[1]Establecimiento 2023'!$A$1:$E$183,5,FALSE),0)","v":"04201-Illapel"},"16100300","2022-07-14T14:34:41",31,15,16]
[{"$nulls":23},6,"5",2022,"105496",{"$f":"IFERROR(VLOOKUP(Tabla_SERIED_12_5[[#This Row],[IdEstablecimiento]],'[1]Establecimiento 2023'!$A$1:$E$183,3,FALSE),0)","v":"105496-Posta de Salud Rural Pintacura Sur"},{"$f":"IFERROR(VLOOKUP(Tabla_SERIED_12_5[[#This Row],[IdEstablecimiento]],'[1]Establecimiento 2023'!$A$1:$E$183,5,FALSE),0)","v":"04201-Illapel"},"16200220","2022-07-14T14:34:41",6,4,2]
[{"$nulls":23},6,"5",2022,"105497",{"$f":"IFERROR(VLOOKUP(Tabla_SERIED_12_5[[#This Row],[IdEstablecimiento]],'[1]Establecimiento 2023'!$A$1:$E$183,3,FALSE),0)","v":"105497-Posta de Salud Rural Jabonería"},{"$f":"IFERROR(VLOOKUP(Tabla_SERIED_12_5[[#This Row],[IdEstablecimiento]],'[1]Establecimiento 2023'!$A$1:$E$183,5,FALSE),0)","v":"04202-Canela"},"16090300","2022-07-14T14:34:52",23,23]
[{"$nulls":23},6,"5",2022,"105497",{"$f":"IFERROR(VLOOKUP(Tabla_SERIED_12_5[[#This Row],[IdEstablecimiento]],'[1]Establecimiento 2023'!$A$1:$E$183,3,FALSE),0)","v":"105497-Posta de Salud Rural Jabonería"},{"$f":"IFERROR(VLOOKUP(Tabla_SERIED_12_5[[#This Row],[IdEstablecimiento]],'[1]Establecimiento 2023'!$A$1:$E$183,5,FALSE),0)","v":"04202-Canela"},"16200210","2022-07-14T14:34:52",4,4]
[{"$nulls":23},6,"5",2022,"105497",{"$f":"IFERROR(VLOOKUP(Tabla_SERIED_12_5[[#This Row],[IdEstablecimiento]],'[1]Establecimiento 2023'!$A$1:$E$183,3,FALSE),0)","v":"105497-Posta de Salud Rural Jabonería"},{"$f":"IFERROR(VLOOKUP(Tabla_SERIED_12_5[[#This Row],[IdEstablecimiento]],'[1]Establecimiento 2023'!$A$1:$E$183,5,FALSE),0)","v":"04202-Canela"},"16100300","2022-07-14T14:34:52",23,8,15,0,0]
[{"$nulls":23},6,"5",2022,"105497",{"$f":"IFERROR(VLOOKUP(Tabla_SERIED_12_5[[#This Row],[IdEstablecimiento]],'[1]Establecimiento 2023'!$A$1:$E$183,3,FALSE),0)","v":"105497-Posta de Salud Rural Jabonería"},{"$f":"IFERROR(VLOOKUP(Tabla_SERIED_12_5[[#This Row],[IdEstablecimiento]],'[1]Establecimiento 2023'!$A$1:$E$183,5,FALSE),0)","v":"04202-Canela"},"16200220","2022-07-14T14:34:52",4,3,1,0,0]
[{"$nulls":23},2,"5",2022,"105510",{"$f":"IFERROR(VLOOKUP(Tabla_SERIED_12_5[[#This Row],[IdEstablecimiento]],'[1]Establecimiento 2023'!$A$1:$E$183,3,FALSE),0)","v":"105510-Posta de Salud Rural Recoleta"},{"$f":"IFERROR(VLOOKUP(Tabla_SERIED_12_5[[#This Row],[IdEstablecimiento]],'[1]Establecimiento 2023'!$A$1:$E$183,5,FALSE),0)","v":"04301-Ovalle"},"15010100","2022-03-17T10:03:06",10,{"$nulls":3},10]
[{"$nulls":23},2,"5",2022,"105510",{"$f":"IFERROR(VLOOKUP(Tabla_SERIED_12_5[[#This Row],[IdEstablecimiento]],'[1]Establecimiento 2023'!$A$1:$E$183,3,FALSE),0)","v":"105510-Posta de Salud Rural Recoleta"},{"$f":"IFERROR(VLOOKUP(Tabla_SERIED_12_5[[#This Row],[IdEstablecimiento]],'[1]Establecimiento 2023'!$A$1:$E$183,5,FALSE),0)","v":"04301-Ovalle"},"15010200","2022-03-17T10:03:06",18,{"$nulls":4},4,12,2]
[{"$nulls":23},2,"5",2022,"105510",{"$f":"IFERROR(VLOOKUP(Tabla_SERIED_12_5[[#This Row],[IdEstablecimiento]],'[1]Establecimiento 2023'!$A$1:$E$183,3,FALSE),0)","v":"105510-Posta de Salud Rural Recoleta"},{"$f":"IFERROR(VLOOKUP(Tabla_SERIED_12_5[[#This Row],[IdEstablecimiento]],'[1]Establecimiento 2023'!$A$1:$E$183,5,FALSE),0)","v":"04301-Ovalle"},"15080008","2022-03-17T10:03:06",4,{"$nulls":7},4]
[{"$nulls":23},2,"5",2022,"105510",{"$f":"IFERROR(VLOOKUP(Tabla_SERIED_12_5[[#This Row],[IdEstablecimiento]],'[1]Establecimiento 2023'!$A$1:$E$183,3,FALSE),0)","v":"105510-Posta de Salud Rural Recoleta"},{"$f":"IFERROR(VLOOKUP(Tabla_SERIED_12_5[[#This Row],[IdEstablecimiento]],'[1]Establecimiento 2023'!$A$1:$E$183,5,FALSE),0)","v":"04301-Ovalle"},"15900010","2022-03-17T10:03:06",8.8,null,null,8.8]
[{"$nulls":23},2,"5",2022,"105510",{"$f":"IFERROR(VLOOKUP(Tabla_SERIED_12_5[[#This Row],[IdEstablecimiento]],'[1]Establecimiento 2023'!$A$1:$E$183,3,FALSE),0)","v":"105510-Posta de Salud Rural Recoleta"},{"$f":"IFERROR(VLOOKUP(Tabla_SERIED_12_5[[#This Row],[IdEstablecimiento]],'[1]Establecimiento 2023'!$A$1:$E$183,5,FALSE),0)","v":"04301-Ovalle"},"15050100","2022-03-17T10:03:06",21,8,13,null,null,3,5,2,6,1,4]
[{"$nulls":23},2,"5",2022,"105510",{"$f":"IFERROR(VLOOKUP(Tabla_SERIED_12_5[[#This Row],[IdEstablecimiento]],'[1]Establecimiento 2023'!$A$1:$E$183,3,FALSE),0)","v":"105510-Posta de Salud Rural Recoleta"},{"$f":"IFERROR(VLOOKUP(Tabla_SERIED_12_5[[#This Row],[IdEstablecimiento]],'[1]Establecimiento 2023'!$A$1:$E$183,5,FALSE),0)","v":"04301-Ovalle"},"16090300","2022-03-17T10:03:06",86,86]
[{"$nulls":23},2,"5",2022,"105510",{"$f":"IFERROR(VLOOKUP(Tabla_SERIED_12_5[[#This Row],[IdEstablecimiento]],'[1]Establecimiento 2023'!$A$1:$E$183,3,FALSE),0)","v":"105510-Posta de Salud Rural Recoleta"},{"$f":"IFERROR(VLOOKUP(Tabla_SERIED_12_5[[#This Row],[IdEstablecimiento]],'[1]Establecimiento 2023'!$A$1:$E$183,5,FALSE),0)","v":"04301-Ovalle"},"16200210","2022-03-17T10:03:06",11,11]
[{"$nulls":23},2,"5",2022,"105510",{"$f":"IFERROR(VLOOKUP(Tabla_SERIED_12_5[[#This Row],[IdEstablecimiento]],'[1]Establecimiento 2023'!$A$1:$E$183,3,FALSE),0)","v":"105510-Posta de Salud Rural Recoleta"},{"$f":"IFERROR(VLOOKUP(Tabla_SERIED_12_5[[#This Row],[IdEstablecimiento]],'[1]Establecimiento 2023'!$A$1:$E$183,5,FALSE),0)","v":"04301-Ovalle"},"16100300","2022-03-17T10:03:06",86,50,36,null,6]
[{"$nulls":23},8,"5",2022,"105307",{"$f":"IFERROR(VLOOKUP(Tabla_SERIED_12_5[[#This Row],[IdEstablecimiento]],'[1]Establecimiento 2023'!$A$1:$E$183,3,FALSE),0)","v":"105307-Centro de Salud Familiar Monte Patria"},{"$f":"IFERROR(VLOOKUP(Tabla_SERIED_12_5[[#This Row],[IdEstablecimiento]],'[1]Establecimiento 2023'!$A$1:$E$183,5,FALSE),0)","v":"04303-Monte Patria"},"15900010","2022-09-21T07:16:26",82.4,0.9,26.5,55]
[{"$nulls":23},8,"5",2022,"105307",{"$f":"IFERROR(VLOOKUP(Tabla_SERIED_12_5[[#This Row],[IdEstablecimiento]],'[1]Establecimiento 2023'!$A$1:$E$183,3,FALSE),0)","v":"105307-Centro de Salud Familiar Monte Patria"},{"$f":"IFERROR(VLOOKUP(Tabla_SERIED_12_5[[#This Row],[IdEstablecimiento]],'[1]Establecimiento 2023'!$A$1:$E$183,5,FALSE),0)","v":"04303-Monte Patria"},"15010300","2022-09-21T07:16:26",2,{"$nulls":3},2]
[{"$nulls":23},8,"5",2022,"105439",{"$f":"IFERROR(VLOOKUP(Tabla_SERIED_12_5[[#This Row],[IdEstablecimiento]],'[1]Establecimiento 2023'!$A$1:$E$183,3,FALSE),0)","v":"105439-Posta de Salud Rural Cerro Blanco"},{"$f":"IFERROR(VLOOKUP(Tabla_SERIED_12_5[[#This Row],[IdEstablecimiento]],'[1]Establecimiento 2023'!$A$1:$E$183,5,FALSE),0)","v":"04301-Ovalle"},"16200210","2022-09-21T07:40:53",4,4]
[{"$nulls":23},8,"5",2022,"105439",{"$f":"IFERROR(VLOOKUP(Tabla_SERIED_12_5[[#This Row],[IdEstablecimiento]],'[1]Establecimiento 2023'!$A$1:$E$183,3,FALSE),0)","v":"105439-Posta de Salud Rural Cerro Blanco"},{"$f":"IFERROR(VLOOKUP(Tabla_SERIED_12_5[[#This Row],[IdEstablecimiento]],'[1]Establecimiento 2023'!$A$1:$E$183,5,FALSE),0)","v":"04301-Ovalle"},"16100300","2022-09-21T07:40:53",49,20,29,null,6]
[{"$nulls":23},8,"5",2022,"105439",{"$f":"IFERROR(VLOOKUP(Tabla_SERIED_12_5[[#This Row],[IdEstablecimiento]],'[1]Establecimiento 2023'!$A$1:$E$183,3,FALSE),0)","v":"105439-Posta de Salud Rural Cerro Blanco"},{"$f":"IFERROR(VLOOKUP(Tabla_SERIED_12_5[[#This Row],[IdEstablecimiento]],'[1]Establecimiento 2023'!$A$1:$E$183,5,FALSE),0)","v":"04301-Ovalle"},"16200220","2022-09-21T07:40:53",4,2,2]
[{"$nulls":23},8,"5",2022,"105439",{"$f":"IFERROR(VLOOKUP(Tabla_SERIED_12_5[[#This Row],[IdEstablecimiento]],'[1]Establecimiento 2023'!$A$1:$E$183,3,FALSE),0)","v":"105439-Posta de Salud Rural Cerro Blanco"},{"$f":"IFERROR(VLOOKUP(Tabla_SERIED_12_5[[#This Row],[IdEstablecimiento]],'[1]Establecimiento 2023'!$A$1:$E$183,5,FALSE),0)","v":"04301-Ovalle"},"16200100","2022-09-21T07:40:53",0,{"$nulls":3},1]
[{"$nulls":23},3,"5",2022,"105434",{"$f":"IFERROR(VLOOKUP(Tabla_SERIED_12_5[[#This Row],[IdEstablecimiento]],'[1]Establecimiento 2023'!$A$1:$E$183,3,FALSE),0)","v":"105434-Posta de Salud Rural San Marcos (Combarbalá)"},{"$f":"IFERROR(VLOOKUP(Tabla_SERIED_12_5[[#This Row],[IdEstablecimiento]],'[1]Establecimiento 2023'!$A$1:$E$183,5,FALSE),0)","v":"04302-Combarbalá"},"15050100","2022-04-19T09:43:38",8,4,4,{"$nulls":3},1,1,2,2,2]
[{"$nulls":23},3,"5",2022,"105434",{"$f":"IFERROR(VLOOKUP(Tabla_SERIED_12_5[[#This Row],[IdEstablecimiento]],'[1]Establecimiento 2023'!$A$1:$E$183,3,FALSE),0)","v":"105434-Posta de Salud Rural San Marcos (Combarbalá)"},{"$f":"IFERROR(VLOOKUP(Tabla_SERIED_12_5[[#This Row],[IdEstablecimiento]],'[1]Establecimiento 2023'!$A$1:$E$183,5,FALSE),0)","v":"04302-Combarbalá"},"16090300","2022-04-19T09:43:38",47,47]
[{"$nulls":23},3,"5",2022,"105434",{"$f":"IFERROR(VLOOKUP(Tabla_SERIED_12_5[[#This Row],[IdEstablecimiento]],'[1]Establecimiento 2023'!$A$1:$E$183,3,FALSE),0)","v":"105434-Posta de Salud Rural San Marcos (Combarbalá)"},{"$f":"IFERROR(VLOOKUP(Tabla_SERIED_12_5[[#This Row],[IdEstablecimiento]],'[1]Establecimiento 2023'!$A$1:$E$183,5,FALSE),0)","v":"04302-Combarbalá"},"16200210","2022-04-19T09:43:38",6,6]
[{"$nulls":23},3,"5",2022,"105434",{"$f":"IFERROR(VLOOKUP(Tabla_SERIED_12_5[[#This Row],[IdEstablecimiento]],'[1]Establecimiento 2023'!$A$1:$E$183,3,FALSE),0)","v":"105434-Posta de Salud Rural San Marcos (Combarbalá)"},{"$f":"IFERROR(VLOOKUP(Tabla_SERIED_12_5[[#This Row],[IdEstablecimiento]],'[1]Establecimiento 2023'!$A$1:$E$183,5,FALSE),0)","v":"04302-Combarbalá"},"16100300","2022-04-19T09:43:38",47,19,28,null,17]
[{"$nulls":23},3,"5",2022,"105434",{"$f":"IFERROR(VLOOKUP(Tabla_SERIED_12_5[[#This Row],[IdEstablecimiento]],'[1]Establecimiento 2023'!$A$1:$E$183,3,FALSE),0)","v":"105434-Posta de Salud Rural San Marcos (Combarbalá)"},{"$f":"IFERROR(VLOOKUP(Tabla_SERIED_12_5[[#This Row],[IdEstablecimiento]],'[1]Establecimiento 2023'!$A$1:$E$183,5,FALSE),0)","v":"04302-Combarbalá"},"16200220","2022-04-19T09:43:38",6,2,4]
[{"$nulls":23},3,"5",2022,"105487",{"$f":"IFERROR(VLOOKUP(Tabla_SERIED_12_5[[#This Row],[IdEstablecimiento]],'[1]Establecimiento 2023'!$A$1:$E$183,3,FALSE),0)","v":"105487-Posta de Salud Rural Cañas Uno"},{"$f":"IFERROR(VLOOKUP(Tabla_SERIED_12_5[[#This Row],[IdEstablecimiento]],'[1]Establecimiento 2023'!$A$1:$E$183,5,FALSE),0)","v":"04201-Illapel"},"16100300","2022-04-19T10:06:43",115,52,63]
[{"$nulls":23},3,"5",2022,"105487",{"$f":"IFERROR(VLOOKUP(Tabla_SERIED_12_5[[#This Row],[IdEstablecimiento]],'[1]Establecimiento 2023'!$A$1:$E$183,3,FALSE),0)","v":"105487-Posta de Salud Rural Cañas Uno"},{"$f":"IFERROR(VLOOKUP(Tabla_SERIED_12_5[[#This Row],[IdEstablecimiento]],'[1]Establecimiento 2023'!$A$1:$E$183,5,FALSE),0)","v":"04201-Illapel"},"16200220","2022-04-19T10:06:43",31,15,16]
[{"$nulls":23},3,"5",2022,"105488",{"$f":"IFERROR(VLOOKUP(Tabla_SERIED_12_5[[#This Row],[IdEstablecimiento]],'[1]Establecimiento 2023'!$A$1:$E$183,3,FALSE),0)","v":"105488-Posta de Salud Rural Espíritu Santo"},{"$f":"IFERROR(VLOOKUP(Tabla_SERIED_12_5[[#This Row],[IdEstablecimiento]],'[1]Establecimiento 2023'!$A$1:$E$183,5,FALSE),0)","v":"04202-Canela"},"15010200","2022-04-19T10:06:56",2,{"$nulls":6},2]
[{"$nulls":23},3,"5",2022,"105454",{"$f":"IFERROR(VLOOKUP(Tabla_SERIED_12_5[[#This Row],[IdEstablecimiento]],'[1]Establecimiento 2023'!$A$1:$E$183,3,FALSE),0)","v":"105454-Posta de Salud Rural Cunlagua"},{"$f":"IFERROR(VLOOKUP(Tabla_SERIED_12_5[[#This Row],[IdEstablecimiento]],'[1]Establecimiento 2023'!$A$1:$E$183,5,FALSE),0)","v":"04204-Salamanca"},"16090300","2022-04-19T09:49:04",40,40]
[{"$nulls":23},3,"5",2022,"105484",{"$f":"IFERROR(VLOOKUP(Tabla_SERIED_12_5[[#This Row],[IdEstablecimiento]],'[1]Establecimiento 2023'!$A$1:$E$183,3,FALSE),0)","v":"105484-Posta de Salud Rural Huentelauquén"},{"$f":"IFERROR(VLOOKUP(Tabla_SERIED_12_5[[#This Row],[IdEstablecimiento]],'[1]Establecimiento 2023'!$A$1:$E$183,5,FALSE),0)","v":"04202-Canela"},"15080008","2022-04-19T10:06:03",1,{"$nulls":7},1]
[{"$nulls":23},3,"5",2022,"105484",{"$f":"IFERROR(VLOOKUP(Tabla_SERIED_12_5[[#This Row],[IdEstablecimiento]],'[1]Establecimiento 2023'!$A$1:$E$183,3,FALSE),0)","v":"105484-Posta de Salud Rural Huentelauquén"},{"$f":"IFERROR(VLOOKUP(Tabla_SERIED_12_5[[#This Row],[IdEstablecimiento]],'[1]Establecimiento 2023'!$A$1:$E$183,5,FALSE),0)","v":"04202-Canela"},"15050100","2022-04-19T10:06:03",10,3,7,{"$nulls":4},2,4,3,1]
[{"$nulls":23},3,"5",2022,"105484",{"$f":"IFERROR(VLOOKUP(Tabla_SERIED_12_5[[#This Row],[IdEstablecimiento]],'[1]Establecimiento 2023'!$A$1:$E$183,3,FALSE),0)","v":"105484-Posta de Salud Rural Huentelauquén"},{"$f":"IFERROR(VLOOKUP(Tabla_SERIED_12_5[[#This Row],[IdEstablecimiento]],'[1]Establecimiento 2023'!$A$1:$E$183,5,FALSE),0)","v":"04202-Canela"},"16090300","2022-04-19T10:06:03",48,48]
[{"$nulls":23},3,"5",2022,"105484",{"$f":"IFERROR(VLOOKUP(Tabla_SERIED_12_5[[#This Row],[IdEstablecimiento]],'[1]Establecimiento 2023'!$A$1:$E$183,3,FALSE),0)","v":"105484-Posta de Salud Rural Huentelauquén"},{"$f":"IFERROR(VLOOKUP(Tabla_SERIED_12_5[[#This Row],[IdEstablecimiento]],'[1]Establecimiento 2023'!$A$1:$E$183,5,FALSE),0)","v":"04202-Canela"},"16100300","2022-04-19T10:06:03",48,17,31,0,34]
[{"$nulls":23},2,"5",2022,"105326",{"$f":"IFERROR(VLOOKUP(Tabla_SERIED_12_5[[#This Row],[IdEstablecimiento]],'[1]Establecimiento 2023'!$A$1:$E$183,3,FALSE),0)","v":"105326-Centro de Salud Familiar Villa San Rafael de Rozas"},{"$f":"IFERROR(VLOOKUP(Tabla_SERIED_12_5[[#This Row],[IdEstablecimiento]],'[1]Establecimiento 2023'!$A$1:$E$183,5,FALSE),0)","v":"04201-Illapel"},"15010300","2022-03-17T09:32:20",2,{"$nulls":3},2]
[{"$nulls":23},2,"5",2022,"105326",{"$f":"IFERROR(VLOOKUP(Tabla_SERIED_12_5[[#This Row],[IdEstablecimiento]],'[1]Establecimiento 2023'!$A$1:$E$183,3,FALSE),0)","v":"105326-Centro de Salud Familiar Villa San Rafael de Rozas"},{"$f":"IFERROR(VLOOKUP(Tabla_SERIED_12_5[[#This Row],[IdEstablecimiento]],'[1]Establecimiento 2023'!$A$1:$E$183,5,FALSE),0)","v":"04201-Illapel"},"15010400","2022-03-17T09:32:20",8,{"$nulls":4},2,2,4]
[{"$nulls":23},2,"5",2022,"105326",{"$f":"IFERROR(VLOOKUP(Tabla_SERIED_12_5[[#This Row],[IdEstablecimiento]],'[1]Establecimiento 2023'!$A$1:$E$183,3,FALSE),0)","v":"105326-Centro de Salud Familiar Villa San Rafael de Rozas"},{"$f":"IFERROR(VLOOKUP(Tabla_SERIED_12_5[[#This Row],[IdEstablecimiento]],'[1]Establecimiento 2023'!$A$1:$E$183,5,FALSE),0)","v":"04201-Illapel"},"15010500","2022-03-17T09:32:20",10,{"$nulls":3},2,2,2,4]
[{"$nulls":23},2,"5",2022,"105326",{"$f":"IFERROR(VLOOKUP(Tabla_SERIED_12_5[[#This Row],[IdEstablecimiento]],'[1]Establecimiento 2023'!$A$1:$E$183,3,FALSE),0)","v":"105326-Centro de Salud Familiar Villa San Rafael de Rozas"},{"$f":"IFERROR(VLOOKUP(Tabla_SERIED_12_5[[#This Row],[IdEstablecimiento]],'[1]Establecimiento 2023'!$A$1:$E$183,5,FALSE),0)","v":"04201-Illapel"},"15080009","2022-03-17T09:32:20",3,{"$nulls":8},3]
[{"$nulls":23},2,"5",2022,"105326",{"$f":"IFERROR(VLOOKUP(Tabla_SERIED_12_5[[#This Row],[IdEstablecimiento]],'[1]Establecimiento 2023'!$A$1:$E$183,3,FALSE),0)","v":"105326-Centro de Salud Familiar Villa San Rafael de Rozas"},{"$f":"IFERROR(VLOOKUP(Tabla_SERIED_12_5[[#This Row],[IdEstablecimiento]],'[1]Establecimiento 2023'!$A$1:$E$183,5,FALSE),0)","v":"04201-Illapel"},"15030100","2022-03-17T09:32:20",4.8,null,4.8]
[{"$nulls":23},2,"5",2022,"105326",{"$f":"IFERROR(VLOOKUP(Tabla_SERIED_12_5[[#This Row],[IdEstablecimiento]],'[1]Establecimiento 2023'!$A$1:$E$183,3,FALSE),0)","v":"105326-Centro de Salud Familiar Villa San Rafael de Rozas"},{"$f":"IFERROR(VLOOKUP(Tabla_SERIED_12_5[[#This Row],[IdEstablecimiento]],'[1]Establecimiento 2023'!$A$1:$E$183,5,FALSE),0)","v":"04201-Illapel"},"15030200","2022-03-17T09:32:20",5.4,null,null,5.4]
[{"$nulls":23},2,"5",2022,"105326",{"$f":"IFERROR(VLOOKUP(Tabla_SERIED_12_5[[#This Row],[IdEstablecimiento]],'[1]Establecimiento 2023'!$A$1:$E$183,3,FALSE),0)","v":"105326-Centro de Salud Familiar Villa San Rafael de Rozas"},{"$f":"IFERROR(VLOOKUP(Tabla_SERIED_12_5[[#This Row],[IdEstablecimiento]],'[1]Establecimiento 2023'!$A$1:$E$183,5,FALSE),0)","v":"04201-Illapel"},"15050100","2022-03-17T09:32:20",136,58,78,1,1,7,20,14,30,32,17,null,6,null,8]
[{"$nulls":23},6,"5",2022,"105498",{"$f":"IFERROR(VLOOKUP(Tabla_SERIED_12_5[[#This Row],[IdEstablecimiento]],'[1]Establecimiento 2023'!$A$1:$E$183,3,FALSE),0)","v":"105498-Posta de Salud Rural Quebrada Linares"},{"$f":"IFERROR(VLOOKUP(Tabla_SERIED_12_5[[#This Row],[IdEstablecimiento]],'[1]Establecimiento 2023'!$A$1:$E$183,5,FALSE),0)","v":"04202-Canela"},"15010200","2022-07-14T14:35:05",2,{"$nulls":4},2]
[{"$nulls":23},6,"5",2022,"105498",{"$f":"IFERROR(VLOOKUP(Tabla_SERIED_12_5[[#This Row],[IdEstablecimiento]],'[1]Establecimiento 2023'!$A$1:$E$183,3,FALSE),0)","v":"105498-Posta de Salud Rural Quebrada Linares"},{"$f":"IFERROR(VLOOKUP(Tabla_SERIED_12_5[[#This Row],[IdEstablecimiento]],'[1]Establecimiento 2023'!$A$1:$E$183,5,FALSE),0)","v":"04202-Canela"},"15050100","2022-07-14T14:35:05",1,1,{"$nulls":5},1]
[{"$nulls":23},6,"5",2022,"105498",{"$f":"IFERROR(VLOOKUP(Tabla_SERIED_12_5[[#This Row],[IdEstablecimiento]],'[1]Establecimiento 2023'!$A$1:$E$183,3,FALSE),0)","v":"105498-Posta de Salud Rural Quebrada Linares"},{"$f":"IFERROR(VLOOKUP(Tabla_SERIED_12_5[[#This Row],[IdEstablecimiento]],'[1]Establecimiento 2023'!$A$1:$E$183,5,FALSE),0)","v":"04202-Canela"},"16090300","2022-07-14T14:35:05",19,19]
[{"$nulls":23},6,"5",2022,"105498",{"$f":"IFERROR(VLOOKUP(Tabla_SERIED_12_5[[#This Row],[IdEstablecimiento]],'[1]Establecimiento 2023'!$A$1:$E$183,3,FALSE),0)","v":"105498-Posta de Salud Rural Quebrada Linares"},{"$f":"IFERROR(VLOOKUP(Tabla_SERIED_12_5[[#This Row],[IdEstablecimiento]],'[1]Establecimiento 2023'!$A$1:$E$183,5,FALSE),0)","v":"04202-Canela"},"16200210","2022-07-14T14:35:05",5,5]
[{"$nulls":23},6,"5",2022,"105498",{"$f":"IFERROR(VLOOKUP(Tabla_SERIED_12_5[[#This Row],[IdEstablecimiento]],'[1]Establecimiento 2023'!$A$1:$E$183,3,FALSE),0)","v":"105498-Posta de Salud Rural Quebrada Linares"},{"$f":"IFERROR(VLOOKUP(Tabla_SERIED_12_5[[#This Row],[IdEstablecimiento]],'[1]Establecimiento 2023'!$A$1:$E$183,5,FALSE),0)","v":"04202-Canela"},"16090500","2022-07-14T14:35:05",1,1]
[{"$nulls":23},6,"5",2022,"105498",{"$f":"IFERROR(VLOOKUP(Tabla_SERIED_12_5[[#This Row],[IdEstablecimiento]],'[1]Establecimiento 2023'!$A$1:$E$183,3,FALSE),0)","v":"105498-Posta de Salud Rural Quebrada Linares"},{"$f":"IFERROR(VLOOKUP(Tabla_SERIED_12_5[[#This Row],[IdEstablecimiento]],'[1]Establecimiento 2023'!$A$1:$E$183,5,FALSE),0)","v":"04202-Canela"},"16100300","2022-07-14T14:35:05",19,11,8]
[{"$nulls":23},6,"5",2022,"105498",{"$f":"IFERROR(VLOOKUP(Tabla_SERIED_12_5[[#This Row],[IdEstablecimiento]],'[1]Establecimiento 2023'!$A$1:$E$183,3,FALSE),0)","v":"105498-Posta de Salud Rural Quebrada Linares"},{"$f":"IFERROR(VLOOKUP(Tabla_SERIED_12_5[[#This Row],[IdEstablecimiento]],'[1]Establecimiento 2023'!$A$1:$E$183,5,FALSE),0)","v":"04202-Canela"},"16200220","2022-07-14T14:35:05",5,3,2]
[{"$nulls":23},6,"5",2022,"105498",{"$f":"IFERROR(VLOOKUP(Tabla_SERIED_12_5[[#This Row],[IdEstablecimiento]],'[1]Establecimiento 2023'!$A$1:$E$183,3,FALSE),0)","v":"105498-Posta de Salud Rural Quebrada Linares"},{"$f":"IFERROR(VLOOKUP(Tabla_SERIED_12_5[[#This Row],[IdEstablecimiento]],'[1]Establecimiento 2023'!$A$1:$E$183,5,FALSE),0)","v":"04202-Canela"},"16100600","2022-07-14T14:35:05",1,1]
[{"$nulls":23},7,"5",2022,"105455",{"$f":"IFERROR(VLOOKUP(Tabla_SERIED_12_5[[#This Row],[IdEstablecimiento]],'[1]Establecimiento 2023'!$A$1:$E$183,3,FALSE),0)","v":"105455-CESFAM Valle Alto"},{"$f":"IFERROR(VLOOKUP(Tabla_SERIED_12_5[[#This Row],[IdEstablecimiento]],'[1]Establecimiento 2023'!$A$1:$E$183,5,FALSE),0)","v":"04204-Salamanca"},"15010400","2022-08-22T06:08:07",2,{"$nulls":6},2]
[{"$nulls":23},7,"5",2022,"105460",{"$f":"IFERROR(VLOOKUP(Tabla_SERIED_12_5[[#This Row],[IdEstablecimiento]],'[1]Establecimiento 2023'!$A$1:$E$183,3,FALSE),0)","v":"105460-Centro Comunitario de Salud Familiar Cogotí 18"},{"$f":"IFERROR(VLOOKUP(Tabla_SERIED_12_5[[#This Row],[IdEstablecimiento]],'[1]Establecimiento 2023'!$A$1:$E$183,5,FALSE),0)","v":"04302-Combarbalá"},"16200220","2022-08-22T06:12:45",11,4,7,1,3]
[{"$nulls":23},7,"5",2022,"105460",{"$f":"IFERROR(VLOOKUP(Tabla_SERIED_12_5[[#This Row],[IdEstablecimiento]],'[1]Establecimiento 2023'!$A$1:$E$183,3,FALSE),0)","v":"105460-Centro Comunitario de Salud Familiar Cogotí 18"},{"$f":"IFERROR(VLOOKUP(Tabla_SERIED_12_5[[#This Row],[IdEstablecimiento]],'[1]Establecimiento 2023'!$A$1:$E$183,5,FALSE),0)","v":"04302-Combarbalá"},"16100600","2022-08-22T06:12:45",2,1,1]
[{"$nulls":23},7,"5",2022,"105461",{"$f":"IFERROR(VLOOKUP(Tabla_SERIED_12_5[[#This Row],[IdEstablecimiento]],'[1]Establecimiento 2023'!$A$1:$E$183,3,FALSE),0)","v":"105461-Posta de Salud Rural El Huacho"},{"$f":"IFERROR(VLOOKUP(Tabla_SERIED_12_5[[#This Row],[IdEstablecimiento]],'[1]Establecimiento 2023'!$A$1:$E$183,5,FALSE),0)","v":"04302-Combarbalá"},"15010200","2022-08-22T06:22:13",4,{"$nulls":4},2,2]
[{"$nulls":23},7,"5",2022,"105461",{"$f":"IFERROR(VLOOKUP(Tabla_SERIED_12_5[[#This Row],[IdEstablecimiento]],'[1]Establecimiento 2023'!$A$1:$E$183,3,FALSE),0)","v":"105461-Posta de Salud Rural El Huacho"},{"$f":"IFERROR(VLOOKUP(Tabla_SERIED_12_5[[#This Row],[IdEstablecimiento]],'[1]Establecimiento 2023'!$A$1:$E$183,5,FALSE),0)","v":"04302-Combarbalá"},"15050100","2022-08-22T06:22:13",2,1,1,{"$nulls":4},1,1]
[{"$nulls":23},7,"5",2022,"105461",{"$f":"IFERROR(VLOOKUP(Tabla_SERIED_12_5[[#This Row],[IdEstablecimiento]],'[1]Establecimiento 2023'!$A$1:$E$183,3,FALSE),0)","v":"105461-Posta de Salud Rural El Huacho"},{"$f":"IFERROR(VLOOKUP(Tabla_SERIED_12_5[[#This Row],[IdEstablecimiento]],'[1]Establecimiento 2023'!$A$1:$E$183,5,FALSE),0)","v":"04302-Combarbalá"},"16090300","2022-08-22T06:22:13",56,50]
[{"$nulls":23},7,"5",2022,"105723",{"$f":"IFERROR(VLOOKUP(Tabla_SERIED_12_5[[#This Row],[IdEstablecimiento]],'[1]Establecimiento 2023'!$A$1:$E$183,3,FALSE),0)","v":"105723-Centro Comunitario de Salud Familiar Limarí"},{"$f":"IFERROR(VLOOKUP(Tabla_SERIED_12_5[[#This Row],[IdEstablecimiento]],'[1]Establecimiento 2023'!$A$1:$E$183,5,FALSE),0)","v":"04301-Ovalle"},"16100300","2022-08-22T06:47:43",219,80,139,0,54]
[{"$nulls":23},7,"5",2022,"105723",{"$f":"IFERROR(VLOOKUP(Tabla_SERIED_12_5[[#This Row],[IdEstablecimiento]],'[1]Establecimiento 2023'!$A$1:$E$183,3,FALSE),0)","v":"105723-Centro Comunitario de Salud Familiar Limarí"},{"$f":"IFERROR(VLOOKUP(Tabla_SERIED_12_5[[#This Row],[IdEstablecimiento]],'[1]Establecimiento 2023'!$A$1:$E$183,5,FALSE),0)","v":"04301-Ovalle"},"16200220","2022-08-22T06:47:43",3,1,2]
[{"$nulls":23},7,"5",2022,"105723",{"$f":"IFERROR(VLOOKUP(Tabla_SERIED_12_5[[#This Row],[IdEstablecimiento]],'[1]Establecimiento 2023'!$A$1:$E$183,3,FALSE),0)","v":"105723-Centro Comunitario de Salud Familiar Limarí"},{"$f":"IFERROR(VLOOKUP(Tabla_SERIED_12_5[[#This Row],[IdEstablecimiento]],'[1]Establecimiento 2023'!$A$1:$E$183,5,FALSE),0)","v":"04301-Ovalle"},"16200100","2022-08-22T06:47:43",26,17,9,0,5]
[{"$nulls":23},7,"5",2022,"200258",{"$f":"IFERROR(VLOOKUP(Tabla_SERIED_12_5[[#This Row],[IdEstablecimiento]],'[1]Establecimiento 2023'!$A$1:$E$183,3,FALSE),0)","v":"200258-Centro Comunitario de Salud Familiar Los Copihues"},{"$f":"IFERROR(VLOOKUP(Tabla_SERIED_12_5[[#This Row],[IdEstablecimiento]],'[1]Establecimiento 2023'!$A$1:$E$183,5,FALSE),0)","v":"04301-Ovalle"},"15010100","2022-08-22T06:48:02",9,{"$nulls":3},8,{"$nulls":3},1]
[{"$nulls":23},7,"5",2022,"200258",{"$f":"IFERROR(VLOOKUP(Tabla_SERIED_12_5[[#This Row],[IdEstablecimiento]],'[1]Establecimiento 2023'!$A$1:$E$183,3,FALSE),0)","v":"200258-Centro Comunitario de Salud Familiar Los Copihues"},{"$f":"IFERROR(VLOOKUP(Tabla_SERIED_12_5[[#This Row],[IdEstablecimiento]],'[1]Establecimiento 2023'!$A$1:$E$183,5,FALSE),0)","v":"04301-Ovalle"},"15010200","2022-08-22T06:48:02",91,{"$nulls":4},20,28,43]
[{"$nulls":23},7,"5",2022,"200258",{"$f":"IFERROR(VLOOKUP(Tabla_SERIED_12_5[[#This Row],[IdEstablecimiento]],'[1]Establecimiento 2023'!$A$1:$E$183,3,FALSE),0)","v":"200258-Centro Comunitario de Salud Familiar Los Copihues"},{"$f":"IFERROR(VLOOKUP(Tabla_SERIED_12_5[[#This Row],[IdEstablecimiento]],'[1]Establecimiento 2023'!$A$1:$E$183,5,FALSE),0)","v":"04301-Ovalle"},"15080008","2022-08-22T06:48:02",17,{"$nulls":7},11,null,4,1,1]
[{"$nulls":23},7,"5",2022,"200258",{"$f":"IFERROR(VLOOKUP(Tabla_SERIED_12_5[[#This Row],[IdEstablecimiento]],'[1]Establecimiento 2023'!$A$1:$E$183,3,FALSE),0)","v":"200258-Centro Comunitario de Salud Familiar Los Copihues"},{"$f":"IFERROR(VLOOKUP(Tabla_SERIED_12_5[[#This Row],[IdEstablecimiento]],'[1]Establecimiento 2023'!$A$1:$E$183,5,FALSE),0)","v":"04301-Ovalle"},"15900010","2022-08-22T06:48:02",18.6,0,9.9,8.7]
[{"$nulls":23},7,"5",2022,"200258",{"$f":"IFERROR(VLOOKUP(Tabla_SERIED_12_5[[#This Row],[IdEstablecimiento]],'[1]Establecimiento 2023'!$A$1:$E$183,3,FALSE),0)","v":"200258-Centro Comunitario de Salud Familiar Los Copihues"},{"$f":"IFERROR(VLOOKUP(Tabla_SERIED_12_5[[#This Row],[IdEstablecimiento]],'[1]Establecimiento 2023'!$A$1:$E$183,5,FALSE),0)","v":"04301-Ovalle"},"15010400","2022-08-22T06:48:02",2,{"$nulls":4},2]
[{"$nulls":23},7,"5",2022,"200258",{"$f":"IFERROR(VLOOKUP(Tabla_SERIED_12_5[[#This Row],[IdEstablecimiento]],'[1]Establecimiento 2023'!$A$1:$E$183,3,FALSE),0)","v":"200258-Centro Comunitario de Salud Familiar Los Copihues"},{"$f":"IFERROR(VLOOKUP(Tabla_SERIED_12_5[[#This Row],[IdEstablecimiento]],'[1]Establecimiento 2023'!$A$1:$E$183,5,FALSE),0)","v":"04301-Ovalle"},"15010500","2022-08-22T06:48:02",2,{"$nulls":4},2]
[{"$nulls":23},7,"5",2022,"200258",{"$f":"IFERROR(VLOOKUP(Tabla_SERIED_12_5[[#This Row],[IdEstablecimiento]],'[1]Establecimiento 2023'!$A$1:$E$183,3,FALSE),0)","v":"200258-Centro Comunitario de Salud Familiar Los Copihues"},{"$f":"IFERROR(VLOOKUP(Tabla_SERIED_12_5[[#This Row],[IdEstablecimiento]],'[1]Establecimiento 2023'!$A$1:$E$183,5,FALSE),0)","v":"04301-Ovalle"},"15900030","2022-08-22T06:48:02",2.8,{"$nulls":3},2.8]
[{"$nulls":23},7,"5",2022,"200258",{"$f":"IFERROR(VLOOKUP(Tabla_SERIED_12_5[[#This Row],[IdEstablecimiento]],'[1]Establecimiento 2023'!$A$1:$E$183,3,FALSE),0)","v":"200258-Centro Comunitario de Salud Familiar Los Copihues"},{"$f":"IFERROR(VLOOKUP(Tabla_SERIED_12_5[[#This Row],[IdEstablecimiento]],'[1]Establecimiento 2023'!$A$1:$E$183,5,FALSE),0)","v":"04301-Ovalle"},"15050100","2022-08-22T06:48:02",72,30,42,null,3,3,4,10,14,22,12,null,2,1,1]
[{"$nulls":23},7,"5",2022,"200258",{"$f":"IFERROR(VLOOKUP(Tabla_SERIED_12_5[[#This Row],[IdEstablecimiento]],'[1]Establecimiento 2023'!$A$1:$E$183,3,FALSE),0)","v":"200258-Centro Comunitario de Salud Familiar Los Copihues"},{"$f":"IFERROR(VLOOKUP(Tabla_SERIED_12_5[[#This Row],[IdEstablecimiento]],'[1]Establecimiento 2023'!$A$1:$E$183,5,FALSE),0)","v":"04301-Ovalle"},"15050200","2022-08-22T06:48:02",1,1,0,{"$nulls":4},1]
[{"$nulls":23},7,"5",2022,"200258",{"$f":"IFERROR(VLOOKUP(Tabla_SERIED_12_5[[#This Row],[IdEstablecimiento]],'[1]Establecimiento 2023'!$A$1:$E$183,3,FALSE),0)","v":"200258-Centro Comunitario de Salud Familiar Los Copihues"},{"$f":"IFERROR(VLOOKUP(Tabla_SERIED_12_5[[#This Row],[IdEstablecimiento]],'[1]Establecimiento 2023'!$A$1:$E$183,5,FALSE),0)","v":"04301-Ovalle"},"15900050","2022-08-22T06:48:02",1,null,1,{"$nulls":3},1]
[{"$nulls":23},7,"5",2022,"200258",{"$f":"IFERROR(VLOOKUP(Tabla_SERIED_12_5[[#This Row],[IdEstablecimiento]],'[1]Establecimiento 2023'!$A$1:$E$183,3,FALSE),0)","v":"200258-Centro Comunitario de Salud Familiar Los Copihues"},{"$f":"IFERROR(VLOOKUP(Tabla_SERIED_12_5[[#This Row],[IdEstablecimiento]],'[1]Establecimiento 2023'!$A$1:$E$183,5,FALSE),0)","v":"04301-Ovalle"},"15020200","2022-08-22T06:48:02",2,{"$nulls":4},2]
[{"$nulls":23},7,"5",2022,"200258",{"$f":"IFERROR(VLOOKUP(Tabla_SERIED_12_5[[#This Row],[IdEstablecimiento]],'[1]Establecimiento 2023'!$A$1:$E$183,3,FALSE),0)","v":"200258-Centro Comunitario de Salud Familiar Los Copihues"},{"$f":"IFERROR(VLOOKUP(Tabla_SERIED_12_5[[#This Row],[IdEstablecimiento]],'[1]Establecimiento 2023'!$A$1:$E$183,5,FALSE),0)","v":"04301-Ovalle"},"15901300","2022-08-22T06:48:02",8,null,3.2,4.8]
[{"$nulls":23},7,"5",2022,"200258",{"$f":"IFERROR(VLOOKUP(Tabla_SERIED_12_5[[#This Row],[IdEstablecimiento]],'[1]Establecimiento 2023'!$A$1:$E$183,3,FALSE),0)","v":"200258-Centro Comunitario de Salud Familiar Los Copihues"},{"$f":"IFERROR(VLOOKUP(Tabla_SERIED_12_5[[#This Row],[IdEstablecimiento]],'[1]Establecimiento 2023'!$A$1:$E$183,5,FALSE),0)","v":"04301-Ovalle"},"15901400","2022-08-22T06:48:02",2,1,1,null,1,1]
[{"$nulls":23},7,"5",2022,"200258",{"$f":"IFERROR(VLOOKUP(Tabla_SERIED_12_5[[#This Row],[IdEstablecimiento]],'[1]Establecimiento 2023'!$A$1:$E$183,3,FALSE),0)","v":"200258-Centro Comunitario de Salud Familiar Los Copihues"},{"$f":"IFERROR(VLOOKUP(Tabla_SERIED_12_5[[#This Row],[IdEstablecimiento]],'[1]Establecimiento 2023'!$A$1:$E$183,5,FALSE),0)","v":"04301-Ovalle"},"16090300","2022-08-22T06:48:02",159,116]
[{"$nulls":23},2,"5",2022,"105306",{"$f":"IFERROR(VLOOKUP(Tabla_SERIED_12_5[[#This Row],[IdEstablecimiento]],'[1]Establecimiento 2023'!$A$1:$E$183,3,FALSE),0)","v":"105306-Centro de Salud Familiar Paihuano"},{"$f":"IFERROR(VLOOKUP(Tabla_SERIED_12_5[[#This Row],[IdEstablecimiento]],'[1]Establecimiento 2023'!$A$1:$E$183,5,FALSE),0)","v":"04105-Paiguano"},"16090300","2022-03-17T09:27:56",80,80]
[{"$nulls":23},2,"5",2022,"105306",{"$f":"IFERROR(VLOOKUP(Tabla_SERIED_12_5[[#This Row],[IdEstablecimiento]],'[1]Establecimiento 2023'!$A$1:$E$183,3,FALSE),0)","v":"105306-Centro de Salud Familiar Paihuano"},{"$f":"IFERROR(VLOOKUP(Tabla_SERIED_12_5[[#This Row],[IdEstablecimiento]],'[1]Establecimiento 2023'!$A$1:$E$183,5,FALSE),0)","v":"04105-Paiguano"},"16200210","2022-03-17T09:27:56",2,2]
[{"$nulls":23},2,"5",2022,"105306",{"$f":"IFERROR(VLOOKUP(Tabla_SERIED_12_5[[#This Row],[IdEstablecimiento]],'[1]Establecimiento 2023'!$A$1:$E$183,3,FALSE),0)","v":"105306-Centro de Salud Familiar Paihuano"},{"$f":"IFERROR(VLOOKUP(Tabla_SERIED_12_5[[#This Row],[IdEstablecimiento]],'[1]Establecimiento 2023'!$A$1:$E$183,5,FALSE),0)","v":"04105-Paiguano"},"16100300","2022-03-17T09:27:56",80,26,54,null,6]
[{"$nulls":23},2,"5",2022,"105306",{"$f":"IFERROR(VLOOKUP(Tabla_SERIED_12_5[[#This Row],[IdEstablecimiento]],'[1]Establecimiento 2023'!$A$1:$E$183,3,FALSE),0)","v":"105306-Centro de Salud Familiar Paihuano"},{"$f":"IFERROR(VLOOKUP(Tabla_SERIED_12_5[[#This Row],[IdEstablecimiento]],'[1]Establecimiento 2023'!$A$1:$E$183,5,FALSE),0)","v":"04105-Paiguano"},"16200220","2022-03-17T09:27:56",2,null,2]
[{"$nulls":23},2,"5",2022,"105307",{"$f":"IFERROR(VLOOKUP(Tabla_SERIED_12_5[[#This Row],[IdEstablecimiento]],'[1]Establecimiento 2023'!$A$1:$E$183,3,FALSE),0)","v":"105307-Centro de Salud Familiar Monte Patria"},{"$f":"IFERROR(VLOOKUP(Tabla_SERIED_12_5[[#This Row],[IdEstablecimiento]],'[1]Establecimiento 2023'!$A$1:$E$183,5,FALSE),0)","v":"04303-Monte Patria"},"15010100","2022-03-17T09:28:11",58,null,null,6,52]
[{"$nulls":23},2,"5",2022,"105307",{"$f":"IFERROR(VLOOKUP(Tabla_SERIED_12_5[[#This Row],[IdEstablecimiento]],'[1]Establecimiento 2023'!$A$1:$E$183,3,FALSE),0)","v":"105307-Centro de Salud Familiar Monte Patria"},{"$f":"IFERROR(VLOOKUP(Tabla_SERIED_12_5[[#This Row],[IdEstablecimiento]],'[1]Establecimiento 2023'!$A$1:$E$183,5,FALSE),0)","v":"04303-Monte Patria"},"15010200","2022-03-17T09:28:11",214,{"$nulls":4},50,96,68]
[{"$nulls":23},2,"5",2022,"105307",{"$f":"IFERROR(VLOOKUP(Tabla_SERIED_12_5[[#This Row],[IdEstablecimiento]],'[1]Establecimiento 2023'!$A$1:$E$183,3,FALSE),0)","v":"105307-Centro de Salud Familiar Monte Patria"},{"$f":"IFERROR(VLOOKUP(Tabla_SERIED_12_5[[#This Row],[IdEstablecimiento]],'[1]Establecimiento 2023'!$A$1:$E$183,5,FALSE),0)","v":"04303-Monte Patria"},"15080008","2022-03-17T09:28:11",86,{"$nulls":7},35,null,43,2,6]
[{"$nulls":23},2,"5",2022,"105307",{"$f":"IFERROR(VLOOKUP(Tabla_SERIED_12_5[[#This Row],[IdEstablecimiento]],'[1]Establecimiento 2023'!$A$1:$E$183,3,FALSE),0)","v":"105307-Centro de Salud Familiar Monte Patria"},{"$f":"IFERROR(VLOOKUP(Tabla_SERIED_12_5[[#This Row],[IdEstablecimiento]],'[1]Establecimiento 2023'!$A$1:$E$183,5,FALSE),0)","v":"04303-Monte Patria"},"15900010","2022-03-17T09:28:11",32,null,5.6,26.4]
[{"$nulls":23},2,"5",2022,"200499",{"$f":"IFERROR(VLOOKUP(Tabla_SERIED_12_5[[#This Row],[IdEstablecimiento]],'[1]Establecimiento 2023'!$A$1:$E$183,3,FALSE),0)","v":"200499-Centro de Salud Familiar Rural Pan de Azúcar"},{"$f":"IFERROR(VLOOKUP(Tabla_SERIED_12_5[[#This Row],[IdEstablecimiento]],'[1]Establecimiento 2023'!$A$1:$E$183,5,FALSE),0)","v":"04102-Coquimbo"},"15080008","2022-03-17T10:09:21",76,{"$nulls":7},49,null,24,1,2]
[{"$nulls":23},2,"5",2022,"200499",{"$f":"IFERROR(VLOOKUP(Tabla_SERIED_12_5[[#This Row],[IdEstablecimiento]],'[1]Establecimiento 2023'!$A$1:$E$183,3,FALSE),0)","v":"200499-Centro de Salud Familiar Rural Pan de Azúcar"},{"$f":"IFERROR(VLOOKUP(Tabla_SERIED_12_5[[#This Row],[IdEstablecimiento]],'[1]Establecimiento 2023'!$A$1:$E$183,5,FALSE),0)","v":"04102-Coquimbo"},"15900010","2022-03-17T10:09:21",44,null,15.2,28.8]
[{"$nulls":23},2,"5",2022,"200499",{"$f":"IFERROR(VLOOKUP(Tabla_SERIED_12_5[[#This Row],[IdEstablecimiento]],'[1]Establecimiento 2023'!$A$1:$E$183,3,FALSE),0)","v":"200499-Centro de Salud Familiar Rural Pan de Azúcar"},{"$f":"IFERROR(VLOOKUP(Tabla_SERIED_12_5[[#This Row],[IdEstablecimiento]],'[1]Establecimiento 2023'!$A$1:$E$183,5,FALSE),0)","v":"04102-Coquimbo"},"15010500","2022-03-17T10:09:21",6,{"$nulls":3},2,null,4]
[{"$nulls":23},2,"5",2022,"200499",{"$f":"IFERROR(VLOOKUP(Tabla_SERIED_12_5[[#This Row],[IdEstablecimiento]],'[1]Establecimiento 2023'!$A$1:$E$183,3,FALSE),0)","v":"200499-Centro de Salud Familiar Rural Pan de Azúcar"},{"$f":"IFERROR(VLOOKUP(Tabla_SERIED_12_5[[#This Row],[IdEstablecimiento]],'[1]Establecimiento 2023'!$A$1:$E$183,5,FALSE),0)","v":"04102-Coquimbo"},"15030100","2022-03-17T10:09:21",3.2,null,null,3.2]
[{"$nulls":23},1,"5",2022,"105400",{"$f":"IFERROR(VLOOKUP(Tabla_SERIED_12_5[[#This Row],[IdEstablecimiento]],'[1]Establecimiento 2023'!$A$1:$E$183,3,FALSE),0)","v":"105400-Posta de Salud Rural Algarrobito"},{"$f":"IFERROR(VLOOKUP(Tabla_SERIED_12_5[[#This Row],[IdEstablecimiento]],'[1]Establecimiento 2023'!$A$1:$E$183,5,FALSE),0)","v":"04101-La Serena"},"15050100","2022-02-16T10:52:44",48,19,29,null,1,4,3,5,18,13,null,null,4]
[{"$nulls":23},1,"5",2022,"105400",{"$f":"IFERROR(VLOOKUP(Tabla_SERIED_12_5[[#This Row],[IdEstablecimiento]],'[1]Establecimiento 2023'!$A$1:$E$183,3,FALSE),0)","v":"105400-Posta de Salud Rural Algarrobito"},{"$f":"IFERROR(VLOOKUP(Tabla_SERIED_12_5[[#This Row],[IdEstablecimiento]],'[1]Establecimiento 2023'!$A$1:$E$183,5,FALSE),0)","v":"04101-La Serena"},"15050200","2022-02-16T10:52:44",4,1,3,{"$nulls":5},1,1,null,2]
[{"$nulls":23},1,"5",2022,"105400",{"$f":"IFERROR(VLOOKUP(Tabla_SERIED_12_5[[#This Row],[IdEstablecimiento]],'[1]Establecimiento 2023'!$A$1:$E$183,3,FALSE),0)","v":"105400-Posta de Salud Rural Algarrobito"},{"$f":"IFERROR(VLOOKUP(Tabla_SERIED_12_5[[#This Row],[IdEstablecimiento]],'[1]Establecimiento 2023'!$A$1:$E$183,5,FALSE),0)","v":"04101-La Serena"},"16090300","2022-02-16T10:52:44",183,183]
[{"$nulls":23},1,"5",2022,"105400",{"$f":"IFERROR(VLOOKUP(Tabla_SERIED_12_5[[#This Row],[IdEstablecimiento]],'[1]Establecimiento 2023'!$A$1:$E$183,3,FALSE),0)","v":"105400-Posta de Salud Rural Algarrobito"},{"$f":"IFERROR(VLOOKUP(Tabla_SERIED_12_5[[#This Row],[IdEstablecimiento]],'[1]Establecimiento 2023'!$A$1:$E$183,5,FALSE),0)","v":"04101-La Serena"},"16100300","2022-02-16T10:52:44",183,66,117]
[{"$nulls":23},1,"5",2022,"105413",{"$f":"IFERROR(VLOOKUP(Tabla_SERIED_12_5[[#This Row],[IdEstablecimiento]],'[1]Establecimiento 2023'!$A$1:$E$183,3,FALSE),0)","v":"105413-Posta de Salud Rural Samo Alto"},{"$f":"IFERROR(VLOOKUP(Tabla_SERIED_12_5[[#This Row],[IdEstablecimiento]],'[1]Establecimiento 2023'!$A$1:$E$183,5,FALSE),0)","v":"04305-Río Hurtado"},"16090300","2022-02-16T10:55:17",72,72]
[{"$nulls":23},5,"5",2022,"105491",{"$f":"IFERROR(VLOOKUP(Tabla_SERIED_12_5[[#This Row],[IdEstablecimiento]],'[1]Establecimiento 2023'!$A$1:$E$183,3,FALSE),0)","v":"105491-Posta de Salud Rural Quelén Bajo"},{"$f":"IFERROR(VLOOKUP(Tabla_SERIED_12_5[[#This Row],[IdEstablecimiento]],'[1]Establecimiento 2023'!$A$1:$E$183,5,FALSE),0)","v":"04204-Salamanca"},"15010100","2022-06-22T10:51:42",6,{"$nulls":3},6]
[{"$nulls":23},5,"5",2022,"105491",{"$f":"IFERROR(VLOOKUP(Tabla_SERIED_12_5[[#This Row],[IdEstablecimiento]],'[1]Establecimiento 2023'!$A$1:$E$183,3,FALSE),0)","v":"105491-Posta de Salud Rural Quelén Bajo"},{"$f":"IFERROR(VLOOKUP(Tabla_SERIED_12_5[[#This Row],[IdEstablecimiento]],'[1]Establecimiento 2023'!$A$1:$E$183,5,FALSE),0)","v":"04204-Salamanca"},"15010200","2022-06-22T10:51:42",86,{"$nulls":4},10,50,26]
[{"$nulls":23},5,"5",2022,"105491",{"$f":"IFERROR(VLOOKUP(Tabla_SERIED_12_5[[#This Row],[IdEstablecimiento]],'[1]Establecimiento 2023'!$A$1:$E$183,3,FALSE),0)","v":"105491-Posta de Salud Rural Quelén Bajo"},{"$f":"IFERROR(VLOOKUP(Tabla_SERIED_12_5[[#This Row],[IdEstablecimiento]],'[1]Establecimiento 2023'!$A$1:$E$183,5,FALSE),0)","v":"04204-Salamanca"},"15080008","2022-06-22T10:51:42",9,{"$nulls":7},3,null,4,1,1]
[{"$nulls":23},5,"5",2022,"105305",{"$f":"IFERROR(VLOOKUP(Tabla_SERIED_12_5[[#This Row],[IdEstablecimiento]],'[1]Establecimiento 2023'!$A$1:$E$183,3,FALSE),0)","v":"105305-Centro de Salud Familiar Tierras Blancas"},{"$f":"IFERROR(VLOOKUP(Tabla_SERIED_12_5[[#This Row],[IdEstablecimiento]],'[1]Establecimiento 2023'!$A$1:$E$183,5,FALSE),0)","v":"04102-Coquimbo"},"15080009","2022-06-20T17:00:49",6,{"$nulls":8},6]
[{"$nulls":23},5,"5",2022,"105305",{"$f":"IFERROR(VLOOKUP(Tabla_SERIED_12_5[[#This Row],[IdEstablecimiento]],'[1]Establecimiento 2023'!$A$1:$E$183,3,FALSE),0)","v":"105305-Centro de Salud Familiar Tierras Blancas"},{"$f":"IFERROR(VLOOKUP(Tabla_SERIED_12_5[[#This Row],[IdEstablecimiento]],'[1]Establecimiento 2023'!$A$1:$E$183,5,FALSE),0)","v":"04102-Coquimbo"},"15030200","2022-06-20T17:00:49",7.2,null,null,7.2]
[{"$nulls":23},5,"5",2022,"105479",{"$f":"IFERROR(VLOOKUP(Tabla_SERIED_12_5[[#This Row],[IdEstablecimiento]],'[1]Establecimiento 2023'!$A$1:$E$183,3,FALSE),0)","v":"105479-Posta de Salud Rural Guangualí"},{"$f":"IFERROR(VLOOKUP(Tabla_SERIED_12_5[[#This Row],[IdEstablecimiento]],'[1]Establecimiento 2023'!$A$1:$E$183,5,FALSE),0)","v":"04203-Los Vilos"},"16200220","2022-06-20T17:23:46",1,0,1,null,6]
[{"$nulls":23},5,"5",2022,"105480",{"$f":"IFERROR(VLOOKUP(Tabla_SERIED_12_5[[#This Row],[IdEstablecimiento]],'[1]Establecimiento 2023'!$A$1:$E$183,3,FALSE),0)","v":"105480-Posta de Salud Rural Quilimarí"},{"$f":"IFERROR(VLOOKUP(Tabla_SERIED_12_5[[#This Row],[IdEstablecimiento]],'[1]Establecimiento 2023'!$A$1:$E$183,5,FALSE),0)","v":"04203-Los Vilos"},"15010100","2022-06-20T17:23:56",12,{"$nulls":3},12]
[{"$nulls":23},5,"5",2022,"105480",{"$f":"IFERROR(VLOOKUP(Tabla_SERIED_12_5[[#This Row],[IdEstablecimiento]],'[1]Establecimiento 2023'!$A$1:$E$183,3,FALSE),0)","v":"105480-Posta de Salud Rural Quilimarí"},{"$f":"IFERROR(VLOOKUP(Tabla_SERIED_12_5[[#This Row],[IdEstablecimiento]],'[1]Establecimiento 2023'!$A$1:$E$183,5,FALSE),0)","v":"04203-Los Vilos"},"15010200","2022-06-20T17:23:56",38,{"$nulls":4},14,14,10]
[{"$nulls":23},5,"5",2022,"105480",{"$f":"IFERROR(VLOOKUP(Tabla_SERIED_12_5[[#This Row],[IdEstablecimiento]],'[1]Establecimiento 2023'!$A$1:$E$183,3,FALSE),0)","v":"105480-Posta de Salud Rural Quilimarí"},{"$f":"IFERROR(VLOOKUP(Tabla_SERIED_12_5[[#This Row],[IdEstablecimiento]],'[1]Establecimiento 2023'!$A$1:$E$183,5,FALSE),0)","v":"04203-Los Vilos"},"15080008","2022-06-20T17:23:56",8,{"$nulls":7},8]
[{"$nulls":23},5,"5",2022,"105480",{"$f":"IFERROR(VLOOKUP(Tabla_SERIED_12_5[[#This Row],[IdEstablecimiento]],'[1]Establecimiento 2023'!$A$1:$E$183,3,FALSE),0)","v":"105480-Posta de Salud Rural Quilimarí"},{"$f":"IFERROR(VLOOKUP(Tabla_SERIED_12_5[[#This Row],[IdEstablecimiento]],'[1]Establecimiento 2023'!$A$1:$E$183,5,FALSE),0)","v":"04203-Los Vilos"},"15900010","2022-06-20T17:23:56",3.2,null,3.2]
[{"$nulls":23},6,"5",2022,"105400",{"$f":"IFERROR(VLOOKUP(Tabla_SERIED_12_5[[#This Row],[IdEstablecimiento]],'[1]Establecimiento 2023'!$A$1:$E$183,3,FALSE),0)","v":"105400-Posta de Salud Rural Algarrobito"},{"$f":"IFERROR(VLOOKUP(Tabla_SERIED_12_5[[#This Row],[IdEstablecimiento]],'[1]Establecimiento 2023'!$A$1:$E$183,5,FALSE),0)","v":"04101-La Serena"},"15010100","2022-07-14T14:07:45",10,{"$nulls":3},10]
[{"$nulls":23},6,"5",2022,"105400",{"$f":"IFERROR(VLOOKUP(Tabla_SERIED_12_5[[#This Row],[IdEstablecimiento]],'[1]Establecimiento 2023'!$A$1:$E$183,3,FALSE),0)","v":"105400-Posta de Salud Rural Algarrobito"},{"$f":"IFERROR(VLOOKUP(Tabla_SERIED_12_5[[#This Row],[IdEstablecimiento]],'[1]Establecimiento 2023'!$A$1:$E$183,5,FALSE),0)","v":"04101-La Serena"},"15010200","2022-07-14T14:07:45",66,{"$nulls":4},12,36,18]
[{"$nulls":23},6,"5",2022,"105400",{"$f":"IFERROR(VLOOKUP(Tabla_SERIED_12_5[[#This Row],[IdEstablecimiento]],'[1]Establecimiento 2023'!$A$1:$E$183,3,FALSE),0)","v":"105400-Posta de Salud Rural Algarrobito"},{"$f":"IFERROR(VLOOKUP(Tabla_SERIED_12_5[[#This Row],[IdEstablecimiento]],'[1]Establecimiento 2023'!$A$1:$E$183,5,FALSE),0)","v":"04101-La Serena"},"15080008","2022-07-14T14:07:45",7,{"$nulls":7},1,null,4,null,2]
[{"$nulls":23},6,"5",2022,"105400",{"$f":"IFERROR(VLOOKUP(Tabla_SERIED_12_5[[#This Row],[IdEstablecimiento]],'[1]Establecimiento 2023'!$A$1:$E$183,3,FALSE),0)","v":"105400-Posta de Salud Rural Algarrobito"},{"$f":"IFERROR(VLOOKUP(Tabla_SERIED_12_5[[#This Row],[IdEstablecimiento]],'[1]Establecimiento 2023'!$A$1:$E$183,5,FALSE),0)","v":"04101-La Serena"},"15900010","2022-07-14T14:07:45",15.2,null,0.8,14.4]
[{"$nulls":23},6,"5",2022,"105400",{"$f":"IFERROR(VLOOKUP(Tabla_SERIED_12_5[[#This Row],[IdEstablecimiento]],'[1]Establecimiento 2023'!$A$1:$E$183,3,FALSE),0)","v":"105400-Posta de Salud Rural Algarrobito"},{"$f":"IFERROR(VLOOKUP(Tabla_SERIED_12_5[[#This Row],[IdEstablecimiento]],'[1]Establecimiento 2023'!$A$1:$E$183,5,FALSE),0)","v":"04101-La Serena"},"15010400","2022-07-14T14:07:45",4,{"$nulls":5},4]
[{"$nulls":23},6,"5",2022,"105400",{"$f":"IFERROR(VLOOKUP(Tabla_SERIED_12_5[[#This Row],[IdEstablecimiento]],'[1]Establecimiento 2023'!$A$1:$E$183,3,FALSE),0)","v":"105400-Posta de Salud Rural Algarrobito"},{"$f":"IFERROR(VLOOKUP(Tabla_SERIED_12_5[[#This Row],[IdEstablecimiento]],'[1]Establecimiento 2023'!$A$1:$E$183,5,FALSE),0)","v":"04101-La Serena"},"15010500","2022-07-14T14:07:45",4,{"$nulls":5},4]
[{"$nulls":23},6,"5",2022,"105400",{"$f":"IFERROR(VLOOKUP(Tabla_SERIED_12_5[[#This Row],[IdEstablecimiento]],'[1]Establecimiento 2023'!$A$1:$E$183,3,FALSE),0)","v":"105400-Posta de Salud Rural Algarrobito"},{"$f":"IFERROR(VLOOKUP(Tabla_SERIED_12_5[[#This Row],[IdEstablecimiento]],'[1]Establecimiento 2023'!$A$1:$E$183,5,FALSE),0)","v":"04101-La Serena"},"15050100","2022-07-14T14:07:45",49,23,26,null,1,5,5,6,18,9,1,null,2,null,2]
[{"$nulls":23},6,"5",2022,"105400",{"$f":"IFERROR(VLOOKUP(Tabla_SERIED_12_5[[#This Row],[IdEstablecimiento]],'[1]Establecimiento 2023'!$A$1:$E$183,3,FALSE),0)","v":"105400-Posta de Salud Rural Algarrobito"},{"$f":"IFERROR(VLOOKUP(Tabla_SERIED_12_5[[#This Row],[IdEstablecimiento]],'[1]Establecimiento 2023'!$A$1:$E$183,5,FALSE),0)","v":"04101-La Serena"},"15050200","2022-07-14T14:07:45",2,0,2,{"$nulls":5},2]
[{"$nulls":23},6,"5",2022,"105400",{"$f":"IFERROR(VLOOKUP(Tabla_SERIED_12_5[[#This Row],[IdEstablecimiento]],'[1]Establecimiento 2023'!$A$1:$E$183,3,FALSE),0)","v":"105400-Posta de Salud Rural Algarrobito"},{"$f":"IFERROR(VLOOKUP(Tabla_SERIED_12_5[[#This Row],[IdEstablecimiento]],'[1]Establecimiento 2023'!$A$1:$E$183,5,FALSE),0)","v":"04101-La Serena"},"16090300","2022-07-14T14:07:45",142,184]
[{"$nulls":23},6,"5",2022,"105400",{"$f":"IFERROR(VLOOKUP(Tabla_SERIED_12_5[[#This Row],[IdEstablecimiento]],'[1]Establecimiento 2023'!$A$1:$E$183,3,FALSE),0)","v":"105400-Posta de Salud Rural Algarrobito"},{"$f":"IFERROR(VLOOKUP(Tabla_SERIED_12_5[[#This Row],[IdEstablecimiento]],'[1]Establecimiento 2023'!$A$1:$E$183,5,FALSE),0)","v":"04101-La Serena"},"16100300","2022-07-14T14:07:45",184,71,113,1,15]
[{"$nulls":23},3,"5",2022,"105411",{"$f":"IFERROR(VLOOKUP(Tabla_SERIED_12_5[[#This Row],[IdEstablecimiento]],'[1]Establecimiento 2023'!$A$1:$E$183,3,FALSE),0)","v":"105411-Posta de Salud Rural Las Breas (Río Hurtado)"},{"$f":"IFERROR(VLOOKUP(Tabla_SERIED_12_5[[#This Row],[IdEstablecimiento]],'[1]Establecimiento 2023'!$A$1:$E$183,5,FALSE),0)","v":"04305-Río Hurtado"},"15900010","2022-04-19T08:16:32",3.2,null,null,3.2]
[{"$nulls":23},3,"5",2022,"105411",{"$f":"IFERROR(VLOOKUP(Tabla_SERIED_12_5[[#This Row],[IdEstablecimiento]],'[1]Establecimiento 2023'!$A$1:$E$183,3,FALSE),0)","v":"105411-Posta de Salud Rural Las Breas (Río Hurtado)"},{"$f":"IFERROR(VLOOKUP(Tabla_SERIED_12_5[[#This Row],[IdEstablecimiento]],'[1]Establecimiento 2023'!$A$1:$E$183,5,FALSE),0)","v":"04305-Río Hurtado"},"15900020","2022-04-19T08:16:32",4,null,4]
[{"$nulls":23},3,"5",2022,"105411",{"$f":"IFERROR(VLOOKUP(Tabla_SERIED_12_5[[#This Row],[IdEstablecimiento]],'[1]Establecimiento 2023'!$A$1:$E$183,3,FALSE),0)","v":"105411-Posta de Salud Rural Las Breas (Río Hurtado)"},{"$f":"IFERROR(VLOOKUP(Tabla_SERIED_12_5[[#This Row],[IdEstablecimiento]],'[1]Establecimiento 2023'!$A$1:$E$183,5,FALSE),0)","v":"04305-Río Hurtado"},"15050100","2022-04-19T08:16:32",13,3,10,null,null,2,2,null,2,4,1,null,2]
[{"$nulls":23},3,"5",2022,"105411",{"$f":"IFERROR(VLOOKUP(Tabla_SERIED_12_5[[#This Row],[IdEstablecimiento]],'[1]Establecimiento 2023'!$A$1:$E$183,3,FALSE),0)","v":"105411-Posta de Salud Rural Las Breas (Río Hurtado)"},{"$f":"IFERROR(VLOOKUP(Tabla_SERIED_12_5[[#This Row],[IdEstablecimiento]],'[1]Establecimiento 2023'!$A$1:$E$183,5,FALSE),0)","v":"04305-Río Hurtado"},"15050200","2022-04-19T08:16:32",1,1,null,null,1]
[{"$nulls":23},3,"5",2022,"105411",{"$f":"IFERROR(VLOOKUP(Tabla_SERIED_12_5[[#This Row],[IdEstablecimiento]],'[1]Establecimiento 2023'!$A$1:$E$183,3,FALSE),0)","v":"105411-Posta de Salud Rural Las Breas (Río Hurtado)"},{"$f":"IFERROR(VLOOKUP(Tabla_SERIED_12_5[[#This Row],[IdEstablecimiento]],'[1]Establecimiento 2023'!$A$1:$E$183,5,FALSE),0)","v":"04305-Río Hurtado"},"16090300","2022-04-19T08:16:32",24,24]
[{"$nulls":23},3,"5",2022,"105411",{"$f":"IFERROR(VLOOKUP(Tabla_SERIED_12_5[[#This Row],[IdEstablecimiento]],'[1]Establecimiento 2023'!$A$1:$E$183,3,FALSE),0)","v":"105411-Posta de Salud Rural Las Breas (Río Hurtado)"},{"$f":"IFERROR(VLOOKUP(Tabla_SERIED_12_5[[#This Row],[IdEstablecimiento]],'[1]Establecimiento 2023'!$A$1:$E$183,5,FALSE),0)","v":"04305-Río Hurtado"},"16200210","2022-04-19T08:16:32",1,1]
[{"$nulls":23},3,"5",2022,"105411",{"$f":"IFERROR(VLOOKUP(Tabla_SERIED_12_5[[#This Row],[IdEstablecimiento]],'[1]Establecimiento 2023'!$A$1:$E$183,3,FALSE),0)","v":"105411-Posta de Salud Rural Las Breas (Río Hurtado)"},{"$f":"IFERROR(VLOOKUP(Tabla_SERIED_12_5[[#This Row],[IdEstablecimiento]],'[1]Establecimiento 2023'!$A$1:$E$183,5,FALSE),0)","v":"04305-Río Hurtado"},"16100300","2022-04-19T08:16:32",24,13,11,0,6]
[{"$nulls":23},3,"5",2022,"105411",{"$f":"IFERROR(VLOOKUP(Tabla_SERIED_12_5[[#This Row],[IdEstablecimiento]],'[1]Establecimiento 2023'!$A$1:$E$183,3,FALSE),0)","v":"105411-Posta de Salud Rural Las Breas (Río Hurtado)"},{"$f":"IFERROR(VLOOKUP(Tabla_SERIED_12_5[[#This Row],[IdEstablecimiento]],'[1]Establecimiento 2023'!$A$1:$E$183,5,FALSE),0)","v":"04305-Río Hurtado"},"16200220","2022-04-19T08:16:32",1,1,0,0,1]
[{"$nulls":23},3,"5",2022,"105413",{"$f":"IFERROR(VLOOKUP(Tabla_SERIED_12_5[[#This Row],[IdEstablecimiento]],'[1]Establecimiento 2023'!$A$1:$E$183,3,FALSE),0)","v":"105413-Posta de Salud Rural Samo Alto"},{"$f":"IFERROR(VLOOKUP(Tabla_SERIED_12_5[[#This Row],[IdEstablecimiento]],'[1]Establecimiento 2023'!$A$1:$E$183,5,FALSE),0)","v":"04305-Río Hurtado"},"15010200","2022-04-19T08:16:47",10,{"$nulls":5},2,8]
[{"$nulls":23},3,"5",2022,"105413",{"$f":"IFERROR(VLOOKUP(Tabla_SERIED_12_5[[#This Row],[IdEstablecimiento]],'[1]Establecimiento 2023'!$A$1:$E$183,3,FALSE),0)","v":"105413-Posta de Salud Rural Samo Alto"},{"$f":"IFERROR(VLOOKUP(Tabla_SERIED_12_5[[#This Row],[IdEstablecimiento]],'[1]Establecimiento 2023'!$A$1:$E$183,5,FALSE),0)","v":"04305-Río Hurtado"},"15080008","2022-04-19T08:16:47",2,{"$nulls":7},2,null,0,0,0]
[{"$nulls":23},3,"5",2022,"105419",{"$f":"IFERROR(VLOOKUP(Tabla_SERIED_12_5[[#This Row],[IdEstablecimiento]],'[1]Establecimiento 2023'!$A$1:$E$183,3,FALSE),0)","v":"105419-Posta de Salud Rural Las Sossas"},{"$f":"IFERROR(VLOOKUP(Tabla_SERIED_12_5[[#This Row],[IdEstablecimiento]],'[1]Establecimiento 2023'!$A$1:$E$183,5,FALSE),0)","v":"04301-Ovalle"},"16090300","2022-04-19T09:12:12",44,44]
[{"$nulls":23},3,"5",2022,"105419",{"$f":"IFERROR(VLOOKUP(Tabla_SERIED_12_5[[#This Row],[IdEstablecimiento]],'[1]Establecimiento 2023'!$A$1:$E$183,3,FALSE),0)","v":"105419-Posta de Salud Rural Las Sossas"},{"$f":"IFERROR(VLOOKUP(Tabla_SERIED_12_5[[#This Row],[IdEstablecimiento]],'[1]Establecimiento 2023'!$A$1:$E$183,5,FALSE),0)","v":"04301-Ovalle"},"16200210","2022-04-19T09:12:12",1,1]
[{"$nulls":23},3,"5",2022,"105419",{"$f":"IFERROR(VLOOKUP(Tabla_SERIED_12_5[[#This Row],[IdEstablecimiento]],'[1]Establecimiento 2023'!$A$1:$E$183,3,FALSE),0)","v":"105419-Posta de Salud Rural Las Sossas"},{"$f":"IFERROR(VLOOKUP(Tabla_SERIED_12_5[[#This Row],[IdEstablecimiento]],'[1]Establecimiento 2023'!$A$1:$E$183,5,FALSE),0)","v":"04301-Ovalle"},"16100300","2022-04-19T09:12:12",44,22,22,null,8]
[{"$nulls":23},3,"5",2022,"105419",{"$f":"IFERROR(VLOOKUP(Tabla_SERIED_12_5[[#This Row],[IdEstablecimiento]],'[1]Establecimiento 2023'!$A$1:$E$183,3,FALSE),0)","v":"105419-Posta de Salud Rural Las Sossas"},{"$f":"IFERROR(VLOOKUP(Tabla_SERIED_12_5[[#This Row],[IdEstablecimiento]],'[1]Establecimiento 2023'!$A$1:$E$183,5,FALSE),0)","v":"04301-Ovalle"},"16200220","2022-04-19T09:12:12",1,null,1,null,0]
[{"$nulls":23},3,"5",2022,"105422",{"$f":"IFERROR(VLOOKUP(Tabla_SERIED_12_5[[#This Row],[IdEstablecimiento]],'[1]Establecimiento 2023'!$A$1:$E$183,3,FALSE),0)","v":"105422-Posta de Salud Rural Hornillos"},{"$f":"IFERROR(VLOOKUP(Tabla_SERIED_12_5[[#This Row],[IdEstablecimiento]],'[1]Establecimiento 2023'!$A$1:$E$183,5,FALSE),0)","v":"04301-Ovalle"},"15010200","2022-04-19T09:13:05",6,{"$nulls":5},2,4]
[{"$nulls":23},3,"5",2022,"105422",{"$f":"IFERROR(VLOOKUP(Tabla_SERIED_12_5[[#This Row],[IdEstablecimiento]],'[1]Establecimiento 2023'!$A$1:$E$183,3,FALSE),0)","v":"105422-Posta de Salud Rural Hornillos"},{"$f":"IFERROR(VLOOKUP(Tabla_SERIED_12_5[[#This Row],[IdEstablecimiento]],'[1]Establecimiento 2023'!$A$1:$E$183,5,FALSE),0)","v":"04301-Ovalle"},"15080008","2022-04-19T09:13:05",2,{"$nulls":7},1,null,null,1]
[{"$nulls":23},3,"5",2022,"105422",{"$f":"IFERROR(VLOOKUP(Tabla_SERIED_12_5[[#This Row],[IdEstablecimiento]],'[1]Establecimiento 2023'!$A$1:$E$183,3,FALSE),0)","v":"105422-Posta de Salud Rural Hornillos"},{"$f":"IFERROR(VLOOKUP(Tabla_SERIED_12_5[[#This Row],[IdEstablecimiento]],'[1]Establecimiento 2023'!$A$1:$E$183,5,FALSE),0)","v":"04301-Ovalle"},"15050100","2022-04-19T09:13:05",5,1,4,{"$nulls":5},1,2,1,null,null,1]
[{"$nulls":23},3,"5",2022,"105422",{"$f":"IFERROR(VLOOKUP(Tabla_SERIED_12_5[[#This Row],[IdEstablecimiento]],'[1]Establecimiento 2023'!$A$1:$E$183,3,FALSE),0)","v":"105422-Posta de Salud Rural Hornillos"},{"$f":"IFERROR(VLOOKUP(Tabla_SERIED_12_5[[#This Row],[IdEstablecimiento]],'[1]Establecimiento 2023'!$A$1:$E$183,5,FALSE),0)","v":"04301-Ovalle"},"16090300","2022-04-19T09:13:05",36,36]
[{"$nulls":23},3,"5",2022,"105422",{"$f":"IFERROR(VLOOKUP(Tabla_SERIED_12_5[[#This Row],[IdEstablecimiento]],'[1]Establecimiento 2023'!$A$1:$E$183,3,FALSE),0)","v":"105422-Posta de Salud Rural Hornillos"},{"$f":"IFERROR(VLOOKUP(Tabla_SERIED_12_5[[#This Row],[IdEstablecimiento]],'[1]Establecimiento 2023'!$A$1:$E$183,5,FALSE),0)","v":"04301-Ovalle"},"16200210","2022-04-19T09:13:05",5,5]
[{"$nulls":23},3,"5",2022,"105422",{"$f":"IFERROR(VLOOKUP(Tabla_SERIED_12_5[[#This Row],[IdEstablecimiento]],'[1]Establecimiento 2023'!$A$1:$E$183,3,FALSE),0)","v":"105422-Posta de Salud Rural Hornillos"},{"$f":"IFERROR(VLOOKUP(Tabla_SERIED_12_5[[#This Row],[IdEstablecimiento]],'[1]Establecimiento 2023'!$A$1:$E$183,5,FALSE),0)","v":"04301-Ovalle"},"16100300","2022-04-19T09:13:05",36,16,20,0,6]
[{"$nulls":23},3,"5",2022,"105422",{"$f":"IFERROR(VLOOKUP(Tabla_SERIED_12_5[[#This Row],[IdEstablecimiento]],'[1]Establecimiento 2023'!$A$1:$E$183,3,FALSE),0)","v":"105422-Posta de Salud Rural Hornillos"},{"$f":"IFERROR(VLOOKUP(Tabla_SERIED_12_5[[#This Row],[IdEstablecimiento]],'[1]Establecimiento 2023'!$A$1:$E$183,5,FALSE),0)","v":"04301-Ovalle"},"16200220","2022-04-19T09:13:05",5,3,2,0,0]
[{"$nulls":23},3,"5",2022,"105425",{"$f":"IFERROR(VLOOKUP(Tabla_SERIED_12_5[[#This Row],[IdEstablecimiento]],'[1]Establecimiento 2023'!$A$1:$E$183,3,FALSE),0)","v":"105425-Posta de Salud Rural Chilecito"},{"$f":"IFERROR(VLOOKUP(Tabla_SERIED_12_5[[#This Row],[IdEstablecimiento]],'[1]Establecimiento 2023'!$A$1:$E$183,5,FALSE),0)","v":"04303-Monte Patria"},"15010100","2022-04-19T09:13:32",2,{"$nulls":3},2]
[{"$nulls":23},3,"5",2022,"105425",{"$f":"IFERROR(VLOOKUP(Tabla_SERIED_12_5[[#This Row],[IdEstablecimiento]],'[1]Establecimiento 2023'!$A$1:$E$183,3,FALSE),0)","v":"105425-Posta de Salud Rural Chilecito"},{"$f":"IFERROR(VLOOKUP(Tabla_SERIED_12_5[[#This Row],[IdEstablecimiento]],'[1]Establecimiento 2023'!$A$1:$E$183,5,FALSE),0)","v":"04303-Monte Patria"},"15010200","2022-04-19T09:13:32",18,{"$nulls":4},4,8,6]
[{"$nulls":23},3,"5",2022,"105425",{"$f":"IFERROR(VLOOKUP(Tabla_SERIED_12_5[[#This Row],[IdEstablecimiento]],'[1]Establecimiento 2023'!$A$1:$E$183,3,FALSE),0)","v":"105425-Posta de Salud Rural Chilecito"},{"$f":"IFERROR(VLOOKUP(Tabla_SERIED_12_5[[#This Row],[IdEstablecimiento]],'[1]Establecimiento 2023'!$A$1:$E$183,5,FALSE),0)","v":"04303-Monte Patria"},"15010300","2022-04-19T09:13:32",2,{"$nulls":4},2]
[{"$nulls":23},3,"5",2022,"105425",{"$f":"IFERROR(VLOOKUP(Tabla_SERIED_12_5[[#This Row],[IdEstablecimiento]],'[1]Establecimiento 2023'!$A$1:$E$183,3,FALSE),0)","v":"105425-Posta de Salud Rural Chilecito"},{"$f":"IFERROR(VLOOKUP(Tabla_SERIED_12_5[[#This Row],[IdEstablecimiento]],'[1]Establecimiento 2023'!$A$1:$E$183,5,FALSE),0)","v":"04303-Monte Patria"},"15010500","2022-04-19T09:13:32",2,{"$nulls":4},2]
[{"$nulls":23},6,"5",2022,"105498",{"$f":"IFERROR(VLOOKUP(Tabla_SERIED_12_5[[#This Row],[IdEstablecimiento]],'[1]Establecimiento 2023'!$A$1:$E$183,3,FALSE),0)","v":"105498-Posta de Salud Rural Quebrada Linares"},{"$f":"IFERROR(VLOOKUP(Tabla_SERIED_12_5[[#This Row],[IdEstablecimiento]],'[1]Establecimiento 2023'!$A$1:$E$183,5,FALSE),0)","v":"04202-Canela"},"16200100","2022-07-14T14:35:05",1,1]
[{"$nulls":23},6,"5",2022,"105499",{"$f":"IFERROR(VLOOKUP(Tabla_SERIED_12_5[[#This Row],[IdEstablecimiento]],'[1]Establecimiento 2023'!$A$1:$E$183,3,FALSE),0)","v":"105499-Posta de Salud Rural Lambert"},{"$f":"IFERROR(VLOOKUP(Tabla_SERIED_12_5[[#This Row],[IdEstablecimiento]],'[1]Establecimiento 2023'!$A$1:$E$183,5,FALSE),0)","v":"04101-La Serena"},"15010100","2022-07-14T14:35:16",4,{"$nulls":3},4]
[{"$nulls":23},6,"5",2022,"105499",{"$f":"IFERROR(VLOOKUP(Tabla_SERIED_12_5[[#This Row],[IdEstablecimiento]],'[1]Establecimiento 2023'!$A$1:$E$183,3,FALSE),0)","v":"105499-Posta de Salud Rural Lambert"},{"$f":"IFERROR(VLOOKUP(Tabla_SERIED_12_5[[#This Row],[IdEstablecimiento]],'[1]Establecimiento 2023'!$A$1:$E$183,5,FALSE),0)","v":"04101-La Serena"},"15010200","2022-07-14T14:35:16",22,{"$nulls":4},2,10,10]
[{"$nulls":23},6,"5",2022,"105499",{"$f":"IFERROR(VLOOKUP(Tabla_SERIED_12_5[[#This Row],[IdEstablecimiento]],'[1]Establecimiento 2023'!$A$1:$E$183,3,FALSE),0)","v":"105499-Posta de Salud Rural Lambert"},{"$f":"IFERROR(VLOOKUP(Tabla_SERIED_12_5[[#This Row],[IdEstablecimiento]],'[1]Establecimiento 2023'!$A$1:$E$183,5,FALSE),0)","v":"04101-La Serena"},"15080008","2022-07-14T14:35:16",3,{"$nulls":7},3]
[{"$nulls":23},5,"5",2022,"200538",{"$f":"IFERROR(VLOOKUP(Tabla_SERIED_12_5[[#This Row],[IdEstablecimiento]],'[1]Establecimiento 2023'!$A$1:$E$183,3,FALSE),0)","v":"200538-Centro de Salud Familiar San Isidro Calingasta"},{"$f":"IFERROR(VLOOKUP(Tabla_SERIED_12_5[[#This Row],[IdEstablecimiento]],'[1]Establecimiento 2023'!$A$1:$E$183,5,FALSE),0)","v":"04106-Vicuña"},"15010400","2022-06-20T17:37:31",4,{"$nulls":5},4]
[{"$nulls":23},5,"5",2022,"200538",{"$f":"IFERROR(VLOOKUP(Tabla_SERIED_12_5[[#This Row],[IdEstablecimiento]],'[1]Establecimiento 2023'!$A$1:$E$183,3,FALSE),0)","v":"200538-Centro de Salud Familiar San Isidro Calingasta"},{"$f":"IFERROR(VLOOKUP(Tabla_SERIED_12_5[[#This Row],[IdEstablecimiento]],'[1]Establecimiento 2023'!$A$1:$E$183,5,FALSE),0)","v":"04106-Vicuña"},"15010500","2022-06-20T17:37:31",2,{"$nulls":5},2]
[{"$nulls":23},5,"5",2022,"200538",{"$f":"IFERROR(VLOOKUP(Tabla_SERIED_12_5[[#This Row],[IdEstablecimiento]],'[1]Establecimiento 2023'!$A$1:$E$183,3,FALSE),0)","v":"200538-Centro de Salud Familiar San Isidro Calingasta"},{"$f":"IFERROR(VLOOKUP(Tabla_SERIED_12_5[[#This Row],[IdEstablecimiento]],'[1]Establecimiento 2023'!$A$1:$E$183,5,FALSE),0)","v":"04106-Vicuña"},"15030100","2022-06-20T17:37:31",1.6,null,1.6]
[{"$nulls":23},5,"5",2022,"200538",{"$f":"IFERROR(VLOOKUP(Tabla_SERIED_12_5[[#This Row],[IdEstablecimiento]],'[1]Establecimiento 2023'!$A$1:$E$183,3,FALSE),0)","v":"200538-Centro de Salud Familiar San Isidro Calingasta"},{"$f":"IFERROR(VLOOKUP(Tabla_SERIED_12_5[[#This Row],[IdEstablecimiento]],'[1]Establecimiento 2023'!$A$1:$E$183,5,FALSE),0)","v":"04106-Vicuña"},"15900030","2022-06-20T17:37:31",6.4,null,null,4,null,2.4]
[{"$nulls":23},5,"5",2022,"200538",{"$f":"IFERROR(VLOOKUP(Tabla_SERIED_12_5[[#This Row],[IdEstablecimiento]],'[1]Establecimiento 2023'!$A$1:$E$183,3,FALSE),0)","v":"200538-Centro de Salud Familiar San Isidro Calingasta"},{"$f":"IFERROR(VLOOKUP(Tabla_SERIED_12_5[[#This Row],[IdEstablecimiento]],'[1]Establecimiento 2023'!$A$1:$E$183,5,FALSE),0)","v":"04106-Vicuña"},"15050100","2022-06-20T17:37:31",105,41,64,1,2,12,16,8,17,14,18,null,5,12]
[{"$nulls":23},2,"5",2022,"105313",{"$f":"IFERROR(VLOOKUP(Tabla_SERIED_12_5[[#This Row],[IdEstablecimiento]],'[1]Establecimiento 2023'!$A$1:$E$183,3,FALSE),0)","v":"105313-Centro de Salud Familiar Dr. Emilio Schaffhauser"},{"$f":"IFERROR(VLOOKUP(Tabla_SERIED_12_5[[#This Row],[IdEstablecimiento]],'[1]Establecimiento 2023'!$A$1:$E$183,5,FALSE),0)","v":"04101-La Serena"},"15050500","2022-03-17T09:29:40",3,2,1,1,1,1]
[{"$nulls":23},2,"5",2022,"105313",{"$f":"IFERROR(VLOOKUP(Tabla_SERIED_12_5[[#This Row],[IdEstablecimiento]],'[1]Establecimiento 2023'!$A$1:$E$183,3,FALSE),0)","v":"105313-Centro de Salud Familiar Dr. Emilio Schaffhauser"},{"$f":"IFERROR(VLOOKUP(Tabla_SERIED_12_5[[#This Row],[IdEstablecimiento]],'[1]Establecimiento 2023'!$A$1:$E$183,5,FALSE),0)","v":"04101-La Serena"},"15900050","2022-03-17T09:29:40",12,7,5,1,1,5,3,2]
[{"$nulls":23},2,"5",2022,"105313",{"$f":"IFERROR(VLOOKUP(Tabla_SERIED_12_5[[#This Row],[IdEstablecimiento]],'[1]Establecimiento 2023'!$A$1:$E$183,3,FALSE),0)","v":"105313-Centro de Salud Familiar Dr. Emilio Schaffhauser"},{"$f":"IFERROR(VLOOKUP(Tabla_SERIED_12_5[[#This Row],[IdEstablecimiento]],'[1]Establecimiento 2023'!$A$1:$E$183,5,FALSE),0)","v":"04101-La Serena"},"15020100","2022-03-17T09:29:40",10,2,null,2,6]
[{"$nulls":23},2,"5",2022,"105313",{"$f":"IFERROR(VLOOKUP(Tabla_SERIED_12_5[[#This Row],[IdEstablecimiento]],'[1]Establecimiento 2023'!$A$1:$E$183,3,FALSE),0)","v":"105313-Centro de Salud Familiar Dr. Emilio Schaffhauser"},{"$f":"IFERROR(VLOOKUP(Tabla_SERIED_12_5[[#This Row],[IdEstablecimiento]],'[1]Establecimiento 2023'!$A$1:$E$183,5,FALSE),0)","v":"04101-La Serena"},"15020200","2022-03-17T09:29:40",18,{"$nulls":4},2,10,6]
[{"$nulls":23},3,"5",2022,"105476",{"$f":"IFERROR(VLOOKUP(Tabla_SERIED_12_5[[#This Row],[IdEstablecimiento]],'[1]Establecimiento 2023'!$A$1:$E$183,3,FALSE),0)","v":"105476-Posta de Salud Rural Monte Grande"},{"$f":"IFERROR(VLOOKUP(Tabla_SERIED_12_5[[#This Row],[IdEstablecimiento]],'[1]Establecimiento 2023'!$A$1:$E$183,5,FALSE),0)","v":"04105-Paiguano"},"15900010","2022-04-19T10:04:16",6.4,null,null,6.4]
[{"$nulls":23},4,"5",2022,"105310",{"$f":"IFERROR(VLOOKUP(Tabla_SERIED_12_5[[#This Row],[IdEstablecimiento]],'[1]Establecimiento 2023'!$A$1:$E$183,3,FALSE),0)","v":"105310-Centro de Salud Familiar Pichasca"},{"$f":"IFERROR(VLOOKUP(Tabla_SERIED_12_5[[#This Row],[IdEstablecimiento]],'[1]Establecimiento 2023'!$A$1:$E$183,5,FALSE),0)","v":"04305-Río Hurtado"},"16100300","2022-05-18T11:51:18",97,37,60,null,97]
[{"$nulls":23},4,"5",2022,"105310",{"$f":"IFERROR(VLOOKUP(Tabla_SERIED_12_5[[#This Row],[IdEstablecimiento]],'[1]Establecimiento 2023'!$A$1:$E$183,3,FALSE),0)","v":"105310-Centro de Salud Familiar Pichasca"},{"$f":"IFERROR(VLOOKUP(Tabla_SERIED_12_5[[#This Row],[IdEstablecimiento]],'[1]Establecimiento 2023'!$A$1:$E$183,5,FALSE),0)","v":"04305-Río Hurtado"},"16200220","2022-05-18T11:51:18",19,7,12,1,20]
[{"$nulls":23},4,"5",2022,"105311",{"$f":"IFERROR(VLOOKUP(Tabla_SERIED_12_5[[#This Row],[IdEstablecimiento]],'[1]Establecimiento 2023'!$A$1:$E$183,3,FALSE),0)","v":"105311-Centro de Salud Familiar Chañaral Alto"},{"$f":"IFERROR(VLOOKUP(Tabla_SERIED_12_5[[#This Row],[IdEstablecimiento]],'[1]Establecimiento 2023'!$A$1:$E$183,5,FALSE),0)","v":"04303-Monte Patria"},"15010100","2022-05-18T11:51:31",16,{"$nulls":3},16]
[{"$nulls":23},4,"5",2022,"105434",{"$f":"IFERROR(VLOOKUP(Tabla_SERIED_12_5[[#This Row],[IdEstablecimiento]],'[1]Establecimiento 2023'!$A$1:$E$183,3,FALSE),0)","v":"105434-Posta de Salud Rural San Marcos (Combarbalá)"},{"$f":"IFERROR(VLOOKUP(Tabla_SERIED_12_5[[#This Row],[IdEstablecimiento]],'[1]Establecimiento 2023'!$A$1:$E$183,5,FALSE),0)","v":"04302-Combarbalá"},"16200220","2022-05-18T14:56:31",6,2,4]
[{"$nulls":23},4,"5",2022,"105434",{"$f":"IFERROR(VLOOKUP(Tabla_SERIED_12_5[[#This Row],[IdEstablecimiento]],'[1]Establecimiento 2023'!$A$1:$E$183,3,FALSE),0)","v":"105434-Posta de Salud Rural San Marcos (Combarbalá)"},{"$f":"IFERROR(VLOOKUP(Tabla_SERIED_12_5[[#This Row],[IdEstablecimiento]],'[1]Establecimiento 2023'!$A$1:$E$183,5,FALSE),0)","v":"04302-Combarbalá"},"16200100","2022-05-18T14:56:31",3,1,2]
[{"$nulls":23},4,"5",2022,"105435",{"$f":"IFERROR(VLOOKUP(Tabla_SERIED_12_5[[#This Row],[IdEstablecimiento]],'[1]Establecimiento 2023'!$A$1:$E$183,3,FALSE),0)","v":"105435-Posta de Salud Rural Tulahuén"},{"$f":"IFERROR(VLOOKUP(Tabla_SERIED_12_5[[#This Row],[IdEstablecimiento]],'[1]Establecimiento 2023'!$A$1:$E$183,5,FALSE),0)","v":"04303-Monte Patria"},"15010100","2022-05-18T14:56:46",10,{"$nulls":3},10]
[{"$nulls":23},4,"5",2022,"105435",{"$f":"IFERROR(VLOOKUP(Tabla_SERIED_12_5[[#This Row],[IdEstablecimiento]],'[1]Establecimiento 2023'!$A$1:$E$183,3,FALSE),0)","v":"105435-Posta de Salud Rural Tulahuén"},{"$f":"IFERROR(VLOOKUP(Tabla_SERIED_12_5[[#This Row],[IdEstablecimiento]],'[1]Establecimiento 2023'!$A$1:$E$183,5,FALSE),0)","v":"04303-Monte Patria"},"15010200","2022-05-18T14:56:46",30,{"$nulls":4},12,8,10]
[{"$nulls":23},3,"5",2022,"105307",{"$f":"IFERROR(VLOOKUP(Tabla_SERIED_12_5[[#This Row],[IdEstablecimiento]],'[1]Establecimiento 2023'!$A$1:$E$183,3,FALSE),0)","v":"105307-Centro de Salud Familiar Monte Patria"},{"$f":"IFERROR(VLOOKUP(Tabla_SERIED_12_5[[#This Row],[IdEstablecimiento]],'[1]Establecimiento 2023'!$A$1:$E$183,5,FALSE),0)","v":"04303-Monte Patria"},"15010100","2022-04-19T08:07:53",52,null,null,2,50]
[{"$nulls":23},3,"5",2022,"105307",{"$f":"IFERROR(VLOOKUP(Tabla_SERIED_12_5[[#This Row],[IdEstablecimiento]],'[1]Establecimiento 2023'!$A$1:$E$183,3,FALSE),0)","v":"105307-Centro de Salud Familiar Monte Patria"},{"$f":"IFERROR(VLOOKUP(Tabla_SERIED_12_5[[#This Row],[IdEstablecimiento]],'[1]Establecimiento 2023'!$A$1:$E$183,5,FALSE),0)","v":"04303-Monte Patria"},"15010200","2022-04-19T08:07:53",299,{"$nulls":4},64,132,103]
[{"$nulls":23},3,"5",2022,"105307",{"$f":"IFERROR(VLOOKUP(Tabla_SERIED_12_5[[#This Row],[IdEstablecimiento]],'[1]Establecimiento 2023'!$A$1:$E$183,3,FALSE),0)","v":"105307-Centro de Salud Familiar Monte Patria"},{"$f":"IFERROR(VLOOKUP(Tabla_SERIED_12_5[[#This Row],[IdEstablecimiento]],'[1]Establecimiento 2023'!$A$1:$E$183,5,FALSE),0)","v":"04303-Monte Patria"},"15080008","2022-04-19T08:07:53",110,{"$nulls":7},41,null,52,4,13]
[{"$nulls":23},3,"5",2022,"105307",{"$f":"IFERROR(VLOOKUP(Tabla_SERIED_12_5[[#This Row],[IdEstablecimiento]],'[1]Establecimiento 2023'!$A$1:$E$183,3,FALSE),0)","v":"105307-Centro de Salud Familiar Monte Patria"},{"$f":"IFERROR(VLOOKUP(Tabla_SERIED_12_5[[#This Row],[IdEstablecimiento]],'[1]Establecimiento 2023'!$A$1:$E$183,5,FALSE),0)","v":"04303-Monte Patria"},"15900010","2022-04-19T08:07:53",56,4,13.6,38.4]
[{"$nulls":23},3,"5",2022,"105307",{"$f":"IFERROR(VLOOKUP(Tabla_SERIED_12_5[[#This Row],[IdEstablecimiento]],'[1]Establecimiento 2023'!$A$1:$E$183,3,FALSE),0)","v":"105307-Centro de Salud Familiar Monte Patria"},{"$f":"IFERROR(VLOOKUP(Tabla_SERIED_12_5[[#This Row],[IdEstablecimiento]],'[1]Establecimiento 2023'!$A$1:$E$183,5,FALSE),0)","v":"04303-Monte Patria"},"15010400","2022-04-19T08:07:53",8,{"$nulls":5},8]
[{"$nulls":23},3,"5",2022,"105307",{"$f":"IFERROR(VLOOKUP(Tabla_SERIED_12_5[[#This Row],[IdEstablecimiento]],'[1]Establecimiento 2023'!$A$1:$E$183,3,FALSE),0)","v":"105307-Centro de Salud Familiar Monte Patria"},{"$f":"IFERROR(VLOOKUP(Tabla_SERIED_12_5[[#This Row],[IdEstablecimiento]],'[1]Establecimiento 2023'!$A$1:$E$183,5,FALSE),0)","v":"04303-Monte Patria"},"15010500","2022-04-19T08:07:53",9,null,null,1,null,null,8]
[{"$nulls":23},3,"5",2022,"105307",{"$f":"IFERROR(VLOOKUP(Tabla_SERIED_12_5[[#This Row],[IdEstablecimiento]],'[1]Establecimiento 2023'!$A$1:$E$183,3,FALSE),0)","v":"105307-Centro de Salud Familiar Monte Patria"},{"$f":"IFERROR(VLOOKUP(Tabla_SERIED_12_5[[#This Row],[IdEstablecimiento]],'[1]Establecimiento 2023'!$A$1:$E$183,5,FALSE),0)","v":"04303-Monte Patria"},"15900020","2022-04-19T08:07:53",0.8,null,0.8]
[{"$nulls":23},3,"5",2022,"105307",{"$f":"IFERROR(VLOOKUP(Tabla_SERIED_12_5[[#This Row],[IdEstablecimiento]],'[1]Establecimiento 2023'!$A$1:$E$183,3,FALSE),0)","v":"105307-Centro de Salud Familiar Monte Patria"},{"$f":"IFERROR(VLOOKUP(Tabla_SERIED_12_5[[#This Row],[IdEstablecimiento]],'[1]Establecimiento 2023'!$A$1:$E$183,5,FALSE),0)","v":"04303-Monte Patria"},"15050100","2022-04-19T08:07:53",287,126,161,1,5,16,25,32,66,58,41,null,26,4,13]
[{"$nulls":23},3,"5",2022,"105307",{"$f":"IFERROR(VLOOKUP(Tabla_SERIED_12_5[[#This Row],[IdEstablecimiento]],'[1]Establecimiento 2023'!$A$1:$E$183,3,FALSE),0)","v":"105307-Centro de Salud Familiar Monte Patria"},{"$f":"IFERROR(VLOOKUP(Tabla_SERIED_12_5[[#This Row],[IdEstablecimiento]],'[1]Establecimiento 2023'!$A$1:$E$183,5,FALSE),0)","v":"04303-Monte Patria"},"15050200","2022-04-19T08:07:53",5,3,2,null,1,{"$nulls":3},4]
[{"$nulls":23},3,"5",2022,"105307",{"$f":"IFERROR(VLOOKUP(Tabla_SERIED_12_5[[#This Row],[IdEstablecimiento]],'[1]Establecimiento 2023'!$A$1:$E$183,3,FALSE),0)","v":"105307-Centro de Salud Familiar Monte Patria"},{"$f":"IFERROR(VLOOKUP(Tabla_SERIED_12_5[[#This Row],[IdEstablecimiento]],'[1]Establecimiento 2023'!$A$1:$E$183,5,FALSE),0)","v":"04303-Monte Patria"},"15020100","2022-04-19T08:07:53",4,null,null,2,2]
[{"$nulls":23},3,"5",2022,"105307",{"$f":"IFERROR(VLOOKUP(Tabla_SERIED_12_5[[#This Row],[IdEstablecimiento]],'[1]Establecimiento 2023'!$A$1:$E$183,3,FALSE),0)","v":"105307-Centro de Salud Familiar Monte Patria"},{"$f":"IFERROR(VLOOKUP(Tabla_SERIED_12_5[[#This Row],[IdEstablecimiento]],'[1]Establecimiento 2023'!$A$1:$E$183,5,FALSE),0)","v":"04303-Monte Patria"},"15020200","2022-04-19T08:07:53",4,{"$nulls":5},4]
[{"$nulls":23},3,"5",2022,"105307",{"$f":"IFERROR(VLOOKUP(Tabla_SERIED_12_5[[#This Row],[IdEstablecimiento]],'[1]Establecimiento 2023'!$A$1:$E$183,3,FALSE),0)","v":"105307-Centro de Salud Familiar Monte Patria"},{"$f":"IFERROR(VLOOKUP(Tabla_SERIED_12_5[[#This Row],[IdEstablecimiento]],'[1]Establecimiento 2023'!$A$1:$E$183,5,FALSE),0)","v":"04303-Monte Patria"},"15060100","2022-04-19T08:07:53",4,3,1,null,null,1,1,null,2]
[{"$nulls":23},3,"5",2022,"105307",{"$f":"IFERROR(VLOOKUP(Tabla_SERIED_12_5[[#This Row],[IdEstablecimiento]],'[1]Establecimiento 2023'!$A$1:$E$183,3,FALSE),0)","v":"105307-Centro de Salud Familiar Monte Patria"},{"$f":"IFERROR(VLOOKUP(Tabla_SERIED_12_5[[#This Row],[IdEstablecimiento]],'[1]Establecimiento 2023'!$A$1:$E$183,5,FALSE),0)","v":"04303-Monte Patria"},"16090300","2022-04-19T08:07:53",312,312]
[{"$nulls":23},3,"5",2022,"105307",{"$f":"IFERROR(VLOOKUP(Tabla_SERIED_12_5[[#This Row],[IdEstablecimiento]],'[1]Establecimiento 2023'!$A$1:$E$183,3,FALSE),0)","v":"105307-Centro de Salud Familiar Monte Patria"},{"$f":"IFERROR(VLOOKUP(Tabla_SERIED_12_5[[#This Row],[IdEstablecimiento]],'[1]Establecimiento 2023'!$A$1:$E$183,5,FALSE),0)","v":"04303-Monte Patria"},"16200210","2022-04-19T08:07:53",26,26]
[{"$nulls":23},3,"5",2022,"105307",{"$f":"IFERROR(VLOOKUP(Tabla_SERIED_12_5[[#This Row],[IdEstablecimiento]],'[1]Establecimiento 2023'!$A$1:$E$183,3,FALSE),0)","v":"105307-Centro de Salud Familiar Monte Patria"},{"$f":"IFERROR(VLOOKUP(Tabla_SERIED_12_5[[#This Row],[IdEstablecimiento]],'[1]Establecimiento 2023'!$A$1:$E$183,5,FALSE),0)","v":"04303-Monte Patria"},"16100300","2022-04-19T08:07:53",204,95,109,2,42]
[{"$nulls":23},3,"5",2022,"105307",{"$f":"IFERROR(VLOOKUP(Tabla_SERIED_12_5[[#This Row],[IdEstablecimiento]],'[1]Establecimiento 2023'!$A$1:$E$183,3,FALSE),0)","v":"105307-Centro de Salud Familiar Monte Patria"},{"$f":"IFERROR(VLOOKUP(Tabla_SERIED_12_5[[#This Row],[IdEstablecimiento]],'[1]Establecimiento 2023'!$A$1:$E$183,5,FALSE),0)","v":"04303-Monte Patria"},"16200220","2022-04-19T08:07:53",15,7,8,0,4]
[{"$nulls":23},3,"5",2022,"105307",{"$f":"IFERROR(VLOOKUP(Tabla_SERIED_12_5[[#This Row],[IdEstablecimiento]],'[1]Establecimiento 2023'!$A$1:$E$183,3,FALSE),0)","v":"105307-Centro de Salud Familiar Monte Patria"},{"$f":"IFERROR(VLOOKUP(Tabla_SERIED_12_5[[#This Row],[IdEstablecimiento]],'[1]Establecimiento 2023'!$A$1:$E$183,5,FALSE),0)","v":"04303-Monte Patria"},"16200100","2022-04-19T08:07:53",1,1]
[{"$nulls":23},3,"5",2022,"105308",{"$f":"IFERROR(VLOOKUP(Tabla_SERIED_12_5[[#This Row],[IdEstablecimiento]],'[1]Establecimiento 2023'!$A$1:$E$183,3,FALSE),0)","v":"105308-Centro de Salud Familiar Punitaqui"},{"$f":"IFERROR(VLOOKUP(Tabla_SERIED_12_5[[#This Row],[IdEstablecimiento]],'[1]Establecimiento 2023'!$A$1:$E$183,5,FALSE),0)","v":"04304-Punitaqui"},"15010100","2022-04-19T08:08:07",90,{"$nulls":3},90]
[{"$nulls":23},3,"5",2022,"105308",{"$f":"IFERROR(VLOOKUP(Tabla_SERIED_12_5[[#This Row],[IdEstablecimiento]],'[1]Establecimiento 2023'!$A$1:$E$183,3,FALSE),0)","v":"105308-Centro de Salud Familiar Punitaqui"},{"$f":"IFERROR(VLOOKUP(Tabla_SERIED_12_5[[#This Row],[IdEstablecimiento]],'[1]Establecimiento 2023'!$A$1:$E$183,5,FALSE),0)","v":"04304-Punitaqui"},"15010200","2022-04-19T08:08:07",376,{"$nulls":4},72,152,152]
[{"$nulls":23},3,"5",2022,"105308",{"$f":"IFERROR(VLOOKUP(Tabla_SERIED_12_5[[#This Row],[IdEstablecimiento]],'[1]Establecimiento 2023'!$A$1:$E$183,3,FALSE),0)","v":"105308-Centro de Salud Familiar Punitaqui"},{"$f":"IFERROR(VLOOKUP(Tabla_SERIED_12_5[[#This Row],[IdEstablecimiento]],'[1]Establecimiento 2023'!$A$1:$E$183,5,FALSE),0)","v":"04304-Punitaqui"},"15080008","2022-04-19T08:08:07",83,{"$nulls":7},42,null,30,null,11]
[{"$nulls":23},3,"5",2022,"105325",{"$f":"IFERROR(VLOOKUP(Tabla_SERIED_12_5[[#This Row],[IdEstablecimiento]],'[1]Establecimiento 2023'!$A$1:$E$183,3,FALSE),0)","v":"105325-Centro de Salud Familiar Juan Pablo II (La Serena)"},{"$f":"IFERROR(VLOOKUP(Tabla_SERIED_12_5[[#This Row],[IdEstablecimiento]],'[1]Establecimiento 2023'!$A$1:$E$183,5,FALSE),0)","v":"04101-La Serena"},"15020200","2022-04-19T08:11:56",16,{"$nulls":4},6,8,2]
[{"$nulls":23},3,"5",2022,"105325",{"$f":"IFERROR(VLOOKUP(Tabla_SERIED_12_5[[#This Row],[IdEstablecimiento]],'[1]Establecimiento 2023'!$A$1:$E$183,3,FALSE),0)","v":"105325-Centro de Salud Familiar Juan Pablo II (La Serena)"},{"$f":"IFERROR(VLOOKUP(Tabla_SERIED_12_5[[#This Row],[IdEstablecimiento]],'[1]Establecimiento 2023'!$A$1:$E$183,5,FALSE),0)","v":"04101-La Serena"},"15060100","2022-04-19T08:11:56",9,3,6,0,0,1,0,3,4,1,0,null,0,0,0]
[{"$nulls":23},2,"5",2022,"105107",{"$f":"IFERROR(VLOOKUP(Tabla_SERIED_12_5[[#This Row],[IdEstablecimiento]],'[1]Establecimiento 2023'!$A$1:$E$183,3,FALSE),0)","v":"105107-Hospital San Juan de Dios (Vicuña)"},{"$f":"IFERROR(VLOOKUP(Tabla_SERIED_12_5[[#This Row],[IdEstablecimiento]],'[1]Establecimiento 2023'!$A$1:$E$183,5,FALSE),0)","v":"105107-Hospital Vicuña"},"15050200","2022-04-20T05:54:01",7,2,5,{"$nulls":3},1,1,3,1,null,1]
[{"$nulls":23},2,"5",2022,"105107",{"$f":"IFERROR(VLOOKUP(Tabla_SERIED_12_5[[#This Row],[IdEstablecimiento]],'[1]Establecimiento 2023'!$A$1:$E$183,3,FALSE),0)","v":"105107-Hospital San Juan de Dios (Vicuña)"},{"$f":"IFERROR(VLOOKUP(Tabla_SERIED_12_5[[#This Row],[IdEstablecimiento]],'[1]Establecimiento 2023'!$A$1:$E$183,5,FALSE),0)","v":"105107-Hospital Vicuña"},"15900050","2022-04-20T05:54:01",1,{"$nulls":5},1]
[{"$nulls":23},2,"5",2022,"105107",{"$f":"IFERROR(VLOOKUP(Tabla_SERIED_12_5[[#This Row],[IdEstablecimiento]],'[1]Establecimiento 2023'!$A$1:$E$183,3,FALSE),0)","v":"105107-Hospital San Juan de Dios (Vicuña)"},{"$f":"IFERROR(VLOOKUP(Tabla_SERIED_12_5[[#This Row],[IdEstablecimiento]],'[1]Establecimiento 2023'!$A$1:$E$183,5,FALSE),0)","v":"105107-Hospital Vicuña"},"15020200","2022-04-20T05:54:01",4,{"$nulls":6},4]
[{"$nulls":23},2,"5",2022,"105107",{"$f":"IFERROR(VLOOKUP(Tabla_SERIED_12_5[[#This Row],[IdEstablecimiento]],'[1]Establecimiento 2023'!$A$1:$E$183,3,FALSE),0)","v":"105107-Hospital San Juan de Dios (Vicuña)"},{"$f":"IFERROR(VLOOKUP(Tabla_SERIED_12_5[[#This Row],[IdEstablecimiento]],'[1]Establecimiento 2023'!$A$1:$E$183,5,FALSE),0)","v":"105107-Hospital Vicuña"},"15060100","2022-04-20T05:54:01",1,{"$nulls":8},1]
[{"$nulls":23},2,"5",2022,"105107",{"$f":"IFERROR(VLOOKUP(Tabla_SERIED_12_5[[#This Row],[IdEstablecimiento]],'[1]Establecimiento 2023'!$A$1:$E$183,3,FALSE),0)","v":"105107-Hospital San Juan de Dios (Vicuña)"},{"$f":"IFERROR(VLOOKUP(Tabla_SERIED_12_5[[#This Row],[IdEstablecimiento]],'[1]Establecimiento 2023'!$A$1:$E$183,5,FALSE),0)","v":"105107-Hospital Vicuña"},"15901400","2022-04-20T05:54:01",1,{"$nulls":3},1]
[{"$nulls":23},1,"5",2022,"105439",{"$f":"IFERROR(VLOOKUP(Tabla_SERIED_12_5[[#This Row],[IdEstablecimiento]],'[1]Establecimiento 2023'!$A$1:$E$183,3,FALSE),0)","v":"105439-Posta de Salud Rural Cerro Blanco"},{"$f":"IFERROR(VLOOKUP(Tabla_SERIED_12_5[[#This Row],[IdEstablecimiento]],'[1]Establecimiento 2023'!$A$1:$E$183,5,FALSE),0)","v":"04301-Ovalle"},"15060100","2022-02-16T11:04:46",1,null,1,{"$nulls":3},1]
[{"$nulls":23},1,"5",2022,"105439",{"$f":"IFERROR(VLOOKUP(Tabla_SERIED_12_5[[#This Row],[IdEstablecimiento]],'[1]Establecimiento 2023'!$A$1:$E$183,3,FALSE),0)","v":"105439-Posta de Salud Rural Cerro Blanco"},{"$f":"IFERROR(VLOOKUP(Tabla_SERIED_12_5[[#This Row],[IdEstablecimiento]],'[1]Establecimiento 2023'!$A$1:$E$183,5,FALSE),0)","v":"04301-Ovalle"},"16090300","2022-02-16T11:04:46",44,44]
[{"$nulls":23},1,"5",2022,"105439",{"$f":"IFERROR(VLOOKUP(Tabla_SERIED_12_5[[#This Row],[IdEstablecimiento]],'[1]Establecimiento 2023'!$A$1:$E$183,3,FALSE),0)","v":"105439-Posta de Salud Rural Cerro Blanco"},{"$f":"IFERROR(VLOOKUP(Tabla_SERIED_12_5[[#This Row],[IdEstablecimiento]],'[1]Establecimiento 2023'!$A$1:$E$183,5,FALSE),0)","v":"04301-Ovalle"},"16200210","2022-02-16T11:04:46",3,3]
[{"$nulls":23},4,"5",2022,"105469",{"$f":"IFERROR(VLOOKUP(Tabla_SERIED_12_5[[#This Row],[IdEstablecimiento]],'[1]Establecimiento 2023'!$A$1:$E$183,3,FALSE),0)","v":"105469-Posta de Salud Rural El Tambo (Vicuña)"},{"$f":"IFERROR(VLOOKUP(Tabla_SERIED_12_5[[#This Row],[IdEstablecimiento]],'[1]Establecimiento 2023'!$A$1:$E$183,5,FALSE),0)","v":"04106-Vicuña"},"16100300","2022-05-18T15:11:47",23,10,13,0,22]
[{"$nulls":23},4,"5",2022,"105469",{"$f":"IFERROR(VLOOKUP(Tabla_SERIED_12_5[[#This Row],[IdEstablecimiento]],'[1]Establecimiento 2023'!$A$1:$E$183,3,FALSE),0)","v":"105469-Posta de Salud Rural El Tambo (Vicuña)"},{"$f":"IFERROR(VLOOKUP(Tabla_SERIED_12_5[[#This Row],[IdEstablecimiento]],'[1]Establecimiento 2023'!$A$1:$E$183,5,FALSE),0)","v":"04106-Vicuña"},"16100600","2022-05-18T15:11:47",2,0,2,0,0]
[{"$nulls":23},4,"5",2022,"105470",{"$f":"IFERROR(VLOOKUP(Tabla_SERIED_12_5[[#This Row],[IdEstablecimiento]],'[1]Establecimiento 2023'!$A$1:$E$183,3,FALSE),0)","v":"105470-Posta de Salud Rural Huanta"},{"$f":"IFERROR(VLOOKUP(Tabla_SERIED_12_5[[#This Row],[IdEstablecimiento]],'[1]Establecimiento 2023'!$A$1:$E$183,5,FALSE),0)","v":"04106-Vicuña"},"15010200","2022-05-18T15:12:00",4,{"$nulls":4},2,2]
[{"$nulls":23},4,"5",2022,"105470",{"$f":"IFERROR(VLOOKUP(Tabla_SERIED_12_5[[#This Row],[IdEstablecimiento]],'[1]Establecimiento 2023'!$A$1:$E$183,3,FALSE),0)","v":"105470-Posta de Salud Rural Huanta"},{"$f":"IFERROR(VLOOKUP(Tabla_SERIED_12_5[[#This Row],[IdEstablecimiento]],'[1]Establecimiento 2023'!$A$1:$E$183,5,FALSE),0)","v":"04106-Vicuña"},"15050100","2022-05-18T15:12:00",2,1,1,{"$nulls":4},1,1]
[{"$nulls":23},4,"5",2022,"105470",{"$f":"IFERROR(VLOOKUP(Tabla_SERIED_12_5[[#This Row],[IdEstablecimiento]],'[1]Establecimiento 2023'!$A$1:$E$183,3,FALSE),0)","v":"105470-Posta de Salud Rural Huanta"},{"$f":"IFERROR(VLOOKUP(Tabla_SERIED_12_5[[#This Row],[IdEstablecimiento]],'[1]Establecimiento 2023'!$A$1:$E$183,5,FALSE),0)","v":"04106-Vicuña"},"16090300","2022-05-18T15:12:00",15,15]
[{"$nulls":23},4,"5",2022,"105470",{"$f":"IFERROR(VLOOKUP(Tabla_SERIED_12_5[[#This Row],[IdEstablecimiento]],'[1]Establecimiento 2023'!$A$1:$E$183,3,FALSE),0)","v":"105470-Posta de Salud Rural Huanta"},{"$f":"IFERROR(VLOOKUP(Tabla_SERIED_12_5[[#This Row],[IdEstablecimiento]],'[1]Establecimiento 2023'!$A$1:$E$183,5,FALSE),0)","v":"04106-Vicuña"},"16100300","2022-05-18T15:12:00",15,7,8]
[{"$nulls":23},4,"5",2022,"105471",{"$f":"IFERROR(VLOOKUP(Tabla_SERIED_12_5[[#This Row],[IdEstablecimiento]],'[1]Establecimiento 2023'!$A$1:$E$183,3,FALSE),0)","v":"105471-Posta de Salud Rural Peralillo Vicuña"},{"$f":"IFERROR(VLOOKUP(Tabla_SERIED_12_5[[#This Row],[IdEstablecimiento]],'[1]Establecimiento 2023'!$A$1:$E$183,5,FALSE),0)","v":"04106-Vicuña"},"15010100","2022-05-18T15:12:15",4,null,null,2,2]
[{"$nulls":23},1,"5",2022,"105417",{"$f":"IFERROR(VLOOKUP(Tabla_SERIED_12_5[[#This Row],[IdEstablecimiento]],'[1]Establecimiento 2023'!$A$1:$E$183,3,FALSE),0)","v":"105417-Posta de Salud Rural Alcones Bajo"},{"$f":"IFERROR(VLOOKUP(Tabla_SERIED_12_5[[#This Row],[IdEstablecimiento]],'[1]Establecimiento 2023'!$A$1:$E$183,5,FALSE),0)","v":"04301-Ovalle"},"16200100","2022-02-16T10:56:14",3,3,null,null,1]
[{"$nulls":23},1,"5",2022,"105419",{"$f":"IFERROR(VLOOKUP(Tabla_SERIED_12_5[[#This Row],[IdEstablecimiento]],'[1]Establecimiento 2023'!$A$1:$E$183,3,FALSE),0)","v":"105419-Posta de Salud Rural Las Sossas"},{"$f":"IFERROR(VLOOKUP(Tabla_SERIED_12_5[[#This Row],[IdEstablecimiento]],'[1]Establecimiento 2023'!$A$1:$E$183,5,FALSE),0)","v":"04301-Ovalle"},"15010200","2022-02-16T10:56:30",2,{"$nulls":5},2]
[{"$nulls":23},1,"5",2022,"105419",{"$f":"IFERROR(VLOOKUP(Tabla_SERIED_12_5[[#This Row],[IdEstablecimiento]],'[1]Establecimiento 2023'!$A$1:$E$183,3,FALSE),0)","v":"105419-Posta de Salud Rural Las Sossas"},{"$f":"IFERROR(VLOOKUP(Tabla_SERIED_12_5[[#This Row],[IdEstablecimiento]],'[1]Establecimiento 2023'!$A$1:$E$183,5,FALSE),0)","v":"04301-Ovalle"},"15050100","2022-02-16T10:56:30",1,1,{"$nulls":6},1]
[{"$nulls":23},1,"5",2022,"105419",{"$f":"IFERROR(VLOOKUP(Tabla_SERIED_12_5[[#This Row],[IdEstablecimiento]],'[1]Establecimiento 2023'!$A$1:$E$183,3,FALSE),0)","v":"105419-Posta de Salud Rural Las Sossas"},{"$f":"IFERROR(VLOOKUP(Tabla_SERIED_12_5[[#This Row],[IdEstablecimiento]],'[1]Establecimiento 2023'!$A$1:$E$183,5,FALSE),0)","v":"04301-Ovalle"},"16090300","2022-02-16T10:56:30",35,35]
[{"$nulls":23},1,"5",2022,"105419",{"$f":"IFERROR(VLOOKUP(Tabla_SERIED_12_5[[#This Row],[IdEstablecimiento]],'[1]Establecimiento 2023'!$A$1:$E$183,3,FALSE),0)","v":"105419-Posta de Salud Rural Las Sossas"},{"$f":"IFERROR(VLOOKUP(Tabla_SERIED_12_5[[#This Row],[IdEstablecimiento]],'[1]Establecimiento 2023'!$A$1:$E$183,5,FALSE),0)","v":"04301-Ovalle"},"16100300","2022-02-16T10:56:30",35,15,20,null,9]
[{"$nulls":23},1,"5",2022,"105419",{"$f":"IFERROR(VLOOKUP(Tabla_SERIED_12_5[[#This Row],[IdEstablecimiento]],'[1]Establecimiento 2023'!$A$1:$E$183,3,FALSE),0)","v":"105419-Posta de Salud Rural Las Sossas"},{"$f":"IFERROR(VLOOKUP(Tabla_SERIED_12_5[[#This Row],[IdEstablecimiento]],'[1]Establecimiento 2023'!$A$1:$E$183,5,FALSE),0)","v":"04301-Ovalle"},"16200220","2022-02-16T10:56:30",0,{"$nulls":3},3]
[{"$nulls":23},1,"5",2022,"105422",{"$f":"IFERROR(VLOOKUP(Tabla_SERIED_12_5[[#This Row],[IdEstablecimiento]],'[1]Establecimiento 2023'!$A$1:$E$183,3,FALSE),0)","v":"105422-Posta de Salud Rural Hornillos"},{"$f":"IFERROR(VLOOKUP(Tabla_SERIED_12_5[[#This Row],[IdEstablecimiento]],'[1]Establecimiento 2023'!$A$1:$E$183,5,FALSE),0)","v":"04301-Ovalle"},"15010200","2022-02-16T10:56:47",10,{"$nulls":4},2,4,4]
[{"$nulls":23},1,"5",2022,"105422",{"$f":"IFERROR(VLOOKUP(Tabla_SERIED_12_5[[#This Row],[IdEstablecimiento]],'[1]Establecimiento 2023'!$A$1:$E$183,3,FALSE),0)","v":"105422-Posta de Salud Rural Hornillos"},{"$f":"IFERROR(VLOOKUP(Tabla_SERIED_12_5[[#This Row],[IdEstablecimiento]],'[1]Establecimiento 2023'!$A$1:$E$183,5,FALSE),0)","v":"04301-Ovalle"},"15050100","2022-02-16T10:56:47",5,5,{"$nulls":5},1,2,2]
[{"$nulls":23},6,"5",2022,"105308",{"$f":"IFERROR(VLOOKUP(Tabla_SERIED_12_5[[#This Row],[IdEstablecimiento]],'[1]Establecimiento 2023'!$A$1:$E$183,3,FALSE),0)","v":"105308-Centro de Salud Familiar Punitaqui"},{"$f":"IFERROR(VLOOKUP(Tabla_SERIED_12_5[[#This Row],[IdEstablecimiento]],'[1]Establecimiento 2023'!$A$1:$E$183,5,FALSE),0)","v":"04304-Punitaqui"},"15010400","2022-07-14T13:37:54",2,{"$nulls":4},2]
[{"$nulls":23},6,"5",2022,"105308",{"$f":"IFERROR(VLOOKUP(Tabla_SERIED_12_5[[#This Row],[IdEstablecimiento]],'[1]Establecimiento 2023'!$A$1:$E$183,3,FALSE),0)","v":"105308-Centro de Salud Familiar Punitaqui"},{"$f":"IFERROR(VLOOKUP(Tabla_SERIED_12_5[[#This Row],[IdEstablecimiento]],'[1]Establecimiento 2023'!$A$1:$E$183,5,FALSE),0)","v":"04304-Punitaqui"},"15010500","2022-07-14T13:37:54",6,null,null,4,null,2]
[{"$nulls":23},6,"5",2022,"105308",{"$f":"IFERROR(VLOOKUP(Tabla_SERIED_12_5[[#This Row],[IdEstablecimiento]],'[1]Establecimiento 2023'!$A$1:$E$183,3,FALSE),0)","v":"105308-Centro de Salud Familiar Punitaqui"},{"$f":"IFERROR(VLOOKUP(Tabla_SERIED_12_5[[#This Row],[IdEstablecimiento]],'[1]Establecimiento 2023'!$A$1:$E$183,5,FALSE),0)","v":"04304-Punitaqui"},"15030100","2022-07-14T13:37:54",4000,null,4000]
[{"$nulls":23},6,"5",2022,"105308",{"$f":"IFERROR(VLOOKUP(Tabla_SERIED_12_5[[#This Row],[IdEstablecimiento]],'[1]Establecimiento 2023'!$A$1:$E$183,3,FALSE),0)","v":"105308-Centro de Salud Familiar Punitaqui"},{"$f":"IFERROR(VLOOKUP(Tabla_SERIED_12_5[[#This Row],[IdEstablecimiento]],'[1]Establecimiento 2023'!$A$1:$E$183,5,FALSE),0)","v":"04304-Punitaqui"},"15900040","2022-07-14T13:37:54",1200,1200]
[{"$nulls":23},6,"5",2022,"105308",{"$f":"IFERROR(VLOOKUP(Tabla_SERIED_12_5[[#This Row],[IdEstablecimiento]],'[1]Establecimiento 2023'!$A$1:$E$183,3,FALSE),0)","v":"105308-Centro de Salud Familiar Punitaqui"},{"$f":"IFERROR(VLOOKUP(Tabla_SERIED_12_5[[#This Row],[IdEstablecimiento]],'[1]Establecimiento 2023'!$A$1:$E$183,5,FALSE),0)","v":"04304-Punitaqui"},"15050100","2022-07-14T13:37:54",289,128,161,null,1,26,36,43,55,65,39,null,14,null,10]
[{"$nulls":23},6,"5",2022,"105308",{"$f":"IFERROR(VLOOKUP(Tabla_SERIED_12_5[[#This Row],[IdEstablecimiento]],'[1]Establecimiento 2023'!$A$1:$E$183,3,FALSE),0)","v":"105308-Centro de Salud Familiar Punitaqui"},{"$f":"IFERROR(VLOOKUP(Tabla_SERIED_12_5[[#This Row],[IdEstablecimiento]],'[1]Establecimiento 2023'!$A$1:$E$183,5,FALSE),0)","v":"04304-Punitaqui"},"15050200","2022-07-14T13:37:54",1,1,{"$nulls":5},1]
[{"$nulls":23},6,"5",2022,"105308",{"$f":"IFERROR(VLOOKUP(Tabla_SERIED_12_5[[#This Row],[IdEstablecimiento]],'[1]Establecimiento 2023'!$A$1:$E$183,3,FALSE),0)","v":"105308-Centro de Salud Familiar Punitaqui"},{"$f":"IFERROR(VLOOKUP(Tabla_SERIED_12_5[[#This Row],[IdEstablecimiento]],'[1]Establecimiento 2023'!$A$1:$E$183,5,FALSE),0)","v":"04304-Punitaqui"},"15050500","2022-07-14T13:37:54",1,null,1,null,1]
[{"$nulls":23},6,"5",2022,"105308",{"$f":"IFERROR(VLOOKUP(Tabla_SERIED_12_5[[#This Row],[IdEstablecimiento]],'[1]Establecimiento 2023'!$A$1:$E$183,3,FALSE),0)","v":"105308-Centro de Salud Familiar Punitaqui"},{"$f":"IFERROR(VLOOKUP(Tabla_SERIED_12_5[[#This Row],[IdEstablecimiento]],'[1]Establecimiento 2023'!$A$1:$E$183,5,FALSE),0)","v":"04304-Punitaqui"},"15900050","2022-07-14T13:37:54",3,2,1,1,null,2]
[{"$nulls":23},6,"5",2022,"105308",{"$f":"IFERROR(VLOOKUP(Tabla_SERIED_12_5[[#This Row],[IdEstablecimiento]],'[1]Establecimiento 2023'!$A$1:$E$183,3,FALSE),0)","v":"105308-Centro de Salud Familiar Punitaqui"},{"$f":"IFERROR(VLOOKUP(Tabla_SERIED_12_5[[#This Row],[IdEstablecimiento]],'[1]Establecimiento 2023'!$A$1:$E$183,5,FALSE),0)","v":"04304-Punitaqui"},"16090300","2022-07-14T13:37:54",336,336]
[{"$nulls":23},6,"5",2022,"105308",{"$f":"IFERROR(VLOOKUP(Tabla_SERIED_12_5[[#This Row],[IdEstablecimiento]],'[1]Establecimiento 2023'!$A$1:$E$183,3,FALSE),0)","v":"105308-Centro de Salud Familiar Punitaqui"},{"$f":"IFERROR(VLOOKUP(Tabla_SERIED_12_5[[#This Row],[IdEstablecimiento]],'[1]Establecimiento 2023'!$A$1:$E$183,5,FALSE),0)","v":"04304-Punitaqui"},"16200210","2022-07-14T13:37:54",2,2]
[{"$nulls":23},6,"5",2022,"105308",{"$f":"IFERROR(VLOOKUP(Tabla_SERIED_12_5[[#This Row],[IdEstablecimiento]],'[1]Establecimiento 2023'!$A$1:$E$183,3,FALSE),0)","v":"105308-Centro de Salud Familiar Punitaqui"},{"$f":"IFERROR(VLOOKUP(Tabla_SERIED_12_5[[#This Row],[IdEstablecimiento]],'[1]Establecimiento 2023'!$A$1:$E$183,5,FALSE),0)","v":"04304-Punitaqui"},"16100300","2022-07-14T13:37:54",336,148,188,4]
[{"$nulls":23},6,"5",2022,"105308",{"$f":"IFERROR(VLOOKUP(Tabla_SERIED_12_5[[#This Row],[IdEstablecimiento]],'[1]Establecimiento 2023'!$A$1:$E$183,3,FALSE),0)","v":"105308-Centro de Salud Familiar Punitaqui"},{"$f":"IFERROR(VLOOKUP(Tabla_SERIED_12_5[[#This Row],[IdEstablecimiento]],'[1]Establecimiento 2023'!$A$1:$E$183,5,FALSE),0)","v":"04304-Punitaqui"},"16200220","2022-07-14T13:37:54",2,1,1]
[{"$nulls":23},6,"5",2022,"105309",{"$f":"IFERROR(VLOOKUP(Tabla_SERIED_12_5[[#This Row],[IdEstablecimiento]],'[1]Establecimiento 2023'!$A$1:$E$183,3,FALSE),0)","v":"105309-Centro de Salud Familiar Canela"},{"$f":"IFERROR(VLOOKUP(Tabla_SERIED_12_5[[#This Row],[IdEstablecimiento]],'[1]Establecimiento 2023'!$A$1:$E$183,5,FALSE),0)","v":"04202-Canela"},"15010100","2022-07-14T14:01:37",38,{"$nulls":3},38]
[{"$nulls":23},6,"5",2022,"105309",{"$f":"IFERROR(VLOOKUP(Tabla_SERIED_12_5[[#This Row],[IdEstablecimiento]],'[1]Establecimiento 2023'!$A$1:$E$183,3,FALSE),0)","v":"105309-Centro de Salud Familiar Canela"},{"$f":"IFERROR(VLOOKUP(Tabla_SERIED_12_5[[#This Row],[IdEstablecimiento]],'[1]Establecimiento 2023'!$A$1:$E$183,5,FALSE),0)","v":"04202-Canela"},"15010200","2022-07-14T14:01:37",183,{"$nulls":4},26,90,67]
[{"$nulls":23},6,"5",2022,"105309",{"$f":"IFERROR(VLOOKUP(Tabla_SERIED_12_5[[#This Row],[IdEstablecimiento]],'[1]Establecimiento 2023'!$A$1:$E$183,3,FALSE),0)","v":"105309-Centro de Salud Familiar Canela"},{"$f":"IFERROR(VLOOKUP(Tabla_SERIED_12_5[[#This Row],[IdEstablecimiento]],'[1]Establecimiento 2023'!$A$1:$E$183,5,FALSE),0)","v":"04202-Canela"},"15080008","2022-07-14T14:01:37",40,{"$nulls":7},25,null,10,null,5]
[{"$nulls":23},6,"5",2022,"105309",{"$f":"IFERROR(VLOOKUP(Tabla_SERIED_12_5[[#This Row],[IdEstablecimiento]],'[1]Establecimiento 2023'!$A$1:$E$183,3,FALSE),0)","v":"105309-Centro de Salud Familiar Canela"},{"$f":"IFERROR(VLOOKUP(Tabla_SERIED_12_5[[#This Row],[IdEstablecimiento]],'[1]Establecimiento 2023'!$A$1:$E$183,5,FALSE),0)","v":"04202-Canela"},"15900010","2022-07-14T14:01:37",36,3.2,14.4,18.4]
[{"$nulls":23},4,"5",2022,"105722",{"$f":"IFERROR(VLOOKUP(Tabla_SERIED_12_5[[#This Row],[IdEstablecimiento]],'[1]Establecimiento 2023'!$A$1:$E$183,3,FALSE),0)","v":"105722-Centro Comunitario de Salud Familiar San José de la Dehesa"},{"$f":"IFERROR(VLOOKUP(Tabla_SERIED_12_5[[#This Row],[IdEstablecimiento]],'[1]Establecimiento 2023'!$A$1:$E$183,5,FALSE),0)","v":"04301-Ovalle"},"15010500","2022-05-18T15:23:27",6,{"$nulls":4},2,2,2]
[{"$nulls":23},4,"5",2022,"105722",{"$f":"IFERROR(VLOOKUP(Tabla_SERIED_12_5[[#This Row],[IdEstablecimiento]],'[1]Establecimiento 2023'!$A$1:$E$183,3,FALSE),0)","v":"105722-Centro Comunitario de Salud Familiar San José de la Dehesa"},{"$f":"IFERROR(VLOOKUP(Tabla_SERIED_12_5[[#This Row],[IdEstablecimiento]],'[1]Establecimiento 2023'!$A$1:$E$183,5,FALSE),0)","v":"04301-Ovalle"},"15900040","2022-05-18T15:23:27",2.4,2.4]
[{"$nulls":23},4,"5",2022,"105722",{"$f":"IFERROR(VLOOKUP(Tabla_SERIED_12_5[[#This Row],[IdEstablecimiento]],'[1]Establecimiento 2023'!$A$1:$E$183,3,FALSE),0)","v":"105722-Centro Comunitario de Salud Familiar San José de la Dehesa"},{"$f":"IFERROR(VLOOKUP(Tabla_SERIED_12_5[[#This Row],[IdEstablecimiento]],'[1]Establecimiento 2023'!$A$1:$E$183,5,FALSE),0)","v":"04301-Ovalle"},"15050100","2022-05-18T15:23:27",104,60,44,2,1,2,17,15,22,19,19,null,6,1]
[{"$nulls":23},2,"5",2022,"105702",{"$f":"IFERROR(VLOOKUP(Tabla_SERIED_12_5[[#This Row],[IdEstablecimiento]],'[1]Establecimiento 2023'!$A$1:$E$183,3,FALSE),0)","v":"105702-Centro Comunitario de Salud Familiar Lambert"},{"$f":"IFERROR(VLOOKUP(Tabla_SERIED_12_5[[#This Row],[IdEstablecimiento]],'[1]Establecimiento 2023'!$A$1:$E$183,5,FALSE),0)","v":"04101-La Serena"},"16100300","2022-03-17T10:05:12",32,11,21,1,11]
[{"$nulls":23},3,"5",2022,"105427",{"$f":"IFERROR(VLOOKUP(Tabla_SERIED_12_5[[#This Row],[IdEstablecimiento]],'[1]Establecimiento 2023'!$A$1:$E$183,3,FALSE),0)","v":"105427-Posta de Salud Rural Hacienda Valdivia"},{"$f":"IFERROR(VLOOKUP(Tabla_SERIED_12_5[[#This Row],[IdEstablecimiento]],'[1]Establecimiento 2023'!$A$1:$E$183,5,FALSE),0)","v":"04303-Monte Patria"},"15050200","2022-04-19T09:41:50",2,1,1,null,null,1,{"$nulls":8},1]
[{"$nulls":23},3,"5",2022,"200367",{"$f":"IFERROR(VLOOKUP(Tabla_SERIED_12_5[[#This Row],[IdEstablecimiento]],'[1]Establecimiento 2023'!$A$1:$E$183,3,FALSE),0)","v":"200367-Centro Comunitario de Salud Familiar Colonia Limarí"},{"$f":"IFERROR(VLOOKUP(Tabla_SERIED_12_5[[#This Row],[IdEstablecimiento]],'[1]Establecimiento 2023'!$A$1:$E$183,5,FALSE),0)","v":"04301-Ovalle"},"16090300","2022-04-19T10:22:09",154,154]
[{"$nulls":23},3,"5",2022,"200367",{"$f":"IFERROR(VLOOKUP(Tabla_SERIED_12_5[[#This Row],[IdEstablecimiento]],'[1]Establecimiento 2023'!$A$1:$E$183,3,FALSE),0)","v":"200367-Centro Comunitario de Salud Familiar Colonia Limarí"},{"$f":"IFERROR(VLOOKUP(Tabla_SERIED_12_5[[#This Row],[IdEstablecimiento]],'[1]Establecimiento 2023'!$A$1:$E$183,5,FALSE),0)","v":"04301-Ovalle"},"16200210","2022-04-19T10:22:09",13,13]
[{"$nulls":23},3,"5",2022,"105322",{"$f":"IFERROR(VLOOKUP(Tabla_SERIED_12_5[[#This Row],[IdEstablecimiento]],'[1]Establecimiento 2023'!$A$1:$E$183,3,FALSE),0)","v":"105322-Centro de Salud Familiar Marcos Macuada"},{"$f":"IFERROR(VLOOKUP(Tabla_SERIED_12_5[[#This Row],[IdEstablecimiento]],'[1]Establecimiento 2023'!$A$1:$E$183,5,FALSE),0)","v":"04301-Ovalle"},"15010500","2022-04-19T08:11:14",6,null,0,0,2,0,4,0]
[{"$nulls":23},2,"5",2022,"105324",{"$f":"IFERROR(VLOOKUP(Tabla_SERIED_12_5[[#This Row],[IdEstablecimiento]],'[1]Establecimiento 2023'!$A$1:$E$183,3,FALSE),0)","v":"105324-Centro de Salud Familiar Sotaquí"},{"$f":"IFERROR(VLOOKUP(Tabla_SERIED_12_5[[#This Row],[IdEstablecimiento]],'[1]Establecimiento 2023'!$A$1:$E$183,5,FALSE),0)","v":"04301-Ovalle"},"15080008","2022-03-17T09:31:53",43,{"$nulls":7},15,null,20,0,8]
[{"$nulls":23},3,"5",2022,"200499",{"$f":"IFERROR(VLOOKUP(Tabla_SERIED_12_5[[#This Row],[IdEstablecimiento]],'[1]Establecimiento 2023'!$A$1:$E$183,3,FALSE),0)","v":"200499-Centro de Salud Familiar Rural Pan de Azúcar"},{"$f":"IFERROR(VLOOKUP(Tabla_SERIED_12_5[[#This Row],[IdEstablecimiento]],'[1]Establecimiento 2023'!$A$1:$E$183,5,FALSE),0)","v":"04102-Coquimbo"},"15900030","2022-04-19T10:15:38",8.4,null,4.4,4]
[{"$nulls":23},5,"5",2022,"105723",{"$f":"IFERROR(VLOOKUP(Tabla_SERIED_12_5[[#This Row],[IdEstablecimiento]],'[1]Establecimiento 2023'!$A$1:$E$183,3,FALSE),0)","v":"105723-Centro Comunitario de Salud Familiar Limarí"},{"$f":"IFERROR(VLOOKUP(Tabla_SERIED_12_5[[#This Row],[IdEstablecimiento]],'[1]Establecimiento 2023'!$A$1:$E$183,5,FALSE),0)","v":"04301-Ovalle"},"16200100","2022-06-20T17:32:30",26,16,10,0,4]
[{"$nulls":23},3,"5",2022,"105479",{"$f":"IFERROR(VLOOKUP(Tabla_SERIED_12_5[[#This Row],[IdEstablecimiento]],'[1]Establecimiento 2023'!$A$1:$E$183,3,FALSE),0)","v":"105479-Posta de Salud Rural Guangualí"},{"$f":"IFERROR(VLOOKUP(Tabla_SERIED_12_5[[#This Row],[IdEstablecimiento]],'[1]Establecimiento 2023'!$A$1:$E$183,5,FALSE),0)","v":"04203-Los Vilos"},"15050100","2022-04-19T10:04:56",20,6,14,null,null,1,5,3,3,3,4,null,1]
[{"$nulls":23},3,"5",2022,"105479",{"$f":"IFERROR(VLOOKUP(Tabla_SERIED_12_5[[#This Row],[IdEstablecimiento]],'[1]Establecimiento 2023'!$A$1:$E$183,3,FALSE),0)","v":"105479-Posta de Salud Rural Guangualí"},{"$f":"IFERROR(VLOOKUP(Tabla_SERIED_12_5[[#This Row],[IdEstablecimiento]],'[1]Establecimiento 2023'!$A$1:$E$183,5,FALSE),0)","v":"04203-Los Vilos"},"16090300","2022-04-19T10:04:56",57,57]
[{"$nulls":23},2,"5",2022,"105454",{"$f":"IFERROR(VLOOKUP(Tabla_SERIED_12_5[[#This Row],[IdEstablecimiento]],'[1]Establecimiento 2023'!$A$1:$E$183,3,FALSE),0)","v":"105454-Posta de Salud Rural Cunlagua"},{"$f":"IFERROR(VLOOKUP(Tabla_SERIED_12_5[[#This Row],[IdEstablecimiento]],'[1]Establecimiento 2023'!$A$1:$E$183,5,FALSE),0)","v":"04204-Salamanca"},"15010200","2022-03-17T09:44:54",6,{"$nulls":4},2,2,2]
[{"$nulls":23},2,"5",2022,"105454",{"$f":"IFERROR(VLOOKUP(Tabla_SERIED_12_5[[#This Row],[IdEstablecimiento]],'[1]Establecimiento 2023'!$A$1:$E$183,3,FALSE),0)","v":"105454-Posta de Salud Rural Cunlagua"},{"$f":"IFERROR(VLOOKUP(Tabla_SERIED_12_5[[#This Row],[IdEstablecimiento]],'[1]Establecimiento 2023'!$A$1:$E$183,5,FALSE),0)","v":"04204-Salamanca"},"15010500","2022-03-17T09:44:54",2,null,null,2]
[{"$nulls":23},2,"5",2022,"105454",{"$f":"IFERROR(VLOOKUP(Tabla_SERIED_12_5[[#This Row],[IdEstablecimiento]],'[1]Establecimiento 2023'!$A$1:$E$183,3,FALSE),0)","v":"105454-Posta de Salud Rural Cunlagua"},{"$f":"IFERROR(VLOOKUP(Tabla_SERIED_12_5[[#This Row],[IdEstablecimiento]],'[1]Establecimiento 2023'!$A$1:$E$183,5,FALSE),0)","v":"04204-Salamanca"},"15080009","2022-03-17T09:44:54",1,{"$nulls":11},1]
[{"$nulls":23},2,"5",2022,"105454",{"$f":"IFERROR(VLOOKUP(Tabla_SERIED_12_5[[#This Row],[IdEstablecimiento]],'[1]Establecimiento 2023'!$A$1:$E$183,3,FALSE),0)","v":"105454-Posta de Salud Rural Cunlagua"},{"$f":"IFERROR(VLOOKUP(Tabla_SERIED_12_5[[#This Row],[IdEstablecimiento]],'[1]Establecimiento 2023'!$A$1:$E$183,5,FALSE),0)","v":"04204-Salamanca"},"15900020","2022-03-17T09:44:54",2.4,null,null,2.4]
[{"$nulls":23},2,"5",2022,"105454",{"$f":"IFERROR(VLOOKUP(Tabla_SERIED_12_5[[#This Row],[IdEstablecimiento]],'[1]Establecimiento 2023'!$A$1:$E$183,3,FALSE),0)","v":"105454-Posta de Salud Rural Cunlagua"},{"$f":"IFERROR(VLOOKUP(Tabla_SERIED_12_5[[#This Row],[IdEstablecimiento]],'[1]Establecimiento 2023'!$A$1:$E$183,5,FALSE),0)","v":"04204-Salamanca"},"15050100","2022-03-17T09:44:54",3,2,1,{"$nulls":4},1,1,1]
[{"$nulls":23},2,"5",2022,"105454",{"$f":"IFERROR(VLOOKUP(Tabla_SERIED_12_5[[#This Row],[IdEstablecimiento]],'[1]Establecimiento 2023'!$A$1:$E$183,3,FALSE),0)","v":"105454-Posta de Salud Rural Cunlagua"},{"$f":"IFERROR(VLOOKUP(Tabla_SERIED_12_5[[#This Row],[IdEstablecimiento]],'[1]Establecimiento 2023'!$A$1:$E$183,5,FALSE),0)","v":"04204-Salamanca"},"15050200","2022-03-17T09:44:54",1,null,1,{"$nulls":11},1]
[{"$nulls":23},2,"5",2022,"105454",{"$f":"IFERROR(VLOOKUP(Tabla_SERIED_12_5[[#This Row],[IdEstablecimiento]],'[1]Establecimiento 2023'!$A$1:$E$183,3,FALSE),0)","v":"105454-Posta de Salud Rural Cunlagua"},{"$f":"IFERROR(VLOOKUP(Tabla_SERIED_12_5[[#This Row],[IdEstablecimiento]],'[1]Establecimiento 2023'!$A$1:$E$183,5,FALSE),0)","v":"04204-Salamanca"},"16090300","2022-03-17T09:44:54",57,57]
[{"$nulls":23},2,"5",2022,"105454",{"$f":"IFERROR(VLOOKUP(Tabla_SERIED_12_5[[#This Row],[IdEstablecimiento]],'[1]Establecimiento 2023'!$A$1:$E$183,3,FALSE),0)","v":"105454-Posta de Salud Rural Cunlagua"},{"$f":"IFERROR(VLOOKUP(Tabla_SERIED_12_5[[#This Row],[IdEstablecimiento]],'[1]Establecimiento 2023'!$A$1:$E$183,5,FALSE),0)","v":"04204-Salamanca"},"16200210","2022-03-17T09:44:54",7,7]
[{"$nulls":23},4,"5",2022,"105104",{"$f":"IFERROR(VLOOKUP(Tabla_SERIED_12_5[[#This Row],[IdEstablecimiento]],'[1]Establecimiento 2023'!$A$1:$E$183,3,FALSE),0)","v":"105104-Hospital de Salamanca"},{"$f":"IFERROR(VLOOKUP(Tabla_SERIED_12_5[[#This Row],[IdEstablecimiento]],'[1]Establecimiento 2023'!$A$1:$E$183,5,FALSE),0)","v":"105104-Hospital Salamanca"},"15900010","2022-05-18T11:48:00",71.2,12,11.2,48]
[{"$nulls":23},4,"5",2022,"105104",{"$f":"IFERROR(VLOOKUP(Tabla_SERIED_12_5[[#This Row],[IdEstablecimiento]],'[1]Establecimiento 2023'!$A$1:$E$183,3,FALSE),0)","v":"105104-Hospital de Salamanca"},{"$f":"IFERROR(VLOOKUP(Tabla_SERIED_12_5[[#This Row],[IdEstablecimiento]],'[1]Establecimiento 2023'!$A$1:$E$183,5,FALSE),0)","v":"105104-Hospital Salamanca"},"15010400","2022-05-18T11:48:00",2,{"$nulls":4},0,0,2]
[{"$nulls":23},6,"5",2022,"105309",{"$f":"IFERROR(VLOOKUP(Tabla_SERIED_12_5[[#This Row],[IdEstablecimiento]],'[1]Establecimiento 2023'!$A$1:$E$183,3,FALSE),0)","v":"105309-Centro de Salud Familiar Canela"},{"$f":"IFERROR(VLOOKUP(Tabla_SERIED_12_5[[#This Row],[IdEstablecimiento]],'[1]Establecimiento 2023'!$A$1:$E$183,5,FALSE),0)","v":"04202-Canela"},"15010400","2022-07-14T14:01:37",4,{"$nulls":5},4]
[{"$nulls":23},6,"5",2022,"105309",{"$f":"IFERROR(VLOOKUP(Tabla_SERIED_12_5[[#This Row],[IdEstablecimiento]],'[1]Establecimiento 2023'!$A$1:$E$183,3,FALSE),0)","v":"105309-Centro de Salud Familiar Canela"},{"$f":"IFERROR(VLOOKUP(Tabla_SERIED_12_5[[#This Row],[IdEstablecimiento]],'[1]Establecimiento 2023'!$A$1:$E$183,5,FALSE),0)","v":"04202-Canela"},"15010500","2022-07-14T14:01:37",4,{"$nulls":5},4]
[{"$nulls":23},6,"5",2022,"105309",{"$f":"IFERROR(VLOOKUP(Tabla_SERIED_12_5[[#This Row],[IdEstablecimiento]],'[1]Establecimiento 2023'!$A$1:$E$183,3,FALSE),0)","v":"105309-Centro de Salud Familiar Canela"},{"$f":"IFERROR(VLOOKUP(Tabla_SERIED_12_5[[#This Row],[IdEstablecimiento]],'[1]Establecimiento 2023'!$A$1:$E$183,5,FALSE),0)","v":"04202-Canela"},"15901500","2022-07-14T14:01:37",3.2,null,null,3.2]
[{"$nulls":23},6,"5",2022,"105309",{"$f":"IFERROR(VLOOKUP(Tabla_SERIED_12_5[[#This Row],[IdEstablecimiento]],'[1]Establecimiento 2023'!$A$1:$E$183,3,FALSE),0)","v":"105309-Centro de Salud Familiar Canela"},{"$f":"IFERROR(VLOOKUP(Tabla_SERIED_12_5[[#This Row],[IdEstablecimiento]],'[1]Establecimiento 2023'!$A$1:$E$183,5,FALSE),0)","v":"04202-Canela"},"15900030","2022-07-14T14:01:37",3.2,null,null,3.2]
[{"$nulls":23},6,"5",2022,"105309",{"$f":"IFERROR(VLOOKUP(Tabla_SERIED_12_5[[#This Row],[IdEstablecimiento]],'[1]Establecimiento 2023'!$A$1:$E$183,3,FALSE),0)","v":"105309-Centro de Salud Familiar Canela"},{"$f":"IFERROR(VLOOKUP(Tabla_SERIED_12_5[[#This Row],[IdEstablecimiento]],'[1]Establecimiento 2023'!$A$1:$E$183,5,FALSE),0)","v":"04202-Canela"},"15050100","2022-07-14T14:01:37",158,63,95,1,5,6,19,13,45,34,25,null,5,null,5]
[{"$nulls":23},6,"5",2022,"105309",{"$f":"IFERROR(VLOOKUP(Tabla_SERIED_12_5[[#This Row],[IdEstablecimiento]],'[1]Establecimiento 2023'!$A$1:$E$183,3,FALSE),0)","v":"105309-Centro de Salud Familiar Canela"},{"$f":"IFERROR(VLOOKUP(Tabla_SERIED_12_5[[#This Row],[IdEstablecimiento]],'[1]Establecimiento 2023'!$A$1:$E$183,5,FALSE),0)","v":"04202-Canela"},"15050200","2022-07-14T14:01:37",2,2,{"$nulls":6},2]
[{"$nulls":23},6,"5",2022,"105309",{"$f":"IFERROR(VLOOKUP(Tabla_SERIED_12_5[[#This Row],[IdEstablecimiento]],'[1]Establecimiento 2023'!$A$1:$E$183,3,FALSE),0)","v":"105309-Centro de Salud Familiar Canela"},{"$f":"IFERROR(VLOOKUP(Tabla_SERIED_12_5[[#This Row],[IdEstablecimiento]],'[1]Establecimiento 2023'!$A$1:$E$183,5,FALSE),0)","v":"04202-Canela"},"15050500","2022-07-14T14:01:37",1,1,{"$nulls":3},1]
[{"$nulls":23},6,"5",2022,"105309",{"$f":"IFERROR(VLOOKUP(Tabla_SERIED_12_5[[#This Row],[IdEstablecimiento]],'[1]Establecimiento 2023'!$A$1:$E$183,3,FALSE),0)","v":"105309-Centro de Salud Familiar Canela"},{"$f":"IFERROR(VLOOKUP(Tabla_SERIED_12_5[[#This Row],[IdEstablecimiento]],'[1]Establecimiento 2023'!$A$1:$E$183,5,FALSE),0)","v":"04202-Canela"},"15900050","2022-07-14T14:01:37",1,null,1,null,null,1]
[{"$nulls":23},5,"5",2022,"105723",{"$f":"IFERROR(VLOOKUP(Tabla_SERIED_12_5[[#This Row],[IdEstablecimiento]],'[1]Establecimiento 2023'!$A$1:$E$183,3,FALSE),0)","v":"105723-Centro Comunitario de Salud Familiar Limarí"},{"$f":"IFERROR(VLOOKUP(Tabla_SERIED_12_5[[#This Row],[IdEstablecimiento]],'[1]Establecimiento 2023'!$A$1:$E$183,5,FALSE),0)","v":"04301-Ovalle"},"16100300","2022-06-20T17:32:30",170,62,108,4,124]
[{"$nulls":23},5,"5",2022,"105723",{"$f":"IFERROR(VLOOKUP(Tabla_SERIED_12_5[[#This Row],[IdEstablecimiento]],'[1]Establecimiento 2023'!$A$1:$E$183,3,FALSE),0)","v":"105723-Centro Comunitario de Salud Familiar Limarí"},{"$f":"IFERROR(VLOOKUP(Tabla_SERIED_12_5[[#This Row],[IdEstablecimiento]],'[1]Establecimiento 2023'!$A$1:$E$183,5,FALSE),0)","v":"04301-Ovalle"},"16200220","2022-06-20T17:32:30",2,1,1]
[{"$nulls":23},4,"5",2022,"105104",{"$f":"IFERROR(VLOOKUP(Tabla_SERIED_12_5[[#This Row],[IdEstablecimiento]],'[1]Establecimiento 2023'!$A$1:$E$183,3,FALSE),0)","v":"105104-Hospital de Salamanca"},{"$f":"IFERROR(VLOOKUP(Tabla_SERIED_12_5[[#This Row],[IdEstablecimiento]],'[1]Establecimiento 2023'!$A$1:$E$183,5,FALSE),0)","v":"105104-Hospital Salamanca"},"15050200","2022-05-18T11:48:00",1,1,0,0,0,0,0,0,0,1,null,0,0,0,0]
[{"$nulls":23},1,"5",2022,"105445",{"$f":"IFERROR(VLOOKUP(Tabla_SERIED_12_5[[#This Row],[IdEstablecimiento]],'[1]Establecimiento 2023'!$A$1:$E$183,3,FALSE),0)","v":"105445-Posta de Salud Rural Limáhuida"},{"$f":"IFERROR(VLOOKUP(Tabla_SERIED_12_5[[#This Row],[IdEstablecimiento]],'[1]Establecimiento 2023'!$A$1:$E$183,5,FALSE),0)","v":"04201-Illapel"},"15080008","2022-02-16T11:33:36",2,{"$nulls":9},2]
[{"$nulls":23},1,"5",2022,"105445",{"$f":"IFERROR(VLOOKUP(Tabla_SERIED_12_5[[#This Row],[IdEstablecimiento]],'[1]Establecimiento 2023'!$A$1:$E$183,3,FALSE),0)","v":"105445-Posta de Salud Rural Limáhuida"},{"$f":"IFERROR(VLOOKUP(Tabla_SERIED_12_5[[#This Row],[IdEstablecimiento]],'[1]Establecimiento 2023'!$A$1:$E$183,5,FALSE),0)","v":"04201-Illapel"},"15900010","2022-02-16T11:33:36",4,null,null,4]
[{"$nulls":23},1,"5",2022,"105445",{"$f":"IFERROR(VLOOKUP(Tabla_SERIED_12_5[[#This Row],[IdEstablecimiento]],'[1]Establecimiento 2023'!$A$1:$E$183,3,FALSE),0)","v":"105445-Posta de Salud Rural Limáhuida"},{"$f":"IFERROR(VLOOKUP(Tabla_SERIED_12_5[[#This Row],[IdEstablecimiento]],'[1]Establecimiento 2023'!$A$1:$E$183,5,FALSE),0)","v":"04201-Illapel"},"15050100","2022-02-16T11:33:36",19,10,9,null,null,1,4,null,8,5,null,null,1]
[{"$nulls":23},1,"5",2022,"105445",{"$f":"IFERROR(VLOOKUP(Tabla_SERIED_12_5[[#This Row],[IdEstablecimiento]],'[1]Establecimiento 2023'!$A$1:$E$183,3,FALSE),0)","v":"105445-Posta de Salud Rural Limáhuida"},{"$f":"IFERROR(VLOOKUP(Tabla_SERIED_12_5[[#This Row],[IdEstablecimiento]],'[1]Establecimiento 2023'!$A$1:$E$183,5,FALSE),0)","v":"04201-Illapel"},"16090300","2022-02-16T11:33:36",34,34]
[{"$nulls":23},1,"5",2022,"105445",{"$f":"IFERROR(VLOOKUP(Tabla_SERIED_12_5[[#This Row],[IdEstablecimiento]],'[1]Establecimiento 2023'!$A$1:$E$183,3,FALSE),0)","v":"105445-Posta de Salud Rural Limáhuida"},{"$f":"IFERROR(VLOOKUP(Tabla_SERIED_12_5[[#This Row],[IdEstablecimiento]],'[1]Establecimiento 2023'!$A$1:$E$183,5,FALSE),0)","v":"04201-Illapel"},"16200210","2022-02-16T11:33:36",3,3]
[{"$nulls":23},1,"5",2022,"105445",{"$f":"IFERROR(VLOOKUP(Tabla_SERIED_12_5[[#This Row],[IdEstablecimiento]],'[1]Establecimiento 2023'!$A$1:$E$183,3,FALSE),0)","v":"105445-Posta de Salud Rural Limáhuida"},{"$f":"IFERROR(VLOOKUP(Tabla_SERIED_12_5[[#This Row],[IdEstablecimiento]],'[1]Establecimiento 2023'!$A$1:$E$183,5,FALSE),0)","v":"04201-Illapel"},"16100300","2022-02-16T11:33:36",34,15,19,null,22]
[{"$nulls":23},1,"5",2022,"105445",{"$f":"IFERROR(VLOOKUP(Tabla_SERIED_12_5[[#This Row],[IdEstablecimiento]],'[1]Establecimiento 2023'!$A$1:$E$183,3,FALSE),0)","v":"105445-Posta de Salud Rural Limáhuida"},{"$f":"IFERROR(VLOOKUP(Tabla_SERIED_12_5[[#This Row],[IdEstablecimiento]],'[1]Establecimiento 2023'!$A$1:$E$183,5,FALSE),0)","v":"04201-Illapel"},"16200220","2022-02-16T11:33:36",3,1,2,null,2]
[{"$nulls":23},1,"5",2022,"105446",{"$f":"IFERROR(VLOOKUP(Tabla_SERIED_12_5[[#This Row],[IdEstablecimiento]],'[1]Establecimiento 2023'!$A$1:$E$183,3,FALSE),0)","v":"105446-Posta de Salud Rural Matancilla"},{"$f":"IFERROR(VLOOKUP(Tabla_SERIED_12_5[[#This Row],[IdEstablecimiento]],'[1]Establecimiento 2023'!$A$1:$E$183,5,FALSE),0)","v":"04201-Illapel"},"15010200","2022-02-16T11:33:55",6,{"$nulls":5},4,2]
[{"$nulls":23},1,"5",2022,"105446",{"$f":"IFERROR(VLOOKUP(Tabla_SERIED_12_5[[#This Row],[IdEstablecimiento]],'[1]Establecimiento 2023'!$A$1:$E$183,3,FALSE),0)","v":"105446-Posta de Salud Rural Matancilla"},{"$f":"IFERROR(VLOOKUP(Tabla_SERIED_12_5[[#This Row],[IdEstablecimiento]],'[1]Establecimiento 2023'!$A$1:$E$183,5,FALSE),0)","v":"04201-Illapel"},"15050100","2022-02-16T11:33:55",3,null,3,{"$nulls":5},2,1]
[{"$nulls":23},1,"5",2022,"105446",{"$f":"IFERROR(VLOOKUP(Tabla_SERIED_12_5[[#This Row],[IdEstablecimiento]],'[1]Establecimiento 2023'!$A$1:$E$183,3,FALSE),0)","v":"105446-Posta de Salud Rural Matancilla"},{"$f":"IFERROR(VLOOKUP(Tabla_SERIED_12_5[[#This Row],[IdEstablecimiento]],'[1]Establecimiento 2023'!$A$1:$E$183,5,FALSE),0)","v":"04201-Illapel"},"16090300","2022-02-16T11:33:55",5,5]
[{"$nulls":23},2,"5",2022,"105318",{"$f":"IFERROR(VLOOKUP(Tabla_SERIED_12_5[[#This Row],[IdEstablecimiento]],'[1]Establecimiento 2023'!$A$1:$E$183,3,FALSE),0)","v":"105318-Centro de Salud Familiar El Palqui"},{"$f":"IFERROR(VLOOKUP(Tabla_SERIED_12_5[[#This Row],[IdEstablecimiento]],'[1]Establecimiento 2023'!$A$1:$E$183,5,FALSE),0)","v":"04303-Monte Patria"},"15010500","2022-03-17T09:30:35",12,null,null,4,2,2,2,2]
[{"$nulls":23},2,"5",2022,"105318",{"$f":"IFERROR(VLOOKUP(Tabla_SERIED_12_5[[#This Row],[IdEstablecimiento]],'[1]Establecimiento 2023'!$A$1:$E$183,3,FALSE),0)","v":"105318-Centro de Salud Familiar El Palqui"},{"$f":"IFERROR(VLOOKUP(Tabla_SERIED_12_5[[#This Row],[IdEstablecimiento]],'[1]Establecimiento 2023'!$A$1:$E$183,5,FALSE),0)","v":"04303-Monte Patria"},"15080009","2022-03-17T09:30:35",3,{"$nulls":8},3]
[{"$nulls":23},2,"5",2022,"105318",{"$f":"IFERROR(VLOOKUP(Tabla_SERIED_12_5[[#This Row],[IdEstablecimiento]],'[1]Establecimiento 2023'!$A$1:$E$183,3,FALSE),0)","v":"105318-Centro de Salud Familiar El Palqui"},{"$f":"IFERROR(VLOOKUP(Tabla_SERIED_12_5[[#This Row],[IdEstablecimiento]],'[1]Establecimiento 2023'!$A$1:$E$183,5,FALSE),0)","v":"04303-Monte Patria"},"15900020","2022-03-17T09:30:35",7.2,null,null,7.2]
[{"$nulls":23},4,"5",2022,"105104",{"$f":"IFERROR(VLOOKUP(Tabla_SERIED_12_5[[#This Row],[IdEstablecimiento]],'[1]Establecimiento 2023'!$A$1:$E$183,3,FALSE),0)","v":"105104-Hospital de Salamanca"},{"$f":"IFERROR(VLOOKUP(Tabla_SERIED_12_5[[#This Row],[IdEstablecimiento]],'[1]Establecimiento 2023'!$A$1:$E$183,5,FALSE),0)","v":"105104-Hospital Salamanca"},"15010500","2022-05-18T11:48:00",2,null,0,0,0,0,0,2]
[{"$nulls":23},4,"5",2022,"105104",{"$f":"IFERROR(VLOOKUP(Tabla_SERIED_12_5[[#This Row],[IdEstablecimiento]],'[1]Establecimiento 2023'!$A$1:$E$183,3,FALSE),0)","v":"105104-Hospital de Salamanca"},{"$f":"IFERROR(VLOOKUP(Tabla_SERIED_12_5[[#This Row],[IdEstablecimiento]],'[1]Establecimiento 2023'!$A$1:$E$183,5,FALSE),0)","v":"105104-Hospital Salamanca"},"15030100","2022-05-18T11:48:00",2,0,2,0]
[{"$nulls":23},4,"5",2022,"105104",{"$f":"IFERROR(VLOOKUP(Tabla_SERIED_12_5[[#This Row],[IdEstablecimiento]],'[1]Establecimiento 2023'!$A$1:$E$183,3,FALSE),0)","v":"105104-Hospital de Salamanca"},{"$f":"IFERROR(VLOOKUP(Tabla_SERIED_12_5[[#This Row],[IdEstablecimiento]],'[1]Establecimiento 2023'!$A$1:$E$183,5,FALSE),0)","v":"105104-Hospital Salamanca"},"15900030","2022-05-18T11:48:00",6.8,0,3.2,3.6,0,0]
[{"$nulls":23},4,"5",2022,"105104",{"$f":"IFERROR(VLOOKUP(Tabla_SERIED_12_5[[#This Row],[IdEstablecimiento]],'[1]Establecimiento 2023'!$A$1:$E$183,3,FALSE),0)","v":"105104-Hospital de Salamanca"},{"$f":"IFERROR(VLOOKUP(Tabla_SERIED_12_5[[#This Row],[IdEstablecimiento]],'[1]Establecimiento 2023'!$A$1:$E$183,5,FALSE),0)","v":"105104-Hospital Salamanca"},"15050100","2022-05-18T11:48:00",200,65,135,0,0,32,0,27,49,38,41,null,8,2,3]
[{"$nulls":23},2,"5",2022,"105458",{"$f":"IFERROR(VLOOKUP(Tabla_SERIED_12_5[[#This Row],[IdEstablecimiento]],'[1]Establecimiento 2023'!$A$1:$E$183,3,FALSE),0)","v":"105458-Posta de Salud Rural Tahuinco"},{"$f":"IFERROR(VLOOKUP(Tabla_SERIED_12_5[[#This Row],[IdEstablecimiento]],'[1]Establecimiento 2023'!$A$1:$E$183,5,FALSE),0)","v":"04204-Salamanca"},"15010500","2022-03-17T09:45:45",2,{"$nulls":5},2]
[{"$nulls":23},2,"5",2022,"105458",{"$f":"IFERROR(VLOOKUP(Tabla_SERIED_12_5[[#This Row],[IdEstablecimiento]],'[1]Establecimiento 2023'!$A$1:$E$183,3,FALSE),0)","v":"105458-Posta de Salud Rural Tahuinco"},{"$f":"IFERROR(VLOOKUP(Tabla_SERIED_12_5[[#This Row],[IdEstablecimiento]],'[1]Establecimiento 2023'!$A$1:$E$183,5,FALSE),0)","v":"04204-Salamanca"},"15050100","2022-03-17T09:45:45",80,38,42,null,null,6,8,14,20,19,6,null,5,null,2]
[{"$nulls":23},2,"5",2022,"105458",{"$f":"IFERROR(VLOOKUP(Tabla_SERIED_12_5[[#This Row],[IdEstablecimiento]],'[1]Establecimiento 2023'!$A$1:$E$183,3,FALSE),0)","v":"105458-Posta de Salud Rural Tahuinco"},{"$f":"IFERROR(VLOOKUP(Tabla_SERIED_12_5[[#This Row],[IdEstablecimiento]],'[1]Establecimiento 2023'!$A$1:$E$183,5,FALSE),0)","v":"04204-Salamanca"},"15050200","2022-03-17T09:45:45",1,1,{"$nulls":6},1]
[{"$nulls":23},2,"5",2022,"105458",{"$f":"IFERROR(VLOOKUP(Tabla_SERIED_12_5[[#This Row],[IdEstablecimiento]],'[1]Establecimiento 2023'!$A$1:$E$183,3,FALSE),0)","v":"105458-Posta de Salud Rural Tahuinco"},{"$f":"IFERROR(VLOOKUP(Tabla_SERIED_12_5[[#This Row],[IdEstablecimiento]],'[1]Establecimiento 2023'!$A$1:$E$183,5,FALSE),0)","v":"04204-Salamanca"},"16090300","2022-03-17T09:45:45",133,133]
[{"$nulls":23},2,"5",2022,"105458",{"$f":"IFERROR(VLOOKUP(Tabla_SERIED_12_5[[#This Row],[IdEstablecimiento]],'[1]Establecimiento 2023'!$A$1:$E$183,3,FALSE),0)","v":"105458-Posta de Salud Rural Tahuinco"},{"$f":"IFERROR(VLOOKUP(Tabla_SERIED_12_5[[#This Row],[IdEstablecimiento]],'[1]Establecimiento 2023'!$A$1:$E$183,5,FALSE),0)","v":"04204-Salamanca"},"16200210","2022-03-17T09:45:45",7,7]
[{"$nulls":23},2,"5",2022,"105458",{"$f":"IFERROR(VLOOKUP(Tabla_SERIED_12_5[[#This Row],[IdEstablecimiento]],'[1]Establecimiento 2023'!$A$1:$E$183,3,FALSE),0)","v":"105458-Posta de Salud Rural Tahuinco"},{"$f":"IFERROR(VLOOKUP(Tabla_SERIED_12_5[[#This Row],[IdEstablecimiento]],'[1]Establecimiento 2023'!$A$1:$E$183,5,FALSE),0)","v":"04204-Salamanca"},"16100300","2022-03-17T09:45:45",133,58,75,null,35]
[{"$nulls":23},2,"5",2022,"105458",{"$f":"IFERROR(VLOOKUP(Tabla_SERIED_12_5[[#This Row],[IdEstablecimiento]],'[1]Establecimiento 2023'!$A$1:$E$183,3,FALSE),0)","v":"105458-Posta de Salud Rural Tahuinco"},{"$f":"IFERROR(VLOOKUP(Tabla_SERIED_12_5[[#This Row],[IdEstablecimiento]],'[1]Establecimiento 2023'!$A$1:$E$183,5,FALSE),0)","v":"04204-Salamanca"},"16200220","2022-03-17T09:45:45",7,4,3,null,2]
[{"$nulls":23},2,"5",2022,"105419",{"$f":"IFERROR(VLOOKUP(Tabla_SERIED_12_5[[#This Row],[IdEstablecimiento]],'[1]Establecimiento 2023'!$A$1:$E$183,3,FALSE),0)","v":"105419-Posta de Salud Rural Las Sossas"},{"$f":"IFERROR(VLOOKUP(Tabla_SERIED_12_5[[#This Row],[IdEstablecimiento]],'[1]Establecimiento 2023'!$A$1:$E$183,5,FALSE),0)","v":"04301-Ovalle"},"15010200","2022-03-17T09:35:48",4,{"$nulls":5},4]
[{"$nulls":23},2,"5",2022,"105419",{"$f":"IFERROR(VLOOKUP(Tabla_SERIED_12_5[[#This Row],[IdEstablecimiento]],'[1]Establecimiento 2023'!$A$1:$E$183,3,FALSE),0)","v":"105419-Posta de Salud Rural Las Sossas"},{"$f":"IFERROR(VLOOKUP(Tabla_SERIED_12_5[[#This Row],[IdEstablecimiento]],'[1]Establecimiento 2023'!$A$1:$E$183,5,FALSE),0)","v":"04301-Ovalle"},"15050100","2022-03-17T09:35:48",2,2,0,{"$nulls":5},2]
[{"$nulls":23},2,"5",2022,"105419",{"$f":"IFERROR(VLOOKUP(Tabla_SERIED_12_5[[#This Row],[IdEstablecimiento]],'[1]Establecimiento 2023'!$A$1:$E$183,3,FALSE),0)","v":"105419-Posta de Salud Rural Las Sossas"},{"$f":"IFERROR(VLOOKUP(Tabla_SERIED_12_5[[#This Row],[IdEstablecimiento]],'[1]Establecimiento 2023'!$A$1:$E$183,5,FALSE),0)","v":"04301-Ovalle"},"16090300","2022-03-17T09:35:48",39,39]
[{"$nulls":23},2,"5",2022,"105419",{"$f":"IFERROR(VLOOKUP(Tabla_SERIED_12_5[[#This Row],[IdEstablecimiento]],'[1]Establecimiento 2023'!$A$1:$E$183,3,FALSE),0)","v":"105419-Posta de Salud Rural Las Sossas"},{"$f":"IFERROR(VLOOKUP(Tabla_SERIED_12_5[[#This Row],[IdEstablecimiento]],'[1]Establecimiento 2023'!$A$1:$E$183,5,FALSE),0)","v":"04301-Ovalle"},"16200210","2022-03-17T09:35:48",1,1]
[{"$nulls":23},2,"5",2022,"105419",{"$f":"IFERROR(VLOOKUP(Tabla_SERIED_12_5[[#This Row],[IdEstablecimiento]],'[1]Establecimiento 2023'!$A$1:$E$183,3,FALSE),0)","v":"105419-Posta de Salud Rural Las Sossas"},{"$f":"IFERROR(VLOOKUP(Tabla_SERIED_12_5[[#This Row],[IdEstablecimiento]],'[1]Establecimiento 2023'!$A$1:$E$183,5,FALSE),0)","v":"04301-Ovalle"},"16100300","2022-03-17T09:35:48",39,14,25,null,5]
[{"$nulls":23},2,"5",2022,"105419",{"$f":"IFERROR(VLOOKUP(Tabla_SERIED_12_5[[#This Row],[IdEstablecimiento]],'[1]Establecimiento 2023'!$A$1:$E$183,3,FALSE),0)","v":"105419-Posta de Salud Rural Las Sossas"},{"$f":"IFERROR(VLOOKUP(Tabla_SERIED_12_5[[#This Row],[IdEstablecimiento]],'[1]Establecimiento 2023'!$A$1:$E$183,5,FALSE),0)","v":"04301-Ovalle"},"16200220","2022-03-17T09:35:48",1,null,1,null,1]
[{"$nulls":23},4,"5",2022,"105447",{"$f":"IFERROR(VLOOKUP(Tabla_SERIED_12_5[[#This Row],[IdEstablecimiento]],'[1]Establecimiento 2023'!$A$1:$E$183,3,FALSE),0)","v":"105447-Posta de Salud Rural Peralillo Illapel"},{"$f":"IFERROR(VLOOKUP(Tabla_SERIED_12_5[[#This Row],[IdEstablecimiento]],'[1]Establecimiento 2023'!$A$1:$E$183,5,FALSE),0)","v":"04201-Illapel"},"16100300","2022-05-18T15:03:17",44,18,26]
[{"$nulls":23},4,"5",2022,"105448",{"$f":"IFERROR(VLOOKUP(Tabla_SERIED_12_5[[#This Row],[IdEstablecimiento]],'[1]Establecimiento 2023'!$A$1:$E$183,3,FALSE),0)","v":"105448-Posta de Salud Rural Santa Virginia"},{"$f":"IFERROR(VLOOKUP(Tabla_SERIED_12_5[[#This Row],[IdEstablecimiento]],'[1]Establecimiento 2023'!$A$1:$E$183,5,FALSE),0)","v":"04201-Illapel"},"15010100","2022-05-18T15:03:31",10,{"$nulls":3},10]
[{"$nulls":23},2,"5",2022,"105427",{"$f":"IFERROR(VLOOKUP(Tabla_SERIED_12_5[[#This Row],[IdEstablecimiento]],'[1]Establecimiento 2023'!$A$1:$E$183,3,FALSE),0)","v":"105427-Posta de Salud Rural Hacienda Valdivia"},{"$f":"IFERROR(VLOOKUP(Tabla_SERIED_12_5[[#This Row],[IdEstablecimiento]],'[1]Establecimiento 2023'!$A$1:$E$183,5,FALSE),0)","v":"04303-Monte Patria"},"16100300","2022-05-18T15:46:26",27,12,15,0,9]
[{"$nulls":23},2,"5",2022,"105427",{"$f":"IFERROR(VLOOKUP(Tabla_SERIED_12_5[[#This Row],[IdEstablecimiento]],'[1]Establecimiento 2023'!$A$1:$E$183,3,FALSE),0)","v":"105427-Posta de Salud Rural Hacienda Valdivia"},{"$f":"IFERROR(VLOOKUP(Tabla_SERIED_12_5[[#This Row],[IdEstablecimiento]],'[1]Establecimiento 2023'!$A$1:$E$183,5,FALSE),0)","v":"04303-Monte Patria"},"16200220","2022-05-18T15:46:26",1,null,1]
[{"$nulls":23},3,"5",2022,"105448",{"$f":"IFERROR(VLOOKUP(Tabla_SERIED_12_5[[#This Row],[IdEstablecimiento]],'[1]Establecimiento 2023'!$A$1:$E$183,3,FALSE),0)","v":"105448-Posta de Salud Rural Santa Virginia"},{"$f":"IFERROR(VLOOKUP(Tabla_SERIED_12_5[[#This Row],[IdEstablecimiento]],'[1]Establecimiento 2023'!$A$1:$E$183,5,FALSE),0)","v":"04201-Illapel"},"15010100","2022-04-19T09:47:35",8,{"$nulls":3},8]
[{"$nulls":23},3,"5",2022,"105448",{"$f":"IFERROR(VLOOKUP(Tabla_SERIED_12_5[[#This Row],[IdEstablecimiento]],'[1]Establecimiento 2023'!$A$1:$E$183,3,FALSE),0)","v":"105448-Posta de Salud Rural Santa Virginia"},{"$f":"IFERROR(VLOOKUP(Tabla_SERIED_12_5[[#This Row],[IdEstablecimiento]],'[1]Establecimiento 2023'!$A$1:$E$183,5,FALSE),0)","v":"04201-Illapel"},"15010200","2022-04-19T09:47:35",18,{"$nulls":4},2,10,6]
[{"$nulls":23},3,"5",2022,"105448",{"$f":"IFERROR(VLOOKUP(Tabla_SERIED_12_5[[#This Row],[IdEstablecimiento]],'[1]Establecimiento 2023'!$A$1:$E$183,3,FALSE),0)","v":"105448-Posta de Salud Rural Santa Virginia"},{"$f":"IFERROR(VLOOKUP(Tabla_SERIED_12_5[[#This Row],[IdEstablecimiento]],'[1]Establecimiento 2023'!$A$1:$E$183,5,FALSE),0)","v":"04201-Illapel"},"15080008","2022-04-19T09:47:35",6,{"$nulls":7},3,{"$nulls":3},3]
[{"$nulls":23},3,"5",2022,"105462",{"$f":"IFERROR(VLOOKUP(Tabla_SERIED_12_5[[#This Row],[IdEstablecimiento]],'[1]Establecimiento 2023'!$A$1:$E$183,3,FALSE),0)","v":"105462-Posta de Salud Rural El Sauce (Combarbalá)"},{"$f":"IFERROR(VLOOKUP(Tabla_SERIED_12_5[[#This Row],[IdEstablecimiento]],'[1]Establecimiento 2023'!$A$1:$E$183,5,FALSE),0)","v":"04302-Combarbalá"},"16200210","2022-04-19T10:00:13",5,5]
[{"$nulls":23},3,"5",2022,"105462",{"$f":"IFERROR(VLOOKUP(Tabla_SERIED_12_5[[#This Row],[IdEstablecimiento]],'[1]Establecimiento 2023'!$A$1:$E$183,3,FALSE),0)","v":"105462-Posta de Salud Rural El Sauce (Combarbalá)"},{"$f":"IFERROR(VLOOKUP(Tabla_SERIED_12_5[[#This Row],[IdEstablecimiento]],'[1]Establecimiento 2023'!$A$1:$E$183,5,FALSE),0)","v":"04302-Combarbalá"},"16100300","2022-04-19T10:00:13",64,28,36,null,13]
[{"$nulls":23},3,"5",2022,"105462",{"$f":"IFERROR(VLOOKUP(Tabla_SERIED_12_5[[#This Row],[IdEstablecimiento]],'[1]Establecimiento 2023'!$A$1:$E$183,3,FALSE),0)","v":"105462-Posta de Salud Rural El Sauce (Combarbalá)"},{"$f":"IFERROR(VLOOKUP(Tabla_SERIED_12_5[[#This Row],[IdEstablecimiento]],'[1]Establecimiento 2023'!$A$1:$E$183,5,FALSE),0)","v":"04302-Combarbalá"},"16200220","2022-04-19T10:00:13",5,null,5,null,1]
[{"$nulls":23},3,"5",2022,"105463",{"$f":"IFERROR(VLOOKUP(Tabla_SERIED_12_5[[#This Row],[IdEstablecimiento]],'[1]Establecimiento 2023'!$A$1:$E$183,3,FALSE),0)","v":"105463-Posta de Salud Rural Quilitapia"},{"$f":"IFERROR(VLOOKUP(Tabla_SERIED_12_5[[#This Row],[IdEstablecimiento]],'[1]Establecimiento 2023'!$A$1:$E$183,5,FALSE),0)","v":"04302-Combarbalá"},"15010100","2022-04-19T10:00:28",2,{"$nulls":3},2]
[{"$nulls":23},3,"5",2022,"105463",{"$f":"IFERROR(VLOOKUP(Tabla_SERIED_12_5[[#This Row],[IdEstablecimiento]],'[1]Establecimiento 2023'!$A$1:$E$183,3,FALSE),0)","v":"105463-Posta de Salud Rural Quilitapia"},{"$f":"IFERROR(VLOOKUP(Tabla_SERIED_12_5[[#This Row],[IdEstablecimiento]],'[1]Establecimiento 2023'!$A$1:$E$183,5,FALSE),0)","v":"04302-Combarbalá"},"15010200","2022-04-19T10:00:28",30,{"$nulls":4},8,8,14]
[{"$nulls":23},3,"5",2022,"105463",{"$f":"IFERROR(VLOOKUP(Tabla_SERIED_12_5[[#This Row],[IdEstablecimiento]],'[1]Establecimiento 2023'!$A$1:$E$183,3,FALSE),0)","v":"105463-Posta de Salud Rural Quilitapia"},{"$f":"IFERROR(VLOOKUP(Tabla_SERIED_12_5[[#This Row],[IdEstablecimiento]],'[1]Establecimiento 2023'!$A$1:$E$183,5,FALSE),0)","v":"04302-Combarbalá"},"15080008","2022-04-19T10:00:28",1,{"$nulls":7},1]
[{"$nulls":23},3,"5",2022,"105463",{"$f":"IFERROR(VLOOKUP(Tabla_SERIED_12_5[[#This Row],[IdEstablecimiento]],'[1]Establecimiento 2023'!$A$1:$E$183,3,FALSE),0)","v":"105463-Posta de Salud Rural Quilitapia"},{"$f":"IFERROR(VLOOKUP(Tabla_SERIED_12_5[[#This Row],[IdEstablecimiento]],'[1]Establecimiento 2023'!$A$1:$E$183,5,FALSE),0)","v":"04302-Combarbalá"},"15900010","2022-04-19T10:00:28",2.4,null,null,2.4]
[{"$nulls":23},3,"5",2022,"105463",{"$f":"IFERROR(VLOOKUP(Tabla_SERIED_12_5[[#This Row],[IdEstablecimiento]],'[1]Establecimiento 2023'!$A$1:$E$183,3,FALSE),0)","v":"105463-Posta de Salud Rural Quilitapia"},{"$f":"IFERROR(VLOOKUP(Tabla_SERIED_12_5[[#This Row],[IdEstablecimiento]],'[1]Establecimiento 2023'!$A$1:$E$183,5,FALSE),0)","v":"04302-Combarbalá"},"15050100","2022-04-19T10:00:28",18,10,8,null,null,1,1,4,4,7,1]
[{"$nulls":23},3,"5",2022,"105463",{"$f":"IFERROR(VLOOKUP(Tabla_SERIED_12_5[[#This Row],[IdEstablecimiento]],'[1]Establecimiento 2023'!$A$1:$E$183,3,FALSE),0)","v":"105463-Posta de Salud Rural Quilitapia"},{"$f":"IFERROR(VLOOKUP(Tabla_SERIED_12_5[[#This Row],[IdEstablecimiento]],'[1]Establecimiento 2023'!$A$1:$E$183,5,FALSE),0)","v":"04302-Combarbalá"},"16090300","2022-04-19T10:00:28",86,86]
[{"$nulls":23},7,"5",2022,"105511",{"$f":"IFERROR(VLOOKUP(Tabla_SERIED_12_5[[#This Row],[IdEstablecimiento]],'[1]Establecimiento 2023'!$A$1:$E$183,3,FALSE),0)","v":"105511-Posta de Salud Rural Los Cóndores"},{"$f":"IFERROR(VLOOKUP(Tabla_SERIED_12_5[[#This Row],[IdEstablecimiento]],'[1]Establecimiento 2023'!$A$1:$E$183,5,FALSE),0)","v":"04203-Los Vilos"},"15080008","2022-08-22T06:46:26",4,{"$nulls":7},3,null,null,1]
[{"$nulls":23},7,"5",2022,"105511",{"$f":"IFERROR(VLOOKUP(Tabla_SERIED_12_5[[#This Row],[IdEstablecimiento]],'[1]Establecimiento 2023'!$A$1:$E$183,3,FALSE),0)","v":"105511-Posta de Salud Rural Los Cóndores"},{"$f":"IFERROR(VLOOKUP(Tabla_SERIED_12_5[[#This Row],[IdEstablecimiento]],'[1]Establecimiento 2023'!$A$1:$E$183,5,FALSE),0)","v":"04203-Los Vilos"},"15900010","2022-08-22T06:46:26",18,null,4.5,13.5]
[{"$nulls":23},7,"5",2022,"105511",{"$f":"IFERROR(VLOOKUP(Tabla_SERIED_12_5[[#This Row],[IdEstablecimiento]],'[1]Establecimiento 2023'!$A$1:$E$183,3,FALSE),0)","v":"105511-Posta de Salud Rural Los Cóndores"},{"$f":"IFERROR(VLOOKUP(Tabla_SERIED_12_5[[#This Row],[IdEstablecimiento]],'[1]Establecimiento 2023'!$A$1:$E$183,5,FALSE),0)","v":"04203-Los Vilos"},"15010400","2022-08-22T06:46:26",2,{"$nulls":6},2]
[{"$nulls":23},7,"5",2022,"105511",{"$f":"IFERROR(VLOOKUP(Tabla_SERIED_12_5[[#This Row],[IdEstablecimiento]],'[1]Establecimiento 2023'!$A$1:$E$183,3,FALSE),0)","v":"105511-Posta de Salud Rural Los Cóndores"},{"$f":"IFERROR(VLOOKUP(Tabla_SERIED_12_5[[#This Row],[IdEstablecimiento]],'[1]Establecimiento 2023'!$A$1:$E$183,5,FALSE),0)","v":"04203-Los Vilos"},"15050100","2022-08-22T06:46:26",41,16,25,null,1,5,7,4,15,5,3,null,0,1]
[{"$nulls":23},7,"5",2022,"105511",{"$f":"IFERROR(VLOOKUP(Tabla_SERIED_12_5[[#This Row],[IdEstablecimiento]],'[1]Establecimiento 2023'!$A$1:$E$183,3,FALSE),0)","v":"105511-Posta de Salud Rural Los Cóndores"},{"$f":"IFERROR(VLOOKUP(Tabla_SERIED_12_5[[#This Row],[IdEstablecimiento]],'[1]Establecimiento 2023'!$A$1:$E$183,5,FALSE),0)","v":"04203-Los Vilos"},"15050200","2022-08-22T06:46:26",1,1,0,{"$nulls":6},1]
[{"$nulls":23},2,"5",2022,"200402",{"$f":"IFERROR(VLOOKUP(Tabla_SERIED_12_5[[#This Row],[IdEstablecimiento]],'[1]Establecimiento 2023'!$A$1:$E$183,3,FALSE),0)","v":"200402-Centro Comunitario de Salud Familiar Arcos de Pinamar"},{"$f":"IFERROR(VLOOKUP(Tabla_SERIED_12_5[[#This Row],[IdEstablecimiento]],'[1]Establecimiento 2023'!$A$1:$E$183,5,FALSE),0)","v":"04101-La Serena"},"15010500","2022-03-17T10:07:47",2,{"$nulls":3},2]
[{"$nulls":23},2,"5",2022,"200402",{"$f":"IFERROR(VLOOKUP(Tabla_SERIED_12_5[[#This Row],[IdEstablecimiento]],'[1]Establecimiento 2023'!$A$1:$E$183,3,FALSE),0)","v":"200402-Centro Comunitario de Salud Familiar Arcos de Pinamar"},{"$f":"IFERROR(VLOOKUP(Tabla_SERIED_12_5[[#This Row],[IdEstablecimiento]],'[1]Establecimiento 2023'!$A$1:$E$183,5,FALSE),0)","v":"04101-La Serena"},"15900030","2022-03-17T10:07:47",3.2,{"$nulls":3},3.2]
[{"$nulls":23},2,"5",2022,"200402",{"$f":"IFERROR(VLOOKUP(Tabla_SERIED_12_5[[#This Row],[IdEstablecimiento]],'[1]Establecimiento 2023'!$A$1:$E$183,3,FALSE),0)","v":"200402-Centro Comunitario de Salud Familiar Arcos de Pinamar"},{"$f":"IFERROR(VLOOKUP(Tabla_SERIED_12_5[[#This Row],[IdEstablecimiento]],'[1]Establecimiento 2023'!$A$1:$E$183,5,FALSE),0)","v":"04101-La Serena"},"15900040","2022-03-17T10:07:47",3.2,null,null,3.2]
[{"$nulls":23},4,"5",2022,"105501",{"$f":"IFERROR(VLOOKUP(Tabla_SERIED_12_5[[#This Row],[IdEstablecimiento]],'[1]Establecimiento 2023'!$A$1:$E$183,3,FALSE),0)","v":"105501-Posta de Salud Rural Arboleda Grande"},{"$f":"IFERROR(VLOOKUP(Tabla_SERIED_12_5[[#This Row],[IdEstablecimiento]],'[1]Establecimiento 2023'!$A$1:$E$183,5,FALSE),0)","v":"04204-Salamanca"},"15080008","2022-05-18T15:20:23",5,{"$nulls":7},2,null,null,3]
[{"$nulls":23},4,"5",2022,"105501",{"$f":"IFERROR(VLOOKUP(Tabla_SERIED_12_5[[#This Row],[IdEstablecimiento]],'[1]Establecimiento 2023'!$A$1:$E$183,3,FALSE),0)","v":"105501-Posta de Salud Rural Arboleda Grande"},{"$f":"IFERROR(VLOOKUP(Tabla_SERIED_12_5[[#This Row],[IdEstablecimiento]],'[1]Establecimiento 2023'!$A$1:$E$183,5,FALSE),0)","v":"04204-Salamanca"},"15900010","2022-05-18T15:20:23",8,null,2.4,5.6]
[{"$nulls":23},4,"5",2022,"105501",{"$f":"IFERROR(VLOOKUP(Tabla_SERIED_12_5[[#This Row],[IdEstablecimiento]],'[1]Establecimiento 2023'!$A$1:$E$183,3,FALSE),0)","v":"105501-Posta de Salud Rural Arboleda Grande"},{"$f":"IFERROR(VLOOKUP(Tabla_SERIED_12_5[[#This Row],[IdEstablecimiento]],'[1]Establecimiento 2023'!$A$1:$E$183,5,FALSE),0)","v":"04204-Salamanca"},"15010400","2022-05-18T15:20:23",2,{"$nulls":5},2]
[{"$nulls":23},4,"5",2022,"105501",{"$f":"IFERROR(VLOOKUP(Tabla_SERIED_12_5[[#This Row],[IdEstablecimiento]],'[1]Establecimiento 2023'!$A$1:$E$183,3,FALSE),0)","v":"105501-Posta de Salud Rural Arboleda Grande"},{"$f":"IFERROR(VLOOKUP(Tabla_SERIED_12_5[[#This Row],[IdEstablecimiento]],'[1]Establecimiento 2023'!$A$1:$E$183,5,FALSE),0)","v":"04204-Salamanca"},"15010500","2022-05-18T15:20:23",4,null,null,2,null,null,2]
[{"$nulls":23},4,"5",2022,"105501",{"$f":"IFERROR(VLOOKUP(Tabla_SERIED_12_5[[#This Row],[IdEstablecimiento]],'[1]Establecimiento 2023'!$A$1:$E$183,3,FALSE),0)","v":"105501-Posta de Salud Rural Arboleda Grande"},{"$f":"IFERROR(VLOOKUP(Tabla_SERIED_12_5[[#This Row],[IdEstablecimiento]],'[1]Establecimiento 2023'!$A$1:$E$183,5,FALSE),0)","v":"04204-Salamanca"},"15900020","2022-05-18T15:20:23",4.8,null,1.6,3.2]
[{"$nulls":23},4,"5",2022,"105501",{"$f":"IFERROR(VLOOKUP(Tabla_SERIED_12_5[[#This Row],[IdEstablecimiento]],'[1]Establecimiento 2023'!$A$1:$E$183,3,FALSE),0)","v":"105501-Posta de Salud Rural Arboleda Grande"},{"$f":"IFERROR(VLOOKUP(Tabla_SERIED_12_5[[#This Row],[IdEstablecimiento]],'[1]Establecimiento 2023'!$A$1:$E$183,5,FALSE),0)","v":"04204-Salamanca"},"15900040","2022-05-18T15:20:23",4.8,{"$nulls":3},4.8]
[{"$nulls":23},3,"5",2022,"105446",{"$f":"IFERROR(VLOOKUP(Tabla_SERIED_12_5[[#This Row],[IdEstablecimiento]],'[1]Establecimiento 2023'!$A$1:$E$183,3,FALSE),0)","v":"105446-Posta de Salud Rural Matancilla"},{"$f":"IFERROR(VLOOKUP(Tabla_SERIED_12_5[[#This Row],[IdEstablecimiento]],'[1]Establecimiento 2023'!$A$1:$E$183,5,FALSE),0)","v":"04201-Illapel"},"15050100","2022-04-19T09:46:27",2,0,2,{"$nulls":5},2]
[{"$nulls":23},3,"5",2022,"105446",{"$f":"IFERROR(VLOOKUP(Tabla_SERIED_12_5[[#This Row],[IdEstablecimiento]],'[1]Establecimiento 2023'!$A$1:$E$183,3,FALSE),0)","v":"105446-Posta de Salud Rural Matancilla"},{"$f":"IFERROR(VLOOKUP(Tabla_SERIED_12_5[[#This Row],[IdEstablecimiento]],'[1]Establecimiento 2023'!$A$1:$E$183,5,FALSE),0)","v":"04201-Illapel"},"16090300","2022-04-19T09:46:27",5,5]
[{"$nulls":23},3,"5",2022,"105446",{"$f":"IFERROR(VLOOKUP(Tabla_SERIED_12_5[[#This Row],[IdEstablecimiento]],'[1]Establecimiento 2023'!$A$1:$E$183,3,FALSE),0)","v":"105446-Posta de Salud Rural Matancilla"},{"$f":"IFERROR(VLOOKUP(Tabla_SERIED_12_5[[#This Row],[IdEstablecimiento]],'[1]Establecimiento 2023'!$A$1:$E$183,5,FALSE),0)","v":"04201-Illapel"},"16200210","2022-04-19T09:46:27",4,4]
[{"$nulls":23},3,"5",2022,"105446",{"$f":"IFERROR(VLOOKUP(Tabla_SERIED_12_5[[#This Row],[IdEstablecimiento]],'[1]Establecimiento 2023'!$A$1:$E$183,3,FALSE),0)","v":"105446-Posta de Salud Rural Matancilla"},{"$f":"IFERROR(VLOOKUP(Tabla_SERIED_12_5[[#This Row],[IdEstablecimiento]],'[1]Establecimiento 2023'!$A$1:$E$183,5,FALSE),0)","v":"04201-Illapel"},"16100300","2022-04-19T09:46:27",5,4,1]
[{"$nulls":23},3,"5",2022,"105446",{"$f":"IFERROR(VLOOKUP(Tabla_SERIED_12_5[[#This Row],[IdEstablecimiento]],'[1]Establecimiento 2023'!$A$1:$E$183,3,FALSE),0)","v":"105446-Posta de Salud Rural Matancilla"},{"$f":"IFERROR(VLOOKUP(Tabla_SERIED_12_5[[#This Row],[IdEstablecimiento]],'[1]Establecimiento 2023'!$A$1:$E$183,5,FALSE),0)","v":"04201-Illapel"},"16200220","2022-04-19T09:46:27",4,2,2]
[{"$nulls":23},3,"5",2022,"105447",{"$f":"IFERROR(VLOOKUP(Tabla_SERIED_12_5[[#This Row],[IdEstablecimiento]],'[1]Establecimiento 2023'!$A$1:$E$183,3,FALSE),0)","v":"105447-Posta de Salud Rural Peralillo Illapel"},{"$f":"IFERROR(VLOOKUP(Tabla_SERIED_12_5[[#This Row],[IdEstablecimiento]],'[1]Establecimiento 2023'!$A$1:$E$183,5,FALSE),0)","v":"04201-Illapel"},"15010100","2022-04-19T09:46:42",6,{"$nulls":3},6]
[{"$nulls":23},3,"5",2022,"105447",{"$f":"IFERROR(VLOOKUP(Tabla_SERIED_12_5[[#This Row],[IdEstablecimiento]],'[1]Establecimiento 2023'!$A$1:$E$183,3,FALSE),0)","v":"105447-Posta de Salud Rural Peralillo Illapel"},{"$f":"IFERROR(VLOOKUP(Tabla_SERIED_12_5[[#This Row],[IdEstablecimiento]],'[1]Establecimiento 2023'!$A$1:$E$183,5,FALSE),0)","v":"04201-Illapel"},"15010200","2022-04-19T09:46:42",40,{"$nulls":4},6,16,18]
[{"$nulls":23},3,"5",2022,"105447",{"$f":"IFERROR(VLOOKUP(Tabla_SERIED_12_5[[#This Row],[IdEstablecimiento]],'[1]Establecimiento 2023'!$A$1:$E$183,3,FALSE),0)","v":"105447-Posta de Salud Rural Peralillo Illapel"},{"$f":"IFERROR(VLOOKUP(Tabla_SERIED_12_5[[#This Row],[IdEstablecimiento]],'[1]Establecimiento 2023'!$A$1:$E$183,5,FALSE),0)","v":"04201-Illapel"},"15080008","2022-04-19T09:46:42",3,{"$nulls":7},2,{"$nulls":3},1]
[{"$nulls":23},3,"5",2022,"200258",{"$f":"IFERROR(VLOOKUP(Tabla_SERIED_12_5[[#This Row],[IdEstablecimiento]],'[1]Establecimiento 2023'!$A$1:$E$183,3,FALSE),0)","v":"200258-Centro Comunitario de Salud Familiar Los Copihues"},{"$f":"IFERROR(VLOOKUP(Tabla_SERIED_12_5[[#This Row],[IdEstablecimiento]],'[1]Establecimiento 2023'!$A$1:$E$183,5,FALSE),0)","v":"04301-Ovalle"},"15010100","2022-04-19T10:13:49",17,{"$nulls":3},16,{"$nulls":3},1]
[{"$nulls":23},3,"5",2022,"200258",{"$f":"IFERROR(VLOOKUP(Tabla_SERIED_12_5[[#This Row],[IdEstablecimiento]],'[1]Establecimiento 2023'!$A$1:$E$183,3,FALSE),0)","v":"200258-Centro Comunitario de Salud Familiar Los Copihues"},{"$f":"IFERROR(VLOOKUP(Tabla_SERIED_12_5[[#This Row],[IdEstablecimiento]],'[1]Establecimiento 2023'!$A$1:$E$183,5,FALSE),0)","v":"04301-Ovalle"},"15010200","2022-04-19T10:13:49",98,{"$nulls":4},14,34,50]
[{"$nulls":23},1,"5",2022,"105305",{"$f":"IFERROR(VLOOKUP(Tabla_SERIED_12_5[[#This Row],[IdEstablecimiento]],'[1]Establecimiento 2023'!$A$1:$E$183,3,FALSE),0)","v":"105305-Centro de Salud Familiar Tierras Blancas"},{"$f":"IFERROR(VLOOKUP(Tabla_SERIED_12_5[[#This Row],[IdEstablecimiento]],'[1]Establecimiento 2023'!$A$1:$E$183,5,FALSE),0)","v":"04102-Coquimbo"},"15010500","2022-02-16T10:35:34",16,{"$nulls":4},2,8,6]
[{"$nulls":23},8,"5",2022,"105440",{"$f":"IFERROR(VLOOKUP(Tabla_SERIED_12_5[[#This Row],[IdEstablecimiento]],'[1]Establecimiento 2023'!$A$1:$E$183,3,FALSE),0)","v":"105440-Posta de Salud Rural Divisadero"},{"$f":"IFERROR(VLOOKUP(Tabla_SERIED_12_5[[#This Row],[IdEstablecimiento]],'[1]Establecimiento 2023'!$A$1:$E$183,5,FALSE),0)","v":"04304-Punitaqui"},"15010200","2022-09-21T07:42:04",2,{"$nulls":5},2]
[{"$nulls":23},8,"5",2022,"105440",{"$f":"IFERROR(VLOOKUP(Tabla_SERIED_12_5[[#This Row],[IdEstablecimiento]],'[1]Establecimiento 2023'!$A$1:$E$183,3,FALSE),0)","v":"105440-Posta de Salud Rural Divisadero"},{"$f":"IFERROR(VLOOKUP(Tabla_SERIED_12_5[[#This Row],[IdEstablecimiento]],'[1]Establecimiento 2023'!$A$1:$E$183,5,FALSE),0)","v":"04304-Punitaqui"},"15050100","2022-09-21T07:42:04",1,1,{"$nulls":6},1]
[{"$nulls":23},8,"5",2022,"105440",{"$f":"IFERROR(VLOOKUP(Tabla_SERIED_12_5[[#This Row],[IdEstablecimiento]],'[1]Establecimiento 2023'!$A$1:$E$183,3,FALSE),0)","v":"105440-Posta de Salud Rural Divisadero"},{"$f":"IFERROR(VLOOKUP(Tabla_SERIED_12_5[[#This Row],[IdEstablecimiento]],'[1]Establecimiento 2023'!$A$1:$E$183,5,FALSE),0)","v":"04304-Punitaqui"},"16090300","2022-09-21T07:42:04",53,53]
[{"$nulls":23},8,"5",2022,"105440",{"$f":"IFERROR(VLOOKUP(Tabla_SERIED_12_5[[#This Row],[IdEstablecimiento]],'[1]Establecimiento 2023'!$A$1:$E$183,3,FALSE),0)","v":"105440-Posta de Salud Rural Divisadero"},{"$f":"IFERROR(VLOOKUP(Tabla_SERIED_12_5[[#This Row],[IdEstablecimiento]],'[1]Establecimiento 2023'!$A$1:$E$183,5,FALSE),0)","v":"04304-Punitaqui"},"16100300","2022-09-21T07:42:04",53,25,28]
[{"$nulls":23},7,"5",2022,"105511",{"$f":"IFERROR(VLOOKUP(Tabla_SERIED_12_5[[#This Row],[IdEstablecimiento]],'[1]Establecimiento 2023'!$A$1:$E$183,3,FALSE),0)","v":"105511-Posta de Salud Rural Los Cóndores"},{"$f":"IFERROR(VLOOKUP(Tabla_SERIED_12_5[[#This Row],[IdEstablecimiento]],'[1]Establecimiento 2023'!$A$1:$E$183,5,FALSE),0)","v":"04203-Los Vilos"},"16090300","2022-08-22T06:46:26",44,44]
[{"$nulls":23},7,"5",2022,"105308",{"$f":"IFERROR(VLOOKUP(Tabla_SERIED_12_5[[#This Row],[IdEstablecimiento]],'[1]Establecimiento 2023'!$A$1:$E$183,3,FALSE),0)","v":"105308-Centro de Salud Familiar Punitaqui"},{"$f":"IFERROR(VLOOKUP(Tabla_SERIED_12_5[[#This Row],[IdEstablecimiento]],'[1]Establecimiento 2023'!$A$1:$E$183,5,FALSE),0)","v":"04304-Punitaqui"},"16090300","2022-08-19T11:59:48",567,567]
[{"$nulls":23},7,"5",2022,"105308",{"$f":"IFERROR(VLOOKUP(Tabla_SERIED_12_5[[#This Row],[IdEstablecimiento]],'[1]Establecimiento 2023'!$A$1:$E$183,3,FALSE),0)","v":"105308-Centro de Salud Familiar Punitaqui"},{"$f":"IFERROR(VLOOKUP(Tabla_SERIED_12_5[[#This Row],[IdEstablecimiento]],'[1]Establecimiento 2023'!$A$1:$E$183,5,FALSE),0)","v":"04304-Punitaqui"},"16100300","2022-08-19T11:59:48",567,232,335,5,41]
[{"$nulls":23},7,"5",2022,"105309",{"$f":"IFERROR(VLOOKUP(Tabla_SERIED_12_5[[#This Row],[IdEstablecimiento]],'[1]Establecimiento 2023'!$A$1:$E$183,3,FALSE),0)","v":"105309-Centro de Salud Familiar Canela"},{"$f":"IFERROR(VLOOKUP(Tabla_SERIED_12_5[[#This Row],[IdEstablecimiento]],'[1]Establecimiento 2023'!$A$1:$E$183,5,FALSE),0)","v":"04202-Canela"},"15010100","2022-08-19T11:59:59",35,{"$nulls":3},34,{"$nulls":3},1]
[{"$nulls":23},7,"5",2022,"105309",{"$f":"IFERROR(VLOOKUP(Tabla_SERIED_12_5[[#This Row],[IdEstablecimiento]],'[1]Establecimiento 2023'!$A$1:$E$183,3,FALSE),0)","v":"105309-Centro de Salud Familiar Canela"},{"$f":"IFERROR(VLOOKUP(Tabla_SERIED_12_5[[#This Row],[IdEstablecimiento]],'[1]Establecimiento 2023'!$A$1:$E$183,5,FALSE),0)","v":"04202-Canela"},"15010200","2022-08-19T11:59:59",204,{"$nulls":4},26,104,74]
[{"$nulls":23},7,"5",2022,"105309",{"$f":"IFERROR(VLOOKUP(Tabla_SERIED_12_5[[#This Row],[IdEstablecimiento]],'[1]Establecimiento 2023'!$A$1:$E$183,3,FALSE),0)","v":"105309-Centro de Salud Familiar Canela"},{"$f":"IFERROR(VLOOKUP(Tabla_SERIED_12_5[[#This Row],[IdEstablecimiento]],'[1]Establecimiento 2023'!$A$1:$E$183,5,FALSE),0)","v":"04202-Canela"},"15080008","2022-08-19T11:59:59",30,{"$nulls":7},19,null,4,null,7]
[{"$nulls":23},7,"5",2022,"105309",{"$f":"IFERROR(VLOOKUP(Tabla_SERIED_12_5[[#This Row],[IdEstablecimiento]],'[1]Establecimiento 2023'!$A$1:$E$183,3,FALSE),0)","v":"105309-Centro de Salud Familiar Canela"},{"$f":"IFERROR(VLOOKUP(Tabla_SERIED_12_5[[#This Row],[IdEstablecimiento]],'[1]Establecimiento 2023'!$A$1:$E$183,5,FALSE),0)","v":"04202-Canela"},"15900010","2022-08-19T11:59:59",53.6,9.4,13.2,31]
[{"$nulls":23},7,"5",2022,"105309",{"$f":"IFERROR(VLOOKUP(Tabla_SERIED_12_5[[#This Row],[IdEstablecimiento]],'[1]Establecimiento 2023'!$A$1:$E$183,3,FALSE),0)","v":"105309-Centro de Salud Familiar Canela"},{"$f":"IFERROR(VLOOKUP(Tabla_SERIED_12_5[[#This Row],[IdEstablecimiento]],'[1]Establecimiento 2023'!$A$1:$E$183,5,FALSE),0)","v":"04202-Canela"},"15010400","2022-08-19T11:59:59",2,{"$nulls":5},2]
[{"$nulls":23},7,"5",2022,"105309",{"$f":"IFERROR(VLOOKUP(Tabla_SERIED_12_5[[#This Row],[IdEstablecimiento]],'[1]Establecimiento 2023'!$A$1:$E$183,3,FALSE),0)","v":"105309-Centro de Salud Familiar Canela"},{"$f":"IFERROR(VLOOKUP(Tabla_SERIED_12_5[[#This Row],[IdEstablecimiento]],'[1]Establecimiento 2023'!$A$1:$E$183,5,FALSE),0)","v":"04202-Canela"},"15010500","2022-08-19T11:59:59",2,{"$nulls":5},2]
[{"$nulls":23},7,"5",2022,"105309",{"$f":"IFERROR(VLOOKUP(Tabla_SERIED_12_5[[#This Row],[IdEstablecimiento]],'[1]Establecimiento 2023'!$A$1:$E$183,3,FALSE),0)","v":"105309-Centro de Salud Familiar Canela"},{"$f":"IFERROR(VLOOKUP(Tabla_SERIED_12_5[[#This Row],[IdEstablecimiento]],'[1]Establecimiento 2023'!$A$1:$E$183,5,FALSE),0)","v":"04202-Canela"},"15080009","2022-08-19T11:59:59",3,{"$nulls":8},3]
[{"$nulls":23},7,"5",2022,"105309",{"$f":"IFERROR(VLOOKUP(Tabla_SERIED_12_5[[#This Row],[IdEstablecimiento]],'[1]Establecimiento 2023'!$A$1:$E$183,3,FALSE),0)","v":"105309-Centro de Salud Familiar Canela"},{"$f":"IFERROR(VLOOKUP(Tabla_SERIED_12_5[[#This Row],[IdEstablecimiento]],'[1]Establecimiento 2023'!$A$1:$E$183,5,FALSE),0)","v":"04202-Canela"},"15901500","2022-08-19T11:59:59",3.6,null,0,3.6]
[{"$nulls":23},2,"5",2022,"200499",{"$f":"IFERROR(VLOOKUP(Tabla_SERIED_12_5[[#This Row],[IdEstablecimiento]],'[1]Establecimiento 2023'!$A$1:$E$183,3,FALSE),0)","v":"200499-Centro de Salud Familiar Rural Pan de Azúcar"},{"$f":"IFERROR(VLOOKUP(Tabla_SERIED_12_5[[#This Row],[IdEstablecimiento]],'[1]Establecimiento 2023'!$A$1:$E$183,5,FALSE),0)","v":"04102-Coquimbo"},"15080012","2022-03-17T10:09:21",2,null,null,2]
[{"$nulls":23},2,"5",2022,"200499",{"$f":"IFERROR(VLOOKUP(Tabla_SERIED_12_5[[#This Row],[IdEstablecimiento]],'[1]Establecimiento 2023'!$A$1:$E$183,3,FALSE),0)","v":"200499-Centro de Salud Familiar Rural Pan de Azúcar"},{"$f":"IFERROR(VLOOKUP(Tabla_SERIED_12_5[[#This Row],[IdEstablecimiento]],'[1]Establecimiento 2023'!$A$1:$E$183,5,FALSE),0)","v":"04102-Coquimbo"},"15901500","2022-03-17T10:09:21",18.4,4,11.2,3.2]
[{"$nulls":23},2,"5",2022,"200499",{"$f":"IFERROR(VLOOKUP(Tabla_SERIED_12_5[[#This Row],[IdEstablecimiento]],'[1]Establecimiento 2023'!$A$1:$E$183,3,FALSE),0)","v":"200499-Centro de Salud Familiar Rural Pan de Azúcar"},{"$f":"IFERROR(VLOOKUP(Tabla_SERIED_12_5[[#This Row],[IdEstablecimiento]],'[1]Establecimiento 2023'!$A$1:$E$183,5,FALSE),0)","v":"04102-Coquimbo"},"15900030","2022-03-17T10:09:21",3.2,null,3.2]
[{"$nulls":23},2,"5",2022,"200499",{"$f":"IFERROR(VLOOKUP(Tabla_SERIED_12_5[[#This Row],[IdEstablecimiento]],'[1]Establecimiento 2023'!$A$1:$E$183,3,FALSE),0)","v":"200499-Centro de Salud Familiar Rural Pan de Azúcar"},{"$f":"IFERROR(VLOOKUP(Tabla_SERIED_12_5[[#This Row],[IdEstablecimiento]],'[1]Establecimiento 2023'!$A$1:$E$183,5,FALSE),0)","v":"04102-Coquimbo"},"15900040","2022-03-17T10:09:21",4.4,null,null,4.4]
[{"$nulls":23},7,"5",2022,"105325",{"$f":"IFERROR(VLOOKUP(Tabla_SERIED_12_5[[#This Row],[IdEstablecimiento]],'[1]Establecimiento 2023'!$A$1:$E$183,3,FALSE),0)","v":"105325-Centro de Salud Familiar Juan Pablo II (La Serena)"},{"$f":"IFERROR(VLOOKUP(Tabla_SERIED_12_5[[#This Row],[IdEstablecimiento]],'[1]Establecimiento 2023'!$A$1:$E$183,5,FALSE),0)","v":"04101-La Serena"},"16200220","2022-08-19T12:03:07",22,4,18,0,21]
[{"$nulls":23},7,"5",2022,"105325",{"$f":"IFERROR(VLOOKUP(Tabla_SERIED_12_5[[#This Row],[IdEstablecimiento]],'[1]Establecimiento 2023'!$A$1:$E$183,3,FALSE),0)","v":"105325-Centro de Salud Familiar Juan Pablo II (La Serena)"},{"$f":"IFERROR(VLOOKUP(Tabla_SERIED_12_5[[#This Row],[IdEstablecimiento]],'[1]Establecimiento 2023'!$A$1:$E$183,5,FALSE),0)","v":"04101-La Serena"},"16200100","2022-08-19T12:03:07",3,1,2,0,10]
[{"$nulls":23},7,"5",2022,"105326",{"$f":"IFERROR(VLOOKUP(Tabla_SERIED_12_5[[#This Row],[IdEstablecimiento]],'[1]Establecimiento 2023'!$A$1:$E$183,3,FALSE),0)","v":"105326-Centro de Salud Familiar Villa San Rafael de Rozas"},{"$f":"IFERROR(VLOOKUP(Tabla_SERIED_12_5[[#This Row],[IdEstablecimiento]],'[1]Establecimiento 2023'!$A$1:$E$183,5,FALSE),0)","v":"04201-Illapel"},"15010100","2022-08-19T13:06:02",38,{"$nulls":3},38]
[{"$nulls":23},7,"5",2022,"105326",{"$f":"IFERROR(VLOOKUP(Tabla_SERIED_12_5[[#This Row],[IdEstablecimiento]],'[1]Establecimiento 2023'!$A$1:$E$183,3,FALSE),0)","v":"105326-Centro de Salud Familiar Villa San Rafael de Rozas"},{"$f":"IFERROR(VLOOKUP(Tabla_SERIED_12_5[[#This Row],[IdEstablecimiento]],'[1]Establecimiento 2023'!$A$1:$E$183,5,FALSE),0)","v":"04201-Illapel"},"15010200","2022-08-19T13:06:02",201,{"$nulls":4},44,96,61]
[{"$nulls":23},7,"5",2022,"105326",{"$f":"IFERROR(VLOOKUP(Tabla_SERIED_12_5[[#This Row],[IdEstablecimiento]],'[1]Establecimiento 2023'!$A$1:$E$183,3,FALSE),0)","v":"105326-Centro de Salud Familiar Villa San Rafael de Rozas"},{"$f":"IFERROR(VLOOKUP(Tabla_SERIED_12_5[[#This Row],[IdEstablecimiento]],'[1]Establecimiento 2023'!$A$1:$E$183,5,FALSE),0)","v":"04201-Illapel"},"15080008","2022-08-19T13:06:02",51,{"$nulls":7},23,null,18,2,8]
[{"$nulls":23},7,"5",2022,"105400",{"$f":"IFERROR(VLOOKUP(Tabla_SERIED_12_5[[#This Row],[IdEstablecimiento]],'[1]Establecimiento 2023'!$A$1:$E$183,3,FALSE),0)","v":"105400-Posta de Salud Rural Algarrobito"},{"$f":"IFERROR(VLOOKUP(Tabla_SERIED_12_5[[#This Row],[IdEstablecimiento]],'[1]Establecimiento 2023'!$A$1:$E$183,5,FALSE),0)","v":"04101-La Serena"},"15010100","2022-08-19T13:06:19",20,{"$nulls":3},20]
[{"$nulls":23},7,"5",2022,"105400",{"$f":"IFERROR(VLOOKUP(Tabla_SERIED_12_5[[#This Row],[IdEstablecimiento]],'[1]Establecimiento 2023'!$A$1:$E$183,3,FALSE),0)","v":"105400-Posta de Salud Rural Algarrobito"},{"$f":"IFERROR(VLOOKUP(Tabla_SERIED_12_5[[#This Row],[IdEstablecimiento]],'[1]Establecimiento 2023'!$A$1:$E$183,5,FALSE),0)","v":"04101-La Serena"},"15010200","2022-08-19T13:06:19",76,{"$nulls":4},12,26,38]
[{"$nulls":23},7,"5",2022,"105400",{"$f":"IFERROR(VLOOKUP(Tabla_SERIED_12_5[[#This Row],[IdEstablecimiento]],'[1]Establecimiento 2023'!$A$1:$E$183,3,FALSE),0)","v":"105400-Posta de Salud Rural Algarrobito"},{"$f":"IFERROR(VLOOKUP(Tabla_SERIED_12_5[[#This Row],[IdEstablecimiento]],'[1]Establecimiento 2023'!$A$1:$E$183,5,FALSE),0)","v":"04101-La Serena"},"15080008","2022-08-19T13:06:19",7,{"$nulls":7},1,null,4,null,2]
[{"$nulls":23},7,"5",2022,"105400",{"$f":"IFERROR(VLOOKUP(Tabla_SERIED_12_5[[#This Row],[IdEstablecimiento]],'[1]Establecimiento 2023'!$A$1:$E$183,3,FALSE),0)","v":"105400-Posta de Salud Rural Algarrobito"},{"$f":"IFERROR(VLOOKUP(Tabla_SERIED_12_5[[#This Row],[IdEstablecimiento]],'[1]Establecimiento 2023'!$A$1:$E$183,5,FALSE),0)","v":"04101-La Serena"},"15900010","2022-08-19T13:06:19",5.4,null,null,5.4]
[{"$nulls":23},1,"5",2022,"105485",{"$f":"IFERROR(VLOOKUP(Tabla_SERIED_12_5[[#This Row],[IdEstablecimiento]],'[1]Establecimiento 2023'!$A$1:$E$183,3,FALSE),0)","v":"105485-Posta de Salud Rural Plan de Hornos"},{"$f":"IFERROR(VLOOKUP(Tabla_SERIED_12_5[[#This Row],[IdEstablecimiento]],'[1]Establecimiento 2023'!$A$1:$E$183,5,FALSE),0)","v":"04201-Illapel"},"16090300","2022-02-17T03:58:07",58,58]
[{"$nulls":23},1,"5",2022,"105485",{"$f":"IFERROR(VLOOKUP(Tabla_SERIED_12_5[[#This Row],[IdEstablecimiento]],'[1]Establecimiento 2023'!$A$1:$E$183,3,FALSE),0)","v":"105485-Posta de Salud Rural Plan de Hornos"},{"$f":"IFERROR(VLOOKUP(Tabla_SERIED_12_5[[#This Row],[IdEstablecimiento]],'[1]Establecimiento 2023'!$A$1:$E$183,5,FALSE),0)","v":"04201-Illapel"},"16200210","2022-02-17T03:58:07",6,6]
[{"$nulls":23},1,"5",2022,"105485",{"$f":"IFERROR(VLOOKUP(Tabla_SERIED_12_5[[#This Row],[IdEstablecimiento]],'[1]Establecimiento 2023'!$A$1:$E$183,3,FALSE),0)","v":"105485-Posta de Salud Rural Plan de Hornos"},{"$f":"IFERROR(VLOOKUP(Tabla_SERIED_12_5[[#This Row],[IdEstablecimiento]],'[1]Establecimiento 2023'!$A$1:$E$183,5,FALSE),0)","v":"04201-Illapel"},"16100300","2022-02-17T03:58:07",58,23,35]
[{"$nulls":23},1,"5",2022,"105485",{"$f":"IFERROR(VLOOKUP(Tabla_SERIED_12_5[[#This Row],[IdEstablecimiento]],'[1]Establecimiento 2023'!$A$1:$E$183,3,FALSE),0)","v":"105485-Posta de Salud Rural Plan de Hornos"},{"$f":"IFERROR(VLOOKUP(Tabla_SERIED_12_5[[#This Row],[IdEstablecimiento]],'[1]Establecimiento 2023'!$A$1:$E$183,5,FALSE),0)","v":"04201-Illapel"},"16200220","2022-02-17T03:58:07",6,1,5]
[{"$nulls":23},1,"5",2022,"105416",{"$f":"IFERROR(VLOOKUP(Tabla_SERIED_12_5[[#This Row],[IdEstablecimiento]],'[1]Establecimiento 2023'!$A$1:$E$183,3,FALSE),0)","v":"105416-Posta de Salud Rural Camarico (Ovalle)"},{"$f":"IFERROR(VLOOKUP(Tabla_SERIED_12_5[[#This Row],[IdEstablecimiento]],'[1]Establecimiento 2023'!$A$1:$E$183,5,FALSE),0)","v":"04301-Ovalle"},"16200100","2022-02-16T10:55:59",1,1]
[{"$nulls":23},1,"5",2022,"105417",{"$f":"IFERROR(VLOOKUP(Tabla_SERIED_12_5[[#This Row],[IdEstablecimiento]],'[1]Establecimiento 2023'!$A$1:$E$183,3,FALSE),0)","v":"105417-Posta de Salud Rural Alcones Bajo"},{"$f":"IFERROR(VLOOKUP(Tabla_SERIED_12_5[[#This Row],[IdEstablecimiento]],'[1]Establecimiento 2023'!$A$1:$E$183,5,FALSE),0)","v":"04301-Ovalle"},"15010100","2022-02-16T10:56:14",2,{"$nulls":3},2]
[{"$nulls":23},1,"5",2022,"105417",{"$f":"IFERROR(VLOOKUP(Tabla_SERIED_12_5[[#This Row],[IdEstablecimiento]],'[1]Establecimiento 2023'!$A$1:$E$183,3,FALSE),0)","v":"105417-Posta de Salud Rural Alcones Bajo"},{"$f":"IFERROR(VLOOKUP(Tabla_SERIED_12_5[[#This Row],[IdEstablecimiento]],'[1]Establecimiento 2023'!$A$1:$E$183,5,FALSE),0)","v":"04301-Ovalle"},"15010200","2022-02-16T10:56:14",16,{"$nulls":4},2,4,10]
[{"$nulls":23},1,"5",2022,"105417",{"$f":"IFERROR(VLOOKUP(Tabla_SERIED_12_5[[#This Row],[IdEstablecimiento]],'[1]Establecimiento 2023'!$A$1:$E$183,3,FALSE),0)","v":"105417-Posta de Salud Rural Alcones Bajo"},{"$f":"IFERROR(VLOOKUP(Tabla_SERIED_12_5[[#This Row],[IdEstablecimiento]],'[1]Establecimiento 2023'!$A$1:$E$183,5,FALSE),0)","v":"04301-Ovalle"},"15080008","2022-02-16T10:56:14",12,{"$nulls":7},6,null,4,null,2]
[{"$nulls":23},1,"5",2022,"105417",{"$f":"IFERROR(VLOOKUP(Tabla_SERIED_12_5[[#This Row],[IdEstablecimiento]],'[1]Establecimiento 2023'!$A$1:$E$183,3,FALSE),0)","v":"105417-Posta de Salud Rural Alcones Bajo"},{"$f":"IFERROR(VLOOKUP(Tabla_SERIED_12_5[[#This Row],[IdEstablecimiento]],'[1]Establecimiento 2023'!$A$1:$E$183,5,FALSE),0)","v":"04301-Ovalle"},"15900010","2022-02-16T10:56:14",2.4,null,null,2.4]
[{"$nulls":23},1,"5",2022,"105417",{"$f":"IFERROR(VLOOKUP(Tabla_SERIED_12_5[[#This Row],[IdEstablecimiento]],'[1]Establecimiento 2023'!$A$1:$E$183,3,FALSE),0)","v":"105417-Posta de Salud Rural Alcones Bajo"},{"$f":"IFERROR(VLOOKUP(Tabla_SERIED_12_5[[#This Row],[IdEstablecimiento]],'[1]Establecimiento 2023'!$A$1:$E$183,5,FALSE),0)","v":"04301-Ovalle"},"15010300","2022-02-16T10:56:14",2,{"$nulls":3},2]
[{"$nulls":23},1,"5",2022,"105417",{"$f":"IFERROR(VLOOKUP(Tabla_SERIED_12_5[[#This Row],[IdEstablecimiento]],'[1]Establecimiento 2023'!$A$1:$E$183,3,FALSE),0)","v":"105417-Posta de Salud Rural Alcones Bajo"},{"$f":"IFERROR(VLOOKUP(Tabla_SERIED_12_5[[#This Row],[IdEstablecimiento]],'[1]Establecimiento 2023'!$A$1:$E$183,5,FALSE),0)","v":"04301-Ovalle"},"15010400","2022-02-16T10:56:14",2,{"$nulls":5},2]
[{"$nulls":23},1,"5",2022,"105500",{"$f":"IFERROR(VLOOKUP(Tabla_SERIED_12_5[[#This Row],[IdEstablecimiento]],'[1]Establecimiento 2023'!$A$1:$E$183,3,FALSE),0)","v":"105500-Posta de Salud Rural Caleta Hornos"},{"$f":"IFERROR(VLOOKUP(Tabla_SERIED_12_5[[#This Row],[IdEstablecimiento]],'[1]Establecimiento 2023'!$A$1:$E$183,5,FALSE),0)","v":"04104-La Higuera"},"15080008","2022-02-17T04:15:21",5,{"$nulls":7},3,null,2]
[{"$nulls":23},1,"5",2022,"105490",{"$f":"IFERROR(VLOOKUP(Tabla_SERIED_12_5[[#This Row],[IdEstablecimiento]],'[1]Establecimiento 2023'!$A$1:$E$183,3,FALSE),0)","v":"105490-Posta de Salud Rural El Durazno(Combarbalá)"},{"$f":"IFERROR(VLOOKUP(Tabla_SERIED_12_5[[#This Row],[IdEstablecimiento]],'[1]Establecimiento 2023'!$A$1:$E$183,5,FALSE),0)","v":"04302-Combarbalá"},"15080008","2022-02-17T04:08:35",1,{"$nulls":7},1]
[{"$nulls":23},5,"5",2022,"105318",{"$f":"IFERROR(VLOOKUP(Tabla_SERIED_12_5[[#This Row],[IdEstablecimiento]],'[1]Establecimiento 2023'!$A$1:$E$183,3,FALSE),0)","v":"105318-Centro de Salud Familiar El Palqui"},{"$f":"IFERROR(VLOOKUP(Tabla_SERIED_12_5[[#This Row],[IdEstablecimiento]],'[1]Establecimiento 2023'!$A$1:$E$183,5,FALSE),0)","v":"04303-Monte Patria"},"16200100","2022-06-20T17:04:21",5,4,1]
[{"$nulls":23},5,"5",2022,"105319",{"$f":"IFERROR(VLOOKUP(Tabla_SERIED_12_5[[#This Row],[IdEstablecimiento]],'[1]Establecimiento 2023'!$A$1:$E$183,3,FALSE),0)","v":"105319-Centro de Salud Familiar Cardenal Raúl Silva Henríquez de La Serena"},{"$f":"IFERROR(VLOOKUP(Tabla_SERIED_12_5[[#This Row],[IdEstablecimiento]],'[1]Establecimiento 2023'!$A$1:$E$183,5,FALSE),0)","v":"04101-La Serena"},"15010100","2022-06-20T17:04:36",134,null,null,4,130]
[{"$nulls":23},5,"5",2022,"105319",{"$f":"IFERROR(VLOOKUP(Tabla_SERIED_12_5[[#This Row],[IdEstablecimiento]],'[1]Establecimiento 2023'!$A$1:$E$183,3,FALSE),0)","v":"105319-Centro de Salud Familiar Cardenal Raúl Silva Henríquez de La Serena"},{"$f":"IFERROR(VLOOKUP(Tabla_SERIED_12_5[[#This Row],[IdEstablecimiento]],'[1]Establecimiento 2023'!$A$1:$E$183,5,FALSE),0)","v":"04101-La Serena"},"15010200","2022-06-20T17:04:36",591,{"$nulls":4},124,258,209]
[{"$nulls":23},5,"5",2022,"105319",{"$f":"IFERROR(VLOOKUP(Tabla_SERIED_12_5[[#This Row],[IdEstablecimiento]],'[1]Establecimiento 2023'!$A$1:$E$183,3,FALSE),0)","v":"105319-Centro de Salud Familiar Cardenal Raúl Silva Henríquez de La Serena"},{"$f":"IFERROR(VLOOKUP(Tabla_SERIED_12_5[[#This Row],[IdEstablecimiento]],'[1]Establecimiento 2023'!$A$1:$E$183,5,FALSE),0)","v":"04101-La Serena"},"15080008","2022-06-20T17:04:36",142,{"$nulls":7},83,null,48,null,11]
[{"$nulls":23},5,"5",2022,"105319",{"$f":"IFERROR(VLOOKUP(Tabla_SERIED_12_5[[#This Row],[IdEstablecimiento]],'[1]Establecimiento 2023'!$A$1:$E$183,3,FALSE),0)","v":"105319-Centro de Salud Familiar Cardenal Raúl Silva Henríquez de La Serena"},{"$f":"IFERROR(VLOOKUP(Tabla_SERIED_12_5[[#This Row],[IdEstablecimiento]],'[1]Establecimiento 2023'!$A$1:$E$183,5,FALSE),0)","v":"04101-La Serena"},"15900010","2022-06-20T17:04:36",205.6,20,27.2,158.4]
[{"$nulls":23},5,"5",2022,"105319",{"$f":"IFERROR(VLOOKUP(Tabla_SERIED_12_5[[#This Row],[IdEstablecimiento]],'[1]Establecimiento 2023'!$A$1:$E$183,3,FALSE),0)","v":"105319-Centro de Salud Familiar Cardenal Raúl Silva Henríquez de La Serena"},{"$f":"IFERROR(VLOOKUP(Tabla_SERIED_12_5[[#This Row],[IdEstablecimiento]],'[1]Establecimiento 2023'!$A$1:$E$183,5,FALSE),0)","v":"04101-La Serena"},"15010300","2022-06-20T17:04:36",4,null,null,4]
[{"$nulls":23},5,"5",2022,"105319",{"$f":"IFERROR(VLOOKUP(Tabla_SERIED_12_5[[#This Row],[IdEstablecimiento]],'[1]Establecimiento 2023'!$A$1:$E$183,3,FALSE),0)","v":"105319-Centro de Salud Familiar Cardenal Raúl Silva Henríquez de La Serena"},{"$f":"IFERROR(VLOOKUP(Tabla_SERIED_12_5[[#This Row],[IdEstablecimiento]],'[1]Establecimiento 2023'!$A$1:$E$183,5,FALSE),0)","v":"04101-La Serena"},"15010400","2022-06-20T17:04:36",2,{"$nulls":5},2]
[{"$nulls":23},1,"5",2022,"105417",{"$f":"IFERROR(VLOOKUP(Tabla_SERIED_12_5[[#This Row],[IdEstablecimiento]],'[1]Establecimiento 2023'!$A$1:$E$183,3,FALSE),0)","v":"105417-Posta de Salud Rural Alcones Bajo"},{"$f":"IFERROR(VLOOKUP(Tabla_SERIED_12_5[[#This Row],[IdEstablecimiento]],'[1]Establecimiento 2023'!$A$1:$E$183,5,FALSE),0)","v":"04301-Ovalle"},"15010500","2022-02-16T10:56:14",4,{"$nulls":3},2,null,2]
[{"$nulls":23},1,"5",2022,"105417",{"$f":"IFERROR(VLOOKUP(Tabla_SERIED_12_5[[#This Row],[IdEstablecimiento]],'[1]Establecimiento 2023'!$A$1:$E$183,3,FALSE),0)","v":"105417-Posta de Salud Rural Alcones Bajo"},{"$f":"IFERROR(VLOOKUP(Tabla_SERIED_12_5[[#This Row],[IdEstablecimiento]],'[1]Establecimiento 2023'!$A$1:$E$183,5,FALSE),0)","v":"04301-Ovalle"},"15050100","2022-02-16T10:56:14",20,4,16,null,null,1,1,1,2,5,6,null,2,null,2]
[{"$nulls":23},1,"5",2022,"105417",{"$f":"IFERROR(VLOOKUP(Tabla_SERIED_12_5[[#This Row],[IdEstablecimiento]],'[1]Establecimiento 2023'!$A$1:$E$183,3,FALSE),0)","v":"105417-Posta de Salud Rural Alcones Bajo"},{"$f":"IFERROR(VLOOKUP(Tabla_SERIED_12_5[[#This Row],[IdEstablecimiento]],'[1]Establecimiento 2023'!$A$1:$E$183,5,FALSE),0)","v":"04301-Ovalle"},"15050200","2022-02-16T10:56:14",2,1,1,{"$nulls":3},1,null,1]
[{"$nulls":23},1,"5",2022,"105417",{"$f":"IFERROR(VLOOKUP(Tabla_SERIED_12_5[[#This Row],[IdEstablecimiento]],'[1]Establecimiento 2023'!$A$1:$E$183,3,FALSE),0)","v":"105417-Posta de Salud Rural Alcones Bajo"},{"$f":"IFERROR(VLOOKUP(Tabla_SERIED_12_5[[#This Row],[IdEstablecimiento]],'[1]Establecimiento 2023'!$A$1:$E$183,5,FALSE),0)","v":"04301-Ovalle"},"16090300","2022-02-16T10:56:14",97,97]
[{"$nulls":23},3,"5",2022,"105302",{"$f":"IFERROR(VLOOKUP(Tabla_SERIED_12_5[[#This Row],[IdEstablecimiento]],'[1]Establecimiento 2023'!$A$1:$E$183,3,FALSE),0)","v":"105302-Centro de Salud Familiar Pedro Aguirre Cerda"},{"$f":"IFERROR(VLOOKUP(Tabla_SERIED_12_5[[#This Row],[IdEstablecimiento]],'[1]Establecimiento 2023'!$A$1:$E$183,5,FALSE),0)","v":"04101-La Serena"},"16090300","2022-04-19T08:02:36",658,658]
[{"$nulls":23},3,"5",2022,"105302",{"$f":"IFERROR(VLOOKUP(Tabla_SERIED_12_5[[#This Row],[IdEstablecimiento]],'[1]Establecimiento 2023'!$A$1:$E$183,3,FALSE),0)","v":"105302-Centro de Salud Familiar Pedro Aguirre Cerda"},{"$f":"IFERROR(VLOOKUP(Tabla_SERIED_12_5[[#This Row],[IdEstablecimiento]],'[1]Establecimiento 2023'!$A$1:$E$183,5,FALSE),0)","v":"04101-La Serena"},"16200210","2022-04-19T08:02:36",30,30]
[{"$nulls":23},3,"5",2022,"105302",{"$f":"IFERROR(VLOOKUP(Tabla_SERIED_12_5[[#This Row],[IdEstablecimiento]],'[1]Establecimiento 2023'!$A$1:$E$183,3,FALSE),0)","v":"105302-Centro de Salud Familiar Pedro Aguirre Cerda"},{"$f":"IFERROR(VLOOKUP(Tabla_SERIED_12_5[[#This Row],[IdEstablecimiento]],'[1]Establecimiento 2023'!$A$1:$E$183,5,FALSE),0)","v":"04101-La Serena"},"16090600","2022-04-19T08:02:36",1,1]
[{"$nulls":23},3,"5",2022,"105302",{"$f":"IFERROR(VLOOKUP(Tabla_SERIED_12_5[[#This Row],[IdEstablecimiento]],'[1]Establecimiento 2023'!$A$1:$E$183,3,FALSE),0)","v":"105302-Centro de Salud Familiar Pedro Aguirre Cerda"},{"$f":"IFERROR(VLOOKUP(Tabla_SERIED_12_5[[#This Row],[IdEstablecimiento]],'[1]Establecimiento 2023'!$A$1:$E$183,5,FALSE),0)","v":"04101-La Serena"},"16100300","2022-04-19T08:02:36",658,265,393,21,77]
[{"$nulls":23},5,"5",2022,"105313",{"$f":"IFERROR(VLOOKUP(Tabla_SERIED_12_5[[#This Row],[IdEstablecimiento]],'[1]Establecimiento 2023'!$A$1:$E$183,3,FALSE),0)","v":"105313-Centro de Salud Familiar Dr. Emilio Schaffhauser"},{"$f":"IFERROR(VLOOKUP(Tabla_SERIED_12_5[[#This Row],[IdEstablecimiento]],'[1]Establecimiento 2023'!$A$1:$E$183,5,FALSE),0)","v":"04101-La Serena"},"15900050","2022-06-20T17:03:27",17,10,7,null,4,5,4,4]
[{"$nulls":23},5,"5",2022,"105313",{"$f":"IFERROR(VLOOKUP(Tabla_SERIED_12_5[[#This Row],[IdEstablecimiento]],'[1]Establecimiento 2023'!$A$1:$E$183,3,FALSE),0)","v":"105313-Centro de Salud Familiar Dr. Emilio Schaffhauser"},{"$f":"IFERROR(VLOOKUP(Tabla_SERIED_12_5[[#This Row],[IdEstablecimiento]],'[1]Establecimiento 2023'!$A$1:$E$183,5,FALSE),0)","v":"04101-La Serena"},"15020100","2022-06-20T17:03:27",12,null,null,6,6]
[{"$nulls":23},5,"5",2022,"105313",{"$f":"IFERROR(VLOOKUP(Tabla_SERIED_12_5[[#This Row],[IdEstablecimiento]],'[1]Establecimiento 2023'!$A$1:$E$183,3,FALSE),0)","v":"105313-Centro de Salud Familiar Dr. Emilio Schaffhauser"},{"$f":"IFERROR(VLOOKUP(Tabla_SERIED_12_5[[#This Row],[IdEstablecimiento]],'[1]Establecimiento 2023'!$A$1:$E$183,5,FALSE),0)","v":"04101-La Serena"},"15020200","2022-06-20T17:03:27",8,{"$nulls":4},2,2,4]
[{"$nulls":23},5,"5",2022,"105313",{"$f":"IFERROR(VLOOKUP(Tabla_SERIED_12_5[[#This Row],[IdEstablecimiento]],'[1]Establecimiento 2023'!$A$1:$E$183,3,FALSE),0)","v":"105313-Centro de Salud Familiar Dr. Emilio Schaffhauser"},{"$f":"IFERROR(VLOOKUP(Tabla_SERIED_12_5[[#This Row],[IdEstablecimiento]],'[1]Establecimiento 2023'!$A$1:$E$183,5,FALSE),0)","v":"04101-La Serena"},"15901300","2022-06-20T17:03:27",3.2,3.2]
[{"$nulls":23},2,"5",2022,"105489",{"$f":"IFERROR(VLOOKUP(Tabla_SERIED_12_5[[#This Row],[IdEstablecimiento]],'[1]Establecimiento 2023'!$A$1:$E$183,3,FALSE),0)","v":"105489-Posta de Salud Rural Ramadas de Tulahuén"},{"$f":"IFERROR(VLOOKUP(Tabla_SERIED_12_5[[#This Row],[IdEstablecimiento]],'[1]Establecimiento 2023'!$A$1:$E$183,5,FALSE),0)","v":"04303-Monte Patria"},"15050100","2022-03-17T09:56:43",6,2,4,{"$nulls":3},2,null,2,1,{"$nulls":3},1]
[{"$nulls":23},7,"5",2022,"105400",{"$f":"IFERROR(VLOOKUP(Tabla_SERIED_12_5[[#This Row],[IdEstablecimiento]],'[1]Establecimiento 2023'!$A$1:$E$183,3,FALSE),0)","v":"105400-Posta de Salud Rural Algarrobito"},{"$f":"IFERROR(VLOOKUP(Tabla_SERIED_12_5[[#This Row],[IdEstablecimiento]],'[1]Establecimiento 2023'!$A$1:$E$183,5,FALSE),0)","v":"04101-La Serena"},"15060100","2022-08-19T13:06:19",1,0,1,{"$nulls":5},1]
[{"$nulls":23},7,"5",2022,"105402",{"$f":"IFERROR(VLOOKUP(Tabla_SERIED_12_5[[#This Row],[IdEstablecimiento]],'[1]Establecimiento 2023'!$A$1:$E$183,3,FALSE),0)","v":"105402-Posta de Salud Rural El Romero"},{"$f":"IFERROR(VLOOKUP(Tabla_SERIED_12_5[[#This Row],[IdEstablecimiento]],'[1]Establecimiento 2023'!$A$1:$E$183,5,FALSE),0)","v":"04101-La Serena"},"15010100","2022-08-19T13:06:45",4,{"$nulls":3},4]
[{"$nulls":23},7,"5",2022,"105402",{"$f":"IFERROR(VLOOKUP(Tabla_SERIED_12_5[[#This Row],[IdEstablecimiento]],'[1]Establecimiento 2023'!$A$1:$E$183,3,FALSE),0)","v":"105402-Posta de Salud Rural El Romero"},{"$f":"IFERROR(VLOOKUP(Tabla_SERIED_12_5[[#This Row],[IdEstablecimiento]],'[1]Establecimiento 2023'!$A$1:$E$183,5,FALSE),0)","v":"04101-La Serena"},"15050200","2022-08-19T13:06:45",2,1,1,{"$nulls":3},1,1]
[{"$nulls":23},8,"5",2022,"105441",{"$f":"IFERROR(VLOOKUP(Tabla_SERIED_12_5[[#This Row],[IdEstablecimiento]],'[1]Establecimiento 2023'!$A$1:$E$183,3,FALSE),0)","v":"105441-Posta de Salud Rural Manquehua"},{"$f":"IFERROR(VLOOKUP(Tabla_SERIED_12_5[[#This Row],[IdEstablecimiento]],'[1]Establecimiento 2023'!$A$1:$E$183,5,FALSE),0)","v":"04302-Combarbalá"},"16090300","2022-09-21T07:42:15",81,81]
[{"$nulls":23},8,"5",2022,"200569",{"$f":"IFERROR(VLOOKUP(Tabla_SERIED_12_5[[#This Row],[IdEstablecimiento]],'[1]Establecimiento 2023'!$A$1:$E$183,3,FALSE),0)","v":"200569-Centro de Salud Familiar Fray Jorge"},{"$f":"IFERROR(VLOOKUP(Tabla_SERIED_12_5[[#This Row],[IdEstablecimiento]],'[1]Establecimiento 2023'!$A$1:$E$183,5,FALSE),0)","v":"04301-Ovalle"},"15010500","2022-09-21T08:06:27",22,null,null,2,4,2,12,2]
[{"$nulls":23},8,"5",2022,"200569",{"$f":"IFERROR(VLOOKUP(Tabla_SERIED_12_5[[#This Row],[IdEstablecimiento]],'[1]Establecimiento 2023'!$A$1:$E$183,3,FALSE),0)","v":"200569-Centro de Salud Familiar Fray Jorge"},{"$f":"IFERROR(VLOOKUP(Tabla_SERIED_12_5[[#This Row],[IdEstablecimiento]],'[1]Establecimiento 2023'!$A$1:$E$183,5,FALSE),0)","v":"04301-Ovalle"},"15080009","2022-09-21T08:06:27",5,{"$nulls":8},3,null,2]
[{"$nulls":23},7,"5",2022,"105402",{"$f":"IFERROR(VLOOKUP(Tabla_SERIED_12_5[[#This Row],[IdEstablecimiento]],'[1]Establecimiento 2023'!$A$1:$E$183,3,FALSE),0)","v":"105402-Posta de Salud Rural El Romero"},{"$f":"IFERROR(VLOOKUP(Tabla_SERIED_12_5[[#This Row],[IdEstablecimiento]],'[1]Establecimiento 2023'!$A$1:$E$183,5,FALSE),0)","v":"04101-La Serena"},"16090300","2022-08-19T13:06:45",32,32]
[{"$nulls":23},7,"5",2022,"105405",{"$f":"IFERROR(VLOOKUP(Tabla_SERIED_12_5[[#This Row],[IdEstablecimiento]],'[1]Establecimiento 2023'!$A$1:$E$183,3,FALSE),0)","v":"105405-Posta de Salud Rural Guanaqueros"},{"$f":"IFERROR(VLOOKUP(Tabla_SERIED_12_5[[#This Row],[IdEstablecimiento]],'[1]Establecimiento 2023'!$A$1:$E$183,5,FALSE),0)","v":"04102-Coquimbo"},"15010500","2022-08-19T13:07:07",4,null,null,2,0,0,null,2]
[{"$nulls":23},7,"5",2022,"105407",{"$f":"IFERROR(VLOOKUP(Tabla_SERIED_12_5[[#This Row],[IdEstablecimiento]],'[1]Establecimiento 2023'!$A$1:$E$183,3,FALSE),0)","v":"105407-Posta de Salud Rural Tambillo"},{"$f":"IFERROR(VLOOKUP(Tabla_SERIED_12_5[[#This Row],[IdEstablecimiento]],'[1]Establecimiento 2023'!$A$1:$E$183,5,FALSE),0)","v":"04102-Coquimbo"},"15080008","2022-08-19T13:08:18",9,{"$nulls":7},3,null,6]
[{"$nulls":23},7,"5",2022,"105326",{"$f":"IFERROR(VLOOKUP(Tabla_SERIED_12_5[[#This Row],[IdEstablecimiento]],'[1]Establecimiento 2023'!$A$1:$E$183,3,FALSE),0)","v":"105326-Centro de Salud Familiar Villa San Rafael de Rozas"},{"$f":"IFERROR(VLOOKUP(Tabla_SERIED_12_5[[#This Row],[IdEstablecimiento]],'[1]Establecimiento 2023'!$A$1:$E$183,5,FALSE),0)","v":"04201-Illapel"},"15020100","2022-08-19T13:06:02",2,{"$nulls":3},2]
[{"$nulls":23},7,"5",2022,"105407",{"$f":"IFERROR(VLOOKUP(Tabla_SERIED_12_5[[#This Row],[IdEstablecimiento]],'[1]Establecimiento 2023'!$A$1:$E$183,3,FALSE),0)","v":"105407-Posta de Salud Rural Tambillo"},{"$f":"IFERROR(VLOOKUP(Tabla_SERIED_12_5[[#This Row],[IdEstablecimiento]],'[1]Establecimiento 2023'!$A$1:$E$183,5,FALSE),0)","v":"04102-Coquimbo"},"15050100","2022-08-19T13:08:18",17,4,13,null,null,1,1,1,4,4,3,null,3]
[{"$nulls":23},7,"5",2022,"105409",{"$f":"IFERROR(VLOOKUP(Tabla_SERIED_12_5[[#This Row],[IdEstablecimiento]],'[1]Establecimiento 2023'!$A$1:$E$183,3,FALSE),0)","v":"105409-Posta de Salud Rural El Chañar"},{"$f":"IFERROR(VLOOKUP(Tabla_SERIED_12_5[[#This Row],[IdEstablecimiento]],'[1]Establecimiento 2023'!$A$1:$E$183,5,FALSE),0)","v":"04305-Río Hurtado"},"16100300","2022-08-19T13:08:56",10,5,5]
[{"$nulls":23},2,"5",2022,"105304",{"$f":"IFERROR(VLOOKUP(Tabla_SERIED_12_5[[#This Row],[IdEstablecimiento]],'[1]Establecimiento 2023'!$A$1:$E$183,3,FALSE),0)","v":"105304-Centro de Salud Familiar Santa Cecilia"},{"$f":"IFERROR(VLOOKUP(Tabla_SERIED_12_5[[#This Row],[IdEstablecimiento]],'[1]Establecimiento 2023'!$A$1:$E$183,5,FALSE),0)","v":"04102-Coquimbo"},"15020200","2022-03-17T09:27:26",14,{"$nulls":4},12,0,2]
[{"$nulls":23},3,"5",2022,"105317",{"$f":"IFERROR(VLOOKUP(Tabla_SERIED_12_5[[#This Row],[IdEstablecimiento]],'[1]Establecimiento 2023'!$A$1:$E$183,3,FALSE),0)","v":"105317-Centro de Salud Familiar Jorge Jordán Domic"},{"$f":"IFERROR(VLOOKUP(Tabla_SERIED_12_5[[#This Row],[IdEstablecimiento]],'[1]Establecimiento 2023'!$A$1:$E$183,5,FALSE),0)","v":"04301-Ovalle"},"15080008","2022-04-19T08:10:01",208,{"$nulls":7},96,null,82,9,21]
[{"$nulls":23},2,"5",2022,"105411",{"$f":"IFERROR(VLOOKUP(Tabla_SERIED_12_5[[#This Row],[IdEstablecimiento]],'[1]Establecimiento 2023'!$A$1:$E$183,3,FALSE),0)","v":"105411-Posta de Salud Rural Las Breas (Río Hurtado)"},{"$f":"IFERROR(VLOOKUP(Tabla_SERIED_12_5[[#This Row],[IdEstablecimiento]],'[1]Establecimiento 2023'!$A$1:$E$183,5,FALSE),0)","v":"04305-Río Hurtado"},"16090300","2022-03-17T09:34:28",15,15]
[{"$nulls":23},4,"5",2022,"200499",{"$f":"IFERROR(VLOOKUP(Tabla_SERIED_12_5[[#This Row],[IdEstablecimiento]],'[1]Establecimiento 2023'!$A$1:$E$183,3,FALSE),0)","v":"200499-Centro de Salud Familiar Rural Pan de Azúcar"},{"$f":"IFERROR(VLOOKUP(Tabla_SERIED_12_5[[#This Row],[IdEstablecimiento]],'[1]Establecimiento 2023'!$A$1:$E$183,5,FALSE),0)","v":"04102-Coquimbo"},"15060100","2022-05-18T15:27:59",1,1,{"$nulls":4},1]
[{"$nulls":23},3,"5",2022,"105510",{"$f":"IFERROR(VLOOKUP(Tabla_SERIED_12_5[[#This Row],[IdEstablecimiento]],'[1]Establecimiento 2023'!$A$1:$E$183,3,FALSE),0)","v":"105510-Posta de Salud Rural Recoleta"},{"$f":"IFERROR(VLOOKUP(Tabla_SERIED_12_5[[#This Row],[IdEstablecimiento]],'[1]Establecimiento 2023'!$A$1:$E$183,5,FALSE),0)","v":"04301-Ovalle"},"15900010","2022-04-19T10:11:31",8.8,null,null,8.8]
[{"$nulls":23},2,"5",2022,"105107",{"$f":"IFERROR(VLOOKUP(Tabla_SERIED_12_5[[#This Row],[IdEstablecimiento]],'[1]Establecimiento 2023'!$A$1:$E$183,3,FALSE),0)","v":"105107-Hospital San Juan de Dios (Vicuña)"},{"$f":"IFERROR(VLOOKUP(Tabla_SERIED_12_5[[#This Row],[IdEstablecimiento]],'[1]Establecimiento 2023'!$A$1:$E$183,5,FALSE),0)","v":"105107-Hospital Vicuña"},"15010400","2022-04-20T05:54:01",10,{"$nulls":4},2,6,2]
[{"$nulls":23},5,"5",2022,"105470",{"$f":"IFERROR(VLOOKUP(Tabla_SERIED_12_5[[#This Row],[IdEstablecimiento]],'[1]Establecimiento 2023'!$A$1:$E$183,3,FALSE),0)","v":"105470-Posta de Salud Rural Huanta"},{"$f":"IFERROR(VLOOKUP(Tabla_SERIED_12_5[[#This Row],[IdEstablecimiento]],'[1]Establecimiento 2023'!$A$1:$E$183,5,FALSE),0)","v":"04106-Vicuña"},"15050100","2022-06-20T17:22:10",3,1,2,{"$nulls":4},1,1,1]
[{"$nulls":23},5,"5",2022,"105413",{"$f":"IFERROR(VLOOKUP(Tabla_SERIED_12_5[[#This Row],[IdEstablecimiento]],'[1]Establecimiento 2023'!$A$1:$E$183,3,FALSE),0)","v":"105413-Posta de Salud Rural Samo Alto"},{"$f":"IFERROR(VLOOKUP(Tabla_SERIED_12_5[[#This Row],[IdEstablecimiento]],'[1]Establecimiento 2023'!$A$1:$E$183,5,FALSE),0)","v":"04305-Río Hurtado"},"16090300","2022-06-20T17:10:44",91,91]
[{"$nulls":23},5,"5",2022,"105496",{"$f":"IFERROR(VLOOKUP(Tabla_SERIED_12_5[[#This Row],[IdEstablecimiento]],'[1]Establecimiento 2023'!$A$1:$E$183,3,FALSE),0)","v":"105496-Posta de Salud Rural Pintacura Sur"},{"$f":"IFERROR(VLOOKUP(Tabla_SERIED_12_5[[#This Row],[IdEstablecimiento]],'[1]Establecimiento 2023'!$A$1:$E$183,5,FALSE),0)","v":"04201-Illapel"},"15010200","2022-06-20T17:26:45",22,{"$nulls":5},12,10]
[{"$nulls":23},5,"5",2022,"105496",{"$f":"IFERROR(VLOOKUP(Tabla_SERIED_12_5[[#This Row],[IdEstablecimiento]],'[1]Establecimiento 2023'!$A$1:$E$183,3,FALSE),0)","v":"105496-Posta de Salud Rural Pintacura Sur"},{"$f":"IFERROR(VLOOKUP(Tabla_SERIED_12_5[[#This Row],[IdEstablecimiento]],'[1]Establecimiento 2023'!$A$1:$E$183,5,FALSE),0)","v":"04201-Illapel"},"15080008","2022-06-20T17:26:45",1,{"$nulls":7},1]
[{"$nulls":23},3,"5",2022,"105505",{"$f":"IFERROR(VLOOKUP(Tabla_SERIED_12_5[[#This Row],[IdEstablecimiento]],'[1]Establecimiento 2023'!$A$1:$E$183,3,FALSE),0)","v":"105505-Posta de Salud Rural Los Choros"},{"$f":"IFERROR(VLOOKUP(Tabla_SERIED_12_5[[#This Row],[IdEstablecimiento]],'[1]Establecimiento 2023'!$A$1:$E$183,5,FALSE),0)","v":"04104-La Higuera"},"15050100","2022-04-19T10:10:15",21,13,8,null,null,4,1,2,5,7,2]
[{"$nulls":23},1,"5",2022,"105470",{"$f":"IFERROR(VLOOKUP(Tabla_SERIED_12_5[[#This Row],[IdEstablecimiento]],'[1]Establecimiento 2023'!$A$1:$E$183,3,FALSE),0)","v":"105470-Posta de Salud Rural Huanta"},{"$f":"IFERROR(VLOOKUP(Tabla_SERIED_12_5[[#This Row],[IdEstablecimiento]],'[1]Establecimiento 2023'!$A$1:$E$183,5,FALSE),0)","v":"04106-Vicuña"},"15050100","2022-02-17T03:53:06",2,1,1,{"$nulls":4},1,1]
[{"$nulls":23},5,"5",2022,"105307",{"$f":"IFERROR(VLOOKUP(Tabla_SERIED_12_5[[#This Row],[IdEstablecimiento]],'[1]Establecimiento 2023'!$A$1:$E$183,3,FALSE),0)","v":"105307-Centro de Salud Familiar Monte Patria"},{"$f":"IFERROR(VLOOKUP(Tabla_SERIED_12_5[[#This Row],[IdEstablecimiento]],'[1]Establecimiento 2023'!$A$1:$E$183,5,FALSE),0)","v":"04303-Monte Patria"},"16200100","2022-06-20T17:02:07",2,2,0,0]
[{"$nulls":23},1,"5",2022,"105501",{"$f":"IFERROR(VLOOKUP(Tabla_SERIED_12_5[[#This Row],[IdEstablecimiento]],'[1]Establecimiento 2023'!$A$1:$E$183,3,FALSE),0)","v":"105501-Posta de Salud Rural Arboleda Grande"},{"$f":"IFERROR(VLOOKUP(Tabla_SERIED_12_5[[#This Row],[IdEstablecimiento]],'[1]Establecimiento 2023'!$A$1:$E$183,5,FALSE),0)","v":"04204-Salamanca"},"15010500","2022-02-17T04:18:29",2,{"$nulls":6},2]
[{"$nulls":23},8,"5",2022,"105306",{"$f":"IFERROR(VLOOKUP(Tabla_SERIED_12_5[[#This Row],[IdEstablecimiento]],'[1]Establecimiento 2023'!$A$1:$E$183,3,FALSE),0)","v":"105306-Centro de Salud Familiar Paihuano"},{"$f":"IFERROR(VLOOKUP(Tabla_SERIED_12_5[[#This Row],[IdEstablecimiento]],'[1]Establecimiento 2023'!$A$1:$E$183,5,FALSE),0)","v":"04105-Paiguano"},"15010500","2022-09-21T07:16:14",2,{"$nulls":6},2]
[{"$nulls":23},8,"5",2022,"105306",{"$f":"IFERROR(VLOOKUP(Tabla_SERIED_12_5[[#This Row],[IdEstablecimiento]],'[1]Establecimiento 2023'!$A$1:$E$183,3,FALSE),0)","v":"105306-Centro de Salud Familiar Paihuano"},{"$f":"IFERROR(VLOOKUP(Tabla_SERIED_12_5[[#This Row],[IdEstablecimiento]],'[1]Establecimiento 2023'!$A$1:$E$183,5,FALSE),0)","v":"04105-Paiguano"},"16200210","2022-09-21T07:16:14",3,3]
[{"$nulls":23},2,"5",2022,"200569",{"$f":"IFERROR(VLOOKUP(Tabla_SERIED_12_5[[#This Row],[IdEstablecimiento]],'[1]Establecimiento 2023'!$A$1:$E$183,3,FALSE),0)","v":"200569-Centro de Salud Familiar Fray Jorge"},{"$f":"IFERROR(VLOOKUP(Tabla_SERIED_12_5[[#This Row],[IdEstablecimiento]],'[1]Establecimiento 2023'!$A$1:$E$183,5,FALSE),0)","v":"04301-Ovalle"},"15901300","2022-03-17T10:09:48",4.4,{"$nulls":3},4.4]
[{"$nulls":23},6,"5",2022,"105315",{"$f":"IFERROR(VLOOKUP(Tabla_SERIED_12_5[[#This Row],[IdEstablecimiento]],'[1]Establecimiento 2023'!$A$1:$E$183,3,FALSE),0)","v":"105315-Centro de Salud Familiar Cerrillos de Tamaya"},{"$f":"IFERROR(VLOOKUP(Tabla_SERIED_12_5[[#This Row],[IdEstablecimiento]],'[1]Establecimiento 2023'!$A$1:$E$183,5,FALSE),0)","v":"04301-Ovalle"},"15010400","2022-07-14T14:05:21",2,{"$nulls":4},2]
[{"$nulls":23},1,"5",2022,"105104",{"$f":"IFERROR(VLOOKUP(Tabla_SERIED_12_5[[#This Row],[IdEstablecimiento]],'[1]Establecimiento 2023'!$A$1:$E$183,3,FALSE),0)","v":"105104-Hospital de Salamanca"},{"$f":"IFERROR(VLOOKUP(Tabla_SERIED_12_5[[#This Row],[IdEstablecimiento]],'[1]Establecimiento 2023'!$A$1:$E$183,5,FALSE),0)","v":"105104-Hospital Salamanca"},"15050100","2022-02-16T10:28:29",285,114,171,3,4,16,19,43,76,75,35,null,14,0,0]
[{"$nulls":23},1,"5",2022,"105475",{"$f":"IFERROR(VLOOKUP(Tabla_SERIED_12_5[[#This Row],[IdEstablecimiento]],'[1]Establecimiento 2023'!$A$1:$E$183,3,FALSE),0)","v":"105475-Posta de Salud Rural Horcón (Paiguano)"},{"$f":"IFERROR(VLOOKUP(Tabla_SERIED_12_5[[#This Row],[IdEstablecimiento]],'[1]Establecimiento 2023'!$A$1:$E$183,5,FALSE),0)","v":"04105-Paiguano"},"15900020","2022-02-17T03:54:37",1.6,null,1.6]
[{"$nulls":23},5,"5",2022,"105449",{"$f":"IFERROR(VLOOKUP(Tabla_SERIED_12_5[[#This Row],[IdEstablecimiento]],'[1]Establecimiento 2023'!$A$1:$E$183,3,FALSE),0)","v":"105449-Posta de Salud Rural Tunga Norte"},{"$f":"IFERROR(VLOOKUP(Tabla_SERIED_12_5[[#This Row],[IdEstablecimiento]],'[1]Establecimiento 2023'!$A$1:$E$183,5,FALSE),0)","v":"04201-Illapel"},"16200210","2022-06-20T17:18:30",3,3]
[{"$nulls":23},1,"5",2022,"105108",{"$f":"IFERROR(VLOOKUP(Tabla_SERIED_12_5[[#This Row],[IdEstablecimiento]],'[1]Establecimiento 2023'!$A$1:$E$183,3,FALSE),0)","v":"105108-Hospital San Pedro (Los Vilos)"},{"$f":"IFERROR(VLOOKUP(Tabla_SERIED_12_5[[#This Row],[IdEstablecimiento]],'[1]Establecimiento 2023'!$A$1:$E$183,5,FALSE),0)","v":"105108-Hospital Los Vilos"},"15010100","2022-05-18T15:37:40",96,null,null,18,78]
[{"$nulls":23},1,"5",2022,"105307",{"$f":"IFERROR(VLOOKUP(Tabla_SERIED_12_5[[#This Row],[IdEstablecimiento]],'[1]Establecimiento 2023'!$A$1:$E$183,3,FALSE),0)","v":"105307-Centro de Salud Familiar Monte Patria"},{"$f":"IFERROR(VLOOKUP(Tabla_SERIED_12_5[[#This Row],[IdEstablecimiento]],'[1]Establecimiento 2023'!$A$1:$E$183,5,FALSE),0)","v":"04303-Monte Patria"},"15050100","2022-02-16T10:36:10",239,111,128,null,6,14,22,24,52,59,34,null,23,2,3]
[{"$nulls":23},5,"5",2022,"200258",{"$f":"IFERROR(VLOOKUP(Tabla_SERIED_12_5[[#This Row],[IdEstablecimiento]],'[1]Establecimiento 2023'!$A$1:$E$183,3,FALSE),0)","v":"200258-Centro Comunitario de Salud Familiar Los Copihues"},{"$f":"IFERROR(VLOOKUP(Tabla_SERIED_12_5[[#This Row],[IdEstablecimiento]],'[1]Establecimiento 2023'!$A$1:$E$183,5,FALSE),0)","v":"04301-Ovalle"},"15080008","2022-06-20T17:32:58",20,{"$nulls":7},12,null,4,1,3]
[{"$nulls":23},7,"5",2022,"105489",{"$f":"IFERROR(VLOOKUP(Tabla_SERIED_12_5[[#This Row],[IdEstablecimiento]],'[1]Establecimiento 2023'!$A$1:$E$183,3,FALSE),0)","v":"105489-Posta de Salud Rural Ramadas de Tulahuén"},{"$f":"IFERROR(VLOOKUP(Tabla_SERIED_12_5[[#This Row],[IdEstablecimiento]],'[1]Establecimiento 2023'!$A$1:$E$183,5,FALSE),0)","v":"04303-Monte Patria"},"15030100","2022-08-22T06:33:58",3.2,null,null,3.2]
[{"$nulls":23},7,"5",2022,"105489",{"$f":"IFERROR(VLOOKUP(Tabla_SERIED_12_5[[#This Row],[IdEstablecimiento]],'[1]Establecimiento 2023'!$A$1:$E$183,3,FALSE),0)","v":"105489-Posta de Salud Rural Ramadas de Tulahuén"},{"$f":"IFERROR(VLOOKUP(Tabla_SERIED_12_5[[#This Row],[IdEstablecimiento]],'[1]Establecimiento 2023'!$A$1:$E$183,5,FALSE),0)","v":"04303-Monte Patria"},"15050100","2022-08-22T06:33:58",5,2,3,null,null,1,null,null,2,1,{"$nulls":4},1]
[{"$nulls":23},7,"5",2022,"105490",{"$f":"IFERROR(VLOOKUP(Tabla_SERIED_12_5[[#This Row],[IdEstablecimiento]],'[1]Establecimiento 2023'!$A$1:$E$183,3,FALSE),0)","v":"105490-Posta de Salud Rural El Durazno(Combarbalá)"},{"$f":"IFERROR(VLOOKUP(Tabla_SERIED_12_5[[#This Row],[IdEstablecimiento]],'[1]Establecimiento 2023'!$A$1:$E$183,5,FALSE),0)","v":"04302-Combarbalá"},"16100300","2022-08-22T06:34:11",37,17,20]
[{"$nulls":23},7,"5",2022,"105491",{"$f":"IFERROR(VLOOKUP(Tabla_SERIED_12_5[[#This Row],[IdEstablecimiento]],'[1]Establecimiento 2023'!$A$1:$E$183,3,FALSE),0)","v":"105491-Posta de Salud Rural Quelén Bajo"},{"$f":"IFERROR(VLOOKUP(Tabla_SERIED_12_5[[#This Row],[IdEstablecimiento]],'[1]Establecimiento 2023'!$A$1:$E$183,5,FALSE),0)","v":"04204-Salamanca"},"15080009","2022-08-22T06:34:25",1,{"$nulls":10},1]
[{"$nulls":23},4,"5",2022,"105491",{"$f":"IFERROR(VLOOKUP(Tabla_SERIED_12_5[[#This Row],[IdEstablecimiento]],'[1]Establecimiento 2023'!$A$1:$E$183,3,FALSE),0)","v":"105491-Posta de Salud Rural Quelén Bajo"},{"$f":"IFERROR(VLOOKUP(Tabla_SERIED_12_5[[#This Row],[IdEstablecimiento]],'[1]Establecimiento 2023'!$A$1:$E$183,5,FALSE),0)","v":"04204-Salamanca"},"15010400","2022-05-18T15:16:52",6,{"$nulls":5},6]
[{"$nulls":23},4,"5",2022,"105445",{"$f":"IFERROR(VLOOKUP(Tabla_SERIED_12_5[[#This Row],[IdEstablecimiento]],'[1]Establecimiento 2023'!$A$1:$E$183,3,FALSE),0)","v":"105445-Posta de Salud Rural Limáhuida"},{"$f":"IFERROR(VLOOKUP(Tabla_SERIED_12_5[[#This Row],[IdEstablecimiento]],'[1]Establecimiento 2023'!$A$1:$E$183,5,FALSE),0)","v":"04201-Illapel"},"16100300","2022-05-18T14:59:26",36,16,20]
[{"$nulls":23},4,"5",2022,"105447",{"$f":"IFERROR(VLOOKUP(Tabla_SERIED_12_5[[#This Row],[IdEstablecimiento]],'[1]Establecimiento 2023'!$A$1:$E$183,3,FALSE),0)","v":"105447-Posta de Salud Rural Peralillo Illapel"},{"$f":"IFERROR(VLOOKUP(Tabla_SERIED_12_5[[#This Row],[IdEstablecimiento]],'[1]Establecimiento 2023'!$A$1:$E$183,5,FALSE),0)","v":"04201-Illapel"},"15010200","2022-05-18T15:03:17",50,{"$nulls":4},6,28,16]
[{"$nulls":23},8,"5",2022,"105301",{"$f":"IFERROR(VLOOKUP(Tabla_SERIED_12_5[[#This Row],[IdEstablecimiento]],'[1]Establecimiento 2023'!$A$1:$E$183,3,FALSE),0)","v":"105301-Centro de Salud Familiar Las Compañías"},{"$f":"IFERROR(VLOOKUP(Tabla_SERIED_12_5[[#This Row],[IdEstablecimiento]],'[1]Establecimiento 2023'!$A$1:$E$183,5,FALSE),0)","v":"04101-La Serena"},"15030100","2022-09-21T07:14:54",3.2,3.2,0,0]
[{"$nulls":23},8,"5",2022,"105301",{"$f":"IFERROR(VLOOKUP(Tabla_SERIED_12_5[[#This Row],[IdEstablecimiento]],'[1]Establecimiento 2023'!$A$1:$E$183,3,FALSE),0)","v":"105301-Centro de Salud Familiar Las Compañías"},{"$f":"IFERROR(VLOOKUP(Tabla_SERIED_12_5[[#This Row],[IdEstablecimiento]],'[1]Establecimiento 2023'!$A$1:$E$183,5,FALSE),0)","v":"04101-La Serena"},"15020300","2022-09-21T07:14:54",4,0,0,2,2,0]
[{"$nulls":23},6,"5",2022,"105107",{"$f":"IFERROR(VLOOKUP(Tabla_SERIED_12_5[[#This Row],[IdEstablecimiento]],'[1]Establecimiento 2023'!$A$1:$E$183,3,FALSE),0)","v":"105107-Hospital San Juan de Dios (Vicuña)"},{"$f":"IFERROR(VLOOKUP(Tabla_SERIED_12_5[[#This Row],[IdEstablecimiento]],'[1]Establecimiento 2023'!$A$1:$E$183,5,FALSE),0)","v":"105107-Hospital Vicuña"},"15080009","2022-07-14T12:56:16",6,{"$nulls":8},6]
[{"$nulls":23},6,"5",2022,"105107",{"$f":"IFERROR(VLOOKUP(Tabla_SERIED_12_5[[#This Row],[IdEstablecimiento]],'[1]Establecimiento 2023'!$A$1:$E$183,3,FALSE),0)","v":"105107-Hospital San Juan de Dios (Vicuña)"},{"$f":"IFERROR(VLOOKUP(Tabla_SERIED_12_5[[#This Row],[IdEstablecimiento]],'[1]Establecimiento 2023'!$A$1:$E$183,5,FALSE),0)","v":"105107-Hospital Vicuña"},"15901400","2022-07-14T12:56:16",3,3,null,1,null,2]
[{"$nulls":23},4,"5",2022,"105454",{"$f":"IFERROR(VLOOKUP(Tabla_SERIED_12_5[[#This Row],[IdEstablecimiento]],'[1]Establecimiento 2023'!$A$1:$E$183,3,FALSE),0)","v":"105454-Posta de Salud Rural Cunlagua"},{"$f":"IFERROR(VLOOKUP(Tabla_SERIED_12_5[[#This Row],[IdEstablecimiento]],'[1]Establecimiento 2023'!$A$1:$E$183,5,FALSE),0)","v":"04204-Salamanca"},"15900020","2022-05-18T15:04:52",2.4,null,null,2.4]
[{"$nulls":23},4,"5",2022,"105504",{"$f":"IFERROR(VLOOKUP(Tabla_SERIED_12_5[[#This Row],[IdEstablecimiento]],'[1]Establecimiento 2023'!$A$1:$E$183,3,FALSE),0)","v":"105504-Posta de Salud Rural Socavón"},{"$f":"IFERROR(VLOOKUP(Tabla_SERIED_12_5[[#This Row],[IdEstablecimiento]],'[1]Establecimiento 2023'!$A$1:$E$183,5,FALSE),0)","v":"04201-Illapel"},"16090300","2022-05-18T15:20:51",29,29]
[{"$nulls":23},5,"5",2022,"105317",{"$f":"IFERROR(VLOOKUP(Tabla_SERIED_12_5[[#This Row],[IdEstablecimiento]],'[1]Establecimiento 2023'!$A$1:$E$183,3,FALSE),0)","v":"105317-Centro de Salud Familiar Jorge Jordán Domic"},{"$f":"IFERROR(VLOOKUP(Tabla_SERIED_12_5[[#This Row],[IdEstablecimiento]],'[1]Establecimiento 2023'!$A$1:$E$183,5,FALSE),0)","v":"04301-Ovalle"},"16200210","2022-06-20T17:04:08",75,75]
[{"$nulls":23},5,"5",2022,"105300",{"$f":"IFERROR(VLOOKUP(Tabla_SERIED_12_5[[#This Row],[IdEstablecimiento]],'[1]Establecimiento 2023'!$A$1:$E$183,3,FALSE),0)","v":"105300-Centro de Salud Familiar Cardenal Caro"},{"$f":"IFERROR(VLOOKUP(Tabla_SERIED_12_5[[#This Row],[IdEstablecimiento]],'[1]Establecimiento 2023'!$A$1:$E$183,5,FALSE),0)","v":"04101-La Serena"},"15080008","2022-06-20T16:59:29",211,{"$nulls":7},108,null,84,2,17]
[{"$nulls":23},1,"5",2022,"105104",{"$f":"IFERROR(VLOOKUP(Tabla_SERIED_12_5[[#This Row],[IdEstablecimiento]],'[1]Establecimiento 2023'!$A$1:$E$183,3,FALSE),0)","v":"105104-Hospital de Salamanca"},{"$f":"IFERROR(VLOOKUP(Tabla_SERIED_12_5[[#This Row],[IdEstablecimiento]],'[1]Establecimiento 2023'!$A$1:$E$183,5,FALSE),0)","v":"105104-Hospital Salamanca"},"15900050","2022-02-16T10:28:29",2,2,0,0,1,0,0,1]
[{"$nulls":23},7,"5",2022,"105413",{"$f":"IFERROR(VLOOKUP(Tabla_SERIED_12_5[[#This Row],[IdEstablecimiento]],'[1]Establecimiento 2023'!$A$1:$E$183,3,FALSE),0)","v":"105413-Posta de Salud Rural Samo Alto"},{"$f":"IFERROR(VLOOKUP(Tabla_SERIED_12_5[[#This Row],[IdEstablecimiento]],'[1]Establecimiento 2023'!$A$1:$E$183,5,FALSE),0)","v":"04305-Río Hurtado"},"16200220","2022-08-19T13:09:36",3,0,3]
[{"$nulls":23},7,"5",2022,"105413",{"$f":"IFERROR(VLOOKUP(Tabla_SERIED_12_5[[#This Row],[IdEstablecimiento]],'[1]Establecimiento 2023'!$A$1:$E$183,3,FALSE),0)","v":"105413-Posta de Salud Rural Samo Alto"},{"$f":"IFERROR(VLOOKUP(Tabla_SERIED_12_5[[#This Row],[IdEstablecimiento]],'[1]Establecimiento 2023'!$A$1:$E$183,5,FALSE),0)","v":"04305-Río Hurtado"},"16200100","2022-08-19T13:09:36",2,1,1]
[{"$nulls":23},7,"5",2022,"105479",{"$f":"IFERROR(VLOOKUP(Tabla_SERIED_12_5[[#This Row],[IdEstablecimiento]],'[1]Establecimiento 2023'!$A$1:$E$183,3,FALSE),0)","v":"105479-Posta de Salud Rural Guangualí"},{"$f":"IFERROR(VLOOKUP(Tabla_SERIED_12_5[[#This Row],[IdEstablecimiento]],'[1]Establecimiento 2023'!$A$1:$E$183,5,FALSE),0)","v":"04203-Los Vilos"},"15010100","2022-08-22T06:31:27",4,{"$nulls":3},4]
[{"$nulls":23},10,"5",2022,"105105",{"$f":"IFERROR(VLOOKUP(Tabla_SERIED_12_5[[#This Row],[IdEstablecimiento]],'[1]Establecimiento 2023'!$A$1:$E$183,3,FALSE),0)","v":"105105-Hospital San Juan de Dios (Combarbalá)"},{"$f":"IFERROR(VLOOKUP(Tabla_SERIED_12_5[[#This Row],[IdEstablecimiento]],'[1]Establecimiento 2023'!$A$1:$E$183,5,FALSE),0)","v":"105105-Hospital Combarbalá"},"16090300","2022-11-15T13:27:27",368,368]
[{"$nulls":23},6,"5",2022,"105473",{"$f":"IFERROR(VLOOKUP(Tabla_SERIED_12_5[[#This Row],[IdEstablecimiento]],'[1]Establecimiento 2023'!$A$1:$E$183,3,FALSE),0)","v":"105473-Posta de Salud Rural Talcuna"},{"$f":"IFERROR(VLOOKUP(Tabla_SERIED_12_5[[#This Row],[IdEstablecimiento]],'[1]Establecimiento 2023'!$A$1:$E$183,5,FALSE),0)","v":"04106-Vicuña"},"15900010","2022-07-14T14:28:12",13.2,null,null,13.2]
[{"$nulls":23},5,"5",2022,"200366",{"$f":"IFERROR(VLOOKUP(Tabla_SERIED_12_5[[#This Row],[IdEstablecimiento]],'[1]Establecimiento 2023'!$A$1:$E$183,3,FALSE),0)","v":"200366-Centro de Salud Familiar Urbano de Illapel"},{"$f":"IFERROR(VLOOKUP(Tabla_SERIED_12_5[[#This Row],[IdEstablecimiento]],'[1]Establecimiento 2023'!$A$1:$E$183,5,FALSE),0)","v":"04201-Illapel"},"15010100","2022-06-20T17:36:22",62,{"$nulls":3},62]
[{"$nulls":23},3,"5",2022,"105501",{"$f":"IFERROR(VLOOKUP(Tabla_SERIED_12_5[[#This Row],[IdEstablecimiento]],'[1]Establecimiento 2023'!$A$1:$E$183,3,FALSE),0)","v":"105501-Posta de Salud Rural Arboleda Grande"},{"$f":"IFERROR(VLOOKUP(Tabla_SERIED_12_5[[#This Row],[IdEstablecimiento]],'[1]Establecimiento 2023'!$A$1:$E$183,5,FALSE),0)","v":"04204-Salamanca"},"16090300","2022-04-20T05:42:25",112,112]
[{"$nulls":23},1,"5",2022,"105314",{"$f":"IFERROR(VLOOKUP(Tabla_SERIED_12_5[[#This Row],[IdEstablecimiento]],'[1]Establecimiento 2023'!$A$1:$E$183,3,FALSE),0)","v":"105314-Centro de Salud Familiar La Higuera"},{"$f":"IFERROR(VLOOKUP(Tabla_SERIED_12_5[[#This Row],[IdEstablecimiento]],'[1]Establecimiento 2023'!$A$1:$E$183,5,FALSE),0)","v":"04104-La Higuera"},"15010100","2022-02-16T10:48:30",6,{"$nulls":3},6]
[{"$nulls":23},2,"5",2022,"105437",{"$f":"IFERROR(VLOOKUP(Tabla_SERIED_12_5[[#This Row],[IdEstablecimiento]],'[1]Establecimiento 2023'!$A$1:$E$183,3,FALSE),0)","v":"105437-Posta de Salud Rural Chalinga"},{"$f":"IFERROR(VLOOKUP(Tabla_SERIED_12_5[[#This Row],[IdEstablecimiento]],'[1]Establecimiento 2023'!$A$1:$E$183,5,FALSE),0)","v":"04301-Ovalle"},"15050200","2022-03-17T09:40:36",2,1,1,{"$nulls":5},2]
[{"$nulls":23},2,"5",2022,"105437",{"$f":"IFERROR(VLOOKUP(Tabla_SERIED_12_5[[#This Row],[IdEstablecimiento]],'[1]Establecimiento 2023'!$A$1:$E$183,3,FALSE),0)","v":"105437-Posta de Salud Rural Chalinga"},{"$f":"IFERROR(VLOOKUP(Tabla_SERIED_12_5[[#This Row],[IdEstablecimiento]],'[1]Establecimiento 2023'!$A$1:$E$183,5,FALSE),0)","v":"04301-Ovalle"},"16090300","2022-03-17T09:40:36",105,105]
[{"$nulls":23},2,"5",2022,"105106",{"$f":"IFERROR(VLOOKUP(Tabla_SERIED_12_5[[#This Row],[IdEstablecimiento]],'[1]Establecimiento 2023'!$A$1:$E$183,3,FALSE),0)","v":"105106-Hospital Dr. José Arraño (Andacollo)"},{"$f":"IFERROR(VLOOKUP(Tabla_SERIED_12_5[[#This Row],[IdEstablecimiento]],'[1]Establecimiento 2023'!$A$1:$E$183,5,FALSE),0)","v":"105106-Hospital Andacollo"},"16100300","2022-03-17T09:25:50",189,95,94,7,51]
[{"$nulls":23},8,"5",2022,"105107",{"$f":"IFERROR(VLOOKUP(Tabla_SERIED_12_5[[#This Row],[IdEstablecimiento]],'[1]Establecimiento 2023'!$A$1:$E$183,3,FALSE),0)","v":"105107-Hospital San Juan de Dios (Vicuña)"},{"$f":"IFERROR(VLOOKUP(Tabla_SERIED_12_5[[#This Row],[IdEstablecimiento]],'[1]Establecimiento 2023'!$A$1:$E$183,5,FALSE),0)","v":"105107-Hospital Vicuña"},"15050200","2022-09-21T07:14:05",13,7,6,1,null,3,1,1,3,4]
[{"$nulls":23},2,"5",2022,"105437",{"$f":"IFERROR(VLOOKUP(Tabla_SERIED_12_5[[#This Row],[IdEstablecimiento]],'[1]Establecimiento 2023'!$A$1:$E$183,3,FALSE),0)","v":"105437-Posta de Salud Rural Chalinga"},{"$f":"IFERROR(VLOOKUP(Tabla_SERIED_12_5[[#This Row],[IdEstablecimiento]],'[1]Establecimiento 2023'!$A$1:$E$183,5,FALSE),0)","v":"04301-Ovalle"},"16200220","2022-03-17T09:40:36",19,11,8,null,2]
[{"$nulls":23},1,"5",2022,"105447",{"$f":"IFERROR(VLOOKUP(Tabla_SERIED_12_5[[#This Row],[IdEstablecimiento]],'[1]Establecimiento 2023'!$A$1:$E$183,3,FALSE),0)","v":"105447-Posta de Salud Rural Peralillo Illapel"},{"$f":"IFERROR(VLOOKUP(Tabla_SERIED_12_5[[#This Row],[IdEstablecimiento]],'[1]Establecimiento 2023'!$A$1:$E$183,5,FALSE),0)","v":"04201-Illapel"},"16100300","2022-02-16T11:34:13",42,17,25]
[{"$nulls":23},7,"5",2022,"105479",{"$f":"IFERROR(VLOOKUP(Tabla_SERIED_12_5[[#This Row],[IdEstablecimiento]],'[1]Establecimiento 2023'!$A$1:$E$183,3,FALSE),0)","v":"105479-Posta de Salud Rural Guangualí"},{"$f":"IFERROR(VLOOKUP(Tabla_SERIED_12_5[[#This Row],[IdEstablecimiento]],'[1]Establecimiento 2023'!$A$1:$E$183,5,FALSE),0)","v":"04203-Los Vilos"},"16100300","2022-08-22T06:31:27",81,35,46,null,0]
[{"$nulls":23},3,"5",2022,"105407",{"$f":"IFERROR(VLOOKUP(Tabla_SERIED_12_5[[#This Row],[IdEstablecimiento]],'[1]Establecimiento 2023'!$A$1:$E$183,3,FALSE),0)","v":"105407-Posta de Salud Rural Tambillo"},{"$f":"IFERROR(VLOOKUP(Tabla_SERIED_12_5[[#This Row],[IdEstablecimiento]],'[1]Establecimiento 2023'!$A$1:$E$183,5,FALSE),0)","v":"04102-Coquimbo"},"15080008","2022-04-19T08:15:27",6,{"$nulls":7},4,null,2]
[{"$nulls":23},3,"5",2022,"105431",{"$f":"IFERROR(VLOOKUP(Tabla_SERIED_12_5[[#This Row],[IdEstablecimiento]],'[1]Establecimiento 2023'!$A$1:$E$183,3,FALSE),0)","v":"105431-Posta de Salud Rural Pedregal"},{"$f":"IFERROR(VLOOKUP(Tabla_SERIED_12_5[[#This Row],[IdEstablecimiento]],'[1]Establecimiento 2023'!$A$1:$E$183,5,FALSE),0)","v":"04303-Monte Patria"},"15010200","2022-04-19T09:42:49",13,{"$nulls":4},2,4,7]
[{"$nulls":23},3,"5",2022,"105431",{"$f":"IFERROR(VLOOKUP(Tabla_SERIED_12_5[[#This Row],[IdEstablecimiento]],'[1]Establecimiento 2023'!$A$1:$E$183,3,FALSE),0)","v":"105431-Posta de Salud Rural Pedregal"},{"$f":"IFERROR(VLOOKUP(Tabla_SERIED_12_5[[#This Row],[IdEstablecimiento]],'[1]Establecimiento 2023'!$A$1:$E$183,5,FALSE),0)","v":"04303-Monte Patria"},"15080008","2022-04-19T09:42:49",1,{"$nulls":7},1]
[{"$nulls":23},5,"5",2022,"105324",{"$f":"IFERROR(VLOOKUP(Tabla_SERIED_12_5[[#This Row],[IdEstablecimiento]],'[1]Establecimiento 2023'!$A$1:$E$183,3,FALSE),0)","v":"105324-Centro de Salud Familiar Sotaquí"},{"$f":"IFERROR(VLOOKUP(Tabla_SERIED_12_5[[#This Row],[IdEstablecimiento]],'[1]Establecimiento 2023'!$A$1:$E$183,5,FALSE),0)","v":"04301-Ovalle"},"16200100","2022-06-20T17:05:26",1,1]
[{"$nulls":23},5,"5",2022,"105325",{"$f":"IFERROR(VLOOKUP(Tabla_SERIED_12_5[[#This Row],[IdEstablecimiento]],'[1]Establecimiento 2023'!$A$1:$E$183,3,FALSE),0)","v":"105325-Centro de Salud Familiar Juan Pablo II (La Serena)"},{"$f":"IFERROR(VLOOKUP(Tabla_SERIED_12_5[[#This Row],[IdEstablecimiento]],'[1]Establecimiento 2023'!$A$1:$E$183,5,FALSE),0)","v":"04101-La Serena"},"15901500","2022-06-20T17:05:39",3.2,null,null,3.2]
[{"$nulls":23},4,"5",2022,"105481",{"$f":"IFERROR(VLOOKUP(Tabla_SERIED_12_5[[#This Row],[IdEstablecimiento]],'[1]Establecimiento 2023'!$A$1:$E$183,3,FALSE),0)","v":"105481-Posta de Salud Rural Tilama"},{"$f":"IFERROR(VLOOKUP(Tabla_SERIED_12_5[[#This Row],[IdEstablecimiento]],'[1]Establecimiento 2023'!$A$1:$E$183,5,FALSE),0)","v":"04203-Los Vilos"},"16100600","2022-05-18T15:14:35",2,null,2]
[{"$nulls":23},7,"5",2022,"105509",{"$f":"IFERROR(VLOOKUP(Tabla_SERIED_12_5[[#This Row],[IdEstablecimiento]],'[1]Establecimiento 2023'!$A$1:$E$183,3,FALSE),0)","v":"105509-Posta de Salud Rural Gualliguaica"},{"$f":"IFERROR(VLOOKUP(Tabla_SERIED_12_5[[#This Row],[IdEstablecimiento]],'[1]Establecimiento 2023'!$A$1:$E$183,5,FALSE),0)","v":"04106-Vicuña"},"15010200","2022-08-22T06:46:00",6,{"$nulls":4},2,4]
[{"$nulls":23},1,"5",2022,"105313",{"$f":"IFERROR(VLOOKUP(Tabla_SERIED_12_5[[#This Row],[IdEstablecimiento]],'[1]Establecimiento 2023'!$A$1:$E$183,3,FALSE),0)","v":"105313-Centro de Salud Familiar Dr. Emilio Schaffhauser"},{"$f":"IFERROR(VLOOKUP(Tabla_SERIED_12_5[[#This Row],[IdEstablecimiento]],'[1]Establecimiento 2023'!$A$1:$E$183,5,FALSE),0)","v":"04101-La Serena"},"15080009","2022-02-16T10:48:14",9,{"$nulls":8},6,3]
[{"$nulls":23},4,"5",2022,"105482",{"$f":"IFERROR(VLOOKUP(Tabla_SERIED_12_5[[#This Row],[IdEstablecimiento]],'[1]Establecimiento 2023'!$A$1:$E$183,3,FALSE),0)","v":"105482-Posta de Salud Rural Canela Alta"},{"$f":"IFERROR(VLOOKUP(Tabla_SERIED_12_5[[#This Row],[IdEstablecimiento]],'[1]Establecimiento 2023'!$A$1:$E$183,5,FALSE),0)","v":"04202-Canela"},"16100300","2022-05-18T15:14:48",85,42,43,2,11]
[{"$nulls":23},1,"5",2022,"105321",{"$f":"IFERROR(VLOOKUP(Tabla_SERIED_12_5[[#This Row],[IdEstablecimiento]],'[1]Establecimiento 2023'!$A$1:$E$183,3,FALSE),0)","v":"105321-Centro de Salud Familiar Tongoy"},{"$f":"IFERROR(VLOOKUP(Tabla_SERIED_12_5[[#This Row],[IdEstablecimiento]],'[1]Establecimiento 2023'!$A$1:$E$183,5,FALSE),0)","v":"04102-Coquimbo"},"15010500","2022-02-16T10:50:26",2,{"$nulls":4},2]
[{"$nulls":23},1,"5",2022,"105321",{"$f":"IFERROR(VLOOKUP(Tabla_SERIED_12_5[[#This Row],[IdEstablecimiento]],'[1]Establecimiento 2023'!$A$1:$E$183,3,FALSE),0)","v":"105321-Centro de Salud Familiar Tongoy"},{"$f":"IFERROR(VLOOKUP(Tabla_SERIED_12_5[[#This Row],[IdEstablecimiento]],'[1]Establecimiento 2023'!$A$1:$E$183,5,FALSE),0)","v":"04102-Coquimbo"},"15080009","2022-02-16T10:50:26",6,{"$nulls":8},6]
[{"$nulls":23},2,"5",2022,"105509",{"$f":"IFERROR(VLOOKUP(Tabla_SERIED_12_5[[#This Row],[IdEstablecimiento]],'[1]Establecimiento 2023'!$A$1:$E$183,3,FALSE),0)","v":"105509-Posta de Salud Rural Gualliguaica"},{"$f":"IFERROR(VLOOKUP(Tabla_SERIED_12_5[[#This Row],[IdEstablecimiento]],'[1]Establecimiento 2023'!$A$1:$E$183,5,FALSE),0)","v":"04106-Vicuña"},"15050100","2022-03-17T10:02:51",3,2,1,{"$nulls":3},1,null,null,1,1]
[{"$nulls":23},3,"5",2022,"200402",{"$f":"IFERROR(VLOOKUP(Tabla_SERIED_12_5[[#This Row],[IdEstablecimiento]],'[1]Establecimiento 2023'!$A$1:$E$183,3,FALSE),0)","v":"200402-Centro Comunitario de Salud Familiar Arcos de Pinamar"},{"$f":"IFERROR(VLOOKUP(Tabla_SERIED_12_5[[#This Row],[IdEstablecimiento]],'[1]Establecimiento 2023'!$A$1:$E$183,5,FALSE),0)","v":"04101-La Serena"},"15010400","2022-04-19T10:15:08",4,{"$nulls":5},4]
[{"$nulls":23},4,"5",2022,"200494",{"$f":"IFERROR(VLOOKUP(Tabla_SERIED_12_5[[#This Row],[IdEstablecimiento]],'[1]Establecimiento 2023'!$A$1:$E$183,3,FALSE),0)","v":"200494-Centro de Salud Familiar El Sauce"},{"$f":"IFERROR(VLOOKUP(Tabla_SERIED_12_5[[#This Row],[IdEstablecimiento]],'[1]Establecimiento 2023'!$A$1:$E$183,5,FALSE),0)","v":"04102-Coquimbo"},"15080008","2022-05-18T15:27:44",184,{"$nulls":7},111,null,58,null,15]
[{"$nulls":23},4,"5",2022,"105310",{"$f":"IFERROR(VLOOKUP(Tabla_SERIED_12_5[[#This Row],[IdEstablecimiento]],'[1]Establecimiento 2023'!$A$1:$E$183,3,FALSE),0)","v":"105310-Centro de Salud Familiar Pichasca"},{"$f":"IFERROR(VLOOKUP(Tabla_SERIED_12_5[[#This Row],[IdEstablecimiento]],'[1]Establecimiento 2023'!$A$1:$E$183,5,FALSE),0)","v":"04305-Río Hurtado"},"15050100","2022-05-18T11:51:18",24,11,13,null,1,null,5,null,8,9,1,null,null,0,0]
[{"$nulls":23},5,"5",2022,"105323",{"$f":"IFERROR(VLOOKUP(Tabla_SERIED_12_5[[#This Row],[IdEstablecimiento]],'[1]Establecimiento 2023'!$A$1:$E$183,3,FALSE),0)","v":"105323-Centro de Salud Familiar Dr. Sergio Aguilar Delgado"},{"$f":"IFERROR(VLOOKUP(Tabla_SERIED_12_5[[#This Row],[IdEstablecimiento]],'[1]Establecimiento 2023'!$A$1:$E$183,5,FALSE),0)","v":"04102-Coquimbo"},"16090300","2022-06-20T17:05:15",966,966]
[{"$nulls":23},3,"5",2022,"105401",{"$f":"IFERROR(VLOOKUP(Tabla_SERIED_12_5[[#This Row],[IdEstablecimiento]],'[1]Establecimiento 2023'!$A$1:$E$183,3,FALSE),0)","v":"105401-Posta de Salud Rural Las Rojas"},{"$f":"IFERROR(VLOOKUP(Tabla_SERIED_12_5[[#This Row],[IdEstablecimiento]],'[1]Establecimiento 2023'!$A$1:$E$183,5,FALSE),0)","v":"04101-La Serena"},"16090300","2022-04-19T08:14:24",34,34]
[{"$nulls":23},4,"5",2022,"105413",{"$f":"IFERROR(VLOOKUP(Tabla_SERIED_12_5[[#This Row],[IdEstablecimiento]],'[1]Establecimiento 2023'!$A$1:$E$183,3,FALSE),0)","v":"105413-Posta de Salud Rural Samo Alto"},{"$f":"IFERROR(VLOOKUP(Tabla_SERIED_12_5[[#This Row],[IdEstablecimiento]],'[1]Establecimiento 2023'!$A$1:$E$183,5,FALSE),0)","v":"04305-Río Hurtado"},"16200100","2022-05-18T14:50:20",2,1,1]
[{"$nulls":23},4,"5",2022,"105414",{"$f":"IFERROR(VLOOKUP(Tabla_SERIED_12_5[[#This Row],[IdEstablecimiento]],'[1]Establecimiento 2023'!$A$1:$E$183,3,FALSE),0)","v":"105414-Posta de Salud Rural Serón"},{"$f":"IFERROR(VLOOKUP(Tabla_SERIED_12_5[[#This Row],[IdEstablecimiento]],'[1]Establecimiento 2023'!$A$1:$E$183,5,FALSE),0)","v":"04305-Río Hurtado"},"15010100","2022-05-18T14:50:33",2,{"$nulls":3},2]
[{"$nulls":23},1,"5",2022,"200607",{"$f":"IFERROR(VLOOKUP(Tabla_SERIED_12_5[[#This Row],[IdEstablecimiento]],'[1]Establecimiento 2023'!$A$1:$E$183,3,FALSE),0)","v":"200607-Centro de Salud Familiar Lila Cortés Godoy"},{"$f":"IFERROR(VLOOKUP(Tabla_SERIED_12_5[[#This Row],[IdEstablecimiento]],'[1]Establecimiento 2023'!$A$1:$E$183,5,FALSE),0)","v":"04102-Coquimbo"},"15900010","2022-02-17T08:06:34",120,3.2,12.8,104]
[{"$nulls":23},3,"5",2022,"105402",{"$f":"IFERROR(VLOOKUP(Tabla_SERIED_12_5[[#This Row],[IdEstablecimiento]],'[1]Establecimiento 2023'!$A$1:$E$183,3,FALSE),0)","v":"105402-Posta de Salud Rural El Romero"},{"$f":"IFERROR(VLOOKUP(Tabla_SERIED_12_5[[#This Row],[IdEstablecimiento]],'[1]Establecimiento 2023'!$A$1:$E$183,5,FALSE),0)","v":"04101-La Serena"},"15900010","2022-04-19T08:14:41",8.8,null,null,8.8]
[{"$nulls":23},3,"5",2022,"105430",{"$f":"IFERROR(VLOOKUP(Tabla_SERIED_12_5[[#This Row],[IdEstablecimiento]],'[1]Establecimiento 2023'!$A$1:$E$183,3,FALSE),0)","v":"105430-Posta de Salud Rural Mialqui"},{"$f":"IFERROR(VLOOKUP(Tabla_SERIED_12_5[[#This Row],[IdEstablecimiento]],'[1]Establecimiento 2023'!$A$1:$E$183,5,FALSE),0)","v":"04303-Monte Patria"},"15900010","2022-04-19T09:42:35",2.4,2.4]
[{"$nulls":23},8,"5",2022,"105493",{"$f":"IFERROR(VLOOKUP(Tabla_SERIED_12_5[[#This Row],[IdEstablecimiento]],'[1]Establecimiento 2023'!$A$1:$E$183,3,FALSE),0)","v":"105493-Posta de Salud Rural Mincha Sur"},{"$f":"IFERROR(VLOOKUP(Tabla_SERIED_12_5[[#This Row],[IdEstablecimiento]],'[1]Establecimiento 2023'!$A$1:$E$183,5,FALSE),0)","v":"04202-Canela"},"15050100","2022-09-21T07:54:16",1,0,1,0,0,0,0,0,1,0,0,null,0,0,0]
[{"$nulls":23},5,"5",2022,"200366",{"$f":"IFERROR(VLOOKUP(Tabla_SERIED_12_5[[#This Row],[IdEstablecimiento]],'[1]Establecimiento 2023'!$A$1:$E$183,3,FALSE),0)","v":"200366-Centro de Salud Familiar Urbano de Illapel"},{"$f":"IFERROR(VLOOKUP(Tabla_SERIED_12_5[[#This Row],[IdEstablecimiento]],'[1]Establecimiento 2023'!$A$1:$E$183,5,FALSE),0)","v":"04201-Illapel"},"15010500","2022-06-20T17:36:22",18,{"$nulls":3},4,4,4,6]
[{"$nulls":23},8,"5",2022,"105503",{"$f":"IFERROR(VLOOKUP(Tabla_SERIED_12_5[[#This Row],[IdEstablecimiento]],'[1]Establecimiento 2023'!$A$1:$E$183,3,FALSE),0)","v":"105503-Posta de Salud Rural Tabaqueros"},{"$f":"IFERROR(VLOOKUP(Tabla_SERIED_12_5[[#This Row],[IdEstablecimiento]],'[1]Establecimiento 2023'!$A$1:$E$183,5,FALSE),0)","v":"04305-Río Hurtado"},"15900020","2022-09-21T07:57:59",3.6,null,null,3.6]
[{"$nulls":23},8,"5",2022,"105503",{"$f":"IFERROR(VLOOKUP(Tabla_SERIED_12_5[[#This Row],[IdEstablecimiento]],'[1]Establecimiento 2023'!$A$1:$E$183,3,FALSE),0)","v":"105503-Posta de Salud Rural Tabaqueros"},{"$f":"IFERROR(VLOOKUP(Tabla_SERIED_12_5[[#This Row],[IdEstablecimiento]],'[1]Establecimiento 2023'!$A$1:$E$183,5,FALSE),0)","v":"04305-Río Hurtado"},"15050200","2022-09-21T07:57:59",1,null,1,null,null,1]
[{"$nulls":23},8,"5",2022,"105496",{"$f":"IFERROR(VLOOKUP(Tabla_SERIED_12_5[[#This Row],[IdEstablecimiento]],'[1]Establecimiento 2023'!$A$1:$E$183,3,FALSE),0)","v":"105496-Posta de Salud Rural Pintacura Sur"},{"$f":"IFERROR(VLOOKUP(Tabla_SERIED_12_5[[#This Row],[IdEstablecimiento]],'[1]Establecimiento 2023'!$A$1:$E$183,5,FALSE),0)","v":"04201-Illapel"},"15080008","2022-09-21T07:55:38",1,{"$nulls":7},1]
[{"$nulls":23},8,"5",2022,"105497",{"$f":"IFERROR(VLOOKUP(Tabla_SERIED_12_5[[#This Row],[IdEstablecimiento]],'[1]Establecimiento 2023'!$A$1:$E$183,3,FALSE),0)","v":"105497-Posta de Salud Rural Jabonería"},{"$f":"IFERROR(VLOOKUP(Tabla_SERIED_12_5[[#This Row],[IdEstablecimiento]],'[1]Establecimiento 2023'!$A$1:$E$183,5,FALSE),0)","v":"04202-Canela"},"16200220","2022-09-21T07:55:51",3,2,1,0,0]
[{"$nulls":23},3,"5",2022,"105504",{"$f":"IFERROR(VLOOKUP(Tabla_SERIED_12_5[[#This Row],[IdEstablecimiento]],'[1]Establecimiento 2023'!$A$1:$E$183,3,FALSE),0)","v":"105504-Posta de Salud Rural Socavón"},{"$f":"IFERROR(VLOOKUP(Tabla_SERIED_12_5[[#This Row],[IdEstablecimiento]],'[1]Establecimiento 2023'!$A$1:$E$183,5,FALSE),0)","v":"04201-Illapel"},"16200220","2022-04-19T10:10:03",6,4,2]
[{"$nulls":23},4,"5",2022,"200273",{"$f":"IFERROR(VLOOKUP(Tabla_SERIED_12_5[[#This Row],[IdEstablecimiento]],'[1]Establecimiento 2023'!$A$1:$E$183,3,FALSE),0)","v":"200273-Centro Comunitario de Salud Familiar Punta Mira"},{"$f":"IFERROR(VLOOKUP(Tabla_SERIED_12_5[[#This Row],[IdEstablecimiento]],'[1]Establecimiento 2023'!$A$1:$E$183,5,FALSE),0)","v":"04102-Coquimbo"},"15050100","2022-05-18T15:24:48",63,25,38,{"$nulls":3},4,4,14,11,20,null,3,4,3]
[{"$nulls":23},8,"5",2022,"105107",{"$f":"IFERROR(VLOOKUP(Tabla_SERIED_12_5[[#This Row],[IdEstablecimiento]],'[1]Establecimiento 2023'!$A$1:$E$183,3,FALSE),0)","v":"105107-Hospital San Juan de Dios (Vicuña)"},{"$f":"IFERROR(VLOOKUP(Tabla_SERIED_12_5[[#This Row],[IdEstablecimiento]],'[1]Establecimiento 2023'!$A$1:$E$183,5,FALSE),0)","v":"105107-Hospital Vicuña"},"16100300","2022-09-21T07:14:05",321,124,197,4,85]
[{"$nulls":23},8,"5",2022,"105300",{"$f":"IFERROR(VLOOKUP(Tabla_SERIED_12_5[[#This Row],[IdEstablecimiento]],'[1]Establecimiento 2023'!$A$1:$E$183,3,FALSE),0)","v":"105300-Centro de Salud Familiar Cardenal Caro"},{"$f":"IFERROR(VLOOKUP(Tabla_SERIED_12_5[[#This Row],[IdEstablecimiento]],'[1]Establecimiento 2023'!$A$1:$E$183,5,FALSE),0)","v":"04101-La Serena"},"15900020","2022-09-21T07:14:41",4.5,null,null,4.5]
[{"$nulls":23},3,"5",2022,"200607",{"$f":"IFERROR(VLOOKUP(Tabla_SERIED_12_5[[#This Row],[IdEstablecimiento]],'[1]Establecimiento 2023'!$A$1:$E$183,3,FALSE),0)","v":"200607-Centro de Salud Familiar Lila Cortés Godoy"},{"$f":"IFERROR(VLOOKUP(Tabla_SERIED_12_5[[#This Row],[IdEstablecimiento]],'[1]Establecimiento 2023'!$A$1:$E$183,5,FALSE),0)","v":"04102-Coquimbo"},"15050100","2022-04-19T10:17:19",597,300,297,6,7,65,69,68,142,68,119,null,40,0,13]
[{"$nulls":23},1,"5",2022,"105500",{"$f":"IFERROR(VLOOKUP(Tabla_SERIED_12_5[[#This Row],[IdEstablecimiento]],'[1]Establecimiento 2023'!$A$1:$E$183,3,FALSE),0)","v":"105500-Posta de Salud Rural Caleta Hornos"},{"$f":"IFERROR(VLOOKUP(Tabla_SERIED_12_5[[#This Row],[IdEstablecimiento]],'[1]Establecimiento 2023'!$A$1:$E$183,5,FALSE),0)","v":"04104-La Higuera"},"16200210","2022-02-17T04:15:21",1,1]
[{"$nulls":23},7,"5",2022,"105428",{"$f":"IFERROR(VLOOKUP(Tabla_SERIED_12_5[[#This Row],[IdEstablecimiento]],'[1]Establecimiento 2023'!$A$1:$E$183,3,FALSE),0)","v":"105428-Posta de Salud Rural Huatulame"},{"$f":"IFERROR(VLOOKUP(Tabla_SERIED_12_5[[#This Row],[IdEstablecimiento]],'[1]Establecimiento 2023'!$A$1:$E$183,5,FALSE),0)","v":"04303-Monte Patria"},"16200210","2022-08-22T05:43:04",3,3]
[{"$nulls":23},7,"5",2022,"105430",{"$f":"IFERROR(VLOOKUP(Tabla_SERIED_12_5[[#This Row],[IdEstablecimiento]],'[1]Establecimiento 2023'!$A$1:$E$183,3,FALSE),0)","v":"105430-Posta de Salud Rural Mialqui"},{"$f":"IFERROR(VLOOKUP(Tabla_SERIED_12_5[[#This Row],[IdEstablecimiento]],'[1]Establecimiento 2023'!$A$1:$E$183,5,FALSE),0)","v":"04303-Monte Patria"},"15010100","2022-08-22T05:43:19",4,{"$nulls":3},4]
[{"$nulls":23},4,"5",2022,"105466",{"$f":"IFERROR(VLOOKUP(Tabla_SERIED_12_5[[#This Row],[IdEstablecimiento]],'[1]Establecimiento 2023'!$A$1:$E$183,3,FALSE),0)","v":"105466-Posta de Salud Rural Valle Hermoso"},{"$f":"IFERROR(VLOOKUP(Tabla_SERIED_12_5[[#This Row],[IdEstablecimiento]],'[1]Establecimiento 2023'!$A$1:$E$183,5,FALSE),0)","v":"04302-Combarbalá"},"16100300","2022-05-18T15:11:06",28,12,16,null,11]
[{"$nulls":23},1,"5",2022,"105301",{"$f":"IFERROR(VLOOKUP(Tabla_SERIED_12_5[[#This Row],[IdEstablecimiento]],'[1]Establecimiento 2023'!$A$1:$E$183,3,FALSE),0)","v":"105301-Centro de Salud Familiar Las Compañías"},{"$f":"IFERROR(VLOOKUP(Tabla_SERIED_12_5[[#This Row],[IdEstablecimiento]],'[1]Establecimiento 2023'!$A$1:$E$183,5,FALSE),0)","v":"04101-La Serena"},"15010500","2022-02-16T10:34:25",4,null,0,0,2,2,0,0]
[{"$nulls":23},8,"5",2022,"200569",{"$f":"IFERROR(VLOOKUP(Tabla_SERIED_12_5[[#This Row],[IdEstablecimiento]],'[1]Establecimiento 2023'!$A$1:$E$183,3,FALSE),0)","v":"200569-Centro de Salud Familiar Fray Jorge"},{"$f":"IFERROR(VLOOKUP(Tabla_SERIED_12_5[[#This Row],[IdEstablecimiento]],'[1]Establecimiento 2023'!$A$1:$E$183,5,FALSE),0)","v":"04301-Ovalle"},"15901400","2022-09-21T08:06:27",10,6,4,null,null,5,1,4]
[{"$nulls":23},8,"5",2022,"105473",{"$f":"IFERROR(VLOOKUP(Tabla_SERIED_12_5[[#This Row],[IdEstablecimiento]],'[1]Establecimiento 2023'!$A$1:$E$183,3,FALSE),0)","v":"105473-Posta de Salud Rural Talcuna"},{"$f":"IFERROR(VLOOKUP(Tabla_SERIED_12_5[[#This Row],[IdEstablecimiento]],'[1]Establecimiento 2023'!$A$1:$E$183,5,FALSE),0)","v":"04106-Vicuña"},"15080008","2022-09-21T07:49:39",4,{"$nulls":7},2,null,2]
[{"$nulls":23},1,"5",2022,"105302",{"$f":"IFERROR(VLOOKUP(Tabla_SERIED_12_5[[#This Row],[IdEstablecimiento]],'[1]Establecimiento 2023'!$A$1:$E$183,3,FALSE),0)","v":"105302-Centro de Salud Familiar Pedro Aguirre Cerda"},{"$f":"IFERROR(VLOOKUP(Tabla_SERIED_12_5[[#This Row],[IdEstablecimiento]],'[1]Establecimiento 2023'!$A$1:$E$183,5,FALSE),0)","v":"04101-La Serena"},"16200210","2022-03-17T10:18:10",33,33]
[{"$nulls":23},7,"5",2022,"105430",{"$f":"IFERROR(VLOOKUP(Tabla_SERIED_12_5[[#This Row],[IdEstablecimiento]],'[1]Establecimiento 2023'!$A$1:$E$183,3,FALSE),0)","v":"105430-Posta de Salud Rural Mialqui"},{"$f":"IFERROR(VLOOKUP(Tabla_SERIED_12_5[[#This Row],[IdEstablecimiento]],'[1]Establecimiento 2023'!$A$1:$E$183,5,FALSE),0)","v":"04303-Monte Patria"},"15050100","2022-08-22T05:43:19",13,4,9,null,1,null,2,null,2,3,2,null,2,0,1]
[{"$nulls":23},7,"5",2022,"105430",{"$f":"IFERROR(VLOOKUP(Tabla_SERIED_12_5[[#This Row],[IdEstablecimiento]],'[1]Establecimiento 2023'!$A$1:$E$183,3,FALSE),0)","v":"105430-Posta de Salud Rural Mialqui"},{"$f":"IFERROR(VLOOKUP(Tabla_SERIED_12_5[[#This Row],[IdEstablecimiento]],'[1]Establecimiento 2023'!$A$1:$E$183,5,FALSE),0)","v":"04303-Monte Patria"},"15050200","2022-08-22T05:43:19",2,2,{"$nulls":6},1,1]
[{"$nulls":23},7,"5",2022,"105431",{"$f":"IFERROR(VLOOKUP(Tabla_SERIED_12_5[[#This Row],[IdEstablecimiento]],'[1]Establecimiento 2023'!$A$1:$E$183,3,FALSE),0)","v":"105431-Posta de Salud Rural Pedregal"},{"$f":"IFERROR(VLOOKUP(Tabla_SERIED_12_5[[#This Row],[IdEstablecimiento]],'[1]Establecimiento 2023'!$A$1:$E$183,5,FALSE),0)","v":"04303-Monte Patria"},"15050100","2022-08-22T05:48:58",3,1,2,{"$nulls":3},1,1,null,null,1]
[{"$nulls":23},6,"5",2022,"105313",{"$f":"IFERROR(VLOOKUP(Tabla_SERIED_12_5[[#This Row],[IdEstablecimiento]],'[1]Establecimiento 2023'!$A$1:$E$183,3,FALSE),0)","v":"105313-Centro de Salud Familiar Dr. Emilio Schaffhauser"},{"$f":"IFERROR(VLOOKUP(Tabla_SERIED_12_5[[#This Row],[IdEstablecimiento]],'[1]Establecimiento 2023'!$A$1:$E$183,5,FALSE),0)","v":"04101-La Serena"},"15030200","2022-07-14T14:04:51",3.6,null,null,3.6]
[{"$nulls":23},8,"5",2022,"200367",{"$f":"IFERROR(VLOOKUP(Tabla_SERIED_12_5[[#This Row],[IdEstablecimiento]],'[1]Establecimiento 2023'!$A$1:$E$183,3,FALSE),0)","v":"200367-Centro Comunitario de Salud Familiar Colonia Limarí"},{"$f":"IFERROR(VLOOKUP(Tabla_SERIED_12_5[[#This Row],[IdEstablecimiento]],'[1]Establecimiento 2023'!$A$1:$E$183,5,FALSE),0)","v":"04301-Ovalle"},"15010100","2022-09-21T08:04:14",10,{"$nulls":3},8,2]
[{"$nulls":23},2,"5",2022,"105700",{"$f":"IFERROR(VLOOKUP(Tabla_SERIED_12_5[[#This Row],[IdEstablecimiento]],'[1]Establecimiento 2023'!$A$1:$E$183,3,FALSE),0)","v":"105700-Centro Comunitario de Salud Familiar Villa el Indio"},{"$f":"IFERROR(VLOOKUP(Tabla_SERIED_12_5[[#This Row],[IdEstablecimiento]],'[1]Establecimiento 2023'!$A$1:$E$183,5,FALSE),0)","v":"04101-La Serena"},"16200210","2022-03-17T10:04:44",1,1]
[{"$nulls":23},3,"5",2022,"105416",{"$f":"IFERROR(VLOOKUP(Tabla_SERIED_12_5[[#This Row],[IdEstablecimiento]],'[1]Establecimiento 2023'!$A$1:$E$183,3,FALSE),0)","v":"105416-Posta de Salud Rural Camarico (Ovalle)"},{"$f":"IFERROR(VLOOKUP(Tabla_SERIED_12_5[[#This Row],[IdEstablecimiento]],'[1]Establecimiento 2023'!$A$1:$E$183,5,FALSE),0)","v":"04301-Ovalle"},"15050200","2022-04-19T09:11:43",3,2,1,{"$nulls":4},2,1]
[{"$nulls":23},2,"5",2022,"200258",{"$f":"IFERROR(VLOOKUP(Tabla_SERIED_12_5[[#This Row],[IdEstablecimiento]],'[1]Establecimiento 2023'!$A$1:$E$183,3,FALSE),0)","v":"200258-Centro Comunitario de Salud Familiar Los Copihues"},{"$f":"IFERROR(VLOOKUP(Tabla_SERIED_12_5[[#This Row],[IdEstablecimiento]],'[1]Establecimiento 2023'!$A$1:$E$183,5,FALSE),0)","v":"04301-Ovalle"},"15900030","2022-03-17T10:06:13",1.2,0,0,1.2,0,0]
[{"$nulls":23},8,"5",2022,"200367",{"$f":"IFERROR(VLOOKUP(Tabla_SERIED_12_5[[#This Row],[IdEstablecimiento]],'[1]Establecimiento 2023'!$A$1:$E$183,3,FALSE),0)","v":"200367-Centro Comunitario de Salud Familiar Colonia Limarí"},{"$f":"IFERROR(VLOOKUP(Tabla_SERIED_12_5[[#This Row],[IdEstablecimiento]],'[1]Establecimiento 2023'!$A$1:$E$183,5,FALSE),0)","v":"04301-Ovalle"},"16200210","2022-09-21T08:04:14",9,9]
[{"$nulls":23},8,"5",2022,"200367",{"$f":"IFERROR(VLOOKUP(Tabla_SERIED_12_5[[#This Row],[IdEstablecimiento]],'[1]Establecimiento 2023'!$A$1:$E$183,3,FALSE),0)","v":"200367-Centro Comunitario de Salud Familiar Colonia Limarí"},{"$f":"IFERROR(VLOOKUP(Tabla_SERIED_12_5[[#This Row],[IdEstablecimiento]],'[1]Establecimiento 2023'!$A$1:$E$183,5,FALSE),0)","v":"04301-Ovalle"},"16100300","2022-09-21T08:04:14",165,73,92,4,12]
[{"$nulls":23},2,"5",2022,"105323",{"$f":"IFERROR(VLOOKUP(Tabla_SERIED_12_5[[#This Row],[IdEstablecimiento]],'[1]Establecimiento 2023'!$A$1:$E$183,3,FALSE),0)","v":"105323-Centro de Salud Familiar Dr. Sergio Aguilar Delgado"},{"$f":"IFERROR(VLOOKUP(Tabla_SERIED_12_5[[#This Row],[IdEstablecimiento]],'[1]Establecimiento 2023'!$A$1:$E$183,5,FALSE),0)","v":"04102-Coquimbo"},"15010300","2022-03-17T09:31:39",8,{"$nulls":3},8]
[{"$nulls":23},3,"5",2022,"105444",{"$f":"IFERROR(VLOOKUP(Tabla_SERIED_12_5[[#This Row],[IdEstablecimiento]],'[1]Establecimiento 2023'!$A$1:$E$183,3,FALSE),0)","v":"105444-Posta de Salud Rural Huintil"},{"$f":"IFERROR(VLOOKUP(Tabla_SERIED_12_5[[#This Row],[IdEstablecimiento]],'[1]Establecimiento 2023'!$A$1:$E$183,5,FALSE),0)","v":"04201-Illapel"},"15050100","2022-04-19T09:45:57",17,5,12,{"$nulls":3},1,4,4,3,3,null,2]
[{"$nulls":23},5,"5",2022,"105457",{"$f":"IFERROR(VLOOKUP(Tabla_SERIED_12_5[[#This Row],[IdEstablecimiento]],'[1]Establecimiento 2023'!$A$1:$E$183,3,FALSE),0)","v":"105457-Posta de Salud Rural San Agustín (Salamanca)"},{"$f":"IFERROR(VLOOKUP(Tabla_SERIED_12_5[[#This Row],[IdEstablecimiento]],'[1]Establecimiento 2023'!$A$1:$E$183,5,FALSE),0)","v":"04204-Salamanca"},"15010200","2022-06-22T10:51:02",16,{"$nulls":4},2,10,4]
[{"$nulls":23},7,"5",2022,"105303",{"$f":"IFERROR(VLOOKUP(Tabla_SERIED_12_5[[#This Row],[IdEstablecimiento]],'[1]Establecimiento 2023'!$A$1:$E$183,3,FALSE),0)","v":"105303-Centro de Salud Familiar San Juan"},{"$f":"IFERROR(VLOOKUP(Tabla_SERIED_12_5[[#This Row],[IdEstablecimiento]],'[1]Establecimiento 2023'!$A$1:$E$183,5,FALSE),0)","v":"04102-Coquimbo"},"15901400","2022-08-19T11:58:47",6,2,4,0,1,2,2,1]
[{"$nulls":23},6,"5",2022,"200607",{"$f":"IFERROR(VLOOKUP(Tabla_SERIED_12_5[[#This Row],[IdEstablecimiento]],'[1]Establecimiento 2023'!$A$1:$E$183,3,FALSE),0)","v":"200607-Centro de Salud Familiar Lila Cortés Godoy"},{"$f":"IFERROR(VLOOKUP(Tabla_SERIED_12_5[[#This Row],[IdEstablecimiento]],'[1]Establecimiento 2023'!$A$1:$E$183,5,FALSE),0)","v":"04102-Coquimbo"},"16200230","2022-07-14T14:44:54",1,0,1,0,0]
[{"$nulls":23},3,"5",2022,"105104",{"$f":"IFERROR(VLOOKUP(Tabla_SERIED_12_5[[#This Row],[IdEstablecimiento]],'[1]Establecimiento 2023'!$A$1:$E$183,3,FALSE),0)","v":"105104-Hospital de Salamanca"},{"$f":"IFERROR(VLOOKUP(Tabla_SERIED_12_5[[#This Row],[IdEstablecimiento]],'[1]Establecimiento 2023'!$A$1:$E$183,5,FALSE),0)","v":"105104-Hospital Salamanca"},"15030100","2022-04-19T07:58:19",6.4,3.2,3.2,0]
[{"$nulls":23},4,"5",2022,"200366",{"$f":"IFERROR(VLOOKUP(Tabla_SERIED_12_5[[#This Row],[IdEstablecimiento]],'[1]Establecimiento 2023'!$A$1:$E$183,3,FALSE),0)","v":"200366-Centro de Salud Familiar Urbano de Illapel"},{"$f":"IFERROR(VLOOKUP(Tabla_SERIED_12_5[[#This Row],[IdEstablecimiento]],'[1]Establecimiento 2023'!$A$1:$E$183,5,FALSE),0)","v":"04201-Illapel"},"16200210","2022-05-18T15:55:10",17,17]
[{"$nulls":23},4,"5",2022,"200366",{"$f":"IFERROR(VLOOKUP(Tabla_SERIED_12_5[[#This Row],[IdEstablecimiento]],'[1]Establecimiento 2023'!$A$1:$E$183,3,FALSE),0)","v":"200366-Centro de Salud Familiar Urbano de Illapel"},{"$f":"IFERROR(VLOOKUP(Tabla_SERIED_12_5[[#This Row],[IdEstablecimiento]],'[1]Establecimiento 2023'!$A$1:$E$183,5,FALSE),0)","v":"04201-Illapel"},"16090100","2022-05-18T15:55:10",9,9]
[{"$nulls":23},2,"5",2022,"105326",{"$f":"IFERROR(VLOOKUP(Tabla_SERIED_12_5[[#This Row],[IdEstablecimiento]],'[1]Establecimiento 2023'!$A$1:$E$183,3,FALSE),0)","v":"105326-Centro de Salud Familiar Villa San Rafael de Rozas"},{"$f":"IFERROR(VLOOKUP(Tabla_SERIED_12_5[[#This Row],[IdEstablecimiento]],'[1]Establecimiento 2023'!$A$1:$E$183,5,FALSE),0)","v":"04201-Illapel"},"16090300","2022-03-17T09:32:20",178,178]
[{"$nulls":23},4,"5",2022,"105448",{"$f":"IFERROR(VLOOKUP(Tabla_SERIED_12_5[[#This Row],[IdEstablecimiento]],'[1]Establecimiento 2023'!$A$1:$E$183,3,FALSE),0)","v":"105448-Posta de Salud Rural Santa Virginia"},{"$f":"IFERROR(VLOOKUP(Tabla_SERIED_12_5[[#This Row],[IdEstablecimiento]],'[1]Establecimiento 2023'!$A$1:$E$183,5,FALSE),0)","v":"04201-Illapel"},"15080008","2022-05-18T15:03:31",5,{"$nulls":7},2,{"$nulls":3},3]
[{"$nulls":23},6,"5",2022,"105458",{"$f":"IFERROR(VLOOKUP(Tabla_SERIED_12_5[[#This Row],[IdEstablecimiento]],'[1]Establecimiento 2023'!$A$1:$E$183,3,FALSE),0)","v":"105458-Posta de Salud Rural Tahuinco"},{"$f":"IFERROR(VLOOKUP(Tabla_SERIED_12_5[[#This Row],[IdEstablecimiento]],'[1]Establecimiento 2023'!$A$1:$E$183,5,FALSE),0)","v":"04204-Salamanca"},"16200210","2022-07-14T14:19:48",8,8]
[{"$nulls":23},6,"5",2022,"105425",{"$f":"IFERROR(VLOOKUP(Tabla_SERIED_12_5[[#This Row],[IdEstablecimiento]],'[1]Establecimiento 2023'!$A$1:$E$183,3,FALSE),0)","v":"105425-Posta de Salud Rural Chilecito"},{"$f":"IFERROR(VLOOKUP(Tabla_SERIED_12_5[[#This Row],[IdEstablecimiento]],'[1]Establecimiento 2023'!$A$1:$E$183,5,FALSE),0)","v":"04303-Monte Patria"},"15010500","2022-07-14T14:10:37",2,{"$nulls":5},2]
[{"$nulls":23},6,"5",2022,"105427",{"$f":"IFERROR(VLOOKUP(Tabla_SERIED_12_5[[#This Row],[IdEstablecimiento]],'[1]Establecimiento 2023'!$A$1:$E$183,3,FALSE),0)","v":"105427-Posta de Salud Rural Hacienda Valdivia"},{"$f":"IFERROR(VLOOKUP(Tabla_SERIED_12_5[[#This Row],[IdEstablecimiento]],'[1]Establecimiento 2023'!$A$1:$E$183,5,FALSE),0)","v":"04303-Monte Patria"},"15050100","2022-07-14T14:11:08",5,3,2,null,null,3,0,null,1,1]
[{"$nulls":23},7,"5",2022,"105324",{"$f":"IFERROR(VLOOKUP(Tabla_SERIED_12_5[[#This Row],[IdEstablecimiento]],'[1]Establecimiento 2023'!$A$1:$E$183,3,FALSE),0)","v":"105324-Centro de Salud Familiar Sotaquí"},{"$f":"IFERROR(VLOOKUP(Tabla_SERIED_12_5[[#This Row],[IdEstablecimiento]],'[1]Establecimiento 2023'!$A$1:$E$183,5,FALSE),0)","v":"04301-Ovalle"},"15010500","2022-08-19T12:02:52",6,{"$nulls":5},2,4]
[{"$nulls":23},3,"5",2022,"105448",{"$f":"IFERROR(VLOOKUP(Tabla_SERIED_12_5[[#This Row],[IdEstablecimiento]],'[1]Establecimiento 2023'!$A$1:$E$183,3,FALSE),0)","v":"105448-Posta de Salud Rural Santa Virginia"},{"$f":"IFERROR(VLOOKUP(Tabla_SERIED_12_5[[#This Row],[IdEstablecimiento]],'[1]Establecimiento 2023'!$A$1:$E$183,5,FALSE),0)","v":"04201-Illapel"},"15050100","2022-04-19T09:47:35",22,12,10,null,2,1,4,1,5,3,3,{"$nulls":3},3]
[{"$nulls":23},2,"5",2022,"105443",{"$f":"IFERROR(VLOOKUP(Tabla_SERIED_12_5[[#This Row],[IdEstablecimiento]],'[1]Establecimiento 2023'!$A$1:$E$183,3,FALSE),0)","v":"105443-Posta de Salud Rural Cárcamo"},{"$f":"IFERROR(VLOOKUP(Tabla_SERIED_12_5[[#This Row],[IdEstablecimiento]],'[1]Establecimiento 2023'!$A$1:$E$183,5,FALSE),0)","v":"04201-Illapel"},"16100300","2022-03-17T09:42:26",126,56,70]
[{"$nulls":23},3,"5",2022,"200494",{"$f":"IFERROR(VLOOKUP(Tabla_SERIED_12_5[[#This Row],[IdEstablecimiento]],'[1]Establecimiento 2023'!$A$1:$E$183,3,FALSE),0)","v":"200494-Centro de Salud Familiar El Sauce"},{"$f":"IFERROR(VLOOKUP(Tabla_SERIED_12_5[[#This Row],[IdEstablecimiento]],'[1]Establecimiento 2023'!$A$1:$E$183,5,FALSE),0)","v":"04102-Coquimbo"},"15010400","2022-04-19T10:15:21",14,{"$nulls":4},2,8,4]
[{"$nulls":23},4,"5",2022,"105484",{"$f":"IFERROR(VLOOKUP(Tabla_SERIED_12_5[[#This Row],[IdEstablecimiento]],'[1]Establecimiento 2023'!$A$1:$E$183,3,FALSE),0)","v":"105484-Posta de Salud Rural Huentelauquén"},{"$f":"IFERROR(VLOOKUP(Tabla_SERIED_12_5[[#This Row],[IdEstablecimiento]],'[1]Establecimiento 2023'!$A$1:$E$183,5,FALSE),0)","v":"04202-Canela"},"16090300","2022-05-18T15:15:16",54,54]
[{"$nulls":23},3,"5",2022,"105410",{"$f":"IFERROR(VLOOKUP(Tabla_SERIED_12_5[[#This Row],[IdEstablecimiento]],'[1]Establecimiento 2023'!$A$1:$E$183,3,FALSE),0)","v":"105410-Posta de Salud Rural Hurtado"},{"$f":"IFERROR(VLOOKUP(Tabla_SERIED_12_5[[#This Row],[IdEstablecimiento]],'[1]Establecimiento 2023'!$A$1:$E$183,5,FALSE),0)","v":"04305-Río Hurtado"},"16200220","2022-04-19T08:16:15",1,1,0,0,0]
[{"$nulls":23},6,"5",2022,"105459",{"$f":"IFERROR(VLOOKUP(Tabla_SERIED_12_5[[#This Row],[IdEstablecimiento]],'[1]Establecimiento 2023'!$A$1:$E$183,3,FALSE),0)","v":"105459-Posta de Salud Rural Barrancas"},{"$f":"IFERROR(VLOOKUP(Tabla_SERIED_12_5[[#This Row],[IdEstablecimiento]],'[1]Establecimiento 2023'!$A$1:$E$183,5,FALSE),0)","v":"04302-Combarbalá"},"15010200","2022-07-14T14:19:59",10,{"$nulls":4},2,4,4]
[{"$nulls":23},6,"5",2022,"105313",{"$f":"IFERROR(VLOOKUP(Tabla_SERIED_12_5[[#This Row],[IdEstablecimiento]],'[1]Establecimiento 2023'!$A$1:$E$183,3,FALSE),0)","v":"105313-Centro de Salud Familiar Dr. Emilio Schaffhauser"},{"$f":"IFERROR(VLOOKUP(Tabla_SERIED_12_5[[#This Row],[IdEstablecimiento]],'[1]Establecimiento 2023'!$A$1:$E$183,5,FALSE),0)","v":"04101-La Serena"},"16200220","2022-07-14T14:04:51",56,21,35,null,16]
[{"$nulls":23},6,"5",2022,"105314",{"$f":"IFERROR(VLOOKUP(Tabla_SERIED_12_5[[#This Row],[IdEstablecimiento]],'[1]Establecimiento 2023'!$A$1:$E$183,3,FALSE),0)","v":"105314-Centro de Salud Familiar La Higuera"},{"$f":"IFERROR(VLOOKUP(Tabla_SERIED_12_5[[#This Row],[IdEstablecimiento]],'[1]Establecimiento 2023'!$A$1:$E$183,5,FALSE),0)","v":"04104-La Higuera"},"16200210","2022-07-14T14:05:07",7,7]
[{"$nulls":23},5,"5",2022,"105309",{"$f":"IFERROR(VLOOKUP(Tabla_SERIED_12_5[[#This Row],[IdEstablecimiento]],'[1]Establecimiento 2023'!$A$1:$E$183,3,FALSE),0)","v":"105309-Centro de Salud Familiar Canela"},{"$f":"IFERROR(VLOOKUP(Tabla_SERIED_12_5[[#This Row],[IdEstablecimiento]],'[1]Establecimiento 2023'!$A$1:$E$183,5,FALSE),0)","v":"04202-Canela"},"16200100","2022-06-20T17:02:35",2,1,1]
[{"$nulls":23},5,"5",2022,"105309",{"$f":"IFERROR(VLOOKUP(Tabla_SERIED_12_5[[#This Row],[IdEstablecimiento]],'[1]Establecimiento 2023'!$A$1:$E$183,3,FALSE),0)","v":"105309-Centro de Salud Familiar Canela"},{"$f":"IFERROR(VLOOKUP(Tabla_SERIED_12_5[[#This Row],[IdEstablecimiento]],'[1]Establecimiento 2023'!$A$1:$E$183,5,FALSE),0)","v":"04202-Canela"},"16200230","2022-06-20T17:02:35",1,1]
[{"$nulls":23},6,"5",2022,"105459",{"$f":"IFERROR(VLOOKUP(Tabla_SERIED_12_5[[#This Row],[IdEstablecimiento]],'[1]Establecimiento 2023'!$A$1:$E$183,3,FALSE),0)","v":"105459-Posta de Salud Rural Barrancas"},{"$f":"IFERROR(VLOOKUP(Tabla_SERIED_12_5[[#This Row],[IdEstablecimiento]],'[1]Establecimiento 2023'!$A$1:$E$183,5,FALSE),0)","v":"04302-Combarbalá"},"16090500","2022-07-14T14:19:59",2,2]
[{"$nulls":23},5,"5",2022,"200607",{"$f":"IFERROR(VLOOKUP(Tabla_SERIED_12_5[[#This Row],[IdEstablecimiento]],'[1]Establecimiento 2023'!$A$1:$E$183,3,FALSE),0)","v":"200607-Centro de Salud Familiar Lila Cortés Godoy"},{"$f":"IFERROR(VLOOKUP(Tabla_SERIED_12_5[[#This Row],[IdEstablecimiento]],'[1]Establecimiento 2023'!$A$1:$E$183,5,FALSE),0)","v":"04102-Coquimbo"},"15010500","2022-06-20T17:38:04",12,null,0,0,6,2,2,2]
[{"$nulls":23},3,"5",2022,"105472",{"$f":"IFERROR(VLOOKUP(Tabla_SERIED_12_5[[#This Row],[IdEstablecimiento]],'[1]Establecimiento 2023'!$A$1:$E$183,3,FALSE),0)","v":"105472-Posta de Salud Rural Rivadavia"},{"$f":"IFERROR(VLOOKUP(Tabla_SERIED_12_5[[#This Row],[IdEstablecimiento]],'[1]Establecimiento 2023'!$A$1:$E$183,5,FALSE),0)","v":"04106-Vicuña"},"16100600","2022-04-19T10:02:47",3,1,2,null,1]
[{"$nulls":23},3,"5",2022,"105318",{"$f":"IFERROR(VLOOKUP(Tabla_SERIED_12_5[[#This Row],[IdEstablecimiento]],'[1]Establecimiento 2023'!$A$1:$E$183,3,FALSE),0)","v":"105318-Centro de Salud Familiar El Palqui"},{"$f":"IFERROR(VLOOKUP(Tabla_SERIED_12_5[[#This Row],[IdEstablecimiento]],'[1]Establecimiento 2023'!$A$1:$E$183,5,FALSE),0)","v":"04303-Monte Patria"},"16100300","2022-04-19T08:10:14",298,118,180,4,21]
[{"$nulls":23},2,"5",2022,"105723",{"$f":"IFERROR(VLOOKUP(Tabla_SERIED_12_5[[#This Row],[IdEstablecimiento]],'[1]Establecimiento 2023'!$A$1:$E$183,3,FALSE),0)","v":"105723-Centro Comunitario de Salud Familiar Limarí"},{"$f":"IFERROR(VLOOKUP(Tabla_SERIED_12_5[[#This Row],[IdEstablecimiento]],'[1]Establecimiento 2023'!$A$1:$E$183,5,FALSE),0)","v":"04301-Ovalle"},"15900050","2022-03-17T10:05:47",1,1,null,null,1]
[{"$nulls":23},7,"5",2022,"105422",{"$f":"IFERROR(VLOOKUP(Tabla_SERIED_12_5[[#This Row],[IdEstablecimiento]],'[1]Establecimiento 2023'!$A$1:$E$183,3,FALSE),0)","v":"105422-Posta de Salud Rural Hornillos"},{"$f":"IFERROR(VLOOKUP(Tabla_SERIED_12_5[[#This Row],[IdEstablecimiento]],'[1]Establecimiento 2023'!$A$1:$E$183,5,FALSE),0)","v":"04301-Ovalle"},"15080008","2022-08-22T05:42:20",2,{"$nulls":7},1,{"$nulls":3},1]
[{"$nulls":23},4,"5",2022,"105469",{"$f":"IFERROR(VLOOKUP(Tabla_SERIED_12_5[[#This Row],[IdEstablecimiento]],'[1]Establecimiento 2023'!$A$1:$E$183,3,FALSE),0)","v":"105469-Posta de Salud Rural El Tambo (Vicuña)"},{"$f":"IFERROR(VLOOKUP(Tabla_SERIED_12_5[[#This Row],[IdEstablecimiento]],'[1]Establecimiento 2023'!$A$1:$E$183,5,FALSE),0)","v":"04106-Vicuña"},"16090500","2022-05-18T15:11:47",2,2]
[{"$nulls":23},4,"5",2022,"200367",{"$f":"IFERROR(VLOOKUP(Tabla_SERIED_12_5[[#This Row],[IdEstablecimiento]],'[1]Establecimiento 2023'!$A$1:$E$183,3,FALSE),0)","v":"200367-Centro Comunitario de Salud Familiar Colonia Limarí"},{"$f":"IFERROR(VLOOKUP(Tabla_SERIED_12_5[[#This Row],[IdEstablecimiento]],'[1]Establecimiento 2023'!$A$1:$E$183,5,FALSE),0)","v":"04301-Ovalle"},"15050100","2022-05-18T15:27:19",46,22,24,1,null,5,3,7,12,10,6,{"$nulls":3},2]
[{"$nulls":23},4,"5",2022,"105400",{"$f":"IFERROR(VLOOKUP(Tabla_SERIED_12_5[[#This Row],[IdEstablecimiento]],'[1]Establecimiento 2023'!$A$1:$E$183,3,FALSE),0)","v":"105400-Posta de Salud Rural Algarrobito"},{"$f":"IFERROR(VLOOKUP(Tabla_SERIED_12_5[[#This Row],[IdEstablecimiento]],'[1]Establecimiento 2023'!$A$1:$E$183,5,FALSE),0)","v":"04101-La Serena"},"15060100","2022-05-18T11:55:03",1,null,1,{"$nulls":5},1]
[{"$nulls":23},6,"5",2022,"105305",{"$f":"IFERROR(VLOOKUP(Tabla_SERIED_12_5[[#This Row],[IdEstablecimiento]],'[1]Establecimiento 2023'!$A$1:$E$183,3,FALSE),0)","v":"105305-Centro de Salud Familiar Tierras Blancas"},{"$f":"IFERROR(VLOOKUP(Tabla_SERIED_12_5[[#This Row],[IdEstablecimiento]],'[1]Establecimiento 2023'!$A$1:$E$183,5,FALSE),0)","v":"04102-Coquimbo"},"15901300","2022-07-14T13:37:13",3.6,{"$nulls":4},3.6]
[{"$nulls":23},6,"5",2022,"105315",{"$f":"IFERROR(VLOOKUP(Tabla_SERIED_12_5[[#This Row],[IdEstablecimiento]],'[1]Establecimiento 2023'!$A$1:$E$183,3,FALSE),0)","v":"105315-Centro de Salud Familiar Cerrillos de Tamaya"},{"$f":"IFERROR(VLOOKUP(Tabla_SERIED_12_5[[#This Row],[IdEstablecimiento]],'[1]Establecimiento 2023'!$A$1:$E$183,5,FALSE),0)","v":"04301-Ovalle"},"16100300","2022-07-14T14:05:21",247,124,123,null,14]
[{"$nulls":23},8,"5",2022,"105483",{"$f":"IFERROR(VLOOKUP(Tabla_SERIED_12_5[[#This Row],[IdEstablecimiento]],'[1]Establecimiento 2023'!$A$1:$E$183,3,FALSE),0)","v":"105483-Posta de Salud Rural Los Rulos"},{"$f":"IFERROR(VLOOKUP(Tabla_SERIED_12_5[[#This Row],[IdEstablecimiento]],'[1]Establecimiento 2023'!$A$1:$E$183,5,FALSE),0)","v":"04202-Canela"},"16100300","2022-09-21T07:51:59",34,11,23,null,4]
[{"$nulls":23},2,"5",2022,"105300",{"$f":"IFERROR(VLOOKUP(Tabla_SERIED_12_5[[#This Row],[IdEstablecimiento]],'[1]Establecimiento 2023'!$A$1:$E$183,3,FALSE),0)","v":"105300-Centro de Salud Familiar Cardenal Caro"},{"$f":"IFERROR(VLOOKUP(Tabla_SERIED_12_5[[#This Row],[IdEstablecimiento]],'[1]Establecimiento 2023'!$A$1:$E$183,5,FALSE),0)","v":"04101-La Serena"},"15900010","2022-03-17T09:26:33",97.6,4,25.6,68]
[{"$nulls":23},7,"5",2022,"105104",{"$f":"IFERROR(VLOOKUP(Tabla_SERIED_12_5[[#This Row],[IdEstablecimiento]],'[1]Establecimiento 2023'!$A$1:$E$183,3,FALSE),0)","v":"105104-Hospital de Salamanca"},{"$f":"IFERROR(VLOOKUP(Tabla_SERIED_12_5[[#This Row],[IdEstablecimiento]],'[1]Establecimiento 2023'!$A$1:$E$183,5,FALSE),0)","v":"105104-Hospital Salamanca"},"15900030","2022-08-19T11:37:46",6.8,3.6,0,3.2,0,0]
[{"$nulls":23},8,"5",2022,"105323",{"$f":"IFERROR(VLOOKUP(Tabla_SERIED_12_5[[#This Row],[IdEstablecimiento]],'[1]Establecimiento 2023'!$A$1:$E$183,3,FALSE),0)","v":"105323-Centro de Salud Familiar Dr. Sergio Aguilar Delgado"},{"$f":"IFERROR(VLOOKUP(Tabla_SERIED_12_5[[#This Row],[IdEstablecimiento]],'[1]Establecimiento 2023'!$A$1:$E$183,5,FALSE),0)","v":"04102-Coquimbo"},"15901200","2022-09-21T07:19:45",7.2,2,null,5.2]
[{"$nulls":23},8,"5",2022,"105323",{"$f":"IFERROR(VLOOKUP(Tabla_SERIED_12_5[[#This Row],[IdEstablecimiento]],'[1]Establecimiento 2023'!$A$1:$E$183,3,FALSE),0)","v":"105323-Centro de Salud Familiar Dr. Sergio Aguilar Delgado"},{"$f":"IFERROR(VLOOKUP(Tabla_SERIED_12_5[[#This Row],[IdEstablecimiento]],'[1]Establecimiento 2023'!$A$1:$E$183,5,FALSE),0)","v":"04102-Coquimbo"},"15901300","2022-09-21T07:19:45",3.6,null,null,3.6]
[{"$nulls":23},3,"5",2022,"105301",{"$f":"IFERROR(VLOOKUP(Tabla_SERIED_12_5[[#This Row],[IdEstablecimiento]],'[1]Establecimiento 2023'!$A$1:$E$183,3,FALSE),0)","v":"105301-Centro de Salud Familiar Las Compañías"},{"$f":"IFERROR(VLOOKUP(Tabla_SERIED_12_5[[#This Row],[IdEstablecimiento]],'[1]Establecimiento 2023'!$A$1:$E$183,5,FALSE),0)","v":"04101-La Serena"},"15080009","2022-04-19T08:02:23",6,{"$nulls":8},6,0,0,0]
[{"$nulls":23},2,"5",2022,"105723",{"$f":"IFERROR(VLOOKUP(Tabla_SERIED_12_5[[#This Row],[IdEstablecimiento]],'[1]Establecimiento 2023'!$A$1:$E$183,3,FALSE),0)","v":"105723-Centro Comunitario de Salud Familiar Limarí"},{"$f":"IFERROR(VLOOKUP(Tabla_SERIED_12_5[[#This Row],[IdEstablecimiento]],'[1]Establecimiento 2023'!$A$1:$E$183,5,FALSE),0)","v":"04301-Ovalle"},"15010100","2022-03-17T10:05:47",22,{"$nulls":3},22]
[{"$nulls":23},8,"5",2022,"105701",{"$f":"IFERROR(VLOOKUP(Tabla_SERIED_12_5[[#This Row],[IdEstablecimiento]],'[1]Establecimiento 2023'!$A$1:$E$183,3,FALSE),0)","v":"105701-Centro Comunitario de Salud Familiar Villa Alemania"},{"$f":"IFERROR(VLOOKUP(Tabla_SERIED_12_5[[#This Row],[IdEstablecimiento]],'[1]Establecimiento 2023'!$A$1:$E$183,5,FALSE),0)","v":"04101-La Serena"},"15050100","2022-09-21T08:00:36",62,27,35,1,1,8,11,5,9,11,14,null,2]
[{"$nulls":23},8,"5",2022,"105507",{"$f":"IFERROR(VLOOKUP(Tabla_SERIED_12_5[[#This Row],[IdEstablecimiento]],'[1]Establecimiento 2023'!$A$1:$E$183,3,FALSE),0)","v":"105507-Posta de Salud Rural Huamalata"},{"$f":"IFERROR(VLOOKUP(Tabla_SERIED_12_5[[#This Row],[IdEstablecimiento]],'[1]Establecimiento 2023'!$A$1:$E$183,5,FALSE),0)","v":"04301-Ovalle"},"15010500","2022-09-21T07:59:11",4,null,null,2,2]
[{"$nulls":23},4,"5",2022,"105309",{"$f":"IFERROR(VLOOKUP(Tabla_SERIED_12_5[[#This Row],[IdEstablecimiento]],'[1]Establecimiento 2023'!$A$1:$E$183,3,FALSE),0)","v":"105309-Centro de Salud Familiar Canela"},{"$f":"IFERROR(VLOOKUP(Tabla_SERIED_12_5[[#This Row],[IdEstablecimiento]],'[1]Establecimiento 2023'!$A$1:$E$183,5,FALSE),0)","v":"04202-Canela"},"15010100","2022-05-18T11:51:04",34,null,null,2,32]
[{"$nulls":23},5,"5",2022,"105108",{"$f":"IFERROR(VLOOKUP(Tabla_SERIED_12_5[[#This Row],[IdEstablecimiento]],'[1]Establecimiento 2023'!$A$1:$E$183,3,FALSE),0)","v":"105108-Hospital San Pedro (Los Vilos)"},{"$f":"IFERROR(VLOOKUP(Tabla_SERIED_12_5[[#This Row],[IdEstablecimiento]],'[1]Establecimiento 2023'!$A$1:$E$183,5,FALSE),0)","v":"105108-Hospital Los Vilos"},"15010300","2022-08-22T07:34:56",2,{"$nulls":3},2]
[{"$nulls":23},2,"5",2022,"105485",{"$f":"IFERROR(VLOOKUP(Tabla_SERIED_12_5[[#This Row],[IdEstablecimiento]],'[1]Establecimiento 2023'!$A$1:$E$183,3,FALSE),0)","v":"105485-Posta de Salud Rural Plan de Hornos"},{"$f":"IFERROR(VLOOKUP(Tabla_SERIED_12_5[[#This Row],[IdEstablecimiento]],'[1]Establecimiento 2023'!$A$1:$E$183,5,FALSE),0)","v":"04201-Illapel"},"15010100","2022-03-17T09:55:16",4,{"$nulls":3},4]
[{"$nulls":23},2,"5",2022,"105485",{"$f":"IFERROR(VLOOKUP(Tabla_SERIED_12_5[[#This Row],[IdEstablecimiento]],'[1]Establecimiento 2023'!$A$1:$E$183,3,FALSE),0)","v":"105485-Posta de Salud Rural Plan de Hornos"},{"$f":"IFERROR(VLOOKUP(Tabla_SERIED_12_5[[#This Row],[IdEstablecimiento]],'[1]Establecimiento 2023'!$A$1:$E$183,5,FALSE),0)","v":"04201-Illapel"},"15010200","2022-03-17T09:55:16",20,{"$nulls":5},8,12]
[{"$nulls":23},2,"5",2022,"105302",{"$f":"IFERROR(VLOOKUP(Tabla_SERIED_12_5[[#This Row],[IdEstablecimiento]],'[1]Establecimiento 2023'!$A$1:$E$183,3,FALSE),0)","v":"105302-Centro de Salud Familiar Pedro Aguirre Cerda"},{"$f":"IFERROR(VLOOKUP(Tabla_SERIED_12_5[[#This Row],[IdEstablecimiento]],'[1]Establecimiento 2023'!$A$1:$E$183,5,FALSE),0)","v":"04101-La Serena"},"16200210","2022-03-17T09:26:58",28,28]
[{"$nulls":23},9,"5",2022,"105444",{"$f":"IFERROR(VLOOKUP(Tabla_SERIED_12_5[[#This Row],[IdEstablecimiento]],'[1]Establecimiento 2023'!$A$1:$E$183,3,FALSE),0)","v":"105444-Posta de Salud Rural Huintil"},{"$f":"IFERROR(VLOOKUP(Tabla_SERIED_12_5[[#This Row],[IdEstablecimiento]],'[1]Establecimiento 2023'!$A$1:$E$183,5,FALSE),0)","v":"04201-Illapel"},"15900010","2022-11-15T14:41:41",2.7,2.7]
[{"$nulls":23},9,"5",2022,"105444",{"$f":"IFERROR(VLOOKUP(Tabla_SERIED_12_5[[#This Row],[IdEstablecimiento]],'[1]Establecimiento 2023'!$A$1:$E$183,3,FALSE),0)","v":"105444-Posta de Salud Rural Huintil"},{"$f":"IFERROR(VLOOKUP(Tabla_SERIED_12_5[[#This Row],[IdEstablecimiento]],'[1]Establecimiento 2023'!$A$1:$E$183,5,FALSE),0)","v":"04201-Illapel"},"16100300","2022-11-15T14:41:41",55,25,30]
[{"$nulls":23},9,"5",2022,"105445",{"$f":"IFERROR(VLOOKUP(Tabla_SERIED_12_5[[#This Row],[IdEstablecimiento]],'[1]Establecimiento 2023'!$A$1:$E$183,3,FALSE),0)","v":"105445-Posta de Salud Rural Limáhuida"},{"$f":"IFERROR(VLOOKUP(Tabla_SERIED_12_5[[#This Row],[IdEstablecimiento]],'[1]Establecimiento 2023'!$A$1:$E$183,5,FALSE),0)","v":"04201-Illapel"},"15050100","2022-11-15T14:41:51",13,7,6,null,null,1,2,2,3,4,1]
[{"$nulls":23},9,"5",2022,"105446",{"$f":"IFERROR(VLOOKUP(Tabla_SERIED_12_5[[#This Row],[IdEstablecimiento]],'[1]Establecimiento 2023'!$A$1:$E$183,3,FALSE),0)","v":"105446-Posta de Salud Rural Matancilla"},{"$f":"IFERROR(VLOOKUP(Tabla_SERIED_12_5[[#This Row],[IdEstablecimiento]],'[1]Establecimiento 2023'!$A$1:$E$183,5,FALSE),0)","v":"04201-Illapel"},"16200210","2022-11-15T14:42:01",3,3]
[{"$nulls":23},9,"5",2022,"105448",{"$f":"IFERROR(VLOOKUP(Tabla_SERIED_12_5[[#This Row],[IdEstablecimiento]],'[1]Establecimiento 2023'!$A$1:$E$183,3,FALSE),0)","v":"105448-Posta de Salud Rural Santa Virginia"},{"$f":"IFERROR(VLOOKUP(Tabla_SERIED_12_5[[#This Row],[IdEstablecimiento]],'[1]Establecimiento 2023'!$A$1:$E$183,5,FALSE),0)","v":"04201-Illapel"},"15010100","2022-11-15T14:42:21",2,{"$nulls":3},2]
[{"$nulls":23},6,"5",2022,"105453",{"$f":"IFERROR(VLOOKUP(Tabla_SERIED_12_5[[#This Row],[IdEstablecimiento]],'[1]Establecimiento 2023'!$A$1:$E$183,3,FALSE),0)","v":"105453-Posta de Salud Rural Tranquilla"},{"$f":"IFERROR(VLOOKUP(Tabla_SERIED_12_5[[#This Row],[IdEstablecimiento]],'[1]Establecimiento 2023'!$A$1:$E$183,5,FALSE),0)","v":"04204-Salamanca"},"15050100","2022-07-14T14:18:07",40,28,12,null,1,1,4,6,12,15,{"$nulls":4},1]
[{"$nulls":23},6,"5",2022,"105453",{"$f":"IFERROR(VLOOKUP(Tabla_SERIED_12_5[[#This Row],[IdEstablecimiento]],'[1]Establecimiento 2023'!$A$1:$E$183,3,FALSE),0)","v":"105453-Posta de Salud Rural Tranquilla"},{"$f":"IFERROR(VLOOKUP(Tabla_SERIED_12_5[[#This Row],[IdEstablecimiento]],'[1]Establecimiento 2023'!$A$1:$E$183,5,FALSE),0)","v":"04204-Salamanca"},"15020100","2022-07-14T14:18:07",2,{"$nulls":3},2]
[{"$nulls":23},3,"5",2022,"105510",{"$f":"IFERROR(VLOOKUP(Tabla_SERIED_12_5[[#This Row],[IdEstablecimiento]],'[1]Establecimiento 2023'!$A$1:$E$183,3,FALSE),0)","v":"105510-Posta de Salud Rural Recoleta"},{"$f":"IFERROR(VLOOKUP(Tabla_SERIED_12_5[[#This Row],[IdEstablecimiento]],'[1]Establecimiento 2023'!$A$1:$E$183,5,FALSE),0)","v":"04301-Ovalle"},"16100300","2022-04-19T10:11:31",74,42,32,3,20]
[{"$nulls":23},4,"5",2022,"105300",{"$f":"IFERROR(VLOOKUP(Tabla_SERIED_12_5[[#This Row],[IdEstablecimiento]],'[1]Establecimiento 2023'!$A$1:$E$183,3,FALSE),0)","v":"105300-Centro de Salud Familiar Cardenal Caro"},{"$f":"IFERROR(VLOOKUP(Tabla_SERIED_12_5[[#This Row],[IdEstablecimiento]],'[1]Establecimiento 2023'!$A$1:$E$183,5,FALSE),0)","v":"04101-La Serena"},"15050100","2022-05-18T11:49:12",371,127,244,null,7,36,42,29,74,59,79,null,26,5,14]
[{"$nulls":23},4,"5",2022,"105300",{"$f":"IFERROR(VLOOKUP(Tabla_SERIED_12_5[[#This Row],[IdEstablecimiento]],'[1]Establecimiento 2023'!$A$1:$E$183,3,FALSE),0)","v":"105300-Centro de Salud Familiar Cardenal Caro"},{"$f":"IFERROR(VLOOKUP(Tabla_SERIED_12_5[[#This Row],[IdEstablecimiento]],'[1]Establecimiento 2023'!$A$1:$E$183,5,FALSE),0)","v":"04101-La Serena"},"15060100","2022-05-18T11:49:12",31,19,12,1,1,3,4,7,6,6,null,null,1,1,1]
[{"$nulls":23},11,"5",2022,"105106",{"$f":"IFERROR(VLOOKUP(Tabla_SERIED_12_5[[#This Row],[IdEstablecimiento]],'[1]Establecimiento 2023'!$A$1:$E$183,3,FALSE),0)","v":"105106-Hospital Dr. José Arraño (Andacollo)"},{"$f":"IFERROR(VLOOKUP(Tabla_SERIED_12_5[[#This Row],[IdEstablecimiento]],'[1]Establecimiento 2023'!$A$1:$E$183,5,FALSE),0)","v":"105106-Hospital Andacollo"},"15050200","2022-12-20T09:53:49",6,3,3,{"$nulls":4},1,4,1]
[{"$nulls":23},11,"5",2022,"105107",{"$f":"IFERROR(VLOOKUP(Tabla_SERIED_12_5[[#This Row],[IdEstablecimiento]],'[1]Establecimiento 2023'!$A$1:$E$183,3,FALSE),0)","v":"105107-Hospital San Juan de Dios (Vicuña)"},{"$f":"IFERROR(VLOOKUP(Tabla_SERIED_12_5[[#This Row],[IdEstablecimiento]],'[1]Establecimiento 2023'!$A$1:$E$183,5,FALSE),0)","v":"105107-Hospital Vicuña"},"15900010","2022-12-20T09:54:02",120.6,4.9,33,82.7]
[{"$nulls":23},11,"5",2022,"105107",{"$f":"IFERROR(VLOOKUP(Tabla_SERIED_12_5[[#This Row],[IdEstablecimiento]],'[1]Establecimiento 2023'!$A$1:$E$183,3,FALSE),0)","v":"105107-Hospital San Juan de Dios (Vicuña)"},{"$f":"IFERROR(VLOOKUP(Tabla_SERIED_12_5[[#This Row],[IdEstablecimiento]],'[1]Establecimiento 2023'!$A$1:$E$183,5,FALSE),0)","v":"105107-Hospital Vicuña"},"15050200","2022-12-20T09:54:02",15,5,10,null,null,3,2,2,3,5]
[{"$nulls":23},11,"5",2022,"105300",{"$f":"IFERROR(VLOOKUP(Tabla_SERIED_12_5[[#This Row],[IdEstablecimiento]],'[1]Establecimiento 2023'!$A$1:$E$183,3,FALSE),0)","v":"105300-Centro de Salud Familiar Cardenal Caro"},{"$f":"IFERROR(VLOOKUP(Tabla_SERIED_12_5[[#This Row],[IdEstablecimiento]],'[1]Establecimiento 2023'!$A$1:$E$183,5,FALSE),0)","v":"04101-La Serena"},"15010100","2022-12-20T09:54:31",116,{"$nulls":3},116]
[{"$nulls":23},11,"5",2022,"105300",{"$f":"IFERROR(VLOOKUP(Tabla_SERIED_12_5[[#This Row],[IdEstablecimiento]],'[1]Establecimiento 2023'!$A$1:$E$183,3,FALSE),0)","v":"105300-Centro de Salud Familiar Cardenal Caro"},{"$f":"IFERROR(VLOOKUP(Tabla_SERIED_12_5[[#This Row],[IdEstablecimiento]],'[1]Establecimiento 2023'!$A$1:$E$183,5,FALSE),0)","v":"04101-La Serena"},"15010200","2022-12-20T09:54:31",381,{"$nulls":4},88,184,109]
[{"$nulls":23},11,"5",2022,"105300",{"$f":"IFERROR(VLOOKUP(Tabla_SERIED_12_5[[#This Row],[IdEstablecimiento]],'[1]Establecimiento 2023'!$A$1:$E$183,3,FALSE),0)","v":"105300-Centro de Salud Familiar Cardenal Caro"},{"$f":"IFERROR(VLOOKUP(Tabla_SERIED_12_5[[#This Row],[IdEstablecimiento]],'[1]Establecimiento 2023'!$A$1:$E$183,5,FALSE),0)","v":"04101-La Serena"},"15050500","2022-12-20T09:54:31",4,3,1,2,1,1]
[{"$nulls":23},11,"5",2022,"105300",{"$f":"IFERROR(VLOOKUP(Tabla_SERIED_12_5[[#This Row],[IdEstablecimiento]],'[1]Establecimiento 2023'!$A$1:$E$183,3,FALSE),0)","v":"105300-Centro de Salud Familiar Cardenal Caro"},{"$f":"IFERROR(VLOOKUP(Tabla_SERIED_12_5[[#This Row],[IdEstablecimiento]],'[1]Establecimiento 2023'!$A$1:$E$183,5,FALSE),0)","v":"04101-La Serena"},"16090300","2022-12-20T09:54:31",1033,1033]
[{"$nulls":23},11,"5",2022,"105302",{"$f":"IFERROR(VLOOKUP(Tabla_SERIED_12_5[[#This Row],[IdEstablecimiento]],'[1]Establecimiento 2023'!$A$1:$E$183,3,FALSE),0)","v":"105302-Centro de Salud Familiar Pedro Aguirre Cerda"},{"$f":"IFERROR(VLOOKUP(Tabla_SERIED_12_5[[#This Row],[IdEstablecimiento]],'[1]Establecimiento 2023'!$A$1:$E$183,5,FALSE),0)","v":"04101-La Serena"},"15010500","2022-12-20T09:54:51",19,null,1,8,null,2,6,2]
[{"$nulls":23},3,"5",2022,"105302",{"$f":"IFERROR(VLOOKUP(Tabla_SERIED_12_5[[#This Row],[IdEstablecimiento]],'[1]Establecimiento 2023'!$A$1:$E$183,3,FALSE),0)","v":"105302-Centro de Salud Familiar Pedro Aguirre Cerda"},{"$f":"IFERROR(VLOOKUP(Tabla_SERIED_12_5[[#This Row],[IdEstablecimiento]],'[1]Establecimiento 2023'!$A$1:$E$183,5,FALSE),0)","v":"04101-La Serena"},"15050500","2022-04-19T08:02:36",3,2,1,1,2]
[{"$nulls":23},3,"5",2022,"105306",{"$f":"IFERROR(VLOOKUP(Tabla_SERIED_12_5[[#This Row],[IdEstablecimiento]],'[1]Establecimiento 2023'!$A$1:$E$183,3,FALSE),0)","v":"105306-Centro de Salud Familiar Paihuano"},{"$f":"IFERROR(VLOOKUP(Tabla_SERIED_12_5[[#This Row],[IdEstablecimiento]],'[1]Establecimiento 2023'!$A$1:$E$183,5,FALSE),0)","v":"04105-Paiguano"},"16200220","2022-04-19T08:03:33",1,1]
[{"$nulls":23},1,"5",2022,"105437",{"$f":"IFERROR(VLOOKUP(Tabla_SERIED_12_5[[#This Row],[IdEstablecimiento]],'[1]Establecimiento 2023'!$A$1:$E$183,3,FALSE),0)","v":"105437-Posta de Salud Rural Chalinga"},{"$f":"IFERROR(VLOOKUP(Tabla_SERIED_12_5[[#This Row],[IdEstablecimiento]],'[1]Establecimiento 2023'!$A$1:$E$183,5,FALSE),0)","v":"04301-Ovalle"},"16200210","2022-02-16T11:04:26",24,24]
[{"$nulls":23},9,"5",2022,"105448",{"$f":"IFERROR(VLOOKUP(Tabla_SERIED_12_5[[#This Row],[IdEstablecimiento]],'[1]Establecimiento 2023'!$A$1:$E$183,3,FALSE),0)","v":"105448-Posta de Salud Rural Santa Virginia"},{"$f":"IFERROR(VLOOKUP(Tabla_SERIED_12_5[[#This Row],[IdEstablecimiento]],'[1]Establecimiento 2023'!$A$1:$E$183,5,FALSE),0)","v":"04201-Illapel"},"15010500","2022-11-15T14:42:21",2,{"$nulls":3},2]
[{"$nulls":23},9,"5",2022,"105448",{"$f":"IFERROR(VLOOKUP(Tabla_SERIED_12_5[[#This Row],[IdEstablecimiento]],'[1]Establecimiento 2023'!$A$1:$E$183,3,FALSE),0)","v":"105448-Posta de Salud Rural Santa Virginia"},{"$f":"IFERROR(VLOOKUP(Tabla_SERIED_12_5[[#This Row],[IdEstablecimiento]],'[1]Establecimiento 2023'!$A$1:$E$183,5,FALSE),0)","v":"04201-Illapel"},"15900030","2022-11-15T14:42:21",2.8,null,null,2.8]
[{"$nulls":23},9,"5",2022,"105449",{"$f":"IFERROR(VLOOKUP(Tabla_SERIED_12_5[[#This Row],[IdEstablecimiento]],'[1]Establecimiento 2023'!$A$1:$E$183,3,FALSE),0)","v":"105449-Posta de Salud Rural Tunga Norte"},{"$f":"IFERROR(VLOOKUP(Tabla_SERIED_12_5[[#This Row],[IdEstablecimiento]],'[1]Establecimiento 2023'!$A$1:$E$183,5,FALSE),0)","v":"04201-Illapel"},"16100300","2022-11-15T14:42:32",24,10,14]
[{"$nulls":23},9,"5",2022,"105450",{"$f":"IFERROR(VLOOKUP(Tabla_SERIED_12_5[[#This Row],[IdEstablecimiento]],'[1]Establecimiento 2023'!$A$1:$E$183,3,FALSE),0)","v":"105450-Posta de Salud Rural Mincha Norte"},{"$f":"IFERROR(VLOOKUP(Tabla_SERIED_12_5[[#This Row],[IdEstablecimiento]],'[1]Establecimiento 2023'!$A$1:$E$183,5,FALSE),0)","v":"04202-Canela"},"16090600","2022-11-15T14:42:43",1,1]
[{"$nulls":23},9,"5",2022,"105451",{"$f":"IFERROR(VLOOKUP(Tabla_SERIED_12_5[[#This Row],[IdEstablecimiento]],'[1]Establecimiento 2023'!$A$1:$E$183,3,FALSE),0)","v":"105451-Posta de Salud Rural Agua Fría"},{"$f":"IFERROR(VLOOKUP(Tabla_SERIED_12_5[[#This Row],[IdEstablecimiento]],'[1]Establecimiento 2023'!$A$1:$E$183,5,FALSE),0)","v":"04202-Canela"},"16100300","2022-11-15T14:42:53",72,36,36,null,10]
[{"$nulls":23},8,"5",2022,"105304",{"$f":"IFERROR(VLOOKUP(Tabla_SERIED_12_5[[#This Row],[IdEstablecimiento]],'[1]Establecimiento 2023'!$A$1:$E$183,3,FALSE),0)","v":"105304-Centro de Salud Familiar Santa Cecilia"},{"$f":"IFERROR(VLOOKUP(Tabla_SERIED_12_5[[#This Row],[IdEstablecimiento]],'[1]Establecimiento 2023'!$A$1:$E$183,5,FALSE),0)","v":"04102-Coquimbo"},"16200230","2022-09-21T07:15:45",1,0,1,0,0]
[{"$nulls":23},8,"5",2022,"105305",{"$f":"IFERROR(VLOOKUP(Tabla_SERIED_12_5[[#This Row],[IdEstablecimiento]],'[1]Establecimiento 2023'!$A$1:$E$183,3,FALSE),0)","v":"105305-Centro de Salud Familiar Tierras Blancas"},{"$f":"IFERROR(VLOOKUP(Tabla_SERIED_12_5[[#This Row],[IdEstablecimiento]],'[1]Establecimiento 2023'!$A$1:$E$183,5,FALSE),0)","v":"04102-Coquimbo"},"15900020","2022-09-21T07:16:01",2.7,null,null,2.7]
[{"$nulls":23},9,"5",2022,"105507",{"$f":"IFERROR(VLOOKUP(Tabla_SERIED_12_5[[#This Row],[IdEstablecimiento]],'[1]Establecimiento 2023'!$A$1:$E$183,3,FALSE),0)","v":"105507-Posta de Salud Rural Huamalata"},{"$f":"IFERROR(VLOOKUP(Tabla_SERIED_12_5[[#This Row],[IdEstablecimiento]],'[1]Establecimiento 2023'!$A$1:$E$183,5,FALSE),0)","v":"04301-Ovalle"},"16090300","2022-11-15T14:54:06",111,111]
[{"$nulls":23},9,"5",2022,"105508",{"$f":"IFERROR(VLOOKUP(Tabla_SERIED_12_5[[#This Row],[IdEstablecimiento]],'[1]Establecimiento 2023'!$A$1:$E$183,3,FALSE),0)","v":"105508-Posta de Salud Rural El Parral de Quiles"},{"$f":"IFERROR(VLOOKUP(Tabla_SERIED_12_5[[#This Row],[IdEstablecimiento]],'[1]Establecimiento 2023'!$A$1:$E$183,5,FALSE),0)","v":"04304-Punitaqui"},"15050100","2022-11-15T14:54:18",5,4,1,{"$nulls":4},2,1,2]
[{"$nulls":23},9,"5",2022,"105509",{"$f":"IFERROR(VLOOKUP(Tabla_SERIED_12_5[[#This Row],[IdEstablecimiento]],'[1]Establecimiento 2023'!$A$1:$E$183,3,FALSE),0)","v":"105509-Posta de Salud Rural Gualliguaica"},{"$f":"IFERROR(VLOOKUP(Tabla_SERIED_12_5[[#This Row],[IdEstablecimiento]],'[1]Establecimiento 2023'!$A$1:$E$183,5,FALSE),0)","v":"04106-Vicuña"},"15050100","2022-11-15T14:54:30",6,3,3,{"$nulls":4},1,2,2,{"$nulls":4},1]
[{"$nulls":23},3,"5",2022,"105475",{"$f":"IFERROR(VLOOKUP(Tabla_SERIED_12_5[[#This Row],[IdEstablecimiento]],'[1]Establecimiento 2023'!$A$1:$E$183,3,FALSE),0)","v":"105475-Posta de Salud Rural Horcón (Paiguano)"},{"$f":"IFERROR(VLOOKUP(Tabla_SERIED_12_5[[#This Row],[IdEstablecimiento]],'[1]Establecimiento 2023'!$A$1:$E$183,5,FALSE),0)","v":"04105-Paiguano"},"16200100","2022-04-19T10:04:02",1,1]
[{"$nulls":23},6,"5",2022,"105310",{"$f":"IFERROR(VLOOKUP(Tabla_SERIED_12_5[[#This Row],[IdEstablecimiento]],'[1]Establecimiento 2023'!$A$1:$E$183,3,FALSE),0)","v":"105310-Centro de Salud Familiar Pichasca"},{"$f":"IFERROR(VLOOKUP(Tabla_SERIED_12_5[[#This Row],[IdEstablecimiento]],'[1]Establecimiento 2023'!$A$1:$E$183,5,FALSE),0)","v":"04305-Río Hurtado"},"16100300","2022-07-14T14:51:29",92,36,56,2,22]
[{"$nulls":23},4,"5",2022,"105435",{"$f":"IFERROR(VLOOKUP(Tabla_SERIED_12_5[[#This Row],[IdEstablecimiento]],'[1]Establecimiento 2023'!$A$1:$E$183,3,FALSE),0)","v":"105435-Posta de Salud Rural Tulahuén"},{"$f":"IFERROR(VLOOKUP(Tabla_SERIED_12_5[[#This Row],[IdEstablecimiento]],'[1]Establecimiento 2023'!$A$1:$E$183,5,FALSE),0)","v":"04303-Monte Patria"},"15050100","2022-05-18T14:56:46",27,16,11,{"$nulls":3},5,6,4,5,5,null,1,null,1]
[{"$nulls":23},6,"5",2022,"105306",{"$f":"IFERROR(VLOOKUP(Tabla_SERIED_12_5[[#This Row],[IdEstablecimiento]],'[1]Establecimiento 2023'!$A$1:$E$183,3,FALSE),0)","v":"105306-Centro de Salud Familiar Paihuano"},{"$f":"IFERROR(VLOOKUP(Tabla_SERIED_12_5[[#This Row],[IdEstablecimiento]],'[1]Establecimiento 2023'!$A$1:$E$183,5,FALSE),0)","v":"04105-Paiguano"},"15900010","2022-07-14T13:37:27",3.2,null,3.2]
[{"$nulls":23},8,"5",2022,"105416",{"$f":"IFERROR(VLOOKUP(Tabla_SERIED_12_5[[#This Row],[IdEstablecimiento]],'[1]Establecimiento 2023'!$A$1:$E$183,3,FALSE),0)","v":"105416-Posta de Salud Rural Camarico (Ovalle)"},{"$f":"IFERROR(VLOOKUP(Tabla_SERIED_12_5[[#This Row],[IdEstablecimiento]],'[1]Establecimiento 2023'!$A$1:$E$183,5,FALSE),0)","v":"04301-Ovalle"},"16090300","2022-09-21T07:34:14",99,99]
[{"$nulls":23},9,"5",2022,"105510",{"$f":"IFERROR(VLOOKUP(Tabla_SERIED_12_5[[#This Row],[IdEstablecimiento]],'[1]Establecimiento 2023'!$A$1:$E$183,3,FALSE),0)","v":"105510-Posta de Salud Rural Recoleta"},{"$f":"IFERROR(VLOOKUP(Tabla_SERIED_12_5[[#This Row],[IdEstablecimiento]],'[1]Establecimiento 2023'!$A$1:$E$183,5,FALSE),0)","v":"04301-Ovalle"},"16090300","2022-11-15T14:54:40",98,98]
[{"$nulls":23},9,"5",2022,"105511",{"$f":"IFERROR(VLOOKUP(Tabla_SERIED_12_5[[#This Row],[IdEstablecimiento]],'[1]Establecimiento 2023'!$A$1:$E$183,3,FALSE),0)","v":"105511-Posta de Salud Rural Los Cóndores"},{"$f":"IFERROR(VLOOKUP(Tabla_SERIED_12_5[[#This Row],[IdEstablecimiento]],'[1]Establecimiento 2023'!$A$1:$E$183,5,FALSE),0)","v":"04203-Los Vilos"},"15010200","2022-11-15T14:54:51",4,{"$nulls":5},2,2]
[{"$nulls":23},9,"5",2022,"105511",{"$f":"IFERROR(VLOOKUP(Tabla_SERIED_12_5[[#This Row],[IdEstablecimiento]],'[1]Establecimiento 2023'!$A$1:$E$183,3,FALSE),0)","v":"105511-Posta de Salud Rural Los Cóndores"},{"$f":"IFERROR(VLOOKUP(Tabla_SERIED_12_5[[#This Row],[IdEstablecimiento]],'[1]Establecimiento 2023'!$A$1:$E$183,5,FALSE),0)","v":"04203-Los Vilos"},"15050100","2022-11-15T14:54:51",16,7,9,1,3,3,5,null,1,1,1,null,0,0,1]
[{"$nulls":23},1,"5",2022,"105723",{"$f":"IFERROR(VLOOKUP(Tabla_SERIED_12_5[[#This Row],[IdEstablecimiento]],'[1]Establecimiento 2023'!$A$1:$E$183,3,FALSE),0)","v":"105723-Centro Comunitario de Salud Familiar Limarí"},{"$f":"IFERROR(VLOOKUP(Tabla_SERIED_12_5[[#This Row],[IdEstablecimiento]],'[1]Establecimiento 2023'!$A$1:$E$183,5,FALSE),0)","v":"04301-Ovalle"},"16200100","2022-02-17T04:26:00",11,9,2,0,19]
[{"$nulls":23},1,"5",2022,"105485",{"$f":"IFERROR(VLOOKUP(Tabla_SERIED_12_5[[#This Row],[IdEstablecimiento]],'[1]Establecimiento 2023'!$A$1:$E$183,3,FALSE),0)","v":"105485-Posta de Salud Rural Plan de Hornos"},{"$f":"IFERROR(VLOOKUP(Tabla_SERIED_12_5[[#This Row],[IdEstablecimiento]],'[1]Establecimiento 2023'!$A$1:$E$183,5,FALSE),0)","v":"04201-Illapel"},"15900030","2022-02-17T03:58:07",2.4,2.4]
[{"$nulls":23},2,"5",2022,"105311",{"$f":"IFERROR(VLOOKUP(Tabla_SERIED_12_5[[#This Row],[IdEstablecimiento]],'[1]Establecimiento 2023'!$A$1:$E$183,3,FALSE),0)","v":"105311-Centro de Salud Familiar Chañaral Alto"},{"$f":"IFERROR(VLOOKUP(Tabla_SERIED_12_5[[#This Row],[IdEstablecimiento]],'[1]Establecimiento 2023'!$A$1:$E$183,5,FALSE),0)","v":"04303-Monte Patria"},"15900010","2022-03-17T09:29:11",12,4,null,8]
[{"$nulls":23},9,"5",2022,"105700",{"$f":"IFERROR(VLOOKUP(Tabla_SERIED_12_5[[#This Row],[IdEstablecimiento]],'[1]Establecimiento 2023'!$A$1:$E$183,3,FALSE),0)","v":"105700-Centro Comunitario de Salud Familiar Villa el Indio"},{"$f":"IFERROR(VLOOKUP(Tabla_SERIED_12_5[[#This Row],[IdEstablecimiento]],'[1]Establecimiento 2023'!$A$1:$E$183,5,FALSE),0)","v":"04101-La Serena"},"15900030","2022-11-15T14:55:04",6.4,{"$nulls":3},6.4]
[{"$nulls":23},9,"5",2022,"105701",{"$f":"IFERROR(VLOOKUP(Tabla_SERIED_12_5[[#This Row],[IdEstablecimiento]],'[1]Establecimiento 2023'!$A$1:$E$183,3,FALSE),0)","v":"105701-Centro Comunitario de Salud Familiar Villa Alemania"},{"$f":"IFERROR(VLOOKUP(Tabla_SERIED_12_5[[#This Row],[IdEstablecimiento]],'[1]Establecimiento 2023'!$A$1:$E$183,5,FALSE),0)","v":"04101-La Serena"},"15080008","2022-11-15T14:56:37",12,{"$nulls":7},10,null,2]
[{"$nulls":23},9,"5",2022,"105702",{"$f":"IFERROR(VLOOKUP(Tabla_SERIED_12_5[[#This Row],[IdEstablecimiento]],'[1]Establecimiento 2023'!$A$1:$E$183,3,FALSE),0)","v":"105702-Centro Comunitario de Salud Familiar Lambert"},{"$f":"IFERROR(VLOOKUP(Tabla_SERIED_12_5[[#This Row],[IdEstablecimiento]],'[1]Establecimiento 2023'!$A$1:$E$183,5,FALSE),0)","v":"04101-La Serena"},"15010100","2022-11-15T14:56:48",28,{"$nulls":3},28]
[{"$nulls":23},8,"5",2022,"105417",{"$f":"IFERROR(VLOOKUP(Tabla_SERIED_12_5[[#This Row],[IdEstablecimiento]],'[1]Establecimiento 2023'!$A$1:$E$183,3,FALSE),0)","v":"105417-Posta de Salud Rural Alcones Bajo"},{"$f":"IFERROR(VLOOKUP(Tabla_SERIED_12_5[[#This Row],[IdEstablecimiento]],'[1]Establecimiento 2023'!$A$1:$E$183,5,FALSE),0)","v":"04301-Ovalle"},"16100300","2022-09-21T07:34:27",103,47,56,2,24]
[{"$nulls":23},8,"5",2022,"105417",{"$f":"IFERROR(VLOOKUP(Tabla_SERIED_12_5[[#This Row],[IdEstablecimiento]],'[1]Establecimiento 2023'!$A$1:$E$183,3,FALSE),0)","v":"105417-Posta de Salud Rural Alcones Bajo"},{"$f":"IFERROR(VLOOKUP(Tabla_SERIED_12_5[[#This Row],[IdEstablecimiento]],'[1]Establecimiento 2023'!$A$1:$E$183,5,FALSE),0)","v":"04301-Ovalle"},"16200220","2022-09-21T07:34:27",12,2,10,0,0]
[{"$nulls":23},8,"5",2022,"105108",{"$f":"IFERROR(VLOOKUP(Tabla_SERIED_12_5[[#This Row],[IdEstablecimiento]],'[1]Establecimiento 2023'!$A$1:$E$183,3,FALSE),0)","v":"105108-Hospital San Pedro (Los Vilos)"},{"$f":"IFERROR(VLOOKUP(Tabla_SERIED_12_5[[#This Row],[IdEstablecimiento]],'[1]Establecimiento 2023'!$A$1:$E$183,5,FALSE),0)","v":"105108-Hospital Los Vilos"},"15010400","2022-09-21T08:06:53",6,{"$nulls":4},2,2,2]
[{"$nulls":23},7,"5",2022,"105300",{"$f":"IFERROR(VLOOKUP(Tabla_SERIED_12_5[[#This Row],[IdEstablecimiento]],'[1]Establecimiento 2023'!$A$1:$E$183,3,FALSE),0)","v":"105300-Centro de Salud Familiar Cardenal Caro"},{"$f":"IFERROR(VLOOKUP(Tabla_SERIED_12_5[[#This Row],[IdEstablecimiento]],'[1]Establecimiento 2023'!$A$1:$E$183,5,FALSE),0)","v":"04101-La Serena"},"15900020","2022-08-22T05:28:01",4.5,null,null,4.5]
[{"$nulls":23},6,"5",2022,"105467",{"$f":"IFERROR(VLOOKUP(Tabla_SERIED_12_5[[#This Row],[IdEstablecimiento]],'[1]Establecimiento 2023'!$A$1:$E$183,3,FALSE),0)","v":"105467-Posta de Salud Rural Diaguitas"},{"$f":"IFERROR(VLOOKUP(Tabla_SERIED_12_5[[#This Row],[IdEstablecimiento]],'[1]Establecimiento 2023'!$A$1:$E$183,5,FALSE),0)","v":"04106-Vicuña"},"15010400","2022-07-14T14:26:44",2,{"$nulls":6},2]
[{"$nulls":23},1,"5",2022,"105510",{"$f":"IFERROR(VLOOKUP(Tabla_SERIED_12_5[[#This Row],[IdEstablecimiento]],'[1]Establecimiento 2023'!$A$1:$E$183,3,FALSE),0)","v":"105510-Posta de Salud Rural Recoleta"},{"$f":"IFERROR(VLOOKUP(Tabla_SERIED_12_5[[#This Row],[IdEstablecimiento]],'[1]Establecimiento 2023'!$A$1:$E$183,5,FALSE),0)","v":"04301-Ovalle"},"16200220","2022-02-17T04:21:45",9,5,4]
[{"$nulls":23},1,"5",2022,"105492",{"$f":"IFERROR(VLOOKUP(Tabla_SERIED_12_5[[#This Row],[IdEstablecimiento]],'[1]Establecimiento 2023'!$A$1:$E$183,3,FALSE),0)","v":"105492-Posta de Salud Rural Camisa"},{"$f":"IFERROR(VLOOKUP(Tabla_SERIED_12_5[[#This Row],[IdEstablecimiento]],'[1]Establecimiento 2023'!$A$1:$E$183,5,FALSE),0)","v":"04204-Salamanca"},"16100300","2022-02-17T04:09:20",51,24,27]
[{"$nulls":23},5,"5",2022,"105309",{"$f":"IFERROR(VLOOKUP(Tabla_SERIED_12_5[[#This Row],[IdEstablecimiento]],'[1]Establecimiento 2023'!$A$1:$E$183,3,FALSE),0)","v":"105309-Centro de Salud Familiar Canela"},{"$f":"IFERROR(VLOOKUP(Tabla_SERIED_12_5[[#This Row],[IdEstablecimiento]],'[1]Establecimiento 2023'!$A$1:$E$183,5,FALSE),0)","v":"04202-Canela"},"15080009","2022-06-20T17:02:35",3,{"$nulls":8},3]
[{"$nulls":23},5,"5",2022,"105430",{"$f":"IFERROR(VLOOKUP(Tabla_SERIED_12_5[[#This Row],[IdEstablecimiento]],'[1]Establecimiento 2023'!$A$1:$E$183,3,FALSE),0)","v":"105430-Posta de Salud Rural Mialqui"},{"$f":"IFERROR(VLOOKUP(Tabla_SERIED_12_5[[#This Row],[IdEstablecimiento]],'[1]Establecimiento 2023'!$A$1:$E$183,5,FALSE),0)","v":"04303-Monte Patria"},"15010100","2022-06-20T17:13:52",4,{"$nulls":3},4]
[{"$nulls":23},2,"5",2022,"105432",{"$f":"IFERROR(VLOOKUP(Tabla_SERIED_12_5[[#This Row],[IdEstablecimiento]],'[1]Establecimiento 2023'!$A$1:$E$183,3,FALSE),0)","v":"105432-Posta de Salud Rural Rapel (Monte Patria)"},{"$f":"IFERROR(VLOOKUP(Tabla_SERIED_12_5[[#This Row],[IdEstablecimiento]],'[1]Establecimiento 2023'!$A$1:$E$183,5,FALSE),0)","v":"04303-Monte Patria"},"16090300","2022-05-18T15:46:58",136,136]
[{"$nulls":23},7,"5",2022,"105309",{"$f":"IFERROR(VLOOKUP(Tabla_SERIED_12_5[[#This Row],[IdEstablecimiento]],'[1]Establecimiento 2023'!$A$1:$E$183,3,FALSE),0)","v":"105309-Centro de Salud Familiar Canela"},{"$f":"IFERROR(VLOOKUP(Tabla_SERIED_12_5[[#This Row],[IdEstablecimiento]],'[1]Establecimiento 2023'!$A$1:$E$183,5,FALSE),0)","v":"04202-Canela"},"16200210","2022-08-19T11:59:59",19,19]
[{"$nulls":23},7,"5",2022,"105310",{"$f":"IFERROR(VLOOKUP(Tabla_SERIED_12_5[[#This Row],[IdEstablecimiento]],'[1]Establecimiento 2023'!$A$1:$E$183,3,FALSE),0)","v":"105310-Centro de Salud Familiar Pichasca"},{"$f":"IFERROR(VLOOKUP(Tabla_SERIED_12_5[[#This Row],[IdEstablecimiento]],'[1]Establecimiento 2023'!$A$1:$E$183,5,FALSE),0)","v":"04305-Río Hurtado"},"15900010","2022-08-19T12:00:12",14,null,6.8,7.2]
[{"$nulls":23},7,"5",2022,"105702",{"$f":"IFERROR(VLOOKUP(Tabla_SERIED_12_5[[#This Row],[IdEstablecimiento]],'[1]Establecimiento 2023'!$A$1:$E$183,3,FALSE),0)","v":"105702-Centro Comunitario de Salud Familiar Lambert"},{"$f":"IFERROR(VLOOKUP(Tabla_SERIED_12_5[[#This Row],[IdEstablecimiento]],'[1]Establecimiento 2023'!$A$1:$E$183,5,FALSE),0)","v":"04101-La Serena"},"15050200","2022-08-22T06:47:11",2,null,2,null,null,2]
[{"$nulls":23},4,"5",2022,"105492",{"$f":"IFERROR(VLOOKUP(Tabla_SERIED_12_5[[#This Row],[IdEstablecimiento]],'[1]Establecimiento 2023'!$A$1:$E$183,3,FALSE),0)","v":"105492-Posta de Salud Rural Camisa"},{"$f":"IFERROR(VLOOKUP(Tabla_SERIED_12_5[[#This Row],[IdEstablecimiento]],'[1]Establecimiento 2023'!$A$1:$E$183,5,FALSE),0)","v":"04204-Salamanca"},"15010100","2022-05-18T15:17:06",4,{"$nulls":3},4]
[{"$nulls":23},3,"5",2022,"105481",{"$f":"IFERROR(VLOOKUP(Tabla_SERIED_12_5[[#This Row],[IdEstablecimiento]],'[1]Establecimiento 2023'!$A$1:$E$183,3,FALSE),0)","v":"105481-Posta de Salud Rural Tilama"},{"$f":"IFERROR(VLOOKUP(Tabla_SERIED_12_5[[#This Row],[IdEstablecimiento]],'[1]Establecimiento 2023'!$A$1:$E$183,5,FALSE),0)","v":"04203-Los Vilos"},"16090500","2022-04-19T10:05:22",3,3]
[{"$nulls":23},9,"5",2022,"105702",{"$f":"IFERROR(VLOOKUP(Tabla_SERIED_12_5[[#This Row],[IdEstablecimiento]],'[1]Establecimiento 2023'!$A$1:$E$183,3,FALSE),0)","v":"105702-Centro Comunitario de Salud Familiar Lambert"},{"$f":"IFERROR(VLOOKUP(Tabla_SERIED_12_5[[#This Row],[IdEstablecimiento]],'[1]Establecimiento 2023'!$A$1:$E$183,5,FALSE),0)","v":"04101-La Serena"},"16090300","2022-11-15T14:56:48",47,47]
[{"$nulls":23},9,"5",2022,"105722",{"$f":"IFERROR(VLOOKUP(Tabla_SERIED_12_5[[#This Row],[IdEstablecimiento]],'[1]Establecimiento 2023'!$A$1:$E$183,3,FALSE),0)","v":"105722-Centro Comunitario de Salud Familiar San José de la Dehesa"},{"$f":"IFERROR(VLOOKUP(Tabla_SERIED_12_5[[#This Row],[IdEstablecimiento]],'[1]Establecimiento 2023'!$A$1:$E$183,5,FALSE),0)","v":"04301-Ovalle"},"15010500","2022-11-15T14:58:15",8,null,null,2,null,null,2,4]
[{"$nulls":23},9,"5",2022,"105722",{"$f":"IFERROR(VLOOKUP(Tabla_SERIED_12_5[[#This Row],[IdEstablecimiento]],'[1]Establecimiento 2023'!$A$1:$E$183,3,FALSE),0)","v":"105722-Centro Comunitario de Salud Familiar San José de la Dehesa"},{"$f":"IFERROR(VLOOKUP(Tabla_SERIED_12_5[[#This Row],[IdEstablecimiento]],'[1]Establecimiento 2023'!$A$1:$E$183,5,FALSE),0)","v":"04301-Ovalle"},"15900020","2022-11-15T14:58:15",3.6,null,null,3.6]
[{"$nulls":23},7,"5",2022,"105508",{"$f":"IFERROR(VLOOKUP(Tabla_SERIED_12_5[[#This Row],[IdEstablecimiento]],'[1]Establecimiento 2023'!$A$1:$E$183,3,FALSE),0)","v":"105508-Posta de Salud Rural El Parral de Quiles"},{"$f":"IFERROR(VLOOKUP(Tabla_SERIED_12_5[[#This Row],[IdEstablecimiento]],'[1]Establecimiento 2023'!$A$1:$E$183,5,FALSE),0)","v":"04304-Punitaqui"},"16090300","2022-08-22T06:45:48",46,46]
[{"$nulls":23},3,"5",2022,"105405",{"$f":"IFERROR(VLOOKUP(Tabla_SERIED_12_5[[#This Row],[IdEstablecimiento]],'[1]Establecimiento 2023'!$A$1:$E$183,3,FALSE),0)","v":"105405-Posta de Salud Rural Guanaqueros"},{"$f":"IFERROR(VLOOKUP(Tabla_SERIED_12_5[[#This Row],[IdEstablecimiento]],'[1]Establecimiento 2023'!$A$1:$E$183,5,FALSE),0)","v":"04102-Coquimbo"},"16100300","2022-04-19T08:15:10",49,24,25,0,0]
[{"$nulls":23},1,"5",2022,"105106",{"$f":"IFERROR(VLOOKUP(Tabla_SERIED_12_5[[#This Row],[IdEstablecimiento]],'[1]Establecimiento 2023'!$A$1:$E$183,3,FALSE),0)","v":"105106-Hospital Dr. José Arraño (Andacollo)"},{"$f":"IFERROR(VLOOKUP(Tabla_SERIED_12_5[[#This Row],[IdEstablecimiento]],'[1]Establecimiento 2023'!$A$1:$E$183,5,FALSE),0)","v":"105106-Hospital Andacollo"},"16200100","2022-03-17T10:26:46",1,null,1]
[{"$nulls":23},2,"5",2022,"105104",{"$f":"IFERROR(VLOOKUP(Tabla_SERIED_12_5[[#This Row],[IdEstablecimiento]],'[1]Establecimiento 2023'!$A$1:$E$183,3,FALSE),0)","v":"105104-Hospital de Salamanca"},{"$f":"IFERROR(VLOOKUP(Tabla_SERIED_12_5[[#This Row],[IdEstablecimiento]],'[1]Establecimiento 2023'!$A$1:$E$183,5,FALSE),0)","v":"105104-Hospital Salamanca"},"16200210","2022-03-17T10:48:27",3,3]
[{"$nulls":23},10,"5",2022,"105428",{"$f":"IFERROR(VLOOKUP(Tabla_SERIED_12_5[[#This Row],[IdEstablecimiento]],'[1]Establecimiento 2023'!$A$1:$E$183,3,FALSE),0)","v":"105428-Posta de Salud Rural Huatulame"},{"$f":"IFERROR(VLOOKUP(Tabla_SERIED_12_5[[#This Row],[IdEstablecimiento]],'[1]Establecimiento 2023'!$A$1:$E$183,5,FALSE),0)","v":"04303-Monte Patria"},"16200220","2022-11-15T13:45:20",3,null,3]
[{"$nulls":23},7,"5",2022,"105310",{"$f":"IFERROR(VLOOKUP(Tabla_SERIED_12_5[[#This Row],[IdEstablecimiento]],'[1]Establecimiento 2023'!$A$1:$E$183,3,FALSE),0)","v":"105310-Centro de Salud Familiar Pichasca"},{"$f":"IFERROR(VLOOKUP(Tabla_SERIED_12_5[[#This Row],[IdEstablecimiento]],'[1]Establecimiento 2023'!$A$1:$E$183,5,FALSE),0)","v":"04305-Río Hurtado"},"15900050","2022-08-19T12:00:12",1,1,{"$nulls":3},1]
[{"$nulls":23},3,"5",2022,"105319",{"$f":"IFERROR(VLOOKUP(Tabla_SERIED_12_5[[#This Row],[IdEstablecimiento]],'[1]Establecimiento 2023'!$A$1:$E$183,3,FALSE),0)","v":"105319-Centro de Salud Familiar Cardenal Raúl Silva Henríquez de La Serena"},{"$f":"IFERROR(VLOOKUP(Tabla_SERIED_12_5[[#This Row],[IdEstablecimiento]],'[1]Establecimiento 2023'!$A$1:$E$183,5,FALSE),0)","v":"04101-La Serena"},"15080008","2022-04-19T08:10:39",142,{"$nulls":7},78,null,48,null,16]
[{"$nulls":23},4,"5",2022,"105460",{"$f":"IFERROR(VLOOKUP(Tabla_SERIED_12_5[[#This Row],[IdEstablecimiento]],'[1]Establecimiento 2023'!$A$1:$E$183,3,FALSE),0)","v":"105460-Centro Comunitario de Salud Familiar Cogotí 18"},{"$f":"IFERROR(VLOOKUP(Tabla_SERIED_12_5[[#This Row],[IdEstablecimiento]],'[1]Establecimiento 2023'!$A$1:$E$183,5,FALSE),0)","v":"04302-Combarbalá"},"15050100","2022-08-22T07:36:12",23,15,8,{"$nulls":3},1,1,5,13,2,null,1]
[{"$nulls":23},8,"5",2022,"105419",{"$f":"IFERROR(VLOOKUP(Tabla_SERIED_12_5[[#This Row],[IdEstablecimiento]],'[1]Establecimiento 2023'!$A$1:$E$183,3,FALSE),0)","v":"105419-Posta de Salud Rural Las Sossas"},{"$f":"IFERROR(VLOOKUP(Tabla_SERIED_12_5[[#This Row],[IdEstablecimiento]],'[1]Establecimiento 2023'!$A$1:$E$183,5,FALSE),0)","v":"04301-Ovalle"},"15050100","2022-09-21T13:15:25",1,1,{"$nulls":7},1]
[{"$nulls":23},10,"5",2022,"105430",{"$f":"IFERROR(VLOOKUP(Tabla_SERIED_12_5[[#This Row],[IdEstablecimiento]],'[1]Establecimiento 2023'!$A$1:$E$183,3,FALSE),0)","v":"105430-Posta de Salud Rural Mialqui"},{"$f":"IFERROR(VLOOKUP(Tabla_SERIED_12_5[[#This Row],[IdEstablecimiento]],'[1]Establecimiento 2023'!$A$1:$E$183,5,FALSE),0)","v":"04303-Monte Patria"},"16200100","2022-11-15T13:45:34",4,2,2,0,0]
[{"$nulls":23},10,"5",2022,"105432",{"$f":"IFERROR(VLOOKUP(Tabla_SERIED_12_5[[#This Row],[IdEstablecimiento]],'[1]Establecimiento 2023'!$A$1:$E$183,3,FALSE),0)","v":"105432-Posta de Salud Rural Rapel (Monte Patria)"},{"$f":"IFERROR(VLOOKUP(Tabla_SERIED_12_5[[#This Row],[IdEstablecimiento]],'[1]Establecimiento 2023'!$A$1:$E$183,5,FALSE),0)","v":"04303-Monte Patria"},"15900010","2022-11-15T13:46:02",3.6,null,null,3.6]
[{"$nulls":23},10,"5",2022,"105433",{"$f":"IFERROR(VLOOKUP(Tabla_SERIED_12_5[[#This Row],[IdEstablecimiento]],'[1]Establecimiento 2023'!$A$1:$E$183,3,FALSE),0)","v":"105433-Posta de Salud Rural San Lorenzo (Combarbalá)"},{"$f":"IFERROR(VLOOKUP(Tabla_SERIED_12_5[[#This Row],[IdEstablecimiento]],'[1]Establecimiento 2023'!$A$1:$E$183,5,FALSE),0)","v":"04302-Combarbalá"},"16200210","2022-11-15T13:46:14",3,3]
[{"$nulls":23},10,"5",2022,"105434",{"$f":"IFERROR(VLOOKUP(Tabla_SERIED_12_5[[#This Row],[IdEstablecimiento]],'[1]Establecimiento 2023'!$A$1:$E$183,3,FALSE),0)","v":"105434-Posta de Salud Rural San Marcos (Combarbalá)"},{"$f":"IFERROR(VLOOKUP(Tabla_SERIED_12_5[[#This Row],[IdEstablecimiento]],'[1]Establecimiento 2023'!$A$1:$E$183,5,FALSE),0)","v":"04302-Combarbalá"},"16100300","2022-11-15T13:46:26",43,19,24,null,19]
[{"$nulls":23},10,"5",2022,"105445",{"$f":"IFERROR(VLOOKUP(Tabla_SERIED_12_5[[#This Row],[IdEstablecimiento]],'[1]Establecimiento 2023'!$A$1:$E$183,3,FALSE),0)","v":"105445-Posta de Salud Rural Limáhuida"},{"$f":"IFERROR(VLOOKUP(Tabla_SERIED_12_5[[#This Row],[IdEstablecimiento]],'[1]Establecimiento 2023'!$A$1:$E$183,5,FALSE),0)","v":"04201-Illapel"},"15010400","2022-11-15T13:48:21",2,{"$nulls":5},2]
[{"$nulls":23},9,"5",2022,"200494",{"$f":"IFERROR(VLOOKUP(Tabla_SERIED_12_5[[#This Row],[IdEstablecimiento]],'[1]Establecimiento 2023'!$A$1:$E$183,3,FALSE),0)","v":"200494-Centro de Salud Familiar El Sauce"},{"$f":"IFERROR(VLOOKUP(Tabla_SERIED_12_5[[#This Row],[IdEstablecimiento]],'[1]Establecimiento 2023'!$A$1:$E$183,5,FALSE),0)","v":"04102-Coquimbo"},"15010500","2022-11-15T14:59:54",18,null,null,6,2,null,4,6]
[{"$nulls":23},9,"5",2022,"200494",{"$f":"IFERROR(VLOOKUP(Tabla_SERIED_12_5[[#This Row],[IdEstablecimiento]],'[1]Establecimiento 2023'!$A$1:$E$183,3,FALSE),0)","v":"200494-Centro de Salud Familiar El Sauce"},{"$f":"IFERROR(VLOOKUP(Tabla_SERIED_12_5[[#This Row],[IdEstablecimiento]],'[1]Establecimiento 2023'!$A$1:$E$183,5,FALSE),0)","v":"04102-Coquimbo"},"15080009","2022-11-15T14:59:54",7,{"$nulls":8},6,null,1]
[{"$nulls":23},9,"5",2022,"200494",{"$f":"IFERROR(VLOOKUP(Tabla_SERIED_12_5[[#This Row],[IdEstablecimiento]],'[1]Establecimiento 2023'!$A$1:$E$183,3,FALSE),0)","v":"200494-Centro de Salud Familiar El Sauce"},{"$f":"IFERROR(VLOOKUP(Tabla_SERIED_12_5[[#This Row],[IdEstablecimiento]],'[1]Establecimiento 2023'!$A$1:$E$183,5,FALSE),0)","v":"04102-Coquimbo"},"15060100","2022-11-15T14:59:54",2,2,{"$nulls":6},1,1]
[{"$nulls":23},10,"5",2022,"200258",{"$f":"IFERROR(VLOOKUP(Tabla_SERIED_12_5[[#This Row],[IdEstablecimiento]],'[1]Establecimiento 2023'!$A$1:$E$183,3,FALSE),0)","v":"200258-Centro Comunitario de Salud Familiar Los Copihues"},{"$f":"IFERROR(VLOOKUP(Tabla_SERIED_12_5[[#This Row],[IdEstablecimiento]],'[1]Establecimiento 2023'!$A$1:$E$183,5,FALSE),0)","v":"04301-Ovalle"},"15010100","2022-12-20T11:15:22",10,{"$nulls":3},8,{"$nulls":5},2]
[{"$nulls":23},10,"5",2022,"200402",{"$f":"IFERROR(VLOOKUP(Tabla_SERIED_12_5[[#This Row],[IdEstablecimiento]],'[1]Establecimiento 2023'!$A$1:$E$183,3,FALSE),0)","v":"200402-Centro Comunitario de Salud Familiar Arcos de Pinamar"},{"$f":"IFERROR(VLOOKUP(Tabla_SERIED_12_5[[#This Row],[IdEstablecimiento]],'[1]Establecimiento 2023'!$A$1:$E$183,5,FALSE),0)","v":"04101-La Serena"},"15080008","2022-11-15T14:16:54",31,{"$nulls":7},13,null,16,0,2]
[{"$nulls":23},10,"5",2022,"200402",{"$f":"IFERROR(VLOOKUP(Tabla_SERIED_12_5[[#This Row],[IdEstablecimiento]],'[1]Establecimiento 2023'!$A$1:$E$183,3,FALSE),0)","v":"200402-Centro Comunitario de Salud Familiar Arcos de Pinamar"},{"$f":"IFERROR(VLOOKUP(Tabla_SERIED_12_5[[#This Row],[IdEstablecimiento]],'[1]Establecimiento 2023'!$A$1:$E$183,5,FALSE),0)","v":"04101-La Serena"},"15060100","2022-11-15T14:16:54",2,0,2,{"$nulls":3},1,null,1,0]
[{"$nulls":23},8,"5",2022,"105460",{"$f":"IFERROR(VLOOKUP(Tabla_SERIED_12_5[[#This Row],[IdEstablecimiento]],'[1]Establecimiento 2023'!$A$1:$E$183,3,FALSE),0)","v":"105460-Centro Comunitario de Salud Familiar Cogotí 18"},{"$f":"IFERROR(VLOOKUP(Tabla_SERIED_12_5[[#This Row],[IdEstablecimiento]],'[1]Establecimiento 2023'!$A$1:$E$183,5,FALSE),0)","v":"04302-Combarbalá"},"15080008","2022-09-21T13:15:42",7,{"$nulls":7},3,null,4]
[{"$nulls":23},4,"5",2022,"200569",{"$f":"IFERROR(VLOOKUP(Tabla_SERIED_12_5[[#This Row],[IdEstablecimiento]],'[1]Establecimiento 2023'!$A$1:$E$183,3,FALSE),0)","v":"200569-Centro de Salud Familiar Fray Jorge"},{"$f":"IFERROR(VLOOKUP(Tabla_SERIED_12_5[[#This Row],[IdEstablecimiento]],'[1]Establecimiento 2023'!$A$1:$E$183,5,FALSE),0)","v":"04301-Ovalle"},"15020200","2022-05-18T15:28:33",10,{"$nulls":4},6,null,4]
[{"$nulls":23},2,"5",2022,"105441",{"$f":"IFERROR(VLOOKUP(Tabla_SERIED_12_5[[#This Row],[IdEstablecimiento]],'[1]Establecimiento 2023'!$A$1:$E$183,3,FALSE),0)","v":"105441-Posta de Salud Rural Manquehua"},{"$f":"IFERROR(VLOOKUP(Tabla_SERIED_12_5[[#This Row],[IdEstablecimiento]],'[1]Establecimiento 2023'!$A$1:$E$183,5,FALSE),0)","v":"04302-Combarbalá"},"15050100","2022-03-17T09:41:59",10,5,5,null,null,1,3,null,4,null,1,{"$nulls":3},1]
[{"$nulls":23},2,"5",2022,"105441",{"$f":"IFERROR(VLOOKUP(Tabla_SERIED_12_5[[#This Row],[IdEstablecimiento]],'[1]Establecimiento 2023'!$A$1:$E$183,3,FALSE),0)","v":"105441-Posta de Salud Rural Manquehua"},{"$f":"IFERROR(VLOOKUP(Tabla_SERIED_12_5[[#This Row],[IdEstablecimiento]],'[1]Establecimiento 2023'!$A$1:$E$183,5,FALSE),0)","v":"04302-Combarbalá"},"16090300","2022-03-17T09:41:59",76,76]
[{"$nulls":23},10,"5",2022,"200494",{"$f":"IFERROR(VLOOKUP(Tabla_SERIED_12_5[[#This Row],[IdEstablecimiento]],'[1]Establecimiento 2023'!$A$1:$E$183,3,FALSE),0)","v":"200494-Centro de Salud Familiar El Sauce"},{"$f":"IFERROR(VLOOKUP(Tabla_SERIED_12_5[[#This Row],[IdEstablecimiento]],'[1]Establecimiento 2023'!$A$1:$E$183,5,FALSE),0)","v":"04102-Coquimbo"},"15900040","2022-11-15T14:17:07",5.2,2.4,null,null,2.8]
[{"$nulls":23},10,"5",2022,"200494",{"$f":"IFERROR(VLOOKUP(Tabla_SERIED_12_5[[#This Row],[IdEstablecimiento]],'[1]Establecimiento 2023'!$A$1:$E$183,3,FALSE),0)","v":"200494-Centro de Salud Familiar El Sauce"},{"$f":"IFERROR(VLOOKUP(Tabla_SERIED_12_5[[#This Row],[IdEstablecimiento]],'[1]Establecimiento 2023'!$A$1:$E$183,5,FALSE),0)","v":"04102-Coquimbo"},"16200230","2022-11-15T14:17:07",1,null,1]
[{"$nulls":23},10,"5",2022,"200499",{"$f":"IFERROR(VLOOKUP(Tabla_SERIED_12_5[[#This Row],[IdEstablecimiento]],'[1]Establecimiento 2023'!$A$1:$E$183,3,FALSE),0)","v":"200499-Centro de Salud Familiar Rural Pan de Azúcar"},{"$f":"IFERROR(VLOOKUP(Tabla_SERIED_12_5[[#This Row],[IdEstablecimiento]],'[1]Establecimiento 2023'!$A$1:$E$183,5,FALSE),0)","v":"04102-Coquimbo"},"15900040","2022-11-15T14:17:20",4.4,{"$nulls":3},4.4]
[{"$nulls":23},10,"5",2022,"200499",{"$f":"IFERROR(VLOOKUP(Tabla_SERIED_12_5[[#This Row],[IdEstablecimiento]],'[1]Establecimiento 2023'!$A$1:$E$183,3,FALSE),0)","v":"200499-Centro de Salud Familiar Rural Pan de Azúcar"},{"$f":"IFERROR(VLOOKUP(Tabla_SERIED_12_5[[#This Row],[IdEstablecimiento]],'[1]Establecimiento 2023'!$A$1:$E$183,5,FALSE),0)","v":"04102-Coquimbo"},"16100700","2022-11-15T14:17:20",1,null,1]
[{"$nulls":23},4,"5",2022,"200258",{"$f":"IFERROR(VLOOKUP(Tabla_SERIED_12_5[[#This Row],[IdEstablecimiento]],'[1]Establecimiento 2023'!$A$1:$E$183,3,FALSE),0)","v":"200258-Centro Comunitario de Salud Familiar Los Copihues"},{"$f":"IFERROR(VLOOKUP(Tabla_SERIED_12_5[[#This Row],[IdEstablecimiento]],'[1]Establecimiento 2023'!$A$1:$E$183,5,FALSE),0)","v":"04301-Ovalle"},"16090300","2022-05-18T15:24:35",110,110]
[{"$nulls":23},4,"5",2022,"200273",{"$f":"IFERROR(VLOOKUP(Tabla_SERIED_12_5[[#This Row],[IdEstablecimiento]],'[1]Establecimiento 2023'!$A$1:$E$183,3,FALSE),0)","v":"200273-Centro Comunitario de Salud Familiar Punta Mira"},{"$f":"IFERROR(VLOOKUP(Tabla_SERIED_12_5[[#This Row],[IdEstablecimiento]],'[1]Establecimiento 2023'!$A$1:$E$183,5,FALSE),0)","v":"04102-Coquimbo"},"15010500","2022-05-18T15:24:48",12,{"$nulls":3},2,2,6,2]
[{"$nulls":23},9,"5",2022,"105310",{"$f":"IFERROR(VLOOKUP(Tabla_SERIED_12_5[[#This Row],[IdEstablecimiento]],'[1]Establecimiento 2023'!$A$1:$E$183,3,FALSE),0)","v":"105310-Centro de Salud Familiar Pichasca"},{"$f":"IFERROR(VLOOKUP(Tabla_SERIED_12_5[[#This Row],[IdEstablecimiento]],'[1]Establecimiento 2023'!$A$1:$E$183,5,FALSE),0)","v":"04305-Río Hurtado"},"15010200","2022-11-15T14:25:04",52,{"$nulls":4},16,12,24]
[{"$nulls":23},9,"5",2022,"105310",{"$f":"IFERROR(VLOOKUP(Tabla_SERIED_12_5[[#This Row],[IdEstablecimiento]],'[1]Establecimiento 2023'!$A$1:$E$183,3,FALSE),0)","v":"105310-Centro de Salud Familiar Pichasca"},{"$f":"IFERROR(VLOOKUP(Tabla_SERIED_12_5[[#This Row],[IdEstablecimiento]],'[1]Establecimiento 2023'!$A$1:$E$183,5,FALSE),0)","v":"04305-Río Hurtado"},"15080008","2022-11-15T14:25:04",9,{"$nulls":7},7,{"$nulls":3},2]
[{"$nulls":23},9,"5",2022,"105311",{"$f":"IFERROR(VLOOKUP(Tabla_SERIED_12_5[[#This Row],[IdEstablecimiento]],'[1]Establecimiento 2023'!$A$1:$E$183,3,FALSE),0)","v":"105311-Centro de Salud Familiar Chañaral Alto"},{"$f":"IFERROR(VLOOKUP(Tabla_SERIED_12_5[[#This Row],[IdEstablecimiento]],'[1]Establecimiento 2023'!$A$1:$E$183,5,FALSE),0)","v":"04303-Monte Patria"},"15010100","2022-11-15T14:25:15",32,{"$nulls":3},32]
[{"$nulls":23},9,"5",2022,"105311",{"$f":"IFERROR(VLOOKUP(Tabla_SERIED_12_5[[#This Row],[IdEstablecimiento]],'[1]Establecimiento 2023'!$A$1:$E$183,3,FALSE),0)","v":"105311-Centro de Salud Familiar Chañaral Alto"},{"$f":"IFERROR(VLOOKUP(Tabla_SERIED_12_5[[#This Row],[IdEstablecimiento]],'[1]Establecimiento 2023'!$A$1:$E$183,5,FALSE),0)","v":"04303-Monte Patria"},"15080009","2022-11-15T14:25:15",7,{"$nulls":8},6,null,1]
[{"$nulls":23},9,"5",2022,"105311",{"$f":"IFERROR(VLOOKUP(Tabla_SERIED_12_5[[#This Row],[IdEstablecimiento]],'[1]Establecimiento 2023'!$A$1:$E$183,3,FALSE),0)","v":"105311-Centro de Salud Familiar Chañaral Alto"},{"$f":"IFERROR(VLOOKUP(Tabla_SERIED_12_5[[#This Row],[IdEstablecimiento]],'[1]Establecimiento 2023'!$A$1:$E$183,5,FALSE),0)","v":"04303-Monte Patria"},"16200220","2022-11-15T14:25:15",40,13,27,2,10]
[{"$nulls":23},1,"5",2022,"105416",{"$f":"IFERROR(VLOOKUP(Tabla_SERIED_12_5[[#This Row],[IdEstablecimiento]],'[1]Establecimiento 2023'!$A$1:$E$183,3,FALSE),0)","v":"105416-Posta de Salud Rural Camarico (Ovalle)"},{"$f":"IFERROR(VLOOKUP(Tabla_SERIED_12_5[[#This Row],[IdEstablecimiento]],'[1]Establecimiento 2023'!$A$1:$E$183,5,FALSE),0)","v":"04301-Ovalle"},"15050200","2022-02-16T10:55:59",3,1,2,{"$nulls":3},2,1]
[{"$nulls":23},1,"5",2022,"105310",{"$f":"IFERROR(VLOOKUP(Tabla_SERIED_12_5[[#This Row],[IdEstablecimiento]],'[1]Establecimiento 2023'!$A$1:$E$183,3,FALSE),0)","v":"105310-Centro de Salud Familiar Pichasca"},{"$f":"IFERROR(VLOOKUP(Tabla_SERIED_12_5[[#This Row],[IdEstablecimiento]],'[1]Establecimiento 2023'!$A$1:$E$183,5,FALSE),0)","v":"04305-Río Hurtado"},"16090300","2022-02-16T10:36:57",90,90]
[{"$nulls":23},2,"5",2022,"105442",{"$f":"IFERROR(VLOOKUP(Tabla_SERIED_12_5[[#This Row],[IdEstablecimiento]],'[1]Establecimiento 2023'!$A$1:$E$183,3,FALSE),0)","v":"105442-Posta de Salud Rural San Pedro de Quiles"},{"$f":"IFERROR(VLOOKUP(Tabla_SERIED_12_5[[#This Row],[IdEstablecimiento]],'[1]Establecimiento 2023'!$A$1:$E$183,5,FALSE),0)","v":"04304-Punitaqui"},"16200220","2022-03-17T09:42:13",1,null,1]
[{"$nulls":23},1,"5",2022,"105509",{"$f":"IFERROR(VLOOKUP(Tabla_SERIED_12_5[[#This Row],[IdEstablecimiento]],'[1]Establecimiento 2023'!$A$1:$E$183,3,FALSE),0)","v":"105509-Posta de Salud Rural Gualliguaica"},{"$f":"IFERROR(VLOOKUP(Tabla_SERIED_12_5[[#This Row],[IdEstablecimiento]],'[1]Establecimiento 2023'!$A$1:$E$183,5,FALSE),0)","v":"04106-Vicuña"},"16090300","2022-02-17T04:21:26",33,33]
[{"$nulls":23},5,"5",2022,"200258",{"$f":"IFERROR(VLOOKUP(Tabla_SERIED_12_5[[#This Row],[IdEstablecimiento]],'[1]Establecimiento 2023'!$A$1:$E$183,3,FALSE),0)","v":"200258-Centro Comunitario de Salud Familiar Los Copihues"},{"$f":"IFERROR(VLOOKUP(Tabla_SERIED_12_5[[#This Row],[IdEstablecimiento]],'[1]Establecimiento 2023'!$A$1:$E$183,5,FALSE),0)","v":"04301-Ovalle"},"15050100","2022-06-20T17:32:58",76,33,43,null,1,3,5,9,15,24,13,null,2,1,3]
[{"$nulls":23},4,"5",2022,"105456",{"$f":"IFERROR(VLOOKUP(Tabla_SERIED_12_5[[#This Row],[IdEstablecimiento]],'[1]Establecimiento 2023'!$A$1:$E$183,3,FALSE),0)","v":"105456-Posta de Salud Rural Llimpo"},{"$f":"IFERROR(VLOOKUP(Tabla_SERIED_12_5[[#This Row],[IdEstablecimiento]],'[1]Establecimiento 2023'!$A$1:$E$183,5,FALSE),0)","v":"04204-Salamanca"},"15010500","2022-05-18T15:05:18",2,{"$nulls":5},2]
[{"$nulls":23},9,"5",2022,"105312",{"$f":"IFERROR(VLOOKUP(Tabla_SERIED_12_5[[#This Row],[IdEstablecimiento]],'[1]Establecimiento 2023'!$A$1:$E$183,3,FALSE),0)","v":"105312-Centro de Salud Familiar Carén"},{"$f":"IFERROR(VLOOKUP(Tabla_SERIED_12_5[[#This Row],[IdEstablecimiento]],'[1]Establecimiento 2023'!$A$1:$E$183,5,FALSE),0)","v":"04303-Monte Patria"},"16090300","2022-11-15T14:25:28",50,50]
[{"$nulls":23},9,"5",2022,"105313",{"$f":"IFERROR(VLOOKUP(Tabla_SERIED_12_5[[#This Row],[IdEstablecimiento]],'[1]Establecimiento 2023'!$A$1:$E$183,3,FALSE),0)","v":"105313-Centro de Salud Familiar Dr. Emilio Schaffhauser"},{"$f":"IFERROR(VLOOKUP(Tabla_SERIED_12_5[[#This Row],[IdEstablecimiento]],'[1]Establecimiento 2023'!$A$1:$E$183,5,FALSE),0)","v":"04101-La Serena"},"15010300","2022-11-15T14:25:39",4,{"$nulls":3},4]
[{"$nulls":23},9,"5",2022,"105313",{"$f":"IFERROR(VLOOKUP(Tabla_SERIED_12_5[[#This Row],[IdEstablecimiento]],'[1]Establecimiento 2023'!$A$1:$E$183,3,FALSE),0)","v":"105313-Centro de Salud Familiar Dr. Emilio Schaffhauser"},{"$f":"IFERROR(VLOOKUP(Tabla_SERIED_12_5[[#This Row],[IdEstablecimiento]],'[1]Establecimiento 2023'!$A$1:$E$183,5,FALSE),0)","v":"04101-La Serena"},"15050500","2022-11-15T14:25:39",5,3,2,1,3,1]
[{"$nulls":23},9,"5",2022,"105315",{"$f":"IFERROR(VLOOKUP(Tabla_SERIED_12_5[[#This Row],[IdEstablecimiento]],'[1]Establecimiento 2023'!$A$1:$E$183,3,FALSE),0)","v":"105315-Centro de Salud Familiar Cerrillos de Tamaya"},{"$f":"IFERROR(VLOOKUP(Tabla_SERIED_12_5[[#This Row],[IdEstablecimiento]],'[1]Establecimiento 2023'!$A$1:$E$183,5,FALSE),0)","v":"04301-Ovalle"},"15010100","2022-11-15T14:26:06",44,{"$nulls":3},44]
[{"$nulls":23},9,"5",2022,"105315",{"$f":"IFERROR(VLOOKUP(Tabla_SERIED_12_5[[#This Row],[IdEstablecimiento]],'[1]Establecimiento 2023'!$A$1:$E$183,3,FALSE),0)","v":"105315-Centro de Salud Familiar Cerrillos de Tamaya"},{"$f":"IFERROR(VLOOKUP(Tabla_SERIED_12_5[[#This Row],[IdEstablecimiento]],'[1]Establecimiento 2023'!$A$1:$E$183,5,FALSE),0)","v":"04301-Ovalle"},"15050100","2022-11-15T14:26:06",196,71,125,2,6,6,22,17,49,36,38,null,11,1,8]
[{"$nulls":23},10,"5",2022,"105106",{"$f":"IFERROR(VLOOKUP(Tabla_SERIED_12_5[[#This Row],[IdEstablecimiento]],'[1]Establecimiento 2023'!$A$1:$E$183,3,FALSE),0)","v":"105106-Hospital Dr. José Arraño (Andacollo)"},{"$f":"IFERROR(VLOOKUP(Tabla_SERIED_12_5[[#This Row],[IdEstablecimiento]],'[1]Establecimiento 2023'!$A$1:$E$183,5,FALSE),0)","v":"105106-Hospital Andacollo"},"15010400","2022-11-15T13:27:42",8,{"$nulls":5},6,2]
[{"$nulls":23},10,"5",2022,"105106",{"$f":"IFERROR(VLOOKUP(Tabla_SERIED_12_5[[#This Row],[IdEstablecimiento]],'[1]Establecimiento 2023'!$A$1:$E$183,3,FALSE),0)","v":"105106-Hospital Dr. José Arraño (Andacollo)"},{"$f":"IFERROR(VLOOKUP(Tabla_SERIED_12_5[[#This Row],[IdEstablecimiento]],'[1]Establecimiento 2023'!$A$1:$E$183,5,FALSE),0)","v":"105106-Hospital Andacollo"},"15010500","2022-11-15T13:27:42",10,{"$nulls":4},2,6,2]
[{"$nulls":23},10,"5",2022,"105106",{"$f":"IFERROR(VLOOKUP(Tabla_SERIED_12_5[[#This Row],[IdEstablecimiento]],'[1]Establecimiento 2023'!$A$1:$E$183,3,FALSE),0)","v":"105106-Hospital Dr. José Arraño (Andacollo)"},{"$f":"IFERROR(VLOOKUP(Tabla_SERIED_12_5[[#This Row],[IdEstablecimiento]],'[1]Establecimiento 2023'!$A$1:$E$183,5,FALSE),0)","v":"105106-Hospital Andacollo"},"16090500","2022-11-15T13:27:42",1,1]
[{"$nulls":23},10,"5",2022,"105107",{"$f":"IFERROR(VLOOKUP(Tabla_SERIED_12_5[[#This Row],[IdEstablecimiento]],'[1]Establecimiento 2023'!$A$1:$E$183,3,FALSE),0)","v":"105107-Hospital San Juan de Dios (Vicuña)"},{"$f":"IFERROR(VLOOKUP(Tabla_SERIED_12_5[[#This Row],[IdEstablecimiento]],'[1]Establecimiento 2023'!$A$1:$E$183,5,FALSE),0)","v":"105107-Hospital Vicuña"},"15900010","2022-11-15T13:27:56",122.8,5.4,35.1,82.3]
[{"$nulls":23},4,"5",2022,"105304",{"$f":"IFERROR(VLOOKUP(Tabla_SERIED_12_5[[#This Row],[IdEstablecimiento]],'[1]Establecimiento 2023'!$A$1:$E$183,3,FALSE),0)","v":"105304-Centro de Salud Familiar Santa Cecilia"},{"$f":"IFERROR(VLOOKUP(Tabla_SERIED_12_5[[#This Row],[IdEstablecimiento]],'[1]Establecimiento 2023'!$A$1:$E$183,5,FALSE),0)","v":"04102-Coquimbo"},"15060100","2022-05-18T11:50:01",8,3,5,{"$nulls":3},2,4,1,0,0,null,1,null,0]
[{"$nulls":23},1,"5",2022,"200366",{"$f":"IFERROR(VLOOKUP(Tabla_SERIED_12_5[[#This Row],[IdEstablecimiento]],'[1]Establecimiento 2023'!$A$1:$E$183,3,FALSE),0)","v":"200366-Centro de Salud Familiar Urbano de Illapel"},{"$f":"IFERROR(VLOOKUP(Tabla_SERIED_12_5[[#This Row],[IdEstablecimiento]],'[1]Establecimiento 2023'!$A$1:$E$183,5,FALSE),0)","v":"04201-Illapel"},"16200220","2022-02-17T04:29:53",9,4,5,0,0]
[{"$nulls":23},10,"5",2022,"105107",{"$f":"IFERROR(VLOOKUP(Tabla_SERIED_12_5[[#This Row],[IdEstablecimiento]],'[1]Establecimiento 2023'!$A$1:$E$183,3,FALSE),0)","v":"105107-Hospital San Juan de Dios (Vicuña)"},{"$f":"IFERROR(VLOOKUP(Tabla_SERIED_12_5[[#This Row],[IdEstablecimiento]],'[1]Establecimiento 2023'!$A$1:$E$183,5,FALSE),0)","v":"105107-Hospital Vicuña"},"15080009","2022-11-15T13:27:56",3,{"$nulls":8},3]
[{"$nulls":23},10,"5",2022,"105107",{"$f":"IFERROR(VLOOKUP(Tabla_SERIED_12_5[[#This Row],[IdEstablecimiento]],'[1]Establecimiento 2023'!$A$1:$E$183,3,FALSE),0)","v":"105107-Hospital San Juan de Dios (Vicuña)"},{"$f":"IFERROR(VLOOKUP(Tabla_SERIED_12_5[[#This Row],[IdEstablecimiento]],'[1]Establecimiento 2023'!$A$1:$E$183,5,FALSE),0)","v":"105107-Hospital Vicuña"},"16090300","2022-11-15T13:27:56",322,322]
[{"$nulls":23},10,"5",2022,"105108",{"$f":"IFERROR(VLOOKUP(Tabla_SERIED_12_5[[#This Row],[IdEstablecimiento]],'[1]Establecimiento 2023'!$A$1:$E$183,3,FALSE),0)","v":"105108-Hospital San Pedro (Los Vilos)"},{"$f":"IFERROR(VLOOKUP(Tabla_SERIED_12_5[[#This Row],[IdEstablecimiento]],'[1]Establecimiento 2023'!$A$1:$E$183,5,FALSE),0)","v":"105108-Hospital Los Vilos"},"15080009","2022-11-15T13:29:43",3,{"$nulls":8},3]
[{"$nulls":23},10,"5",2022,"105108",{"$f":"IFERROR(VLOOKUP(Tabla_SERIED_12_5[[#This Row],[IdEstablecimiento]],'[1]Establecimiento 2023'!$A$1:$E$183,3,FALSE),0)","v":"105108-Hospital San Pedro (Los Vilos)"},{"$f":"IFERROR(VLOOKUP(Tabla_SERIED_12_5[[#This Row],[IdEstablecimiento]],'[1]Establecimiento 2023'!$A$1:$E$183,5,FALSE),0)","v":"105108-Hospital Los Vilos"},"15900020","2022-11-15T13:29:43",14.4,5.4,null,9]
[{"$nulls":23},5,"5",2022,"105304",{"$f":"IFERROR(VLOOKUP(Tabla_SERIED_12_5[[#This Row],[IdEstablecimiento]],'[1]Establecimiento 2023'!$A$1:$E$183,3,FALSE),0)","v":"105304-Centro de Salud Familiar Santa Cecilia"},{"$f":"IFERROR(VLOOKUP(Tabla_SERIED_12_5[[#This Row],[IdEstablecimiento]],'[1]Establecimiento 2023'!$A$1:$E$183,5,FALSE),0)","v":"04102-Coquimbo"},"15080009","2022-06-20T17:00:17",6,{"$nulls":8},6,0,0,0]
[{"$nulls":23},5,"5",2022,"105304",{"$f":"IFERROR(VLOOKUP(Tabla_SERIED_12_5[[#This Row],[IdEstablecimiento]],'[1]Establecimiento 2023'!$A$1:$E$183,3,FALSE),0)","v":"105304-Centro de Salud Familiar Santa Cecilia"},{"$f":"IFERROR(VLOOKUP(Tabla_SERIED_12_5[[#This Row],[IdEstablecimiento]],'[1]Establecimiento 2023'!$A$1:$E$183,5,FALSE),0)","v":"04102-Coquimbo"},"15900050","2022-06-20T17:00:17",3,2,1,2,0,1,0,0]
[{"$nulls":23},2,"5",2022,"105322",{"$f":"IFERROR(VLOOKUP(Tabla_SERIED_12_5[[#This Row],[IdEstablecimiento]],'[1]Establecimiento 2023'!$A$1:$E$183,3,FALSE),0)","v":"105322-Centro de Salud Familiar Marcos Macuada"},{"$f":"IFERROR(VLOOKUP(Tabla_SERIED_12_5[[#This Row],[IdEstablecimiento]],'[1]Establecimiento 2023'!$A$1:$E$183,5,FALSE),0)","v":"04301-Ovalle"},"15030100","2022-03-17T09:31:26",3.2,3.2]
[{"$nulls":23},2,"5",2022,"200538",{"$f":"IFERROR(VLOOKUP(Tabla_SERIED_12_5[[#This Row],[IdEstablecimiento]],'[1]Establecimiento 2023'!$A$1:$E$183,3,FALSE),0)","v":"200538-Centro de Salud Familiar San Isidro Calingasta"},{"$f":"IFERROR(VLOOKUP(Tabla_SERIED_12_5[[#This Row],[IdEstablecimiento]],'[1]Establecimiento 2023'!$A$1:$E$183,5,FALSE),0)","v":"04106-Vicuña"},"15050100","2022-03-17T10:09:35",81,48,33,null,null,12,9,9,15,19,12,null,1,4]
[{"$nulls":23},4,"5",2022,"105304",{"$f":"IFERROR(VLOOKUP(Tabla_SERIED_12_5[[#This Row],[IdEstablecimiento]],'[1]Establecimiento 2023'!$A$1:$E$183,3,FALSE),0)","v":"105304-Centro de Salud Familiar Santa Cecilia"},{"$f":"IFERROR(VLOOKUP(Tabla_SERIED_12_5[[#This Row],[IdEstablecimiento]],'[1]Establecimiento 2023'!$A$1:$E$183,5,FALSE),0)","v":"04102-Coquimbo"},"15900010","2022-05-18T11:50:01",167.2,7.2,48.8,111.2]
[{"$nulls":23},3,"5",2022,"105302",{"$f":"IFERROR(VLOOKUP(Tabla_SERIED_12_5[[#This Row],[IdEstablecimiento]],'[1]Establecimiento 2023'!$A$1:$E$183,3,FALSE),0)","v":"105302-Centro de Salud Familiar Pedro Aguirre Cerda"},{"$f":"IFERROR(VLOOKUP(Tabla_SERIED_12_5[[#This Row],[IdEstablecimiento]],'[1]Establecimiento 2023'!$A$1:$E$183,5,FALSE),0)","v":"04101-La Serena"},"15060600","2022-04-19T08:02:36",1,1,null,null,1]
[{"$nulls":23},1,"5",2022,"105322",{"$f":"IFERROR(VLOOKUP(Tabla_SERIED_12_5[[#This Row],[IdEstablecimiento]],'[1]Establecimiento 2023'!$A$1:$E$183,3,FALSE),0)","v":"105322-Centro de Salud Familiar Marcos Macuada"},{"$f":"IFERROR(VLOOKUP(Tabla_SERIED_12_5[[#This Row],[IdEstablecimiento]],'[1]Establecimiento 2023'!$A$1:$E$183,5,FALSE),0)","v":"04301-Ovalle"},"15900010","2022-02-16T10:50:40",89.6,21.6,29.6,38.4]
[{"$nulls":23},4,"5",2022,"105501",{"$f":"IFERROR(VLOOKUP(Tabla_SERIED_12_5[[#This Row],[IdEstablecimiento]],'[1]Establecimiento 2023'!$A$1:$E$183,3,FALSE),0)","v":"105501-Posta de Salud Rural Arboleda Grande"},{"$f":"IFERROR(VLOOKUP(Tabla_SERIED_12_5[[#This Row],[IdEstablecimiento]],'[1]Establecimiento 2023'!$A$1:$E$183,5,FALSE),0)","v":"04204-Salamanca"},"15900050","2022-05-18T15:20:23",1,null,1,{"$nulls":3},1]
[{"$nulls":23},4,"5",2022,"105503",{"$f":"IFERROR(VLOOKUP(Tabla_SERIED_12_5[[#This Row],[IdEstablecimiento]],'[1]Establecimiento 2023'!$A$1:$E$183,3,FALSE),0)","v":"105503-Posta de Salud Rural Tabaqueros"},{"$f":"IFERROR(VLOOKUP(Tabla_SERIED_12_5[[#This Row],[IdEstablecimiento]],'[1]Establecimiento 2023'!$A$1:$E$183,5,FALSE),0)","v":"04305-Río Hurtado"},"16200210","2022-05-18T15:20:37",4,4]
[{"$nulls":23},7,"5",2022,"105307",{"$f":"IFERROR(VLOOKUP(Tabla_SERIED_12_5[[#This Row],[IdEstablecimiento]],'[1]Establecimiento 2023'!$A$1:$E$183,3,FALSE),0)","v":"105307-Centro de Salud Familiar Monte Patria"},{"$f":"IFERROR(VLOOKUP(Tabla_SERIED_12_5[[#This Row],[IdEstablecimiento]],'[1]Establecimiento 2023'!$A$1:$E$183,5,FALSE),0)","v":"04303-Monte Patria"},"15050100","2022-08-19T11:59:37",248,92,156,1,5,19,23,20,60,45,34,null,16,25]
[{"$nulls":23},7,"5",2022,"105510",{"$f":"IFERROR(VLOOKUP(Tabla_SERIED_12_5[[#This Row],[IdEstablecimiento]],'[1]Establecimiento 2023'!$A$1:$E$183,3,FALSE),0)","v":"105510-Posta de Salud Rural Recoleta"},{"$f":"IFERROR(VLOOKUP(Tabla_SERIED_12_5[[#This Row],[IdEstablecimiento]],'[1]Establecimiento 2023'!$A$1:$E$183,5,FALSE),0)","v":"04301-Ovalle"},"16200220","2022-08-22T06:46:12",11,1,10,null,4]
[{"$nulls":23},7,"5",2022,"105319",{"$f":"IFERROR(VLOOKUP(Tabla_SERIED_12_5[[#This Row],[IdEstablecimiento]],'[1]Establecimiento 2023'!$A$1:$E$183,3,FALSE),0)","v":"105319-Centro de Salud Familiar Cardenal Raúl Silva Henríquez de La Serena"},{"$f":"IFERROR(VLOOKUP(Tabla_SERIED_12_5[[#This Row],[IdEstablecimiento]],'[1]Establecimiento 2023'!$A$1:$E$183,5,FALSE),0)","v":"04101-La Serena"},"15050500","2022-08-19T12:01:58",1,null,1,1]
[{"$nulls":23},3,"5",2022,"105435",{"$f":"IFERROR(VLOOKUP(Tabla_SERIED_12_5[[#This Row],[IdEstablecimiento]],'[1]Establecimiento 2023'!$A$1:$E$183,3,FALSE),0)","v":"105435-Posta de Salud Rural Tulahuén"},{"$f":"IFERROR(VLOOKUP(Tabla_SERIED_12_5[[#This Row],[IdEstablecimiento]],'[1]Establecimiento 2023'!$A$1:$E$183,5,FALSE),0)","v":"04303-Monte Patria"},"15050100","2022-04-19T09:44:03",28,14,14,{"$nulls":3},4,6,7,9,1,null,1]
[{"$nulls":23},5,"5",2022,"105443",{"$f":"IFERROR(VLOOKUP(Tabla_SERIED_12_5[[#This Row],[IdEstablecimiento]],'[1]Establecimiento 2023'!$A$1:$E$183,3,FALSE),0)","v":"105443-Posta de Salud Rural Cárcamo"},{"$f":"IFERROR(VLOOKUP(Tabla_SERIED_12_5[[#This Row],[IdEstablecimiento]],'[1]Establecimiento 2023'!$A$1:$E$183,5,FALSE),0)","v":"04201-Illapel"},"15900040","2022-06-20T17:17:07",4.4,null,4.4]
[{"$nulls":23},1,"5",2022,"105300",{"$f":"IFERROR(VLOOKUP(Tabla_SERIED_12_5[[#This Row],[IdEstablecimiento]],'[1]Establecimiento 2023'!$A$1:$E$183,3,FALSE),0)","v":"105300-Centro de Salud Familiar Cardenal Caro"},{"$f":"IFERROR(VLOOKUP(Tabla_SERIED_12_5[[#This Row],[IdEstablecimiento]],'[1]Establecimiento 2023'!$A$1:$E$183,5,FALSE),0)","v":"04101-La Serena"},"15901200","2022-02-16T10:34:03",82.4,4,6.8,38.8,12.4,20.4]
[{"$nulls":23},1,"5",2022,"105300",{"$f":"IFERROR(VLOOKUP(Tabla_SERIED_12_5[[#This Row],[IdEstablecimiento]],'[1]Establecimiento 2023'!$A$1:$E$183,3,FALSE),0)","v":"105300-Centro de Salud Familiar Cardenal Caro"},{"$f":"IFERROR(VLOOKUP(Tabla_SERIED_12_5[[#This Row],[IdEstablecimiento]],'[1]Establecimiento 2023'!$A$1:$E$183,5,FALSE),0)","v":"04101-La Serena"},"15901300","2022-02-16T10:34:03",22,null,6,4.4,4.8,6.8]
[{"$nulls":23},4,"5",2022,"105472",{"$f":"IFERROR(VLOOKUP(Tabla_SERIED_12_5[[#This Row],[IdEstablecimiento]],'[1]Establecimiento 2023'!$A$1:$E$183,3,FALSE),0)","v":"105472-Posta de Salud Rural Rivadavia"},{"$f":"IFERROR(VLOOKUP(Tabla_SERIED_12_5[[#This Row],[IdEstablecimiento]],'[1]Establecimiento 2023'!$A$1:$E$183,5,FALSE),0)","v":"04106-Vicuña"},"16090300","2022-05-18T15:12:29",63,63]
[{"$nulls":23},1,"5",2022,"105455",{"$f":"IFERROR(VLOOKUP(Tabla_SERIED_12_5[[#This Row],[IdEstablecimiento]],'[1]Establecimiento 2023'!$A$1:$E$183,3,FALSE),0)","v":"105455-CESFAM Valle Alto"},{"$f":"IFERROR(VLOOKUP(Tabla_SERIED_12_5[[#This Row],[IdEstablecimiento]],'[1]Establecimiento 2023'!$A$1:$E$183,5,FALSE),0)","v":"04204-Salamanca"},"15050100","2022-02-16T11:36:40",36,17,19,{"$nulls":3},1,3,13,9,6,null,2,null,2]
[{"$nulls":23},5,"5",2022,"105107",{"$f":"IFERROR(VLOOKUP(Tabla_SERIED_12_5[[#This Row],[IdEstablecimiento]],'[1]Establecimiento 2023'!$A$1:$E$183,3,FALSE),0)","v":"105107-Hospital San Juan de Dios (Vicuña)"},{"$f":"IFERROR(VLOOKUP(Tabla_SERIED_12_5[[#This Row],[IdEstablecimiento]],'[1]Establecimiento 2023'!$A$1:$E$183,5,FALSE),0)","v":"105107-Hospital Vicuña"},"15050200","2022-06-20T16:57:55",11,2,9,{"$nulls":5},3,5,null,3]
[{"$nulls":23},6,"5",2022,"105472",{"$f":"IFERROR(VLOOKUP(Tabla_SERIED_12_5[[#This Row],[IdEstablecimiento]],'[1]Establecimiento 2023'!$A$1:$E$183,3,FALSE),0)","v":"105472-Posta de Salud Rural Rivadavia"},{"$f":"IFERROR(VLOOKUP(Tabla_SERIED_12_5[[#This Row],[IdEstablecimiento]],'[1]Establecimiento 2023'!$A$1:$E$183,5,FALSE),0)","v":"04106-Vicuña"},"16100300","2022-07-14T14:27:59",51,23,28,null,14]
[{"$nulls":23},5,"5",2022,"105468",{"$f":"IFERROR(VLOOKUP(Tabla_SERIED_12_5[[#This Row],[IdEstablecimiento]],'[1]Establecimiento 2023'!$A$1:$E$183,3,FALSE),0)","v":"105468-Posta de Salud Rural El Molle"},{"$f":"IFERROR(VLOOKUP(Tabla_SERIED_12_5[[#This Row],[IdEstablecimiento]],'[1]Establecimiento 2023'!$A$1:$E$183,5,FALSE),0)","v":"04106-Vicuña"},"15010100","2022-06-20T17:21:50",10,{"$nulls":3},10]
[{"$nulls":23},5,"5",2022,"105469",{"$f":"IFERROR(VLOOKUP(Tabla_SERIED_12_5[[#This Row],[IdEstablecimiento]],'[1]Establecimiento 2023'!$A$1:$E$183,3,FALSE),0)","v":"105469-Posta de Salud Rural El Tambo (Vicuña)"},{"$f":"IFERROR(VLOOKUP(Tabla_SERIED_12_5[[#This Row],[IdEstablecimiento]],'[1]Establecimiento 2023'!$A$1:$E$183,5,FALSE),0)","v":"04106-Vicuña"},"15010200","2022-06-20T17:21:59",38,{"$nulls":4},10,6,22]
[{"$nulls":23},5,"5",2022,"105453",{"$f":"IFERROR(VLOOKUP(Tabla_SERIED_12_5[[#This Row],[IdEstablecimiento]],'[1]Establecimiento 2023'!$A$1:$E$183,3,FALSE),0)","v":"105453-Posta de Salud Rural Tranquilla"},{"$f":"IFERROR(VLOOKUP(Tabla_SERIED_12_5[[#This Row],[IdEstablecimiento]],'[1]Establecimiento 2023'!$A$1:$E$183,5,FALSE),0)","v":"04204-Salamanca"},"16200210","2022-06-22T10:50:05",10,10]
[{"$nulls":23},5,"5",2022,"105454",{"$f":"IFERROR(VLOOKUP(Tabla_SERIED_12_5[[#This Row],[IdEstablecimiento]],'[1]Establecimiento 2023'!$A$1:$E$183,3,FALSE),0)","v":"105454-Posta de Salud Rural Cunlagua"},{"$f":"IFERROR(VLOOKUP(Tabla_SERIED_12_5[[#This Row],[IdEstablecimiento]],'[1]Establecimiento 2023'!$A$1:$E$183,5,FALSE),0)","v":"04204-Salamanca"},"15010200","2022-06-22T10:50:19",4,{"$nulls":5},2,2]
[{"$nulls":23},5,"5",2022,"200366",{"$f":"IFERROR(VLOOKUP(Tabla_SERIED_12_5[[#This Row],[IdEstablecimiento]],'[1]Establecimiento 2023'!$A$1:$E$183,3,FALSE),0)","v":"200366-Centro de Salud Familiar Urbano de Illapel"},{"$f":"IFERROR(VLOOKUP(Tabla_SERIED_12_5[[#This Row],[IdEstablecimiento]],'[1]Establecimiento 2023'!$A$1:$E$183,5,FALSE),0)","v":"04201-Illapel"},"16100700","2022-06-20T17:36:22",1,1,0,0,0]
[{"$nulls":23},8,"5",2022,"105477",{"$f":"IFERROR(VLOOKUP(Tabla_SERIED_12_5[[#This Row],[IdEstablecimiento]],'[1]Establecimiento 2023'!$A$1:$E$183,3,FALSE),0)","v":"105477-Posta de Salud Rural Pisco Elqui"},{"$f":"IFERROR(VLOOKUP(Tabla_SERIED_12_5[[#This Row],[IdEstablecimiento]],'[1]Establecimiento 2023'!$A$1:$E$183,5,FALSE),0)","v":"04105-Paiguano"},"15050100","2022-09-21T07:50:35",15,4,11,null,null,1,2,2,5,2,null,null,1,null,2]
[{"$nulls":23},8,"5",2022,"105478",{"$f":"IFERROR(VLOOKUP(Tabla_SERIED_12_5[[#This Row],[IdEstablecimiento]],'[1]Establecimiento 2023'!$A$1:$E$183,3,FALSE),0)","v":"105478-Posta de Salud Rural Caimanes"},{"$f":"IFERROR(VLOOKUP(Tabla_SERIED_12_5[[#This Row],[IdEstablecimiento]],'[1]Establecimiento 2023'!$A$1:$E$183,5,FALSE),0)","v":"04203-Los Vilos"},"16200210","2022-09-21T07:50:56",1,1]
[{"$nulls":23},8,"5",2022,"105309",{"$f":"IFERROR(VLOOKUP(Tabla_SERIED_12_5[[#This Row],[IdEstablecimiento]],'[1]Establecimiento 2023'!$A$1:$E$183,3,FALSE),0)","v":"105309-Centro de Salud Familiar Canela"},{"$f":"IFERROR(VLOOKUP(Tabla_SERIED_12_5[[#This Row],[IdEstablecimiento]],'[1]Establecimiento 2023'!$A$1:$E$183,5,FALSE),0)","v":"04202-Canela"},"15010300","2022-09-21T07:16:54",2,{"$nulls":4},2]
[{"$nulls":23},2,"5",2022,"105305",{"$f":"IFERROR(VLOOKUP(Tabla_SERIED_12_5[[#This Row],[IdEstablecimiento]],'[1]Establecimiento 2023'!$A$1:$E$183,3,FALSE),0)","v":"105305-Centro de Salud Familiar Tierras Blancas"},{"$f":"IFERROR(VLOOKUP(Tabla_SERIED_12_5[[#This Row],[IdEstablecimiento]],'[1]Establecimiento 2023'!$A$1:$E$183,5,FALSE),0)","v":"04102-Coquimbo"},"15010400","2022-03-17T09:27:42",12,{"$nulls":5},8,4]
[{"$nulls":23},5,"5",2022,"105318",{"$f":"IFERROR(VLOOKUP(Tabla_SERIED_12_5[[#This Row],[IdEstablecimiento]],'[1]Establecimiento 2023'!$A$1:$E$183,3,FALSE),0)","v":"105318-Centro de Salud Familiar El Palqui"},{"$f":"IFERROR(VLOOKUP(Tabla_SERIED_12_5[[#This Row],[IdEstablecimiento]],'[1]Establecimiento 2023'!$A$1:$E$183,5,FALSE),0)","v":"04303-Monte Patria"},"15060100","2022-06-20T17:04:21",1,1,{"$nulls":5},1]
[{"$nulls":23},8,"5",2022,"105309",{"$f":"IFERROR(VLOOKUP(Tabla_SERIED_12_5[[#This Row],[IdEstablecimiento]],'[1]Establecimiento 2023'!$A$1:$E$183,3,FALSE),0)","v":"105309-Centro de Salud Familiar Canela"},{"$f":"IFERROR(VLOOKUP(Tabla_SERIED_12_5[[#This Row],[IdEstablecimiento]],'[1]Establecimiento 2023'!$A$1:$E$183,5,FALSE),0)","v":"04202-Canela"},"16090500","2022-09-21T07:16:54",1,1]
[{"$nulls":23},8,"5",2022,"105309",{"$f":"IFERROR(VLOOKUP(Tabla_SERIED_12_5[[#This Row],[IdEstablecimiento]],'[1]Establecimiento 2023'!$A$1:$E$183,3,FALSE),0)","v":"105309-Centro de Salud Familiar Canela"},{"$f":"IFERROR(VLOOKUP(Tabla_SERIED_12_5[[#This Row],[IdEstablecimiento]],'[1]Establecimiento 2023'!$A$1:$E$183,5,FALSE),0)","v":"04202-Canela"},"16090600","2022-09-21T07:16:54",1,1]
[{"$nulls":23},1,"5",2022,"105313",{"$f":"IFERROR(VLOOKUP(Tabla_SERIED_12_5[[#This Row],[IdEstablecimiento]],'[1]Establecimiento 2023'!$A$1:$E$183,3,FALSE),0)","v":"105313-Centro de Salud Familiar Dr. Emilio Schaffhauser"},{"$f":"IFERROR(VLOOKUP(Tabla_SERIED_12_5[[#This Row],[IdEstablecimiento]],'[1]Establecimiento 2023'!$A$1:$E$183,5,FALSE),0)","v":"04101-La Serena"},"15080008","2022-02-16T10:48:14",232,{"$nulls":7},109,null,76,28,19]
[{"$nulls":23},3,"5",2022,"105322",{"$f":"IFERROR(VLOOKUP(Tabla_SERIED_12_5[[#This Row],[IdEstablecimiento]],'[1]Establecimiento 2023'!$A$1:$E$183,3,FALSE),0)","v":"105322-Centro de Salud Familiar Marcos Macuada"},{"$f":"IFERROR(VLOOKUP(Tabla_SERIED_12_5[[#This Row],[IdEstablecimiento]],'[1]Establecimiento 2023'!$A$1:$E$183,5,FALSE),0)","v":"04301-Ovalle"},"15080010","2022-04-19T08:11:14",2,{"$nulls":7},0,null,2,0,0]
[{"$nulls":23},5,"5",2022,"105425",{"$f":"IFERROR(VLOOKUP(Tabla_SERIED_12_5[[#This Row],[IdEstablecimiento]],'[1]Establecimiento 2023'!$A$1:$E$183,3,FALSE),0)","v":"105425-Posta de Salud Rural Chilecito"},{"$f":"IFERROR(VLOOKUP(Tabla_SERIED_12_5[[#This Row],[IdEstablecimiento]],'[1]Establecimiento 2023'!$A$1:$E$183,5,FALSE),0)","v":"04303-Monte Patria"},"16200220","2022-06-20T17:13:14",2,0,2,null,0]
[{"$nulls":23},5,"5",2022,"105427",{"$f":"IFERROR(VLOOKUP(Tabla_SERIED_12_5[[#This Row],[IdEstablecimiento]],'[1]Establecimiento 2023'!$A$1:$E$183,3,FALSE),0)","v":"105427-Posta de Salud Rural Hacienda Valdivia"},{"$f":"IFERROR(VLOOKUP(Tabla_SERIED_12_5[[#This Row],[IdEstablecimiento]],'[1]Establecimiento 2023'!$A$1:$E$183,5,FALSE),0)","v":"04303-Monte Patria"},"16090300","2022-06-20T17:13:27",36,36]
[{"$nulls":23},7,"5",2022,"105321",{"$f":"IFERROR(VLOOKUP(Tabla_SERIED_12_5[[#This Row],[IdEstablecimiento]],'[1]Establecimiento 2023'!$A$1:$E$183,3,FALSE),0)","v":"105321-Centro de Salud Familiar Tongoy"},{"$f":"IFERROR(VLOOKUP(Tabla_SERIED_12_5[[#This Row],[IdEstablecimiento]],'[1]Establecimiento 2023'!$A$1:$E$183,5,FALSE),0)","v":"04102-Coquimbo"},"15080008","2022-08-19T12:02:17",49,{"$nulls":7},24,null,22,null,3]
[{"$nulls":23},4,"5",2022,"105492",{"$f":"IFERROR(VLOOKUP(Tabla_SERIED_12_5[[#This Row],[IdEstablecimiento]],'[1]Establecimiento 2023'!$A$1:$E$183,3,FALSE),0)","v":"105492-Posta de Salud Rural Camisa"},{"$f":"IFERROR(VLOOKUP(Tabla_SERIED_12_5[[#This Row],[IdEstablecimiento]],'[1]Establecimiento 2023'!$A$1:$E$183,5,FALSE),0)","v":"04204-Salamanca"},"16090300","2022-05-18T15:17:06",49,49]
[{"$nulls":23},5,"5",2022,"105322",{"$f":"IFERROR(VLOOKUP(Tabla_SERIED_12_5[[#This Row],[IdEstablecimiento]],'[1]Establecimiento 2023'!$A$1:$E$183,3,FALSE),0)","v":"105322-Centro de Salud Familiar Marcos Macuada"},{"$f":"IFERROR(VLOOKUP(Tabla_SERIED_12_5[[#This Row],[IdEstablecimiento]],'[1]Establecimiento 2023'!$A$1:$E$183,5,FALSE),0)","v":"04301-Ovalle"},"15010500","2022-06-20T17:05:03",8,null,0,0,2,null,6]
[{"$nulls":23},5,"5",2022,"105322",{"$f":"IFERROR(VLOOKUP(Tabla_SERIED_12_5[[#This Row],[IdEstablecimiento]],'[1]Establecimiento 2023'!$A$1:$E$183,3,FALSE),0)","v":"105322-Centro de Salud Familiar Marcos Macuada"},{"$f":"IFERROR(VLOOKUP(Tabla_SERIED_12_5[[#This Row],[IdEstablecimiento]],'[1]Establecimiento 2023'!$A$1:$E$183,5,FALSE),0)","v":"04301-Ovalle"},"15080009","2022-06-20T17:05:03",6,{"$nulls":8},6,null,null,0]
[{"$nulls":23},5,"5",2022,"105322",{"$f":"IFERROR(VLOOKUP(Tabla_SERIED_12_5[[#This Row],[IdEstablecimiento]],'[1]Establecimiento 2023'!$A$1:$E$183,3,FALSE),0)","v":"105322-Centro de Salud Familiar Marcos Macuada"},{"$f":"IFERROR(VLOOKUP(Tabla_SERIED_12_5[[#This Row],[IdEstablecimiento]],'[1]Establecimiento 2023'!$A$1:$E$183,5,FALSE),0)","v":"04301-Ovalle"},"15020200","2022-06-20T17:05:03",8,{"$nulls":5},4,4]
[{"$nulls":23},4,"5",2022,"200367",{"$f":"IFERROR(VLOOKUP(Tabla_SERIED_12_5[[#This Row],[IdEstablecimiento]],'[1]Establecimiento 2023'!$A$1:$E$183,3,FALSE),0)","v":"200367-Centro Comunitario de Salud Familiar Colonia Limarí"},{"$f":"IFERROR(VLOOKUP(Tabla_SERIED_12_5[[#This Row],[IdEstablecimiento]],'[1]Establecimiento 2023'!$A$1:$E$183,5,FALSE),0)","v":"04301-Ovalle"},"16090300","2022-05-18T15:27:19",148,148]
[{"$nulls":23},1,"5",2022,"105483",{"$f":"IFERROR(VLOOKUP(Tabla_SERIED_12_5[[#This Row],[IdEstablecimiento]],'[1]Establecimiento 2023'!$A$1:$E$183,3,FALSE),0)","v":"105483-Posta de Salud Rural Los Rulos"},{"$f":"IFERROR(VLOOKUP(Tabla_SERIED_12_5[[#This Row],[IdEstablecimiento]],'[1]Establecimiento 2023'!$A$1:$E$183,5,FALSE),0)","v":"04202-Canela"},"15010200","2022-02-17T03:57:30",6,{"$nulls":5},2,4]
[{"$nulls":23},4,"5",2022,"105453",{"$f":"IFERROR(VLOOKUP(Tabla_SERIED_12_5[[#This Row],[IdEstablecimiento]],'[1]Establecimiento 2023'!$A$1:$E$183,3,FALSE),0)","v":"105453-Posta de Salud Rural Tranquilla"},{"$f":"IFERROR(VLOOKUP(Tabla_SERIED_12_5[[#This Row],[IdEstablecimiento]],'[1]Establecimiento 2023'!$A$1:$E$183,5,FALSE),0)","v":"04204-Salamanca"},"15010100","2022-05-18T15:04:38",12,{"$nulls":3},6,6]
[{"$nulls":23},4,"5",2022,"105453",{"$f":"IFERROR(VLOOKUP(Tabla_SERIED_12_5[[#This Row],[IdEstablecimiento]],'[1]Establecimiento 2023'!$A$1:$E$183,3,FALSE),0)","v":"105453-Posta de Salud Rural Tranquilla"},{"$f":"IFERROR(VLOOKUP(Tabla_SERIED_12_5[[#This Row],[IdEstablecimiento]],'[1]Establecimiento 2023'!$A$1:$E$183,5,FALSE),0)","v":"04204-Salamanca"},"16090300","2022-05-18T15:04:38",77,77]
[{"$nulls":23},1,"5",2022,"105318",{"$f":"IFERROR(VLOOKUP(Tabla_SERIED_12_5[[#This Row],[IdEstablecimiento]],'[1]Establecimiento 2023'!$A$1:$E$183,3,FALSE),0)","v":"105318-Centro de Salud Familiar El Palqui"},{"$f":"IFERROR(VLOOKUP(Tabla_SERIED_12_5[[#This Row],[IdEstablecimiento]],'[1]Establecimiento 2023'!$A$1:$E$183,5,FALSE),0)","v":"04303-Monte Patria"},"15020200","2022-02-16T10:49:52",2,{"$nulls":4},2]
[{"$nulls":23},1,"5",2022,"105504",{"$f":"IFERROR(VLOOKUP(Tabla_SERIED_12_5[[#This Row],[IdEstablecimiento]],'[1]Establecimiento 2023'!$A$1:$E$183,3,FALSE),0)","v":"105504-Posta de Salud Rural Socavón"},{"$f":"IFERROR(VLOOKUP(Tabla_SERIED_12_5[[#This Row],[IdEstablecimiento]],'[1]Establecimiento 2023'!$A$1:$E$183,5,FALSE),0)","v":"04201-Illapel"},"15010100","2022-02-17T04:19:46",6,{"$nulls":3},6]
[{"$nulls":23},1,"5",2022,"105504",{"$f":"IFERROR(VLOOKUP(Tabla_SERIED_12_5[[#This Row],[IdEstablecimiento]],'[1]Establecimiento 2023'!$A$1:$E$183,3,FALSE),0)","v":"105504-Posta de Salud Rural Socavón"},{"$f":"IFERROR(VLOOKUP(Tabla_SERIED_12_5[[#This Row],[IdEstablecimiento]],'[1]Establecimiento 2023'!$A$1:$E$183,5,FALSE),0)","v":"04201-Illapel"},"15010200","2022-02-17T04:19:46",12,{"$nulls":4},2,4,6]
[{"$nulls":23},4,"5",2022,"105469",{"$f":"IFERROR(VLOOKUP(Tabla_SERIED_12_5[[#This Row],[IdEstablecimiento]],'[1]Establecimiento 2023'!$A$1:$E$183,3,FALSE),0)","v":"105469-Posta de Salud Rural El Tambo (Vicuña)"},{"$f":"IFERROR(VLOOKUP(Tabla_SERIED_12_5[[#This Row],[IdEstablecimiento]],'[1]Establecimiento 2023'!$A$1:$E$183,5,FALSE),0)","v":"04106-Vicuña"},"15080008","2022-05-18T15:11:47",8,{"$nulls":7},4,null,2,null,2]
[{"$nulls":23},6,"5",2022,"105108",{"$f":"IFERROR(VLOOKUP(Tabla_SERIED_12_5[[#This Row],[IdEstablecimiento]],'[1]Establecimiento 2023'!$A$1:$E$183,3,FALSE),0)","v":"105108-Hospital San Pedro (Los Vilos)"},{"$f":"IFERROR(VLOOKUP(Tabla_SERIED_12_5[[#This Row],[IdEstablecimiento]],'[1]Establecimiento 2023'!$A$1:$E$183,5,FALSE),0)","v":"105108-Hospital Los Vilos"},"15010400","2022-08-22T07:35:41",6,{"$nulls":5},6]
[{"$nulls":23},2,"5",2022,"105318",{"$f":"IFERROR(VLOOKUP(Tabla_SERIED_12_5[[#This Row],[IdEstablecimiento]],'[1]Establecimiento 2023'!$A$1:$E$183,3,FALSE),0)","v":"105318-Centro de Salud Familiar El Palqui"},{"$f":"IFERROR(VLOOKUP(Tabla_SERIED_12_5[[#This Row],[IdEstablecimiento]],'[1]Establecimiento 2023'!$A$1:$E$183,5,FALSE),0)","v":"04303-Monte Patria"},"15010200","2022-03-17T09:30:35",279,{"$nulls":4},60,118,101]
[{"$nulls":23},5,"5",2022,"105469",{"$f":"IFERROR(VLOOKUP(Tabla_SERIED_12_5[[#This Row],[IdEstablecimiento]],'[1]Establecimiento 2023'!$A$1:$E$183,3,FALSE),0)","v":"105469-Posta de Salud Rural El Tambo (Vicuña)"},{"$f":"IFERROR(VLOOKUP(Tabla_SERIED_12_5[[#This Row],[IdEstablecimiento]],'[1]Establecimiento 2023'!$A$1:$E$183,5,FALSE),0)","v":"04106-Vicuña"},"15050100","2022-06-20T17:21:59",30,15,15,null,null,3,3,5,3,11,1,null,3,null,1]
[{"$nulls":23},2,"5",2022,"105323",{"$f":"IFERROR(VLOOKUP(Tabla_SERIED_12_5[[#This Row],[IdEstablecimiento]],'[1]Establecimiento 2023'!$A$1:$E$183,3,FALSE),0)","v":"105323-Centro de Salud Familiar Dr. Sergio Aguilar Delgado"},{"$f":"IFERROR(VLOOKUP(Tabla_SERIED_12_5[[#This Row],[IdEstablecimiento]],'[1]Establecimiento 2023'!$A$1:$E$183,5,FALSE),0)","v":"04102-Coquimbo"},"15080008","2022-03-17T09:31:39",130,{"$nulls":7},73,null,32,7,18]
[{"$nulls":23},8,"5",2022,"105472",{"$f":"IFERROR(VLOOKUP(Tabla_SERIED_12_5[[#This Row],[IdEstablecimiento]],'[1]Establecimiento 2023'!$A$1:$E$183,3,FALSE),0)","v":"105472-Posta de Salud Rural Rivadavia"},{"$f":"IFERROR(VLOOKUP(Tabla_SERIED_12_5[[#This Row],[IdEstablecimiento]],'[1]Establecimiento 2023'!$A$1:$E$183,5,FALSE),0)","v":"04106-Vicuña"},"16200210","2022-09-21T07:49:27",8,8]
[{"$nulls":23},2,"5",2022,"105455",{"$f":"IFERROR(VLOOKUP(Tabla_SERIED_12_5[[#This Row],[IdEstablecimiento]],'[1]Establecimiento 2023'!$A$1:$E$183,3,FALSE),0)","v":"105455-CESFAM Valle Alto"},{"$f":"IFERROR(VLOOKUP(Tabla_SERIED_12_5[[#This Row],[IdEstablecimiento]],'[1]Establecimiento 2023'!$A$1:$E$183,5,FALSE),0)","v":"04204-Salamanca"},"16200220","2022-03-17T09:45:06",5,1,4]
[{"$nulls":23},2,"5",2022,"105456",{"$f":"IFERROR(VLOOKUP(Tabla_SERIED_12_5[[#This Row],[IdEstablecimiento]],'[1]Establecimiento 2023'!$A$1:$E$183,3,FALSE),0)","v":"105456-Posta de Salud Rural Llimpo"},{"$f":"IFERROR(VLOOKUP(Tabla_SERIED_12_5[[#This Row],[IdEstablecimiento]],'[1]Establecimiento 2023'!$A$1:$E$183,5,FALSE),0)","v":"04204-Salamanca"},"15010100","2022-03-17T09:45:20",2,{"$nulls":3},2]
[{"$nulls":23},2,"5",2022,"105457",{"$f":"IFERROR(VLOOKUP(Tabla_SERIED_12_5[[#This Row],[IdEstablecimiento]],'[1]Establecimiento 2023'!$A$1:$E$183,3,FALSE),0)","v":"105457-Posta de Salud Rural San Agustín (Salamanca)"},{"$f":"IFERROR(VLOOKUP(Tabla_SERIED_12_5[[#This Row],[IdEstablecimiento]],'[1]Establecimiento 2023'!$A$1:$E$183,5,FALSE),0)","v":"04204-Salamanca"},"15010400","2022-03-17T09:45:33",2,{"$nulls":6},2]
[{"$nulls":23},4,"5",2022,"105301",{"$f":"IFERROR(VLOOKUP(Tabla_SERIED_12_5[[#This Row],[IdEstablecimiento]],'[1]Establecimiento 2023'!$A$1:$E$183,3,FALSE),0)","v":"105301-Centro de Salud Familiar Las Compañías"},{"$f":"IFERROR(VLOOKUP(Tabla_SERIED_12_5[[#This Row],[IdEstablecimiento]],'[1]Establecimiento 2023'!$A$1:$E$183,5,FALSE),0)","v":"04101-La Serena"},"15030200","2022-05-18T11:49:25",2.7,null,null,2.7]
[{"$nulls":23},4,"5",2022,"105301",{"$f":"IFERROR(VLOOKUP(Tabla_SERIED_12_5[[#This Row],[IdEstablecimiento]],'[1]Establecimiento 2023'!$A$1:$E$183,3,FALSE),0)","v":"105301-Centro de Salud Familiar Las Compañías"},{"$f":"IFERROR(VLOOKUP(Tabla_SERIED_12_5[[#This Row],[IdEstablecimiento]],'[1]Establecimiento 2023'!$A$1:$E$183,5,FALSE),0)","v":"04101-La Serena"},"15901300","2022-05-18T11:49:25",4,2.4,0,0,1.6,0]
[{"$nulls":23},1,"5",2022,"105313",{"$f":"IFERROR(VLOOKUP(Tabla_SERIED_12_5[[#This Row],[IdEstablecimiento]],'[1]Establecimiento 2023'!$A$1:$E$183,3,FALSE),0)","v":"105313-Centro de Salud Familiar Dr. Emilio Schaffhauser"},{"$f":"IFERROR(VLOOKUP(Tabla_SERIED_12_5[[#This Row],[IdEstablecimiento]],'[1]Establecimiento 2023'!$A$1:$E$183,5,FALSE),0)","v":"04101-La Serena"},"15901300","2022-02-16T10:48:14",6800,{"$nulls":4},6800]
[{"$nulls":23},6,"5",2022,"105490",{"$f":"IFERROR(VLOOKUP(Tabla_SERIED_12_5[[#This Row],[IdEstablecimiento]],'[1]Establecimiento 2023'!$A$1:$E$183,3,FALSE),0)","v":"105490-Posta de Salud Rural El Durazno(Combarbalá)"},{"$f":"IFERROR(VLOOKUP(Tabla_SERIED_12_5[[#This Row],[IdEstablecimiento]],'[1]Establecimiento 2023'!$A$1:$E$183,5,FALSE),0)","v":"04302-Combarbalá"},"16090300","2022-07-14T14:33:43",49,74]
[{"$nulls":23},6,"5",2022,"105491",{"$f":"IFERROR(VLOOKUP(Tabla_SERIED_12_5[[#This Row],[IdEstablecimiento]],'[1]Establecimiento 2023'!$A$1:$E$183,3,FALSE),0)","v":"105491-Posta de Salud Rural Quelén Bajo"},{"$f":"IFERROR(VLOOKUP(Tabla_SERIED_12_5[[#This Row],[IdEstablecimiento]],'[1]Establecimiento 2023'!$A$1:$E$183,5,FALSE),0)","v":"04204-Salamanca"},"15010400","2022-07-14T14:33:54",4,{"$nulls":5},2,2]
[{"$nulls":23},2,"5",2022,"105466",{"$f":"IFERROR(VLOOKUP(Tabla_SERIED_12_5[[#This Row],[IdEstablecimiento]],'[1]Establecimiento 2023'!$A$1:$E$183,3,FALSE),0)","v":"105466-Posta de Salud Rural Valle Hermoso"},{"$f":"IFERROR(VLOOKUP(Tabla_SERIED_12_5[[#This Row],[IdEstablecimiento]],'[1]Establecimiento 2023'!$A$1:$E$183,5,FALSE),0)","v":"04302-Combarbalá"},"15080008","2022-03-17T09:49:23",2,{"$nulls":10},1,1]
[{"$nulls":23},2,"5",2022,"105466",{"$f":"IFERROR(VLOOKUP(Tabla_SERIED_12_5[[#This Row],[IdEstablecimiento]],'[1]Establecimiento 2023'!$A$1:$E$183,3,FALSE),0)","v":"105466-Posta de Salud Rural Valle Hermoso"},{"$f":"IFERROR(VLOOKUP(Tabla_SERIED_12_5[[#This Row],[IdEstablecimiento]],'[1]Establecimiento 2023'!$A$1:$E$183,5,FALSE),0)","v":"04302-Combarbalá"},"15900010","2022-03-17T09:49:23",1.6,null,0.8,0.8]
[{"$nulls":23},7,"5",2022,"105452",{"$f":"IFERROR(VLOOKUP(Tabla_SERIED_12_5[[#This Row],[IdEstablecimiento]],'[1]Establecimiento 2023'!$A$1:$E$183,3,FALSE),0)","v":"105452-Posta de Salud Rural Cuncumén(Salamanca)"},{"$f":"IFERROR(VLOOKUP(Tabla_SERIED_12_5[[#This Row],[IdEstablecimiento]],'[1]Establecimiento 2023'!$A$1:$E$183,5,FALSE),0)","v":"04204-Salamanca"},"15010500","2022-08-22T05:58:19",2,{"$nulls":4},2]
[{"$nulls":23},5,"5",2022,"105447",{"$f":"IFERROR(VLOOKUP(Tabla_SERIED_12_5[[#This Row],[IdEstablecimiento]],'[1]Establecimiento 2023'!$A$1:$E$183,3,FALSE),0)","v":"105447-Posta de Salud Rural Peralillo Illapel"},{"$f":"IFERROR(VLOOKUP(Tabla_SERIED_12_5[[#This Row],[IdEstablecimiento]],'[1]Establecimiento 2023'!$A$1:$E$183,5,FALSE),0)","v":"04201-Illapel"},"15050100","2022-06-20T17:18:04",29,11,18,null,1,1,2,4,7,7,4,null,3]
[{"$nulls":23},8,"5",2022,"105413",{"$f":"IFERROR(VLOOKUP(Tabla_SERIED_12_5[[#This Row],[IdEstablecimiento]],'[1]Establecimiento 2023'!$A$1:$E$183,3,FALSE),0)","v":"105413-Posta de Salud Rural Samo Alto"},{"$f":"IFERROR(VLOOKUP(Tabla_SERIED_12_5[[#This Row],[IdEstablecimiento]],'[1]Establecimiento 2023'!$A$1:$E$183,5,FALSE),0)","v":"04305-Río Hurtado"},"15080008","2022-12-20T11:10:11",1,{"$nulls":9},1]
[{"$nulls":23},7,"5",2022,"105411",{"$f":"IFERROR(VLOOKUP(Tabla_SERIED_12_5[[#This Row],[IdEstablecimiento]],'[1]Establecimiento 2023'!$A$1:$E$183,3,FALSE),0)","v":"105411-Posta de Salud Rural Las Breas (Río Hurtado)"},{"$f":"IFERROR(VLOOKUP(Tabla_SERIED_12_5[[#This Row],[IdEstablecimiento]],'[1]Establecimiento 2023'!$A$1:$E$183,5,FALSE),0)","v":"04305-Río Hurtado"},"15900020","2022-08-19T13:09:24",3.2,null,null,3.2]
[{"$nulls":23},4,"5",2022,"105466",{"$f":"IFERROR(VLOOKUP(Tabla_SERIED_12_5[[#This Row],[IdEstablecimiento]],'[1]Establecimiento 2023'!$A$1:$E$183,3,FALSE),0)","v":"105466-Posta de Salud Rural Valle Hermoso"},{"$f":"IFERROR(VLOOKUP(Tabla_SERIED_12_5[[#This Row],[IdEstablecimiento]],'[1]Establecimiento 2023'!$A$1:$E$183,5,FALSE),0)","v":"04302-Combarbalá"},"15010400","2022-05-18T15:11:06",2,{"$nulls":5},2]
[{"$nulls":23},7,"5",2022,"105308",{"$f":"IFERROR(VLOOKUP(Tabla_SERIED_12_5[[#This Row],[IdEstablecimiento]],'[1]Establecimiento 2023'!$A$1:$E$183,3,FALSE),0)","v":"105308-Centro de Salud Familiar Punitaqui"},{"$f":"IFERROR(VLOOKUP(Tabla_SERIED_12_5[[#This Row],[IdEstablecimiento]],'[1]Establecimiento 2023'!$A$1:$E$183,5,FALSE),0)","v":"04304-Punitaqui"},"15050100","2022-08-19T11:59:48",453,190,263,{"$nulls":3},40,66,136,130,59,null,10,null,12]
[{"$nulls":23},8,"5",2022,"105499",{"$f":"IFERROR(VLOOKUP(Tabla_SERIED_12_5[[#This Row],[IdEstablecimiento]],'[1]Establecimiento 2023'!$A$1:$E$183,3,FALSE),0)","v":"105499-Posta de Salud Rural Lambert"},{"$f":"IFERROR(VLOOKUP(Tabla_SERIED_12_5[[#This Row],[IdEstablecimiento]],'[1]Establecimiento 2023'!$A$1:$E$183,5,FALSE),0)","v":"04101-La Serena"},"15050100","2022-09-21T07:57:17",22,6,16,1,1,2,3,null,3,5,6,null,1]
[{"$nulls":23},8,"5",2022,"105499",{"$f":"IFERROR(VLOOKUP(Tabla_SERIED_12_5[[#This Row],[IdEstablecimiento]],'[1]Establecimiento 2023'!$A$1:$E$183,3,FALSE),0)","v":"105499-Posta de Salud Rural Lambert"},{"$f":"IFERROR(VLOOKUP(Tabla_SERIED_12_5[[#This Row],[IdEstablecimiento]],'[1]Establecimiento 2023'!$A$1:$E$183,5,FALSE),0)","v":"04101-La Serena"},"16090300","2022-09-21T07:57:17",13,13]
[{"$nulls":23},5,"5",2022,"105479",{"$f":"IFERROR(VLOOKUP(Tabla_SERIED_12_5[[#This Row],[IdEstablecimiento]],'[1]Establecimiento 2023'!$A$1:$E$183,3,FALSE),0)","v":"105479-Posta de Salud Rural Guangualí"},{"$f":"IFERROR(VLOOKUP(Tabla_SERIED_12_5[[#This Row],[IdEstablecimiento]],'[1]Establecimiento 2023'!$A$1:$E$183,5,FALSE),0)","v":"04203-Los Vilos"},"15010100","2022-06-20T17:23:46",2,{"$nulls":3},2]
[{"$nulls":23},10,"5",2022,"105300",{"$f":"IFERROR(VLOOKUP(Tabla_SERIED_12_5[[#This Row],[IdEstablecimiento]],'[1]Establecimiento 2023'!$A$1:$E$183,3,FALSE),0)","v":"105300-Centro de Salud Familiar Cardenal Caro"},{"$f":"IFERROR(VLOOKUP(Tabla_SERIED_12_5[[#This Row],[IdEstablecimiento]],'[1]Establecimiento 2023'!$A$1:$E$183,5,FALSE),0)","v":"04101-La Serena"},"16090100","2022-11-15T13:30:02",5,5]
[{"$nulls":23},10,"5",2022,"105301",{"$f":"IFERROR(VLOOKUP(Tabla_SERIED_12_5[[#This Row],[IdEstablecimiento]],'[1]Establecimiento 2023'!$A$1:$E$183,3,FALSE),0)","v":"105301-Centro de Salud Familiar Las Compañías"},{"$f":"IFERROR(VLOOKUP(Tabla_SERIED_12_5[[#This Row],[IdEstablecimiento]],'[1]Establecimiento 2023'!$A$1:$E$183,5,FALSE),0)","v":"04101-La Serena"},"15900030","2022-11-15T13:30:15",14.4,0,0,7.2,7.2,0]
[{"$nulls":23},4,"5",2022,"105319",{"$f":"IFERROR(VLOOKUP(Tabla_SERIED_12_5[[#This Row],[IdEstablecimiento]],'[1]Establecimiento 2023'!$A$1:$E$183,3,FALSE),0)","v":"105319-Centro de Salud Familiar Cardenal Raúl Silva Henríquez de La Serena"},{"$f":"IFERROR(VLOOKUP(Tabla_SERIED_12_5[[#This Row],[IdEstablecimiento]],'[1]Establecimiento 2023'!$A$1:$E$183,5,FALSE),0)","v":"04101-La Serena"},"15900050","2022-05-18T11:53:01",8,4,4,1,1,1,2,3]
[{"$nulls":23},3,"5",2022,"105311",{"$f":"IFERROR(VLOOKUP(Tabla_SERIED_12_5[[#This Row],[IdEstablecimiento]],'[1]Establecimiento 2023'!$A$1:$E$183,3,FALSE),0)","v":"105311-Centro de Salud Familiar Chañaral Alto"},{"$f":"IFERROR(VLOOKUP(Tabla_SERIED_12_5[[#This Row],[IdEstablecimiento]],'[1]Establecimiento 2023'!$A$1:$E$183,5,FALSE),0)","v":"04303-Monte Patria"},"16090300","2022-04-19T08:08:42",342,342]
[{"$nulls":23},3,"5",2022,"105312",{"$f":"IFERROR(VLOOKUP(Tabla_SERIED_12_5[[#This Row],[IdEstablecimiento]],'[1]Establecimiento 2023'!$A$1:$E$183,3,FALSE),0)","v":"105312-Centro de Salud Familiar Carén"},{"$f":"IFERROR(VLOOKUP(Tabla_SERIED_12_5[[#This Row],[IdEstablecimiento]],'[1]Establecimiento 2023'!$A$1:$E$183,5,FALSE),0)","v":"04303-Monte Patria"},"15050100","2022-04-19T08:08:53",50,23,27,null,2,2,4,2,16,10,9,null,5]
[{"$nulls":23},10,"5",2022,"105301",{"$f":"IFERROR(VLOOKUP(Tabla_SERIED_12_5[[#This Row],[IdEstablecimiento]],'[1]Establecimiento 2023'!$A$1:$E$183,3,FALSE),0)","v":"105301-Centro de Salud Familiar Las Compañías"},{"$f":"IFERROR(VLOOKUP(Tabla_SERIED_12_5[[#This Row],[IdEstablecimiento]],'[1]Establecimiento 2023'!$A$1:$E$183,5,FALSE),0)","v":"04101-La Serena"},"16200210","2022-11-15T13:30:15",75,75]
[{"$nulls":23},10,"5",2022,"105302",{"$f":"IFERROR(VLOOKUP(Tabla_SERIED_12_5[[#This Row],[IdEstablecimiento]],'[1]Establecimiento 2023'!$A$1:$E$183,3,FALSE),0)","v":"105302-Centro de Salud Familiar Pedro Aguirre Cerda"},{"$f":"IFERROR(VLOOKUP(Tabla_SERIED_12_5[[#This Row],[IdEstablecimiento]],'[1]Establecimiento 2023'!$A$1:$E$183,5,FALSE),0)","v":"04101-La Serena"},"15080008","2022-11-15T13:30:37",255,{"$nulls":7},98,null,126,11,20]
[{"$nulls":23},10,"5",2022,"105302",{"$f":"IFERROR(VLOOKUP(Tabla_SERIED_12_5[[#This Row],[IdEstablecimiento]],'[1]Establecimiento 2023'!$A$1:$E$183,3,FALSE),0)","v":"105302-Centro de Salud Familiar Pedro Aguirre Cerda"},{"$f":"IFERROR(VLOOKUP(Tabla_SERIED_12_5[[#This Row],[IdEstablecimiento]],'[1]Establecimiento 2023'!$A$1:$E$183,5,FALSE),0)","v":"04101-La Serena"},"15080009","2022-11-15T13:30:37",10,{"$nulls":8},3,7]
[{"$nulls":23},3,"5",2022,"105312",{"$f":"IFERROR(VLOOKUP(Tabla_SERIED_12_5[[#This Row],[IdEstablecimiento]],'[1]Establecimiento 2023'!$A$1:$E$183,3,FALSE),0)","v":"105312-Centro de Salud Familiar Carén"},{"$f":"IFERROR(VLOOKUP(Tabla_SERIED_12_5[[#This Row],[IdEstablecimiento]],'[1]Establecimiento 2023'!$A$1:$E$183,5,FALSE),0)","v":"04303-Monte Patria"},"16100300","2022-04-19T08:08:53",23,11,12,1,4]
[{"$nulls":23},3,"5",2022,"105313",{"$f":"IFERROR(VLOOKUP(Tabla_SERIED_12_5[[#This Row],[IdEstablecimiento]],'[1]Establecimiento 2023'!$A$1:$E$183,3,FALSE),0)","v":"105313-Centro de Salud Familiar Dr. Emilio Schaffhauser"},{"$f":"IFERROR(VLOOKUP(Tabla_SERIED_12_5[[#This Row],[IdEstablecimiento]],'[1]Establecimiento 2023'!$A$1:$E$183,5,FALSE),0)","v":"04101-La Serena"},"15080009","2022-04-19T08:09:04",8,{"$nulls":8},3,5]
[{"$nulls":23},8,"5",2022,"105305",{"$f":"IFERROR(VLOOKUP(Tabla_SERIED_12_5[[#This Row],[IdEstablecimiento]],'[1]Establecimiento 2023'!$A$1:$E$183,3,FALSE),0)","v":"105305-Centro de Salud Familiar Tierras Blancas"},{"$f":"IFERROR(VLOOKUP(Tabla_SERIED_12_5[[#This Row],[IdEstablecimiento]],'[1]Establecimiento 2023'!$A$1:$E$183,5,FALSE),0)","v":"04102-Coquimbo"},"15060100","2022-09-21T07:16:01",16,8,8,{"$nulls":3},2,3,3,6,2]
[{"$nulls":23},10,"5",2022,"105447",{"$f":"IFERROR(VLOOKUP(Tabla_SERIED_12_5[[#This Row],[IdEstablecimiento]],'[1]Establecimiento 2023'!$A$1:$E$183,3,FALSE),0)","v":"105447-Posta de Salud Rural Peralillo Illapel"},{"$f":"IFERROR(VLOOKUP(Tabla_SERIED_12_5[[#This Row],[IdEstablecimiento]],'[1]Establecimiento 2023'!$A$1:$E$183,5,FALSE),0)","v":"04201-Illapel"},"15080008","2022-11-15T13:48:53",4,{"$nulls":7},2,null,2]
[{"$nulls":23},10,"5",2022,"105448",{"$f":"IFERROR(VLOOKUP(Tabla_SERIED_12_5[[#This Row],[IdEstablecimiento]],'[1]Establecimiento 2023'!$A$1:$E$183,3,FALSE),0)","v":"105448-Posta de Salud Rural Santa Virginia"},{"$f":"IFERROR(VLOOKUP(Tabla_SERIED_12_5[[#This Row],[IdEstablecimiento]],'[1]Establecimiento 2023'!$A$1:$E$183,5,FALSE),0)","v":"04201-Illapel"},"15010300","2022-11-15T13:49:07",2,{"$nulls":3},2]
[{"$nulls":23},10,"5",2022,"105448",{"$f":"IFERROR(VLOOKUP(Tabla_SERIED_12_5[[#This Row],[IdEstablecimiento]],'[1]Establecimiento 2023'!$A$1:$E$183,3,FALSE),0)","v":"105448-Posta de Salud Rural Santa Virginia"},{"$f":"IFERROR(VLOOKUP(Tabla_SERIED_12_5[[#This Row],[IdEstablecimiento]],'[1]Establecimiento 2023'!$A$1:$E$183,5,FALSE),0)","v":"04201-Illapel"},"16200220","2022-11-15T13:49:07",10,5,5]
[{"$nulls":23},10,"5",2022,"105449",{"$f":"IFERROR(VLOOKUP(Tabla_SERIED_12_5[[#This Row],[IdEstablecimiento]],'[1]Establecimiento 2023'!$A$1:$E$183,3,FALSE),0)","v":"105449-Posta de Salud Rural Tunga Norte"},{"$f":"IFERROR(VLOOKUP(Tabla_SERIED_12_5[[#This Row],[IdEstablecimiento]],'[1]Establecimiento 2023'!$A$1:$E$183,5,FALSE),0)","v":"04201-Illapel"},"15010200","2022-11-15T13:49:19",2,{"$nulls":6},2]
[{"$nulls":23},10,"5",2022,"105450",{"$f":"IFERROR(VLOOKUP(Tabla_SERIED_12_5[[#This Row],[IdEstablecimiento]],'[1]Establecimiento 2023'!$A$1:$E$183,3,FALSE),0)","v":"105450-Posta de Salud Rural Mincha Norte"},{"$f":"IFERROR(VLOOKUP(Tabla_SERIED_12_5[[#This Row],[IdEstablecimiento]],'[1]Establecimiento 2023'!$A$1:$E$183,5,FALSE),0)","v":"04202-Canela"},"15050100","2022-11-15T13:49:32",9,5,4,{"$nulls":5},5,4]
[{"$nulls":23},10,"5",2022,"105451",{"$f":"IFERROR(VLOOKUP(Tabla_SERIED_12_5[[#This Row],[IdEstablecimiento]],'[1]Establecimiento 2023'!$A$1:$E$183,3,FALSE),0)","v":"105451-Posta de Salud Rural Agua Fría"},{"$f":"IFERROR(VLOOKUP(Tabla_SERIED_12_5[[#This Row],[IdEstablecimiento]],'[1]Establecimiento 2023'!$A$1:$E$183,5,FALSE),0)","v":"04202-Canela"},"16200220","2022-11-15T13:49:47",3,2,1,0,0]
[{"$nulls":23},10,"5",2022,"105452",{"$f":"IFERROR(VLOOKUP(Tabla_SERIED_12_5[[#This Row],[IdEstablecimiento]],'[1]Establecimiento 2023'!$A$1:$E$183,3,FALSE),0)","v":"105452-Posta de Salud Rural Cuncumén(Salamanca)"},{"$f":"IFERROR(VLOOKUP(Tabla_SERIED_12_5[[#This Row],[IdEstablecimiento]],'[1]Establecimiento 2023'!$A$1:$E$183,5,FALSE),0)","v":"04204-Salamanca"},"15010400","2022-11-15T13:50:02",2,{"$nulls":4},2]
[{"$nulls":23},10,"5",2022,"200258",{"$f":"IFERROR(VLOOKUP(Tabla_SERIED_12_5[[#This Row],[IdEstablecimiento]],'[1]Establecimiento 2023'!$A$1:$E$183,3,FALSE),0)","v":"200258-Centro Comunitario de Salud Familiar Los Copihues"},{"$f":"IFERROR(VLOOKUP(Tabla_SERIED_12_5[[#This Row],[IdEstablecimiento]],'[1]Establecimiento 2023'!$A$1:$E$183,5,FALSE),0)","v":"04301-Ovalle"},"15050100","2022-12-20T11:15:22",66,29,37,null,null,6,4,7,12,20,10,null,4,null,3]
[{"$nulls":23},10,"5",2022,"200258",{"$f":"IFERROR(VLOOKUP(Tabla_SERIED_12_5[[#This Row],[IdEstablecimiento]],'[1]Establecimiento 2023'!$A$1:$E$183,3,FALSE),0)","v":"200258-Centro Comunitario de Salud Familiar Los Copihues"},{"$f":"IFERROR(VLOOKUP(Tabla_SERIED_12_5[[#This Row],[IdEstablecimiento]],'[1]Establecimiento 2023'!$A$1:$E$183,5,FALSE),0)","v":"04301-Ovalle"},"16090300","2022-12-20T11:15:22",111,111]
[{"$nulls":23},10,"5",2022,"200273",{"$f":"IFERROR(VLOOKUP(Tabla_SERIED_12_5[[#This Row],[IdEstablecimiento]],'[1]Establecimiento 2023'!$A$1:$E$183,3,FALSE),0)","v":"200273-Centro Comunitario de Salud Familiar Punta Mira"},{"$f":"IFERROR(VLOOKUP(Tabla_SERIED_12_5[[#This Row],[IdEstablecimiento]],'[1]Establecimiento 2023'!$A$1:$E$183,5,FALSE),0)","v":"04102-Coquimbo"},"15050200","2022-11-15T14:16:13",3,null,3,{"$nulls":3},1,null,1,1]
[{"$nulls":23},10,"5",2022,"200366",{"$f":"IFERROR(VLOOKUP(Tabla_SERIED_12_5[[#This Row],[IdEstablecimiento]],'[1]Establecimiento 2023'!$A$1:$E$183,3,FALSE),0)","v":"200366-Centro de Salud Familiar Urbano de Illapel"},{"$f":"IFERROR(VLOOKUP(Tabla_SERIED_12_5[[#This Row],[IdEstablecimiento]],'[1]Establecimiento 2023'!$A$1:$E$183,5,FALSE),0)","v":"04201-Illapel"},"15010200","2022-11-15T14:16:27",380,{"$nulls":4},72,160,148]
[{"$nulls":23},10,"5",2022,"200366",{"$f":"IFERROR(VLOOKUP(Tabla_SERIED_12_5[[#This Row],[IdEstablecimiento]],'[1]Establecimiento 2023'!$A$1:$E$183,3,FALSE),0)","v":"200366-Centro de Salud Familiar Urbano de Illapel"},{"$f":"IFERROR(VLOOKUP(Tabla_SERIED_12_5[[#This Row],[IdEstablecimiento]],'[1]Establecimiento 2023'!$A$1:$E$183,5,FALSE),0)","v":"04201-Illapel"},"15080008","2022-11-15T14:16:27",51,{"$nulls":7},30,null,14,3,4]
[{"$nulls":23},10,"5",2022,"200366",{"$f":"IFERROR(VLOOKUP(Tabla_SERIED_12_5[[#This Row],[IdEstablecimiento]],'[1]Establecimiento 2023'!$A$1:$E$183,3,FALSE),0)","v":"200366-Centro de Salud Familiar Urbano de Illapel"},{"$f":"IFERROR(VLOOKUP(Tabla_SERIED_12_5[[#This Row],[IdEstablecimiento]],'[1]Establecimiento 2023'!$A$1:$E$183,5,FALSE),0)","v":"04201-Illapel"},"15050100","2022-11-15T14:16:27",294,122,172,2,6,13,38,36,80,75,30,null,7,3,4]
[{"$nulls":23},9,"5",2022,"105313",{"$f":"IFERROR(VLOOKUP(Tabla_SERIED_12_5[[#This Row],[IdEstablecimiento]],'[1]Establecimiento 2023'!$A$1:$E$183,3,FALSE),0)","v":"105313-Centro de Salud Familiar Dr. Emilio Schaffhauser"},{"$f":"IFERROR(VLOOKUP(Tabla_SERIED_12_5[[#This Row],[IdEstablecimiento]],'[1]Establecimiento 2023'!$A$1:$E$183,5,FALSE),0)","v":"04101-La Serena"},"16090600","2022-11-15T14:25:39",1,1]
[{"$nulls":23},9,"5",2022,"105314",{"$f":"IFERROR(VLOOKUP(Tabla_SERIED_12_5[[#This Row],[IdEstablecimiento]],'[1]Establecimiento 2023'!$A$1:$E$183,3,FALSE),0)","v":"105314-Centro de Salud Familiar La Higuera"},{"$f":"IFERROR(VLOOKUP(Tabla_SERIED_12_5[[#This Row],[IdEstablecimiento]],'[1]Establecimiento 2023'!$A$1:$E$183,5,FALSE),0)","v":"04104-La Higuera"},"15010200","2022-11-15T14:25:54",28,{"$nulls":4},8,14,6]
[{"$nulls":23},10,"5",2022,"105300",{"$f":"IFERROR(VLOOKUP(Tabla_SERIED_12_5[[#This Row],[IdEstablecimiento]],'[1]Establecimiento 2023'!$A$1:$E$183,3,FALSE),0)","v":"105300-Centro de Salud Familiar Cardenal Caro"},{"$f":"IFERROR(VLOOKUP(Tabla_SERIED_12_5[[#This Row],[IdEstablecimiento]],'[1]Establecimiento 2023'!$A$1:$E$183,5,FALSE),0)","v":"04101-La Serena"},"15080008","2022-11-15T13:30:02",203,{"$nulls":7},97,null,66,15,25]
[{"$nulls":23},10,"5",2022,"105300",{"$f":"IFERROR(VLOOKUP(Tabla_SERIED_12_5[[#This Row],[IdEstablecimiento]],'[1]Establecimiento 2023'!$A$1:$E$183,3,FALSE),0)","v":"105300-Centro de Salud Familiar Cardenal Caro"},{"$f":"IFERROR(VLOOKUP(Tabla_SERIED_12_5[[#This Row],[IdEstablecimiento]],'[1]Establecimiento 2023'!$A$1:$E$183,5,FALSE),0)","v":"04101-La Serena"},"15900050","2022-11-15T13:30:02",4,1,3,null,1,1,2]
[{"$nulls":23},4,"5",2022,"105456",{"$f":"IFERROR(VLOOKUP(Tabla_SERIED_12_5[[#This Row],[IdEstablecimiento]],'[1]Establecimiento 2023'!$A$1:$E$183,3,FALSE),0)","v":"105456-Posta de Salud Rural Llimpo"},{"$f":"IFERROR(VLOOKUP(Tabla_SERIED_12_5[[#This Row],[IdEstablecimiento]],'[1]Establecimiento 2023'!$A$1:$E$183,5,FALSE),0)","v":"04204-Salamanca"},"16200220","2022-05-18T15:05:18",1,1]
[{"$nulls":23},3,"5",2022,"105317",{"$f":"IFERROR(VLOOKUP(Tabla_SERIED_12_5[[#This Row],[IdEstablecimiento]],'[1]Establecimiento 2023'!$A$1:$E$183,3,FALSE),0)","v":"105317-Centro de Salud Familiar Jorge Jordán Domic"},{"$f":"IFERROR(VLOOKUP(Tabla_SERIED_12_5[[#This Row],[IdEstablecimiento]],'[1]Establecimiento 2023'!$A$1:$E$183,5,FALSE),0)","v":"04301-Ovalle"},"16200220","2022-04-19T08:10:01",77,25,52,5,7]
[{"$nulls":23},3,"5",2022,"105317",{"$f":"IFERROR(VLOOKUP(Tabla_SERIED_12_5[[#This Row],[IdEstablecimiento]],'[1]Establecimiento 2023'!$A$1:$E$183,3,FALSE),0)","v":"105317-Centro de Salud Familiar Jorge Jordán Domic"},{"$f":"IFERROR(VLOOKUP(Tabla_SERIED_12_5[[#This Row],[IdEstablecimiento]],'[1]Establecimiento 2023'!$A$1:$E$183,5,FALSE),0)","v":"04301-Ovalle"},"16200100","2022-04-19T08:10:01",38,25,13,0,9]
[{"$nulls":23},2,"5",2022,"105108",{"$f":"IFERROR(VLOOKUP(Tabla_SERIED_12_5[[#This Row],[IdEstablecimiento]],'[1]Establecimiento 2023'!$A$1:$E$183,3,FALSE),0)","v":"105108-Hospital San Pedro (Los Vilos)"},{"$f":"IFERROR(VLOOKUP(Tabla_SERIED_12_5[[#This Row],[IdEstablecimiento]],'[1]Establecimiento 2023'!$A$1:$E$183,5,FALSE),0)","v":"105108-Hospital Los Vilos"},"15900010","2022-05-18T15:45:44",69.6,4.8,5.6,59.2]
[{"$nulls":23},3,"5",2022,"105414",{"$f":"IFERROR(VLOOKUP(Tabla_SERIED_12_5[[#This Row],[IdEstablecimiento]],'[1]Establecimiento 2023'!$A$1:$E$183,3,FALSE),0)","v":"105414-Posta de Salud Rural Serón"},{"$f":"IFERROR(VLOOKUP(Tabla_SERIED_12_5[[#This Row],[IdEstablecimiento]],'[1]Establecimiento 2023'!$A$1:$E$183,5,FALSE),0)","v":"04305-Río Hurtado"},"15010500","2022-04-19T08:17:00",2,{"$nulls":6},2]
[{"$nulls":23},1,"5",2022,"105104",{"$f":"IFERROR(VLOOKUP(Tabla_SERIED_12_5[[#This Row],[IdEstablecimiento]],'[1]Establecimiento 2023'!$A$1:$E$183,3,FALSE),0)","v":"105104-Hospital de Salamanca"},{"$f":"IFERROR(VLOOKUP(Tabla_SERIED_12_5[[#This Row],[IdEstablecimiento]],'[1]Establecimiento 2023'!$A$1:$E$183,5,FALSE),0)","v":"105104-Hospital Salamanca"},"15030100","2022-02-16T10:28:29",6.4,3.2,0,3.2]
[{"$nulls":23},3,"5",2022,"105456",{"$f":"IFERROR(VLOOKUP(Tabla_SERIED_12_5[[#This Row],[IdEstablecimiento]],'[1]Establecimiento 2023'!$A$1:$E$183,3,FALSE),0)","v":"105456-Posta de Salud Rural Llimpo"},{"$f":"IFERROR(VLOOKUP(Tabla_SERIED_12_5[[#This Row],[IdEstablecimiento]],'[1]Establecimiento 2023'!$A$1:$E$183,5,FALSE),0)","v":"04204-Salamanca"},"16200220","2022-04-19T09:50:20",1,1]
[{"$nulls":23},5,"5",2022,"105415",{"$f":"IFERROR(VLOOKUP(Tabla_SERIED_12_5[[#This Row],[IdEstablecimiento]],'[1]Establecimiento 2023'!$A$1:$E$183,3,FALSE),0)","v":"105415-Posta de Salud Rural Barraza"},{"$f":"IFERROR(VLOOKUP(Tabla_SERIED_12_5[[#This Row],[IdEstablecimiento]],'[1]Establecimiento 2023'!$A$1:$E$183,5,FALSE),0)","v":"04301-Ovalle"},"15010200","2022-06-20T17:11:12",44,{"$nulls":4},4,18,22]
[{"$nulls":23},7,"5",2022,"105499",{"$f":"IFERROR(VLOOKUP(Tabla_SERIED_12_5[[#This Row],[IdEstablecimiento]],'[1]Establecimiento 2023'!$A$1:$E$183,3,FALSE),0)","v":"105499-Posta de Salud Rural Lambert"},{"$f":"IFERROR(VLOOKUP(Tabla_SERIED_12_5[[#This Row],[IdEstablecimiento]],'[1]Establecimiento 2023'!$A$1:$E$183,5,FALSE),0)","v":"04101-La Serena"},"16090300","2022-08-22T06:35:45",15,15]
[{"$nulls":23},5,"5",2022,"105472",{"$f":"IFERROR(VLOOKUP(Tabla_SERIED_12_5[[#This Row],[IdEstablecimiento]],'[1]Establecimiento 2023'!$A$1:$E$183,3,FALSE),0)","v":"105472-Posta de Salud Rural Rivadavia"},{"$f":"IFERROR(VLOOKUP(Tabla_SERIED_12_5[[#This Row],[IdEstablecimiento]],'[1]Establecimiento 2023'!$A$1:$E$183,5,FALSE),0)","v":"04106-Vicuña"},"15010300","2022-06-20T17:22:32",2,{"$nulls":3},2]
[{"$nulls":23},5,"5",2022,"105472",{"$f":"IFERROR(VLOOKUP(Tabla_SERIED_12_5[[#This Row],[IdEstablecimiento]],'[1]Establecimiento 2023'!$A$1:$E$183,3,FALSE),0)","v":"105472-Posta de Salud Rural Rivadavia"},{"$f":"IFERROR(VLOOKUP(Tabla_SERIED_12_5[[#This Row],[IdEstablecimiento]],'[1]Establecimiento 2023'!$A$1:$E$183,5,FALSE),0)","v":"04106-Vicuña"},"15010500","2022-06-20T17:22:32",2,{"$nulls":3},2]
[{"$nulls":23},1,"5",2022,"105476",{"$f":"IFERROR(VLOOKUP(Tabla_SERIED_12_5[[#This Row],[IdEstablecimiento]],'[1]Establecimiento 2023'!$A$1:$E$183,3,FALSE),0)","v":"105476-Posta de Salud Rural Monte Grande"},{"$f":"IFERROR(VLOOKUP(Tabla_SERIED_12_5[[#This Row],[IdEstablecimiento]],'[1]Establecimiento 2023'!$A$1:$E$183,5,FALSE),0)","v":"04105-Paiguano"},"16100300","2022-02-17T03:54:58",10,4,6,0,11]
[{"$nulls":23},1,"5",2022,"105477",{"$f":"IFERROR(VLOOKUP(Tabla_SERIED_12_5[[#This Row],[IdEstablecimiento]],'[1]Establecimiento 2023'!$A$1:$E$183,3,FALSE),0)","v":"105477-Posta de Salud Rural Pisco Elqui"},{"$f":"IFERROR(VLOOKUP(Tabla_SERIED_12_5[[#This Row],[IdEstablecimiento]],'[1]Establecimiento 2023'!$A$1:$E$183,5,FALSE),0)","v":"04105-Paiguano"},"16200210","2022-02-17T03:55:16",1,1]
[{"$nulls":23},10,"5",2022,"105302",{"$f":"IFERROR(VLOOKUP(Tabla_SERIED_12_5[[#This Row],[IdEstablecimiento]],'[1]Establecimiento 2023'!$A$1:$E$183,3,FALSE),0)","v":"105302-Centro de Salud Familiar Pedro Aguirre Cerda"},{"$f":"IFERROR(VLOOKUP(Tabla_SERIED_12_5[[#This Row],[IdEstablecimiento]],'[1]Establecimiento 2023'!$A$1:$E$183,5,FALSE),0)","v":"04101-La Serena"},"15901400","2022-11-15T13:30:37",3,2,1,null,null,1,1,1]
[{"$nulls":23},10,"5",2022,"105303",{"$f":"IFERROR(VLOOKUP(Tabla_SERIED_12_5[[#This Row],[IdEstablecimiento]],'[1]Establecimiento 2023'!$A$1:$E$183,3,FALSE),0)","v":"105303-Centro de Salud Familiar San Juan"},{"$f":"IFERROR(VLOOKUP(Tabla_SERIED_12_5[[#This Row],[IdEstablecimiento]],'[1]Establecimiento 2023'!$A$1:$E$183,5,FALSE),0)","v":"04102-Coquimbo"},"15080008","2022-11-15T13:30:52",153,{"$nulls":7},74,null,48,22,9]
[{"$nulls":23},10,"5",2022,"105452",{"$f":"IFERROR(VLOOKUP(Tabla_SERIED_12_5[[#This Row],[IdEstablecimiento]],'[1]Establecimiento 2023'!$A$1:$E$183,3,FALSE),0)","v":"105452-Posta de Salud Rural Cuncumén(Salamanca)"},{"$f":"IFERROR(VLOOKUP(Tabla_SERIED_12_5[[#This Row],[IdEstablecimiento]],'[1]Establecimiento 2023'!$A$1:$E$183,5,FALSE),0)","v":"04204-Salamanca"},"16200220","2022-11-15T13:50:02",1,1]
[{"$nulls":23},10,"5",2022,"105453",{"$f":"IFERROR(VLOOKUP(Tabla_SERIED_12_5[[#This Row],[IdEstablecimiento]],'[1]Establecimiento 2023'!$A$1:$E$183,3,FALSE),0)","v":"105453-Posta de Salud Rural Tranquilla"},{"$f":"IFERROR(VLOOKUP(Tabla_SERIED_12_5[[#This Row],[IdEstablecimiento]],'[1]Establecimiento 2023'!$A$1:$E$183,5,FALSE),0)","v":"04204-Salamanca"},"15050200","2022-11-15T13:50:14",1,1,{"$nulls":3},1]
[{"$nulls":23},10,"5",2022,"200366",{"$f":"IFERROR(VLOOKUP(Tabla_SERIED_12_5[[#This Row],[IdEstablecimiento]],'[1]Establecimiento 2023'!$A$1:$E$183,3,FALSE),0)","v":"200366-Centro de Salud Familiar Urbano de Illapel"},{"$f":"IFERROR(VLOOKUP(Tabla_SERIED_12_5[[#This Row],[IdEstablecimiento]],'[1]Establecimiento 2023'!$A$1:$E$183,5,FALSE),0)","v":"04201-Illapel"},"16100100","2022-11-15T14:16:27",8,3,5,0,1]
[{"$nulls":23},10,"5",2022,"200366",{"$f":"IFERROR(VLOOKUP(Tabla_SERIED_12_5[[#This Row],[IdEstablecimiento]],'[1]Establecimiento 2023'!$A$1:$E$183,3,FALSE),0)","v":"200366-Centro de Salud Familiar Urbano de Illapel"},{"$f":"IFERROR(VLOOKUP(Tabla_SERIED_12_5[[#This Row],[IdEstablecimiento]],'[1]Establecimiento 2023'!$A$1:$E$183,5,FALSE),0)","v":"04201-Illapel"},"16200100","2022-11-15T14:16:27",21,15,6,0,7]
[{"$nulls":23},10,"5",2022,"200367",{"$f":"IFERROR(VLOOKUP(Tabla_SERIED_12_5[[#This Row],[IdEstablecimiento]],'[1]Establecimiento 2023'!$A$1:$E$183,3,FALSE),0)","v":"200367-Centro Comunitario de Salud Familiar Colonia Limarí"},{"$f":"IFERROR(VLOOKUP(Tabla_SERIED_12_5[[#This Row],[IdEstablecimiento]],'[1]Establecimiento 2023'!$A$1:$E$183,5,FALSE),0)","v":"04301-Ovalle"},"16090300","2022-11-15T14:16:40",157,157]
[{"$nulls":23},9,"5",2022,"105317",{"$f":"IFERROR(VLOOKUP(Tabla_SERIED_12_5[[#This Row],[IdEstablecimiento]],'[1]Establecimiento 2023'!$A$1:$E$183,3,FALSE),0)","v":"105317-Centro de Salud Familiar Jorge Jordán Domic"},{"$f":"IFERROR(VLOOKUP(Tabla_SERIED_12_5[[#This Row],[IdEstablecimiento]],'[1]Establecimiento 2023'!$A$1:$E$183,5,FALSE),0)","v":"04301-Ovalle"},"15900020","2022-11-15T14:29:44",3.6,null,null,3.6]
[{"$nulls":23},9,"5",2022,"105452",{"$f":"IFERROR(VLOOKUP(Tabla_SERIED_12_5[[#This Row],[IdEstablecimiento]],'[1]Establecimiento 2023'!$A$1:$E$183,3,FALSE),0)","v":"105452-Posta de Salud Rural Cuncumén(Salamanca)"},{"$f":"IFERROR(VLOOKUP(Tabla_SERIED_12_5[[#This Row],[IdEstablecimiento]],'[1]Establecimiento 2023'!$A$1:$E$183,5,FALSE),0)","v":"04204-Salamanca"},"15010500","2022-11-15T14:43:04",2,{"$nulls":4},2]
[{"$nulls":23},9,"5",2022,"105453",{"$f":"IFERROR(VLOOKUP(Tabla_SERIED_12_5[[#This Row],[IdEstablecimiento]],'[1]Establecimiento 2023'!$A$1:$E$183,3,FALSE),0)","v":"105453-Posta de Salud Rural Tranquilla"},{"$f":"IFERROR(VLOOKUP(Tabla_SERIED_12_5[[#This Row],[IdEstablecimiento]],'[1]Establecimiento 2023'!$A$1:$E$183,5,FALSE),0)","v":"04204-Salamanca"},"15080008","2022-11-15T14:43:13",2,{"$nulls":7},2]
[{"$nulls":23},9,"5",2022,"105722",{"$f":"IFERROR(VLOOKUP(Tabla_SERIED_12_5[[#This Row],[IdEstablecimiento]],'[1]Establecimiento 2023'!$A$1:$E$183,3,FALSE),0)","v":"105722-Centro Comunitario de Salud Familiar San José de la Dehesa"},{"$f":"IFERROR(VLOOKUP(Tabla_SERIED_12_5[[#This Row],[IdEstablecimiento]],'[1]Establecimiento 2023'!$A$1:$E$183,5,FALSE),0)","v":"04301-Ovalle"},"15050200","2022-11-15T14:58:15",4,2,2,null,null,1,null,null,1,2]
[{"$nulls":23},9,"5",2022,"105723",{"$f":"IFERROR(VLOOKUP(Tabla_SERIED_12_5[[#This Row],[IdEstablecimiento]],'[1]Establecimiento 2023'!$A$1:$E$183,3,FALSE),0)","v":"105723-Centro Comunitario de Salud Familiar Limarí"},{"$f":"IFERROR(VLOOKUP(Tabla_SERIED_12_5[[#This Row],[IdEstablecimiento]],'[1]Establecimiento 2023'!$A$1:$E$183,5,FALSE),0)","v":"04301-Ovalle"},"15900010","2022-11-15T14:58:32",18.9,3.6,6.3,9]
[{"$nulls":23},9,"5",2022,"105723",{"$f":"IFERROR(VLOOKUP(Tabla_SERIED_12_5[[#This Row],[IdEstablecimiento]],'[1]Establecimiento 2023'!$A$1:$E$183,3,FALSE),0)","v":"105723-Centro Comunitario de Salud Familiar Limarí"},{"$f":"IFERROR(VLOOKUP(Tabla_SERIED_12_5[[#This Row],[IdEstablecimiento]],'[1]Establecimiento 2023'!$A$1:$E$183,5,FALSE),0)","v":"04301-Ovalle"},"15060100","2022-11-15T14:58:32",1,1,{"$nulls":5},1]
[{"$nulls":23},9,"5",2022,"200258",{"$f":"IFERROR(VLOOKUP(Tabla_SERIED_12_5[[#This Row],[IdEstablecimiento]],'[1]Establecimiento 2023'!$A$1:$E$183,3,FALSE),0)","v":"200258-Centro Comunitario de Salud Familiar Los Copihues"},{"$f":"IFERROR(VLOOKUP(Tabla_SERIED_12_5[[#This Row],[IdEstablecimiento]],'[1]Establecimiento 2023'!$A$1:$E$183,5,FALSE),0)","v":"04301-Ovalle"},"15010200","2022-11-15T14:58:54",79,{"$nulls":4},12,32,35]
[{"$nulls":23},9,"5",2022,"200258",{"$f":"IFERROR(VLOOKUP(Tabla_SERIED_12_5[[#This Row],[IdEstablecimiento]],'[1]Establecimiento 2023'!$A$1:$E$183,3,FALSE),0)","v":"200258-Centro Comunitario de Salud Familiar Los Copihues"},{"$f":"IFERROR(VLOOKUP(Tabla_SERIED_12_5[[#This Row],[IdEstablecimiento]],'[1]Establecimiento 2023'!$A$1:$E$183,5,FALSE),0)","v":"04301-Ovalle"},"15010500","2022-11-15T14:58:54",2,{"$nulls":4},2]
[{"$nulls":23},9,"5",2022,"200258",{"$f":"IFERROR(VLOOKUP(Tabla_SERIED_12_5[[#This Row],[IdEstablecimiento]],'[1]Establecimiento 2023'!$A$1:$E$183,3,FALSE),0)","v":"200258-Centro Comunitario de Salud Familiar Los Copihues"},{"$f":"IFERROR(VLOOKUP(Tabla_SERIED_12_5[[#This Row],[IdEstablecimiento]],'[1]Establecimiento 2023'!$A$1:$E$183,5,FALSE),0)","v":"04301-Ovalle"},"16090300","2022-11-15T14:58:54",112,112]
[{"$nulls":23},9,"5",2022,"200273",{"$f":"IFERROR(VLOOKUP(Tabla_SERIED_12_5[[#This Row],[IdEstablecimiento]],'[1]Establecimiento 2023'!$A$1:$E$183,3,FALSE),0)","v":"200273-Centro Comunitario de Salud Familiar Punta Mira"},{"$f":"IFERROR(VLOOKUP(Tabla_SERIED_12_5[[#This Row],[IdEstablecimiento]],'[1]Establecimiento 2023'!$A$1:$E$183,5,FALSE),0)","v":"04102-Coquimbo"},"15010500","2022-11-15T14:59:05",8,null,null,2,null,2,2,2]
[{"$nulls":23},9,"5",2022,"200273",{"$f":"IFERROR(VLOOKUP(Tabla_SERIED_12_5[[#This Row],[IdEstablecimiento]],'[1]Establecimiento 2023'!$A$1:$E$183,3,FALSE),0)","v":"200273-Centro Comunitario de Salud Familiar Punta Mira"},{"$f":"IFERROR(VLOOKUP(Tabla_SERIED_12_5[[#This Row],[IdEstablecimiento]],'[1]Establecimiento 2023'!$A$1:$E$183,5,FALSE),0)","v":"04102-Coquimbo"},"16200220","2022-11-15T14:59:05",1,1]
[{"$nulls":23},9,"5",2022,"200366",{"$f":"IFERROR(VLOOKUP(Tabla_SERIED_12_5[[#This Row],[IdEstablecimiento]],'[1]Establecimiento 2023'!$A$1:$E$183,3,FALSE),0)","v":"200366-Centro de Salud Familiar Urbano de Illapel"},{"$f":"IFERROR(VLOOKUP(Tabla_SERIED_12_5[[#This Row],[IdEstablecimiento]],'[1]Establecimiento 2023'!$A$1:$E$183,5,FALSE),0)","v":"04201-Illapel"},"15030200","2022-11-15T14:59:19",3.6,null,null,3.6]
[{"$nulls":23},9,"5",2022,"200366",{"$f":"IFERROR(VLOOKUP(Tabla_SERIED_12_5[[#This Row],[IdEstablecimiento]],'[1]Establecimiento 2023'!$A$1:$E$183,3,FALSE),0)","v":"200366-Centro de Salud Familiar Urbano de Illapel"},{"$f":"IFERROR(VLOOKUP(Tabla_SERIED_12_5[[#This Row],[IdEstablecimiento]],'[1]Establecimiento 2023'!$A$1:$E$183,5,FALSE),0)","v":"04201-Illapel"},"15901400","2022-11-15T14:59:19",1,0,1,null,null,1]
[{"$nulls":23},9,"5",2022,"200366",{"$f":"IFERROR(VLOOKUP(Tabla_SERIED_12_5[[#This Row],[IdEstablecimiento]],'[1]Establecimiento 2023'!$A$1:$E$183,3,FALSE),0)","v":"200366-Centro de Salud Familiar Urbano de Illapel"},{"$f":"IFERROR(VLOOKUP(Tabla_SERIED_12_5[[#This Row],[IdEstablecimiento]],'[1]Establecimiento 2023'!$A$1:$E$183,5,FALSE),0)","v":"04201-Illapel"},"16200100","2022-11-15T14:59:19",21,15,6,0,5]
[{"$nulls":23},9,"5",2022,"105464",{"$f":"IFERROR(VLOOKUP(Tabla_SERIED_12_5[[#This Row],[IdEstablecimiento]],'[1]Establecimiento 2023'!$A$1:$E$183,3,FALSE),0)","v":"105464-Posta de Salud Rural La Ligua"},{"$f":"IFERROR(VLOOKUP(Tabla_SERIED_12_5[[#This Row],[IdEstablecimiento]],'[1]Establecimiento 2023'!$A$1:$E$183,5,FALSE),0)","v":"04302-Combarbalá"},"15080008","2022-11-15T14:45:09",4,{"$nulls":9},2,null,2]
[{"$nulls":23},9,"5",2022,"105464",{"$f":"IFERROR(VLOOKUP(Tabla_SERIED_12_5[[#This Row],[IdEstablecimiento]],'[1]Establecimiento 2023'!$A$1:$E$183,3,FALSE),0)","v":"105464-Posta de Salud Rural La Ligua"},{"$f":"IFERROR(VLOOKUP(Tabla_SERIED_12_5[[#This Row],[IdEstablecimiento]],'[1]Establecimiento 2023'!$A$1:$E$183,5,FALSE),0)","v":"04302-Combarbalá"},"16200100","2022-11-15T14:45:09",4,2,2]
[{"$nulls":23},9,"5",2022,"105466",{"$f":"IFERROR(VLOOKUP(Tabla_SERIED_12_5[[#This Row],[IdEstablecimiento]],'[1]Establecimiento 2023'!$A$1:$E$183,3,FALSE),0)","v":"105466-Posta de Salud Rural Valle Hermoso"},{"$f":"IFERROR(VLOOKUP(Tabla_SERIED_12_5[[#This Row],[IdEstablecimiento]],'[1]Establecimiento 2023'!$A$1:$E$183,5,FALSE),0)","v":"04302-Combarbalá"},"15050100","2022-11-15T14:45:31",11,6,5,{"$nulls":3},4,1,2,4]
[{"$nulls":23},9,"5",2022,"105467",{"$f":"IFERROR(VLOOKUP(Tabla_SERIED_12_5[[#This Row],[IdEstablecimiento]],'[1]Establecimiento 2023'!$A$1:$E$183,3,FALSE),0)","v":"105467-Posta de Salud Rural Diaguitas"},{"$f":"IFERROR(VLOOKUP(Tabla_SERIED_12_5[[#This Row],[IdEstablecimiento]],'[1]Establecimiento 2023'!$A$1:$E$183,5,FALSE),0)","v":"04106-Vicuña"},"15010400","2022-11-15T14:45:41",2,{"$nulls":6},2]
[{"$nulls":23},4,"5",2022,"105485",{"$f":"IFERROR(VLOOKUP(Tabla_SERIED_12_5[[#This Row],[IdEstablecimiento]],'[1]Establecimiento 2023'!$A$1:$E$183,3,FALSE),0)","v":"105485-Posta de Salud Rural Plan de Hornos"},{"$f":"IFERROR(VLOOKUP(Tabla_SERIED_12_5[[#This Row],[IdEstablecimiento]],'[1]Establecimiento 2023'!$A$1:$E$183,5,FALSE),0)","v":"04201-Illapel"},"15010100","2022-05-18T15:15:30",2,{"$nulls":3},2]
[{"$nulls":23},7,"5",2022,"105318",{"$f":"IFERROR(VLOOKUP(Tabla_SERIED_12_5[[#This Row],[IdEstablecimiento]],'[1]Establecimiento 2023'!$A$1:$E$183,3,FALSE),0)","v":"105318-Centro de Salud Familiar El Palqui"},{"$f":"IFERROR(VLOOKUP(Tabla_SERIED_12_5[[#This Row],[IdEstablecimiento]],'[1]Establecimiento 2023'!$A$1:$E$183,5,FALSE),0)","v":"04303-Monte Patria"},"16200220","2022-08-19T12:01:46",10,2,8,0,3]
[{"$nulls":23},8,"5",2022,"105414",{"$f":"IFERROR(VLOOKUP(Tabla_SERIED_12_5[[#This Row],[IdEstablecimiento]],'[1]Establecimiento 2023'!$A$1:$E$183,3,FALSE),0)","v":"105414-Posta de Salud Rural Serón"},{"$f":"IFERROR(VLOOKUP(Tabla_SERIED_12_5[[#This Row],[IdEstablecimiento]],'[1]Establecimiento 2023'!$A$1:$E$183,5,FALSE),0)","v":"04305-Río Hurtado"},"15010200","2022-09-21T14:12:40",16,{"$nulls":4},2,6,8]
[{"$nulls":23},4,"5",2022,"200569",{"$f":"IFERROR(VLOOKUP(Tabla_SERIED_12_5[[#This Row],[IdEstablecimiento]],'[1]Establecimiento 2023'!$A$1:$E$183,3,FALSE),0)","v":"200569-Centro de Salud Familiar Fray Jorge"},{"$f":"IFERROR(VLOOKUP(Tabla_SERIED_12_5[[#This Row],[IdEstablecimiento]],'[1]Establecimiento 2023'!$A$1:$E$183,5,FALSE),0)","v":"04301-Ovalle"},"15080008","2022-05-18T15:28:33",169,{"$nulls":7},80,null,42,8,39]
[{"$nulls":23},4,"5",2022,"200569",{"$f":"IFERROR(VLOOKUP(Tabla_SERIED_12_5[[#This Row],[IdEstablecimiento]],'[1]Establecimiento 2023'!$A$1:$E$183,3,FALSE),0)","v":"200569-Centro de Salud Familiar Fray Jorge"},{"$f":"IFERROR(VLOOKUP(Tabla_SERIED_12_5[[#This Row],[IdEstablecimiento]],'[1]Establecimiento 2023'!$A$1:$E$183,5,FALSE),0)","v":"04301-Ovalle"},"15900010","2022-05-18T15:28:33",166.4,6.4,48,112]
[{"$nulls":23},4,"5",2022,"200569",{"$f":"IFERROR(VLOOKUP(Tabla_SERIED_12_5[[#This Row],[IdEstablecimiento]],'[1]Establecimiento 2023'!$A$1:$E$183,3,FALSE),0)","v":"200569-Centro de Salud Familiar Fray Jorge"},{"$f":"IFERROR(VLOOKUP(Tabla_SERIED_12_5[[#This Row],[IdEstablecimiento]],'[1]Establecimiento 2023'!$A$1:$E$183,5,FALSE),0)","v":"04301-Ovalle"},"15050500","2022-05-18T15:28:33",4,4,0,2,null,2]
[{"$nulls":23},4,"5",2022,"105450",{"$f":"IFERROR(VLOOKUP(Tabla_SERIED_12_5[[#This Row],[IdEstablecimiento]],'[1]Establecimiento 2023'!$A$1:$E$183,3,FALSE),0)","v":"105450-Posta de Salud Rural Mincha Norte"},{"$f":"IFERROR(VLOOKUP(Tabla_SERIED_12_5[[#This Row],[IdEstablecimiento]],'[1]Establecimiento 2023'!$A$1:$E$183,5,FALSE),0)","v":"04202-Canela"},"15050100","2022-05-18T15:03:59",11,5,6,{"$nulls":4},2,4,4,1]
[{"$nulls":23},9,"5",2022,"105322",{"$f":"IFERROR(VLOOKUP(Tabla_SERIED_12_5[[#This Row],[IdEstablecimiento]],'[1]Establecimiento 2023'!$A$1:$E$183,3,FALSE),0)","v":"105322-Centro de Salud Familiar Marcos Macuada"},{"$f":"IFERROR(VLOOKUP(Tabla_SERIED_12_5[[#This Row],[IdEstablecimiento]],'[1]Establecimiento 2023'!$A$1:$E$183,5,FALSE),0)","v":"04301-Ovalle"},"16100300","2022-11-15T14:34:58",764,317,447,14,578]
[{"$nulls":23},9,"5",2022,"105323",{"$f":"IFERROR(VLOOKUP(Tabla_SERIED_12_5[[#This Row],[IdEstablecimiento]],'[1]Establecimiento 2023'!$A$1:$E$183,3,FALSE),0)","v":"105323-Centro de Salud Familiar Dr. Sergio Aguilar Delgado"},{"$f":"IFERROR(VLOOKUP(Tabla_SERIED_12_5[[#This Row],[IdEstablecimiento]],'[1]Establecimiento 2023'!$A$1:$E$183,5,FALSE),0)","v":"04102-Coquimbo"},"15010500","2022-11-15T14:35:08",24,null,null,4,8,2,10]
[{"$nulls":23},9,"5",2022,"105317",{"$f":"IFERROR(VLOOKUP(Tabla_SERIED_12_5[[#This Row],[IdEstablecimiento]],'[1]Establecimiento 2023'!$A$1:$E$183,3,FALSE),0)","v":"105317-Centro de Salud Familiar Jorge Jordán Domic"},{"$f":"IFERROR(VLOOKUP(Tabla_SERIED_12_5[[#This Row],[IdEstablecimiento]],'[1]Establecimiento 2023'!$A$1:$E$183,5,FALSE),0)","v":"04301-Ovalle"},"15080010","2022-11-15T14:29:44",4,{"$nulls":9},4]
[{"$nulls":23},9,"5",2022,"105318",{"$f":"IFERROR(VLOOKUP(Tabla_SERIED_12_5[[#This Row],[IdEstablecimiento]],'[1]Establecimiento 2023'!$A$1:$E$183,3,FALSE),0)","v":"105318-Centro de Salud Familiar El Palqui"},{"$f":"IFERROR(VLOOKUP(Tabla_SERIED_12_5[[#This Row],[IdEstablecimiento]],'[1]Establecimiento 2023'!$A$1:$E$183,5,FALSE),0)","v":"04303-Monte Patria"},"15010200","2022-11-15T14:29:55",315,{"$nulls":4},69,132,114]
[{"$nulls":23},9,"5",2022,"105318",{"$f":"IFERROR(VLOOKUP(Tabla_SERIED_12_5[[#This Row],[IdEstablecimiento]],'[1]Establecimiento 2023'!$A$1:$E$183,3,FALSE),0)","v":"105318-Centro de Salud Familiar El Palqui"},{"$f":"IFERROR(VLOOKUP(Tabla_SERIED_12_5[[#This Row],[IdEstablecimiento]],'[1]Establecimiento 2023'!$A$1:$E$183,5,FALSE),0)","v":"04303-Monte Patria"},"15050200","2022-11-15T14:29:55",9,6,3,3,2,null,1,null,2,1]
[{"$nulls":23},9,"5",2022,"105318",{"$f":"IFERROR(VLOOKUP(Tabla_SERIED_12_5[[#This Row],[IdEstablecimiento]],'[1]Establecimiento 2023'!$A$1:$E$183,3,FALSE),0)","v":"105318-Centro de Salud Familiar El Palqui"},{"$f":"IFERROR(VLOOKUP(Tabla_SERIED_12_5[[#This Row],[IdEstablecimiento]],'[1]Establecimiento 2023'!$A$1:$E$183,5,FALSE),0)","v":"04303-Monte Patria"},"15900050","2022-11-15T14:29:55",1,null,1,{"$nulls":3},1]
[{"$nulls":23},9,"5",2022,"105319",{"$f":"IFERROR(VLOOKUP(Tabla_SERIED_12_5[[#This Row],[IdEstablecimiento]],'[1]Establecimiento 2023'!$A$1:$E$183,3,FALSE),0)","v":"105319-Centro de Salud Familiar Cardenal Raúl Silva Henríquez de La Serena"},{"$f":"IFERROR(VLOOKUP(Tabla_SERIED_12_5[[#This Row],[IdEstablecimiento]],'[1]Establecimiento 2023'!$A$1:$E$183,5,FALSE),0)","v":"04101-La Serena"},"15010200","2022-11-15T14:34:32",637,{"$nulls":4},146,278,213]
[{"$nulls":23},9,"5",2022,"105319",{"$f":"IFERROR(VLOOKUP(Tabla_SERIED_12_5[[#This Row],[IdEstablecimiento]],'[1]Establecimiento 2023'!$A$1:$E$183,3,FALSE),0)","v":"105319-Centro de Salud Familiar Cardenal Raúl Silva Henríquez de La Serena"},{"$f":"IFERROR(VLOOKUP(Tabla_SERIED_12_5[[#This Row],[IdEstablecimiento]],'[1]Establecimiento 2023'!$A$1:$E$183,5,FALSE),0)","v":"04101-La Serena"},"15050100","2022-11-15T14:34:32",600,287,313,5,17,62,76,73,139,108,96,null,15,null,9]
[{"$nulls":23},9,"5",2022,"105319",{"$f":"IFERROR(VLOOKUP(Tabla_SERIED_12_5[[#This Row],[IdEstablecimiento]],'[1]Establecimiento 2023'!$A$1:$E$183,3,FALSE),0)","v":"105319-Centro de Salud Familiar Cardenal Raúl Silva Henríquez de La Serena"},{"$f":"IFERROR(VLOOKUP(Tabla_SERIED_12_5[[#This Row],[IdEstablecimiento]],'[1]Establecimiento 2023'!$A$1:$E$183,5,FALSE),0)","v":"04101-La Serena"},"16100100","2022-11-15T14:34:32",5,2,3]
[{"$nulls":23},9,"5",2022,"105321",{"$f":"IFERROR(VLOOKUP(Tabla_SERIED_12_5[[#This Row],[IdEstablecimiento]],'[1]Establecimiento 2023'!$A$1:$E$183,3,FALSE),0)","v":"105321-Centro de Salud Familiar Tongoy"},{"$f":"IFERROR(VLOOKUP(Tabla_SERIED_12_5[[#This Row],[IdEstablecimiento]],'[1]Establecimiento 2023'!$A$1:$E$183,5,FALSE),0)","v":"04102-Coquimbo"},"15050500","2022-11-15T14:34:48",2,1,1,null,2]
[{"$nulls":23},9,"5",2022,"105322",{"$f":"IFERROR(VLOOKUP(Tabla_SERIED_12_5[[#This Row],[IdEstablecimiento]],'[1]Establecimiento 2023'!$A$1:$E$183,3,FALSE),0)","v":"105322-Centro de Salud Familiar Marcos Macuada"},{"$f":"IFERROR(VLOOKUP(Tabla_SERIED_12_5[[#This Row],[IdEstablecimiento]],'[1]Establecimiento 2023'!$A$1:$E$183,5,FALSE),0)","v":"04301-Ovalle"},"15010100","2022-11-15T14:34:58",88,{"$nulls":3},88,0]
[{"$nulls":23},3,"5",2022,"105506",{"$f":"IFERROR(VLOOKUP(Tabla_SERIED_12_5[[#This Row],[IdEstablecimiento]],'[1]Establecimiento 2023'!$A$1:$E$183,3,FALSE),0)","v":"105506-Posta de Salud Rural El Trapiche"},{"$f":"IFERROR(VLOOKUP(Tabla_SERIED_12_5[[#This Row],[IdEstablecimiento]],'[1]Establecimiento 2023'!$A$1:$E$183,5,FALSE),0)","v":"04104-La Higuera"},"16090300","2022-04-19T10:10:28",17,17]
[{"$nulls":23},8,"5",2022,"105485",{"$f":"IFERROR(VLOOKUP(Tabla_SERIED_12_5[[#This Row],[IdEstablecimiento]],'[1]Establecimiento 2023'!$A$1:$E$183,3,FALSE),0)","v":"105485-Posta de Salud Rural Plan de Hornos"},{"$f":"IFERROR(VLOOKUP(Tabla_SERIED_12_5[[#This Row],[IdEstablecimiento]],'[1]Establecimiento 2023'!$A$1:$E$183,5,FALSE),0)","v":"04201-Illapel"},"16200210","2022-09-21T07:52:21",10,10]
[{"$nulls":23},4,"5",2022,"105511",{"$f":"IFERROR(VLOOKUP(Tabla_SERIED_12_5[[#This Row],[IdEstablecimiento]],'[1]Establecimiento 2023'!$A$1:$E$183,3,FALSE),0)","v":"105511-Posta de Salud Rural Los Cóndores"},{"$f":"IFERROR(VLOOKUP(Tabla_SERIED_12_5[[#This Row],[IdEstablecimiento]],'[1]Establecimiento 2023'!$A$1:$E$183,5,FALSE),0)","v":"04203-Los Vilos"},"16090300","2022-05-18T15:22:23",44,44]
[{"$nulls":23},4,"5",2022,"105436",{"$f":"IFERROR(VLOOKUP(Tabla_SERIED_12_5[[#This Row],[IdEstablecimiento]],'[1]Establecimiento 2023'!$A$1:$E$183,3,FALSE),0)","v":"105436-Posta de Salud Rural El Maitén"},{"$f":"IFERROR(VLOOKUP(Tabla_SERIED_12_5[[#This Row],[IdEstablecimiento]],'[1]Establecimiento 2023'!$A$1:$E$183,5,FALSE),0)","v":"04303-Monte Patria"},"15010100","2022-05-18T14:57:01",6,{"$nulls":3},6]
[{"$nulls":23},9,"5",2022,"105322",{"$f":"IFERROR(VLOOKUP(Tabla_SERIED_12_5[[#This Row],[IdEstablecimiento]],'[1]Establecimiento 2023'!$A$1:$E$183,3,FALSE),0)","v":"105322-Centro de Salud Familiar Marcos Macuada"},{"$f":"IFERROR(VLOOKUP(Tabla_SERIED_12_5[[#This Row],[IdEstablecimiento]],'[1]Establecimiento 2023'!$A$1:$E$183,5,FALSE),0)","v":"04301-Ovalle"},"15020100","2022-11-15T14:34:58",12,0,0,8,4,0]
[{"$nulls":23},9,"5",2022,"105323",{"$f":"IFERROR(VLOOKUP(Tabla_SERIED_12_5[[#This Row],[IdEstablecimiento]],'[1]Establecimiento 2023'!$A$1:$E$183,3,FALSE),0)","v":"105323-Centro de Salud Familiar Dr. Sergio Aguilar Delgado"},{"$f":"IFERROR(VLOOKUP(Tabla_SERIED_12_5[[#This Row],[IdEstablecimiento]],'[1]Establecimiento 2023'!$A$1:$E$183,5,FALSE),0)","v":"04102-Coquimbo"},"15080010","2022-11-15T14:35:08",1,{"$nulls":10},1]
[{"$nulls":23},9,"5",2022,"105323",{"$f":"IFERROR(VLOOKUP(Tabla_SERIED_12_5[[#This Row],[IdEstablecimiento]],'[1]Establecimiento 2023'!$A$1:$E$183,3,FALSE),0)","v":"105323-Centro de Salud Familiar Dr. Sergio Aguilar Delgado"},{"$f":"IFERROR(VLOOKUP(Tabla_SERIED_12_5[[#This Row],[IdEstablecimiento]],'[1]Establecimiento 2023'!$A$1:$E$183,5,FALSE),0)","v":"04102-Coquimbo"},"16200220","2022-11-15T14:35:08",23,10,13,6,7]
[{"$nulls":23},9,"5",2022,"105324",{"$f":"IFERROR(VLOOKUP(Tabla_SERIED_12_5[[#This Row],[IdEstablecimiento]],'[1]Establecimiento 2023'!$A$1:$E$183,3,FALSE),0)","v":"105324-Centro de Salud Familiar Sotaquí"},{"$f":"IFERROR(VLOOKUP(Tabla_SERIED_12_5[[#This Row],[IdEstablecimiento]],'[1]Establecimiento 2023'!$A$1:$E$183,5,FALSE),0)","v":"04301-Ovalle"},"15900010","2022-11-15T14:35:19",44.1,7.2,6.3,30.6]
[{"$nulls":23},9,"5",2022,"105324",{"$f":"IFERROR(VLOOKUP(Tabla_SERIED_12_5[[#This Row],[IdEstablecimiento]],'[1]Establecimiento 2023'!$A$1:$E$183,3,FALSE),0)","v":"105324-Centro de Salud Familiar Sotaquí"},{"$f":"IFERROR(VLOOKUP(Tabla_SERIED_12_5[[#This Row],[IdEstablecimiento]],'[1]Establecimiento 2023'!$A$1:$E$183,5,FALSE),0)","v":"04301-Ovalle"},"16200220","2022-11-15T14:35:19",1,null,1,1]
[{"$nulls":23},1,"5",2022,"105305",{"$f":"IFERROR(VLOOKUP(Tabla_SERIED_12_5[[#This Row],[IdEstablecimiento]],'[1]Establecimiento 2023'!$A$1:$E$183,3,FALSE),0)","v":"105305-Centro de Salud Familiar Tierras Blancas"},{"$f":"IFERROR(VLOOKUP(Tabla_SERIED_12_5[[#This Row],[IdEstablecimiento]],'[1]Establecimiento 2023'!$A$1:$E$183,5,FALSE),0)","v":"04102-Coquimbo"},"16200100","2022-02-16T10:35:34",23,8,15]
[{"$nulls":23},1,"5",2022,"105306",{"$f":"IFERROR(VLOOKUP(Tabla_SERIED_12_5[[#This Row],[IdEstablecimiento]],'[1]Establecimiento 2023'!$A$1:$E$183,3,FALSE),0)","v":"105306-Centro de Salud Familiar Paihuano"},{"$f":"IFERROR(VLOOKUP(Tabla_SERIED_12_5[[#This Row],[IdEstablecimiento]],'[1]Establecimiento 2023'!$A$1:$E$183,5,FALSE),0)","v":"04105-Paiguano"},"15010100","2022-02-16T10:35:52",10,null,null,2,8]
[{"$nulls":23},8,"5",2022,"105486",{"$f":"IFERROR(VLOOKUP(Tabla_SERIED_12_5[[#This Row],[IdEstablecimiento]],'[1]Establecimiento 2023'!$A$1:$E$183,3,FALSE),0)","v":"105486-Posta de Salud Rural Tunga Sur"},{"$f":"IFERROR(VLOOKUP(Tabla_SERIED_12_5[[#This Row],[IdEstablecimiento]],'[1]Establecimiento 2023'!$A$1:$E$183,5,FALSE),0)","v":"04201-Illapel"},"15900010","2022-09-21T07:52:33",5.4,3.6,null,1.8]
[{"$nulls":23},11,"5",2022,"105108",{"$f":"IFERROR(VLOOKUP(Tabla_SERIED_12_5[[#This Row],[IdEstablecimiento]],'[1]Establecimiento 2023'!$A$1:$E$183,3,FALSE),0)","v":"105108-Hospital San Pedro (Los Vilos)"},{"$f":"IFERROR(VLOOKUP(Tabla_SERIED_12_5[[#This Row],[IdEstablecimiento]],'[1]Establecimiento 2023'!$A$1:$E$183,5,FALSE),0)","v":"105108-Hospital Los Vilos"},"15010500","2022-12-20T11:47:40",6,{"$nulls":3},4,null,null,2]
[{"$nulls":23},11,"5",2022,"105108",{"$f":"IFERROR(VLOOKUP(Tabla_SERIED_12_5[[#This Row],[IdEstablecimiento]],'[1]Establecimiento 2023'!$A$1:$E$183,3,FALSE),0)","v":"105108-Hospital San Pedro (Los Vilos)"},{"$f":"IFERROR(VLOOKUP(Tabla_SERIED_12_5[[#This Row],[IdEstablecimiento]],'[1]Establecimiento 2023'!$A$1:$E$183,5,FALSE),0)","v":"105108-Hospital Los Vilos"},"16090300","2022-12-20T11:47:40",277,277]
[{"$nulls":23},10,"5",2022,"200569",{"$f":"IFERROR(VLOOKUP(Tabla_SERIED_12_5[[#This Row],[IdEstablecimiento]],'[1]Establecimiento 2023'!$A$1:$E$183,3,FALSE),0)","v":"200569-Centro de Salud Familiar Fray Jorge"},{"$f":"IFERROR(VLOOKUP(Tabla_SERIED_12_5[[#This Row],[IdEstablecimiento]],'[1]Establecimiento 2023'!$A$1:$E$183,5,FALSE),0)","v":"04301-Ovalle"},"15010200","2022-12-20T11:16:09",504,{"$nulls":4},100,236,168]
[{"$nulls":23},8,"5",2022,"105487",{"$f":"IFERROR(VLOOKUP(Tabla_SERIED_12_5[[#This Row],[IdEstablecimiento]],'[1]Establecimiento 2023'!$A$1:$E$183,3,FALSE),0)","v":"105487-Posta de Salud Rural Cañas Uno"},{"$f":"IFERROR(VLOOKUP(Tabla_SERIED_12_5[[#This Row],[IdEstablecimiento]],'[1]Establecimiento 2023'!$A$1:$E$183,5,FALSE),0)","v":"04201-Illapel"},"16100300","2022-09-21T07:52:46",110,41,69]
[{"$nulls":23},2,"5",2022,"105414",{"$f":"IFERROR(VLOOKUP(Tabla_SERIED_12_5[[#This Row],[IdEstablecimiento]],'[1]Establecimiento 2023'!$A$1:$E$183,3,FALSE),0)","v":"105414-Posta de Salud Rural Serón"},{"$f":"IFERROR(VLOOKUP(Tabla_SERIED_12_5[[#This Row],[IdEstablecimiento]],'[1]Establecimiento 2023'!$A$1:$E$183,5,FALSE),0)","v":"04305-Río Hurtado"},"15010200","2022-03-17T09:34:54",16,{"$nulls":4},2,8,6]
[{"$nulls":23},8,"5",2022,"105474",{"$f":"IFERROR(VLOOKUP(Tabla_SERIED_12_5[[#This Row],[IdEstablecimiento]],'[1]Establecimiento 2023'!$A$1:$E$183,3,FALSE),0)","v":"105474-Posta de Salud Rural Chapilca"},{"$f":"IFERROR(VLOOKUP(Tabla_SERIED_12_5[[#This Row],[IdEstablecimiento]],'[1]Establecimiento 2023'!$A$1:$E$183,5,FALSE),0)","v":"04106-Vicuña"},"16090300","2022-09-21T07:49:49",14,14]
[{"$nulls":23},10,"5",2022,"200607",{"$f":"IFERROR(VLOOKUP(Tabla_SERIED_12_5[[#This Row],[IdEstablecimiento]],'[1]Establecimiento 2023'!$A$1:$E$183,3,FALSE),0)","v":"200607-Centro de Salud Familiar Lila Cortés Godoy"},{"$f":"IFERROR(VLOOKUP(Tabla_SERIED_12_5[[#This Row],[IdEstablecimiento]],'[1]Establecimiento 2023'!$A$1:$E$183,5,FALSE),0)","v":"04102-Coquimbo"},"15080008","2022-11-15T14:18:03",185,{"$nulls":7},95,null,60,0,30]
[{"$nulls":23},10,"5",2022,"200607",{"$f":"IFERROR(VLOOKUP(Tabla_SERIED_12_5[[#This Row],[IdEstablecimiento]],'[1]Establecimiento 2023'!$A$1:$E$183,3,FALSE),0)","v":"200607-Centro de Salud Familiar Lila Cortés Godoy"},{"$f":"IFERROR(VLOOKUP(Tabla_SERIED_12_5[[#This Row],[IdEstablecimiento]],'[1]Establecimiento 2023'!$A$1:$E$183,5,FALSE),0)","v":"04102-Coquimbo"},"15901500","2022-11-15T14:18:03",4.5,0,0,4.5]
[{"$nulls":23},10,"5",2022,"200607",{"$f":"IFERROR(VLOOKUP(Tabla_SERIED_12_5[[#This Row],[IdEstablecimiento]],'[1]Establecimiento 2023'!$A$1:$E$183,3,FALSE),0)","v":"200607-Centro de Salud Familiar Lila Cortés Godoy"},{"$f":"IFERROR(VLOOKUP(Tabla_SERIED_12_5[[#This Row],[IdEstablecimiento]],'[1]Establecimiento 2023'!$A$1:$E$183,5,FALSE),0)","v":"04102-Coquimbo"},"15901300","2022-11-15T14:18:03",4.8,0,0,4.8,0,0]
[{"$nulls":23},8,"5",2022,"200402",{"$f":"IFERROR(VLOOKUP(Tabla_SERIED_12_5[[#This Row],[IdEstablecimiento]],'[1]Establecimiento 2023'!$A$1:$E$183,3,FALSE),0)","v":"200402-Centro Comunitario de Salud Familiar Arcos de Pinamar"},{"$f":"IFERROR(VLOOKUP(Tabla_SERIED_12_5[[#This Row],[IdEstablecimiento]],'[1]Establecimiento 2023'!$A$1:$E$183,5,FALSE),0)","v":"04101-La Serena"},"15900010","2022-09-21T08:04:27",24.1,1.8,9.7,12.6]
[{"$nulls":23},7,"5",2022,"105497",{"$f":"IFERROR(VLOOKUP(Tabla_SERIED_12_5[[#This Row],[IdEstablecimiento]],'[1]Establecimiento 2023'!$A$1:$E$183,3,FALSE),0)","v":"105497-Posta de Salud Rural Jabonería"},{"$f":"IFERROR(VLOOKUP(Tabla_SERIED_12_5[[#This Row],[IdEstablecimiento]],'[1]Establecimiento 2023'!$A$1:$E$183,5,FALSE),0)","v":"04202-Canela"},"16200210","2022-08-22T06:35:15",3,3]
[{"$nulls":23},10,"5",2022,"200607",{"$f":"IFERROR(VLOOKUP(Tabla_SERIED_12_5[[#This Row],[IdEstablecimiento]],'[1]Establecimiento 2023'!$A$1:$E$183,3,FALSE),0)","v":"200607-Centro de Salud Familiar Lila Cortés Godoy"},{"$f":"IFERROR(VLOOKUP(Tabla_SERIED_12_5[[#This Row],[IdEstablecimiento]],'[1]Establecimiento 2023'!$A$1:$E$183,5,FALSE),0)","v":"04102-Coquimbo"},"16090300","2022-11-15T14:18:03",217,217]
[{"$nulls":23},9,"5",2022,"105104",{"$f":"IFERROR(VLOOKUP(Tabla_SERIED_12_5[[#This Row],[IdEstablecimiento]],'[1]Establecimiento 2023'!$A$1:$E$183,3,FALSE),0)","v":"105104-Hospital de Salamanca"},{"$f":"IFERROR(VLOOKUP(Tabla_SERIED_12_5[[#This Row],[IdEstablecimiento]],'[1]Establecimiento 2023'!$A$1:$E$183,5,FALSE),0)","v":"105104-Hospital Salamanca"},"15900010","2022-11-15T14:20:46",110.7,10.8,26.1,73.8]
[{"$nulls":23},9,"5",2022,"105104",{"$f":"IFERROR(VLOOKUP(Tabla_SERIED_12_5[[#This Row],[IdEstablecimiento]],'[1]Establecimiento 2023'!$A$1:$E$183,3,FALSE),0)","v":"105104-Hospital de Salamanca"},{"$f":"IFERROR(VLOOKUP(Tabla_SERIED_12_5[[#This Row],[IdEstablecimiento]],'[1]Establecimiento 2023'!$A$1:$E$183,5,FALSE),0)","v":"105104-Hospital Salamanca"},"15020100","2022-11-15T14:20:46",14,4,0,6,4,0]
[{"$nulls":23},9,"5",2022,"200367",{"$f":"IFERROR(VLOOKUP(Tabla_SERIED_12_5[[#This Row],[IdEstablecimiento]],'[1]Establecimiento 2023'!$A$1:$E$183,3,FALSE),0)","v":"200367-Centro Comunitario de Salud Familiar Colonia Limarí"},{"$f":"IFERROR(VLOOKUP(Tabla_SERIED_12_5[[#This Row],[IdEstablecimiento]],'[1]Establecimiento 2023'!$A$1:$E$183,5,FALSE),0)","v":"04301-Ovalle"},"15900010","2022-11-15T14:59:32",10.8,null,3.6,7.2]
[{"$nulls":23},9,"5",2022,"200367",{"$f":"IFERROR(VLOOKUP(Tabla_SERIED_12_5[[#This Row],[IdEstablecimiento]],'[1]Establecimiento 2023'!$A$1:$E$183,3,FALSE),0)","v":"200367-Centro Comunitario de Salud Familiar Colonia Limarí"},{"$f":"IFERROR(VLOOKUP(Tabla_SERIED_12_5[[#This Row],[IdEstablecimiento]],'[1]Establecimiento 2023'!$A$1:$E$183,5,FALSE),0)","v":"04301-Ovalle"},"15050200","2022-11-15T14:59:32",1,1,0,{"$nulls":5},1]
[{"$nulls":23},9,"5",2022,"200402",{"$f":"IFERROR(VLOOKUP(Tabla_SERIED_12_5[[#This Row],[IdEstablecimiento]],'[1]Establecimiento 2023'!$A$1:$E$183,3,FALSE),0)","v":"200402-Centro Comunitario de Salud Familiar Arcos de Pinamar"},{"$f":"IFERROR(VLOOKUP(Tabla_SERIED_12_5[[#This Row],[IdEstablecimiento]],'[1]Establecimiento 2023'!$A$1:$E$183,5,FALSE),0)","v":"04101-La Serena"},"15010200","2022-11-15T14:59:43",61,{"$nulls":4},16,21,24]
[{"$nulls":23},9,"5",2022,"200402",{"$f":"IFERROR(VLOOKUP(Tabla_SERIED_12_5[[#This Row],[IdEstablecimiento]],'[1]Establecimiento 2023'!$A$1:$E$183,3,FALSE),0)","v":"200402-Centro Comunitario de Salud Familiar Arcos de Pinamar"},{"$f":"IFERROR(VLOOKUP(Tabla_SERIED_12_5[[#This Row],[IdEstablecimiento]],'[1]Establecimiento 2023'!$A$1:$E$183,5,FALSE),0)","v":"04101-La Serena"},"16090300","2022-11-15T14:59:43",47,47]
[{"$nulls":23},9,"5",2022,"105453",{"$f":"IFERROR(VLOOKUP(Tabla_SERIED_12_5[[#This Row],[IdEstablecimiento]],'[1]Establecimiento 2023'!$A$1:$E$183,3,FALSE),0)","v":"105453-Posta de Salud Rural Tranquilla"},{"$f":"IFERROR(VLOOKUP(Tabla_SERIED_12_5[[#This Row],[IdEstablecimiento]],'[1]Establecimiento 2023'!$A$1:$E$183,5,FALSE),0)","v":"04204-Salamanca"},"16090300","2022-11-15T14:43:13",86,86]
[{"$nulls":23},9,"5",2022,"105455",{"$f":"IFERROR(VLOOKUP(Tabla_SERIED_12_5[[#This Row],[IdEstablecimiento]],'[1]Establecimiento 2023'!$A$1:$E$183,3,FALSE),0)","v":"105455-CESFAM Valle Alto"},{"$f":"IFERROR(VLOOKUP(Tabla_SERIED_12_5[[#This Row],[IdEstablecimiento]],'[1]Establecimiento 2023'!$A$1:$E$183,5,FALSE),0)","v":"04204-Salamanca"},"15010100","2022-11-15T14:43:33",6,{"$nulls":3},6]
[{"$nulls":23},10,"5",2022,"105453",{"$f":"IFERROR(VLOOKUP(Tabla_SERIED_12_5[[#This Row],[IdEstablecimiento]],'[1]Establecimiento 2023'!$A$1:$E$183,3,FALSE),0)","v":"105453-Posta de Salud Rural Tranquilla"},{"$f":"IFERROR(VLOOKUP(Tabla_SERIED_12_5[[#This Row],[IdEstablecimiento]],'[1]Establecimiento 2023'!$A$1:$E$183,5,FALSE),0)","v":"04204-Salamanca"},"16100300","2022-11-15T13:50:14",94,46,48,null,4]
[{"$nulls":23},10,"5",2022,"105455",{"$f":"IFERROR(VLOOKUP(Tabla_SERIED_12_5[[#This Row],[IdEstablecimiento]],'[1]Establecimiento 2023'!$A$1:$E$183,3,FALSE),0)","v":"105455-CESFAM Valle Alto"},{"$f":"IFERROR(VLOOKUP(Tabla_SERIED_12_5[[#This Row],[IdEstablecimiento]],'[1]Establecimiento 2023'!$A$1:$E$183,5,FALSE),0)","v":"04204-Salamanca"},"15010200","2022-11-15T13:50:40",10,{"$nulls":5},2,8]
[{"$nulls":23},10,"5",2022,"105455",{"$f":"IFERROR(VLOOKUP(Tabla_SERIED_12_5[[#This Row],[IdEstablecimiento]],'[1]Establecimiento 2023'!$A$1:$E$183,3,FALSE),0)","v":"105455-CESFAM Valle Alto"},{"$f":"IFERROR(VLOOKUP(Tabla_SERIED_12_5[[#This Row],[IdEstablecimiento]],'[1]Establecimiento 2023'!$A$1:$E$183,5,FALSE),0)","v":"04204-Salamanca"},"15080008","2022-11-15T13:50:40",6,{"$nulls":7},1,null,4,null,1]
[{"$nulls":23},10,"5",2022,"105455",{"$f":"IFERROR(VLOOKUP(Tabla_SERIED_12_5[[#This Row],[IdEstablecimiento]],'[1]Establecimiento 2023'!$A$1:$E$183,3,FALSE),0)","v":"105455-CESFAM Valle Alto"},{"$f":"IFERROR(VLOOKUP(Tabla_SERIED_12_5[[#This Row],[IdEstablecimiento]],'[1]Establecimiento 2023'!$A$1:$E$183,5,FALSE),0)","v":"04204-Salamanca"},"16090300","2022-11-15T13:50:40",31,31]
[{"$nulls":23},10,"5",2022,"105456",{"$f":"IFERROR(VLOOKUP(Tabla_SERIED_12_5[[#This Row],[IdEstablecimiento]],'[1]Establecimiento 2023'!$A$1:$E$183,3,FALSE),0)","v":"105456-Posta de Salud Rural Llimpo"},{"$f":"IFERROR(VLOOKUP(Tabla_SERIED_12_5[[#This Row],[IdEstablecimiento]],'[1]Establecimiento 2023'!$A$1:$E$183,5,FALSE),0)","v":"04204-Salamanca"},"16200210","2022-11-15T13:50:53",2,2]
[{"$nulls":23},10,"5",2022,"105457",{"$f":"IFERROR(VLOOKUP(Tabla_SERIED_12_5[[#This Row],[IdEstablecimiento]],'[1]Establecimiento 2023'!$A$1:$E$183,3,FALSE),0)","v":"105457-Posta de Salud Rural San Agustín (Salamanca)"},{"$f":"IFERROR(VLOOKUP(Tabla_SERIED_12_5[[#This Row],[IdEstablecimiento]],'[1]Establecimiento 2023'!$A$1:$E$183,5,FALSE),0)","v":"04204-Salamanca"},"15080008","2022-11-15T13:51:06",1,{"$nulls":7},1]
[{"$nulls":23},10,"5",2022,"105457",{"$f":"IFERROR(VLOOKUP(Tabla_SERIED_12_5[[#This Row],[IdEstablecimiento]],'[1]Establecimiento 2023'!$A$1:$E$183,3,FALSE),0)","v":"105457-Posta de Salud Rural San Agustín (Salamanca)"},{"$f":"IFERROR(VLOOKUP(Tabla_SERIED_12_5[[#This Row],[IdEstablecimiento]],'[1]Establecimiento 2023'!$A$1:$E$183,5,FALSE),0)","v":"04204-Salamanca"},"16200220","2022-11-15T13:51:06",3,1,2]
[{"$nulls":23},6,"5",2022,"105422",{"$f":"IFERROR(VLOOKUP(Tabla_SERIED_12_5[[#This Row],[IdEstablecimiento]],'[1]Establecimiento 2023'!$A$1:$E$183,3,FALSE),0)","v":"105422-Posta de Salud Rural Hornillos"},{"$f":"IFERROR(VLOOKUP(Tabla_SERIED_12_5[[#This Row],[IdEstablecimiento]],'[1]Establecimiento 2023'!$A$1:$E$183,5,FALSE),0)","v":"04301-Ovalle"},"15050100","2022-07-14T14:10:22",14,5,9,null,null,1,1,null,5,2,2,{"$nulls":3},3]
[{"$nulls":23},10,"5",2022,"200367",{"$f":"IFERROR(VLOOKUP(Tabla_SERIED_12_5[[#This Row],[IdEstablecimiento]],'[1]Establecimiento 2023'!$A$1:$E$183,3,FALSE),0)","v":"200367-Centro Comunitario de Salud Familiar Colonia Limarí"},{"$f":"IFERROR(VLOOKUP(Tabla_SERIED_12_5[[#This Row],[IdEstablecimiento]],'[1]Establecimiento 2023'!$A$1:$E$183,5,FALSE),0)","v":"04301-Ovalle"},"16200210","2022-11-15T14:16:40",9,9]
[{"$nulls":23},3,"5",2022,"105323",{"$f":"IFERROR(VLOOKUP(Tabla_SERIED_12_5[[#This Row],[IdEstablecimiento]],'[1]Establecimiento 2023'!$A$1:$E$183,3,FALSE),0)","v":"105323-Centro de Salud Familiar Dr. Sergio Aguilar Delgado"},{"$f":"IFERROR(VLOOKUP(Tabla_SERIED_12_5[[#This Row],[IdEstablecimiento]],'[1]Establecimiento 2023'!$A$1:$E$183,5,FALSE),0)","v":"04102-Coquimbo"},"15050500","2022-04-19T08:11:27",4,0,4,2,0,2]
[{"$nulls":23},2,"5",2022,"105322",{"$f":"IFERROR(VLOOKUP(Tabla_SERIED_12_5[[#This Row],[IdEstablecimiento]],'[1]Establecimiento 2023'!$A$1:$E$183,3,FALSE),0)","v":"105322-Centro de Salud Familiar Marcos Macuada"},{"$f":"IFERROR(VLOOKUP(Tabla_SERIED_12_5[[#This Row],[IdEstablecimiento]],'[1]Establecimiento 2023'!$A$1:$E$183,5,FALSE),0)","v":"04301-Ovalle"},"15050200","2022-03-17T09:31:26",2,1,1,{"$nulls":3},1,{"$nulls":4},1]
[{"$nulls":23},2,"5",2022,"105416",{"$f":"IFERROR(VLOOKUP(Tabla_SERIED_12_5[[#This Row],[IdEstablecimiento]],'[1]Establecimiento 2023'!$A$1:$E$183,3,FALSE),0)","v":"105416-Posta de Salud Rural Camarico (Ovalle)"},{"$f":"IFERROR(VLOOKUP(Tabla_SERIED_12_5[[#This Row],[IdEstablecimiento]],'[1]Establecimiento 2023'!$A$1:$E$183,5,FALSE),0)","v":"04301-Ovalle"},"15010200","2022-03-17T09:35:21",32,{"$nulls":4},4,16,12]
[{"$nulls":23},3,"5",2022,"105318",{"$f":"IFERROR(VLOOKUP(Tabla_SERIED_12_5[[#This Row],[IdEstablecimiento]],'[1]Establecimiento 2023'!$A$1:$E$183,3,FALSE),0)","v":"105318-Centro de Salud Familiar El Palqui"},{"$f":"IFERROR(VLOOKUP(Tabla_SERIED_12_5[[#This Row],[IdEstablecimiento]],'[1]Establecimiento 2023'!$A$1:$E$183,5,FALSE),0)","v":"04303-Monte Patria"},"15900010","2022-04-19T08:10:14",44,4,4.8,35.2]
[{"$nulls":23},6,"5",2022,"105417",{"$f":"IFERROR(VLOOKUP(Tabla_SERIED_12_5[[#This Row],[IdEstablecimiento]],'[1]Establecimiento 2023'!$A$1:$E$183,3,FALSE),0)","v":"105417-Posta de Salud Rural Alcones Bajo"},{"$f":"IFERROR(VLOOKUP(Tabla_SERIED_12_5[[#This Row],[IdEstablecimiento]],'[1]Establecimiento 2023'!$A$1:$E$183,5,FALSE),0)","v":"04301-Ovalle"},"15010100","2022-07-14T14:09:57",6,{"$nulls":3},6]
[{"$nulls":23},6,"5",2022,"105417",{"$f":"IFERROR(VLOOKUP(Tabla_SERIED_12_5[[#This Row],[IdEstablecimiento]],'[1]Establecimiento 2023'!$A$1:$E$183,3,FALSE),0)","v":"105417-Posta de Salud Rural Alcones Bajo"},{"$f":"IFERROR(VLOOKUP(Tabla_SERIED_12_5[[#This Row],[IdEstablecimiento]],'[1]Establecimiento 2023'!$A$1:$E$183,5,FALSE),0)","v":"04301-Ovalle"},"16200210","2022-07-14T14:09:57",12,12]
[{"$nulls":23},9,"5",2022,"105455",{"$f":"IFERROR(VLOOKUP(Tabla_SERIED_12_5[[#This Row],[IdEstablecimiento]],'[1]Establecimiento 2023'!$A$1:$E$183,3,FALSE),0)","v":"105455-CESFAM Valle Alto"},{"$f":"IFERROR(VLOOKUP(Tabla_SERIED_12_5[[#This Row],[IdEstablecimiento]],'[1]Establecimiento 2023'!$A$1:$E$183,5,FALSE),0)","v":"04204-Salamanca"},"16200210","2022-11-15T14:43:33",2,2]
[{"$nulls":23},9,"5",2022,"105456",{"$f":"IFERROR(VLOOKUP(Tabla_SERIED_12_5[[#This Row],[IdEstablecimiento]],'[1]Establecimiento 2023'!$A$1:$E$183,3,FALSE),0)","v":"105456-Posta de Salud Rural Llimpo"},{"$f":"IFERROR(VLOOKUP(Tabla_SERIED_12_5[[#This Row],[IdEstablecimiento]],'[1]Establecimiento 2023'!$A$1:$E$183,5,FALSE),0)","v":"04204-Salamanca"},"15050100","2022-11-15T14:43:44",19,7,12,null,null,1,3,2,4,4,5]
[{"$nulls":23},9,"5",2022,"105457",{"$f":"IFERROR(VLOOKUP(Tabla_SERIED_12_5[[#This Row],[IdEstablecimiento]],'[1]Establecimiento 2023'!$A$1:$E$183,3,FALSE),0)","v":"105457-Posta de Salud Rural San Agustín (Salamanca)"},{"$f":"IFERROR(VLOOKUP(Tabla_SERIED_12_5[[#This Row],[IdEstablecimiento]],'[1]Establecimiento 2023'!$A$1:$E$183,5,FALSE),0)","v":"04204-Salamanca"},"15900010","2022-11-15T14:43:56",8.1,null,4.5,3.6]
[{"$nulls":23},9,"5",2022,"105457",{"$f":"IFERROR(VLOOKUP(Tabla_SERIED_12_5[[#This Row],[IdEstablecimiento]],'[1]Establecimiento 2023'!$A$1:$E$183,3,FALSE),0)","v":"105457-Posta de Salud Rural San Agustín (Salamanca)"},{"$f":"IFERROR(VLOOKUP(Tabla_SERIED_12_5[[#This Row],[IdEstablecimiento]],'[1]Establecimiento 2023'!$A$1:$E$183,5,FALSE),0)","v":"04204-Salamanca"},"15010400","2022-11-15T14:43:56",2,{"$nulls":6},2]
[{"$nulls":23},9,"5",2022,"105458",{"$f":"IFERROR(VLOOKUP(Tabla_SERIED_12_5[[#This Row],[IdEstablecimiento]],'[1]Establecimiento 2023'!$A$1:$E$183,3,FALSE),0)","v":"105458-Posta de Salud Rural Tahuinco"},{"$f":"IFERROR(VLOOKUP(Tabla_SERIED_12_5[[#This Row],[IdEstablecimiento]],'[1]Establecimiento 2023'!$A$1:$E$183,5,FALSE),0)","v":"04204-Salamanca"},"15010200","2022-11-15T14:44:05",105,{"$nulls":4},16,40,49]
[{"$nulls":23},9,"5",2022,"105459",{"$f":"IFERROR(VLOOKUP(Tabla_SERIED_12_5[[#This Row],[IdEstablecimiento]],'[1]Establecimiento 2023'!$A$1:$E$183,3,FALSE),0)","v":"105459-Posta de Salud Rural Barrancas"},{"$f":"IFERROR(VLOOKUP(Tabla_SERIED_12_5[[#This Row],[IdEstablecimiento]],'[1]Establecimiento 2023'!$A$1:$E$183,5,FALSE),0)","v":"04302-Combarbalá"},"15010200","2022-11-15T14:44:15",10,{"$nulls":5},4,6]
[{"$nulls":23},9,"5",2022,"105460",{"$f":"IFERROR(VLOOKUP(Tabla_SERIED_12_5[[#This Row],[IdEstablecimiento]],'[1]Establecimiento 2023'!$A$1:$E$183,3,FALSE),0)","v":"105460-Centro Comunitario de Salud Familiar Cogotí 18"},{"$f":"IFERROR(VLOOKUP(Tabla_SERIED_12_5[[#This Row],[IdEstablecimiento]],'[1]Establecimiento 2023'!$A$1:$E$183,5,FALSE),0)","v":"04302-Combarbalá"},"15080008","2022-11-15T14:44:27",5,{"$nulls":7},1,null,4]
[{"$nulls":23},9,"5",2022,"105461",{"$f":"IFERROR(VLOOKUP(Tabla_SERIED_12_5[[#This Row],[IdEstablecimiento]],'[1]Establecimiento 2023'!$A$1:$E$183,3,FALSE),0)","v":"105461-Posta de Salud Rural El Huacho"},{"$f":"IFERROR(VLOOKUP(Tabla_SERIED_12_5[[#This Row],[IdEstablecimiento]],'[1]Establecimiento 2023'!$A$1:$E$183,5,FALSE),0)","v":"04302-Combarbalá"},"16090300","2022-11-15T14:44:36",36,36]
[{"$nulls":23},9,"5",2022,"105462",{"$f":"IFERROR(VLOOKUP(Tabla_SERIED_12_5[[#This Row],[IdEstablecimiento]],'[1]Establecimiento 2023'!$A$1:$E$183,3,FALSE),0)","v":"105462-Posta de Salud Rural El Sauce (Combarbalá)"},{"$f":"IFERROR(VLOOKUP(Tabla_SERIED_12_5[[#This Row],[IdEstablecimiento]],'[1]Establecimiento 2023'!$A$1:$E$183,5,FALSE),0)","v":"04302-Combarbalá"},"15900030","2022-11-15T14:44:48",4.4,{"$nulls":3},4.4]
[{"$nulls":23},9,"5",2022,"105463",{"$f":"IFERROR(VLOOKUP(Tabla_SERIED_12_5[[#This Row],[IdEstablecimiento]],'[1]Establecimiento 2023'!$A$1:$E$183,3,FALSE),0)","v":"105463-Posta de Salud Rural Quilitapia"},{"$f":"IFERROR(VLOOKUP(Tabla_SERIED_12_5[[#This Row],[IdEstablecimiento]],'[1]Establecimiento 2023'!$A$1:$E$183,5,FALSE),0)","v":"04302-Combarbalá"},"15080008","2022-11-15T14:44:58",3,{"$nulls":7},1,null,2]
[{"$nulls":23},10,"5",2022,"105464",{"$f":"IFERROR(VLOOKUP(Tabla_SERIED_12_5[[#This Row],[IdEstablecimiento]],'[1]Establecimiento 2023'!$A$1:$E$183,3,FALSE),0)","v":"105464-Posta de Salud Rural La Ligua"},{"$f":"IFERROR(VLOOKUP(Tabla_SERIED_12_5[[#This Row],[IdEstablecimiento]],'[1]Establecimiento 2023'!$A$1:$E$183,5,FALSE),0)","v":"04302-Combarbalá"},"15010200","2022-11-15T13:52:44",32,{"$nulls":5},16,16]
[{"$nulls":23},10,"5",2022,"105464",{"$f":"IFERROR(VLOOKUP(Tabla_SERIED_12_5[[#This Row],[IdEstablecimiento]],'[1]Establecimiento 2023'!$A$1:$E$183,3,FALSE),0)","v":"105464-Posta de Salud Rural La Ligua"},{"$f":"IFERROR(VLOOKUP(Tabla_SERIED_12_5[[#This Row],[IdEstablecimiento]],'[1]Establecimiento 2023'!$A$1:$E$183,5,FALSE),0)","v":"04302-Combarbalá"},"15080008","2022-11-15T13:52:44",3,{"$nulls":9},2,null,1]
[{"$nulls":23},10,"5",2022,"105465",{"$f":"IFERROR(VLOOKUP(Tabla_SERIED_12_5[[#This Row],[IdEstablecimiento]],'[1]Establecimiento 2023'!$A$1:$E$183,3,FALSE),0)","v":"105465-Posta de Salud Rural Ramadilla"},{"$f":"IFERROR(VLOOKUP(Tabla_SERIED_12_5[[#This Row],[IdEstablecimiento]],'[1]Establecimiento 2023'!$A$1:$E$183,5,FALSE),0)","v":"04302-Combarbalá"},"15010100","2022-11-15T13:52:57",2,{"$nulls":3},2]
[{"$nulls":23},10,"5",2022,"105475",{"$f":"IFERROR(VLOOKUP(Tabla_SERIED_12_5[[#This Row],[IdEstablecimiento]],'[1]Establecimiento 2023'!$A$1:$E$183,3,FALSE),0)","v":"105475-Posta de Salud Rural Horcón (Paiguano)"},{"$f":"IFERROR(VLOOKUP(Tabla_SERIED_12_5[[#This Row],[IdEstablecimiento]],'[1]Establecimiento 2023'!$A$1:$E$183,5,FALSE),0)","v":"04105-Paiguano"},"15050100","2022-11-15T13:57:13",11,3,8,null,1,null,3,null,3,1,{"$nulls":3},1,2]
[{"$nulls":23},10,"5",2022,"105476",{"$f":"IFERROR(VLOOKUP(Tabla_SERIED_12_5[[#This Row],[IdEstablecimiento]],'[1]Establecimiento 2023'!$A$1:$E$183,3,FALSE),0)","v":"105476-Posta de Salud Rural Monte Grande"},{"$f":"IFERROR(VLOOKUP(Tabla_SERIED_12_5[[#This Row],[IdEstablecimiento]],'[1]Establecimiento 2023'!$A$1:$E$183,5,FALSE),0)","v":"04105-Paiguano"},"15050100","2022-11-15T13:57:26",5,2,3,null,null,2,null,3]
[{"$nulls":23},10,"5",2022,"105477",{"$f":"IFERROR(VLOOKUP(Tabla_SERIED_12_5[[#This Row],[IdEstablecimiento]],'[1]Establecimiento 2023'!$A$1:$E$183,3,FALSE),0)","v":"105477-Posta de Salud Rural Pisco Elqui"},{"$f":"IFERROR(VLOOKUP(Tabla_SERIED_12_5[[#This Row],[IdEstablecimiento]],'[1]Establecimiento 2023'!$A$1:$E$183,5,FALSE),0)","v":"04105-Paiguano"},"16090300","2022-11-15T13:57:38",45,45]
[{"$nulls":23},10,"5",2022,"105478",{"$f":"IFERROR(VLOOKUP(Tabla_SERIED_12_5[[#This Row],[IdEstablecimiento]],'[1]Establecimiento 2023'!$A$1:$E$183,3,FALSE),0)","v":"105478-Posta de Salud Rural Caimanes"},{"$f":"IFERROR(VLOOKUP(Tabla_SERIED_12_5[[#This Row],[IdEstablecimiento]],'[1]Establecimiento 2023'!$A$1:$E$183,5,FALSE),0)","v":"04203-Los Vilos"},"16200210","2022-11-15T13:57:51",1,1]
[{"$nulls":23},10,"5",2022,"105479",{"$f":"IFERROR(VLOOKUP(Tabla_SERIED_12_5[[#This Row],[IdEstablecimiento]],'[1]Establecimiento 2023'!$A$1:$E$183,3,FALSE),0)","v":"105479-Posta de Salud Rural Guangualí"},{"$f":"IFERROR(VLOOKUP(Tabla_SERIED_12_5[[#This Row],[IdEstablecimiento]],'[1]Establecimiento 2023'!$A$1:$E$183,5,FALSE),0)","v":"04203-Los Vilos"},"15010100","2022-11-15T13:58:10",2,{"$nulls":3},2]
[{"$nulls":23},10,"5",2022,"105304",{"$f":"IFERROR(VLOOKUP(Tabla_SERIED_12_5[[#This Row],[IdEstablecimiento]],'[1]Establecimiento 2023'!$A$1:$E$183,3,FALSE),0)","v":"105304-Centro de Salud Familiar Santa Cecilia"},{"$f":"IFERROR(VLOOKUP(Tabla_SERIED_12_5[[#This Row],[IdEstablecimiento]],'[1]Establecimiento 2023'!$A$1:$E$183,5,FALSE),0)","v":"04102-Coquimbo"},"15010100","2022-11-15T13:31:06",175,null,null,0,168,0,null,null,5,null,2]
[{"$nulls":23},10,"5",2022,"105304",{"$f":"IFERROR(VLOOKUP(Tabla_SERIED_12_5[[#This Row],[IdEstablecimiento]],'[1]Establecimiento 2023'!$A$1:$E$183,3,FALSE),0)","v":"105304-Centro de Salud Familiar Santa Cecilia"},{"$f":"IFERROR(VLOOKUP(Tabla_SERIED_12_5[[#This Row],[IdEstablecimiento]],'[1]Establecimiento 2023'!$A$1:$E$183,5,FALSE),0)","v":"04102-Coquimbo"},"15010200","2022-11-15T13:31:06",521,{"$nulls":4},102,212,207]
[{"$nulls":23},10,"5",2022,"105304",{"$f":"IFERROR(VLOOKUP(Tabla_SERIED_12_5[[#This Row],[IdEstablecimiento]],'[1]Establecimiento 2023'!$A$1:$E$183,3,FALSE),0)","v":"105304-Centro de Salud Familiar Santa Cecilia"},{"$f":"IFERROR(VLOOKUP(Tabla_SERIED_12_5[[#This Row],[IdEstablecimiento]],'[1]Establecimiento 2023'!$A$1:$E$183,5,FALSE),0)","v":"04102-Coquimbo"},"15901500","2022-11-15T13:31:06",4.5,0,0,4.5]
[{"$nulls":23},10,"5",2022,"105304",{"$f":"IFERROR(VLOOKUP(Tabla_SERIED_12_5[[#This Row],[IdEstablecimiento]],'[1]Establecimiento 2023'!$A$1:$E$183,3,FALSE),0)","v":"105304-Centro de Salud Familiar Santa Cecilia"},{"$f":"IFERROR(VLOOKUP(Tabla_SERIED_12_5[[#This Row],[IdEstablecimiento]],'[1]Establecimiento 2023'!$A$1:$E$183,5,FALSE),0)","v":"04102-Coquimbo"},"15901200","2022-11-15T13:31:06",6.4,0,0,0,3.2,3.2]
[{"$nulls":23},10,"5",2022,"105305",{"$f":"IFERROR(VLOOKUP(Tabla_SERIED_12_5[[#This Row],[IdEstablecimiento]],'[1]Establecimiento 2023'!$A$1:$E$183,3,FALSE),0)","v":"105305-Centro de Salud Familiar Tierras Blancas"},{"$f":"IFERROR(VLOOKUP(Tabla_SERIED_12_5[[#This Row],[IdEstablecimiento]],'[1]Establecimiento 2023'!$A$1:$E$183,5,FALSE),0)","v":"04102-Coquimbo"},"15010100","2022-11-15T13:31:18",147,{"$nulls":3},142,2,2,null,1]
[{"$nulls":23},4,"5",2022,"105323",{"$f":"IFERROR(VLOOKUP(Tabla_SERIED_12_5[[#This Row],[IdEstablecimiento]],'[1]Establecimiento 2023'!$A$1:$E$183,3,FALSE),0)","v":"105323-Centro de Salud Familiar Dr. Sergio Aguilar Delgado"},{"$f":"IFERROR(VLOOKUP(Tabla_SERIED_12_5[[#This Row],[IdEstablecimiento]],'[1]Establecimiento 2023'!$A$1:$E$183,5,FALSE),0)","v":"04102-Coquimbo"},"16100300","2022-05-18T11:53:56",899,334,565,19,170]
[{"$nulls":23},4,"5",2022,"105324",{"$f":"IFERROR(VLOOKUP(Tabla_SERIED_12_5[[#This Row],[IdEstablecimiento]],'[1]Establecimiento 2023'!$A$1:$E$183,3,FALSE),0)","v":"105324-Centro de Salud Familiar Sotaquí"},{"$f":"IFERROR(VLOOKUP(Tabla_SERIED_12_5[[#This Row],[IdEstablecimiento]],'[1]Establecimiento 2023'!$A$1:$E$183,5,FALSE),0)","v":"04301-Ovalle"},"15010400","2022-05-18T11:54:11",18,{"$nulls":5},10,8]
[{"$nulls":23},4,"5",2022,"105436",{"$f":"IFERROR(VLOOKUP(Tabla_SERIED_12_5[[#This Row],[IdEstablecimiento]],'[1]Establecimiento 2023'!$A$1:$E$183,3,FALSE),0)","v":"105436-Posta de Salud Rural El Maitén"},{"$f":"IFERROR(VLOOKUP(Tabla_SERIED_12_5[[#This Row],[IdEstablecimiento]],'[1]Establecimiento 2023'!$A$1:$E$183,5,FALSE),0)","v":"04303-Monte Patria"},"15050200","2022-05-18T14:57:01",1,null,1,{"$nulls":8},1]
[{"$nulls":23},4,"5",2022,"105478",{"$f":"IFERROR(VLOOKUP(Tabla_SERIED_12_5[[#This Row],[IdEstablecimiento]],'[1]Establecimiento 2023'!$A$1:$E$183,3,FALSE),0)","v":"105478-Posta de Salud Rural Caimanes"},{"$f":"IFERROR(VLOOKUP(Tabla_SERIED_12_5[[#This Row],[IdEstablecimiento]],'[1]Establecimiento 2023'!$A$1:$E$183,5,FALSE),0)","v":"04203-Los Vilos"},"15050100","2022-05-18T15:13:57",29,13,16,null,null,2,4,3,8,8,4]
[{"$nulls":23},6,"5",2022,"105451",{"$f":"IFERROR(VLOOKUP(Tabla_SERIED_12_5[[#This Row],[IdEstablecimiento]],'[1]Establecimiento 2023'!$A$1:$E$183,3,FALSE),0)","v":"105451-Posta de Salud Rural Agua Fría"},{"$f":"IFERROR(VLOOKUP(Tabla_SERIED_12_5[[#This Row],[IdEstablecimiento]],'[1]Establecimiento 2023'!$A$1:$E$183,5,FALSE),0)","v":"04202-Canela"},"16200210","2022-07-14T14:17:41",6,6]
[{"$nulls":23},6,"5",2022,"105104",{"$f":"IFERROR(VLOOKUP(Tabla_SERIED_12_5[[#This Row],[IdEstablecimiento]],'[1]Establecimiento 2023'!$A$1:$E$183,3,FALSE),0)","v":"105104-Hospital de Salamanca"},{"$f":"IFERROR(VLOOKUP(Tabla_SERIED_12_5[[#This Row],[IdEstablecimiento]],'[1]Establecimiento 2023'!$A$1:$E$183,5,FALSE),0)","v":"105104-Hospital Salamanca"},"15020100","2022-07-14T12:58:03",6,0,0,4,2,0]
[{"$nulls":23},8,"5",2022,"105465",{"$f":"IFERROR(VLOOKUP(Tabla_SERIED_12_5[[#This Row],[IdEstablecimiento]],'[1]Establecimiento 2023'!$A$1:$E$183,3,FALSE),0)","v":"105465-Posta de Salud Rural Ramadilla"},{"$f":"IFERROR(VLOOKUP(Tabla_SERIED_12_5[[#This Row],[IdEstablecimiento]],'[1]Establecimiento 2023'!$A$1:$E$183,5,FALSE),0)","v":"04302-Combarbalá"},"15010100","2022-09-21T07:47:56",4,{"$nulls":3},4]
[{"$nulls":23},6,"5",2022,"105309",{"$f":"IFERROR(VLOOKUP(Tabla_SERIED_12_5[[#This Row],[IdEstablecimiento]],'[1]Establecimiento 2023'!$A$1:$E$183,3,FALSE),0)","v":"105309-Centro de Salud Familiar Canela"},{"$f":"IFERROR(VLOOKUP(Tabla_SERIED_12_5[[#This Row],[IdEstablecimiento]],'[1]Establecimiento 2023'!$A$1:$E$183,5,FALSE),0)","v":"04202-Canela"},"16100300","2022-07-14T14:01:37",297,131,166,2,87]
[{"$nulls":23},5,"5",2022,"105325",{"$f":"IFERROR(VLOOKUP(Tabla_SERIED_12_5[[#This Row],[IdEstablecimiento]],'[1]Establecimiento 2023'!$A$1:$E$183,3,FALSE),0)","v":"105325-Centro de Salud Familiar Juan Pablo II (La Serena)"},{"$f":"IFERROR(VLOOKUP(Tabla_SERIED_12_5[[#This Row],[IdEstablecimiento]],'[1]Establecimiento 2023'!$A$1:$E$183,5,FALSE),0)","v":"04101-La Serena"},"15020200","2022-06-20T17:05:39",8,{"$nulls":4},2,0,6]
[{"$nulls":23},5,"5",2022,"105326",{"$f":"IFERROR(VLOOKUP(Tabla_SERIED_12_5[[#This Row],[IdEstablecimiento]],'[1]Establecimiento 2023'!$A$1:$E$183,3,FALSE),0)","v":"105326-Centro de Salud Familiar Villa San Rafael de Rozas"},{"$f":"IFERROR(VLOOKUP(Tabla_SERIED_12_5[[#This Row],[IdEstablecimiento]],'[1]Establecimiento 2023'!$A$1:$E$183,5,FALSE),0)","v":"04201-Illapel"},"15080008","2022-06-20T17:06:31",42,{"$nulls":7},21,null,12,1,8]
[{"$nulls":23},8,"5",2022,"105400",{"$f":"IFERROR(VLOOKUP(Tabla_SERIED_12_5[[#This Row],[IdEstablecimiento]],'[1]Establecimiento 2023'!$A$1:$E$183,3,FALSE),0)","v":"105400-Posta de Salud Rural Algarrobito"},{"$f":"IFERROR(VLOOKUP(Tabla_SERIED_12_5[[#This Row],[IdEstablecimiento]],'[1]Establecimiento 2023'!$A$1:$E$183,5,FALSE),0)","v":"04101-La Serena"},"15080008","2022-09-21T07:20:35",7,{"$nulls":7},2,null,2,1,2]
[{"$nulls":23},4,"5",2022,"105325",{"$f":"IFERROR(VLOOKUP(Tabla_SERIED_12_5[[#This Row],[IdEstablecimiento]],'[1]Establecimiento 2023'!$A$1:$E$183,3,FALSE),0)","v":"105325-Centro de Salud Familiar Juan Pablo II (La Serena)"},{"$f":"IFERROR(VLOOKUP(Tabla_SERIED_12_5[[#This Row],[IdEstablecimiento]],'[1]Establecimiento 2023'!$A$1:$E$183,5,FALSE),0)","v":"04101-La Serena"},"15900010","2022-05-18T11:54:38",208,25.6,76.8,105.6]
[{"$nulls":23},4,"5",2022,"105325",{"$f":"IFERROR(VLOOKUP(Tabla_SERIED_12_5[[#This Row],[IdEstablecimiento]],'[1]Establecimiento 2023'!$A$1:$E$183,3,FALSE),0)","v":"105325-Centro de Salud Familiar Juan Pablo II (La Serena)"},{"$f":"IFERROR(VLOOKUP(Tabla_SERIED_12_5[[#This Row],[IdEstablecimiento]],'[1]Establecimiento 2023'!$A$1:$E$183,5,FALSE),0)","v":"04101-La Serena"},"15010300","2022-05-18T11:54:38",6,{"$nulls":3},6,0]
[{"$nulls":23},2,"5",2022,"200402",{"$f":"IFERROR(VLOOKUP(Tabla_SERIED_12_5[[#This Row],[IdEstablecimiento]],'[1]Establecimiento 2023'!$A$1:$E$183,3,FALSE),0)","v":"200402-Centro Comunitario de Salud Familiar Arcos de Pinamar"},{"$f":"IFERROR(VLOOKUP(Tabla_SERIED_12_5[[#This Row],[IdEstablecimiento]],'[1]Establecimiento 2023'!$A$1:$E$183,5,FALSE),0)","v":"04101-La Serena"},"15900050","2022-03-17T10:07:47",2,1,1,null,null,1,1]
[{"$nulls":23},10,"5",2022,"105305",{"$f":"IFERROR(VLOOKUP(Tabla_SERIED_12_5[[#This Row],[IdEstablecimiento]],'[1]Establecimiento 2023'!$A$1:$E$183,3,FALSE),0)","v":"105305-Centro de Salud Familiar Tierras Blancas"},{"$f":"IFERROR(VLOOKUP(Tabla_SERIED_12_5[[#This Row],[IdEstablecimiento]],'[1]Establecimiento 2023'!$A$1:$E$183,5,FALSE),0)","v":"04102-Coquimbo"},"15010500","2022-11-15T13:31:18",22,{"$nulls":4},2,14,6]
[{"$nulls":23},10,"5",2022,"105479",{"$f":"IFERROR(VLOOKUP(Tabla_SERIED_12_5[[#This Row],[IdEstablecimiento]],'[1]Establecimiento 2023'!$A$1:$E$183,3,FALSE),0)","v":"105479-Posta de Salud Rural Guangualí"},{"$f":"IFERROR(VLOOKUP(Tabla_SERIED_12_5[[#This Row],[IdEstablecimiento]],'[1]Establecimiento 2023'!$A$1:$E$183,5,FALSE),0)","v":"04203-Los Vilos"},"16100300","2022-11-15T13:58:10",77,33,44,null,0]
[{"$nulls":23},10,"5",2022,"105480",{"$f":"IFERROR(VLOOKUP(Tabla_SERIED_12_5[[#This Row],[IdEstablecimiento]],'[1]Establecimiento 2023'!$A$1:$E$183,3,FALSE),0)","v":"105480-Posta de Salud Rural Quilimarí"},{"$f":"IFERROR(VLOOKUP(Tabla_SERIED_12_5[[#This Row],[IdEstablecimiento]],'[1]Establecimiento 2023'!$A$1:$E$183,5,FALSE),0)","v":"04203-Los Vilos"},"15050100","2022-11-15T13:58:23",49,23,26,null,null,2,3,1,14,21,7,null,1]
[{"$nulls":23},8,"5",2022,"105400",{"$f":"IFERROR(VLOOKUP(Tabla_SERIED_12_5[[#This Row],[IdEstablecimiento]],'[1]Establecimiento 2023'!$A$1:$E$183,3,FALSE),0)","v":"105400-Posta de Salud Rural Algarrobito"},{"$f":"IFERROR(VLOOKUP(Tabla_SERIED_12_5[[#This Row],[IdEstablecimiento]],'[1]Establecimiento 2023'!$A$1:$E$183,5,FALSE),0)","v":"04101-La Serena"},"16100300","2022-09-21T07:20:35",193,72,121,4,62]
[{"$nulls":23},1,"5",2022,"105311",{"$f":"IFERROR(VLOOKUP(Tabla_SERIED_12_5[[#This Row],[IdEstablecimiento]],'[1]Establecimiento 2023'!$A$1:$E$183,3,FALSE),0)","v":"105311-Centro de Salud Familiar Chañaral Alto"},{"$f":"IFERROR(VLOOKUP(Tabla_SERIED_12_5[[#This Row],[IdEstablecimiento]],'[1]Establecimiento 2023'!$A$1:$E$183,5,FALSE),0)","v":"04303-Monte Patria"},"15010200","2022-02-17T07:56:32",92,{"$nulls":4},20,34,38]
[{"$nulls":23},7,"5",2022,"105313",{"$f":"IFERROR(VLOOKUP(Tabla_SERIED_12_5[[#This Row],[IdEstablecimiento]],'[1]Establecimiento 2023'!$A$1:$E$183,3,FALSE),0)","v":"105313-Centro de Salud Familiar Dr. Emilio Schaffhauser"},{"$f":"IFERROR(VLOOKUP(Tabla_SERIED_12_5[[#This Row],[IdEstablecimiento]],'[1]Establecimiento 2023'!$A$1:$E$183,5,FALSE),0)","v":"04101-La Serena"},"15020500","2022-08-19T12:00:48",2,{"$nulls":6},2]
[{"$nulls":23},7,"5",2022,"105313",{"$f":"IFERROR(VLOOKUP(Tabla_SERIED_12_5[[#This Row],[IdEstablecimiento]],'[1]Establecimiento 2023'!$A$1:$E$183,3,FALSE),0)","v":"105313-Centro de Salud Familiar Dr. Emilio Schaffhauser"},{"$f":"IFERROR(VLOOKUP(Tabla_SERIED_12_5[[#This Row],[IdEstablecimiento]],'[1]Establecimiento 2023'!$A$1:$E$183,5,FALSE),0)","v":"04101-La Serena"},"15901200","2022-08-19T12:00:48",22,null,4,4.4,6,7.6]
[{"$nulls":23},6,"5",2022,"200607",{"$f":"IFERROR(VLOOKUP(Tabla_SERIED_12_5[[#This Row],[IdEstablecimiento]],'[1]Establecimiento 2023'!$A$1:$E$183,3,FALSE),0)","v":"200607-Centro de Salud Familiar Lila Cortés Godoy"},{"$f":"IFERROR(VLOOKUP(Tabla_SERIED_12_5[[#This Row],[IdEstablecimiento]],'[1]Establecimiento 2023'!$A$1:$E$183,5,FALSE),0)","v":"04102-Coquimbo"},"16200210","2022-07-14T14:44:54",49,47]
[{"$nulls":23},6,"5",2022,"105436",{"$f":"IFERROR(VLOOKUP(Tabla_SERIED_12_5[[#This Row],[IdEstablecimiento]],'[1]Establecimiento 2023'!$A$1:$E$183,3,FALSE),0)","v":"105436-Posta de Salud Rural El Maitén"},{"$f":"IFERROR(VLOOKUP(Tabla_SERIED_12_5[[#This Row],[IdEstablecimiento]],'[1]Establecimiento 2023'!$A$1:$E$183,5,FALSE),0)","v":"04303-Monte Patria"},"15080009","2022-07-14T14:14:30",3,{"$nulls":9},3]
[{"$nulls":23},1,"5",2022,"105319",{"$f":"IFERROR(VLOOKUP(Tabla_SERIED_12_5[[#This Row],[IdEstablecimiento]],'[1]Establecimiento 2023'!$A$1:$E$183,3,FALSE),0)","v":"105319-Centro de Salud Familiar Cardenal Raúl Silva Henríquez de La Serena"},{"$f":"IFERROR(VLOOKUP(Tabla_SERIED_12_5[[#This Row],[IdEstablecimiento]],'[1]Establecimiento 2023'!$A$1:$E$183,5,FALSE),0)","v":"04101-La Serena"},"15900030","2022-02-16T10:50:08",16.8,null,6,2.8,null,8]
[{"$nulls":23},3,"5",2022,"200538",{"$f":"IFERROR(VLOOKUP(Tabla_SERIED_12_5[[#This Row],[IdEstablecimiento]],'[1]Establecimiento 2023'!$A$1:$E$183,3,FALSE),0)","v":"200538-Centro de Salud Familiar San Isidro Calingasta"},{"$f":"IFERROR(VLOOKUP(Tabla_SERIED_12_5[[#This Row],[IdEstablecimiento]],'[1]Establecimiento 2023'!$A$1:$E$183,5,FALSE),0)","v":"04106-Vicuña"},"15900050","2022-04-19T10:22:24",2,1,1,null,1,null,null,1]
[{"$nulls":23},1,"5",2022,"105326",{"$f":"IFERROR(VLOOKUP(Tabla_SERIED_12_5[[#This Row],[IdEstablecimiento]],'[1]Establecimiento 2023'!$A$1:$E$183,3,FALSE),0)","v":"105326-Centro de Salud Familiar Villa San Rafael de Rozas"},{"$f":"IFERROR(VLOOKUP(Tabla_SERIED_12_5[[#This Row],[IdEstablecimiento]],'[1]Establecimiento 2023'!$A$1:$E$183,5,FALSE),0)","v":"04201-Illapel"},"15060100","2022-02-16T10:52:27",3,2,1,null,null,2,null,null,1]
[{"$nulls":23},3,"5",2022,"105432",{"$f":"IFERROR(VLOOKUP(Tabla_SERIED_12_5[[#This Row],[IdEstablecimiento]],'[1]Establecimiento 2023'!$A$1:$E$183,3,FALSE),0)","v":"105432-Posta de Salud Rural Rapel (Monte Patria)"},{"$f":"IFERROR(VLOOKUP(Tabla_SERIED_12_5[[#This Row],[IdEstablecimiento]],'[1]Establecimiento 2023'!$A$1:$E$183,5,FALSE),0)","v":"04303-Monte Patria"},"15080008","2022-04-19T09:43:11",3,{"$nulls":7},2,{"$nulls":3},1]
[{"$nulls":23},1,"5",2022,"105318",{"$f":"IFERROR(VLOOKUP(Tabla_SERIED_12_5[[#This Row],[IdEstablecimiento]],'[1]Establecimiento 2023'!$A$1:$E$183,3,FALSE),0)","v":"105318-Centro de Salud Familiar El Palqui"},{"$f":"IFERROR(VLOOKUP(Tabla_SERIED_12_5[[#This Row],[IdEstablecimiento]],'[1]Establecimiento 2023'!$A$1:$E$183,5,FALSE),0)","v":"04303-Monte Patria"},"16090500","2022-02-16T10:49:52",32,32]
[{"$nulls":23},1,"5",2022,"105318",{"$f":"IFERROR(VLOOKUP(Tabla_SERIED_12_5[[#This Row],[IdEstablecimiento]],'[1]Establecimiento 2023'!$A$1:$E$183,3,FALSE),0)","v":"105318-Centro de Salud Familiar El Palqui"},{"$f":"IFERROR(VLOOKUP(Tabla_SERIED_12_5[[#This Row],[IdEstablecimiento]],'[1]Establecimiento 2023'!$A$1:$E$183,5,FALSE),0)","v":"04303-Monte Patria"},"16100300","2022-02-16T10:49:52",284,106,178,2,20]
[{"$nulls":23},3,"5",2022,"105428",{"$f":"IFERROR(VLOOKUP(Tabla_SERIED_12_5[[#This Row],[IdEstablecimiento]],'[1]Establecimiento 2023'!$A$1:$E$183,3,FALSE),0)","v":"105428-Posta de Salud Rural Huatulame"},{"$f":"IFERROR(VLOOKUP(Tabla_SERIED_12_5[[#This Row],[IdEstablecimiento]],'[1]Establecimiento 2023'!$A$1:$E$183,5,FALSE),0)","v":"04303-Monte Patria"},"15010100","2022-04-19T09:42:10",2,{"$nulls":3},2]
[{"$nulls":23},6,"5",2022,"200366",{"$f":"IFERROR(VLOOKUP(Tabla_SERIED_12_5[[#This Row],[IdEstablecimiento]],'[1]Establecimiento 2023'!$A$1:$E$183,3,FALSE),0)","v":"200366-Centro de Salud Familiar Urbano de Illapel"},{"$f":"IFERROR(VLOOKUP(Tabla_SERIED_12_5[[#This Row],[IdEstablecimiento]],'[1]Establecimiento 2023'!$A$1:$E$183,5,FALSE),0)","v":"04201-Illapel"},"15900030","2022-07-18T13:33:55",16.4,3.2,7.6,null,5.6]
[{"$nulls":23},3,"5",2022,"105300",{"$f":"IFERROR(VLOOKUP(Tabla_SERIED_12_5[[#This Row],[IdEstablecimiento]],'[1]Establecimiento 2023'!$A$1:$E$183,3,FALSE),0)","v":"105300-Centro de Salud Familiar Cardenal Caro"},{"$f":"IFERROR(VLOOKUP(Tabla_SERIED_12_5[[#This Row],[IdEstablecimiento]],'[1]Establecimiento 2023'!$A$1:$E$183,5,FALSE),0)","v":"04101-La Serena"},"15010100","2022-04-19T08:02:11",86,null,null,8,78]
[{"$nulls":23},3,"5",2022,"105449",{"$f":"IFERROR(VLOOKUP(Tabla_SERIED_12_5[[#This Row],[IdEstablecimiento]],'[1]Establecimiento 2023'!$A$1:$E$183,3,FALSE),0)","v":"105449-Posta de Salud Rural Tunga Norte"},{"$f":"IFERROR(VLOOKUP(Tabla_SERIED_12_5[[#This Row],[IdEstablecimiento]],'[1]Establecimiento 2023'!$A$1:$E$183,5,FALSE),0)","v":"04201-Illapel"},"15050100","2022-04-19T09:47:52",2,null,2,{"$nulls":6},1,null,null,1]
[{"$nulls":23},5,"5",2022,"105303",{"$f":"IFERROR(VLOOKUP(Tabla_SERIED_12_5[[#This Row],[IdEstablecimiento]],'[1]Establecimiento 2023'!$A$1:$E$183,3,FALSE),0)","v":"105303-Centro de Salud Familiar San Juan"},{"$f":"IFERROR(VLOOKUP(Tabla_SERIED_12_5[[#This Row],[IdEstablecimiento]],'[1]Establecimiento 2023'!$A$1:$E$183,5,FALSE),0)","v":"04102-Coquimbo"},"15900020","2022-06-20T17:00:05",3.2,0,0,3.2]
[{"$nulls":23},1,"5",2022,"200366",{"$f":"IFERROR(VLOOKUP(Tabla_SERIED_12_5[[#This Row],[IdEstablecimiento]],'[1]Establecimiento 2023'!$A$1:$E$183,3,FALSE),0)","v":"200366-Centro de Salud Familiar Urbano de Illapel"},{"$f":"IFERROR(VLOOKUP(Tabla_SERIED_12_5[[#This Row],[IdEstablecimiento]],'[1]Establecimiento 2023'!$A$1:$E$183,5,FALSE),0)","v":"04201-Illapel"},"15050100","2022-02-17T04:29:53",280,136,144,1,9,17,19,22,101,91,13,null,5,1,1]
[{"$nulls":23},4,"5",2022,"105431",{"$f":"IFERROR(VLOOKUP(Tabla_SERIED_12_5[[#This Row],[IdEstablecimiento]],'[1]Establecimiento 2023'!$A$1:$E$183,3,FALSE),0)","v":"105431-Posta de Salud Rural Pedregal"},{"$f":"IFERROR(VLOOKUP(Tabla_SERIED_12_5[[#This Row],[IdEstablecimiento]],'[1]Establecimiento 2023'!$A$1:$E$183,5,FALSE),0)","v":"04303-Monte Patria"},"15010100","2022-05-18T14:55:47",4,{"$nulls":3},4]
[{"$nulls":23},4,"5",2022,"105431",{"$f":"IFERROR(VLOOKUP(Tabla_SERIED_12_5[[#This Row],[IdEstablecimiento]],'[1]Establecimiento 2023'!$A$1:$E$183,3,FALSE),0)","v":"105431-Posta de Salud Rural Pedregal"},{"$f":"IFERROR(VLOOKUP(Tabla_SERIED_12_5[[#This Row],[IdEstablecimiento]],'[1]Establecimiento 2023'!$A$1:$E$183,5,FALSE),0)","v":"04303-Monte Patria"},"15010200","2022-05-18T14:55:47",18,{"$nulls":4},2,4,12]
[{"$nulls":23},1,"5",2022,"105315",{"$f":"IFERROR(VLOOKUP(Tabla_SERIED_12_5[[#This Row],[IdEstablecimiento]],'[1]Establecimiento 2023'!$A$1:$E$183,3,FALSE),0)","v":"105315-Centro de Salud Familiar Cerrillos de Tamaya"},{"$f":"IFERROR(VLOOKUP(Tabla_SERIED_12_5[[#This Row],[IdEstablecimiento]],'[1]Establecimiento 2023'!$A$1:$E$183,5,FALSE),0)","v":"04301-Ovalle"},"15010100","2022-02-16T10:48:49",54,null,null,10,44]
[{"$nulls":23},6,"5",2022,"105463",{"$f":"IFERROR(VLOOKUP(Tabla_SERIED_12_5[[#This Row],[IdEstablecimiento]],'[1]Establecimiento 2023'!$A$1:$E$183,3,FALSE),0)","v":"105463-Posta de Salud Rural Quilitapia"},{"$f":"IFERROR(VLOOKUP(Tabla_SERIED_12_5[[#This Row],[IdEstablecimiento]],'[1]Establecimiento 2023'!$A$1:$E$183,5,FALSE),0)","v":"04302-Combarbalá"},"15080008","2022-07-14T14:23:44",1,{"$nulls":7},1]
[{"$nulls":23},3,"5",2022,"105107",{"$f":"IFERROR(VLOOKUP(Tabla_SERIED_12_5[[#This Row],[IdEstablecimiento]],'[1]Establecimiento 2023'!$A$1:$E$183,3,FALSE),0)","v":"105107-Hospital San Juan de Dios (Vicuña)"},{"$f":"IFERROR(VLOOKUP(Tabla_SERIED_12_5[[#This Row],[IdEstablecimiento]],'[1]Establecimiento 2023'!$A$1:$E$183,5,FALSE),0)","v":"105107-Hospital Vicuña"},"15050200","2022-04-19T08:00:25",9,4,5,{"$nulls":3},3,null,1,4,null,1]
[{"$nulls":23},5,"5",2022,"200367",{"$f":"IFERROR(VLOOKUP(Tabla_SERIED_12_5[[#This Row],[IdEstablecimiento]],'[1]Establecimiento 2023'!$A$1:$E$183,3,FALSE),0)","v":"200367-Centro Comunitario de Salud Familiar Colonia Limarí"},{"$f":"IFERROR(VLOOKUP(Tabla_SERIED_12_5[[#This Row],[IdEstablecimiento]],'[1]Establecimiento 2023'!$A$1:$E$183,5,FALSE),0)","v":"04301-Ovalle"},"16090300","2022-06-20T17:36:39",135,135]
[{"$nulls":23},5,"5",2022,"105442",{"$f":"IFERROR(VLOOKUP(Tabla_SERIED_12_5[[#This Row],[IdEstablecimiento]],'[1]Establecimiento 2023'!$A$1:$E$183,3,FALSE),0)","v":"105442-Posta de Salud Rural San Pedro de Quiles"},{"$f":"IFERROR(VLOOKUP(Tabla_SERIED_12_5[[#This Row],[IdEstablecimiento]],'[1]Establecimiento 2023'!$A$1:$E$183,5,FALSE),0)","v":"04304-Punitaqui"},"15010200","2022-06-20T17:16:52",6,{"$nulls":5},6]
[{"$nulls":23},6,"5",2022,"105436",{"$f":"IFERROR(VLOOKUP(Tabla_SERIED_12_5[[#This Row],[IdEstablecimiento]],'[1]Establecimiento 2023'!$A$1:$E$183,3,FALSE),0)","v":"105436-Posta de Salud Rural El Maitén"},{"$f":"IFERROR(VLOOKUP(Tabla_SERIED_12_5[[#This Row],[IdEstablecimiento]],'[1]Establecimiento 2023'!$A$1:$E$183,5,FALSE),0)","v":"04303-Monte Patria"},"16090300","2022-07-14T14:14:30",12,12]
[{"$nulls":23},5,"5",2022,"105315",{"$f":"IFERROR(VLOOKUP(Tabla_SERIED_12_5[[#This Row],[IdEstablecimiento]],'[1]Establecimiento 2023'!$A$1:$E$183,3,FALSE),0)","v":"105315-Centro de Salud Familiar Cerrillos de Tamaya"},{"$f":"IFERROR(VLOOKUP(Tabla_SERIED_12_5[[#This Row],[IdEstablecimiento]],'[1]Establecimiento 2023'!$A$1:$E$183,5,FALSE),0)","v":"04301-Ovalle"},"15900040","2022-06-20T17:03:54",6.8,4.4,2.4]
[{"$nulls":23},3,"5",2022,"105458",{"$f":"IFERROR(VLOOKUP(Tabla_SERIED_12_5[[#This Row],[IdEstablecimiento]],'[1]Establecimiento 2023'!$A$1:$E$183,3,FALSE),0)","v":"105458-Posta de Salud Rural Tahuinco"},{"$f":"IFERROR(VLOOKUP(Tabla_SERIED_12_5[[#This Row],[IdEstablecimiento]],'[1]Establecimiento 2023'!$A$1:$E$183,5,FALSE),0)","v":"04204-Salamanca"},"16090300","2022-04-19T09:56:14",149,149]
[{"$nulls":23},3,"5",2022,"105106",{"$f":"IFERROR(VLOOKUP(Tabla_SERIED_12_5[[#This Row],[IdEstablecimiento]],'[1]Establecimiento 2023'!$A$1:$E$183,3,FALSE),0)","v":"105106-Hospital Dr. José Arraño (Andacollo)"},{"$f":"IFERROR(VLOOKUP(Tabla_SERIED_12_5[[#This Row],[IdEstablecimiento]],'[1]Establecimiento 2023'!$A$1:$E$183,5,FALSE),0)","v":"105106-Hospital Andacollo"},"15010400","2022-04-19T08:00:12",14,{"$nulls":4},2,12]
[{"$nulls":23},10,"5",2022,"105458",{"$f":"IFERROR(VLOOKUP(Tabla_SERIED_12_5[[#This Row],[IdEstablecimiento]],'[1]Establecimiento 2023'!$A$1:$E$183,3,FALSE),0)","v":"105458-Posta de Salud Rural Tahuinco"},{"$f":"IFERROR(VLOOKUP(Tabla_SERIED_12_5[[#This Row],[IdEstablecimiento]],'[1]Establecimiento 2023'!$A$1:$E$183,5,FALSE),0)","v":"04204-Salamanca"},"15080008","2022-11-15T13:51:19",15,{"$nulls":7},4,null,4,null,7]
[{"$nulls":23},10,"5",2022,"105459",{"$f":"IFERROR(VLOOKUP(Tabla_SERIED_12_5[[#This Row],[IdEstablecimiento]],'[1]Establecimiento 2023'!$A$1:$E$183,3,FALSE),0)","v":"105459-Posta de Salud Rural Barrancas"},{"$f":"IFERROR(VLOOKUP(Tabla_SERIED_12_5[[#This Row],[IdEstablecimiento]],'[1]Establecimiento 2023'!$A$1:$E$183,5,FALSE),0)","v":"04302-Combarbalá"},"15080008","2022-11-15T13:51:32",1,{"$nulls":11},1]
[{"$nulls":23},10,"5",2022,"105460",{"$f":"IFERROR(VLOOKUP(Tabla_SERIED_12_5[[#This Row],[IdEstablecimiento]],'[1]Establecimiento 2023'!$A$1:$E$183,3,FALSE),0)","v":"105460-Centro Comunitario de Salud Familiar Cogotí 18"},{"$f":"IFERROR(VLOOKUP(Tabla_SERIED_12_5[[#This Row],[IdEstablecimiento]],'[1]Establecimiento 2023'!$A$1:$E$183,5,FALSE),0)","v":"04302-Combarbalá"},"15010400","2022-11-15T13:51:45",2,{"$nulls":5},2]
[{"$nulls":23},1,"5",2022,"105108",{"$f":"IFERROR(VLOOKUP(Tabla_SERIED_12_5[[#This Row],[IdEstablecimiento]],'[1]Establecimiento 2023'!$A$1:$E$183,3,FALSE),0)","v":"105108-Hospital San Pedro (Los Vilos)"},{"$f":"IFERROR(VLOOKUP(Tabla_SERIED_12_5[[#This Row],[IdEstablecimiento]],'[1]Establecimiento 2023'!$A$1:$E$183,5,FALSE),0)","v":"105108-Hospital Los Vilos"},"16090300","2022-05-18T15:37:40",192,192]
[{"$nulls":23},3,"5",2022,"105437",{"$f":"IFERROR(VLOOKUP(Tabla_SERIED_12_5[[#This Row],[IdEstablecimiento]],'[1]Establecimiento 2023'!$A$1:$E$183,3,FALSE),0)","v":"105437-Posta de Salud Rural Chalinga"},{"$f":"IFERROR(VLOOKUP(Tabla_SERIED_12_5[[#This Row],[IdEstablecimiento]],'[1]Establecimiento 2023'!$A$1:$E$183,5,FALSE),0)","v":"04301-Ovalle"},"15010100","2022-04-19T09:44:31",2,{"$nulls":3},2]
[{"$nulls":23},1,"5",2022,"105469",{"$f":"IFERROR(VLOOKUP(Tabla_SERIED_12_5[[#This Row],[IdEstablecimiento]],'[1]Establecimiento 2023'!$A$1:$E$183,3,FALSE),0)","v":"105469-Posta de Salud Rural El Tambo (Vicuña)"},{"$f":"IFERROR(VLOOKUP(Tabla_SERIED_12_5[[#This Row],[IdEstablecimiento]],'[1]Establecimiento 2023'!$A$1:$E$183,5,FALSE),0)","v":"04106-Vicuña"},"15080008","2022-02-17T03:52:42",3,{"$nulls":7},2,null,null,1]
[{"$nulls":23},3,"5",2022,"105107",{"$f":"IFERROR(VLOOKUP(Tabla_SERIED_12_5[[#This Row],[IdEstablecimiento]],'[1]Establecimiento 2023'!$A$1:$E$183,3,FALSE),0)","v":"105107-Hospital San Juan de Dios (Vicuña)"},{"$f":"IFERROR(VLOOKUP(Tabla_SERIED_12_5[[#This Row],[IdEstablecimiento]],'[1]Establecimiento 2023'!$A$1:$E$183,5,FALSE),0)","v":"105107-Hospital Vicuña"},"16100300","2022-04-19T08:00:25",208,85,123,4,77]
[{"$nulls":23},6,"5",2022,"105411",{"$f":"IFERROR(VLOOKUP(Tabla_SERIED_12_5[[#This Row],[IdEstablecimiento]],'[1]Establecimiento 2023'!$A$1:$E$183,3,FALSE),0)","v":"105411-Posta de Salud Rural Las Breas (Río Hurtado)"},{"$f":"IFERROR(VLOOKUP(Tabla_SERIED_12_5[[#This Row],[IdEstablecimiento]],'[1]Establecimiento 2023'!$A$1:$E$183,5,FALSE),0)","v":"04305-Río Hurtado"},"15010300","2022-07-14T14:52:38",2,{"$nulls":3},2]
[{"$nulls":23},6,"5",2022,"105413",{"$f":"IFERROR(VLOOKUP(Tabla_SERIED_12_5[[#This Row],[IdEstablecimiento]],'[1]Establecimiento 2023'!$A$1:$E$183,3,FALSE),0)","v":"105413-Posta de Salud Rural Samo Alto"},{"$f":"IFERROR(VLOOKUP(Tabla_SERIED_12_5[[#This Row],[IdEstablecimiento]],'[1]Establecimiento 2023'!$A$1:$E$183,5,FALSE),0)","v":"04305-Río Hurtado"},"15010100","2022-07-14T14:54:07",2,{"$nulls":3},2]
[{"$nulls":23},10,"5",2022,"105461",{"$f":"IFERROR(VLOOKUP(Tabla_SERIED_12_5[[#This Row],[IdEstablecimiento]],'[1]Establecimiento 2023'!$A$1:$E$183,3,FALSE),0)","v":"105461-Posta de Salud Rural El Huacho"},{"$f":"IFERROR(VLOOKUP(Tabla_SERIED_12_5[[#This Row],[IdEstablecimiento]],'[1]Establecimiento 2023'!$A$1:$E$183,5,FALSE),0)","v":"04302-Combarbalá"},"15010100","2022-11-15T13:51:59",2,{"$nulls":3},2]
[{"$nulls":23},10,"5",2022,"105462",{"$f":"IFERROR(VLOOKUP(Tabla_SERIED_12_5[[#This Row],[IdEstablecimiento]],'[1]Establecimiento 2023'!$A$1:$E$183,3,FALSE),0)","v":"105462-Posta de Salud Rural El Sauce (Combarbalá)"},{"$f":"IFERROR(VLOOKUP(Tabla_SERIED_12_5[[#This Row],[IdEstablecimiento]],'[1]Establecimiento 2023'!$A$1:$E$183,5,FALSE),0)","v":"04302-Combarbalá"},"15080008","2022-11-15T13:52:15",5,{"$nulls":7},1,null,4]
[{"$nulls":23},10,"5",2022,"105463",{"$f":"IFERROR(VLOOKUP(Tabla_SERIED_12_5[[#This Row],[IdEstablecimiento]],'[1]Establecimiento 2023'!$A$1:$E$183,3,FALSE),0)","v":"105463-Posta de Salud Rural Quilitapia"},{"$f":"IFERROR(VLOOKUP(Tabla_SERIED_12_5[[#This Row],[IdEstablecimiento]],'[1]Establecimiento 2023'!$A$1:$E$183,5,FALSE),0)","v":"04302-Combarbalá"},"15010200","2022-11-15T13:52:30",18,{"$nulls":4},2,6,10]
[{"$nulls":23},5,"5",2022,"105301",{"$f":"IFERROR(VLOOKUP(Tabla_SERIED_12_5[[#This Row],[IdEstablecimiento]],'[1]Establecimiento 2023'!$A$1:$E$183,3,FALSE),0)","v":"105301-Centro de Salud Familiar Las Compañías"},{"$f":"IFERROR(VLOOKUP(Tabla_SERIED_12_5[[#This Row],[IdEstablecimiento]],'[1]Establecimiento 2023'!$A$1:$E$183,5,FALSE),0)","v":"04101-La Serena"},"16100300","2022-06-20T16:59:40",475,206,269,28,206]
[{"$nulls":23},5,"5",2022,"105302",{"$f":"IFERROR(VLOOKUP(Tabla_SERIED_12_5[[#This Row],[IdEstablecimiento]],'[1]Establecimiento 2023'!$A$1:$E$183,3,FALSE),0)","v":"105302-Centro de Salud Familiar Pedro Aguirre Cerda"},{"$f":"IFERROR(VLOOKUP(Tabla_SERIED_12_5[[#This Row],[IdEstablecimiento]],'[1]Establecimiento 2023'!$A$1:$E$183,5,FALSE),0)","v":"04101-La Serena"},"15080009","2022-06-20T16:59:55",3,{"$nulls":9},3]
[{"$nulls":23},5,"5",2022,"105302",{"$f":"IFERROR(VLOOKUP(Tabla_SERIED_12_5[[#This Row],[IdEstablecimiento]],'[1]Establecimiento 2023'!$A$1:$E$183,3,FALSE),0)","v":"105302-Centro de Salud Familiar Pedro Aguirre Cerda"},{"$f":"IFERROR(VLOOKUP(Tabla_SERIED_12_5[[#This Row],[IdEstablecimiento]],'[1]Establecimiento 2023'!$A$1:$E$183,5,FALSE),0)","v":"04101-La Serena"},"15030200","2022-06-20T16:59:55",3.6,null,null,3.6]
[{"$nulls":23},5,"5",2022,"105304",{"$f":"IFERROR(VLOOKUP(Tabla_SERIED_12_5[[#This Row],[IdEstablecimiento]],'[1]Establecimiento 2023'!$A$1:$E$183,3,FALSE),0)","v":"105304-Centro de Salud Familiar Santa Cecilia"},{"$f":"IFERROR(VLOOKUP(Tabla_SERIED_12_5[[#This Row],[IdEstablecimiento]],'[1]Establecimiento 2023'!$A$1:$E$183,5,FALSE),0)","v":"04102-Coquimbo"},"15900010","2022-06-20T17:00:17",177.6,6.4,32,139.2]
[{"$nulls":23},4,"5",2022,"105314",{"$f":"IFERROR(VLOOKUP(Tabla_SERIED_12_5[[#This Row],[IdEstablecimiento]],'[1]Establecimiento 2023'!$A$1:$E$183,3,FALSE),0)","v":"105314-Centro de Salud Familiar La Higuera"},{"$f":"IFERROR(VLOOKUP(Tabla_SERIED_12_5[[#This Row],[IdEstablecimiento]],'[1]Establecimiento 2023'!$A$1:$E$183,5,FALSE),0)","v":"04104-La Higuera"},"15080008","2022-05-18T11:52:06",5,{"$nulls":7},5]
[{"$nulls":23},8,"5",2022,"105401",{"$f":"IFERROR(VLOOKUP(Tabla_SERIED_12_5[[#This Row],[IdEstablecimiento]],'[1]Establecimiento 2023'!$A$1:$E$183,3,FALSE),0)","v":"105401-Posta de Salud Rural Las Rojas"},{"$f":"IFERROR(VLOOKUP(Tabla_SERIED_12_5[[#This Row],[IdEstablecimiento]],'[1]Establecimiento 2023'!$A$1:$E$183,5,FALSE),0)","v":"04101-La Serena"},"15010400","2022-09-21T07:20:46",2,{"$nulls":5},2]
[{"$nulls":23},10,"5",2022,"105480",{"$f":"IFERROR(VLOOKUP(Tabla_SERIED_12_5[[#This Row],[IdEstablecimiento]],'[1]Establecimiento 2023'!$A$1:$E$183,3,FALSE),0)","v":"105480-Posta de Salud Rural Quilimarí"},{"$f":"IFERROR(VLOOKUP(Tabla_SERIED_12_5[[#This Row],[IdEstablecimiento]],'[1]Establecimiento 2023'!$A$1:$E$183,5,FALSE),0)","v":"04203-Los Vilos"},"16100300","2022-11-15T13:58:23",66,32,34,3,60]
[{"$nulls":23},10,"5",2022,"105482",{"$f":"IFERROR(VLOOKUP(Tabla_SERIED_12_5[[#This Row],[IdEstablecimiento]],'[1]Establecimiento 2023'!$A$1:$E$183,3,FALSE),0)","v":"105482-Posta de Salud Rural Canela Alta"},{"$f":"IFERROR(VLOOKUP(Tabla_SERIED_12_5[[#This Row],[IdEstablecimiento]],'[1]Establecimiento 2023'!$A$1:$E$183,5,FALSE),0)","v":"04202-Canela"},"15010200","2022-11-15T13:59:06",6,{"$nulls":4},2,2,2]
[{"$nulls":23},3,"5",2022,"105313",{"$f":"IFERROR(VLOOKUP(Tabla_SERIED_12_5[[#This Row],[IdEstablecimiento]],'[1]Establecimiento 2023'!$A$1:$E$183,3,FALSE),0)","v":"105313-Centro de Salud Familiar Dr. Emilio Schaffhauser"},{"$f":"IFERROR(VLOOKUP(Tabla_SERIED_12_5[[#This Row],[IdEstablecimiento]],'[1]Establecimiento 2023'!$A$1:$E$183,5,FALSE),0)","v":"04101-La Serena"},"15020200","2022-04-19T08:09:04",19,{"$nulls":4},8,4,7]
[{"$nulls":23},5,"5",2022,"105445",{"$f":"IFERROR(VLOOKUP(Tabla_SERIED_12_5[[#This Row],[IdEstablecimiento]],'[1]Establecimiento 2023'!$A$1:$E$183,3,FALSE),0)","v":"105445-Posta de Salud Rural Limáhuida"},{"$f":"IFERROR(VLOOKUP(Tabla_SERIED_12_5[[#This Row],[IdEstablecimiento]],'[1]Establecimiento 2023'!$A$1:$E$183,5,FALSE),0)","v":"04201-Illapel"},"15010400","2022-06-20T17:17:34",2,{"$nulls":5},2]
[{"$nulls":23},1,"5",2022,"105511",{"$f":"IFERROR(VLOOKUP(Tabla_SERIED_12_5[[#This Row],[IdEstablecimiento]],'[1]Establecimiento 2023'!$A$1:$E$183,3,FALSE),0)","v":"105511-Posta de Salud Rural Los Cóndores"},{"$f":"IFERROR(VLOOKUP(Tabla_SERIED_12_5[[#This Row],[IdEstablecimiento]],'[1]Establecimiento 2023'!$A$1:$E$183,5,FALSE),0)","v":"04203-Los Vilos"},"16100600","2022-05-18T15:41:42",1,0,1,null,0]
[{"$nulls":23},6,"5",2022,"105501",{"$f":"IFERROR(VLOOKUP(Tabla_SERIED_12_5[[#This Row],[IdEstablecimiento]],'[1]Establecimiento 2023'!$A$1:$E$183,3,FALSE),0)","v":"105501-Posta de Salud Rural Arboleda Grande"},{"$f":"IFERROR(VLOOKUP(Tabla_SERIED_12_5[[#This Row],[IdEstablecimiento]],'[1]Establecimiento 2023'!$A$1:$E$183,5,FALSE),0)","v":"04204-Salamanca"},"15050100","2022-07-14T14:35:40",41,21,20,null,null,4,4,5,12,12,2,null,1,null,1]
[{"$nulls":23},6,"5",2022,"105501",{"$f":"IFERROR(VLOOKUP(Tabla_SERIED_12_5[[#This Row],[IdEstablecimiento]],'[1]Establecimiento 2023'!$A$1:$E$183,3,FALSE),0)","v":"105501-Posta de Salud Rural Arboleda Grande"},{"$f":"IFERROR(VLOOKUP(Tabla_SERIED_12_5[[#This Row],[IdEstablecimiento]],'[1]Establecimiento 2023'!$A$1:$E$183,5,FALSE),0)","v":"04204-Salamanca"},"16090300","2022-07-14T14:35:40",92,92]
[{"$nulls":23},8,"5",2022,"105407",{"$f":"IFERROR(VLOOKUP(Tabla_SERIED_12_5[[#This Row],[IdEstablecimiento]],'[1]Establecimiento 2023'!$A$1:$E$183,3,FALSE),0)","v":"105407-Posta de Salud Rural Tambillo"},{"$f":"IFERROR(VLOOKUP(Tabla_SERIED_12_5[[#This Row],[IdEstablecimiento]],'[1]Establecimiento 2023'!$A$1:$E$183,5,FALSE),0)","v":"04102-Coquimbo"},"15010100","2022-09-21T07:21:52",2,{"$nulls":3},2]
[{"$nulls":23},8,"5",2022,"105409",{"$f":"IFERROR(VLOOKUP(Tabla_SERIED_12_5[[#This Row],[IdEstablecimiento]],'[1]Establecimiento 2023'!$A$1:$E$183,3,FALSE),0)","v":"105409-Posta de Salud Rural El Chañar"},{"$f":"IFERROR(VLOOKUP(Tabla_SERIED_12_5[[#This Row],[IdEstablecimiento]],'[1]Establecimiento 2023'!$A$1:$E$183,5,FALSE),0)","v":"04305-Río Hurtado"},"15080008","2022-09-21T07:22:05",2,{"$nulls":9},2]
[{"$nulls":23},10,"5",2022,"105309",{"$f":"IFERROR(VLOOKUP(Tabla_SERIED_12_5[[#This Row],[IdEstablecimiento]],'[1]Establecimiento 2023'!$A$1:$E$183,3,FALSE),0)","v":"105309-Centro de Salud Familiar Canela"},{"$f":"IFERROR(VLOOKUP(Tabla_SERIED_12_5[[#This Row],[IdEstablecimiento]],'[1]Establecimiento 2023'!$A$1:$E$183,5,FALSE),0)","v":"04202-Canela"},"16100300","2022-11-15T13:32:35",287,127,160,4,102]
[{"$nulls":23},1,"5",2022,"105304",{"$f":"IFERROR(VLOOKUP(Tabla_SERIED_12_5[[#This Row],[IdEstablecimiento]],'[1]Establecimiento 2023'!$A$1:$E$183,3,FALSE),0)","v":"105304-Centro de Salud Familiar Santa Cecilia"},{"$f":"IFERROR(VLOOKUP(Tabla_SERIED_12_5[[#This Row],[IdEstablecimiento]],'[1]Establecimiento 2023'!$A$1:$E$183,5,FALSE),0)","v":"04102-Coquimbo"},"16200210","2022-02-16T10:35:19",44,44]
[{"$nulls":23},3,"5",2022,"105453",{"$f":"IFERROR(VLOOKUP(Tabla_SERIED_12_5[[#This Row],[IdEstablecimiento]],'[1]Establecimiento 2023'!$A$1:$E$183,3,FALSE),0)","v":"105453-Posta de Salud Rural Tranquilla"},{"$f":"IFERROR(VLOOKUP(Tabla_SERIED_12_5[[#This Row],[IdEstablecimiento]],'[1]Establecimiento 2023'!$A$1:$E$183,5,FALSE),0)","v":"04204-Salamanca"},"15020100","2022-04-20T05:41:52",2,null,null,2]
[{"$nulls":23},3,"5",2022,"105453",{"$f":"IFERROR(VLOOKUP(Tabla_SERIED_12_5[[#This Row],[IdEstablecimiento]],'[1]Establecimiento 2023'!$A$1:$E$183,3,FALSE),0)","v":"105453-Posta de Salud Rural Tranquilla"},{"$f":"IFERROR(VLOOKUP(Tabla_SERIED_12_5[[#This Row],[IdEstablecimiento]],'[1]Establecimiento 2023'!$A$1:$E$183,5,FALSE),0)","v":"04204-Salamanca"},"15020200","2022-04-20T05:41:52",2,{"$nulls":4},2]
[{"$nulls":23},5,"5",2022,"105443",{"$f":"IFERROR(VLOOKUP(Tabla_SERIED_12_5[[#This Row],[IdEstablecimiento]],'[1]Establecimiento 2023'!$A$1:$E$183,3,FALSE),0)","v":"105443-Posta de Salud Rural Cárcamo"},{"$f":"IFERROR(VLOOKUP(Tabla_SERIED_12_5[[#This Row],[IdEstablecimiento]],'[1]Establecimiento 2023'!$A$1:$E$183,5,FALSE),0)","v":"04201-Illapel"},"16090300","2022-06-20T17:17:07",112,112]
[{"$nulls":23},6,"5",2022,"105452",{"$f":"IFERROR(VLOOKUP(Tabla_SERIED_12_5[[#This Row],[IdEstablecimiento]],'[1]Establecimiento 2023'!$A$1:$E$183,3,FALSE),0)","v":"105452-Posta de Salud Rural Cuncumén(Salamanca)"},{"$f":"IFERROR(VLOOKUP(Tabla_SERIED_12_5[[#This Row],[IdEstablecimiento]],'[1]Establecimiento 2023'!$A$1:$E$183,5,FALSE),0)","v":"04204-Salamanca"},"16200210","2022-07-14T14:17:54",5,5]
[{"$nulls":23},2,"5",2022,"105301",{"$f":"IFERROR(VLOOKUP(Tabla_SERIED_12_5[[#This Row],[IdEstablecimiento]],'[1]Establecimiento 2023'!$A$1:$E$183,3,FALSE),0)","v":"105301-Centro de Salud Familiar Las Compañías"},{"$f":"IFERROR(VLOOKUP(Tabla_SERIED_12_5[[#This Row],[IdEstablecimiento]],'[1]Establecimiento 2023'!$A$1:$E$183,5,FALSE),0)","v":"04101-La Serena"},"15010300","2022-03-17T09:26:46",5,{"$nulls":3},5,0]
[{"$nulls":23},2,"5",2022,"105481",{"$f":"IFERROR(VLOOKUP(Tabla_SERIED_12_5[[#This Row],[IdEstablecimiento]],'[1]Establecimiento 2023'!$A$1:$E$183,3,FALSE),0)","v":"105481-Posta de Salud Rural Tilama"},{"$f":"IFERROR(VLOOKUP(Tabla_SERIED_12_5[[#This Row],[IdEstablecimiento]],'[1]Establecimiento 2023'!$A$1:$E$183,5,FALSE),0)","v":"04203-Los Vilos"},"16100600","2022-03-17T09:54:24",1,0,1,0,0]
[{"$nulls":23},8,"5",2022,"105442",{"$f":"IFERROR(VLOOKUP(Tabla_SERIED_12_5[[#This Row],[IdEstablecimiento]],'[1]Establecimiento 2023'!$A$1:$E$183,3,FALSE),0)","v":"105442-Posta de Salud Rural San Pedro de Quiles"},{"$f":"IFERROR(VLOOKUP(Tabla_SERIED_12_5[[#This Row],[IdEstablecimiento]],'[1]Establecimiento 2023'!$A$1:$E$183,5,FALSE),0)","v":"04304-Punitaqui"},"16100300","2022-09-21T07:42:32",23,11,12,null,4]
[{"$nulls":23},5,"5",2022,"105452",{"$f":"IFERROR(VLOOKUP(Tabla_SERIED_12_5[[#This Row],[IdEstablecimiento]],'[1]Establecimiento 2023'!$A$1:$E$183,3,FALSE),0)","v":"105452-Posta de Salud Rural Cuncumén(Salamanca)"},{"$f":"IFERROR(VLOOKUP(Tabla_SERIED_12_5[[#This Row],[IdEstablecimiento]],'[1]Establecimiento 2023'!$A$1:$E$183,5,FALSE),0)","v":"04204-Salamanca"},"16090300","2022-06-22T10:49:48",32,32]
[{"$nulls":23},5,"5",2022,"105453",{"$f":"IFERROR(VLOOKUP(Tabla_SERIED_12_5[[#This Row],[IdEstablecimiento]],'[1]Establecimiento 2023'!$A$1:$E$183,3,FALSE),0)","v":"105453-Posta de Salud Rural Tranquilla"},{"$f":"IFERROR(VLOOKUP(Tabla_SERIED_12_5[[#This Row],[IdEstablecimiento]],'[1]Establecimiento 2023'!$A$1:$E$183,5,FALSE),0)","v":"04204-Salamanca"},"15010500","2022-06-22T10:50:05",2,{"$nulls":5},2]
[{"$nulls":23},5,"5",2022,"105454",{"$f":"IFERROR(VLOOKUP(Tabla_SERIED_12_5[[#This Row],[IdEstablecimiento]],'[1]Establecimiento 2023'!$A$1:$E$183,3,FALSE),0)","v":"105454-Posta de Salud Rural Cunlagua"},{"$f":"IFERROR(VLOOKUP(Tabla_SERIED_12_5[[#This Row],[IdEstablecimiento]],'[1]Establecimiento 2023'!$A$1:$E$183,5,FALSE),0)","v":"04204-Salamanca"},"16200220","2022-06-22T10:50:19",3,2,1]
[{"$nulls":23},7,"5",2022,"200494",{"$f":"IFERROR(VLOOKUP(Tabla_SERIED_12_5[[#This Row],[IdEstablecimiento]],'[1]Establecimiento 2023'!$A$1:$E$183,3,FALSE),0)","v":"200494-Centro de Salud Familiar El Sauce"},{"$f":"IFERROR(VLOOKUP(Tabla_SERIED_12_5[[#This Row],[IdEstablecimiento]],'[1]Establecimiento 2023'!$A$1:$E$183,5,FALSE),0)","v":"04102-Coquimbo"},"15080008","2022-08-22T06:49:06",206,{"$nulls":7},102,null,64,4,36]
[{"$nulls":23},5,"5",2022,"105300",{"$f":"IFERROR(VLOOKUP(Tabla_SERIED_12_5[[#This Row],[IdEstablecimiento]],'[1]Establecimiento 2023'!$A$1:$E$183,3,FALSE),0)","v":"105300-Centro de Salud Familiar Cardenal Caro"},{"$f":"IFERROR(VLOOKUP(Tabla_SERIED_12_5[[#This Row],[IdEstablecimiento]],'[1]Establecimiento 2023'!$A$1:$E$183,5,FALSE),0)","v":"04101-La Serena"},"16100300","2022-06-20T16:59:29",891,362,529,4,130]
[{"$nulls":23},6,"5",2022,"105452",{"$f":"IFERROR(VLOOKUP(Tabla_SERIED_12_5[[#This Row],[IdEstablecimiento]],'[1]Establecimiento 2023'!$A$1:$E$183,3,FALSE),0)","v":"105452-Posta de Salud Rural Cuncumén(Salamanca)"},{"$f":"IFERROR(VLOOKUP(Tabla_SERIED_12_5[[#This Row],[IdEstablecimiento]],'[1]Establecimiento 2023'!$A$1:$E$183,5,FALSE),0)","v":"04204-Salamanca"},"16200220","2022-07-14T14:17:54",5,3,2]
[{"$nulls":23},6,"5",2022,"105452",{"$f":"IFERROR(VLOOKUP(Tabla_SERIED_12_5[[#This Row],[IdEstablecimiento]],'[1]Establecimiento 2023'!$A$1:$E$183,3,FALSE),0)","v":"105452-Posta de Salud Rural Cuncumén(Salamanca)"},{"$f":"IFERROR(VLOOKUP(Tabla_SERIED_12_5[[#This Row],[IdEstablecimiento]],'[1]Establecimiento 2023'!$A$1:$E$183,5,FALSE),0)","v":"04204-Salamanca"},"15010400","2022-07-14T14:17:54",2,{"$nulls":4},2]
[{"$nulls":23},6,"5",2022,"105453",{"$f":"IFERROR(VLOOKUP(Tabla_SERIED_12_5[[#This Row],[IdEstablecimiento]],'[1]Establecimiento 2023'!$A$1:$E$183,3,FALSE),0)","v":"105453-Posta de Salud Rural Tranquilla"},{"$f":"IFERROR(VLOOKUP(Tabla_SERIED_12_5[[#This Row],[IdEstablecimiento]],'[1]Establecimiento 2023'!$A$1:$E$183,5,FALSE),0)","v":"04204-Salamanca"},"16200220","2022-07-14T14:18:07",7,4,3,null,1]
[{"$nulls":23},1,"5",2022,"105306",{"$f":"IFERROR(VLOOKUP(Tabla_SERIED_12_5[[#This Row],[IdEstablecimiento]],'[1]Establecimiento 2023'!$A$1:$E$183,3,FALSE),0)","v":"105306-Centro de Salud Familiar Paihuano"},{"$f":"IFERROR(VLOOKUP(Tabla_SERIED_12_5[[#This Row],[IdEstablecimiento]],'[1]Establecimiento 2023'!$A$1:$E$183,5,FALSE),0)","v":"04105-Paiguano"},"15080008","2022-02-16T10:35:52",17,{"$nulls":7},11,null,4,null,2]
[{"$nulls":23},6,"5",2022,"105487",{"$f":"IFERROR(VLOOKUP(Tabla_SERIED_12_5[[#This Row],[IdEstablecimiento]],'[1]Establecimiento 2023'!$A$1:$E$183,3,FALSE),0)","v":"105487-Posta de Salud Rural Cañas Uno"},{"$f":"IFERROR(VLOOKUP(Tabla_SERIED_12_5[[#This Row],[IdEstablecimiento]],'[1]Establecimiento 2023'!$A$1:$E$183,5,FALSE),0)","v":"04201-Illapel"},"15080008","2022-07-14T14:33:04",19,{"$nulls":7},12,null,2,null,5]
[{"$nulls":23},6,"5",2022,"105487",{"$f":"IFERROR(VLOOKUP(Tabla_SERIED_12_5[[#This Row],[IdEstablecimiento]],'[1]Establecimiento 2023'!$A$1:$E$183,3,FALSE),0)","v":"105487-Posta de Salud Rural Cañas Uno"},{"$f":"IFERROR(VLOOKUP(Tabla_SERIED_12_5[[#This Row],[IdEstablecimiento]],'[1]Establecimiento 2023'!$A$1:$E$183,5,FALSE),0)","v":"04201-Illapel"},"15900010","2022-07-14T14:33:04",5.6,null,2.4,3.2]
[{"$nulls":23},7,"5",2022,"105702",{"$f":"IFERROR(VLOOKUP(Tabla_SERIED_12_5[[#This Row],[IdEstablecimiento]],'[1]Establecimiento 2023'!$A$1:$E$183,3,FALSE),0)","v":"105702-Centro Comunitario de Salud Familiar Lambert"},{"$f":"IFERROR(VLOOKUP(Tabla_SERIED_12_5[[#This Row],[IdEstablecimiento]],'[1]Establecimiento 2023'!$A$1:$E$183,5,FALSE),0)","v":"04101-La Serena"},"16100300","2022-08-22T06:47:11",46,13,33,4,13]
[{"$nulls":23},2,"5",2022,"105453",{"$f":"IFERROR(VLOOKUP(Tabla_SERIED_12_5[[#This Row],[IdEstablecimiento]],'[1]Establecimiento 2023'!$A$1:$E$183,3,FALSE),0)","v":"105453-Posta de Salud Rural Tranquilla"},{"$f":"IFERROR(VLOOKUP(Tabla_SERIED_12_5[[#This Row],[IdEstablecimiento]],'[1]Establecimiento 2023'!$A$1:$E$183,5,FALSE),0)","v":"04204-Salamanca"},"15050200","2022-03-17T09:44:41",1,1,{"$nulls":5},1]
[{"$nulls":23},3,"5",2022,"105303",{"$f":"IFERROR(VLOOKUP(Tabla_SERIED_12_5[[#This Row],[IdEstablecimiento]],'[1]Establecimiento 2023'!$A$1:$E$183,3,FALSE),0)","v":"105303-Centro de Salud Familiar San Juan"},{"$f":"IFERROR(VLOOKUP(Tabla_SERIED_12_5[[#This Row],[IdEstablecimiento]],'[1]Establecimiento 2023'!$A$1:$E$183,5,FALSE),0)","v":"04102-Coquimbo"},"15010400","2022-04-19T08:02:50",2,{"$nulls":4},0,2,0]
[{"$nulls":23},2,"5",2022,"200367",{"$f":"IFERROR(VLOOKUP(Tabla_SERIED_12_5[[#This Row],[IdEstablecimiento]],'[1]Establecimiento 2023'!$A$1:$E$183,3,FALSE),0)","v":"200367-Centro Comunitario de Salud Familiar Colonia Limarí"},{"$f":"IFERROR(VLOOKUP(Tabla_SERIED_12_5[[#This Row],[IdEstablecimiento]],'[1]Establecimiento 2023'!$A$1:$E$183,5,FALSE),0)","v":"04301-Ovalle"},"15050100","2022-03-17T10:07:34",44,13,31,null,null,4,2,7,8,6,7,null,5,0,5]
[{"$nulls":23},2,"5",2022,"200494",{"$f":"IFERROR(VLOOKUP(Tabla_SERIED_12_5[[#This Row],[IdEstablecimiento]],'[1]Establecimiento 2023'!$A$1:$E$183,3,FALSE),0)","v":"200494-Centro de Salud Familiar El Sauce"},{"$f":"IFERROR(VLOOKUP(Tabla_SERIED_12_5[[#This Row],[IdEstablecimiento]],'[1]Establecimiento 2023'!$A$1:$E$183,5,FALSE),0)","v":"04102-Coquimbo"},"15901500","2022-03-17T10:09:07",67.2,1.6,4,61.6]
[{"$nulls":23},2,"5",2022,"200494",{"$f":"IFERROR(VLOOKUP(Tabla_SERIED_12_5[[#This Row],[IdEstablecimiento]],'[1]Establecimiento 2023'!$A$1:$E$183,3,FALSE),0)","v":"200494-Centro de Salud Familiar El Sauce"},{"$f":"IFERROR(VLOOKUP(Tabla_SERIED_12_5[[#This Row],[IdEstablecimiento]],'[1]Establecimiento 2023'!$A$1:$E$183,5,FALSE),0)","v":"04102-Coquimbo"},"15060100","2022-03-17T10:09:07",1,null,1,null,null,1]
[{"$nulls":23},5,"5",2022,"200499",{"$f":"IFERROR(VLOOKUP(Tabla_SERIED_12_5[[#This Row],[IdEstablecimiento]],'[1]Establecimiento 2023'!$A$1:$E$183,3,FALSE),0)","v":"200499-Centro de Salud Familiar Rural Pan de Azúcar"},{"$f":"IFERROR(VLOOKUP(Tabla_SERIED_12_5[[#This Row],[IdEstablecimiento]],'[1]Establecimiento 2023'!$A$1:$E$183,5,FALSE),0)","v":"04102-Coquimbo"},"16090300","2022-06-20T17:37:18",238,320]
[{"$nulls":23},5,"5",2022,"200499",{"$f":"IFERROR(VLOOKUP(Tabla_SERIED_12_5[[#This Row],[IdEstablecimiento]],'[1]Establecimiento 2023'!$A$1:$E$183,3,FALSE),0)","v":"200499-Centro de Salud Familiar Rural Pan de Azúcar"},{"$f":"IFERROR(VLOOKUP(Tabla_SERIED_12_5[[#This Row],[IdEstablecimiento]],'[1]Establecimiento 2023'!$A$1:$E$183,5,FALSE),0)","v":"04102-Coquimbo"},"16200210","2022-06-20T17:37:18",27,38]
[{"$nulls":23},6,"5",2022,"105501",{"$f":"IFERROR(VLOOKUP(Tabla_SERIED_12_5[[#This Row],[IdEstablecimiento]],'[1]Establecimiento 2023'!$A$1:$E$183,3,FALSE),0)","v":"105501-Posta de Salud Rural Arboleda Grande"},{"$f":"IFERROR(VLOOKUP(Tabla_SERIED_12_5[[#This Row],[IdEstablecimiento]],'[1]Establecimiento 2023'!$A$1:$E$183,5,FALSE),0)","v":"04204-Salamanca"},"15010200","2022-07-14T14:35:40",58,{"$nulls":4},10,24,24]
[{"$nulls":23},8,"5",2022,"105306",{"$f":"IFERROR(VLOOKUP(Tabla_SERIED_12_5[[#This Row],[IdEstablecimiento]],'[1]Establecimiento 2023'!$A$1:$E$183,3,FALSE),0)","v":"105306-Centro de Salud Familiar Paihuano"},{"$f":"IFERROR(VLOOKUP(Tabla_SERIED_12_5[[#This Row],[IdEstablecimiento]],'[1]Establecimiento 2023'!$A$1:$E$183,5,FALSE),0)","v":"04105-Paiguano"},"15080008","2022-09-21T07:16:14",14,{"$nulls":7},7,null,6,null,1]
[{"$nulls":23},7,"5",2022,"105481",{"$f":"IFERROR(VLOOKUP(Tabla_SERIED_12_5[[#This Row],[IdEstablecimiento]],'[1]Establecimiento 2023'!$A$1:$E$183,3,FALSE),0)","v":"105481-Posta de Salud Rural Tilama"},{"$f":"IFERROR(VLOOKUP(Tabla_SERIED_12_5[[#This Row],[IdEstablecimiento]],'[1]Establecimiento 2023'!$A$1:$E$183,5,FALSE),0)","v":"04203-Los Vilos"},"15050100","2022-08-22T06:32:05",4,1,3,null,null,1,null,null,1,null,1,null,0,1]
[{"$nulls":23},8,"5",2022,"105455",{"$f":"IFERROR(VLOOKUP(Tabla_SERIED_12_5[[#This Row],[IdEstablecimiento]],'[1]Establecimiento 2023'!$A$1:$E$183,3,FALSE),0)","v":"105455-CESFAM Valle Alto"},{"$f":"IFERROR(VLOOKUP(Tabla_SERIED_12_5[[#This Row],[IdEstablecimiento]],'[1]Establecimiento 2023'!$A$1:$E$183,5,FALSE),0)","v":"04204-Salamanca"},"15080008","2022-09-21T07:45:16",11,{"$nulls":7},4,null,6,null,1]
[{"$nulls":23},8,"5",2022,"105455",{"$f":"IFERROR(VLOOKUP(Tabla_SERIED_12_5[[#This Row],[IdEstablecimiento]],'[1]Establecimiento 2023'!$A$1:$E$183,3,FALSE),0)","v":"105455-CESFAM Valle Alto"},{"$f":"IFERROR(VLOOKUP(Tabla_SERIED_12_5[[#This Row],[IdEstablecimiento]],'[1]Establecimiento 2023'!$A$1:$E$183,5,FALSE),0)","v":"04204-Salamanca"},"16100300","2022-09-21T07:45:16",42,18,24]
[{"$nulls":23},8,"5",2022,"105456",{"$f":"IFERROR(VLOOKUP(Tabla_SERIED_12_5[[#This Row],[IdEstablecimiento]],'[1]Establecimiento 2023'!$A$1:$E$183,3,FALSE),0)","v":"105456-Posta de Salud Rural Llimpo"},{"$f":"IFERROR(VLOOKUP(Tabla_SERIED_12_5[[#This Row],[IdEstablecimiento]],'[1]Establecimiento 2023'!$A$1:$E$183,5,FALSE),0)","v":"04204-Salamanca"},"15050200","2022-09-21T07:45:27",2,2,{"$nulls":3},1,null,null,1]
[{"$nulls":23},3,"5",2022,"105455",{"$f":"IFERROR(VLOOKUP(Tabla_SERIED_12_5[[#This Row],[IdEstablecimiento]],'[1]Establecimiento 2023'!$A$1:$E$183,3,FALSE),0)","v":"105455-CESFAM Valle Alto"},{"$f":"IFERROR(VLOOKUP(Tabla_SERIED_12_5[[#This Row],[IdEstablecimiento]],'[1]Establecimiento 2023'!$A$1:$E$183,5,FALSE),0)","v":"04204-Salamanca"},"15080008","2022-04-19T09:50:04",9,{"$nulls":7},6,null,null,1,2]
[{"$nulls":23},4,"5",2022,"105425",{"$f":"IFERROR(VLOOKUP(Tabla_SERIED_12_5[[#This Row],[IdEstablecimiento]],'[1]Establecimiento 2023'!$A$1:$E$183,3,FALSE),0)","v":"105425-Posta de Salud Rural Chilecito"},{"$f":"IFERROR(VLOOKUP(Tabla_SERIED_12_5[[#This Row],[IdEstablecimiento]],'[1]Establecimiento 2023'!$A$1:$E$183,5,FALSE),0)","v":"04303-Monte Patria"},"16200220","2022-05-18T14:54:18",1,null,1,0]
[{"$nulls":23},6,"5",2022,"105301",{"$f":"IFERROR(VLOOKUP(Tabla_SERIED_12_5[[#This Row],[IdEstablecimiento]],'[1]Establecimiento 2023'!$A$1:$E$183,3,FALSE),0)","v":"105301-Centro de Salud Familiar Las Compañías"},{"$f":"IFERROR(VLOOKUP(Tabla_SERIED_12_5[[#This Row],[IdEstablecimiento]],'[1]Establecimiento 2023'!$A$1:$E$183,5,FALSE),0)","v":"04101-La Serena"},"15010100","2022-07-14T13:36:08",74,null,null,0,74,0]
[{"$nulls":23},6,"5",2022,"105301",{"$f":"IFERROR(VLOOKUP(Tabla_SERIED_12_5[[#This Row],[IdEstablecimiento]],'[1]Establecimiento 2023'!$A$1:$E$183,3,FALSE),0)","v":"105301-Centro de Salud Familiar Las Compañías"},{"$f":"IFERROR(VLOOKUP(Tabla_SERIED_12_5[[#This Row],[IdEstablecimiento]],'[1]Establecimiento 2023'!$A$1:$E$183,5,FALSE),0)","v":"04101-La Serena"},"15900040","2022-07-14T13:36:08",11.6,0,3.6,0,8,0]
[{"$nulls":23},10,"5",2022,"105305",{"$f":"IFERROR(VLOOKUP(Tabla_SERIED_12_5[[#This Row],[IdEstablecimiento]],'[1]Establecimiento 2023'!$A$1:$E$183,3,FALSE),0)","v":"105305-Centro de Salud Familiar Tierras Blancas"},{"$f":"IFERROR(VLOOKUP(Tabla_SERIED_12_5[[#This Row],[IdEstablecimiento]],'[1]Establecimiento 2023'!$A$1:$E$183,5,FALSE),0)","v":"04102-Coquimbo"},"15080010","2022-11-15T13:31:18",1,{"$nulls":7},1]
[{"$nulls":23},10,"5",2022,"105305",{"$f":"IFERROR(VLOOKUP(Tabla_SERIED_12_5[[#This Row],[IdEstablecimiento]],'[1]Establecimiento 2023'!$A$1:$E$183,3,FALSE),0)","v":"105305-Centro de Salud Familiar Tierras Blancas"},{"$f":"IFERROR(VLOOKUP(Tabla_SERIED_12_5[[#This Row],[IdEstablecimiento]],'[1]Establecimiento 2023'!$A$1:$E$183,5,FALSE),0)","v":"04102-Coquimbo"},"16200100","2022-11-15T13:31:18",15,13,2]
[{"$nulls":23},7,"5",2022,"105308",{"$f":"IFERROR(VLOOKUP(Tabla_SERIED_12_5[[#This Row],[IdEstablecimiento]],'[1]Establecimiento 2023'!$A$1:$E$183,3,FALSE),0)","v":"105308-Centro de Salud Familiar Punitaqui"},{"$f":"IFERROR(VLOOKUP(Tabla_SERIED_12_5[[#This Row],[IdEstablecimiento]],'[1]Establecimiento 2023'!$A$1:$E$183,5,FALSE),0)","v":"04304-Punitaqui"},"15050500","2022-08-19T11:59:48",1,null,1,null,1]
[{"$nulls":23},3,"5",2022,"200499",{"$f":"IFERROR(VLOOKUP(Tabla_SERIED_12_5[[#This Row],[IdEstablecimiento]],'[1]Establecimiento 2023'!$A$1:$E$183,3,FALSE),0)","v":"200499-Centro de Salud Familiar Rural Pan de Azúcar"},{"$f":"IFERROR(VLOOKUP(Tabla_SERIED_12_5[[#This Row],[IdEstablecimiento]],'[1]Establecimiento 2023'!$A$1:$E$183,5,FALSE),0)","v":"04102-Coquimbo"},"15900010","2022-04-19T10:15:38",95.2,3.2,26.4,65.6]
[{"$nulls":23},7,"5",2022,"200607",{"$f":"IFERROR(VLOOKUP(Tabla_SERIED_12_5[[#This Row],[IdEstablecimiento]],'[1]Establecimiento 2023'!$A$1:$E$183,3,FALSE),0)","v":"200607-Centro de Salud Familiar Lila Cortés Godoy"},{"$f":"IFERROR(VLOOKUP(Tabla_SERIED_12_5[[#This Row],[IdEstablecimiento]],'[1]Establecimiento 2023'!$A$1:$E$183,5,FALSE),0)","v":"04102-Coquimbo"},"15010100","2022-08-22T06:52:05",190,null,null,2,184,4]
[{"$nulls":23},7,"5",2022,"200607",{"$f":"IFERROR(VLOOKUP(Tabla_SERIED_12_5[[#This Row],[IdEstablecimiento]],'[1]Establecimiento 2023'!$A$1:$E$183,3,FALSE),0)","v":"200607-Centro de Salud Familiar Lila Cortés Godoy"},{"$f":"IFERROR(VLOOKUP(Tabla_SERIED_12_5[[#This Row],[IdEstablecimiento]],'[1]Establecimiento 2023'!$A$1:$E$183,5,FALSE),0)","v":"04102-Coquimbo"},"15010200","2022-08-22T06:52:05",513,{"$nulls":4},116,246,151]
[{"$nulls":23},8,"5",2022,"200366",{"$f":"IFERROR(VLOOKUP(Tabla_SERIED_12_5[[#This Row],[IdEstablecimiento]],'[1]Establecimiento 2023'!$A$1:$E$183,3,FALSE),0)","v":"200366-Centro de Salud Familiar Urbano de Illapel"},{"$f":"IFERROR(VLOOKUP(Tabla_SERIED_12_5[[#This Row],[IdEstablecimiento]],'[1]Establecimiento 2023'!$A$1:$E$183,5,FALSE),0)","v":"04201-Illapel"},"15900010","2022-09-21T08:04:04",72.3,4.5,12.1,55.7]
[{"$nulls":23},8,"5",2022,"200366",{"$f":"IFERROR(VLOOKUP(Tabla_SERIED_12_5[[#This Row],[IdEstablecimiento]],'[1]Establecimiento 2023'!$A$1:$E$183,3,FALSE),0)","v":"200366-Centro de Salud Familiar Urbano de Illapel"},{"$f":"IFERROR(VLOOKUP(Tabla_SERIED_12_5[[#This Row],[IdEstablecimiento]],'[1]Establecimiento 2023'!$A$1:$E$183,5,FALSE),0)","v":"04201-Illapel"},"15010500","2022-09-21T08:04:04",22,{"$nulls":3},6,4,4,8]
[{"$nulls":23},6,"5",2022,"105301",{"$f":"IFERROR(VLOOKUP(Tabla_SERIED_12_5[[#This Row],[IdEstablecimiento]],'[1]Establecimiento 2023'!$A$1:$E$183,3,FALSE),0)","v":"105301-Centro de Salud Familiar Las Compañías"},{"$f":"IFERROR(VLOOKUP(Tabla_SERIED_12_5[[#This Row],[IdEstablecimiento]],'[1]Establecimiento 2023'!$A$1:$E$183,5,FALSE),0)","v":"04101-La Serena"},"15900050","2022-07-14T13:36:08",7,6,1,1,1,2,3,0]
[{"$nulls":23},6,"5",2022,"105301",{"$f":"IFERROR(VLOOKUP(Tabla_SERIED_12_5[[#This Row],[IdEstablecimiento]],'[1]Establecimiento 2023'!$A$1:$E$183,3,FALSE),0)","v":"105301-Centro de Salud Familiar Las Compañías"},{"$f":"IFERROR(VLOOKUP(Tabla_SERIED_12_5[[#This Row],[IdEstablecimiento]],'[1]Establecimiento 2023'!$A$1:$E$183,5,FALSE),0)","v":"04101-La Serena"},"15060100","2022-07-14T13:36:08",8,4,4,0,0,4,0,0,2,2,0,null,0,0,0]
[{"$nulls":23},4,"5",2022,"105510",{"$f":"IFERROR(VLOOKUP(Tabla_SERIED_12_5[[#This Row],[IdEstablecimiento]],'[1]Establecimiento 2023'!$A$1:$E$183,3,FALSE),0)","v":"105510-Posta de Salud Rural Recoleta"},{"$f":"IFERROR(VLOOKUP(Tabla_SERIED_12_5[[#This Row],[IdEstablecimiento]],'[1]Establecimiento 2023'!$A$1:$E$183,5,FALSE),0)","v":"04301-Ovalle"},"16200220","2022-05-18T15:22:09",2,1,1,0,0]
[{"$nulls":23},7,"5",2022,"105484",{"$f":"IFERROR(VLOOKUP(Tabla_SERIED_12_5[[#This Row],[IdEstablecimiento]],'[1]Establecimiento 2023'!$A$1:$E$183,3,FALSE),0)","v":"105484-Posta de Salud Rural Huentelauquén"},{"$f":"IFERROR(VLOOKUP(Tabla_SERIED_12_5[[#This Row],[IdEstablecimiento]],'[1]Establecimiento 2023'!$A$1:$E$183,5,FALSE),0)","v":"04202-Canela"},"15050100","2022-08-22T06:32:48",7,5,2,{"$nulls":4},1,4,2]
[{"$nulls":23},7,"5",2022,"105485",{"$f":"IFERROR(VLOOKUP(Tabla_SERIED_12_5[[#This Row],[IdEstablecimiento]],'[1]Establecimiento 2023'!$A$1:$E$183,3,FALSE),0)","v":"105485-Posta de Salud Rural Plan de Hornos"},{"$f":"IFERROR(VLOOKUP(Tabla_SERIED_12_5[[#This Row],[IdEstablecimiento]],'[1]Establecimiento 2023'!$A$1:$E$183,5,FALSE),0)","v":"04201-Illapel"},"15900010","2022-08-22T06:33:03",9,null,2.7,6.3]
[{"$nulls":23},7,"5",2022,"105485",{"$f":"IFERROR(VLOOKUP(Tabla_SERIED_12_5[[#This Row],[IdEstablecimiento]],'[1]Establecimiento 2023'!$A$1:$E$183,3,FALSE),0)","v":"105485-Posta de Salud Rural Plan de Hornos"},{"$f":"IFERROR(VLOOKUP(Tabla_SERIED_12_5[[#This Row],[IdEstablecimiento]],'[1]Establecimiento 2023'!$A$1:$E$183,5,FALSE),0)","v":"04201-Illapel"},"15900030","2022-08-22T06:33:03",2.8,null,null,2.8]
[{"$nulls":23},7,"5",2022,"105315",{"$f":"IFERROR(VLOOKUP(Tabla_SERIED_12_5[[#This Row],[IdEstablecimiento]],'[1]Establecimiento 2023'!$A$1:$E$183,3,FALSE),0)","v":"105315-Centro de Salud Familiar Cerrillos de Tamaya"},{"$f":"IFERROR(VLOOKUP(Tabla_SERIED_12_5[[#This Row],[IdEstablecimiento]],'[1]Establecimiento 2023'!$A$1:$E$183,5,FALSE),0)","v":"04301-Ovalle"},"15010500","2022-08-19T12:01:20",4,{"$nulls":3},2,2]
[{"$nulls":23},6,"5",2022,"105507",{"$f":"IFERROR(VLOOKUP(Tabla_SERIED_12_5[[#This Row],[IdEstablecimiento]],'[1]Establecimiento 2023'!$A$1:$E$183,3,FALSE),0)","v":"105507-Posta de Salud Rural Huamalata"},{"$f":"IFERROR(VLOOKUP(Tabla_SERIED_12_5[[#This Row],[IdEstablecimiento]],'[1]Establecimiento 2023'!$A$1:$E$183,5,FALSE),0)","v":"04301-Ovalle"},"15010300","2022-07-14T14:36:40",2,{"$nulls":3},2]
[{"$nulls":23},6,"5",2022,"105508",{"$f":"IFERROR(VLOOKUP(Tabla_SERIED_12_5[[#This Row],[IdEstablecimiento]],'[1]Establecimiento 2023'!$A$1:$E$183,3,FALSE),0)","v":"105508-Posta de Salud Rural El Parral de Quiles"},{"$f":"IFERROR(VLOOKUP(Tabla_SERIED_12_5[[#This Row],[IdEstablecimiento]],'[1]Establecimiento 2023'!$A$1:$E$183,5,FALSE),0)","v":"04304-Punitaqui"},"15050100","2022-07-14T14:36:51",5,4,1,{"$nulls":4},1,2,2]
[{"$nulls":23},7,"5",2022,"105501",{"$f":"IFERROR(VLOOKUP(Tabla_SERIED_12_5[[#This Row],[IdEstablecimiento]],'[1]Establecimiento 2023'!$A$1:$E$183,3,FALSE),0)","v":"105501-Posta de Salud Rural Arboleda Grande"},{"$f":"IFERROR(VLOOKUP(Tabla_SERIED_12_5[[#This Row],[IdEstablecimiento]],'[1]Establecimiento 2023'!$A$1:$E$183,5,FALSE),0)","v":"04204-Salamanca"},"15010400","2022-08-22T06:42:28",2,{"$nulls":5},2]
[{"$nulls":23},7,"5",2022,"105323",{"$f":"IFERROR(VLOOKUP(Tabla_SERIED_12_5[[#This Row],[IdEstablecimiento]],'[1]Establecimiento 2023'!$A$1:$E$183,3,FALSE),0)","v":"105323-Centro de Salud Familiar Dr. Sergio Aguilar Delgado"},{"$f":"IFERROR(VLOOKUP(Tabla_SERIED_12_5[[#This Row],[IdEstablecimiento]],'[1]Establecimiento 2023'!$A$1:$E$183,5,FALSE),0)","v":"04102-Coquimbo"},"15900030","2022-08-19T12:02:42",12.8,null,4.4,5.6,2.8]
[{"$nulls":23},7,"5",2022,"105323",{"$f":"IFERROR(VLOOKUP(Tabla_SERIED_12_5[[#This Row],[IdEstablecimiento]],'[1]Establecimiento 2023'!$A$1:$E$183,3,FALSE),0)","v":"105323-Centro de Salud Familiar Dr. Sergio Aguilar Delgado"},{"$f":"IFERROR(VLOOKUP(Tabla_SERIED_12_5[[#This Row],[IdEstablecimiento]],'[1]Establecimiento 2023'!$A$1:$E$183,5,FALSE),0)","v":"04102-Coquimbo"},"15040100","2022-08-19T12:02:42",4,4]
[{"$nulls":23},7,"5",2022,"105322",{"$f":"IFERROR(VLOOKUP(Tabla_SERIED_12_5[[#This Row],[IdEstablecimiento]],'[1]Establecimiento 2023'!$A$1:$E$183,3,FALSE),0)","v":"105322-Centro de Salud Familiar Marcos Macuada"},{"$f":"IFERROR(VLOOKUP(Tabla_SERIED_12_5[[#This Row],[IdEstablecimiento]],'[1]Establecimiento 2023'!$A$1:$E$183,5,FALSE),0)","v":"04301-Ovalle"},"16100300","2022-08-19T12:02:30",708,292,416]
[{"$nulls":23},7,"5",2022,"105322",{"$f":"IFERROR(VLOOKUP(Tabla_SERIED_12_5[[#This Row],[IdEstablecimiento]],'[1]Establecimiento 2023'!$A$1:$E$183,3,FALSE),0)","v":"105322-Centro de Salud Familiar Marcos Macuada"},{"$f":"IFERROR(VLOOKUP(Tabla_SERIED_12_5[[#This Row],[IdEstablecimiento]],'[1]Establecimiento 2023'!$A$1:$E$183,5,FALSE),0)","v":"04301-Ovalle"},"16200220","2022-08-19T12:02:30",24,8,16]
[{"$nulls":23},3,"5",2022,"105108",{"$f":"IFERROR(VLOOKUP(Tabla_SERIED_12_5[[#This Row],[IdEstablecimiento]],'[1]Establecimiento 2023'!$A$1:$E$183,3,FALSE),0)","v":"105108-Hospital San Pedro (Los Vilos)"},{"$f":"IFERROR(VLOOKUP(Tabla_SERIED_12_5[[#This Row],[IdEstablecimiento]],'[1]Establecimiento 2023'!$A$1:$E$183,5,FALSE),0)","v":"105108-Hospital Los Vilos"},"16200220","2022-05-18T15:48:15",1,null,1]
[{"$nulls":23},7,"5",2022,"105323",{"$f":"IFERROR(VLOOKUP(Tabla_SERIED_12_5[[#This Row],[IdEstablecimiento]],'[1]Establecimiento 2023'!$A$1:$E$183,3,FALSE),0)","v":"105323-Centro de Salud Familiar Dr. Sergio Aguilar Delgado"},{"$f":"IFERROR(VLOOKUP(Tabla_SERIED_12_5[[#This Row],[IdEstablecimiento]],'[1]Establecimiento 2023'!$A$1:$E$183,5,FALSE),0)","v":"04102-Coquimbo"},"15060600","2022-08-19T12:02:42",1,null,1,1]
[{"$nulls":23},5,"5",2022,"105702",{"$f":"IFERROR(VLOOKUP(Tabla_SERIED_12_5[[#This Row],[IdEstablecimiento]],'[1]Establecimiento 2023'!$A$1:$E$183,3,FALSE),0)","v":"105702-Centro Comunitario de Salud Familiar Lambert"},{"$f":"IFERROR(VLOOKUP(Tabla_SERIED_12_5[[#This Row],[IdEstablecimiento]],'[1]Establecimiento 2023'!$A$1:$E$183,5,FALSE),0)","v":"04101-La Serena"},"15080008","2022-06-20T17:31:56",8,{"$nulls":7},8]
[{"$nulls":23},5,"5",2022,"105722",{"$f":"IFERROR(VLOOKUP(Tabla_SERIED_12_5[[#This Row],[IdEstablecimiento]],'[1]Establecimiento 2023'!$A$1:$E$183,3,FALSE),0)","v":"105722-Centro Comunitario de Salud Familiar San José de la Dehesa"},{"$f":"IFERROR(VLOOKUP(Tabla_SERIED_12_5[[#This Row],[IdEstablecimiento]],'[1]Establecimiento 2023'!$A$1:$E$183,5,FALSE),0)","v":"04301-Ovalle"},"15050200","2022-06-20T17:32:19",2,1,1,{"$nulls":4},1,1]
[{"$nulls":23},10,"5",2022,"105307",{"$f":"IFERROR(VLOOKUP(Tabla_SERIED_12_5[[#This Row],[IdEstablecimiento]],'[1]Establecimiento 2023'!$A$1:$E$183,3,FALSE),0)","v":"105307-Centro de Salud Familiar Monte Patria"},{"$f":"IFERROR(VLOOKUP(Tabla_SERIED_12_5[[#This Row],[IdEstablecimiento]],'[1]Establecimiento 2023'!$A$1:$E$183,5,FALSE),0)","v":"04303-Monte Patria"},"15010200","2022-11-15T13:31:44",278,{"$nulls":4},50,134,94]
[{"$nulls":23},10,"5",2022,"105307",{"$f":"IFERROR(VLOOKUP(Tabla_SERIED_12_5[[#This Row],[IdEstablecimiento]],'[1]Establecimiento 2023'!$A$1:$E$183,3,FALSE),0)","v":"105307-Centro de Salud Familiar Monte Patria"},{"$f":"IFERROR(VLOOKUP(Tabla_SERIED_12_5[[#This Row],[IdEstablecimiento]],'[1]Establecimiento 2023'!$A$1:$E$183,5,FALSE),0)","v":"04303-Monte Patria"},"15050200","2022-11-15T13:31:44",6,4,2,{"$nulls":3},1,null,4,null,null,1]
[{"$nulls":23},10,"5",2022,"105309",{"$f":"IFERROR(VLOOKUP(Tabla_SERIED_12_5[[#This Row],[IdEstablecimiento]],'[1]Establecimiento 2023'!$A$1:$E$183,3,FALSE),0)","v":"105309-Centro de Salud Familiar Canela"},{"$f":"IFERROR(VLOOKUP(Tabla_SERIED_12_5[[#This Row],[IdEstablecimiento]],'[1]Establecimiento 2023'!$A$1:$E$183,5,FALSE),0)","v":"04202-Canela"},"15900010","2022-11-15T13:32:35",66.6,1.8,29.7,35.1]
[{"$nulls":23},7,"5",2022,"200538",{"$f":"IFERROR(VLOOKUP(Tabla_SERIED_12_5[[#This Row],[IdEstablecimiento]],'[1]Establecimiento 2023'!$A$1:$E$183,3,FALSE),0)","v":"200538-Centro de Salud Familiar San Isidro Calingasta"},{"$f":"IFERROR(VLOOKUP(Tabla_SERIED_12_5[[#This Row],[IdEstablecimiento]],'[1]Establecimiento 2023'!$A$1:$E$183,5,FALSE),0)","v":"04106-Vicuña"},"15050200","2022-08-22T06:50:27",6,3,3,null,null,2,null,1,2,1]
[{"$nulls":23},7,"5",2022,"200569",{"$f":"IFERROR(VLOOKUP(Tabla_SERIED_12_5[[#This Row],[IdEstablecimiento]],'[1]Establecimiento 2023'!$A$1:$E$183,3,FALSE),0)","v":"200569-Centro de Salud Familiar Fray Jorge"},{"$f":"IFERROR(VLOOKUP(Tabla_SERIED_12_5[[#This Row],[IdEstablecimiento]],'[1]Establecimiento 2023'!$A$1:$E$183,5,FALSE),0)","v":"04301-Ovalle"},"15080008","2022-08-22T06:50:39",190,{"$nulls":7},88,null,48,12,42]
[{"$nulls":23},7,"5",2022,"105504",{"$f":"IFERROR(VLOOKUP(Tabla_SERIED_12_5[[#This Row],[IdEstablecimiento]],'[1]Establecimiento 2023'!$A$1:$E$183,3,FALSE),0)","v":"105504-Posta de Salud Rural Socavón"},{"$f":"IFERROR(VLOOKUP(Tabla_SERIED_12_5[[#This Row],[IdEstablecimiento]],'[1]Establecimiento 2023'!$A$1:$E$183,5,FALSE),0)","v":"04201-Illapel"},"15080008","2022-08-22T06:42:58",1,{"$nulls":7},1]
[{"$nulls":23},8,"5",2022,"105457",{"$f":"IFERROR(VLOOKUP(Tabla_SERIED_12_5[[#This Row],[IdEstablecimiento]],'[1]Establecimiento 2023'!$A$1:$E$183,3,FALSE),0)","v":"105457-Posta de Salud Rural San Agustín (Salamanca)"},{"$f":"IFERROR(VLOOKUP(Tabla_SERIED_12_5[[#This Row],[IdEstablecimiento]],'[1]Establecimiento 2023'!$A$1:$E$183,5,FALSE),0)","v":"04204-Salamanca"},"16200220","2022-09-21T07:45:43",3,1,2]
[{"$nulls":23},8,"5",2022,"105458",{"$f":"IFERROR(VLOOKUP(Tabla_SERIED_12_5[[#This Row],[IdEstablecimiento]],'[1]Establecimiento 2023'!$A$1:$E$183,3,FALSE),0)","v":"105458-Posta de Salud Rural Tahuinco"},{"$f":"IFERROR(VLOOKUP(Tabla_SERIED_12_5[[#This Row],[IdEstablecimiento]],'[1]Establecimiento 2023'!$A$1:$E$183,5,FALSE),0)","v":"04204-Salamanca"},"16200220","2022-09-21T07:45:53",7,4,3]
[{"$nulls":23},7,"5",2022,"105305",{"$f":"IFERROR(VLOOKUP(Tabla_SERIED_12_5[[#This Row],[IdEstablecimiento]],'[1]Establecimiento 2023'!$A$1:$E$183,3,FALSE),0)","v":"105305-Centro de Salud Familiar Tierras Blancas"},{"$f":"IFERROR(VLOOKUP(Tabla_SERIED_12_5[[#This Row],[IdEstablecimiento]],'[1]Establecimiento 2023'!$A$1:$E$183,5,FALSE),0)","v":"04102-Coquimbo"},"15030200","2022-08-19T11:59:12",7.2,null,null,7.2]
[{"$nulls":23},1,"5",2022,"200366",{"$f":"IFERROR(VLOOKUP(Tabla_SERIED_12_5[[#This Row],[IdEstablecimiento]],'[1]Establecimiento 2023'!$A$1:$E$183,3,FALSE),0)","v":"200366-Centro de Salud Familiar Urbano de Illapel"},{"$f":"IFERROR(VLOOKUP(Tabla_SERIED_12_5[[#This Row],[IdEstablecimiento]],'[1]Establecimiento 2023'!$A$1:$E$183,5,FALSE),0)","v":"04201-Illapel"},"15030100","2022-02-17T04:29:53",4,null,4]
[{"$nulls":23},5,"5",2022,"105463",{"$f":"IFERROR(VLOOKUP(Tabla_SERIED_12_5[[#This Row],[IdEstablecimiento]],'[1]Establecimiento 2023'!$A$1:$E$183,3,FALSE),0)","v":"105463-Posta de Salud Rural Quilitapia"},{"$f":"IFERROR(VLOOKUP(Tabla_SERIED_12_5[[#This Row],[IdEstablecimiento]],'[1]Establecimiento 2023'!$A$1:$E$183,5,FALSE),0)","v":"04302-Combarbalá"},"15900010","2022-06-20T17:20:51",1.6,null,null,1.6]
[{"$nulls":23},5,"5",2022,"105463",{"$f":"IFERROR(VLOOKUP(Tabla_SERIED_12_5[[#This Row],[IdEstablecimiento]],'[1]Establecimiento 2023'!$A$1:$E$183,3,FALSE),0)","v":"105463-Posta de Salud Rural Quilitapia"},{"$f":"IFERROR(VLOOKUP(Tabla_SERIED_12_5[[#This Row],[IdEstablecimiento]],'[1]Establecimiento 2023'!$A$1:$E$183,5,FALSE),0)","v":"04302-Combarbalá"},"15080009","2022-06-20T17:20:51",3,{"$nulls":8},3]
[{"$nulls":23},3,"5",2022,"105437",{"$f":"IFERROR(VLOOKUP(Tabla_SERIED_12_5[[#This Row],[IdEstablecimiento]],'[1]Establecimiento 2023'!$A$1:$E$183,3,FALSE),0)","v":"105437-Posta de Salud Rural Chalinga"},{"$f":"IFERROR(VLOOKUP(Tabla_SERIED_12_5[[#This Row],[IdEstablecimiento]],'[1]Establecimiento 2023'!$A$1:$E$183,5,FALSE),0)","v":"04301-Ovalle"},"15900010","2022-04-19T09:44:31",11.2,null,8,3.2]
[{"$nulls":23},3,"5",2022,"105437",{"$f":"IFERROR(VLOOKUP(Tabla_SERIED_12_5[[#This Row],[IdEstablecimiento]],'[1]Establecimiento 2023'!$A$1:$E$183,3,FALSE),0)","v":"105437-Posta de Salud Rural Chalinga"},{"$f":"IFERROR(VLOOKUP(Tabla_SERIED_12_5[[#This Row],[IdEstablecimiento]],'[1]Establecimiento 2023'!$A$1:$E$183,5,FALSE),0)","v":"04301-Ovalle"},"16200100","2022-04-19T09:44:31",4,2,2]
[{"$nulls":23},7,"5",2022,"105325",{"$f":"IFERROR(VLOOKUP(Tabla_SERIED_12_5[[#This Row],[IdEstablecimiento]],'[1]Establecimiento 2023'!$A$1:$E$183,3,FALSE),0)","v":"105325-Centro de Salud Familiar Juan Pablo II (La Serena)"},{"$f":"IFERROR(VLOOKUP(Tabla_SERIED_12_5[[#This Row],[IdEstablecimiento]],'[1]Establecimiento 2023'!$A$1:$E$183,5,FALSE),0)","v":"04101-La Serena"},"15900020","2022-08-19T12:03:07",7.2,0,3.6,3.6]
[{"$nulls":23},6,"5",2022,"105484",{"$f":"IFERROR(VLOOKUP(Tabla_SERIED_12_5[[#This Row],[IdEstablecimiento]],'[1]Establecimiento 2023'!$A$1:$E$183,3,FALSE),0)","v":"105484-Posta de Salud Rural Huentelauquén"},{"$f":"IFERROR(VLOOKUP(Tabla_SERIED_12_5[[#This Row],[IdEstablecimiento]],'[1]Establecimiento 2023'!$A$1:$E$183,5,FALSE),0)","v":"04202-Canela"},"15010200","2022-07-14T14:32:25",14,{"$nulls":4},4,2,8]
[{"$nulls":23},2,"5",2022,"105433",{"$f":"IFERROR(VLOOKUP(Tabla_SERIED_12_5[[#This Row],[IdEstablecimiento]],'[1]Establecimiento 2023'!$A$1:$E$183,3,FALSE),0)","v":"105433-Posta de Salud Rural San Lorenzo (Combarbalá)"},{"$f":"IFERROR(VLOOKUP(Tabla_SERIED_12_5[[#This Row],[IdEstablecimiento]],'[1]Establecimiento 2023'!$A$1:$E$183,5,FALSE),0)","v":"04302-Combarbalá"},"15050100","2022-03-17T09:39:39",1,1,{"$nulls":6},1]
[{"$nulls":23},7,"5",2022,"105321",{"$f":"IFERROR(VLOOKUP(Tabla_SERIED_12_5[[#This Row],[IdEstablecimiento]],'[1]Establecimiento 2023'!$A$1:$E$183,3,FALSE),0)","v":"105321-Centro de Salud Familiar Tongoy"},{"$f":"IFERROR(VLOOKUP(Tabla_SERIED_12_5[[#This Row],[IdEstablecimiento]],'[1]Establecimiento 2023'!$A$1:$E$183,5,FALSE),0)","v":"04102-Coquimbo"},"15080009","2022-08-19T12:02:17",6,{"$nulls":8},6]
[{"$nulls":23},7,"5",2022,"105313",{"$f":"IFERROR(VLOOKUP(Tabla_SERIED_12_5[[#This Row],[IdEstablecimiento]],'[1]Establecimiento 2023'!$A$1:$E$183,3,FALSE),0)","v":"105313-Centro de Salud Familiar Dr. Emilio Schaffhauser"},{"$f":"IFERROR(VLOOKUP(Tabla_SERIED_12_5[[#This Row],[IdEstablecimiento]],'[1]Establecimiento 2023'!$A$1:$E$183,5,FALSE),0)","v":"04101-La Serena"},"16090100","2022-08-19T12:00:48",33,33]
[{"$nulls":23},7,"5",2022,"105313",{"$f":"IFERROR(VLOOKUP(Tabla_SERIED_12_5[[#This Row],[IdEstablecimiento]],'[1]Establecimiento 2023'!$A$1:$E$183,3,FALSE),0)","v":"105313-Centro de Salud Familiar Dr. Emilio Schaffhauser"},{"$f":"IFERROR(VLOOKUP(Tabla_SERIED_12_5[[#This Row],[IdEstablecimiento]],'[1]Establecimiento 2023'!$A$1:$E$183,5,FALSE),0)","v":"04101-La Serena"},"16100300","2022-08-19T12:00:48",937,359,578,null,203]
[{"$nulls":23},1,"5",2022,"105463",{"$f":"IFERROR(VLOOKUP(Tabla_SERIED_12_5[[#This Row],[IdEstablecimiento]],'[1]Establecimiento 2023'!$A$1:$E$183,3,FALSE),0)","v":"105463-Posta de Salud Rural Quilitapia"},{"$f":"IFERROR(VLOOKUP(Tabla_SERIED_12_5[[#This Row],[IdEstablecimiento]],'[1]Establecimiento 2023'!$A$1:$E$183,5,FALSE),0)","v":"04302-Combarbalá"},"15010100","2022-02-17T03:50:37",4,{"$nulls":3},4]
[{"$nulls":23},3,"5",2022,"200569",{"$f":"IFERROR(VLOOKUP(Tabla_SERIED_12_5[[#This Row],[IdEstablecimiento]],'[1]Establecimiento 2023'!$A$1:$E$183,3,FALSE),0)","v":"200569-Centro de Salud Familiar Fray Jorge"},{"$f":"IFERROR(VLOOKUP(Tabla_SERIED_12_5[[#This Row],[IdEstablecimiento]],'[1]Establecimiento 2023'!$A$1:$E$183,5,FALSE),0)","v":"04301-Ovalle"},"15020100","2022-04-19T10:17:03",8,{"$nulls":3},8]
[{"$nulls":23},3,"5",2022,"200569",{"$f":"IFERROR(VLOOKUP(Tabla_SERIED_12_5[[#This Row],[IdEstablecimiento]],'[1]Establecimiento 2023'!$A$1:$E$183,3,FALSE),0)","v":"200569-Centro de Salud Familiar Fray Jorge"},{"$f":"IFERROR(VLOOKUP(Tabla_SERIED_12_5[[#This Row],[IdEstablecimiento]],'[1]Establecimiento 2023'!$A$1:$E$183,5,FALSE),0)","v":"04301-Ovalle"},"16200210","2022-04-19T10:17:03",5,5]
[{"$nulls":23},6,"5",2022,"200273",{"$f":"IFERROR(VLOOKUP(Tabla_SERIED_12_5[[#This Row],[IdEstablecimiento]],'[1]Establecimiento 2023'!$A$1:$E$183,3,FALSE),0)","v":"200273-Centro Comunitario de Salud Familiar Punta Mira"},{"$f":"IFERROR(VLOOKUP(Tabla_SERIED_12_5[[#This Row],[IdEstablecimiento]],'[1]Establecimiento 2023'!$A$1:$E$183,5,FALSE),0)","v":"04102-Coquimbo"},"15010200","2022-07-14T14:42:23",68,{"$nulls":4},14,20,34]
[{"$nulls":23},5,"5",2022,"105509",{"$f":"IFERROR(VLOOKUP(Tabla_SERIED_12_5[[#This Row],[IdEstablecimiento]],'[1]Establecimiento 2023'!$A$1:$E$183,3,FALSE),0)","v":"105509-Posta de Salud Rural Gualliguaica"},{"$f":"IFERROR(VLOOKUP(Tabla_SERIED_12_5[[#This Row],[IdEstablecimiento]],'[1]Establecimiento 2023'!$A$1:$E$183,5,FALSE),0)","v":"04106-Vicuña"},"15080008","2022-06-20T17:29:50",3,{"$nulls":7},1,null,2]
[{"$nulls":23},4,"5",2022,"105317",{"$f":"IFERROR(VLOOKUP(Tabla_SERIED_12_5[[#This Row],[IdEstablecimiento]],'[1]Establecimiento 2023'!$A$1:$E$183,3,FALSE),0)","v":"105317-Centro de Salud Familiar Jorge Jordán Domic"},{"$f":"IFERROR(VLOOKUP(Tabla_SERIED_12_5[[#This Row],[IdEstablecimiento]],'[1]Establecimiento 2023'!$A$1:$E$183,5,FALSE),0)","v":"04301-Ovalle"},"15080008","2022-05-18T11:52:31",192,{"$nulls":7},86,null,72,7,27]
[{"$nulls":23},2,"5",2022,"105503",{"$f":"IFERROR(VLOOKUP(Tabla_SERIED_12_5[[#This Row],[IdEstablecimiento]],'[1]Establecimiento 2023'!$A$1:$E$183,3,FALSE),0)","v":"105503-Posta de Salud Rural Tabaqueros"},{"$f":"IFERROR(VLOOKUP(Tabla_SERIED_12_5[[#This Row],[IdEstablecimiento]],'[1]Establecimiento 2023'!$A$1:$E$183,5,FALSE),0)","v":"04305-Río Hurtado"},"15900020","2022-03-17T10:01:17",3.2,null,null,3.2]
[{"$nulls":23},2,"5",2022,"105503",{"$f":"IFERROR(VLOOKUP(Tabla_SERIED_12_5[[#This Row],[IdEstablecimiento]],'[1]Establecimiento 2023'!$A$1:$E$183,3,FALSE),0)","v":"105503-Posta de Salud Rural Tabaqueros"},{"$f":"IFERROR(VLOOKUP(Tabla_SERIED_12_5[[#This Row],[IdEstablecimiento]],'[1]Establecimiento 2023'!$A$1:$E$183,5,FALSE),0)","v":"04305-Río Hurtado"},"16200220","2022-03-17T10:01:17",2,null,2,null,6]
[{"$nulls":23},2,"5",2022,"105504",{"$f":"IFERROR(VLOOKUP(Tabla_SERIED_12_5[[#This Row],[IdEstablecimiento]],'[1]Establecimiento 2023'!$A$1:$E$183,3,FALSE),0)","v":"105504-Posta de Salud Rural Socavón"},{"$f":"IFERROR(VLOOKUP(Tabla_SERIED_12_5[[#This Row],[IdEstablecimiento]],'[1]Establecimiento 2023'!$A$1:$E$183,5,FALSE),0)","v":"04201-Illapel"},"16100300","2022-03-17T10:01:33",21,8,13]
[{"$nulls":23},7,"5",2022,"105482",{"$f":"IFERROR(VLOOKUP(Tabla_SERIED_12_5[[#This Row],[IdEstablecimiento]],'[1]Establecimiento 2023'!$A$1:$E$183,3,FALSE),0)","v":"105482-Posta de Salud Rural Canela Alta"},{"$f":"IFERROR(VLOOKUP(Tabla_SERIED_12_5[[#This Row],[IdEstablecimiento]],'[1]Establecimiento 2023'!$A$1:$E$183,5,FALSE),0)","v":"04202-Canela"},"16200220","2022-08-22T06:32:18",5,1,4,null,1]
[{"$nulls":23},2,"5",2022,"105407",{"$f":"IFERROR(VLOOKUP(Tabla_SERIED_12_5[[#This Row],[IdEstablecimiento]],'[1]Establecimiento 2023'!$A$1:$E$183,3,FALSE),0)","v":"105407-Posta de Salud Rural Tambillo"},{"$f":"IFERROR(VLOOKUP(Tabla_SERIED_12_5[[#This Row],[IdEstablecimiento]],'[1]Establecimiento 2023'!$A$1:$E$183,5,FALSE),0)","v":"04102-Coquimbo"},"16090300","2022-03-17T09:33:44",32,32]
[{"$nulls":23},4,"5",2022,"105317",{"$f":"IFERROR(VLOOKUP(Tabla_SERIED_12_5[[#This Row],[IdEstablecimiento]],'[1]Establecimiento 2023'!$A$1:$E$183,3,FALSE),0)","v":"105317-Centro de Salud Familiar Jorge Jordán Domic"},{"$f":"IFERROR(VLOOKUP(Tabla_SERIED_12_5[[#This Row],[IdEstablecimiento]],'[1]Establecimiento 2023'!$A$1:$E$183,5,FALSE),0)","v":"04301-Ovalle"},"15900040","2022-05-18T11:52:31",2.4,null,2.4]
[{"$nulls":23},4,"5",2022,"105476",{"$f":"IFERROR(VLOOKUP(Tabla_SERIED_12_5[[#This Row],[IdEstablecimiento]],'[1]Establecimiento 2023'!$A$1:$E$183,3,FALSE),0)","v":"105476-Posta de Salud Rural Monte Grande"},{"$f":"IFERROR(VLOOKUP(Tabla_SERIED_12_5[[#This Row],[IdEstablecimiento]],'[1]Establecimiento 2023'!$A$1:$E$183,5,FALSE),0)","v":"04105-Paiguano"},"15010200","2022-05-18T15:13:25",2,{"$nulls":4},2]
[{"$nulls":23},1,"5",2022,"105700",{"$f":"IFERROR(VLOOKUP(Tabla_SERIED_12_5[[#This Row],[IdEstablecimiento]],'[1]Establecimiento 2023'!$A$1:$E$183,3,FALSE),0)","v":"105700-Centro Comunitario de Salud Familiar Villa el Indio"},{"$f":"IFERROR(VLOOKUP(Tabla_SERIED_12_5[[#This Row],[IdEstablecimiento]],'[1]Establecimiento 2023'!$A$1:$E$183,5,FALSE),0)","v":"04101-La Serena"},"16090300","2022-02-17T04:22:28",78,78]
[{"$nulls":23},10,"5",2022,"105323",{"$f":"IFERROR(VLOOKUP(Tabla_SERIED_12_5[[#This Row],[IdEstablecimiento]],'[1]Establecimiento 2023'!$A$1:$E$183,3,FALSE),0)","v":"105323-Centro de Salud Familiar Dr. Sergio Aguilar Delgado"},{"$f":"IFERROR(VLOOKUP(Tabla_SERIED_12_5[[#This Row],[IdEstablecimiento]],'[1]Establecimiento 2023'!$A$1:$E$183,5,FALSE),0)","v":"04102-Coquimbo"},"15060200","2022-11-15T13:35:17",1,1,null,null,1]
[{"$nulls":23},10,"5",2022,"105323",{"$f":"IFERROR(VLOOKUP(Tabla_SERIED_12_5[[#This Row],[IdEstablecimiento]],'[1]Establecimiento 2023'!$A$1:$E$183,3,FALSE),0)","v":"105323-Centro de Salud Familiar Dr. Sergio Aguilar Delgado"},{"$f":"IFERROR(VLOOKUP(Tabla_SERIED_12_5[[#This Row],[IdEstablecimiento]],'[1]Establecimiento 2023'!$A$1:$E$183,5,FALSE),0)","v":"04102-Coquimbo"},"15901400","2022-11-15T13:35:17",5,4,1,1,1,2,1]
[{"$nulls":23},10,"5",2022,"105324",{"$f":"IFERROR(VLOOKUP(Tabla_SERIED_12_5[[#This Row],[IdEstablecimiento]],'[1]Establecimiento 2023'!$A$1:$E$183,3,FALSE),0)","v":"105324-Centro de Salud Familiar Sotaquí"},{"$f":"IFERROR(VLOOKUP(Tabla_SERIED_12_5[[#This Row],[IdEstablecimiento]],'[1]Establecimiento 2023'!$A$1:$E$183,5,FALSE),0)","v":"04301-Ovalle"},"15030100","2022-11-15T13:35:29",4,null,4]
[{"$nulls":23},10,"5",2022,"105324",{"$f":"IFERROR(VLOOKUP(Tabla_SERIED_12_5[[#This Row],[IdEstablecimiento]],'[1]Establecimiento 2023'!$A$1:$E$183,3,FALSE),0)","v":"105324-Centro de Salud Familiar Sotaquí"},{"$f":"IFERROR(VLOOKUP(Tabla_SERIED_12_5[[#This Row],[IdEstablecimiento]],'[1]Establecimiento 2023'!$A$1:$E$183,5,FALSE),0)","v":"04301-Ovalle"},"15050200","2022-11-15T13:35:29",5,2,3,{"$nulls":3},1,null,2,1,null,1]
[{"$nulls":23},2,"5",2022,"105464",{"$f":"IFERROR(VLOOKUP(Tabla_SERIED_12_5[[#This Row],[IdEstablecimiento]],'[1]Establecimiento 2023'!$A$1:$E$183,3,FALSE),0)","v":"105464-Posta de Salud Rural La Ligua"},{"$f":"IFERROR(VLOOKUP(Tabla_SERIED_12_5[[#This Row],[IdEstablecimiento]],'[1]Establecimiento 2023'!$A$1:$E$183,5,FALSE),0)","v":"04302-Combarbalá"},"16100300","2022-03-17T09:48:53",59,26,33,null,10]
[{"$nulls":23},7,"5",2022,"105486",{"$f":"IFERROR(VLOOKUP(Tabla_SERIED_12_5[[#This Row],[IdEstablecimiento]],'[1]Establecimiento 2023'!$A$1:$E$183,3,FALSE),0)","v":"105486-Posta de Salud Rural Tunga Sur"},{"$f":"IFERROR(VLOOKUP(Tabla_SERIED_12_5[[#This Row],[IdEstablecimiento]],'[1]Establecimiento 2023'!$A$1:$E$183,5,FALSE),0)","v":"04201-Illapel"},"15050100","2022-08-22T06:33:16",9,6,3,{"$nulls":3},1,1,4,1,1,null,1]
[{"$nulls":23},7,"5",2022,"200494",{"$f":"IFERROR(VLOOKUP(Tabla_SERIED_12_5[[#This Row],[IdEstablecimiento]],'[1]Establecimiento 2023'!$A$1:$E$183,3,FALSE),0)","v":"200494-Centro de Salud Familiar El Sauce"},{"$f":"IFERROR(VLOOKUP(Tabla_SERIED_12_5[[#This Row],[IdEstablecimiento]],'[1]Establecimiento 2023'!$A$1:$E$183,5,FALSE),0)","v":"04102-Coquimbo"},"15020100","2022-08-22T06:49:06",2,{"$nulls":3},2]
[{"$nulls":23},7,"5",2022,"200499",{"$f":"IFERROR(VLOOKUP(Tabla_SERIED_12_5[[#This Row],[IdEstablecimiento]],'[1]Establecimiento 2023'!$A$1:$E$183,3,FALSE),0)","v":"200499-Centro de Salud Familiar Rural Pan de Azúcar"},{"$f":"IFERROR(VLOOKUP(Tabla_SERIED_12_5[[#This Row],[IdEstablecimiento]],'[1]Establecimiento 2023'!$A$1:$E$183,5,FALSE),0)","v":"04102-Coquimbo"},"15010100","2022-08-22T06:50:05",84,null,null,6,78]
[{"$nulls":23},7,"5",2022,"200499",{"$f":"IFERROR(VLOOKUP(Tabla_SERIED_12_5[[#This Row],[IdEstablecimiento]],'[1]Establecimiento 2023'!$A$1:$E$183,3,FALSE),0)","v":"200499-Centro de Salud Familiar Rural Pan de Azúcar"},{"$f":"IFERROR(VLOOKUP(Tabla_SERIED_12_5[[#This Row],[IdEstablecimiento]],'[1]Establecimiento 2023'!$A$1:$E$183,5,FALSE),0)","v":"04102-Coquimbo"},"15030100","2022-08-22T06:50:05",3.2,null,null,3.2]
[{"$nulls":23},7,"5",2022,"200499",{"$f":"IFERROR(VLOOKUP(Tabla_SERIED_12_5[[#This Row],[IdEstablecimiento]],'[1]Establecimiento 2023'!$A$1:$E$183,3,FALSE),0)","v":"200499-Centro de Salud Familiar Rural Pan de Azúcar"},{"$f":"IFERROR(VLOOKUP(Tabla_SERIED_12_5[[#This Row],[IdEstablecimiento]],'[1]Establecimiento 2023'!$A$1:$E$183,5,FALSE),0)","v":"04102-Coquimbo"},"15900030","2022-08-22T06:50:05",4.4,null,null,4.4]
[{"$nulls":23},7,"5",2022,"200499",{"$f":"IFERROR(VLOOKUP(Tabla_SERIED_12_5[[#This Row],[IdEstablecimiento]],'[1]Establecimiento 2023'!$A$1:$E$183,3,FALSE),0)","v":"200499-Centro de Salud Familiar Rural Pan de Azúcar"},{"$f":"IFERROR(VLOOKUP(Tabla_SERIED_12_5[[#This Row],[IdEstablecimiento]],'[1]Establecimiento 2023'!$A$1:$E$183,5,FALSE),0)","v":"04102-Coquimbo"},"16200210","2022-08-22T06:50:05",38,35]
[{"$nulls":23},10,"5",2022,"105325",{"$f":"IFERROR(VLOOKUP(Tabla_SERIED_12_5[[#This Row],[IdEstablecimiento]],'[1]Establecimiento 2023'!$A$1:$E$183,3,FALSE),0)","v":"105325-Centro de Salud Familiar Juan Pablo II (La Serena)"},{"$f":"IFERROR(VLOOKUP(Tabla_SERIED_12_5[[#This Row],[IdEstablecimiento]],'[1]Establecimiento 2023'!$A$1:$E$183,5,FALSE),0)","v":"04101-La Serena"},"15030100","2022-11-15T13:35:41",12,4,8,0]
[{"$nulls":23},10,"5",2022,"105325",{"$f":"IFERROR(VLOOKUP(Tabla_SERIED_12_5[[#This Row],[IdEstablecimiento]],'[1]Establecimiento 2023'!$A$1:$E$183,3,FALSE),0)","v":"105325-Centro de Salud Familiar Juan Pablo II (La Serena)"},{"$f":"IFERROR(VLOOKUP(Tabla_SERIED_12_5[[#This Row],[IdEstablecimiento]],'[1]Establecimiento 2023'!$A$1:$E$183,5,FALSE),0)","v":"04101-La Serena"},"15900050","2022-11-15T13:35:41",5,4,1,0,0,2,2,1]
[{"$nulls":23},10,"5",2022,"105326",{"$f":"IFERROR(VLOOKUP(Tabla_SERIED_12_5[[#This Row],[IdEstablecimiento]],'[1]Establecimiento 2023'!$A$1:$E$183,3,FALSE),0)","v":"105326-Centro de Salud Familiar Villa San Rafael de Rozas"},{"$f":"IFERROR(VLOOKUP(Tabla_SERIED_12_5[[#This Row],[IdEstablecimiento]],'[1]Establecimiento 2023'!$A$1:$E$183,5,FALSE),0)","v":"04201-Illapel"},"15900050","2022-11-15T13:35:54",1,1,null,null,1]
[{"$nulls":23},10,"5",2022,"105326",{"$f":"IFERROR(VLOOKUP(Tabla_SERIED_12_5[[#This Row],[IdEstablecimiento]],'[1]Establecimiento 2023'!$A$1:$E$183,3,FALSE),0)","v":"105326-Centro de Salud Familiar Villa San Rafael de Rozas"},{"$f":"IFERROR(VLOOKUP(Tabla_SERIED_12_5[[#This Row],[IdEstablecimiento]],'[1]Establecimiento 2023'!$A$1:$E$183,5,FALSE),0)","v":"04201-Illapel"},"16100600","2022-11-15T13:35:54",7,2,5]
[{"$nulls":23},10,"5",2022,"105401",{"$f":"IFERROR(VLOOKUP(Tabla_SERIED_12_5[[#This Row],[IdEstablecimiento]],'[1]Establecimiento 2023'!$A$1:$E$183,3,FALSE),0)","v":"105401-Posta de Salud Rural Las Rojas"},{"$f":"IFERROR(VLOOKUP(Tabla_SERIED_12_5[[#This Row],[IdEstablecimiento]],'[1]Establecimiento 2023'!$A$1:$E$183,5,FALSE),0)","v":"04101-La Serena"},"15080008","2022-11-15T13:36:30",4,{"$nulls":7},1,null,2,null,1]
[{"$nulls":23},2,"5",2022,"105326",{"$f":"IFERROR(VLOOKUP(Tabla_SERIED_12_5[[#This Row],[IdEstablecimiento]],'[1]Establecimiento 2023'!$A$1:$E$183,3,FALSE),0)","v":"105326-Centro de Salud Familiar Villa San Rafael de Rozas"},{"$f":"IFERROR(VLOOKUP(Tabla_SERIED_12_5[[#This Row],[IdEstablecimiento]],'[1]Establecimiento 2023'!$A$1:$E$183,5,FALSE),0)","v":"04201-Illapel"},"15080008","2022-03-17T09:32:20",37,{"$nulls":7},17,null,12,null,8]
[{"$nulls":23},1,"5",2022,"105430",{"$f":"IFERROR(VLOOKUP(Tabla_SERIED_12_5[[#This Row],[IdEstablecimiento]],'[1]Establecimiento 2023'!$A$1:$E$183,3,FALSE),0)","v":"105430-Posta de Salud Rural Mialqui"},{"$f":"IFERROR(VLOOKUP(Tabla_SERIED_12_5[[#This Row],[IdEstablecimiento]],'[1]Establecimiento 2023'!$A$1:$E$183,5,FALSE),0)","v":"04303-Monte Patria"},"16100300","2022-05-18T15:39:31",6,2,4,0,0]
[{"$nulls":23},7,"5",2022,"200607",{"$f":"IFERROR(VLOOKUP(Tabla_SERIED_12_5[[#This Row],[IdEstablecimiento]],'[1]Establecimiento 2023'!$A$1:$E$183,3,FALSE),0)","v":"200607-Centro de Salud Familiar Lila Cortés Godoy"},{"$f":"IFERROR(VLOOKUP(Tabla_SERIED_12_5[[#This Row],[IdEstablecimiento]],'[1]Establecimiento 2023'!$A$1:$E$183,5,FALSE),0)","v":"04102-Coquimbo"},"16100300","2022-08-22T06:52:05",0,null,null,8,54]
[{"$nulls":23},5,"5",2022,"105466",{"$f":"IFERROR(VLOOKUP(Tabla_SERIED_12_5[[#This Row],[IdEstablecimiento]],'[1]Establecimiento 2023'!$A$1:$E$183,3,FALSE),0)","v":"105466-Posta de Salud Rural Valle Hermoso"},{"$f":"IFERROR(VLOOKUP(Tabla_SERIED_12_5[[#This Row],[IdEstablecimiento]],'[1]Establecimiento 2023'!$A$1:$E$183,5,FALSE),0)","v":"04302-Combarbalá"},"15080008","2022-06-20T17:21:26",1,{"$nulls":11},1]
[{"$nulls":23},5,"5",2022,"105466",{"$f":"IFERROR(VLOOKUP(Tabla_SERIED_12_5[[#This Row],[IdEstablecimiento]],'[1]Establecimiento 2023'!$A$1:$E$183,3,FALSE),0)","v":"105466-Posta de Salud Rural Valle Hermoso"},{"$f":"IFERROR(VLOOKUP(Tabla_SERIED_12_5[[#This Row],[IdEstablecimiento]],'[1]Establecimiento 2023'!$A$1:$E$183,5,FALSE),0)","v":"04302-Combarbalá"},"16200220","2022-06-20T17:21:26",3,2,1,1,2]
[{"$nulls":23},2,"5",2022,"105104",{"$f":"IFERROR(VLOOKUP(Tabla_SERIED_12_5[[#This Row],[IdEstablecimiento]],'[1]Establecimiento 2023'!$A$1:$E$183,3,FALSE),0)","v":"105104-Hospital de Salamanca"},{"$f":"IFERROR(VLOOKUP(Tabla_SERIED_12_5[[#This Row],[IdEstablecimiento]],'[1]Establecimiento 2023'!$A$1:$E$183,5,FALSE),0)","v":"105104-Hospital Salamanca"},"15050200","2022-03-17T10:48:27",1,1,0,0,0,0,0,0,0,1,null,0,0,0,0]
[{"$nulls":23},1,"5",2022,"105491",{"$f":"IFERROR(VLOOKUP(Tabla_SERIED_12_5[[#This Row],[IdEstablecimiento]],'[1]Establecimiento 2023'!$A$1:$E$183,3,FALSE),0)","v":"105491-Posta de Salud Rural Quelén Bajo"},{"$f":"IFERROR(VLOOKUP(Tabla_SERIED_12_5[[#This Row],[IdEstablecimiento]],'[1]Establecimiento 2023'!$A$1:$E$183,5,FALSE),0)","v":"04204-Salamanca"},"15900010","2022-02-17T04:08:58",3.2,null,null,3.2]
[{"$nulls":23},1,"5",2022,"105500",{"$f":"IFERROR(VLOOKUP(Tabla_SERIED_12_5[[#This Row],[IdEstablecimiento]],'[1]Establecimiento 2023'!$A$1:$E$183,3,FALSE),0)","v":"105500-Posta de Salud Rural Caleta Hornos"},{"$f":"IFERROR(VLOOKUP(Tabla_SERIED_12_5[[#This Row],[IdEstablecimiento]],'[1]Establecimiento 2023'!$A$1:$E$183,5,FALSE),0)","v":"04104-La Higuera"},"15050200","2022-02-17T04:15:21",1,null,1,{"$nulls":5},1]
[{"$nulls":23},7,"5",2022,"105305",{"$f":"IFERROR(VLOOKUP(Tabla_SERIED_12_5[[#This Row],[IdEstablecimiento]],'[1]Establecimiento 2023'!$A$1:$E$183,3,FALSE),0)","v":"105305-Centro de Salud Familiar Tierras Blancas"},{"$f":"IFERROR(VLOOKUP(Tabla_SERIED_12_5[[#This Row],[IdEstablecimiento]],'[1]Establecimiento 2023'!$A$1:$E$183,5,FALSE),0)","v":"04102-Coquimbo"},"15010400","2022-08-19T11:59:12",18,{"$nulls":5},14,4]
[{"$nulls":23},7,"5",2022,"105305",{"$f":"IFERROR(VLOOKUP(Tabla_SERIED_12_5[[#This Row],[IdEstablecimiento]],'[1]Establecimiento 2023'!$A$1:$E$183,3,FALSE),0)","v":"105305-Centro de Salud Familiar Tierras Blancas"},{"$f":"IFERROR(VLOOKUP(Tabla_SERIED_12_5[[#This Row],[IdEstablecimiento]],'[1]Establecimiento 2023'!$A$1:$E$183,5,FALSE),0)","v":"04102-Coquimbo"},"15010500","2022-08-19T11:59:12",18,{"$nulls":5},14,4]
[{"$nulls":23},8,"5",2022,"200273",{"$f":"IFERROR(VLOOKUP(Tabla_SERIED_12_5[[#This Row],[IdEstablecimiento]],'[1]Establecimiento 2023'!$A$1:$E$183,3,FALSE),0)","v":"200273-Centro Comunitario de Salud Familiar Punta Mira"},{"$f":"IFERROR(VLOOKUP(Tabla_SERIED_12_5[[#This Row],[IdEstablecimiento]],'[1]Establecimiento 2023'!$A$1:$E$183,5,FALSE),0)","v":"04102-Coquimbo"},"15010200","2022-09-21T08:02:04",85,{"$nulls":4},14,30,41]
[{"$nulls":23},8,"5",2022,"200273",{"$f":"IFERROR(VLOOKUP(Tabla_SERIED_12_5[[#This Row],[IdEstablecimiento]],'[1]Establecimiento 2023'!$A$1:$E$183,3,FALSE),0)","v":"200273-Centro Comunitario de Salud Familiar Punta Mira"},{"$f":"IFERROR(VLOOKUP(Tabla_SERIED_12_5[[#This Row],[IdEstablecimiento]],'[1]Establecimiento 2023'!$A$1:$E$183,5,FALSE),0)","v":"04102-Coquimbo"},"15060100","2022-09-21T08:02:04",5,3,2,{"$nulls":5},2,3]
[{"$nulls":23},8,"5",2022,"105462",{"$f":"IFERROR(VLOOKUP(Tabla_SERIED_12_5[[#This Row],[IdEstablecimiento]],'[1]Establecimiento 2023'!$A$1:$E$183,3,FALSE),0)","v":"105462-Posta de Salud Rural El Sauce (Combarbalá)"},{"$f":"IFERROR(VLOOKUP(Tabla_SERIED_12_5[[#This Row],[IdEstablecimiento]],'[1]Establecimiento 2023'!$A$1:$E$183,5,FALSE),0)","v":"04302-Combarbalá"},"15050100","2022-09-21T07:47:13",11,4,7,{"$nulls":4},1,4,2,3,null,1]
[{"$nulls":23},8,"5",2022,"105463",{"$f":"IFERROR(VLOOKUP(Tabla_SERIED_12_5[[#This Row],[IdEstablecimiento]],'[1]Establecimiento 2023'!$A$1:$E$183,3,FALSE),0)","v":"105463-Posta de Salud Rural Quilitapia"},{"$f":"IFERROR(VLOOKUP(Tabla_SERIED_12_5[[#This Row],[IdEstablecimiento]],'[1]Establecimiento 2023'!$A$1:$E$183,5,FALSE),0)","v":"04302-Combarbalá"},"15050100","2022-09-21T07:47:33",12,4,8,null,null,1,null,1,5,4,1]
[{"$nulls":23},8,"5",2022,"105464",{"$f":"IFERROR(VLOOKUP(Tabla_SERIED_12_5[[#This Row],[IdEstablecimiento]],'[1]Establecimiento 2023'!$A$1:$E$183,3,FALSE),0)","v":"105464-Posta de Salud Rural La Ligua"},{"$f":"IFERROR(VLOOKUP(Tabla_SERIED_12_5[[#This Row],[IdEstablecimiento]],'[1]Establecimiento 2023'!$A$1:$E$183,5,FALSE),0)","v":"04302-Combarbalá"},"15010100","2022-09-21T07:47:45",2,{"$nulls":3},2]
[{"$nulls":23},3,"5",2022,"105314",{"$f":"IFERROR(VLOOKUP(Tabla_SERIED_12_5[[#This Row],[IdEstablecimiento]],'[1]Establecimiento 2023'!$A$1:$E$183,3,FALSE),0)","v":"105314-Centro de Salud Familiar La Higuera"},{"$f":"IFERROR(VLOOKUP(Tabla_SERIED_12_5[[#This Row],[IdEstablecimiento]],'[1]Establecimiento 2023'!$A$1:$E$183,5,FALSE),0)","v":"04104-La Higuera"},"15010100","2022-04-19T08:09:37",10,null,null,2,8]
[{"$nulls":23},8,"5",2022,"105500",{"$f":"IFERROR(VLOOKUP(Tabla_SERIED_12_5[[#This Row],[IdEstablecimiento]],'[1]Establecimiento 2023'!$A$1:$E$183,3,FALSE),0)","v":"105500-Posta de Salud Rural Caleta Hornos"},{"$f":"IFERROR(VLOOKUP(Tabla_SERIED_12_5[[#This Row],[IdEstablecimiento]],'[1]Establecimiento 2023'!$A$1:$E$183,5,FALSE),0)","v":"04104-La Higuera"},"16090300","2022-09-21T07:57:28",26,26]
[{"$nulls":23},8,"5",2022,"105500",{"$f":"IFERROR(VLOOKUP(Tabla_SERIED_12_5[[#This Row],[IdEstablecimiento]],'[1]Establecimiento 2023'!$A$1:$E$183,3,FALSE),0)","v":"105500-Posta de Salud Rural Caleta Hornos"},{"$f":"IFERROR(VLOOKUP(Tabla_SERIED_12_5[[#This Row],[IdEstablecimiento]],'[1]Establecimiento 2023'!$A$1:$E$183,5,FALSE),0)","v":"04104-La Higuera"},"16200210","2022-09-21T07:57:28",2,2]
[{"$nulls":23},3,"5",2022,"105104",{"$f":"IFERROR(VLOOKUP(Tabla_SERIED_12_5[[#This Row],[IdEstablecimiento]],'[1]Establecimiento 2023'!$A$1:$E$183,3,FALSE),0)","v":"105104-Hospital de Salamanca"},{"$f":"IFERROR(VLOOKUP(Tabla_SERIED_12_5[[#This Row],[IdEstablecimiento]],'[1]Establecimiento 2023'!$A$1:$E$183,5,FALSE),0)","v":"105104-Hospital Salamanca"},"15010400","2022-04-19T07:58:19",2,{"$nulls":4},0,0,2]
[{"$nulls":23},7,"5",2022,"200569",{"$f":"IFERROR(VLOOKUP(Tabla_SERIED_12_5[[#This Row],[IdEstablecimiento]],'[1]Establecimiento 2023'!$A$1:$E$183,3,FALSE),0)","v":"200569-Centro de Salud Familiar Fray Jorge"},{"$f":"IFERROR(VLOOKUP(Tabla_SERIED_12_5[[#This Row],[IdEstablecimiento]],'[1]Establecimiento 2023'!$A$1:$E$183,5,FALSE),0)","v":"04301-Ovalle"},"15080012","2022-08-22T06:50:39",2,null,null,2]
[{"$nulls":23},7,"5",2022,"200569",{"$f":"IFERROR(VLOOKUP(Tabla_SERIED_12_5[[#This Row],[IdEstablecimiento]],'[1]Establecimiento 2023'!$A$1:$E$183,3,FALSE),0)","v":"200569-Centro de Salud Familiar Fray Jorge"},{"$f":"IFERROR(VLOOKUP(Tabla_SERIED_12_5[[#This Row],[IdEstablecimiento]],'[1]Establecimiento 2023'!$A$1:$E$183,5,FALSE),0)","v":"04301-Ovalle"},"15901200","2022-08-22T06:50:39",28.8,null,11.2,4,3.2,10.4]
[{"$nulls":23},4,"5",2022,"105480",{"$f":"IFERROR(VLOOKUP(Tabla_SERIED_12_5[[#This Row],[IdEstablecimiento]],'[1]Establecimiento 2023'!$A$1:$E$183,3,FALSE),0)","v":"105480-Posta de Salud Rural Quilimarí"},{"$f":"IFERROR(VLOOKUP(Tabla_SERIED_12_5[[#This Row],[IdEstablecimiento]],'[1]Establecimiento 2023'!$A$1:$E$183,5,FALSE),0)","v":"04203-Los Vilos"},"15010100","2022-05-18T15:14:23",26,{"$nulls":3},26]
[{"$nulls":23},2,"5",2022,"105422",{"$f":"IFERROR(VLOOKUP(Tabla_SERIED_12_5[[#This Row],[IdEstablecimiento]],'[1]Establecimiento 2023'!$A$1:$E$183,3,FALSE),0)","v":"105422-Posta de Salud Rural Hornillos"},{"$f":"IFERROR(VLOOKUP(Tabla_SERIED_12_5[[#This Row],[IdEstablecimiento]],'[1]Establecimiento 2023'!$A$1:$E$183,5,FALSE),0)","v":"04301-Ovalle"},"16100300","2022-03-17T09:36:01",43,17,26,null,5]
[{"$nulls":23},7,"5",2022,"105314",{"$f":"IFERROR(VLOOKUP(Tabla_SERIED_12_5[[#This Row],[IdEstablecimiento]],'[1]Establecimiento 2023'!$A$1:$E$183,3,FALSE),0)","v":"105314-Centro de Salud Familiar La Higuera"},{"$f":"IFERROR(VLOOKUP(Tabla_SERIED_12_5[[#This Row],[IdEstablecimiento]],'[1]Establecimiento 2023'!$A$1:$E$183,5,FALSE),0)","v":"04104-La Higuera"},"16200210","2022-08-22T07:01:07",6,6]
[{"$nulls":23},7,"5",2022,"105414",{"$f":"IFERROR(VLOOKUP(Tabla_SERIED_12_5[[#This Row],[IdEstablecimiento]],'[1]Establecimiento 2023'!$A$1:$E$183,3,FALSE),0)","v":"105414-Posta de Salud Rural Serón"},{"$f":"IFERROR(VLOOKUP(Tabla_SERIED_12_5[[#This Row],[IdEstablecimiento]],'[1]Establecimiento 2023'!$A$1:$E$183,5,FALSE),0)","v":"04305-Río Hurtado"},"15010200","2022-08-22T07:30:07",28,{"$nulls":4},4,14,10]
[{"$nulls":23},4,"5",2022,"105105",{"$f":"IFERROR(VLOOKUP(Tabla_SERIED_12_5[[#This Row],[IdEstablecimiento]],'[1]Establecimiento 2023'!$A$1:$E$183,3,FALSE),0)","v":"105105-Hospital San Juan de Dios (Combarbalá)"},{"$f":"IFERROR(VLOOKUP(Tabla_SERIED_12_5[[#This Row],[IdEstablecimiento]],'[1]Establecimiento 2023'!$A$1:$E$183,5,FALSE),0)","v":"105105-Hospital Combarbalá"},"15010100","2022-08-22T07:33:47",36,{"$nulls":3},36]
[{"$nulls":23},7,"5",2022,"105105",{"$f":"IFERROR(VLOOKUP(Tabla_SERIED_12_5[[#This Row],[IdEstablecimiento]],'[1]Establecimiento 2023'!$A$1:$E$183,3,FALSE),0)","v":"105105-Hospital San Juan de Dios (Combarbalá)"},{"$f":"IFERROR(VLOOKUP(Tabla_SERIED_12_5[[#This Row],[IdEstablecimiento]],'[1]Establecimiento 2023'!$A$1:$E$183,5,FALSE),0)","v":"105105-Hospital Combarbalá"},"15010200","2022-08-19T11:37:58",244,{"$nulls":4},44,94,106]
[{"$nulls":23},7,"5",2022,"105304",{"$f":"IFERROR(VLOOKUP(Tabla_SERIED_12_5[[#This Row],[IdEstablecimiento]],'[1]Establecimiento 2023'!$A$1:$E$183,3,FALSE),0)","v":"105304-Centro de Salud Familiar Santa Cecilia"},{"$f":"IFERROR(VLOOKUP(Tabla_SERIED_12_5[[#This Row],[IdEstablecimiento]],'[1]Establecimiento 2023'!$A$1:$E$183,5,FALSE),0)","v":"04102-Coquimbo"},"15010100","2022-08-19T11:59:01",140,null,null,0,134,0,null,null,2,null,4]
[{"$nulls":23},7,"5",2022,"105446",{"$f":"IFERROR(VLOOKUP(Tabla_SERIED_12_5[[#This Row],[IdEstablecimiento]],'[1]Establecimiento 2023'!$A$1:$E$183,3,FALSE),0)","v":"105446-Posta de Salud Rural Matancilla"},{"$f":"IFERROR(VLOOKUP(Tabla_SERIED_12_5[[#This Row],[IdEstablecimiento]],'[1]Establecimiento 2023'!$A$1:$E$183,5,FALSE),0)","v":"04201-Illapel"},"15050100","2022-08-22T05:56:47",2,null,2,{"$nulls":6},2]
[{"$nulls":23},7,"5",2022,"105447",{"$f":"IFERROR(VLOOKUP(Tabla_SERIED_12_5[[#This Row],[IdEstablecimiento]],'[1]Establecimiento 2023'!$A$1:$E$183,3,FALSE),0)","v":"105447-Posta de Salud Rural Peralillo Illapel"},{"$f":"IFERROR(VLOOKUP(Tabla_SERIED_12_5[[#This Row],[IdEstablecimiento]],'[1]Establecimiento 2023'!$A$1:$E$183,5,FALSE),0)","v":"04201-Illapel"},"15050100","2022-08-22T05:57:02",27,10,17,1,1,2,2,2,5,8,3,null,3]
[{"$nulls":23},8,"5",2022,"200402",{"$f":"IFERROR(VLOOKUP(Tabla_SERIED_12_5[[#This Row],[IdEstablecimiento]],'[1]Establecimiento 2023'!$A$1:$E$183,3,FALSE),0)","v":"200402-Centro Comunitario de Salud Familiar Arcos de Pinamar"},{"$f":"IFERROR(VLOOKUP(Tabla_SERIED_12_5[[#This Row],[IdEstablecimiento]],'[1]Establecimiento 2023'!$A$1:$E$183,5,FALSE),0)","v":"04101-La Serena"},"15060100","2022-09-21T08:04:27",1,0,1,{"$nulls":4},1]
[{"$nulls":23},2,"5",2022,"105465",{"$f":"IFERROR(VLOOKUP(Tabla_SERIED_12_5[[#This Row],[IdEstablecimiento]],'[1]Establecimiento 2023'!$A$1:$E$183,3,FALSE),0)","v":"105465-Posta de Salud Rural Ramadilla"},{"$f":"IFERROR(VLOOKUP(Tabla_SERIED_12_5[[#This Row],[IdEstablecimiento]],'[1]Establecimiento 2023'!$A$1:$E$183,5,FALSE),0)","v":"04302-Combarbalá"},"15010100","2022-03-17T09:49:08",2,{"$nulls":3},2]
[{"$nulls":23},7,"5",2022,"105425",{"$f":"IFERROR(VLOOKUP(Tabla_SERIED_12_5[[#This Row],[IdEstablecimiento]],'[1]Establecimiento 2023'!$A$1:$E$183,3,FALSE),0)","v":"105425-Posta de Salud Rural Chilecito"},{"$f":"IFERROR(VLOOKUP(Tabla_SERIED_12_5[[#This Row],[IdEstablecimiento]],'[1]Establecimiento 2023'!$A$1:$E$183,5,FALSE),0)","v":"04303-Monte Patria"},"16200210","2022-08-22T05:42:34",1,1]
[{"$nulls":23},7,"5",2022,"105325",{"$f":"IFERROR(VLOOKUP(Tabla_SERIED_12_5[[#This Row],[IdEstablecimiento]],'[1]Establecimiento 2023'!$A$1:$E$183,3,FALSE),0)","v":"105325-Centro de Salud Familiar Juan Pablo II (La Serena)"},{"$f":"IFERROR(VLOOKUP(Tabla_SERIED_12_5[[#This Row],[IdEstablecimiento]],'[1]Establecimiento 2023'!$A$1:$E$183,5,FALSE),0)","v":"04101-La Serena"},"15900010","2022-08-19T12:03:07",247.5,11.7,55.8,180]
[{"$nulls":23},3,"5",2022,"105104",{"$f":"IFERROR(VLOOKUP(Tabla_SERIED_12_5[[#This Row],[IdEstablecimiento]],'[1]Establecimiento 2023'!$A$1:$E$183,3,FALSE),0)","v":"105104-Hospital de Salamanca"},{"$f":"IFERROR(VLOOKUP(Tabla_SERIED_12_5[[#This Row],[IdEstablecimiento]],'[1]Establecimiento 2023'!$A$1:$E$183,5,FALSE),0)","v":"105104-Hospital Salamanca"},"15900030","2022-04-19T07:58:19",6,0,3.6,0,0,2.4]
[{"$nulls":23},3,"5",2022,"105104",{"$f":"IFERROR(VLOOKUP(Tabla_SERIED_12_5[[#This Row],[IdEstablecimiento]],'[1]Establecimiento 2023'!$A$1:$E$183,3,FALSE),0)","v":"105104-Hospital de Salamanca"},{"$f":"IFERROR(VLOOKUP(Tabla_SERIED_12_5[[#This Row],[IdEstablecimiento]],'[1]Establecimiento 2023'!$A$1:$E$183,5,FALSE),0)","v":"105104-Hospital Salamanca"},"16200210","2022-04-19T07:58:19",3,3]
[{"$nulls":23},6,"5",2022,"105317",{"$f":"IFERROR(VLOOKUP(Tabla_SERIED_12_5[[#This Row],[IdEstablecimiento]],'[1]Establecimiento 2023'!$A$1:$E$183,3,FALSE),0)","v":"105317-Centro de Salud Familiar Jorge Jordán Domic"},{"$f":"IFERROR(VLOOKUP(Tabla_SERIED_12_5[[#This Row],[IdEstablecimiento]],'[1]Establecimiento 2023'!$A$1:$E$183,5,FALSE),0)","v":"04301-Ovalle"},"15010100","2022-07-14T14:05:46",104,{"$nulls":3},102,2]
[{"$nulls":23},7,"5",2022,"105427",{"$f":"IFERROR(VLOOKUP(Tabla_SERIED_12_5[[#This Row],[IdEstablecimiento]],'[1]Establecimiento 2023'!$A$1:$E$183,3,FALSE),0)","v":"105427-Posta de Salud Rural Hacienda Valdivia"},{"$f":"IFERROR(VLOOKUP(Tabla_SERIED_12_5[[#This Row],[IdEstablecimiento]],'[1]Establecimiento 2023'!$A$1:$E$183,5,FALSE),0)","v":"04303-Monte Patria"},"15050100","2022-08-22T05:42:49",7,3,4,0,0,3,1,0,0,1,2,null,0,0,0]
[{"$nulls":23},3,"5",2022,"105302",{"$f":"IFERROR(VLOOKUP(Tabla_SERIED_12_5[[#This Row],[IdEstablecimiento]],'[1]Establecimiento 2023'!$A$1:$E$183,3,FALSE),0)","v":"105302-Centro de Salud Familiar Pedro Aguirre Cerda"},{"$f":"IFERROR(VLOOKUP(Tabla_SERIED_12_5[[#This Row],[IdEstablecimiento]],'[1]Establecimiento 2023'!$A$1:$E$183,5,FALSE),0)","v":"04101-La Serena"},"15010400","2022-04-19T08:02:36",14,{"$nulls":5},12,2]
[{"$nulls":23},5,"5",2022,"200366",{"$f":"IFERROR(VLOOKUP(Tabla_SERIED_12_5[[#This Row],[IdEstablecimiento]],'[1]Establecimiento 2023'!$A$1:$E$183,3,FALSE),0)","v":"200366-Centro de Salud Familiar Urbano de Illapel"},{"$f":"IFERROR(VLOOKUP(Tabla_SERIED_12_5[[#This Row],[IdEstablecimiento]],'[1]Establecimiento 2023'!$A$1:$E$183,5,FALSE),0)","v":"04201-Illapel"},"16200210","2022-06-20T17:36:22",12,12]
[{"$nulls":23},4,"5",2022,"105447",{"$f":"IFERROR(VLOOKUP(Tabla_SERIED_12_5[[#This Row],[IdEstablecimiento]],'[1]Establecimiento 2023'!$A$1:$E$183,3,FALSE),0)","v":"105447-Posta de Salud Rural Peralillo Illapel"},{"$f":"IFERROR(VLOOKUP(Tabla_SERIED_12_5[[#This Row],[IdEstablecimiento]],'[1]Establecimiento 2023'!$A$1:$E$183,5,FALSE),0)","v":"04201-Illapel"},"16090300","2022-05-18T15:03:17",44,44]
[{"$nulls":23},1,"5",2022,"200273",{"$f":"IFERROR(VLOOKUP(Tabla_SERIED_12_5[[#This Row],[IdEstablecimiento]],'[1]Establecimiento 2023'!$A$1:$E$183,3,FALSE),0)","v":"200273-Centro Comunitario de Salud Familiar Punta Mira"},{"$f":"IFERROR(VLOOKUP(Tabla_SERIED_12_5[[#This Row],[IdEstablecimiento]],'[1]Establecimiento 2023'!$A$1:$E$183,5,FALSE),0)","v":"04102-Coquimbo"},"15900050","2022-02-17T04:29:34",1,null,1,{"$nulls":3},1]
[{"$nulls":23},6,"5",2022,"105503",{"$f":"IFERROR(VLOOKUP(Tabla_SERIED_12_5[[#This Row],[IdEstablecimiento]],'[1]Establecimiento 2023'!$A$1:$E$183,3,FALSE),0)","v":"105503-Posta de Salud Rural Tabaqueros"},{"$f":"IFERROR(VLOOKUP(Tabla_SERIED_12_5[[#This Row],[IdEstablecimiento]],'[1]Establecimiento 2023'!$A$1:$E$183,5,FALSE),0)","v":"04305-Río Hurtado"},"16200210","2022-07-14T14:56:11",4,4]
[{"$nulls":23},6,"5",2022,"105317",{"$f":"IFERROR(VLOOKUP(Tabla_SERIED_12_5[[#This Row],[IdEstablecimiento]],'[1]Establecimiento 2023'!$A$1:$E$183,3,FALSE),0)","v":"105317-Centro de Salud Familiar Jorge Jordán Domic"},{"$f":"IFERROR(VLOOKUP(Tabla_SERIED_12_5[[#This Row],[IdEstablecimiento]],'[1]Establecimiento 2023'!$A$1:$E$183,5,FALSE),0)","v":"04301-Ovalle"},"15050200","2022-07-14T14:05:46",9,4,5,{"$nulls":4},1,2,3,null,1,2]
[{"$nulls":23},6,"5",2022,"105317",{"$f":"IFERROR(VLOOKUP(Tabla_SERIED_12_5[[#This Row],[IdEstablecimiento]],'[1]Establecimiento 2023'!$A$1:$E$183,3,FALSE),0)","v":"105317-Centro de Salud Familiar Jorge Jordán Domic"},{"$f":"IFERROR(VLOOKUP(Tabla_SERIED_12_5[[#This Row],[IdEstablecimiento]],'[1]Establecimiento 2023'!$A$1:$E$183,5,FALSE),0)","v":"04301-Ovalle"},"16090300","2022-07-14T14:05:46",585,585]
[{"$nulls":23},6,"5",2022,"105318",{"$f":"IFERROR(VLOOKUP(Tabla_SERIED_12_5[[#This Row],[IdEstablecimiento]],'[1]Establecimiento 2023'!$A$1:$E$183,3,FALSE),0)","v":"105318-Centro de Salud Familiar El Palqui"},{"$f":"IFERROR(VLOOKUP(Tabla_SERIED_12_5[[#This Row],[IdEstablecimiento]],'[1]Establecimiento 2023'!$A$1:$E$183,5,FALSE),0)","v":"04303-Monte Patria"},"15900010","2022-07-14T14:06:01",39.4,null,8.1,31.3]
[{"$nulls":23},6,"5",2022,"105318",{"$f":"IFERROR(VLOOKUP(Tabla_SERIED_12_5[[#This Row],[IdEstablecimiento]],'[1]Establecimiento 2023'!$A$1:$E$183,3,FALSE),0)","v":"105318-Centro de Salud Familiar El Palqui"},{"$f":"IFERROR(VLOOKUP(Tabla_SERIED_12_5[[#This Row],[IdEstablecimiento]],'[1]Establecimiento 2023'!$A$1:$E$183,5,FALSE),0)","v":"04303-Monte Patria"},"16090300","2022-07-14T14:06:01",308,308]
[{"$nulls":23},1,"5",2022,"105313",{"$f":"IFERROR(VLOOKUP(Tabla_SERIED_12_5[[#This Row],[IdEstablecimiento]],'[1]Establecimiento 2023'!$A$1:$E$183,3,FALSE),0)","v":"105313-Centro de Salud Familiar Dr. Emilio Schaffhauser"},{"$f":"IFERROR(VLOOKUP(Tabla_SERIED_12_5[[#This Row],[IdEstablecimiento]],'[1]Establecimiento 2023'!$A$1:$E$183,5,FALSE),0)","v":"04101-La Serena"},"16090600","2022-02-16T10:48:14",1,1]
[{"$nulls":23},2,"5",2022,"105325",{"$f":"IFERROR(VLOOKUP(Tabla_SERIED_12_5[[#This Row],[IdEstablecimiento]],'[1]Establecimiento 2023'!$A$1:$E$183,3,FALSE),0)","v":"105325-Centro de Salud Familiar Juan Pablo II (La Serena)"},{"$f":"IFERROR(VLOOKUP(Tabla_SERIED_12_5[[#This Row],[IdEstablecimiento]],'[1]Establecimiento 2023'!$A$1:$E$183,5,FALSE),0)","v":"04101-La Serena"},"15900030","2022-03-17T09:32:05",33.2,0,0,16,0,17.2]
[{"$nulls":23},2,"5",2022,"105325",{"$f":"IFERROR(VLOOKUP(Tabla_SERIED_12_5[[#This Row],[IdEstablecimiento]],'[1]Establecimiento 2023'!$A$1:$E$183,3,FALSE),0)","v":"105325-Centro de Salud Familiar Juan Pablo II (La Serena)"},{"$f":"IFERROR(VLOOKUP(Tabla_SERIED_12_5[[#This Row],[IdEstablecimiento]],'[1]Establecimiento 2023'!$A$1:$E$183,5,FALSE),0)","v":"04101-La Serena"},"15900040","2022-03-17T09:32:05",10.8,0,3.2,4.4,3.2,0]
[{"$nulls":23},3,"5",2022,"200538",{"$f":"IFERROR(VLOOKUP(Tabla_SERIED_12_5[[#This Row],[IdEstablecimiento]],'[1]Establecimiento 2023'!$A$1:$E$183,3,FALSE),0)","v":"200538-Centro de Salud Familiar San Isidro Calingasta"},{"$f":"IFERROR(VLOOKUP(Tabla_SERIED_12_5[[#This Row],[IdEstablecimiento]],'[1]Establecimiento 2023'!$A$1:$E$183,5,FALSE),0)","v":"04106-Vicuña"},"15080008","2022-04-19T10:22:24",36,{"$nulls":7},17,null,14,5]
[{"$nulls":23},2,"5",2022,"105417",{"$f":"IFERROR(VLOOKUP(Tabla_SERIED_12_5[[#This Row],[IdEstablecimiento]],'[1]Establecimiento 2023'!$A$1:$E$183,3,FALSE),0)","v":"105417-Posta de Salud Rural Alcones Bajo"},{"$f":"IFERROR(VLOOKUP(Tabla_SERIED_12_5[[#This Row],[IdEstablecimiento]],'[1]Establecimiento 2023'!$A$1:$E$183,5,FALSE),0)","v":"04301-Ovalle"},"15010400","2022-03-17T09:35:34",2,{"$nulls":4},2]
[{"$nulls":23},10,"5",2022,"105310",{"$f":"IFERROR(VLOOKUP(Tabla_SERIED_12_5[[#This Row],[IdEstablecimiento]],'[1]Establecimiento 2023'!$A$1:$E$183,3,FALSE),0)","v":"105310-Centro de Salud Familiar Pichasca"},{"$f":"IFERROR(VLOOKUP(Tabla_SERIED_12_5[[#This Row],[IdEstablecimiento]],'[1]Establecimiento 2023'!$A$1:$E$183,5,FALSE),0)","v":"04305-Río Hurtado"},"15010400","2022-11-15T13:32:49",6,{"$nulls":5},4,2]
[{"$nulls":23},5,"5",2022,"105422",{"$f":"IFERROR(VLOOKUP(Tabla_SERIED_12_5[[#This Row],[IdEstablecimiento]],'[1]Establecimiento 2023'!$A$1:$E$183,3,FALSE),0)","v":"105422-Posta de Salud Rural Hornillos"},{"$f":"IFERROR(VLOOKUP(Tabla_SERIED_12_5[[#This Row],[IdEstablecimiento]],'[1]Establecimiento 2023'!$A$1:$E$183,5,FALSE),0)","v":"04301-Ovalle"},"16090300","2022-06-20T17:12:08",39,39]
[{"$nulls":23},5,"5",2022,"105472",{"$f":"IFERROR(VLOOKUP(Tabla_SERIED_12_5[[#This Row],[IdEstablecimiento]],'[1]Establecimiento 2023'!$A$1:$E$183,3,FALSE),0)","v":"105472-Posta de Salud Rural Rivadavia"},{"$f":"IFERROR(VLOOKUP(Tabla_SERIED_12_5[[#This Row],[IdEstablecimiento]],'[1]Establecimiento 2023'!$A$1:$E$183,5,FALSE),0)","v":"04106-Vicuña"},"15010100","2022-06-20T17:22:32",6,{"$nulls":3},6]
[{"$nulls":23},1,"5",2022,"105443",{"$f":"IFERROR(VLOOKUP(Tabla_SERIED_12_5[[#This Row],[IdEstablecimiento]],'[1]Establecimiento 2023'!$A$1:$E$183,3,FALSE),0)","v":"105443-Posta de Salud Rural Cárcamo"},{"$f":"IFERROR(VLOOKUP(Tabla_SERIED_12_5[[#This Row],[IdEstablecimiento]],'[1]Establecimiento 2023'!$A$1:$E$183,5,FALSE),0)","v":"04201-Illapel"},"15010200","2022-02-16T11:32:59",10,{"$nulls":4},4,6]
[{"$nulls":23},10,"5",2022,"105311",{"$f":"IFERROR(VLOOKUP(Tabla_SERIED_12_5[[#This Row],[IdEstablecimiento]],'[1]Establecimiento 2023'!$A$1:$E$183,3,FALSE),0)","v":"105311-Centro de Salud Familiar Chañaral Alto"},{"$f":"IFERROR(VLOOKUP(Tabla_SERIED_12_5[[#This Row],[IdEstablecimiento]],'[1]Establecimiento 2023'!$A$1:$E$183,5,FALSE),0)","v":"04303-Monte Patria"},"15080008","2022-11-15T13:33:04",36,{"$nulls":7},12,null,18,1,5]
[{"$nulls":23},10,"5",2022,"105311",{"$f":"IFERROR(VLOOKUP(Tabla_SERIED_12_5[[#This Row],[IdEstablecimiento]],'[1]Establecimiento 2023'!$A$1:$E$183,3,FALSE),0)","v":"105311-Centro de Salud Familiar Chañaral Alto"},{"$f":"IFERROR(VLOOKUP(Tabla_SERIED_12_5[[#This Row],[IdEstablecimiento]],'[1]Establecimiento 2023'!$A$1:$E$183,5,FALSE),0)","v":"04303-Monte Patria"},"15900010","2022-11-15T13:33:04",25.2,3.6,null,21.6]
[{"$nulls":23},10,"5",2022,"105311",{"$f":"IFERROR(VLOOKUP(Tabla_SERIED_12_5[[#This Row],[IdEstablecimiento]],'[1]Establecimiento 2023'!$A$1:$E$183,3,FALSE),0)","v":"105311-Centro de Salud Familiar Chañaral Alto"},{"$f":"IFERROR(VLOOKUP(Tabla_SERIED_12_5[[#This Row],[IdEstablecimiento]],'[1]Establecimiento 2023'!$A$1:$E$183,5,FALSE),0)","v":"04303-Monte Patria"},"15900060","2022-11-15T13:33:04",1,1,{"$nulls":7},1]
[{"$nulls":23},4,"5",2022,"105723",{"$f":"IFERROR(VLOOKUP(Tabla_SERIED_12_5[[#This Row],[IdEstablecimiento]],'[1]Establecimiento 2023'!$A$1:$E$183,3,FALSE),0)","v":"105723-Centro Comunitario de Salud Familiar Limarí"},{"$f":"IFERROR(VLOOKUP(Tabla_SERIED_12_5[[#This Row],[IdEstablecimiento]],'[1]Establecimiento 2023'!$A$1:$E$183,5,FALSE),0)","v":"04301-Ovalle"},"15010500","2022-05-18T15:23:39",12,{"$nulls":5},8,4]
[{"$nulls":23},7,"5",2022,"105469",{"$f":"IFERROR(VLOOKUP(Tabla_SERIED_12_5[[#This Row],[IdEstablecimiento]],'[1]Establecimiento 2023'!$A$1:$E$183,3,FALSE),0)","v":"105469-Posta de Salud Rural El Tambo (Vicuña)"},{"$f":"IFERROR(VLOOKUP(Tabla_SERIED_12_5[[#This Row],[IdEstablecimiento]],'[1]Establecimiento 2023'!$A$1:$E$183,5,FALSE),0)","v":"04106-Vicuña"},"16090300","2022-08-22T06:25:45",36,36]
[{"$nulls":23},3,"5",2022,"105498",{"$f":"IFERROR(VLOOKUP(Tabla_SERIED_12_5[[#This Row],[IdEstablecimiento]],'[1]Establecimiento 2023'!$A$1:$E$183,3,FALSE),0)","v":"105498-Posta de Salud Rural Quebrada Linares"},{"$f":"IFERROR(VLOOKUP(Tabla_SERIED_12_5[[#This Row],[IdEstablecimiento]],'[1]Establecimiento 2023'!$A$1:$E$183,5,FALSE),0)","v":"04202-Canela"},"16200220","2022-04-19T10:08:46",5,3,2]
[{"$nulls":23},10,"5",2022,"105312",{"$f":"IFERROR(VLOOKUP(Tabla_SERIED_12_5[[#This Row],[IdEstablecimiento]],'[1]Establecimiento 2023'!$A$1:$E$183,3,FALSE),0)","v":"105312-Centro de Salud Familiar Carén"},{"$f":"IFERROR(VLOOKUP(Tabla_SERIED_12_5[[#This Row],[IdEstablecimiento]],'[1]Establecimiento 2023'!$A$1:$E$183,5,FALSE),0)","v":"04303-Monte Patria"},"15900010","2022-11-15T13:33:17",1.8,null,null,1.8]
[{"$nulls":23},10,"5",2022,"105315",{"$f":"IFERROR(VLOOKUP(Tabla_SERIED_12_5[[#This Row],[IdEstablecimiento]],'[1]Establecimiento 2023'!$A$1:$E$183,3,FALSE),0)","v":"105315-Centro de Salud Familiar Cerrillos de Tamaya"},{"$f":"IFERROR(VLOOKUP(Tabla_SERIED_12_5[[#This Row],[IdEstablecimiento]],'[1]Establecimiento 2023'!$A$1:$E$183,5,FALSE),0)","v":"04301-Ovalle"},"15080008","2022-11-15T13:33:57",56,{"$nulls":7},31,null,14,3,8]
[{"$nulls":23},3,"5",2022,"105499",{"$f":"IFERROR(VLOOKUP(Tabla_SERIED_12_5[[#This Row],[IdEstablecimiento]],'[1]Establecimiento 2023'!$A$1:$E$183,3,FALSE),0)","v":"105499-Posta de Salud Rural Lambert"},{"$f":"IFERROR(VLOOKUP(Tabla_SERIED_12_5[[#This Row],[IdEstablecimiento]],'[1]Establecimiento 2023'!$A$1:$E$183,5,FALSE),0)","v":"04101-La Serena"},"15080008","2022-04-19T10:09:01",10,{"$nulls":7},10]
[{"$nulls":23},4,"5",2022,"105464",{"$f":"IFERROR(VLOOKUP(Tabla_SERIED_12_5[[#This Row],[IdEstablecimiento]],'[1]Establecimiento 2023'!$A$1:$E$183,3,FALSE),0)","v":"105464-Posta de Salud Rural La Ligua"},{"$f":"IFERROR(VLOOKUP(Tabla_SERIED_12_5[[#This Row],[IdEstablecimiento]],'[1]Establecimiento 2023'!$A$1:$E$183,5,FALSE),0)","v":"04302-Combarbalá"},"16200220","2022-05-18T15:10:39",6,3,3]
[{"$nulls":23},4,"5",2022,"105303",{"$f":"IFERROR(VLOOKUP(Tabla_SERIED_12_5[[#This Row],[IdEstablecimiento]],'[1]Establecimiento 2023'!$A$1:$E$183,3,FALSE),0)","v":"105303-Centro de Salud Familiar San Juan"},{"$f":"IFERROR(VLOOKUP(Tabla_SERIED_12_5[[#This Row],[IdEstablecimiento]],'[1]Establecimiento 2023'!$A$1:$E$183,5,FALSE),0)","v":"04102-Coquimbo"},"16200220","2022-05-18T11:49:48",14,4,10,1,3]
[{"$nulls":23},2,"5",2022,"105476",{"$f":"IFERROR(VLOOKUP(Tabla_SERIED_12_5[[#This Row],[IdEstablecimiento]],'[1]Establecimiento 2023'!$A$1:$E$183,3,FALSE),0)","v":"105476-Posta de Salud Rural Monte Grande"},{"$f":"IFERROR(VLOOKUP(Tabla_SERIED_12_5[[#This Row],[IdEstablecimiento]],'[1]Establecimiento 2023'!$A$1:$E$183,5,FALSE),0)","v":"04105-Paiguano"},"16200220","2022-03-17T09:52:16",1,null,1]
[{"$nulls":23},10,"5",2022,"105315",{"$f":"IFERROR(VLOOKUP(Tabla_SERIED_12_5[[#This Row],[IdEstablecimiento]],'[1]Establecimiento 2023'!$A$1:$E$183,3,FALSE),0)","v":"105315-Centro de Salud Familiar Cerrillos de Tamaya"},{"$f":"IFERROR(VLOOKUP(Tabla_SERIED_12_5[[#This Row],[IdEstablecimiento]],'[1]Establecimiento 2023'!$A$1:$E$183,5,FALSE),0)","v":"04301-Ovalle"},"16200210","2022-11-15T13:33:57",17,17]
[{"$nulls":23},10,"5",2022,"105317",{"$f":"IFERROR(VLOOKUP(Tabla_SERIED_12_5[[#This Row],[IdEstablecimiento]],'[1]Establecimiento 2023'!$A$1:$E$183,3,FALSE),0)","v":"105317-Centro de Salud Familiar Jorge Jordán Domic"},{"$f":"IFERROR(VLOOKUP(Tabla_SERIED_12_5[[#This Row],[IdEstablecimiento]],'[1]Establecimiento 2023'!$A$1:$E$183,5,FALSE),0)","v":"04301-Ovalle"},"15010500","2022-11-15T13:34:11",16,{"$nulls":3},2,null,8,6]
[{"$nulls":23},2,"5",2022,"105477",{"$f":"IFERROR(VLOOKUP(Tabla_SERIED_12_5[[#This Row],[IdEstablecimiento]],'[1]Establecimiento 2023'!$A$1:$E$183,3,FALSE),0)","v":"105477-Posta de Salud Rural Pisco Elqui"},{"$f":"IFERROR(VLOOKUP(Tabla_SERIED_12_5[[#This Row],[IdEstablecimiento]],'[1]Establecimiento 2023'!$A$1:$E$183,5,FALSE),0)","v":"04105-Paiguano"},"15010300","2022-03-17T09:53:24",2,{"$nulls":4},2]
[{"$nulls":23},1,"5",2022,"105303",{"$f":"IFERROR(VLOOKUP(Tabla_SERIED_12_5[[#This Row],[IdEstablecimiento]],'[1]Establecimiento 2023'!$A$1:$E$183,3,FALSE),0)","v":"105303-Centro de Salud Familiar San Juan"},{"$f":"IFERROR(VLOOKUP(Tabla_SERIED_12_5[[#This Row],[IdEstablecimiento]],'[1]Establecimiento 2023'!$A$1:$E$183,5,FALSE),0)","v":"04102-Coquimbo"},"15010100","2022-02-16T10:34:59",128,null,null,30,96,2,0,0,0,0,0,0,0]
[{"$nulls":23},1,"5",2022,"105303",{"$f":"IFERROR(VLOOKUP(Tabla_SERIED_12_5[[#This Row],[IdEstablecimiento]],'[1]Establecimiento 2023'!$A$1:$E$183,3,FALSE),0)","v":"105303-Centro de Salud Familiar San Juan"},{"$f":"IFERROR(VLOOKUP(Tabla_SERIED_12_5[[#This Row],[IdEstablecimiento]],'[1]Establecimiento 2023'!$A$1:$E$183,5,FALSE),0)","v":"04102-Coquimbo"},"15900010","2022-02-16T10:34:59",171,25,55,91]
[{"$nulls":23},1,"5",2022,"105303",{"$f":"IFERROR(VLOOKUP(Tabla_SERIED_12_5[[#This Row],[IdEstablecimiento]],'[1]Establecimiento 2023'!$A$1:$E$183,3,FALSE),0)","v":"105303-Centro de Salud Familiar San Juan"},{"$f":"IFERROR(VLOOKUP(Tabla_SERIED_12_5[[#This Row],[IdEstablecimiento]],'[1]Establecimiento 2023'!$A$1:$E$183,5,FALSE),0)","v":"04102-Coquimbo"},"15010300","2022-02-16T10:34:59",5,null,null,3,2,0,0,0,0,0,0,0,0]
[{"$nulls":23},10,"5",2022,"105317",{"$f":"IFERROR(VLOOKUP(Tabla_SERIED_12_5[[#This Row],[IdEstablecimiento]],'[1]Establecimiento 2023'!$A$1:$E$183,3,FALSE),0)","v":"105317-Centro de Salud Familiar Jorge Jordán Domic"},{"$f":"IFERROR(VLOOKUP(Tabla_SERIED_12_5[[#This Row],[IdEstablecimiento]],'[1]Establecimiento 2023'!$A$1:$E$183,5,FALSE),0)","v":"04301-Ovalle"},"16100300","2022-11-15T13:34:11",719,293,426,5,117]
[{"$nulls":23},10,"5",2022,"105318",{"$f":"IFERROR(VLOOKUP(Tabla_SERIED_12_5[[#This Row],[IdEstablecimiento]],'[1]Establecimiento 2023'!$A$1:$E$183,3,FALSE),0)","v":"105318-Centro de Salud Familiar El Palqui"},{"$f":"IFERROR(VLOOKUP(Tabla_SERIED_12_5[[#This Row],[IdEstablecimiento]],'[1]Establecimiento 2023'!$A$1:$E$183,5,FALSE),0)","v":"04303-Monte Patria"},"16090300","2022-11-15T13:34:23",332,332]
[{"$nulls":23},10,"5",2022,"105319",{"$f":"IFERROR(VLOOKUP(Tabla_SERIED_12_5[[#This Row],[IdEstablecimiento]],'[1]Establecimiento 2023'!$A$1:$E$183,3,FALSE),0)","v":"105319-Centro de Salud Familiar Cardenal Raúl Silva Henríquez de La Serena"},{"$f":"IFERROR(VLOOKUP(Tabla_SERIED_12_5[[#This Row],[IdEstablecimiento]],'[1]Establecimiento 2023'!$A$1:$E$183,5,FALSE),0)","v":"04101-La Serena"},"15900010","2022-11-15T13:34:36",234.9,14.4,34.2,186.3]
[{"$nulls":23},10,"5",2022,"105319",{"$f":"IFERROR(VLOOKUP(Tabla_SERIED_12_5[[#This Row],[IdEstablecimiento]],'[1]Establecimiento 2023'!$A$1:$E$183,3,FALSE),0)","v":"105319-Centro de Salud Familiar Cardenal Raúl Silva Henríquez de La Serena"},{"$f":"IFERROR(VLOOKUP(Tabla_SERIED_12_5[[#This Row],[IdEstablecimiento]],'[1]Establecimiento 2023'!$A$1:$E$183,5,FALSE),0)","v":"04101-La Serena"},"15900050","2022-11-15T13:34:36",10,4,6,1,2,7]
[{"$nulls":23},10,"5",2022,"105323",{"$f":"IFERROR(VLOOKUP(Tabla_SERIED_12_5[[#This Row],[IdEstablecimiento]],'[1]Establecimiento 2023'!$A$1:$E$183,3,FALSE),0)","v":"105323-Centro de Salud Familiar Dr. Sergio Aguilar Delgado"},{"$f":"IFERROR(VLOOKUP(Tabla_SERIED_12_5[[#This Row],[IdEstablecimiento]],'[1]Establecimiento 2023'!$A$1:$E$183,5,FALSE),0)","v":"04102-Coquimbo"},"15080008","2022-11-15T13:35:17",174,{"$nulls":7},83,null,42,20,29]
[{"$nulls":23},8,"5",2022,"105505",{"$f":"IFERROR(VLOOKUP(Tabla_SERIED_12_5[[#This Row],[IdEstablecimiento]],'[1]Establecimiento 2023'!$A$1:$E$183,3,FALSE),0)","v":"105505-Posta de Salud Rural Los Choros"},{"$f":"IFERROR(VLOOKUP(Tabla_SERIED_12_5[[#This Row],[IdEstablecimiento]],'[1]Establecimiento 2023'!$A$1:$E$183,5,FALSE),0)","v":"04104-La Higuera"},"16100300","2022-09-21T07:58:45",26,11,15]
[{"$nulls":23},8,"5",2022,"105321",{"$f":"IFERROR(VLOOKUP(Tabla_SERIED_12_5[[#This Row],[IdEstablecimiento]],'[1]Establecimiento 2023'!$A$1:$E$183,3,FALSE),0)","v":"105321-Centro de Salud Familiar Tongoy"},{"$f":"IFERROR(VLOOKUP(Tabla_SERIED_12_5[[#This Row],[IdEstablecimiento]],'[1]Establecimiento 2023'!$A$1:$E$183,5,FALSE),0)","v":"04102-Coquimbo"},"15010500","2022-09-21T07:19:18",8,{"$nulls":3},2,null,6]
[{"$nulls":23},8,"5",2022,"105321",{"$f":"IFERROR(VLOOKUP(Tabla_SERIED_12_5[[#This Row],[IdEstablecimiento]],'[1]Establecimiento 2023'!$A$1:$E$183,3,FALSE),0)","v":"105321-Centro de Salud Familiar Tongoy"},{"$f":"IFERROR(VLOOKUP(Tabla_SERIED_12_5[[#This Row],[IdEstablecimiento]],'[1]Establecimiento 2023'!$A$1:$E$183,5,FALSE),0)","v":"04102-Coquimbo"},"15080009","2022-09-21T07:19:18",6,{"$nulls":8},6]
[{"$nulls":23},10,"5",2022,"105323",{"$f":"IFERROR(VLOOKUP(Tabla_SERIED_12_5[[#This Row],[IdEstablecimiento]],'[1]Establecimiento 2023'!$A$1:$E$183,3,FALSE),0)","v":"105323-Centro de Salud Familiar Dr. Sergio Aguilar Delgado"},{"$f":"IFERROR(VLOOKUP(Tabla_SERIED_12_5[[#This Row],[IdEstablecimiento]],'[1]Establecimiento 2023'!$A$1:$E$183,5,FALSE),0)","v":"04102-Coquimbo"},"15900020","2022-11-15T13:35:17",18.9,null,8.1,10.8]
[{"$nulls":23},10,"5",2022,"105323",{"$f":"IFERROR(VLOOKUP(Tabla_SERIED_12_5[[#This Row],[IdEstablecimiento]],'[1]Establecimiento 2023'!$A$1:$E$183,3,FALSE),0)","v":"105323-Centro de Salud Familiar Dr. Sergio Aguilar Delgado"},{"$f":"IFERROR(VLOOKUP(Tabla_SERIED_12_5[[#This Row],[IdEstablecimiento]],'[1]Establecimiento 2023'!$A$1:$E$183,5,FALSE),0)","v":"04102-Coquimbo"},"15020200","2022-11-15T13:35:17",38,{"$nulls":4},8,14,16]
[{"$nulls":23},10,"5",2022,"105466",{"$f":"IFERROR(VLOOKUP(Tabla_SERIED_12_5[[#This Row],[IdEstablecimiento]],'[1]Establecimiento 2023'!$A$1:$E$183,3,FALSE),0)","v":"105466-Posta de Salud Rural Valle Hermoso"},{"$f":"IFERROR(VLOOKUP(Tabla_SERIED_12_5[[#This Row],[IdEstablecimiento]],'[1]Establecimiento 2023'!$A$1:$E$183,5,FALSE),0)","v":"04302-Combarbalá"},"16090300","2022-11-15T13:53:11",31,31]
[{"$nulls":23},2,"5",2022,"105319",{"$f":"IFERROR(VLOOKUP(Tabla_SERIED_12_5[[#This Row],[IdEstablecimiento]],'[1]Establecimiento 2023'!$A$1:$E$183,3,FALSE),0)","v":"105319-Centro de Salud Familiar Cardenal Raúl Silva Henríquez de La Serena"},{"$f":"IFERROR(VLOOKUP(Tabla_SERIED_12_5[[#This Row],[IdEstablecimiento]],'[1]Establecimiento 2023'!$A$1:$E$183,5,FALSE),0)","v":"04101-La Serena"},"15010100","2022-03-17T09:30:49",172,null,null,32,140]
[{"$nulls":23},6,"5",2022,"105448",{"$f":"IFERROR(VLOOKUP(Tabla_SERIED_12_5[[#This Row],[IdEstablecimiento]],'[1]Establecimiento 2023'!$A$1:$E$183,3,FALSE),0)","v":"105448-Posta de Salud Rural Santa Virginia"},{"$f":"IFERROR(VLOOKUP(Tabla_SERIED_12_5[[#This Row],[IdEstablecimiento]],'[1]Establecimiento 2023'!$A$1:$E$183,5,FALSE),0)","v":"04201-Illapel"},"15050100","2022-07-14T14:16:59",22,11,11,null,1,2,4,3,1,6,2,{"$nulls":3},3]
[{"$nulls":23},6,"5",2022,"105449",{"$f":"IFERROR(VLOOKUP(Tabla_SERIED_12_5[[#This Row],[IdEstablecimiento]],'[1]Establecimiento 2023'!$A$1:$E$183,3,FALSE),0)","v":"105449-Posta de Salud Rural Tunga Norte"},{"$f":"IFERROR(VLOOKUP(Tabla_SERIED_12_5[[#This Row],[IdEstablecimiento]],'[1]Establecimiento 2023'!$A$1:$E$183,5,FALSE),0)","v":"04201-Illapel"},"16100300","2022-07-14T14:17:13",27,12,15]
[{"$nulls":23},10,"5",2022,"105467",{"$f":"IFERROR(VLOOKUP(Tabla_SERIED_12_5[[#This Row],[IdEstablecimiento]],'[1]Establecimiento 2023'!$A$1:$E$183,3,FALSE),0)","v":"105467-Posta de Salud Rural Diaguitas"},{"$f":"IFERROR(VLOOKUP(Tabla_SERIED_12_5[[#This Row],[IdEstablecimiento]],'[1]Establecimiento 2023'!$A$1:$E$183,5,FALSE),0)","v":"04106-Vicuña"},"16090300","2022-11-15T13:53:26",36,36]
[{"$nulls":23},10,"5",2022,"105467",{"$f":"IFERROR(VLOOKUP(Tabla_SERIED_12_5[[#This Row],[IdEstablecimiento]],'[1]Establecimiento 2023'!$A$1:$E$183,3,FALSE),0)","v":"105467-Posta de Salud Rural Diaguitas"},{"$f":"IFERROR(VLOOKUP(Tabla_SERIED_12_5[[#This Row],[IdEstablecimiento]],'[1]Establecimiento 2023'!$A$1:$E$183,5,FALSE),0)","v":"04106-Vicuña"},"16200210","2022-11-15T13:53:26",1,1]
[{"$nulls":23},10,"5",2022,"105469",{"$f":"IFERROR(VLOOKUP(Tabla_SERIED_12_5[[#This Row],[IdEstablecimiento]],'[1]Establecimiento 2023'!$A$1:$E$183,3,FALSE),0)","v":"105469-Posta de Salud Rural El Tambo (Vicuña)"},{"$f":"IFERROR(VLOOKUP(Tabla_SERIED_12_5[[#This Row],[IdEstablecimiento]],'[1]Establecimiento 2023'!$A$1:$E$183,5,FALSE),0)","v":"04106-Vicuña"},"15080008","2022-11-15T13:55:51",4,{"$nulls":7},3,{"$nulls":3},1]
[{"$nulls":23},7,"5",2022,"105722",{"$f":"IFERROR(VLOOKUP(Tabla_SERIED_12_5[[#This Row],[IdEstablecimiento]],'[1]Establecimiento 2023'!$A$1:$E$183,3,FALSE),0)","v":"105722-Centro Comunitario de Salud Familiar San José de la Dehesa"},{"$f":"IFERROR(VLOOKUP(Tabla_SERIED_12_5[[#This Row],[IdEstablecimiento]],'[1]Establecimiento 2023'!$A$1:$E$183,5,FALSE),0)","v":"04301-Ovalle"},"15010200","2022-08-22T06:47:31",183,{"$nulls":4},34,82,67]
[{"$nulls":23},5,"5",2022,"105303",{"$f":"IFERROR(VLOOKUP(Tabla_SERIED_12_5[[#This Row],[IdEstablecimiento]],'[1]Establecimiento 2023'!$A$1:$E$183,3,FALSE),0)","v":"105303-Centro de Salud Familiar San Juan"},{"$f":"IFERROR(VLOOKUP(Tabla_SERIED_12_5[[#This Row],[IdEstablecimiento]],'[1]Establecimiento 2023'!$A$1:$E$183,5,FALSE),0)","v":"04102-Coquimbo"},"15020200","2022-06-20T17:00:05",26,{"$nulls":4},8,6,12]
[{"$nulls":23},10,"5",2022,"105312",{"$f":"IFERROR(VLOOKUP(Tabla_SERIED_12_5[[#This Row],[IdEstablecimiento]],'[1]Establecimiento 2023'!$A$1:$E$183,3,FALSE),0)","v":"105312-Centro de Salud Familiar Carén"},{"$f":"IFERROR(VLOOKUP(Tabla_SERIED_12_5[[#This Row],[IdEstablecimiento]],'[1]Establecimiento 2023'!$A$1:$E$183,5,FALSE),0)","v":"04303-Monte Patria"},"16090300","2022-11-15T13:33:17",270,270]
[{"$nulls":23},10,"5",2022,"105313",{"$f":"IFERROR(VLOOKUP(Tabla_SERIED_12_5[[#This Row],[IdEstablecimiento]],'[1]Establecimiento 2023'!$A$1:$E$183,3,FALSE),0)","v":"105313-Centro de Salud Familiar Dr. Emilio Schaffhauser"},{"$f":"IFERROR(VLOOKUP(Tabla_SERIED_12_5[[#This Row],[IdEstablecimiento]],'[1]Establecimiento 2023'!$A$1:$E$183,5,FALSE),0)","v":"04101-La Serena"},"15010300","2022-11-15T13:33:30",5,{"$nulls":3},5]
[{"$nulls":23},10,"5",2022,"105313",{"$f":"IFERROR(VLOOKUP(Tabla_SERIED_12_5[[#This Row],[IdEstablecimiento]],'[1]Establecimiento 2023'!$A$1:$E$183,3,FALSE),0)","v":"105313-Centro de Salud Familiar Dr. Emilio Schaffhauser"},{"$f":"IFERROR(VLOOKUP(Tabla_SERIED_12_5[[#This Row],[IdEstablecimiento]],'[1]Establecimiento 2023'!$A$1:$E$183,5,FALSE),0)","v":"04101-La Serena"},"15050500","2022-11-15T13:33:30",4,3,1,3,null,1]
[{"$nulls":23},10,"5",2022,"105313",{"$f":"IFERROR(VLOOKUP(Tabla_SERIED_12_5[[#This Row],[IdEstablecimiento]],'[1]Establecimiento 2023'!$A$1:$E$183,3,FALSE),0)","v":"105313-Centro de Salud Familiar Dr. Emilio Schaffhauser"},{"$f":"IFERROR(VLOOKUP(Tabla_SERIED_12_5[[#This Row],[IdEstablecimiento]],'[1]Establecimiento 2023'!$A$1:$E$183,5,FALSE),0)","v":"04101-La Serena"},"16090600","2022-11-15T13:33:30",1,1]
[{"$nulls":23},10,"5",2022,"105313",{"$f":"IFERROR(VLOOKUP(Tabla_SERIED_12_5[[#This Row],[IdEstablecimiento]],'[1]Establecimiento 2023'!$A$1:$E$183,3,FALSE),0)","v":"105313-Centro de Salud Familiar Dr. Emilio Schaffhauser"},{"$f":"IFERROR(VLOOKUP(Tabla_SERIED_12_5[[#This Row],[IdEstablecimiento]],'[1]Establecimiento 2023'!$A$1:$E$183,5,FALSE),0)","v":"04101-La Serena"},"16090100","2022-11-15T13:33:30",27,27]
[{"$nulls":23},10,"5",2022,"105469",{"$f":"IFERROR(VLOOKUP(Tabla_SERIED_12_5[[#This Row],[IdEstablecimiento]],'[1]Establecimiento 2023'!$A$1:$E$183,3,FALSE),0)","v":"105469-Posta de Salud Rural El Tambo (Vicuña)"},{"$f":"IFERROR(VLOOKUP(Tabla_SERIED_12_5[[#This Row],[IdEstablecimiento]],'[1]Establecimiento 2023'!$A$1:$E$183,5,FALSE),0)","v":"04106-Vicuña"},"16200220","2022-11-15T13:55:51",2,1,1,0,0]
[{"$nulls":23},4,"5",2022,"105304",{"$f":"IFERROR(VLOOKUP(Tabla_SERIED_12_5[[#This Row],[IdEstablecimiento]],'[1]Establecimiento 2023'!$A$1:$E$183,3,FALSE),0)","v":"105304-Centro de Salud Familiar Santa Cecilia"},{"$f":"IFERROR(VLOOKUP(Tabla_SERIED_12_5[[#This Row],[IdEstablecimiento]],'[1]Establecimiento 2023'!$A$1:$E$183,5,FALSE),0)","v":"04102-Coquimbo"},"16200210","2022-05-18T11:50:01",48,48]
[{"$nulls":23},2,"5",2022,"105451",{"$f":"IFERROR(VLOOKUP(Tabla_SERIED_12_5[[#This Row],[IdEstablecimiento]],'[1]Establecimiento 2023'!$A$1:$E$183,3,FALSE),0)","v":"105451-Posta de Salud Rural Agua Fría"},{"$f":"IFERROR(VLOOKUP(Tabla_SERIED_12_5[[#This Row],[IdEstablecimiento]],'[1]Establecimiento 2023'!$A$1:$E$183,5,FALSE),0)","v":"04202-Canela"},"16090300","2022-03-17T09:44:15",67,67]
[{"$nulls":23},6,"5",2022,"105443",{"$f":"IFERROR(VLOOKUP(Tabla_SERIED_12_5[[#This Row],[IdEstablecimiento]],'[1]Establecimiento 2023'!$A$1:$E$183,3,FALSE),0)","v":"105443-Posta de Salud Rural Cárcamo"},{"$f":"IFERROR(VLOOKUP(Tabla_SERIED_12_5[[#This Row],[IdEstablecimiento]],'[1]Establecimiento 2023'!$A$1:$E$183,5,FALSE),0)","v":"04201-Illapel"},"16090300","2022-07-14T14:15:48",109,109]
[{"$nulls":23},8,"5",2022,"105432",{"$f":"IFERROR(VLOOKUP(Tabla_SERIED_12_5[[#This Row],[IdEstablecimiento]],'[1]Establecimiento 2023'!$A$1:$E$183,3,FALSE),0)","v":"105432-Posta de Salud Rural Rapel (Monte Patria)"},{"$f":"IFERROR(VLOOKUP(Tabla_SERIED_12_5[[#This Row],[IdEstablecimiento]],'[1]Establecimiento 2023'!$A$1:$E$183,5,FALSE),0)","v":"04303-Monte Patria"},"16090500","2022-09-21T07:36:02",1,1]
[{"$nulls":23},8,"5",2022,"105433",{"$f":"IFERROR(VLOOKUP(Tabla_SERIED_12_5[[#This Row],[IdEstablecimiento]],'[1]Establecimiento 2023'!$A$1:$E$183,3,FALSE),0)","v":"105433-Posta de Salud Rural San Lorenzo (Combarbalá)"},{"$f":"IFERROR(VLOOKUP(Tabla_SERIED_12_5[[#This Row],[IdEstablecimiento]],'[1]Establecimiento 2023'!$A$1:$E$183,5,FALSE),0)","v":"04302-Combarbalá"},"16200220","2022-09-21T07:36:14",3,1,2]
[{"$nulls":23},3,"5",2022,"105323",{"$f":"IFERROR(VLOOKUP(Tabla_SERIED_12_5[[#This Row],[IdEstablecimiento]],'[1]Establecimiento 2023'!$A$1:$E$183,3,FALSE),0)","v":"105323-Centro de Salud Familiar Dr. Sergio Aguilar Delgado"},{"$f":"IFERROR(VLOOKUP(Tabla_SERIED_12_5[[#This Row],[IdEstablecimiento]],'[1]Establecimiento 2023'!$A$1:$E$183,5,FALSE),0)","v":"04102-Coquimbo"},"15900050","2022-04-19T08:11:27",2,1,1,0,1,1,0,0]
[{"$nulls":23},3,"5",2022,"105323",{"$f":"IFERROR(VLOOKUP(Tabla_SERIED_12_5[[#This Row],[IdEstablecimiento]],'[1]Establecimiento 2023'!$A$1:$E$183,3,FALSE),0)","v":"105323-Centro de Salud Familiar Dr. Sergio Aguilar Delgado"},{"$f":"IFERROR(VLOOKUP(Tabla_SERIED_12_5[[#This Row],[IdEstablecimiento]],'[1]Establecimiento 2023'!$A$1:$E$183,5,FALSE),0)","v":"04102-Coquimbo"},"15020100","2022-04-19T08:11:27",20,2,0,8,10,0]
[{"$nulls":23},7,"5",2022,"105498",{"$f":"IFERROR(VLOOKUP(Tabla_SERIED_12_5[[#This Row],[IdEstablecimiento]],'[1]Establecimiento 2023'!$A$1:$E$183,3,FALSE),0)","v":"105498-Posta de Salud Rural Quebrada Linares"},{"$f":"IFERROR(VLOOKUP(Tabla_SERIED_12_5[[#This Row],[IdEstablecimiento]],'[1]Establecimiento 2023'!$A$1:$E$183,5,FALSE),0)","v":"04202-Canela"},"16090500","2022-08-22T06:35:31",1,1]
[{"$nulls":23},6,"5",2022,"105323",{"$f":"IFERROR(VLOOKUP(Tabla_SERIED_12_5[[#This Row],[IdEstablecimiento]],'[1]Establecimiento 2023'!$A$1:$E$183,3,FALSE),0)","v":"105323-Centro de Salud Familiar Dr. Sergio Aguilar Delgado"},{"$f":"IFERROR(VLOOKUP(Tabla_SERIED_12_5[[#This Row],[IdEstablecimiento]],'[1]Establecimiento 2023'!$A$1:$E$183,5,FALSE),0)","v":"04102-Coquimbo"},"15060100","2022-07-14T14:06:51",27,12,15,null,1,null,5,4,6,11]
[{"$nulls":23},2,"5",2022,"105449",{"$f":"IFERROR(VLOOKUP(Tabla_SERIED_12_5[[#This Row],[IdEstablecimiento]],'[1]Establecimiento 2023'!$A$1:$E$183,3,FALSE),0)","v":"105449-Posta de Salud Rural Tunga Norte"},{"$f":"IFERROR(VLOOKUP(Tabla_SERIED_12_5[[#This Row],[IdEstablecimiento]],'[1]Establecimiento 2023'!$A$1:$E$183,5,FALSE),0)","v":"04201-Illapel"},"15010200","2022-03-17T09:43:47",4,{"$nulls":6},4]
[{"$nulls":23},1,"5",2022,"105306",{"$f":"IFERROR(VLOOKUP(Tabla_SERIED_12_5[[#This Row],[IdEstablecimiento]],'[1]Establecimiento 2023'!$A$1:$E$183,3,FALSE),0)","v":"105306-Centro de Salud Familiar Paihuano"},{"$f":"IFERROR(VLOOKUP(Tabla_SERIED_12_5[[#This Row],[IdEstablecimiento]],'[1]Establecimiento 2023'!$A$1:$E$183,5,FALSE),0)","v":"04105-Paiguano"},"16200220","2022-02-16T10:35:52",2,null,2]
[{"$nulls":23},1,"5",2022,"105457",{"$f":"IFERROR(VLOOKUP(Tabla_SERIED_12_5[[#This Row],[IdEstablecimiento]],'[1]Establecimiento 2023'!$A$1:$E$183,3,FALSE),0)","v":"105457-Posta de Salud Rural San Agustín (Salamanca)"},{"$f":"IFERROR(VLOOKUP(Tabla_SERIED_12_5[[#This Row],[IdEstablecimiento]],'[1]Establecimiento 2023'!$A$1:$E$183,5,FALSE),0)","v":"04204-Salamanca"},"16200210","2022-02-16T11:37:09",2,2]
[{"$nulls":23},5,"5",2022,"200402",{"$f":"IFERROR(VLOOKUP(Tabla_SERIED_12_5[[#This Row],[IdEstablecimiento]],'[1]Establecimiento 2023'!$A$1:$E$183,3,FALSE),0)","v":"200402-Centro Comunitario de Salud Familiar Arcos de Pinamar"},{"$f":"IFERROR(VLOOKUP(Tabla_SERIED_12_5[[#This Row],[IdEstablecimiento]],'[1]Establecimiento 2023'!$A$1:$E$183,5,FALSE),0)","v":"04101-La Serena"},"15050200","2022-06-20T17:36:53",2,2,{"$nulls":5},1,1]
[{"$nulls":23},4,"5",2022,"200499",{"$f":"IFERROR(VLOOKUP(Tabla_SERIED_12_5[[#This Row],[IdEstablecimiento]],'[1]Establecimiento 2023'!$A$1:$E$183,3,FALSE),0)","v":"200499-Centro de Salud Familiar Rural Pan de Azúcar"},{"$f":"IFERROR(VLOOKUP(Tabla_SERIED_12_5[[#This Row],[IdEstablecimiento]],'[1]Establecimiento 2023'!$A$1:$E$183,5,FALSE),0)","v":"04102-Coquimbo"},"15020100","2022-05-18T15:27:59",2,{"$nulls":3},2]
[{"$nulls":23},3,"5",2022,"105413",{"$f":"IFERROR(VLOOKUP(Tabla_SERIED_12_5[[#This Row],[IdEstablecimiento]],'[1]Establecimiento 2023'!$A$1:$E$183,3,FALSE),0)","v":"105413-Posta de Salud Rural Samo Alto"},{"$f":"IFERROR(VLOOKUP(Tabla_SERIED_12_5[[#This Row],[IdEstablecimiento]],'[1]Establecimiento 2023'!$A$1:$E$183,5,FALSE),0)","v":"04305-Río Hurtado"},"16090300","2022-04-19T08:16:47",64,64]
[{"$nulls":23},5,"5",2022,"200402",{"$f":"IFERROR(VLOOKUP(Tabla_SERIED_12_5[[#This Row],[IdEstablecimiento]],'[1]Establecimiento 2023'!$A$1:$E$183,3,FALSE),0)","v":"200402-Centro Comunitario de Salud Familiar Arcos de Pinamar"},{"$f":"IFERROR(VLOOKUP(Tabla_SERIED_12_5[[#This Row],[IdEstablecimiento]],'[1]Establecimiento 2023'!$A$1:$E$183,5,FALSE),0)","v":"04101-La Serena"},"15020200","2022-06-20T17:36:53",4,{"$nulls":5},4,0]
[{"$nulls":23},1,"5",2022,"105433",{"$f":"IFERROR(VLOOKUP(Tabla_SERIED_12_5[[#This Row],[IdEstablecimiento]],'[1]Establecimiento 2023'!$A$1:$E$183,3,FALSE),0)","v":"105433-Posta de Salud Rural San Lorenzo (Combarbalá)"},{"$f":"IFERROR(VLOOKUP(Tabla_SERIED_12_5[[#This Row],[IdEstablecimiento]],'[1]Establecimiento 2023'!$A$1:$E$183,5,FALSE),0)","v":"04302-Combarbalá"},"16100600","2022-02-16T11:01:07",1,null,1]
[{"$nulls":23},8,"5",2022,"200499",{"$f":"IFERROR(VLOOKUP(Tabla_SERIED_12_5[[#This Row],[IdEstablecimiento]],'[1]Establecimiento 2023'!$A$1:$E$183,3,FALSE),0)","v":"200499-Centro de Salud Familiar Rural Pan de Azúcar"},{"$f":"IFERROR(VLOOKUP(Tabla_SERIED_12_5[[#This Row],[IdEstablecimiento]],'[1]Establecimiento 2023'!$A$1:$E$183,5,FALSE),0)","v":"04102-Coquimbo"},"15080009","2022-09-21T08:04:51",3,{"$nulls":8},3]
[{"$nulls":23},8,"5",2022,"200499",{"$f":"IFERROR(VLOOKUP(Tabla_SERIED_12_5[[#This Row],[IdEstablecimiento]],'[1]Establecimiento 2023'!$A$1:$E$183,3,FALSE),0)","v":"200499-Centro de Salud Familiar Rural Pan de Azúcar"},{"$f":"IFERROR(VLOOKUP(Tabla_SERIED_12_5[[#This Row],[IdEstablecimiento]],'[1]Establecimiento 2023'!$A$1:$E$183,5,FALSE),0)","v":"04102-Coquimbo"},"16090300","2022-09-21T08:04:51",365,356]
[{"$nulls":23},8,"5",2022,"200494",{"$f":"IFERROR(VLOOKUP(Tabla_SERIED_12_5[[#This Row],[IdEstablecimiento]],'[1]Establecimiento 2023'!$A$1:$E$183,3,FALSE),0)","v":"200494-Centro de Salud Familiar El Sauce"},{"$f":"IFERROR(VLOOKUP(Tabla_SERIED_12_5[[#This Row],[IdEstablecimiento]],'[1]Establecimiento 2023'!$A$1:$E$183,5,FALSE),0)","v":"04102-Coquimbo"},"15050100","2022-09-21T08:04:39",549,210,339,6,17,35,77,50,117,84,98,null,28,16,21]
[{"$nulls":23},8,"5",2022,"200499",{"$f":"IFERROR(VLOOKUP(Tabla_SERIED_12_5[[#This Row],[IdEstablecimiento]],'[1]Establecimiento 2023'!$A$1:$E$183,3,FALSE),0)","v":"200499-Centro de Salud Familiar Rural Pan de Azúcar"},{"$f":"IFERROR(VLOOKUP(Tabla_SERIED_12_5[[#This Row],[IdEstablecimiento]],'[1]Establecimiento 2023'!$A$1:$E$183,5,FALSE),0)","v":"04102-Coquimbo"},"15010200","2022-09-21T08:04:51",321,{"$nulls":4},90,140,91]
[{"$nulls":23},3,"5",2022,"105404",{"$f":"IFERROR(VLOOKUP(Tabla_SERIED_12_5[[#This Row],[IdEstablecimiento]],'[1]Establecimiento 2023'!$A$1:$E$183,3,FALSE),0)","v":0},{"$f":"IFERROR(VLOOKUP(Tabla_SERIED_12_5[[#This Row],[IdEstablecimiento]],'[1]Establecimiento 2023'!$A$1:$E$183,5,FALSE),0)","v":0},"16090300","2022-04-19T08:14:56",30,30]
[{"$nulls":23},3,"5",2022,"105404",{"$f":"IFERROR(VLOOKUP(Tabla_SERIED_12_5[[#This Row],[IdEstablecimiento]],'[1]Establecimiento 2023'!$A$1:$E$183,3,FALSE),0)","v":0},{"$f":"IFERROR(VLOOKUP(Tabla_SERIED_12_5[[#This Row],[IdEstablecimiento]],'[1]Establecimiento 2023'!$A$1:$E$183,5,FALSE),0)","v":0},"16100300","2022-04-19T08:14:56",30,18,12]
[{"$nulls":23},4,"5",2022,"105462",{"$f":"IFERROR(VLOOKUP(Tabla_SERIED_12_5[[#This Row],[IdEstablecimiento]],'[1]Establecimiento 2023'!$A$1:$E$183,3,FALSE),0)","v":"105462-Posta de Salud Rural El Sauce (Combarbalá)"},{"$f":"IFERROR(VLOOKUP(Tabla_SERIED_12_5[[#This Row],[IdEstablecimiento]],'[1]Establecimiento 2023'!$A$1:$E$183,5,FALSE),0)","v":"04302-Combarbalá"},"15900050","2022-05-18T15:06:43",1,null,1,null,null,1]
[{"$nulls":23},8,"5",2022,"200538",{"$f":"IFERROR(VLOOKUP(Tabla_SERIED_12_5[[#This Row],[IdEstablecimiento]],'[1]Establecimiento 2023'!$A$1:$E$183,3,FALSE),0)","v":"200538-Centro de Salud Familiar San Isidro Calingasta"},{"$f":"IFERROR(VLOOKUP(Tabla_SERIED_12_5[[#This Row],[IdEstablecimiento]],'[1]Establecimiento 2023'!$A$1:$E$183,5,FALSE),0)","v":"04106-Vicuña"},"15080008","2022-09-21T08:06:15",34,{"$nulls":7},12,null,10,12]
[{"$nulls":23},8,"5",2022,"200538",{"$f":"IFERROR(VLOOKUP(Tabla_SERIED_12_5[[#This Row],[IdEstablecimiento]],'[1]Establecimiento 2023'!$A$1:$E$183,3,FALSE),0)","v":"200538-Centro de Salud Familiar San Isidro Calingasta"},{"$f":"IFERROR(VLOOKUP(Tabla_SERIED_12_5[[#This Row],[IdEstablecimiento]],'[1]Establecimiento 2023'!$A$1:$E$183,5,FALSE),0)","v":"04106-Vicuña"},"15900050","2022-09-21T08:06:15",2,1,1,null,null,1,1]
[{"$nulls":23},8,"5",2022,"105427",{"$f":"IFERROR(VLOOKUP(Tabla_SERIED_12_5[[#This Row],[IdEstablecimiento]],'[1]Establecimiento 2023'!$A$1:$E$183,3,FALSE),0)","v":"105427-Posta de Salud Rural Hacienda Valdivia"},{"$f":"IFERROR(VLOOKUP(Tabla_SERIED_12_5[[#This Row],[IdEstablecimiento]],'[1]Establecimiento 2023'!$A$1:$E$183,5,FALSE),0)","v":"04303-Monte Patria"},"15010300","2022-09-21T07:35:12",2,{"$nulls":3},2]
[{"$nulls":23},8,"5",2022,"105427",{"$f":"IFERROR(VLOOKUP(Tabla_SERIED_12_5[[#This Row],[IdEstablecimiento]],'[1]Establecimiento 2023'!$A$1:$E$183,3,FALSE),0)","v":"105427-Posta de Salud Rural Hacienda Valdivia"},{"$f":"IFERROR(VLOOKUP(Tabla_SERIED_12_5[[#This Row],[IdEstablecimiento]],'[1]Establecimiento 2023'!$A$1:$E$183,5,FALSE),0)","v":"04303-Monte Patria"},"16200220","2022-09-21T07:35:12",3,2,1,0,0]
[{"$nulls":23},8,"5",2022,"105428",{"$f":"IFERROR(VLOOKUP(Tabla_SERIED_12_5[[#This Row],[IdEstablecimiento]],'[1]Establecimiento 2023'!$A$1:$E$183,3,FALSE),0)","v":"105428-Posta de Salud Rural Huatulame"},{"$f":"IFERROR(VLOOKUP(Tabla_SERIED_12_5[[#This Row],[IdEstablecimiento]],'[1]Establecimiento 2023'!$A$1:$E$183,5,FALSE),0)","v":"04303-Monte Patria"},"16200220","2022-09-21T07:35:24",4,1,3]
[{"$nulls":23},8,"5",2022,"105434",{"$f":"IFERROR(VLOOKUP(Tabla_SERIED_12_5[[#This Row],[IdEstablecimiento]],'[1]Establecimiento 2023'!$A$1:$E$183,3,FALSE),0)","v":"105434-Posta de Salud Rural San Marcos (Combarbalá)"},{"$f":"IFERROR(VLOOKUP(Tabla_SERIED_12_5[[#This Row],[IdEstablecimiento]],'[1]Establecimiento 2023'!$A$1:$E$183,5,FALSE),0)","v":"04302-Combarbalá"},"16100300","2022-09-21T07:36:29",32,12,20,null,28]
[{"$nulls":23},8,"5",2022,"105435",{"$f":"IFERROR(VLOOKUP(Tabla_SERIED_12_5[[#This Row],[IdEstablecimiento]],'[1]Establecimiento 2023'!$A$1:$E$183,3,FALSE),0)","v":"105435-Posta de Salud Rural Tulahuén"},{"$f":"IFERROR(VLOOKUP(Tabla_SERIED_12_5[[#This Row],[IdEstablecimiento]],'[1]Establecimiento 2023'!$A$1:$E$183,5,FALSE),0)","v":"04303-Monte Patria"},"15010100","2022-09-21T07:40:15",8,{"$nulls":3},8]
[{"$nulls":23},8,"5",2022,"105308",{"$f":"IFERROR(VLOOKUP(Tabla_SERIED_12_5[[#This Row],[IdEstablecimiento]],'[1]Establecimiento 2023'!$A$1:$E$183,3,FALSE),0)","v":"105308-Centro de Salud Familiar Punitaqui"},{"$f":"IFERROR(VLOOKUP(Tabla_SERIED_12_5[[#This Row],[IdEstablecimiento]],'[1]Establecimiento 2023'!$A$1:$E$183,5,FALSE),0)","v":"04304-Punitaqui"},"15030100","2022-09-21T07:16:40",4000,null,null,4000]
[{"$nulls":23},8,"5",2022,"105308",{"$f":"IFERROR(VLOOKUP(Tabla_SERIED_12_5[[#This Row],[IdEstablecimiento]],'[1]Establecimiento 2023'!$A$1:$E$183,3,FALSE),0)","v":"105308-Centro de Salud Familiar Punitaqui"},{"$f":"IFERROR(VLOOKUP(Tabla_SERIED_12_5[[#This Row],[IdEstablecimiento]],'[1]Establecimiento 2023'!$A$1:$E$183,5,FALSE),0)","v":"04304-Punitaqui"},"16200220","2022-09-21T07:16:40",4,1,3]
[{"$nulls":23},8,"5",2022,"105435",{"$f":"IFERROR(VLOOKUP(Tabla_SERIED_12_5[[#This Row],[IdEstablecimiento]],'[1]Establecimiento 2023'!$A$1:$E$183,3,FALSE),0)","v":"105435-Posta de Salud Rural Tulahuén"},{"$f":"IFERROR(VLOOKUP(Tabla_SERIED_12_5[[#This Row],[IdEstablecimiento]],'[1]Establecimiento 2023'!$A$1:$E$183,5,FALSE),0)","v":"04303-Monte Patria"},"16200220","2022-09-21T07:40:15",2,1,1]
[{"$nulls":23},8,"5",2022,"105437",{"$f":"IFERROR(VLOOKUP(Tabla_SERIED_12_5[[#This Row],[IdEstablecimiento]],'[1]Establecimiento 2023'!$A$1:$E$183,3,FALSE),0)","v":"105437-Posta de Salud Rural Chalinga"},{"$f":"IFERROR(VLOOKUP(Tabla_SERIED_12_5[[#This Row],[IdEstablecimiento]],'[1]Establecimiento 2023'!$A$1:$E$183,5,FALSE),0)","v":"04301-Ovalle"},"15010200","2022-09-21T07:40:42",14,{"$nulls":4},2,8,4]
[{"$nulls":23},8,"5",2022,"105422",{"$f":"IFERROR(VLOOKUP(Tabla_SERIED_12_5[[#This Row],[IdEstablecimiento]],'[1]Establecimiento 2023'!$A$1:$E$183,3,FALSE),0)","v":"105422-Posta de Salud Rural Hornillos"},{"$f":"IFERROR(VLOOKUP(Tabla_SERIED_12_5[[#This Row],[IdEstablecimiento]],'[1]Establecimiento 2023'!$A$1:$E$183,5,FALSE),0)","v":"04301-Ovalle"},"16200220","2022-09-21T07:34:47",5,4,1]
[{"$nulls":23},10,"5",2022,"105472",{"$f":"IFERROR(VLOOKUP(Tabla_SERIED_12_5[[#This Row],[IdEstablecimiento]],'[1]Establecimiento 2023'!$A$1:$E$183,3,FALSE),0)","v":"105472-Posta de Salud Rural Rivadavia"},{"$f":"IFERROR(VLOOKUP(Tabla_SERIED_12_5[[#This Row],[IdEstablecimiento]],'[1]Establecimiento 2023'!$A$1:$E$183,5,FALSE),0)","v":"04106-Vicuña"},"15901500","2022-11-15T13:56:34",2.7,null,null,2.7]
[{"$nulls":23},10,"5",2022,"105472",{"$f":"IFERROR(VLOOKUP(Tabla_SERIED_12_5[[#This Row],[IdEstablecimiento]],'[1]Establecimiento 2023'!$A$1:$E$183,3,FALSE),0)","v":"105472-Posta de Salud Rural Rivadavia"},{"$f":"IFERROR(VLOOKUP(Tabla_SERIED_12_5[[#This Row],[IdEstablecimiento]],'[1]Establecimiento 2023'!$A$1:$E$183,5,FALSE),0)","v":"04106-Vicuña"},"16100600","2022-11-15T13:56:34",3,1,2]
[{"$nulls":23},10,"5",2022,"105473",{"$f":"IFERROR(VLOOKUP(Tabla_SERIED_12_5[[#This Row],[IdEstablecimiento]],'[1]Establecimiento 2023'!$A$1:$E$183,3,FALSE),0)","v":"105473-Posta de Salud Rural Talcuna"},{"$f":"IFERROR(VLOOKUP(Tabla_SERIED_12_5[[#This Row],[IdEstablecimiento]],'[1]Establecimiento 2023'!$A$1:$E$183,5,FALSE),0)","v":"04106-Vicuña"},"15010100","2022-11-15T13:56:47",8,{"$nulls":3},8]
[{"$nulls":23},10,"5",2022,"105473",{"$f":"IFERROR(VLOOKUP(Tabla_SERIED_12_5[[#This Row],[IdEstablecimiento]],'[1]Establecimiento 2023'!$A$1:$E$183,3,FALSE),0)","v":"105473-Posta de Salud Rural Talcuna"},{"$f":"IFERROR(VLOOKUP(Tabla_SERIED_12_5[[#This Row],[IdEstablecimiento]],'[1]Establecimiento 2023'!$A$1:$E$183,5,FALSE),0)","v":"04106-Vicuña"},"16200220","2022-11-15T13:56:47",4,1,3,null,1]
[{"$nulls":23},3,"5",2022,"200607",{"$f":"IFERROR(VLOOKUP(Tabla_SERIED_12_5[[#This Row],[IdEstablecimiento]],'[1]Establecimiento 2023'!$A$1:$E$183,3,FALSE),0)","v":"200607-Centro de Salud Familiar Lila Cortés Godoy"},{"$f":"IFERROR(VLOOKUP(Tabla_SERIED_12_5[[#This Row],[IdEstablecimiento]],'[1]Establecimiento 2023'!$A$1:$E$183,5,FALSE),0)","v":"04102-Coquimbo"},"15900050","2022-04-19T10:17:19",2,2,0,0,0,0,0,2]
[{"$nulls":23},4,"5",2022,"105501",{"$f":"IFERROR(VLOOKUP(Tabla_SERIED_12_5[[#This Row],[IdEstablecimiento]],'[1]Establecimiento 2023'!$A$1:$E$183,3,FALSE),0)","v":"105501-Posta de Salud Rural Arboleda Grande"},{"$f":"IFERROR(VLOOKUP(Tabla_SERIED_12_5[[#This Row],[IdEstablecimiento]],'[1]Establecimiento 2023'!$A$1:$E$183,5,FALSE),0)","v":"04204-Salamanca"},"15010100","2022-05-18T15:20:23",6,{"$nulls":3},4,2]
[{"$nulls":23},7,"5",2022,"105507",{"$f":"IFERROR(VLOOKUP(Tabla_SERIED_12_5[[#This Row],[IdEstablecimiento]],'[1]Establecimiento 2023'!$A$1:$E$183,3,FALSE),0)","v":"105507-Posta de Salud Rural Huamalata"},{"$f":"IFERROR(VLOOKUP(Tabla_SERIED_12_5[[#This Row],[IdEstablecimiento]],'[1]Establecimiento 2023'!$A$1:$E$183,5,FALSE),0)","v":"04301-Ovalle"},"15080008","2022-08-22T06:45:35",9,{"$nulls":7},4,null,4,null,1]
[{"$nulls":23},5,"5",2022,"105472",{"$f":"IFERROR(VLOOKUP(Tabla_SERIED_12_5[[#This Row],[IdEstablecimiento]],'[1]Establecimiento 2023'!$A$1:$E$183,3,FALSE),0)","v":"105472-Posta de Salud Rural Rivadavia"},{"$f":"IFERROR(VLOOKUP(Tabla_SERIED_12_5[[#This Row],[IdEstablecimiento]],'[1]Establecimiento 2023'!$A$1:$E$183,5,FALSE),0)","v":"04106-Vicuña"},"16090500","2022-06-20T17:22:32",4,4]
[{"$nulls":23},6,"5",2022,"105444",{"$f":"IFERROR(VLOOKUP(Tabla_SERIED_12_5[[#This Row],[IdEstablecimiento]],'[1]Establecimiento 2023'!$A$1:$E$183,3,FALSE),0)","v":"105444-Posta de Salud Rural Huintil"},{"$f":"IFERROR(VLOOKUP(Tabla_SERIED_12_5[[#This Row],[IdEstablecimiento]],'[1]Establecimiento 2023'!$A$1:$E$183,5,FALSE),0)","v":"04201-Illapel"},"16090300","2022-07-14T14:15:59",57,57]
[{"$nulls":23},6,"5",2022,"105445",{"$f":"IFERROR(VLOOKUP(Tabla_SERIED_12_5[[#This Row],[IdEstablecimiento]],'[1]Establecimiento 2023'!$A$1:$E$183,3,FALSE),0)","v":"105445-Posta de Salud Rural Limáhuida"},{"$f":"IFERROR(VLOOKUP(Tabla_SERIED_12_5[[#This Row],[IdEstablecimiento]],'[1]Establecimiento 2023'!$A$1:$E$183,5,FALSE),0)","v":"04201-Illapel"},"15080009","2022-07-14T14:16:18",3,{"$nulls":8},3]
[{"$nulls":23},6,"5",2022,"105445",{"$f":"IFERROR(VLOOKUP(Tabla_SERIED_12_5[[#This Row],[IdEstablecimiento]],'[1]Establecimiento 2023'!$A$1:$E$183,3,FALSE),0)","v":"105445-Posta de Salud Rural Limáhuida"},{"$f":"IFERROR(VLOOKUP(Tabla_SERIED_12_5[[#This Row],[IdEstablecimiento]],'[1]Establecimiento 2023'!$A$1:$E$183,5,FALSE),0)","v":"04201-Illapel"},"15900020","2022-07-14T14:16:18",7.2,null,4,3.2]
[{"$nulls":23},7,"5",2022,"105439",{"$f":"IFERROR(VLOOKUP(Tabla_SERIED_12_5[[#This Row],[IdEstablecimiento]],'[1]Establecimiento 2023'!$A$1:$E$183,3,FALSE),0)","v":"105439-Posta de Salud Rural Cerro Blanco"},{"$f":"IFERROR(VLOOKUP(Tabla_SERIED_12_5[[#This Row],[IdEstablecimiento]],'[1]Establecimiento 2023'!$A$1:$E$183,5,FALSE),0)","v":"04301-Ovalle"},"16200230","2022-08-22T05:51:14",3,1,2]
[{"$nulls":23},7,"5",2022,"105442",{"$f":"IFERROR(VLOOKUP(Tabla_SERIED_12_5[[#This Row],[IdEstablecimiento]],'[1]Establecimiento 2023'!$A$1:$E$183,3,FALSE),0)","v":"105442-Posta de Salud Rural San Pedro de Quiles"},{"$f":"IFERROR(VLOOKUP(Tabla_SERIED_12_5[[#This Row],[IdEstablecimiento]],'[1]Establecimiento 2023'!$A$1:$E$183,5,FALSE),0)","v":"04304-Punitaqui"},"16090300","2022-08-22T05:53:10",22,22]
[{"$nulls":23},1,"5",2022,"105444",{"$f":"IFERROR(VLOOKUP(Tabla_SERIED_12_5[[#This Row],[IdEstablecimiento]],'[1]Establecimiento 2023'!$A$1:$E$183,3,FALSE),0)","v":"105444-Posta de Salud Rural Huintil"},{"$f":"IFERROR(VLOOKUP(Tabla_SERIED_12_5[[#This Row],[IdEstablecimiento]],'[1]Establecimiento 2023'!$A$1:$E$183,5,FALSE),0)","v":"04201-Illapel"},"16200210","2022-02-16T11:33:20",6,6]
[{"$nulls":23},7,"5",2022,"105466",{"$f":"IFERROR(VLOOKUP(Tabla_SERIED_12_5[[#This Row],[IdEstablecimiento]],'[1]Establecimiento 2023'!$A$1:$E$183,3,FALSE),0)","v":"105466-Posta de Salud Rural Valle Hermoso"},{"$f":"IFERROR(VLOOKUP(Tabla_SERIED_12_5[[#This Row],[IdEstablecimiento]],'[1]Establecimiento 2023'!$A$1:$E$183,5,FALSE),0)","v":"04302-Combarbalá"},"15010200","2022-08-22T06:23:53",14,{"$nulls":4},2,4,8]
[{"$nulls":23},7,"5",2022,"105467",{"$f":"IFERROR(VLOOKUP(Tabla_SERIED_12_5[[#This Row],[IdEstablecimiento]],'[1]Establecimiento 2023'!$A$1:$E$183,3,FALSE),0)","v":"105467-Posta de Salud Rural Diaguitas"},{"$f":"IFERROR(VLOOKUP(Tabla_SERIED_12_5[[#This Row],[IdEstablecimiento]],'[1]Establecimiento 2023'!$A$1:$E$183,5,FALSE),0)","v":"04106-Vicuña"},"15080008","2022-08-22T06:25:07",8,{"$nulls":7},7,{"$nulls":3},1]
[{"$nulls":23},7,"5",2022,"105468",{"$f":"IFERROR(VLOOKUP(Tabla_SERIED_12_5[[#This Row],[IdEstablecimiento]],'[1]Establecimiento 2023'!$A$1:$E$183,3,FALSE),0)","v":"105468-Posta de Salud Rural El Molle"},{"$f":"IFERROR(VLOOKUP(Tabla_SERIED_12_5[[#This Row],[IdEstablecimiento]],'[1]Establecimiento 2023'!$A$1:$E$183,5,FALSE),0)","v":"04106-Vicuña"},"16090300","2022-08-22T06:25:32",32,32]
[{"$nulls":23},7,"5",2022,"105432",{"$f":"IFERROR(VLOOKUP(Tabla_SERIED_12_5[[#This Row],[IdEstablecimiento]],'[1]Establecimiento 2023'!$A$1:$E$183,3,FALSE),0)","v":"105432-Posta de Salud Rural Rapel (Monte Patria)"},{"$f":"IFERROR(VLOOKUP(Tabla_SERIED_12_5[[#This Row],[IdEstablecimiento]],'[1]Establecimiento 2023'!$A$1:$E$183,5,FALSE),0)","v":"04303-Monte Patria"},"16100600","2022-08-22T05:49:18",1,null,1]
[{"$nulls":23},7,"5",2022,"105433",{"$f":"IFERROR(VLOOKUP(Tabla_SERIED_12_5[[#This Row],[IdEstablecimiento]],'[1]Establecimiento 2023'!$A$1:$E$183,3,FALSE),0)","v":"105433-Posta de Salud Rural San Lorenzo (Combarbalá)"},{"$f":"IFERROR(VLOOKUP(Tabla_SERIED_12_5[[#This Row],[IdEstablecimiento]],'[1]Establecimiento 2023'!$A$1:$E$183,5,FALSE),0)","v":"04302-Combarbalá"},"15010200","2022-08-22T05:49:36",4,{"$nulls":5},4]
[{"$nulls":23},7,"5",2022,"105434",{"$f":"IFERROR(VLOOKUP(Tabla_SERIED_12_5[[#This Row],[IdEstablecimiento]],'[1]Establecimiento 2023'!$A$1:$E$183,3,FALSE),0)","v":"105434-Posta de Salud Rural San Marcos (Combarbalá)"},{"$f":"IFERROR(VLOOKUP(Tabla_SERIED_12_5[[#This Row],[IdEstablecimiento]],'[1]Establecimiento 2023'!$A$1:$E$183,5,FALSE),0)","v":"04302-Combarbalá"},"16090300","2022-08-22T05:49:51",31,31]
[{"$nulls":23},5,"5",2022,"105456",{"$f":"IFERROR(VLOOKUP(Tabla_SERIED_12_5[[#This Row],[IdEstablecimiento]],'[1]Establecimiento 2023'!$A$1:$E$183,3,FALSE),0)","v":"105456-Posta de Salud Rural Llimpo"},{"$f":"IFERROR(VLOOKUP(Tabla_SERIED_12_5[[#This Row],[IdEstablecimiento]],'[1]Establecimiento 2023'!$A$1:$E$183,5,FALSE),0)","v":"04204-Salamanca"},"15050200","2022-06-22T10:50:48",1,1,{"$nulls":6},1]
[{"$nulls":23},7,"5",2022,"105505",{"$f":"IFERROR(VLOOKUP(Tabla_SERIED_12_5[[#This Row],[IdEstablecimiento]],'[1]Establecimiento 2023'!$A$1:$E$183,3,FALSE),0)","v":"105505-Posta de Salud Rural Los Choros"},{"$f":"IFERROR(VLOOKUP(Tabla_SERIED_12_5[[#This Row],[IdEstablecimiento]],'[1]Establecimiento 2023'!$A$1:$E$183,5,FALSE),0)","v":"04104-La Higuera"},"15080008","2022-08-22T06:44:27",1,{"$nulls":7},1]
[{"$nulls":23},7,"5",2022,"105506",{"$f":"IFERROR(VLOOKUP(Tabla_SERIED_12_5[[#This Row],[IdEstablecimiento]],'[1]Establecimiento 2023'!$A$1:$E$183,3,FALSE),0)","v":"105506-Posta de Salud Rural El Trapiche"},{"$f":"IFERROR(VLOOKUP(Tabla_SERIED_12_5[[#This Row],[IdEstablecimiento]],'[1]Establecimiento 2023'!$A$1:$E$183,5,FALSE),0)","v":"04104-La Higuera"},"16090300","2022-08-22T06:45:21",13,13]
[{"$nulls":23},2,"5",2022,"105302",{"$f":"IFERROR(VLOOKUP(Tabla_SERIED_12_5[[#This Row],[IdEstablecimiento]],'[1]Establecimiento 2023'!$A$1:$E$183,3,FALSE),0)","v":"105302-Centro de Salud Familiar Pedro Aguirre Cerda"},{"$f":"IFERROR(VLOOKUP(Tabla_SERIED_12_5[[#This Row],[IdEstablecimiento]],'[1]Establecimiento 2023'!$A$1:$E$183,5,FALSE),0)","v":"04101-La Serena"},"16200220","2022-03-17T09:26:58",28,9,19,0,9]
[{"$nulls":23},2,"5",2022,"105310",{"$f":"IFERROR(VLOOKUP(Tabla_SERIED_12_5[[#This Row],[IdEstablecimiento]],'[1]Establecimiento 2023'!$A$1:$E$183,3,FALSE),0)","v":"105310-Centro de Salud Familiar Pichasca"},{"$f":"IFERROR(VLOOKUP(Tabla_SERIED_12_5[[#This Row],[IdEstablecimiento]],'[1]Establecimiento 2023'!$A$1:$E$183,5,FALSE),0)","v":"04305-Río Hurtado"},"15080008","2022-03-17T09:28:55",5,{"$nulls":7},3,null,2,0,0]
[{"$nulls":23},7,"5",2022,"105324",{"$f":"IFERROR(VLOOKUP(Tabla_SERIED_12_5[[#This Row],[IdEstablecimiento]],'[1]Establecimiento 2023'!$A$1:$E$183,3,FALSE),0)","v":"105324-Centro de Salud Familiar Sotaquí"},{"$f":"IFERROR(VLOOKUP(Tabla_SERIED_12_5[[#This Row],[IdEstablecimiento]],'[1]Establecimiento 2023'!$A$1:$E$183,5,FALSE),0)","v":"04301-Ovalle"},"16100300","2022-08-19T12:02:52",277,118,159,1,45]
[{"$nulls":23},7,"5",2022,"105324",{"$f":"IFERROR(VLOOKUP(Tabla_SERIED_12_5[[#This Row],[IdEstablecimiento]],'[1]Establecimiento 2023'!$A$1:$E$183,3,FALSE),0)","v":"105324-Centro de Salud Familiar Sotaquí"},{"$f":"IFERROR(VLOOKUP(Tabla_SERIED_12_5[[#This Row],[IdEstablecimiento]],'[1]Establecimiento 2023'!$A$1:$E$183,5,FALSE),0)","v":"04301-Ovalle"},"16200220","2022-08-19T12:02:52",3,1,2]
[{"$nulls":23},10,"5",2022,"105402",{"$f":"IFERROR(VLOOKUP(Tabla_SERIED_12_5[[#This Row],[IdEstablecimiento]],'[1]Establecimiento 2023'!$A$1:$E$183,3,FALSE),0)","v":"105402-Posta de Salud Rural El Romero"},{"$f":"IFERROR(VLOOKUP(Tabla_SERIED_12_5[[#This Row],[IdEstablecimiento]],'[1]Establecimiento 2023'!$A$1:$E$183,5,FALSE),0)","v":"04101-La Serena"},"15050100","2022-11-15T13:38:28",44,23,21,null,5,8,2,4,10,6,4,null,1,null,4]
[{"$nulls":23},10,"5",2022,"105405",{"$f":"IFERROR(VLOOKUP(Tabla_SERIED_12_5[[#This Row],[IdEstablecimiento]],'[1]Establecimiento 2023'!$A$1:$E$183,3,FALSE),0)","v":"105405-Posta de Salud Rural Guanaqueros"},{"$f":"IFERROR(VLOOKUP(Tabla_SERIED_12_5[[#This Row],[IdEstablecimiento]],'[1]Establecimiento 2023'!$A$1:$E$183,5,FALSE),0)","v":"04102-Coquimbo"},"15010500","2022-11-15T13:38:55",4,null,null,0,null,null,4,0]
[{"$nulls":23},10,"5",2022,"105321",{"$f":"IFERROR(VLOOKUP(Tabla_SERIED_12_5[[#This Row],[IdEstablecimiento]],'[1]Establecimiento 2023'!$A$1:$E$183,3,FALSE),0)","v":"105321-Centro de Salud Familiar Tongoy"},{"$f":"IFERROR(VLOOKUP(Tabla_SERIED_12_5[[#This Row],[IdEstablecimiento]],'[1]Establecimiento 2023'!$A$1:$E$183,5,FALSE),0)","v":"04102-Coquimbo"},"15050100","2022-11-15T13:34:52",160,64,96,1,5,16,17,21,31,29,28,null,11,null,1]
[{"$nulls":23},6,"5",2022,"105402",{"$f":"IFERROR(VLOOKUP(Tabla_SERIED_12_5[[#This Row],[IdEstablecimiento]],'[1]Establecimiento 2023'!$A$1:$E$183,3,FALSE),0)","v":"105402-Posta de Salud Rural El Romero"},{"$f":"IFERROR(VLOOKUP(Tabla_SERIED_12_5[[#This Row],[IdEstablecimiento]],'[1]Establecimiento 2023'!$A$1:$E$183,5,FALSE),0)","v":"04101-La Serena"},"15900010","2022-07-14T14:08:14",14.4,4.8,null,9.6]
[{"$nulls":23},6,"5",2022,"105404",{"$f":"IFERROR(VLOOKUP(Tabla_SERIED_12_5[[#This Row],[IdEstablecimiento]],'[1]Establecimiento 2023'!$A$1:$E$183,3,FALSE),0)","v":0},{"$f":"IFERROR(VLOOKUP(Tabla_SERIED_12_5[[#This Row],[IdEstablecimiento]],'[1]Establecimiento 2023'!$A$1:$E$183,5,FALSE),0)","v":0},"16090300","2022-07-14T14:08:26",30,30]
[{"$nulls":23},5,"5",2022,"105317",{"$f":"IFERROR(VLOOKUP(Tabla_SERIED_12_5[[#This Row],[IdEstablecimiento]],'[1]Establecimiento 2023'!$A$1:$E$183,3,FALSE),0)","v":"105317-Centro de Salud Familiar Jorge Jordán Domic"},{"$f":"IFERROR(VLOOKUP(Tabla_SERIED_12_5[[#This Row],[IdEstablecimiento]],'[1]Establecimiento 2023'!$A$1:$E$183,5,FALSE),0)","v":"04301-Ovalle"},"15050500","2022-06-20T17:04:08",5,3,2,null,2,3]
[{"$nulls":23},4,"5",2022,"105499",{"$f":"IFERROR(VLOOKUP(Tabla_SERIED_12_5[[#This Row],[IdEstablecimiento]],'[1]Establecimiento 2023'!$A$1:$E$183,3,FALSE),0)","v":"105499-Posta de Salud Rural Lambert"},{"$f":"IFERROR(VLOOKUP(Tabla_SERIED_12_5[[#This Row],[IdEstablecimiento]],'[1]Establecimiento 2023'!$A$1:$E$183,5,FALSE),0)","v":"04101-La Serena"},"15010100","2022-05-18T15:18:46",4,{"$nulls":3},4]
[{"$nulls":23},4,"5",2022,"105499",{"$f":"IFERROR(VLOOKUP(Tabla_SERIED_12_5[[#This Row],[IdEstablecimiento]],'[1]Establecimiento 2023'!$A$1:$E$183,3,FALSE),0)","v":"105499-Posta de Salud Rural Lambert"},{"$f":"IFERROR(VLOOKUP(Tabla_SERIED_12_5[[#This Row],[IdEstablecimiento]],'[1]Establecimiento 2023'!$A$1:$E$183,5,FALSE),0)","v":"04101-La Serena"},"15010200","2022-05-18T15:18:46",26,{"$nulls":4},4,10,12]
[{"$nulls":23},10,"5",2022,"105322",{"$f":"IFERROR(VLOOKUP(Tabla_SERIED_12_5[[#This Row],[IdEstablecimiento]],'[1]Establecimiento 2023'!$A$1:$E$183,3,FALSE),0)","v":"105322-Centro de Salud Familiar Marcos Macuada"},{"$f":"IFERROR(VLOOKUP(Tabla_SERIED_12_5[[#This Row],[IdEstablecimiento]],'[1]Establecimiento 2023'!$A$1:$E$183,5,FALSE),0)","v":"04301-Ovalle"},"15060100","2022-11-15T13:35:05",6,4,2,0,0,0,5,1,0,0,0,null,0,0,0]
[{"$nulls":23},3,"5",2022,"105469",{"$f":"IFERROR(VLOOKUP(Tabla_SERIED_12_5[[#This Row],[IdEstablecimiento]],'[1]Establecimiento 2023'!$A$1:$E$183,3,FALSE),0)","v":"105469-Posta de Salud Rural El Tambo (Vicuña)"},{"$f":"IFERROR(VLOOKUP(Tabla_SERIED_12_5[[#This Row],[IdEstablecimiento]],'[1]Establecimiento 2023'!$A$1:$E$183,5,FALSE),0)","v":"04106-Vicuña"},"16100300","2022-04-19T10:02:06",39,16,23,null,31]
[{"$nulls":23},1,"5",2022,"105454",{"$f":"IFERROR(VLOOKUP(Tabla_SERIED_12_5[[#This Row],[IdEstablecimiento]],'[1]Establecimiento 2023'!$A$1:$E$183,3,FALSE),0)","v":"105454-Posta de Salud Rural Cunlagua"},{"$f":"IFERROR(VLOOKUP(Tabla_SERIED_12_5[[#This Row],[IdEstablecimiento]],'[1]Establecimiento 2023'!$A$1:$E$183,5,FALSE),0)","v":"04204-Salamanca"},"15050100","2022-02-16T11:36:23",1,null,1,{"$nulls":6},1]
[{"$nulls":23},10,"5",2022,"105487",{"$f":"IFERROR(VLOOKUP(Tabla_SERIED_12_5[[#This Row],[IdEstablecimiento]],'[1]Establecimiento 2023'!$A$1:$E$183,3,FALSE),0)","v":"105487-Posta de Salud Rural Cañas Uno"},{"$f":"IFERROR(VLOOKUP(Tabla_SERIED_12_5[[#This Row],[IdEstablecimiento]],'[1]Establecimiento 2023'!$A$1:$E$183,5,FALSE),0)","v":"04201-Illapel"},"16200210","2022-11-15T14:00:15",21,21]
[{"$nulls":23},10,"5",2022,"105489",{"$f":"IFERROR(VLOOKUP(Tabla_SERIED_12_5[[#This Row],[IdEstablecimiento]],'[1]Establecimiento 2023'!$A$1:$E$183,3,FALSE),0)","v":"105489-Posta de Salud Rural Ramadas de Tulahuén"},{"$f":"IFERROR(VLOOKUP(Tabla_SERIED_12_5[[#This Row],[IdEstablecimiento]],'[1]Establecimiento 2023'!$A$1:$E$183,5,FALSE),0)","v":"04303-Monte Patria"},"15050100","2022-11-15T14:00:41",11,4,7,{"$nulls":3},3,1,2,3,1,{"$nulls":3},1]
[{"$nulls":23},7,"5",2022,"105492",{"$f":"IFERROR(VLOOKUP(Tabla_SERIED_12_5[[#This Row],[IdEstablecimiento]],'[1]Establecimiento 2023'!$A$1:$E$183,3,FALSE),0)","v":"105492-Posta de Salud Rural Camisa"},{"$f":"IFERROR(VLOOKUP(Tabla_SERIED_12_5[[#This Row],[IdEstablecimiento]],'[1]Establecimiento 2023'!$A$1:$E$183,5,FALSE),0)","v":"04204-Salamanca"},"15010200","2022-08-22T06:34:38",16,{"$nulls":4},4,10,2]
[{"$nulls":23},7,"5",2022,"105493",{"$f":"IFERROR(VLOOKUP(Tabla_SERIED_12_5[[#This Row],[IdEstablecimiento]],'[1]Establecimiento 2023'!$A$1:$E$183,3,FALSE),0)","v":"105493-Posta de Salud Rural Mincha Sur"},{"$f":"IFERROR(VLOOKUP(Tabla_SERIED_12_5[[#This Row],[IdEstablecimiento]],'[1]Establecimiento 2023'!$A$1:$E$183,5,FALSE),0)","v":"04202-Canela"},"15010200","2022-08-22T06:34:50",4,{"$nulls":4},0,4,0]
[{"$nulls":23},7,"5",2022,"105493",{"$f":"IFERROR(VLOOKUP(Tabla_SERIED_12_5[[#This Row],[IdEstablecimiento]],'[1]Establecimiento 2023'!$A$1:$E$183,3,FALSE),0)","v":"105493-Posta de Salud Rural Mincha Sur"},{"$f":"IFERROR(VLOOKUP(Tabla_SERIED_12_5[[#This Row],[IdEstablecimiento]],'[1]Establecimiento 2023'!$A$1:$E$183,5,FALSE),0)","v":"04202-Canela"},"15050100","2022-08-22T06:34:50",2,0,2,0,0,0,0,0,2,0]
[{"$nulls":23},10,"5",2022,"105415",{"$f":"IFERROR(VLOOKUP(Tabla_SERIED_12_5[[#This Row],[IdEstablecimiento]],'[1]Establecimiento 2023'!$A$1:$E$183,3,FALSE),0)","v":"105415-Posta de Salud Rural Barraza"},{"$f":"IFERROR(VLOOKUP(Tabla_SERIED_12_5[[#This Row],[IdEstablecimiento]],'[1]Establecimiento 2023'!$A$1:$E$183,5,FALSE),0)","v":"04301-Ovalle"},"16090300","2022-11-15T13:42:31",166,166]
[{"$nulls":23},10,"5",2022,"105407",{"$f":"IFERROR(VLOOKUP(Tabla_SERIED_12_5[[#This Row],[IdEstablecimiento]],'[1]Establecimiento 2023'!$A$1:$E$183,3,FALSE),0)","v":"105407-Posta de Salud Rural Tambillo"},{"$f":"IFERROR(VLOOKUP(Tabla_SERIED_12_5[[#This Row],[IdEstablecimiento]],'[1]Establecimiento 2023'!$A$1:$E$183,5,FALSE),0)","v":"04102-Coquimbo"},"15010200","2022-11-15T13:39:08",16,{"$nulls":4},4,6,6]
[{"$nulls":23},10,"5",2022,"105409",{"$f":"IFERROR(VLOOKUP(Tabla_SERIED_12_5[[#This Row],[IdEstablecimiento]],'[1]Establecimiento 2023'!$A$1:$E$183,3,FALSE),0)","v":"105409-Posta de Salud Rural El Chañar"},{"$f":"IFERROR(VLOOKUP(Tabla_SERIED_12_5[[#This Row],[IdEstablecimiento]],'[1]Establecimiento 2023'!$A$1:$E$183,5,FALSE),0)","v":"04305-Río Hurtado"},"15050100","2022-11-15T13:41:03",3,null,3,{"$nulls":5},1,1,null,null,1]
[{"$nulls":23},10,"5",2022,"105410",{"$f":"IFERROR(VLOOKUP(Tabla_SERIED_12_5[[#This Row],[IdEstablecimiento]],'[1]Establecimiento 2023'!$A$1:$E$183,3,FALSE),0)","v":"105410-Posta de Salud Rural Hurtado"},{"$f":"IFERROR(VLOOKUP(Tabla_SERIED_12_5[[#This Row],[IdEstablecimiento]],'[1]Establecimiento 2023'!$A$1:$E$183,5,FALSE),0)","v":"04305-Río Hurtado"},"16090300","2022-11-15T13:41:36",40,40]
[{"$nulls":23},10,"5",2022,"105321",{"$f":"IFERROR(VLOOKUP(Tabla_SERIED_12_5[[#This Row],[IdEstablecimiento]],'[1]Establecimiento 2023'!$A$1:$E$183,3,FALSE),0)","v":"105321-Centro de Salud Familiar Tongoy"},{"$f":"IFERROR(VLOOKUP(Tabla_SERIED_12_5[[#This Row],[IdEstablecimiento]],'[1]Establecimiento 2023'!$A$1:$E$183,5,FALSE),0)","v":"04102-Coquimbo"},"16100300","2022-11-15T13:34:52",137,60,77,2,33]
[{"$nulls":23},9,"5",2022,"105437",{"$f":"IFERROR(VLOOKUP(Tabla_SERIED_12_5[[#This Row],[IdEstablecimiento]],'[1]Establecimiento 2023'!$A$1:$E$183,3,FALSE),0)","v":"105437-Posta de Salud Rural Chalinga"},{"$f":"IFERROR(VLOOKUP(Tabla_SERIED_12_5[[#This Row],[IdEstablecimiento]],'[1]Establecimiento 2023'!$A$1:$E$183,5,FALSE),0)","v":"04301-Ovalle"},"15010500","2022-11-15T14:40:32",6,null,null,2,null,null,2,2]
[{"$nulls":23},9,"5",2022,"105437",{"$f":"IFERROR(VLOOKUP(Tabla_SERIED_12_5[[#This Row],[IdEstablecimiento]],'[1]Establecimiento 2023'!$A$1:$E$183,3,FALSE),0)","v":"105437-Posta de Salud Rural Chalinga"},{"$f":"IFERROR(VLOOKUP(Tabla_SERIED_12_5[[#This Row],[IdEstablecimiento]],'[1]Establecimiento 2023'!$A$1:$E$183,5,FALSE),0)","v":"04301-Ovalle"},"16200100","2022-11-15T14:40:32",2,1,1]
[{"$nulls":23},10,"5",2022,"105411",{"$f":"IFERROR(VLOOKUP(Tabla_SERIED_12_5[[#This Row],[IdEstablecimiento]],'[1]Establecimiento 2023'!$A$1:$E$183,3,FALSE),0)","v":"105411-Posta de Salud Rural Las Breas (Río Hurtado)"},{"$f":"IFERROR(VLOOKUP(Tabla_SERIED_12_5[[#This Row],[IdEstablecimiento]],'[1]Establecimiento 2023'!$A$1:$E$183,5,FALSE),0)","v":"04305-Río Hurtado"},"16090300","2022-11-15T13:41:53",25,25]
[{"$nulls":23},10,"5",2022,"105413",{"$f":"IFERROR(VLOOKUP(Tabla_SERIED_12_5[[#This Row],[IdEstablecimiento]],'[1]Establecimiento 2023'!$A$1:$E$183,3,FALSE),0)","v":"105413-Posta de Salud Rural Samo Alto"},{"$f":"IFERROR(VLOOKUP(Tabla_SERIED_12_5[[#This Row],[IdEstablecimiento]],'[1]Establecimiento 2023'!$A$1:$E$183,5,FALSE),0)","v":"04305-Río Hurtado"},"16200220","2022-11-15T13:42:06",7,1,6]
[{"$nulls":23},10,"5",2022,"105411",{"$f":"IFERROR(VLOOKUP(Tabla_SERIED_12_5[[#This Row],[IdEstablecimiento]],'[1]Establecimiento 2023'!$A$1:$E$183,3,FALSE),0)","v":"105411-Posta de Salud Rural Las Breas (Río Hurtado)"},{"$f":"IFERROR(VLOOKUP(Tabla_SERIED_12_5[[#This Row],[IdEstablecimiento]],'[1]Establecimiento 2023'!$A$1:$E$183,5,FALSE),0)","v":"04305-Río Hurtado"},"15900010","2022-11-15T13:41:53",0.9,null,null,0.9]
[{"$nulls":23},9,"5",2022,"105439",{"$f":"IFERROR(VLOOKUP(Tabla_SERIED_12_5[[#This Row],[IdEstablecimiento]],'[1]Establecimiento 2023'!$A$1:$E$183,3,FALSE),0)","v":"105439-Posta de Salud Rural Cerro Blanco"},{"$f":"IFERROR(VLOOKUP(Tabla_SERIED_12_5[[#This Row],[IdEstablecimiento]],'[1]Establecimiento 2023'!$A$1:$E$183,5,FALSE),0)","v":"04301-Ovalle"},"16100300","2022-11-15T14:40:43",49,21,28,0,2]
[{"$nulls":23},9,"5",2022,"105469",{"$f":"IFERROR(VLOOKUP(Tabla_SERIED_12_5[[#This Row],[IdEstablecimiento]],'[1]Establecimiento 2023'!$A$1:$E$183,3,FALSE),0)","v":"105469-Posta de Salud Rural El Tambo (Vicuña)"},{"$f":"IFERROR(VLOOKUP(Tabla_SERIED_12_5[[#This Row],[IdEstablecimiento]],'[1]Establecimiento 2023'!$A$1:$E$183,5,FALSE),0)","v":"04106-Vicuña"},"15010100","2022-11-15T14:47:12",10,{"$nulls":3},10]
[{"$nulls":23},9,"5",2022,"105469",{"$f":"IFERROR(VLOOKUP(Tabla_SERIED_12_5[[#This Row],[IdEstablecimiento]],'[1]Establecimiento 2023'!$A$1:$E$183,3,FALSE),0)","v":"105469-Posta de Salud Rural El Tambo (Vicuña)"},{"$f":"IFERROR(VLOOKUP(Tabla_SERIED_12_5[[#This Row],[IdEstablecimiento]],'[1]Establecimiento 2023'!$A$1:$E$183,5,FALSE),0)","v":"04106-Vicuña"},"16200220","2022-11-15T14:47:12",3,1,2,0,0]
[{"$nulls":23},10,"5",2022,"105436",{"$f":"IFERROR(VLOOKUP(Tabla_SERIED_12_5[[#This Row],[IdEstablecimiento]],'[1]Establecimiento 2023'!$A$1:$E$183,3,FALSE),0)","v":"105436-Posta de Salud Rural El Maitén"},{"$f":"IFERROR(VLOOKUP(Tabla_SERIED_12_5[[#This Row],[IdEstablecimiento]],'[1]Establecimiento 2023'!$A$1:$E$183,5,FALSE),0)","v":"04303-Monte Patria"},"16200210","2022-11-15T13:46:50",4,4]
[{"$nulls":23},10,"5",2022,"105510",{"$f":"IFERROR(VLOOKUP(Tabla_SERIED_12_5[[#This Row],[IdEstablecimiento]],'[1]Establecimiento 2023'!$A$1:$E$183,3,FALSE),0)","v":"105510-Posta de Salud Rural Recoleta"},{"$f":"IFERROR(VLOOKUP(Tabla_SERIED_12_5[[#This Row],[IdEstablecimiento]],'[1]Establecimiento 2023'!$A$1:$E$183,5,FALSE),0)","v":"04301-Ovalle"},"15010200","2022-12-20T11:13:39",24,{"$nulls":4},2,18,4]
[{"$nulls":23},10,"5",2022,"105510",{"$f":"IFERROR(VLOOKUP(Tabla_SERIED_12_5[[#This Row],[IdEstablecimiento]],'[1]Establecimiento 2023'!$A$1:$E$183,3,FALSE),0)","v":"105510-Posta de Salud Rural Recoleta"},{"$f":"IFERROR(VLOOKUP(Tabla_SERIED_12_5[[#This Row],[IdEstablecimiento]],'[1]Establecimiento 2023'!$A$1:$E$183,5,FALSE),0)","v":"04301-Ovalle"},"15080008","2022-12-20T11:13:39",9,{"$nulls":7},3,null,6]
[{"$nulls":23},3,"5",2022,"105468",{"$f":"IFERROR(VLOOKUP(Tabla_SERIED_12_5[[#This Row],[IdEstablecimiento]],'[1]Establecimiento 2023'!$A$1:$E$183,3,FALSE),0)","v":"105468-Posta de Salud Rural El Molle"},{"$f":"IFERROR(VLOOKUP(Tabla_SERIED_12_5[[#This Row],[IdEstablecimiento]],'[1]Establecimiento 2023'!$A$1:$E$183,5,FALSE),0)","v":"04106-Vicuña"},"16200210","2022-04-19T10:01:51",1,1]
[{"$nulls":23},1,"5",2022,"105478",{"$f":"IFERROR(VLOOKUP(Tabla_SERIED_12_5[[#This Row],[IdEstablecimiento]],'[1]Establecimiento 2023'!$A$1:$E$183,3,FALSE),0)","v":"105478-Posta de Salud Rural Caimanes"},{"$f":"IFERROR(VLOOKUP(Tabla_SERIED_12_5[[#This Row],[IdEstablecimiento]],'[1]Establecimiento 2023'!$A$1:$E$183,5,FALSE),0)","v":"04203-Los Vilos"},"16100300","2022-02-17T03:55:39",33,14,19]
[{"$nulls":23},1,"5",2022,"105479",{"$f":"IFERROR(VLOOKUP(Tabla_SERIED_12_5[[#This Row],[IdEstablecimiento]],'[1]Establecimiento 2023'!$A$1:$E$183,3,FALSE),0)","v":"105479-Posta de Salud Rural Guangualí"},{"$f":"IFERROR(VLOOKUP(Tabla_SERIED_12_5[[#This Row],[IdEstablecimiento]],'[1]Establecimiento 2023'!$A$1:$E$183,5,FALSE),0)","v":"04203-Los Vilos"},"16200220","2022-02-17T03:56:01",1,null,1,null,4]
[{"$nulls":23},9,"5",2022,"105471",{"$f":"IFERROR(VLOOKUP(Tabla_SERIED_12_5[[#This Row],[IdEstablecimiento]],'[1]Establecimiento 2023'!$A$1:$E$183,3,FALSE),0)","v":"105471-Posta de Salud Rural Peralillo Vicuña"},{"$f":"IFERROR(VLOOKUP(Tabla_SERIED_12_5[[#This Row],[IdEstablecimiento]],'[1]Establecimiento 2023'!$A$1:$E$183,5,FALSE),0)","v":"04106-Vicuña"},"15080008","2022-11-15T14:47:38",3,{"$nulls":7},1,null,2]
[{"$nulls":23},9,"5",2022,"105472",{"$f":"IFERROR(VLOOKUP(Tabla_SERIED_12_5[[#This Row],[IdEstablecimiento]],'[1]Establecimiento 2023'!$A$1:$E$183,3,FALSE),0)","v":"105472-Posta de Salud Rural Rivadavia"},{"$f":"IFERROR(VLOOKUP(Tabla_SERIED_12_5[[#This Row],[IdEstablecimiento]],'[1]Establecimiento 2023'!$A$1:$E$183,5,FALSE),0)","v":"04106-Vicuña"},"15080008","2022-11-15T14:47:49",2,{"$nulls":9},2]
[{"$nulls":23},9,"5",2022,"105472",{"$f":"IFERROR(VLOOKUP(Tabla_SERIED_12_5[[#This Row],[IdEstablecimiento]],'[1]Establecimiento 2023'!$A$1:$E$183,3,FALSE),0)","v":"105472-Posta de Salud Rural Rivadavia"},{"$f":"IFERROR(VLOOKUP(Tabla_SERIED_12_5[[#This Row],[IdEstablecimiento]],'[1]Establecimiento 2023'!$A$1:$E$183,5,FALSE),0)","v":"04106-Vicuña"},"16100600","2022-11-15T14:47:49",2,1,1,null,3]
[{"$nulls":23},10,"5",2022,"105441",{"$f":"IFERROR(VLOOKUP(Tabla_SERIED_12_5[[#This Row],[IdEstablecimiento]],'[1]Establecimiento 2023'!$A$1:$E$183,3,FALSE),0)","v":"105441-Posta de Salud Rural Manquehua"},{"$f":"IFERROR(VLOOKUP(Tabla_SERIED_12_5[[#This Row],[IdEstablecimiento]],'[1]Establecimiento 2023'!$A$1:$E$183,5,FALSE),0)","v":"04302-Combarbalá"},"16090300","2022-11-15T13:47:35",86,86]
[{"$nulls":23},10,"5",2022,"105439",{"$f":"IFERROR(VLOOKUP(Tabla_SERIED_12_5[[#This Row],[IdEstablecimiento]],'[1]Establecimiento 2023'!$A$1:$E$183,3,FALSE),0)","v":"105439-Posta de Salud Rural Cerro Blanco"},{"$f":"IFERROR(VLOOKUP(Tabla_SERIED_12_5[[#This Row],[IdEstablecimiento]],'[1]Establecimiento 2023'!$A$1:$E$183,5,FALSE),0)","v":"04301-Ovalle"},"16200220","2022-12-20T11:11:49",4,2,2]
[{"$nulls":23},10,"5",2022,"105443",{"$f":"IFERROR(VLOOKUP(Tabla_SERIED_12_5[[#This Row],[IdEstablecimiento]],'[1]Establecimiento 2023'!$A$1:$E$183,3,FALSE),0)","v":"105443-Posta de Salud Rural Cárcamo"},{"$f":"IFERROR(VLOOKUP(Tabla_SERIED_12_5[[#This Row],[IdEstablecimiento]],'[1]Establecimiento 2023'!$A$1:$E$183,5,FALSE),0)","v":"04201-Illapel"},"15050100","2022-11-15T13:47:53",15,10,5,{"$nulls":4},2,2,9,null,null,1,null,1]
[{"$nulls":23},8,"5",2022,"105425",{"$f":"IFERROR(VLOOKUP(Tabla_SERIED_12_5[[#This Row],[IdEstablecimiento]],'[1]Establecimiento 2023'!$A$1:$E$183,3,FALSE),0)","v":"105425-Posta de Salud Rural Chilecito"},{"$f":"IFERROR(VLOOKUP(Tabla_SERIED_12_5[[#This Row],[IdEstablecimiento]],'[1]Establecimiento 2023'!$A$1:$E$183,5,FALSE),0)","v":"04303-Monte Patria"},"16090300","2022-09-21T07:35:01",49,49]
[{"$nulls":23},3,"5",2022,"105501",{"$f":"IFERROR(VLOOKUP(Tabla_SERIED_12_5[[#This Row],[IdEstablecimiento]],'[1]Establecimiento 2023'!$A$1:$E$183,3,FALSE),0)","v":"105501-Posta de Salud Rural Arboleda Grande"},{"$f":"IFERROR(VLOOKUP(Tabla_SERIED_12_5[[#This Row],[IdEstablecimiento]],'[1]Establecimiento 2023'!$A$1:$E$183,5,FALSE),0)","v":"04204-Salamanca"},"15900010","2022-04-20T05:42:25",11.2,0.8,4.8,5.6]
[{"$nulls":23},6,"5",2022,"200569",{"$f":"IFERROR(VLOOKUP(Tabla_SERIED_12_5[[#This Row],[IdEstablecimiento]],'[1]Establecimiento 2023'!$A$1:$E$183,3,FALSE),0)","v":"200569-Centro de Salud Familiar Fray Jorge"},{"$f":"IFERROR(VLOOKUP(Tabla_SERIED_12_5[[#This Row],[IdEstablecimiento]],'[1]Establecimiento 2023'!$A$1:$E$183,5,FALSE),0)","v":"04301-Ovalle"},"15900030","2022-07-14T14:44:39",4.4,4.4]
[{"$nulls":23},4,"5",2022,"105463",{"$f":"IFERROR(VLOOKUP(Tabla_SERIED_12_5[[#This Row],[IdEstablecimiento]],'[1]Establecimiento 2023'!$A$1:$E$183,3,FALSE),0)","v":"105463-Posta de Salud Rural Quilitapia"},{"$f":"IFERROR(VLOOKUP(Tabla_SERIED_12_5[[#This Row],[IdEstablecimiento]],'[1]Establecimiento 2023'!$A$1:$E$183,5,FALSE),0)","v":"04302-Combarbalá"},"15050100","2022-05-18T15:09:26",17,9,8,null,null,1,1,3,6,3,3]
[{"$nulls":23},1,"5",2022,"105480",{"$f":"IFERROR(VLOOKUP(Tabla_SERIED_12_5[[#This Row],[IdEstablecimiento]],'[1]Establecimiento 2023'!$A$1:$E$183,3,FALSE),0)","v":"105480-Posta de Salud Rural Quilimarí"},{"$f":"IFERROR(VLOOKUP(Tabla_SERIED_12_5[[#This Row],[IdEstablecimiento]],'[1]Establecimiento 2023'!$A$1:$E$183,5,FALSE),0)","v":"04203-Los Vilos"},"15050200","2022-02-17T03:56:21",2,1,1,{"$nulls":5},2]
[{"$nulls":23},9,"5",2022,"105473",{"$f":"IFERROR(VLOOKUP(Tabla_SERIED_12_5[[#This Row],[IdEstablecimiento]],'[1]Establecimiento 2023'!$A$1:$E$183,3,FALSE),0)","v":"105473-Posta de Salud Rural Talcuna"},{"$f":"IFERROR(VLOOKUP(Tabla_SERIED_12_5[[#This Row],[IdEstablecimiento]],'[1]Establecimiento 2023'!$A$1:$E$183,5,FALSE),0)","v":"04106-Vicuña"},"15010200","2022-11-15T14:48:01",58,{"$nulls":4},14,26,18]
[{"$nulls":23},9,"5",2022,"105473",{"$f":"IFERROR(VLOOKUP(Tabla_SERIED_12_5[[#This Row],[IdEstablecimiento]],'[1]Establecimiento 2023'!$A$1:$E$183,3,FALSE),0)","v":"105473-Posta de Salud Rural Talcuna"},{"$f":"IFERROR(VLOOKUP(Tabla_SERIED_12_5[[#This Row],[IdEstablecimiento]],'[1]Establecimiento 2023'!$A$1:$E$183,5,FALSE),0)","v":"04106-Vicuña"},"15080008","2022-11-15T14:48:01",3,{"$nulls":7},1,null,2]
[{"$nulls":23},9,"5",2022,"105474",{"$f":"IFERROR(VLOOKUP(Tabla_SERIED_12_5[[#This Row],[IdEstablecimiento]],'[1]Establecimiento 2023'!$A$1:$E$183,3,FALSE),0)","v":"105474-Posta de Salud Rural Chapilca"},{"$f":"IFERROR(VLOOKUP(Tabla_SERIED_12_5[[#This Row],[IdEstablecimiento]],'[1]Establecimiento 2023'!$A$1:$E$183,5,FALSE),0)","v":"04106-Vicuña"},"16090300","2022-11-15T14:48:13",14,14]
[{"$nulls":23},9,"5",2022,"105475",{"$f":"IFERROR(VLOOKUP(Tabla_SERIED_12_5[[#This Row],[IdEstablecimiento]],'[1]Establecimiento 2023'!$A$1:$E$183,3,FALSE),0)","v":"105475-Posta de Salud Rural Horcón (Paiguano)"},{"$f":"IFERROR(VLOOKUP(Tabla_SERIED_12_5[[#This Row],[IdEstablecimiento]],'[1]Establecimiento 2023'!$A$1:$E$183,5,FALSE),0)","v":"04105-Paiguano"},"16090500","2022-11-15T14:48:24",1,1]
[{"$nulls":23},10,"5",2022,"105483",{"$f":"IFERROR(VLOOKUP(Tabla_SERIED_12_5[[#This Row],[IdEstablecimiento]],'[1]Establecimiento 2023'!$A$1:$E$183,3,FALSE),0)","v":"105483-Posta de Salud Rural Los Rulos"},{"$f":"IFERROR(VLOOKUP(Tabla_SERIED_12_5[[#This Row],[IdEstablecimiento]],'[1]Establecimiento 2023'!$A$1:$E$183,5,FALSE),0)","v":"04202-Canela"},"15050100","2022-11-15T13:59:19",2,null,2,{"$nulls":5},1,1]
[{"$nulls":23},10,"5",2022,"105484",{"$f":"IFERROR(VLOOKUP(Tabla_SERIED_12_5[[#This Row],[IdEstablecimiento]],'[1]Establecimiento 2023'!$A$1:$E$183,3,FALSE),0)","v":"105484-Posta de Salud Rural Huentelauquén"},{"$f":"IFERROR(VLOOKUP(Tabla_SERIED_12_5[[#This Row],[IdEstablecimiento]],'[1]Establecimiento 2023'!$A$1:$E$183,5,FALSE),0)","v":"04202-Canela"},"16090300","2022-11-15T13:59:32",44,44]
[{"$nulls":23},6,"5",2022,"105465",{"$f":"IFERROR(VLOOKUP(Tabla_SERIED_12_5[[#This Row],[IdEstablecimiento]],'[1]Establecimiento 2023'!$A$1:$E$183,3,FALSE),0)","v":"105465-Posta de Salud Rural Ramadilla"},{"$f":"IFERROR(VLOOKUP(Tabla_SERIED_12_5[[#This Row],[IdEstablecimiento]],'[1]Establecimiento 2023'!$A$1:$E$183,5,FALSE),0)","v":"04302-Combarbalá"},"15010200","2022-07-14T14:24:12",24,{"$nulls":4},4,10,10]
[{"$nulls":23},6,"5",2022,"105462",{"$f":"IFERROR(VLOOKUP(Tabla_SERIED_12_5[[#This Row],[IdEstablecimiento]],'[1]Establecimiento 2023'!$A$1:$E$183,3,FALSE),0)","v":"105462-Posta de Salud Rural El Sauce (Combarbalá)"},{"$f":"IFERROR(VLOOKUP(Tabla_SERIED_12_5[[#This Row],[IdEstablecimiento]],'[1]Establecimiento 2023'!$A$1:$E$183,5,FALSE),0)","v":"04302-Combarbalá"},"16090300","2022-07-14T14:23:25",73,73]
[{"$nulls":23},6,"5",2022,"200569",{"$f":"IFERROR(VLOOKUP(Tabla_SERIED_12_5[[#This Row],[IdEstablecimiento]],'[1]Establecimiento 2023'!$A$1:$E$183,3,FALSE),0)","v":"200569-Centro de Salud Familiar Fray Jorge"},{"$f":"IFERROR(VLOOKUP(Tabla_SERIED_12_5[[#This Row],[IdEstablecimiento]],'[1]Establecimiento 2023'!$A$1:$E$183,5,FALSE),0)","v":"04301-Ovalle"},"15050200","2022-07-14T14:44:39",18,8,10,{"$nulls":3},2,5,5,2,null,4]
[{"$nulls":23},6,"5",2022,"200569",{"$f":"IFERROR(VLOOKUP(Tabla_SERIED_12_5[[#This Row],[IdEstablecimiento]],'[1]Establecimiento 2023'!$A$1:$E$183,3,FALSE),0)","v":"200569-Centro de Salud Familiar Fray Jorge"},{"$f":"IFERROR(VLOOKUP(Tabla_SERIED_12_5[[#This Row],[IdEstablecimiento]],'[1]Establecimiento 2023'!$A$1:$E$183,5,FALSE),0)","v":"04301-Ovalle"},"15050500","2022-07-14T14:44:39",4,4,0,2,null,2]
[{"$nulls":23},8,"5",2022,"105319",{"$f":"IFERROR(VLOOKUP(Tabla_SERIED_12_5[[#This Row],[IdEstablecimiento]],'[1]Establecimiento 2023'!$A$1:$E$183,3,FALSE),0)","v":"105319-Centro de Salud Familiar Cardenal Raúl Silva Henríquez de La Serena"},{"$f":"IFERROR(VLOOKUP(Tabla_SERIED_12_5[[#This Row],[IdEstablecimiento]],'[1]Establecimiento 2023'!$A$1:$E$183,5,FALSE),0)","v":"04101-La Serena"},"15010100","2022-09-21T07:18:57",138,{"$nulls":3},138]
[{"$nulls":23},6,"5",2022,"105460",{"$f":"IFERROR(VLOOKUP(Tabla_SERIED_12_5[[#This Row],[IdEstablecimiento]],'[1]Establecimiento 2023'!$A$1:$E$183,3,FALSE),0)","v":"105460-Centro Comunitario de Salud Familiar Cogotí 18"},{"$f":"IFERROR(VLOOKUP(Tabla_SERIED_12_5[[#This Row],[IdEstablecimiento]],'[1]Establecimiento 2023'!$A$1:$E$183,5,FALSE),0)","v":"04302-Combarbalá"},"16100600","2022-07-14T14:20:12",2,1,1]
[{"$nulls":23},9,"5",2022,"105476",{"$f":"IFERROR(VLOOKUP(Tabla_SERIED_12_5[[#This Row],[IdEstablecimiento]],'[1]Establecimiento 2023'!$A$1:$E$183,3,FALSE),0)","v":"105476-Posta de Salud Rural Monte Grande"},{"$f":"IFERROR(VLOOKUP(Tabla_SERIED_12_5[[#This Row],[IdEstablecimiento]],'[1]Establecimiento 2023'!$A$1:$E$183,5,FALSE),0)","v":"04105-Paiguano"},"15010100","2022-11-15T14:48:42",4,{"$nulls":3},4]
[{"$nulls":23},9,"5",2022,"105477",{"$f":"IFERROR(VLOOKUP(Tabla_SERIED_12_5[[#This Row],[IdEstablecimiento]],'[1]Establecimiento 2023'!$A$1:$E$183,3,FALSE),0)","v":"105477-Posta de Salud Rural Pisco Elqui"},{"$f":"IFERROR(VLOOKUP(Tabla_SERIED_12_5[[#This Row],[IdEstablecimiento]],'[1]Establecimiento 2023'!$A$1:$E$183,5,FALSE),0)","v":"04105-Paiguano"},"15080008","2022-11-15T14:48:54",2,{"$nulls":11},2]
[{"$nulls":23},9,"5",2022,"105478",{"$f":"IFERROR(VLOOKUP(Tabla_SERIED_12_5[[#This Row],[IdEstablecimiento]],'[1]Establecimiento 2023'!$A$1:$E$183,3,FALSE),0)","v":"105478-Posta de Salud Rural Caimanes"},{"$f":"IFERROR(VLOOKUP(Tabla_SERIED_12_5[[#This Row],[IdEstablecimiento]],'[1]Establecimiento 2023'!$A$1:$E$183,5,FALSE),0)","v":"04203-Los Vilos"},"15010200","2022-11-15T14:49:05",42,{"$nulls":4},8,18,16]
[{"$nulls":23},10,"5",2022,"105486",{"$f":"IFERROR(VLOOKUP(Tabla_SERIED_12_5[[#This Row],[IdEstablecimiento]],'[1]Establecimiento 2023'!$A$1:$E$183,3,FALSE),0)","v":"105486-Posta de Salud Rural Tunga Sur"},{"$f":"IFERROR(VLOOKUP(Tabla_SERIED_12_5[[#This Row],[IdEstablecimiento]],'[1]Establecimiento 2023'!$A$1:$E$183,5,FALSE),0)","v":"04201-Illapel"},"15900010","2022-11-15T14:00:00",5.4,null,3.6,1.8]
[{"$nulls":23},10,"5",2022,"105487",{"$f":"IFERROR(VLOOKUP(Tabla_SERIED_12_5[[#This Row],[IdEstablecimiento]],'[1]Establecimiento 2023'!$A$1:$E$183,3,FALSE),0)","v":"105487-Posta de Salud Rural Cañas Uno"},{"$f":"IFERROR(VLOOKUP(Tabla_SERIED_12_5[[#This Row],[IdEstablecimiento]],'[1]Establecimiento 2023'!$A$1:$E$183,5,FALSE),0)","v":"04201-Illapel"},"15900010","2022-11-15T14:00:15",9,null,null,9]
[{"$nulls":23},10,"5",2022,"105490",{"$f":"IFERROR(VLOOKUP(Tabla_SERIED_12_5[[#This Row],[IdEstablecimiento]],'[1]Establecimiento 2023'!$A$1:$E$183,3,FALSE),0)","v":"105490-Posta de Salud Rural El Durazno(Combarbalá)"},{"$f":"IFERROR(VLOOKUP(Tabla_SERIED_12_5[[#This Row],[IdEstablecimiento]],'[1]Establecimiento 2023'!$A$1:$E$183,5,FALSE),0)","v":"04302-Combarbalá"},"15080009","2022-11-15T14:00:56",2,{"$nulls":10},2]
[{"$nulls":23},10,"5",2022,"105491",{"$f":"IFERROR(VLOOKUP(Tabla_SERIED_12_5[[#This Row],[IdEstablecimiento]],'[1]Establecimiento 2023'!$A$1:$E$183,3,FALSE),0)","v":"105491-Posta de Salud Rural Quelén Bajo"},{"$f":"IFERROR(VLOOKUP(Tabla_SERIED_12_5[[#This Row],[IdEstablecimiento]],'[1]Establecimiento 2023'!$A$1:$E$183,5,FALSE),0)","v":"04204-Salamanca"},"15010200","2022-11-15T14:01:10",66,{"$nulls":4},6,28,32]
[{"$nulls":23},6,"5",2022,"105452",{"$f":"IFERROR(VLOOKUP(Tabla_SERIED_12_5[[#This Row],[IdEstablecimiento]],'[1]Establecimiento 2023'!$A$1:$E$183,3,FALSE),0)","v":"105452-Posta de Salud Rural Cuncumén(Salamanca)"},{"$f":"IFERROR(VLOOKUP(Tabla_SERIED_12_5[[#This Row],[IdEstablecimiento]],'[1]Establecimiento 2023'!$A$1:$E$183,5,FALSE),0)","v":"04204-Salamanca"},"15050200","2022-07-14T14:17:54",1,1,{"$nulls":5},1]
[{"$nulls":23},1,"5",2022,"105503",{"$f":"IFERROR(VLOOKUP(Tabla_SERIED_12_5[[#This Row],[IdEstablecimiento]],'[1]Establecimiento 2023'!$A$1:$E$183,3,FALSE),0)","v":"105503-Posta de Salud Rural Tabaqueros"},{"$f":"IFERROR(VLOOKUP(Tabla_SERIED_12_5[[#This Row],[IdEstablecimiento]],'[1]Establecimiento 2023'!$A$1:$E$183,5,FALSE),0)","v":"04305-Río Hurtado"},"16200220","2022-02-17T04:19:14",3,null,3,null,5]
[{"$nulls":23},6,"5",2022,"105307",{"$f":"IFERROR(VLOOKUP(Tabla_SERIED_12_5[[#This Row],[IdEstablecimiento]],'[1]Establecimiento 2023'!$A$1:$E$183,3,FALSE),0)","v":"105307-Centro de Salud Familiar Monte Patria"},{"$f":"IFERROR(VLOOKUP(Tabla_SERIED_12_5[[#This Row],[IdEstablecimiento]],'[1]Establecimiento 2023'!$A$1:$E$183,5,FALSE),0)","v":"04303-Monte Patria"},"15010400","2022-07-14T13:37:40",10,{"$nulls":5},8,2]
[{"$nulls":23},6,"5",2022,"105307",{"$f":"IFERROR(VLOOKUP(Tabla_SERIED_12_5[[#This Row],[IdEstablecimiento]],'[1]Establecimiento 2023'!$A$1:$E$183,3,FALSE),0)","v":"105307-Centro de Salud Familiar Monte Patria"},{"$f":"IFERROR(VLOOKUP(Tabla_SERIED_12_5[[#This Row],[IdEstablecimiento]],'[1]Establecimiento 2023'!$A$1:$E$183,5,FALSE),0)","v":"04303-Monte Patria"},"15020200","2022-07-14T13:37:40",6,{"$nulls":5},4,2]
[{"$nulls":23},4,"5",2022,"200607",{"$f":"IFERROR(VLOOKUP(Tabla_SERIED_12_5[[#This Row],[IdEstablecimiento]],'[1]Establecimiento 2023'!$A$1:$E$183,3,FALSE),0)","v":"200607-Centro de Salud Familiar Lila Cortés Godoy"},{"$f":"IFERROR(VLOOKUP(Tabla_SERIED_12_5[[#This Row],[IdEstablecimiento]],'[1]Establecimiento 2023'!$A$1:$E$183,5,FALSE),0)","v":"04102-Coquimbo"},"16090300","2022-05-18T15:29:00",171,171]
[{"$nulls":23},9,"5",2022,"105479",{"$f":"IFERROR(VLOOKUP(Tabla_SERIED_12_5[[#This Row],[IdEstablecimiento]],'[1]Establecimiento 2023'!$A$1:$E$183,3,FALSE),0)","v":"105479-Posta de Salud Rural Guangualí"},{"$f":"IFERROR(VLOOKUP(Tabla_SERIED_12_5[[#This Row],[IdEstablecimiento]],'[1]Establecimiento 2023'!$A$1:$E$183,5,FALSE),0)","v":"04203-Los Vilos"},"16090300","2022-11-15T14:49:17",66,66]
[{"$nulls":23},9,"5",2022,"105479",{"$f":"IFERROR(VLOOKUP(Tabla_SERIED_12_5[[#This Row],[IdEstablecimiento]],'[1]Establecimiento 2023'!$A$1:$E$183,3,FALSE),0)","v":"105479-Posta de Salud Rural Guangualí"},{"$f":"IFERROR(VLOOKUP(Tabla_SERIED_12_5[[#This Row],[IdEstablecimiento]],'[1]Establecimiento 2023'!$A$1:$E$183,5,FALSE),0)","v":"04203-Los Vilos"},"16200210","2022-11-15T14:49:17",3,3]
[{"$nulls":23},9,"5",2022,"105480",{"$f":"IFERROR(VLOOKUP(Tabla_SERIED_12_5[[#This Row],[IdEstablecimiento]],'[1]Establecimiento 2023'!$A$1:$E$183,3,FALSE),0)","v":"105480-Posta de Salud Rural Quilimarí"},{"$f":"IFERROR(VLOOKUP(Tabla_SERIED_12_5[[#This Row],[IdEstablecimiento]],'[1]Establecimiento 2023'!$A$1:$E$183,5,FALSE),0)","v":"04203-Los Vilos"},"15900020","2022-11-15T14:49:29",0.9,null,null,0.9]
[{"$nulls":23},10,"5",2022,"105491",{"$f":"IFERROR(VLOOKUP(Tabla_SERIED_12_5[[#This Row],[IdEstablecimiento]],'[1]Establecimiento 2023'!$A$1:$E$183,3,FALSE),0)","v":"105491-Posta de Salud Rural Quelén Bajo"},{"$f":"IFERROR(VLOOKUP(Tabla_SERIED_12_5[[#This Row],[IdEstablecimiento]],'[1]Establecimiento 2023'!$A$1:$E$183,5,FALSE),0)","v":"04204-Salamanca"},"15010500","2022-11-15T14:01:10",2,{"$nulls":6},2]
[{"$nulls":23},10,"5",2022,"105492",{"$f":"IFERROR(VLOOKUP(Tabla_SERIED_12_5[[#This Row],[IdEstablecimiento]],'[1]Establecimiento 2023'!$A$1:$E$183,3,FALSE),0)","v":"105492-Posta de Salud Rural Camisa"},{"$f":"IFERROR(VLOOKUP(Tabla_SERIED_12_5[[#This Row],[IdEstablecimiento]],'[1]Establecimiento 2023'!$A$1:$E$183,5,FALSE),0)","v":"04204-Salamanca"},"15900010","2022-11-15T14:01:22",4.5,null,null,4.5]
[{"$nulls":23},10,"5",2022,"105493",{"$f":"IFERROR(VLOOKUP(Tabla_SERIED_12_5[[#This Row],[IdEstablecimiento]],'[1]Establecimiento 2023'!$A$1:$E$183,3,FALSE),0)","v":"105493-Posta de Salud Rural Mincha Sur"},{"$f":"IFERROR(VLOOKUP(Tabla_SERIED_12_5[[#This Row],[IdEstablecimiento]],'[1]Establecimiento 2023'!$A$1:$E$183,5,FALSE),0)","v":"04202-Canela"},"16200210","2022-11-15T14:01:47",1,1]
[{"$nulls":23},9,"5",2022,"105481",{"$f":"IFERROR(VLOOKUP(Tabla_SERIED_12_5[[#This Row],[IdEstablecimiento]],'[1]Establecimiento 2023'!$A$1:$E$183,3,FALSE),0)","v":"105481-Posta de Salud Rural Tilama"},{"$f":"IFERROR(VLOOKUP(Tabla_SERIED_12_5[[#This Row],[IdEstablecimiento]],'[1]Establecimiento 2023'!$A$1:$E$183,5,FALSE),0)","v":"04203-Los Vilos"},"16090300","2022-11-15T14:49:40",14,14]
[{"$nulls":23},9,"5",2022,"105482",{"$f":"IFERROR(VLOOKUP(Tabla_SERIED_12_5[[#This Row],[IdEstablecimiento]],'[1]Establecimiento 2023'!$A$1:$E$183,3,FALSE),0)","v":"105482-Posta de Salud Rural Canela Alta"},{"$f":"IFERROR(VLOOKUP(Tabla_SERIED_12_5[[#This Row],[IdEstablecimiento]],'[1]Establecimiento 2023'!$A$1:$E$183,5,FALSE),0)","v":"04202-Canela"},"16200220","2022-11-15T14:49:52",3,1,2,0,1]
[{"$nulls":23},2,"5",2022,"105304",{"$f":"IFERROR(VLOOKUP(Tabla_SERIED_12_5[[#This Row],[IdEstablecimiento]],'[1]Establecimiento 2023'!$A$1:$E$183,3,FALSE),0)","v":"105304-Centro de Salud Familiar Santa Cecilia"},{"$f":"IFERROR(VLOOKUP(Tabla_SERIED_12_5[[#This Row],[IdEstablecimiento]],'[1]Establecimiento 2023'!$A$1:$E$183,5,FALSE),0)","v":"04102-Coquimbo"},"15901400","2022-03-17T09:27:26",3,2,1,0,0,1,1,1]
[{"$nulls":23},2,"5",2022,"105304",{"$f":"IFERROR(VLOOKUP(Tabla_SERIED_12_5[[#This Row],[IdEstablecimiento]],'[1]Establecimiento 2023'!$A$1:$E$183,3,FALSE),0)","v":"105304-Centro de Salud Familiar Santa Cecilia"},{"$f":"IFERROR(VLOOKUP(Tabla_SERIED_12_5[[#This Row],[IdEstablecimiento]],'[1]Establecimiento 2023'!$A$1:$E$183,5,FALSE),0)","v":"04102-Coquimbo"},"16200100","2022-03-17T09:27:26",27,14,13,0,15]
[{"$nulls":23},3,"5",2022,"105458",{"$f":"IFERROR(VLOOKUP(Tabla_SERIED_12_5[[#This Row],[IdEstablecimiento]],'[1]Establecimiento 2023'!$A$1:$E$183,3,FALSE),0)","v":"105458-Posta de Salud Rural Tahuinco"},{"$f":"IFERROR(VLOOKUP(Tabla_SERIED_12_5[[#This Row],[IdEstablecimiento]],'[1]Establecimiento 2023'!$A$1:$E$183,5,FALSE),0)","v":"04204-Salamanca"},"15010100","2022-04-19T09:56:14",21,null,null,2,18,{"$nulls":3},1]
[{"$nulls":23},8,"5",2022,"105319",{"$f":"IFERROR(VLOOKUP(Tabla_SERIED_12_5[[#This Row],[IdEstablecimiento]],'[1]Establecimiento 2023'!$A$1:$E$183,3,FALSE),0)","v":"105319-Centro de Salud Familiar Cardenal Raúl Silva Henríquez de La Serena"},{"$f":"IFERROR(VLOOKUP(Tabla_SERIED_12_5[[#This Row],[IdEstablecimiento]],'[1]Establecimiento 2023'!$A$1:$E$183,5,FALSE),0)","v":"04101-La Serena"},"15020200","2022-09-21T07:18:57",2,{"$nulls":4},2]
[{"$nulls":23},8,"5",2022,"105322",{"$f":"IFERROR(VLOOKUP(Tabla_SERIED_12_5[[#This Row],[IdEstablecimiento]],'[1]Establecimiento 2023'!$A$1:$E$183,3,FALSE),0)","v":"105322-Centro de Salud Familiar Marcos Macuada"},{"$f":"IFERROR(VLOOKUP(Tabla_SERIED_12_5[[#This Row],[IdEstablecimiento]],'[1]Establecimiento 2023'!$A$1:$E$183,5,FALSE),0)","v":"04301-Ovalle"},"15900040","2022-09-21T07:19:31",19.2,null,4.4,6,4.4,4.4]
[{"$nulls":23},8,"5",2022,"105322",{"$f":"IFERROR(VLOOKUP(Tabla_SERIED_12_5[[#This Row],[IdEstablecimiento]],'[1]Establecimiento 2023'!$A$1:$E$183,3,FALSE),0)","v":"105322-Centro de Salud Familiar Marcos Macuada"},{"$f":"IFERROR(VLOOKUP(Tabla_SERIED_12_5[[#This Row],[IdEstablecimiento]],'[1]Establecimiento 2023'!$A$1:$E$183,5,FALSE),0)","v":"04301-Ovalle"},"16090300","2022-09-21T07:19:31",811,811]
[{"$nulls":23},8,"5",2022,"105415",{"$f":"IFERROR(VLOOKUP(Tabla_SERIED_12_5[[#This Row],[IdEstablecimiento]],'[1]Establecimiento 2023'!$A$1:$E$183,3,FALSE),0)","v":"105415-Posta de Salud Rural Barraza"},{"$f":"IFERROR(VLOOKUP(Tabla_SERIED_12_5[[#This Row],[IdEstablecimiento]],'[1]Establecimiento 2023'!$A$1:$E$183,5,FALSE),0)","v":"04301-Ovalle"},"15010100","2022-09-21T07:34:03",8,{"$nulls":3},8]
[{"$nulls":23},8,"5",2022,"105416",{"$f":"IFERROR(VLOOKUP(Tabla_SERIED_12_5[[#This Row],[IdEstablecimiento]],'[1]Establecimiento 2023'!$A$1:$E$183,3,FALSE),0)","v":"105416-Posta de Salud Rural Camarico (Ovalle)"},{"$f":"IFERROR(VLOOKUP(Tabla_SERIED_12_5[[#This Row],[IdEstablecimiento]],'[1]Establecimiento 2023'!$A$1:$E$183,5,FALSE),0)","v":"04301-Ovalle"},"15010100","2022-09-21T07:34:14",4,{"$nulls":3},4]
[{"$nulls":23},3,"5",2022,"105486",{"$f":"IFERROR(VLOOKUP(Tabla_SERIED_12_5[[#This Row],[IdEstablecimiento]],'[1]Establecimiento 2023'!$A$1:$E$183,3,FALSE),0)","v":"105486-Posta de Salud Rural Tunga Sur"},{"$f":"IFERROR(VLOOKUP(Tabla_SERIED_12_5[[#This Row],[IdEstablecimiento]],'[1]Establecimiento 2023'!$A$1:$E$183,5,FALSE),0)","v":"04201-Illapel"},"15900010","2022-04-19T10:06:30",3.2,null,null,3.2]
[{"$nulls":23},3,"5",2022,"105455",{"$f":"IFERROR(VLOOKUP(Tabla_SERIED_12_5[[#This Row],[IdEstablecimiento]],'[1]Establecimiento 2023'!$A$1:$E$183,3,FALSE),0)","v":"105455-CESFAM Valle Alto"},{"$f":"IFERROR(VLOOKUP(Tabla_SERIED_12_5[[#This Row],[IdEstablecimiento]],'[1]Establecimiento 2023'!$A$1:$E$183,5,FALSE),0)","v":"04204-Salamanca"},"16100300","2022-04-19T09:50:04",44,18,26]
[{"$nulls":23},5,"5",2022,"105308",{"$f":"IFERROR(VLOOKUP(Tabla_SERIED_12_5[[#This Row],[IdEstablecimiento]],'[1]Establecimiento 2023'!$A$1:$E$183,3,FALSE),0)","v":"105308-Centro de Salud Familiar Punitaqui"},{"$f":"IFERROR(VLOOKUP(Tabla_SERIED_12_5[[#This Row],[IdEstablecimiento]],'[1]Establecimiento 2023'!$A$1:$E$183,5,FALSE),0)","v":"04304-Punitaqui"},"16090300","2022-07-14T14:57:10",343,343]
[{"$nulls":23},6,"5",2022,"200366",{"$f":"IFERROR(VLOOKUP(Tabla_SERIED_12_5[[#This Row],[IdEstablecimiento]],'[1]Establecimiento 2023'!$A$1:$E$183,3,FALSE),0)","v":"200366-Centro de Salud Familiar Urbano de Illapel"},{"$f":"IFERROR(VLOOKUP(Tabla_SERIED_12_5[[#This Row],[IdEstablecimiento]],'[1]Establecimiento 2023'!$A$1:$E$183,5,FALSE),0)","v":"04201-Illapel"},"15010100","2022-07-18T13:33:55",80,{"$nulls":3},80]
[{"$nulls":23},5,"5",2022,"105491",{"$f":"IFERROR(VLOOKUP(Tabla_SERIED_12_5[[#This Row],[IdEstablecimiento]],'[1]Establecimiento 2023'!$A$1:$E$183,3,FALSE),0)","v":"105491-Posta de Salud Rural Quelén Bajo"},{"$f":"IFERROR(VLOOKUP(Tabla_SERIED_12_5[[#This Row],[IdEstablecimiento]],'[1]Establecimiento 2023'!$A$1:$E$183,5,FALSE),0)","v":"04204-Salamanca"},"15900010","2022-06-22T10:51:42",4.8,null,null,4.8]
[{"$nulls":23},10,"5",2022,"105497",{"$f":"IFERROR(VLOOKUP(Tabla_SERIED_12_5[[#This Row],[IdEstablecimiento]],'[1]Establecimiento 2023'!$A$1:$E$183,3,FALSE),0)","v":"105497-Posta de Salud Rural Jabonería"},{"$f":"IFERROR(VLOOKUP(Tabla_SERIED_12_5[[#This Row],[IdEstablecimiento]],'[1]Establecimiento 2023'!$A$1:$E$183,5,FALSE),0)","v":"04202-Canela"},"15050100","2022-11-15T14:02:26",1,1,0,{"$nulls":3},1]
[{"$nulls":23},10,"5",2022,"105498",{"$f":"IFERROR(VLOOKUP(Tabla_SERIED_12_5[[#This Row],[IdEstablecimiento]],'[1]Establecimiento 2023'!$A$1:$E$183,3,FALSE),0)","v":"105498-Posta de Salud Rural Quebrada Linares"},{"$f":"IFERROR(VLOOKUP(Tabla_SERIED_12_5[[#This Row],[IdEstablecimiento]],'[1]Establecimiento 2023'!$A$1:$E$183,5,FALSE),0)","v":"04202-Canela"},"16090500","2022-11-15T14:02:39",1,1]
[{"$nulls":23},10,"5",2022,"105499",{"$f":"IFERROR(VLOOKUP(Tabla_SERIED_12_5[[#This Row],[IdEstablecimiento]],'[1]Establecimiento 2023'!$A$1:$E$183,3,FALSE),0)","v":"105499-Posta de Salud Rural Lambert"},{"$f":"IFERROR(VLOOKUP(Tabla_SERIED_12_5[[#This Row],[IdEstablecimiento]],'[1]Establecimiento 2023'!$A$1:$E$183,5,FALSE),0)","v":"04101-La Serena"},"15050100","2022-11-15T14:02:57",12,5,7,null,null,1,2,1,3,3,2]
[{"$nulls":23},10,"5",2022,"105500",{"$f":"IFERROR(VLOOKUP(Tabla_SERIED_12_5[[#This Row],[IdEstablecimiento]],'[1]Establecimiento 2023'!$A$1:$E$183,3,FALSE),0)","v":"105500-Posta de Salud Rural Caleta Hornos"},{"$f":"IFERROR(VLOOKUP(Tabla_SERIED_12_5[[#This Row],[IdEstablecimiento]],'[1]Establecimiento 2023'!$A$1:$E$183,5,FALSE),0)","v":"04104-La Higuera"},"16100300","2022-11-15T14:03:10",21,12,9]
[{"$nulls":23},10,"5",2022,"105501",{"$f":"IFERROR(VLOOKUP(Tabla_SERIED_12_5[[#This Row],[IdEstablecimiento]],'[1]Establecimiento 2023'!$A$1:$E$183,3,FALSE),0)","v":"105501-Posta de Salud Rural Arboleda Grande"},{"$f":"IFERROR(VLOOKUP(Tabla_SERIED_12_5[[#This Row],[IdEstablecimiento]],'[1]Establecimiento 2023'!$A$1:$E$183,5,FALSE),0)","v":"04204-Salamanca"},"15010100","2022-11-15T14:03:22",10,{"$nulls":3},10]
[{"$nulls":23},10,"5",2022,"105501",{"$f":"IFERROR(VLOOKUP(Tabla_SERIED_12_5[[#This Row],[IdEstablecimiento]],'[1]Establecimiento 2023'!$A$1:$E$183,3,FALSE),0)","v":"105501-Posta de Salud Rural Arboleda Grande"},{"$f":"IFERROR(VLOOKUP(Tabla_SERIED_12_5[[#This Row],[IdEstablecimiento]],'[1]Establecimiento 2023'!$A$1:$E$183,5,FALSE),0)","v":"04204-Salamanca"},"15900050","2022-11-15T14:03:22",1,null,1,{"$nulls":4},1]
[{"$nulls":23},10,"5",2022,"105503",{"$f":"IFERROR(VLOOKUP(Tabla_SERIED_12_5[[#This Row],[IdEstablecimiento]],'[1]Establecimiento 2023'!$A$1:$E$183,3,FALSE),0)","v":"105503-Posta de Salud Rural Tabaqueros"},{"$f":"IFERROR(VLOOKUP(Tabla_SERIED_12_5[[#This Row],[IdEstablecimiento]],'[1]Establecimiento 2023'!$A$1:$E$183,5,FALSE),0)","v":"04305-Río Hurtado"},"16100300","2022-11-15T14:03:34",21,13,8,null,15]
[{"$nulls":23},10,"5",2022,"105505",{"$f":"IFERROR(VLOOKUP(Tabla_SERIED_12_5[[#This Row],[IdEstablecimiento]],'[1]Establecimiento 2023'!$A$1:$E$183,3,FALSE),0)","v":"105505-Posta de Salud Rural Los Choros"},{"$f":"IFERROR(VLOOKUP(Tabla_SERIED_12_5[[#This Row],[IdEstablecimiento]],'[1]Establecimiento 2023'!$A$1:$E$183,5,FALSE),0)","v":"04104-La Higuera"},"16100300","2022-11-15T14:05:57",26,12,14]
[{"$nulls":23},8,"5",2022,"105503",{"$f":"IFERROR(VLOOKUP(Tabla_SERIED_12_5[[#This Row],[IdEstablecimiento]],'[1]Establecimiento 2023'!$A$1:$E$183,3,FALSE),0)","v":"105503-Posta de Salud Rural Tabaqueros"},{"$f":"IFERROR(VLOOKUP(Tabla_SERIED_12_5[[#This Row],[IdEstablecimiento]],'[1]Establecimiento 2023'!$A$1:$E$183,5,FALSE),0)","v":"04305-Río Hurtado"},"16090300","2022-09-21T07:57:59",25,25]
[{"$nulls":23},3,"5",2022,"105466",{"$f":"IFERROR(VLOOKUP(Tabla_SERIED_12_5[[#This Row],[IdEstablecimiento]],'[1]Establecimiento 2023'!$A$1:$E$183,3,FALSE),0)","v":"105466-Posta de Salud Rural Valle Hermoso"},{"$f":"IFERROR(VLOOKUP(Tabla_SERIED_12_5[[#This Row],[IdEstablecimiento]],'[1]Establecimiento 2023'!$A$1:$E$183,5,FALSE),0)","v":"04302-Combarbalá"},"16200210","2022-04-19T10:01:20",9,9]
[{"$nulls":23},3,"5",2022,"200569",{"$f":"IFERROR(VLOOKUP(Tabla_SERIED_12_5[[#This Row],[IdEstablecimiento]],'[1]Establecimiento 2023'!$A$1:$E$183,3,FALSE),0)","v":"200569-Centro de Salud Familiar Fray Jorge"},{"$f":"IFERROR(VLOOKUP(Tabla_SERIED_12_5[[#This Row],[IdEstablecimiento]],'[1]Establecimiento 2023'!$A$1:$E$183,5,FALSE),0)","v":"04301-Ovalle"},"15010500","2022-04-19T10:17:03",40,null,null,2,6,10,18,4]
[{"$nulls":23},1,"5",2022,"105323",{"$f":"IFERROR(VLOOKUP(Tabla_SERIED_12_5[[#This Row],[IdEstablecimiento]],'[1]Establecimiento 2023'!$A$1:$E$183,3,FALSE),0)","v":"105323-Centro de Salud Familiar Dr. Sergio Aguilar Delgado"},{"$f":"IFERROR(VLOOKUP(Tabla_SERIED_12_5[[#This Row],[IdEstablecimiento]],'[1]Establecimiento 2023'!$A$1:$E$183,5,FALSE),0)","v":"04102-Coquimbo"},"15030100","2022-02-16T10:50:56",4,null,4]
[{"$nulls":23},1,"5",2022,"105323",{"$f":"IFERROR(VLOOKUP(Tabla_SERIED_12_5[[#This Row],[IdEstablecimiento]],'[1]Establecimiento 2023'!$A$1:$E$183,3,FALSE),0)","v":"105323-Centro de Salud Familiar Dr. Sergio Aguilar Delgado"},{"$f":"IFERROR(VLOOKUP(Tabla_SERIED_12_5[[#This Row],[IdEstablecimiento]],'[1]Establecimiento 2023'!$A$1:$E$183,5,FALSE),0)","v":"04102-Coquimbo"},"15030200","2022-02-16T10:50:56",7.2,null,null,7.2]
[{"$nulls":23},5,"5",2022,"105319",{"$f":"IFERROR(VLOOKUP(Tabla_SERIED_12_5[[#This Row],[IdEstablecimiento]],'[1]Establecimiento 2023'!$A$1:$E$183,3,FALSE),0)","v":"105319-Centro de Salud Familiar Cardenal Raúl Silva Henríquez de La Serena"},{"$f":"IFERROR(VLOOKUP(Tabla_SERIED_12_5[[#This Row],[IdEstablecimiento]],'[1]Establecimiento 2023'!$A$1:$E$183,5,FALSE),0)","v":"04101-La Serena"},"16100300","2022-06-20T17:04:36",446,250,196,null,46]
[{"$nulls":23},4,"5",2022,"105460",{"$f":"IFERROR(VLOOKUP(Tabla_SERIED_12_5[[#This Row],[IdEstablecimiento]],'[1]Establecimiento 2023'!$A$1:$E$183,3,FALSE),0)","v":"105460-Centro Comunitario de Salud Familiar Cogotí 18"},{"$f":"IFERROR(VLOOKUP(Tabla_SERIED_12_5[[#This Row],[IdEstablecimiento]],'[1]Establecimiento 2023'!$A$1:$E$183,5,FALSE),0)","v":"04302-Combarbalá"},"16200220","2022-08-22T07:36:12",7,3,4,null,4]
[{"$nulls":23},2,"5",2022,"200607",{"$f":"IFERROR(VLOOKUP(Tabla_SERIED_12_5[[#This Row],[IdEstablecimiento]],'[1]Establecimiento 2023'!$A$1:$E$183,3,FALSE),0)","v":"200607-Centro de Salud Familiar Lila Cortés Godoy"},{"$f":"IFERROR(VLOOKUP(Tabla_SERIED_12_5[[#This Row],[IdEstablecimiento]],'[1]Establecimiento 2023'!$A$1:$E$183,5,FALSE),0)","v":"04102-Coquimbo"},"15901300","2022-03-17T10:10:14",9.6,2,0,4.8,2.8,0]
[{"$nulls":23},1,"5",2022,"105444",{"$f":"IFERROR(VLOOKUP(Tabla_SERIED_12_5[[#This Row],[IdEstablecimiento]],'[1]Establecimiento 2023'!$A$1:$E$183,3,FALSE),0)","v":"105444-Posta de Salud Rural Huintil"},{"$f":"IFERROR(VLOOKUP(Tabla_SERIED_12_5[[#This Row],[IdEstablecimiento]],'[1]Establecimiento 2023'!$A$1:$E$183,5,FALSE),0)","v":"04201-Illapel"},"15010200","2022-02-16T11:33:20",14,{"$nulls":5},12,2]
[{"$nulls":23},2,"5",2022,"200273",{"$f":"IFERROR(VLOOKUP(Tabla_SERIED_12_5[[#This Row],[IdEstablecimiento]],'[1]Establecimiento 2023'!$A$1:$E$183,3,FALSE),0)","v":"200273-Centro Comunitario de Salud Familiar Punta Mira"},{"$f":"IFERROR(VLOOKUP(Tabla_SERIED_12_5[[#This Row],[IdEstablecimiento]],'[1]Establecimiento 2023'!$A$1:$E$183,5,FALSE),0)","v":"04102-Coquimbo"},"15900050","2022-03-17T10:06:44",1,null,1,{"$nulls":3},1]
[{"$nulls":23},3,"5",2022,"105485",{"$f":"IFERROR(VLOOKUP(Tabla_SERIED_12_5[[#This Row],[IdEstablecimiento]],'[1]Establecimiento 2023'!$A$1:$E$183,3,FALSE),0)","v":"105485-Posta de Salud Rural Plan de Hornos"},{"$f":"IFERROR(VLOOKUP(Tabla_SERIED_12_5[[#This Row],[IdEstablecimiento]],'[1]Establecimiento 2023'!$A$1:$E$183,5,FALSE),0)","v":"04201-Illapel"},"15900050","2022-04-19T10:06:16",1,1,0,null,1]
[{"$nulls":23},3,"5",2022,"200273",{"$f":"IFERROR(VLOOKUP(Tabla_SERIED_12_5[[#This Row],[IdEstablecimiento]],'[1]Establecimiento 2023'!$A$1:$E$183,3,FALSE),0)","v":"200273-Centro Comunitario de Salud Familiar Punta Mira"},{"$f":"IFERROR(VLOOKUP(Tabla_SERIED_12_5[[#This Row],[IdEstablecimiento]],'[1]Establecimiento 2023'!$A$1:$E$183,5,FALSE),0)","v":"04102-Coquimbo"},"15901500","2022-04-19T10:14:05",24.8,4.8,1.6,18.4]
[{"$nulls":23},3,"5",2022,"200273",{"$f":"IFERROR(VLOOKUP(Tabla_SERIED_12_5[[#This Row],[IdEstablecimiento]],'[1]Establecimiento 2023'!$A$1:$E$183,3,FALSE),0)","v":"200273-Centro Comunitario de Salud Familiar Punta Mira"},{"$f":"IFERROR(VLOOKUP(Tabla_SERIED_12_5[[#This Row],[IdEstablecimiento]],'[1]Establecimiento 2023'!$A$1:$E$183,5,FALSE),0)","v":"04102-Coquimbo"},"15900030","2022-04-19T10:14:05",3.2,{"$nulls":3},3.2]
[{"$nulls":23},1,"5",2022,"200538",{"$f":"IFERROR(VLOOKUP(Tabla_SERIED_12_5[[#This Row],[IdEstablecimiento]],'[1]Establecimiento 2023'!$A$1:$E$183,3,FALSE),0)","v":"200538-Centro de Salud Familiar San Isidro Calingasta"},{"$f":"IFERROR(VLOOKUP(Tabla_SERIED_12_5[[#This Row],[IdEstablecimiento]],'[1]Establecimiento 2023'!$A$1:$E$183,5,FALSE),0)","v":"04106-Vicuña"},"15050200","2022-02-17T04:31:41",7,6,1,{"$nulls":3},1,2,3,null,null,1]
[{"$nulls":23},3,"5",2022,"105435",{"$f":"IFERROR(VLOOKUP(Tabla_SERIED_12_5[[#This Row],[IdEstablecimiento]],'[1]Establecimiento 2023'!$A$1:$E$183,3,FALSE),0)","v":"105435-Posta de Salud Rural Tulahuén"},{"$f":"IFERROR(VLOOKUP(Tabla_SERIED_12_5[[#This Row],[IdEstablecimiento]],'[1]Establecimiento 2023'!$A$1:$E$183,5,FALSE),0)","v":"04303-Monte Patria"},"15010100","2022-04-19T09:44:03",8,{"$nulls":3},8]
[{"$nulls":23},10,"5",2022,"105506",{"$f":"IFERROR(VLOOKUP(Tabla_SERIED_12_5[[#This Row],[IdEstablecimiento]],'[1]Establecimiento 2023'!$A$1:$E$183,3,FALSE),0)","v":"105506-Posta de Salud Rural El Trapiche"},{"$f":"IFERROR(VLOOKUP(Tabla_SERIED_12_5[[#This Row],[IdEstablecimiento]],'[1]Establecimiento 2023'!$A$1:$E$183,5,FALSE),0)","v":"04104-La Higuera"},"15010500","2022-11-15T14:08:51",2,{"$nulls":5},2]
[{"$nulls":23},10,"5",2022,"105723",{"$f":"IFERROR(VLOOKUP(Tabla_SERIED_12_5[[#This Row],[IdEstablecimiento]],'[1]Establecimiento 2023'!$A$1:$E$183,3,FALSE),0)","v":"105723-Centro Comunitario de Salud Familiar Limarí"},{"$f":"IFERROR(VLOOKUP(Tabla_SERIED_12_5[[#This Row],[IdEstablecimiento]],'[1]Establecimiento 2023'!$A$1:$E$183,5,FALSE),0)","v":"04301-Ovalle"},"16200100","2022-12-20T11:14:39",22,16,6,0,5]
[{"$nulls":23},10,"5",2022,"105509",{"$f":"IFERROR(VLOOKUP(Tabla_SERIED_12_5[[#This Row],[IdEstablecimiento]],'[1]Establecimiento 2023'!$A$1:$E$183,3,FALSE),0)","v":"105509-Posta de Salud Rural Gualliguaica"},{"$f":"IFERROR(VLOOKUP(Tabla_SERIED_12_5[[#This Row],[IdEstablecimiento]],'[1]Establecimiento 2023'!$A$1:$E$183,5,FALSE),0)","v":"04106-Vicuña"},"16090300","2022-11-15T14:09:36",35,35]
[{"$nulls":23},10,"5",2022,"200569",{"$f":"IFERROR(VLOOKUP(Tabla_SERIED_12_5[[#This Row],[IdEstablecimiento]],'[1]Establecimiento 2023'!$A$1:$E$183,3,FALSE),0)","v":"200569-Centro de Salud Familiar Fray Jorge"},{"$f":"IFERROR(VLOOKUP(Tabla_SERIED_12_5[[#This Row],[IdEstablecimiento]],'[1]Establecimiento 2023'!$A$1:$E$183,5,FALSE),0)","v":"04301-Ovalle"},"16100300","2022-12-20T11:16:09",419,164,255,13,213]
[{"$nulls":23},10,"5",2022,"105510",{"$f":"IFERROR(VLOOKUP(Tabla_SERIED_12_5[[#This Row],[IdEstablecimiento]],'[1]Establecimiento 2023'!$A$1:$E$183,3,FALSE),0)","v":"105510-Posta de Salud Rural Recoleta"},{"$f":"IFERROR(VLOOKUP(Tabla_SERIED_12_5[[#This Row],[IdEstablecimiento]],'[1]Establecimiento 2023'!$A$1:$E$183,5,FALSE),0)","v":"04301-Ovalle"},"16090500","2022-12-20T11:13:39",11,11]
[{"$nulls":23},10,"5",2022,"105510",{"$f":"IFERROR(VLOOKUP(Tabla_SERIED_12_5[[#This Row],[IdEstablecimiento]],'[1]Establecimiento 2023'!$A$1:$E$183,3,FALSE),0)","v":"105510-Posta de Salud Rural Recoleta"},{"$f":"IFERROR(VLOOKUP(Tabla_SERIED_12_5[[#This Row],[IdEstablecimiento]],'[1]Establecimiento 2023'!$A$1:$E$183,5,FALSE),0)","v":"04301-Ovalle"},"16100300","2022-12-20T11:13:39",99,55,44,6,19]
[{"$nulls":23},3,"5",2022,"200273",{"$f":"IFERROR(VLOOKUP(Tabla_SERIED_12_5[[#This Row],[IdEstablecimiento]],'[1]Establecimiento 2023'!$A$1:$E$183,3,FALSE),0)","v":"200273-Centro Comunitario de Salud Familiar Punta Mira"},{"$f":"IFERROR(VLOOKUP(Tabla_SERIED_12_5[[#This Row],[IdEstablecimiento]],'[1]Establecimiento 2023'!$A$1:$E$183,5,FALSE),0)","v":"04102-Coquimbo"},"15050200","2022-04-19T10:14:05",4,1,3,{"$nulls":3},1,null,2,1]
[{"$nulls":23},6,"5",2022,"105303",{"$f":"IFERROR(VLOOKUP(Tabla_SERIED_12_5[[#This Row],[IdEstablecimiento]],'[1]Establecimiento 2023'!$A$1:$E$183,3,FALSE),0)","v":"105303-Centro de Salud Familiar San Juan"},{"$f":"IFERROR(VLOOKUP(Tabla_SERIED_12_5[[#This Row],[IdEstablecimiento]],'[1]Establecimiento 2023'!$A$1:$E$183,5,FALSE),0)","v":"04102-Coquimbo"},"15050200","2022-07-14T13:36:46",5,0,5,0,0,2,0,0,0,0,null,3,0,0,0]
[{"$nulls":23},6,"5",2022,"105303",{"$f":"IFERROR(VLOOKUP(Tabla_SERIED_12_5[[#This Row],[IdEstablecimiento]],'[1]Establecimiento 2023'!$A$1:$E$183,3,FALSE),0)","v":"105303-Centro de Salud Familiar San Juan"},{"$f":"IFERROR(VLOOKUP(Tabla_SERIED_12_5[[#This Row],[IdEstablecimiento]],'[1]Establecimiento 2023'!$A$1:$E$183,5,FALSE),0)","v":"04102-Coquimbo"},"16100300","2022-07-14T13:36:46",606,237,369,16,152]
[{"$nulls":23},7,"5",2022,"105106",{"$f":"IFERROR(VLOOKUP(Tabla_SERIED_12_5[[#This Row],[IdEstablecimiento]],'[1]Establecimiento 2023'!$A$1:$E$183,3,FALSE),0)","v":"105106-Hospital Dr. José Arraño (Andacollo)"},{"$f":"IFERROR(VLOOKUP(Tabla_SERIED_12_5[[#This Row],[IdEstablecimiento]],'[1]Establecimiento 2023'!$A$1:$E$183,5,FALSE),0)","v":"105106-Hospital Andacollo"},"15080008","2022-08-19T11:39:31",43,{"$nulls":7},22,null,12,2,7]
[{"$nulls":23},8,"5",2022,"105467",{"$f":"IFERROR(VLOOKUP(Tabla_SERIED_12_5[[#This Row],[IdEstablecimiento]],'[1]Establecimiento 2023'!$A$1:$E$183,3,FALSE),0)","v":"105467-Posta de Salud Rural Diaguitas"},{"$f":"IFERROR(VLOOKUP(Tabla_SERIED_12_5[[#This Row],[IdEstablecimiento]],'[1]Establecimiento 2023'!$A$1:$E$183,5,FALSE),0)","v":"04106-Vicuña"},"15050200","2022-09-21T07:48:20",2,2,{"$nulls":5},1,null,1]
[{"$nulls":23},7,"5",2022,"105496",{"$f":"IFERROR(VLOOKUP(Tabla_SERIED_12_5[[#This Row],[IdEstablecimiento]],'[1]Establecimiento 2023'!$A$1:$E$183,3,FALSE),0)","v":"105496-Posta de Salud Rural Pintacura Sur"},{"$f":"IFERROR(VLOOKUP(Tabla_SERIED_12_5[[#This Row],[IdEstablecimiento]],'[1]Establecimiento 2023'!$A$1:$E$183,5,FALSE),0)","v":"04201-Illapel"},"15080008","2022-08-22T06:35:03",1,{"$nulls":7},1]
[{"$nulls":23},7,"5",2022,"105496",{"$f":"IFERROR(VLOOKUP(Tabla_SERIED_12_5[[#This Row],[IdEstablecimiento]],'[1]Establecimiento 2023'!$A$1:$E$183,3,FALSE),0)","v":"105496-Posta de Salud Rural Pintacura Sur"},{"$f":"IFERROR(VLOOKUP(Tabla_SERIED_12_5[[#This Row],[IdEstablecimiento]],'[1]Establecimiento 2023'!$A$1:$E$183,5,FALSE),0)","v":"04201-Illapel"},"16200210","2022-08-22T06:35:03",8,8]
[{"$nulls":23},5,"5",2022,"105303",{"$f":"IFERROR(VLOOKUP(Tabla_SERIED_12_5[[#This Row],[IdEstablecimiento]],'[1]Establecimiento 2023'!$A$1:$E$183,3,FALSE),0)","v":"105303-Centro de Salud Familiar San Juan"},{"$f":"IFERROR(VLOOKUP(Tabla_SERIED_12_5[[#This Row],[IdEstablecimiento]],'[1]Establecimiento 2023'!$A$1:$E$183,5,FALSE),0)","v":"04102-Coquimbo"},"15010200","2022-06-20T17:00:05",596,{"$nulls":4},94,266,236]
[{"$nulls":23},6,"5",2022,"200258",{"$f":"IFERROR(VLOOKUP(Tabla_SERIED_12_5[[#This Row],[IdEstablecimiento]],'[1]Establecimiento 2023'!$A$1:$E$183,3,FALSE),0)","v":"200258-Centro Comunitario de Salud Familiar Los Copihues"},{"$f":"IFERROR(VLOOKUP(Tabla_SERIED_12_5[[#This Row],[IdEstablecimiento]],'[1]Establecimiento 2023'!$A$1:$E$183,5,FALSE),0)","v":"04301-Ovalle"},"15900010","2022-07-14T14:42:10",16,0,6.4,9.6]
[{"$nulls":23},10,"5",2022,"105700",{"$f":"IFERROR(VLOOKUP(Tabla_SERIED_12_5[[#This Row],[IdEstablecimiento]],'[1]Establecimiento 2023'!$A$1:$E$183,3,FALSE),0)","v":"105700-Centro Comunitario de Salud Familiar Villa el Indio"},{"$f":"IFERROR(VLOOKUP(Tabla_SERIED_12_5[[#This Row],[IdEstablecimiento]],'[1]Establecimiento 2023'!$A$1:$E$183,5,FALSE),0)","v":"04101-La Serena"},"15900030","2022-11-15T14:10:29",6.4,{"$nulls":3},6.4]
[{"$nulls":23},10,"5",2022,"105701",{"$f":"IFERROR(VLOOKUP(Tabla_SERIED_12_5[[#This Row],[IdEstablecimiento]],'[1]Establecimiento 2023'!$A$1:$E$183,3,FALSE),0)","v":"105701-Centro Comunitario de Salud Familiar Villa Alemania"},{"$f":"IFERROR(VLOOKUP(Tabla_SERIED_12_5[[#This Row],[IdEstablecimiento]],'[1]Establecimiento 2023'!$A$1:$E$183,5,FALSE),0)","v":"04101-La Serena"},"15080008","2022-11-15T14:10:43",12,{"$nulls":7},10,null,2]
[{"$nulls":23},10,"5",2022,"105702",{"$f":"IFERROR(VLOOKUP(Tabla_SERIED_12_5[[#This Row],[IdEstablecimiento]],'[1]Establecimiento 2023'!$A$1:$E$183,3,FALSE),0)","v":"105702-Centro Comunitario de Salud Familiar Lambert"},{"$f":"IFERROR(VLOOKUP(Tabla_SERIED_12_5[[#This Row],[IdEstablecimiento]],'[1]Establecimiento 2023'!$A$1:$E$183,5,FALSE),0)","v":"04101-La Serena"},"15010100","2022-11-15T14:10:56",16,{"$nulls":3},16]
[{"$nulls":23},10,"5",2022,"105702",{"$f":"IFERROR(VLOOKUP(Tabla_SERIED_12_5[[#This Row],[IdEstablecimiento]],'[1]Establecimiento 2023'!$A$1:$E$183,3,FALSE),0)","v":"105702-Centro Comunitario de Salud Familiar Lambert"},{"$f":"IFERROR(VLOOKUP(Tabla_SERIED_12_5[[#This Row],[IdEstablecimiento]],'[1]Establecimiento 2023'!$A$1:$E$183,5,FALSE),0)","v":"04101-La Serena"},"16100300","2022-11-15T14:10:56",45,13,32,6,14]
[{"$nulls":23},10,"5",2022,"105722",{"$f":"IFERROR(VLOOKUP(Tabla_SERIED_12_5[[#This Row],[IdEstablecimiento]],'[1]Establecimiento 2023'!$A$1:$E$183,3,FALSE),0)","v":"105722-Centro Comunitario de Salud Familiar San José de la Dehesa"},{"$f":"IFERROR(VLOOKUP(Tabla_SERIED_12_5[[#This Row],[IdEstablecimiento]],'[1]Establecimiento 2023'!$A$1:$E$183,5,FALSE),0)","v":"04301-Ovalle"},"15900030","2022-11-15T14:11:12",2,2]
[{"$nulls":23},2,"5",2022,"105481",{"$f":"IFERROR(VLOOKUP(Tabla_SERIED_12_5[[#This Row],[IdEstablecimiento]],'[1]Establecimiento 2023'!$A$1:$E$183,3,FALSE),0)","v":"105481-Posta de Salud Rural Tilama"},{"$f":"IFERROR(VLOOKUP(Tabla_SERIED_12_5[[#This Row],[IdEstablecimiento]],'[1]Establecimiento 2023'!$A$1:$E$183,5,FALSE),0)","v":"04203-Los Vilos"},"15050100","2022-03-17T09:54:24",6,3,3,{"$nulls":5},4,1,0,null,1]
[{"$nulls":23},1,"5",2022,"105107",{"$f":"IFERROR(VLOOKUP(Tabla_SERIED_12_5[[#This Row],[IdEstablecimiento]],'[1]Establecimiento 2023'!$A$1:$E$183,3,FALSE),0)","v":"105107-Hospital San Juan de Dios (Vicuña)"},{"$f":"IFERROR(VLOOKUP(Tabla_SERIED_12_5[[#This Row],[IdEstablecimiento]],'[1]Establecimiento 2023'!$A$1:$E$183,5,FALSE),0)","v":"105107-Hospital Vicuña"},"15080008","2022-02-17T07:56:13",84,{"$nulls":7},55,null,24,null,5]
[{"$nulls":23},1,"5",2022,"105107",{"$f":"IFERROR(VLOOKUP(Tabla_SERIED_12_5[[#This Row],[IdEstablecimiento]],'[1]Establecimiento 2023'!$A$1:$E$183,3,FALSE),0)","v":"105107-Hospital San Juan de Dios (Vicuña)"},{"$f":"IFERROR(VLOOKUP(Tabla_SERIED_12_5[[#This Row],[IdEstablecimiento]],'[1]Establecimiento 2023'!$A$1:$E$183,5,FALSE),0)","v":"105107-Hospital Vicuña"},"15050100","2022-02-17T07:56:13",197,63,134,null,3,11,18,15,45,35,53,null,12,null,5]
[{"$nulls":23},6,"5",2022,"200569",{"$f":"IFERROR(VLOOKUP(Tabla_SERIED_12_5[[#This Row],[IdEstablecimiento]],'[1]Establecimiento 2023'!$A$1:$E$183,3,FALSE),0)","v":"200569-Centro de Salud Familiar Fray Jorge"},{"$f":"IFERROR(VLOOKUP(Tabla_SERIED_12_5[[#This Row],[IdEstablecimiento]],'[1]Establecimiento 2023'!$A$1:$E$183,5,FALSE),0)","v":"04301-Ovalle"},"15010400","2022-07-14T14:44:39",22,{"$nulls":4},8,10,4]
[{"$nulls":23},4,"5",2022,"105106",{"$f":"IFERROR(VLOOKUP(Tabla_SERIED_12_5[[#This Row],[IdEstablecimiento]],'[1]Establecimiento 2023'!$A$1:$E$183,3,FALSE),0)","v":"105106-Hospital Dr. José Arraño (Andacollo)"},{"$f":"IFERROR(VLOOKUP(Tabla_SERIED_12_5[[#This Row],[IdEstablecimiento]],'[1]Establecimiento 2023'!$A$1:$E$183,5,FALSE),0)","v":"105106-Hospital Andacollo"},"15050200","2022-05-18T11:48:24",7,4,3,{"$nulls":3},1,1,5]
[{"$nulls":23},4,"5",2022,"105323",{"$f":"IFERROR(VLOOKUP(Tabla_SERIED_12_5[[#This Row],[IdEstablecimiento]],'[1]Establecimiento 2023'!$A$1:$E$183,3,FALSE),0)","v":"105323-Centro de Salud Familiar Dr. Sergio Aguilar Delgado"},{"$f":"IFERROR(VLOOKUP(Tabla_SERIED_12_5[[#This Row],[IdEstablecimiento]],'[1]Establecimiento 2023'!$A$1:$E$183,5,FALSE),0)","v":"04102-Coquimbo"},"15020100","2022-05-18T11:53:56",18,null,null,6,12]
[{"$nulls":23},8,"5",2022,"105105",{"$f":"IFERROR(VLOOKUP(Tabla_SERIED_12_5[[#This Row],[IdEstablecimiento]],'[1]Establecimiento 2023'!$A$1:$E$183,3,FALSE),0)","v":"105105-Hospital San Juan de Dios (Combarbalá)"},{"$f":"IFERROR(VLOOKUP(Tabla_SERIED_12_5[[#This Row],[IdEstablecimiento]],'[1]Establecimiento 2023'!$A$1:$E$183,5,FALSE),0)","v":"105105-Hospital Combarbalá"},"16200210","2022-09-21T07:13:42",24,24]
[{"$nulls":23},3,"5",2022,"105492",{"$f":"IFERROR(VLOOKUP(Tabla_SERIED_12_5[[#This Row],[IdEstablecimiento]],'[1]Establecimiento 2023'!$A$1:$E$183,3,FALSE),0)","v":"105492-Posta de Salud Rural Camisa"},{"$f":"IFERROR(VLOOKUP(Tabla_SERIED_12_5[[#This Row],[IdEstablecimiento]],'[1]Establecimiento 2023'!$A$1:$E$183,5,FALSE),0)","v":"04204-Salamanca"},"16200220","2022-04-20T05:54:44",2,1,1]
[{"$nulls":23},5,"5",2022,"105491",{"$f":"IFERROR(VLOOKUP(Tabla_SERIED_12_5[[#This Row],[IdEstablecimiento]],'[1]Establecimiento 2023'!$A$1:$E$183,3,FALSE),0)","v":"105491-Posta de Salud Rural Quelén Bajo"},{"$f":"IFERROR(VLOOKUP(Tabla_SERIED_12_5[[#This Row],[IdEstablecimiento]],'[1]Establecimiento 2023'!$A$1:$E$183,5,FALSE),0)","v":"04204-Salamanca"},"16200220","2022-06-22T10:51:42",7,4,3]
[{"$nulls":23},9,"5",2022,"105484",{"$f":"IFERROR(VLOOKUP(Tabla_SERIED_12_5[[#This Row],[IdEstablecimiento]],'[1]Establecimiento 2023'!$A$1:$E$183,3,FALSE),0)","v":"105484-Posta de Salud Rural Huentelauquén"},{"$f":"IFERROR(VLOOKUP(Tabla_SERIED_12_5[[#This Row],[IdEstablecimiento]],'[1]Establecimiento 2023'!$A$1:$E$183,5,FALSE),0)","v":"04202-Canela"},"16090300","2022-11-15T14:50:16",55,55]
[{"$nulls":23},11,"5",2022,"105302",{"$f":"IFERROR(VLOOKUP(Tabla_SERIED_12_5[[#This Row],[IdEstablecimiento]],'[1]Establecimiento 2023'!$A$1:$E$183,3,FALSE),0)","v":"105302-Centro de Salud Familiar Pedro Aguirre Cerda"},{"$f":"IFERROR(VLOOKUP(Tabla_SERIED_12_5[[#This Row],[IdEstablecimiento]],'[1]Establecimiento 2023'!$A$1:$E$183,5,FALSE),0)","v":"04101-La Serena"},"15900030","2022-12-20T09:54:51",12.4,null,5.6,3.6,3.2]
[{"$nulls":23},11,"5",2022,"105302",{"$f":"IFERROR(VLOOKUP(Tabla_SERIED_12_5[[#This Row],[IdEstablecimiento]],'[1]Establecimiento 2023'!$A$1:$E$183,3,FALSE),0)","v":"105302-Centro de Salud Familiar Pedro Aguirre Cerda"},{"$f":"IFERROR(VLOOKUP(Tabla_SERIED_12_5[[#This Row],[IdEstablecimiento]],'[1]Establecimiento 2023'!$A$1:$E$183,5,FALSE),0)","v":"04101-La Serena"},"16090300","2022-12-20T09:54:51",672,672]
[{"$nulls":23},11,"5",2022,"105303",{"$f":"IFERROR(VLOOKUP(Tabla_SERIED_12_5[[#This Row],[IdEstablecimiento]],'[1]Establecimiento 2023'!$A$1:$E$183,3,FALSE),0)","v":"105303-Centro de Salud Familiar San Juan"},{"$f":"IFERROR(VLOOKUP(Tabla_SERIED_12_5[[#This Row],[IdEstablecimiento]],'[1]Establecimiento 2023'!$A$1:$E$183,5,FALSE),0)","v":"04102-Coquimbo"},"15010200","2022-12-20T09:55:10",568,{"$nulls":4},120,238,210]
[{"$nulls":23},11,"5",2022,"105303",{"$f":"IFERROR(VLOOKUP(Tabla_SERIED_12_5[[#This Row],[IdEstablecimiento]],'[1]Establecimiento 2023'!$A$1:$E$183,3,FALSE),0)","v":"105303-Centro de Salud Familiar San Juan"},{"$f":"IFERROR(VLOOKUP(Tabla_SERIED_12_5[[#This Row],[IdEstablecimiento]],'[1]Establecimiento 2023'!$A$1:$E$183,5,FALSE),0)","v":"04102-Coquimbo"},"15020100","2022-12-20T09:55:10",10,0,0,2,8,0,0,0,0,0,0,0,0]
[{"$nulls":23},11,"5",2022,"105303",{"$f":"IFERROR(VLOOKUP(Tabla_SERIED_12_5[[#This Row],[IdEstablecimiento]],'[1]Establecimiento 2023'!$A$1:$E$183,3,FALSE),0)","v":"105303-Centro de Salud Familiar San Juan"},{"$f":"IFERROR(VLOOKUP(Tabla_SERIED_12_5[[#This Row],[IdEstablecimiento]],'[1]Establecimiento 2023'!$A$1:$E$183,5,FALSE),0)","v":"04102-Coquimbo"},"16200220","2022-12-20T09:55:10",16,6,10,0,5]
[{"$nulls":23},11,"5",2022,"105304",{"$f":"IFERROR(VLOOKUP(Tabla_SERIED_12_5[[#This Row],[IdEstablecimiento]],'[1]Establecimiento 2023'!$A$1:$E$183,3,FALSE),0)","v":"105304-Centro de Salud Familiar Santa Cecilia"},{"$f":"IFERROR(VLOOKUP(Tabla_SERIED_12_5[[#This Row],[IdEstablecimiento]],'[1]Establecimiento 2023'!$A$1:$E$183,5,FALSE),0)","v":"04102-Coquimbo"},"15030100","2022-12-20T09:55:22",12,0,12,0]
[{"$nulls":23},11,"5",2022,"105304",{"$f":"IFERROR(VLOOKUP(Tabla_SERIED_12_5[[#This Row],[IdEstablecimiento]],'[1]Establecimiento 2023'!$A$1:$E$183,3,FALSE),0)","v":"105304-Centro de Salud Familiar Santa Cecilia"},{"$f":"IFERROR(VLOOKUP(Tabla_SERIED_12_5[[#This Row],[IdEstablecimiento]],'[1]Establecimiento 2023'!$A$1:$E$183,5,FALSE),0)","v":"04102-Coquimbo"},"15020200","2022-12-20T09:55:22",8,{"$nulls":4},4,4,0]
[{"$nulls":23},11,"5",2022,"105304",{"$f":"IFERROR(VLOOKUP(Tabla_SERIED_12_5[[#This Row],[IdEstablecimiento]],'[1]Establecimiento 2023'!$A$1:$E$183,3,FALSE),0)","v":"105304-Centro de Salud Familiar Santa Cecilia"},{"$f":"IFERROR(VLOOKUP(Tabla_SERIED_12_5[[#This Row],[IdEstablecimiento]],'[1]Establecimiento 2023'!$A$1:$E$183,5,FALSE),0)","v":"04102-Coquimbo"},"15901200","2022-12-20T09:55:22",3.2,0,0,0,0,3.2]
[{"$nulls":23},11,"5",2022,"105305",{"$f":"IFERROR(VLOOKUP(Tabla_SERIED_12_5[[#This Row],[IdEstablecimiento]],'[1]Establecimiento 2023'!$A$1:$E$183,3,FALSE),0)","v":"105305-Centro de Salud Familiar Tierras Blancas"},{"$f":"IFERROR(VLOOKUP(Tabla_SERIED_12_5[[#This Row],[IdEstablecimiento]],'[1]Establecimiento 2023'!$A$1:$E$183,5,FALSE),0)","v":"04102-Coquimbo"},"15010100","2022-12-20T09:55:32",149,{"$nulls":3},144,null,2,2,1]
[{"$nulls":23},11,"5",2022,"105305",{"$f":"IFERROR(VLOOKUP(Tabla_SERIED_12_5[[#This Row],[IdEstablecimiento]],'[1]Establecimiento 2023'!$A$1:$E$183,3,FALSE),0)","v":"105305-Centro de Salud Familiar Tierras Blancas"},{"$f":"IFERROR(VLOOKUP(Tabla_SERIED_12_5[[#This Row],[IdEstablecimiento]],'[1]Establecimiento 2023'!$A$1:$E$183,5,FALSE),0)","v":"04102-Coquimbo"},"15050100","2022-12-20T09:55:32",664,274,390,1,16,71,72,73,148,113,98,null,39,16,17]
[{"$nulls":23},11,"5",2022,"105305",{"$f":"IFERROR(VLOOKUP(Tabla_SERIED_12_5[[#This Row],[IdEstablecimiento]],'[1]Establecimiento 2023'!$A$1:$E$183,3,FALSE),0)","v":"105305-Centro de Salud Familiar Tierras Blancas"},{"$f":"IFERROR(VLOOKUP(Tabla_SERIED_12_5[[#This Row],[IdEstablecimiento]],'[1]Establecimiento 2023'!$A$1:$E$183,5,FALSE),0)","v":"04102-Coquimbo"},"16200100","2022-12-20T09:55:32",14,9,5]
[{"$nulls":23},11,"5",2022,"105306",{"$f":"IFERROR(VLOOKUP(Tabla_SERIED_12_5[[#This Row],[IdEstablecimiento]],'[1]Establecimiento 2023'!$A$1:$E$183,3,FALSE),0)","v":"105306-Centro de Salud Familiar Paihuano"},{"$f":"IFERROR(VLOOKUP(Tabla_SERIED_12_5[[#This Row],[IdEstablecimiento]],'[1]Establecimiento 2023'!$A$1:$E$183,5,FALSE),0)","v":"04105-Paiguano"},"15010400","2022-12-20T09:55:44",2,{"$nulls":4},2]
[{"$nulls":23},11,"5",2022,"105306",{"$f":"IFERROR(VLOOKUP(Tabla_SERIED_12_5[[#This Row],[IdEstablecimiento]],'[1]Establecimiento 2023'!$A$1:$E$183,3,FALSE),0)","v":"105306-Centro de Salud Familiar Paihuano"},{"$f":"IFERROR(VLOOKUP(Tabla_SERIED_12_5[[#This Row],[IdEstablecimiento]],'[1]Establecimiento 2023'!$A$1:$E$183,5,FALSE),0)","v":"04105-Paiguano"},"16200220","2022-12-20T09:55:44",4,1,3,null,3]
[{"$nulls":23},11,"5",2022,"105307",{"$f":"IFERROR(VLOOKUP(Tabla_SERIED_12_5[[#This Row],[IdEstablecimiento]],'[1]Establecimiento 2023'!$A$1:$E$183,3,FALSE),0)","v":"105307-Centro de Salud Familiar Monte Patria"},{"$f":"IFERROR(VLOOKUP(Tabla_SERIED_12_5[[#This Row],[IdEstablecimiento]],'[1]Establecimiento 2023'!$A$1:$E$183,5,FALSE),0)","v":"04303-Monte Patria"},"15030100","2022-12-20T09:56:02",4,null,null,4]
[{"$nulls":23},11,"5",2022,"105307",{"$f":"IFERROR(VLOOKUP(Tabla_SERIED_12_5[[#This Row],[IdEstablecimiento]],'[1]Establecimiento 2023'!$A$1:$E$183,3,FALSE),0)","v":"105307-Centro de Salud Familiar Monte Patria"},{"$f":"IFERROR(VLOOKUP(Tabla_SERIED_12_5[[#This Row],[IdEstablecimiento]],'[1]Establecimiento 2023'!$A$1:$E$183,5,FALSE),0)","v":"04303-Monte Patria"},"16100300","2022-12-20T09:56:02",317,139,178,null,92]
[{"$nulls":23},11,"5",2022,"105307",{"$f":"IFERROR(VLOOKUP(Tabla_SERIED_12_5[[#This Row],[IdEstablecimiento]],'[1]Establecimiento 2023'!$A$1:$E$183,3,FALSE),0)","v":"105307-Centro de Salud Familiar Monte Patria"},{"$f":"IFERROR(VLOOKUP(Tabla_SERIED_12_5[[#This Row],[IdEstablecimiento]],'[1]Establecimiento 2023'!$A$1:$E$183,5,FALSE),0)","v":"04303-Monte Patria"},"16200220","2022-12-20T09:56:02",32,11,21,null,5]
[{"$nulls":23},11,"5",2022,"105308",{"$f":"IFERROR(VLOOKUP(Tabla_SERIED_12_5[[#This Row],[IdEstablecimiento]],'[1]Establecimiento 2023'!$A$1:$E$183,3,FALSE),0)","v":"105308-Centro de Salud Familiar Punitaqui"},{"$f":"IFERROR(VLOOKUP(Tabla_SERIED_12_5[[#This Row],[IdEstablecimiento]],'[1]Establecimiento 2023'!$A$1:$E$183,5,FALSE),0)","v":"04304-Punitaqui"},"15010500","2022-12-20T09:56:16",6,{"$nulls":3},2,null,4]
[{"$nulls":23},11,"5",2022,"105309",{"$f":"IFERROR(VLOOKUP(Tabla_SERIED_12_5[[#This Row],[IdEstablecimiento]],'[1]Establecimiento 2023'!$A$1:$E$183,3,FALSE),0)","v":"105309-Centro de Salud Familiar Canela"},{"$f":"IFERROR(VLOOKUP(Tabla_SERIED_12_5[[#This Row],[IdEstablecimiento]],'[1]Establecimiento 2023'!$A$1:$E$183,5,FALSE),0)","v":"04202-Canela"},"15010100","2022-12-20T09:56:29",50,{"$nulls":3},46,4]
[{"$nulls":23},11,"5",2022,"105309",{"$f":"IFERROR(VLOOKUP(Tabla_SERIED_12_5[[#This Row],[IdEstablecimiento]],'[1]Establecimiento 2023'!$A$1:$E$183,3,FALSE),0)","v":"105309-Centro de Salud Familiar Canela"},{"$f":"IFERROR(VLOOKUP(Tabla_SERIED_12_5[[#This Row],[IdEstablecimiento]],'[1]Establecimiento 2023'!$A$1:$E$183,5,FALSE),0)","v":"04202-Canela"},"15050200","2022-12-20T09:56:29",2,1,1,null,null,1,null,1]
[{"$nulls":23},11,"5",2022,"105310",{"$f":"IFERROR(VLOOKUP(Tabla_SERIED_12_5[[#This Row],[IdEstablecimiento]],'[1]Establecimiento 2023'!$A$1:$E$183,3,FALSE),0)","v":"105310-Centro de Salud Familiar Pichasca"},{"$f":"IFERROR(VLOOKUP(Tabla_SERIED_12_5[[#This Row],[IdEstablecimiento]],'[1]Establecimiento 2023'!$A$1:$E$183,5,FALSE),0)","v":"04305-Río Hurtado"},"15010200","2022-12-20T09:56:40",38,{"$nulls":4},8,16,14]
[{"$nulls":23},11,"5",2022,"105310",{"$f":"IFERROR(VLOOKUP(Tabla_SERIED_12_5[[#This Row],[IdEstablecimiento]],'[1]Establecimiento 2023'!$A$1:$E$183,3,FALSE),0)","v":"105310-Centro de Salud Familiar Pichasca"},{"$f":"IFERROR(VLOOKUP(Tabla_SERIED_12_5[[#This Row],[IdEstablecimiento]],'[1]Establecimiento 2023'!$A$1:$E$183,5,FALSE),0)","v":"04305-Río Hurtado"},"15010500","2022-12-20T09:56:40",2,{"$nulls":6},2]
[{"$nulls":23},11,"5",2022,"105311",{"$f":"IFERROR(VLOOKUP(Tabla_SERIED_12_5[[#This Row],[IdEstablecimiento]],'[1]Establecimiento 2023'!$A$1:$E$183,3,FALSE),0)","v":"105311-Centro de Salud Familiar Chañaral Alto"},{"$f":"IFERROR(VLOOKUP(Tabla_SERIED_12_5[[#This Row],[IdEstablecimiento]],'[1]Establecimiento 2023'!$A$1:$E$183,5,FALSE),0)","v":"04303-Monte Patria"},"15080009","2022-12-20T09:56:52",1,{"$nulls":10},1]
[{"$nulls":23},11,"5",2022,"105311",{"$f":"IFERROR(VLOOKUP(Tabla_SERIED_12_5[[#This Row],[IdEstablecimiento]],'[1]Establecimiento 2023'!$A$1:$E$183,3,FALSE),0)","v":"105311-Centro de Salud Familiar Chañaral Alto"},{"$f":"IFERROR(VLOOKUP(Tabla_SERIED_12_5[[#This Row],[IdEstablecimiento]],'[1]Establecimiento 2023'!$A$1:$E$183,5,FALSE),0)","v":"04303-Monte Patria"},"16200210","2022-12-20T09:56:52",61,61]
[{"$nulls":23},11,"5",2022,"105311",{"$f":"IFERROR(VLOOKUP(Tabla_SERIED_12_5[[#This Row],[IdEstablecimiento]],'[1]Establecimiento 2023'!$A$1:$E$183,3,FALSE),0)","v":"105311-Centro de Salud Familiar Chañaral Alto"},{"$f":"IFERROR(VLOOKUP(Tabla_SERIED_12_5[[#This Row],[IdEstablecimiento]],'[1]Establecimiento 2023'!$A$1:$E$183,5,FALSE),0)","v":"04303-Monte Patria"},"16100300","2022-12-20T09:56:52",212,98,114,null,54]
[{"$nulls":23},11,"5",2022,"105312",{"$f":"IFERROR(VLOOKUP(Tabla_SERIED_12_5[[#This Row],[IdEstablecimiento]],'[1]Establecimiento 2023'!$A$1:$E$183,3,FALSE),0)","v":"105312-Centro de Salud Familiar Carén"},{"$f":"IFERROR(VLOOKUP(Tabla_SERIED_12_5[[#This Row],[IdEstablecimiento]],'[1]Establecimiento 2023'!$A$1:$E$183,5,FALSE),0)","v":"04303-Monte Patria"},"15060100","2022-12-20T09:57:06",2,null,2,{"$nulls":3},1,null,1]
[{"$nulls":23},11,"5",2022,"105313",{"$f":"IFERROR(VLOOKUP(Tabla_SERIED_12_5[[#This Row],[IdEstablecimiento]],'[1]Establecimiento 2023'!$A$1:$E$183,3,FALSE),0)","v":"105313-Centro de Salud Familiar Dr. Emilio Schaffhauser"},{"$f":"IFERROR(VLOOKUP(Tabla_SERIED_12_5[[#This Row],[IdEstablecimiento]],'[1]Establecimiento 2023'!$A$1:$E$183,5,FALSE),0)","v":"04101-La Serena"},"15010300","2022-12-20T09:57:19",5,{"$nulls":3},5]
[{"$nulls":23},11,"5",2022,"105313",{"$f":"IFERROR(VLOOKUP(Tabla_SERIED_12_5[[#This Row],[IdEstablecimiento]],'[1]Establecimiento 2023'!$A$1:$E$183,3,FALSE),0)","v":"105313-Centro de Salud Familiar Dr. Emilio Schaffhauser"},{"$f":"IFERROR(VLOOKUP(Tabla_SERIED_12_5[[#This Row],[IdEstablecimiento]],'[1]Establecimiento 2023'!$A$1:$E$183,5,FALSE),0)","v":"04101-La Serena"},"15900050","2022-12-20T09:57:19",18,13,5,2,3,6,1,6]
[{"$nulls":23},11,"5",2022,"105313",{"$f":"IFERROR(VLOOKUP(Tabla_SERIED_12_5[[#This Row],[IdEstablecimiento]],'[1]Establecimiento 2023'!$A$1:$E$183,3,FALSE),0)","v":"105313-Centro de Salud Familiar Dr. Emilio Schaffhauser"},{"$f":"IFERROR(VLOOKUP(Tabla_SERIED_12_5[[#This Row],[IdEstablecimiento]],'[1]Establecimiento 2023'!$A$1:$E$183,5,FALSE),0)","v":"04101-La Serena"},"16200210","2022-12-20T09:57:19",75,75]
[{"$nulls":23},11,"5",2022,"105314",{"$f":"IFERROR(VLOOKUP(Tabla_SERIED_12_5[[#This Row],[IdEstablecimiento]],'[1]Establecimiento 2023'!$A$1:$E$183,3,FALSE),0)","v":"105314-Centro de Salud Familiar La Higuera"},{"$f":"IFERROR(VLOOKUP(Tabla_SERIED_12_5[[#This Row],[IdEstablecimiento]],'[1]Establecimiento 2023'!$A$1:$E$183,5,FALSE),0)","v":"04104-La Higuera"},"15080008","2022-12-20T09:58:22",6,{"$nulls":7},4,null,2]
[{"$nulls":23},11,"5",2022,"105315",{"$f":"IFERROR(VLOOKUP(Tabla_SERIED_12_5[[#This Row],[IdEstablecimiento]],'[1]Establecimiento 2023'!$A$1:$E$183,3,FALSE),0)","v":"105315-Centro de Salud Familiar Cerrillos de Tamaya"},{"$f":"IFERROR(VLOOKUP(Tabla_SERIED_12_5[[#This Row],[IdEstablecimiento]],'[1]Establecimiento 2023'!$A$1:$E$183,5,FALSE),0)","v":"04301-Ovalle"},"15900010","2022-12-20T09:58:33",64.8,4.5,21.6,38.7]
[{"$nulls":23},11,"5",2022,"105315",{"$f":"IFERROR(VLOOKUP(Tabla_SERIED_12_5[[#This Row],[IdEstablecimiento]],'[1]Establecimiento 2023'!$A$1:$E$183,3,FALSE),0)","v":"105315-Centro de Salud Familiar Cerrillos de Tamaya"},{"$f":"IFERROR(VLOOKUP(Tabla_SERIED_12_5[[#This Row],[IdEstablecimiento]],'[1]Establecimiento 2023'!$A$1:$E$183,5,FALSE),0)","v":"04301-Ovalle"},"15900050","2022-12-20T09:58:33",1,1,{"$nulls":3},1]
[{"$nulls":23},11,"5",2022,"105315",{"$f":"IFERROR(VLOOKUP(Tabla_SERIED_12_5[[#This Row],[IdEstablecimiento]],'[1]Establecimiento 2023'!$A$1:$E$183,3,FALSE),0)","v":"105315-Centro de Salud Familiar Cerrillos de Tamaya"},{"$f":"IFERROR(VLOOKUP(Tabla_SERIED_12_5[[#This Row],[IdEstablecimiento]],'[1]Establecimiento 2023'!$A$1:$E$183,5,FALSE),0)","v":"04301-Ovalle"},"16090300","2022-12-20T09:58:33",264,264]
[{"$nulls":23},11,"5",2022,"105317",{"$f":"IFERROR(VLOOKUP(Tabla_SERIED_12_5[[#This Row],[IdEstablecimiento]],'[1]Establecimiento 2023'!$A$1:$E$183,3,FALSE),0)","v":"105317-Centro de Salud Familiar Jorge Jordán Domic"},{"$f":"IFERROR(VLOOKUP(Tabla_SERIED_12_5[[#This Row],[IdEstablecimiento]],'[1]Establecimiento 2023'!$A$1:$E$183,5,FALSE),0)","v":"04301-Ovalle"},"15010400","2022-12-20T09:58:43",16,{"$nulls":5},6,10]
[{"$nulls":23},11,"5",2022,"105317",{"$f":"IFERROR(VLOOKUP(Tabla_SERIED_12_5[[#This Row],[IdEstablecimiento]],'[1]Establecimiento 2023'!$A$1:$E$183,3,FALSE),0)","v":"105317-Centro de Salud Familiar Jorge Jordán Domic"},{"$f":"IFERROR(VLOOKUP(Tabla_SERIED_12_5[[#This Row],[IdEstablecimiento]],'[1]Establecimiento 2023'!$A$1:$E$183,5,FALSE),0)","v":"04301-Ovalle"},"15050500","2022-12-20T09:58:43",9,7,2,2,2,5]
[{"$nulls":23},11,"5",2022,"105317",{"$f":"IFERROR(VLOOKUP(Tabla_SERIED_12_5[[#This Row],[IdEstablecimiento]],'[1]Establecimiento 2023'!$A$1:$E$183,3,FALSE),0)","v":"105317-Centro de Salud Familiar Jorge Jordán Domic"},{"$f":"IFERROR(VLOOKUP(Tabla_SERIED_12_5[[#This Row],[IdEstablecimiento]],'[1]Establecimiento 2023'!$A$1:$E$183,5,FALSE),0)","v":"04301-Ovalle"},"16200230","2022-12-20T09:58:43",2,1,1,0,0]
[{"$nulls":23},11,"5",2022,"105318",{"$f":"IFERROR(VLOOKUP(Tabla_SERIED_12_5[[#This Row],[IdEstablecimiento]],'[1]Establecimiento 2023'!$A$1:$E$183,3,FALSE),0)","v":"105318-Centro de Salud Familiar El Palqui"},{"$f":"IFERROR(VLOOKUP(Tabla_SERIED_12_5[[#This Row],[IdEstablecimiento]],'[1]Establecimiento 2023'!$A$1:$E$183,5,FALSE),0)","v":"04303-Monte Patria"},"15900020","2022-12-20T09:58:56",10.8,1.8,9]
[{"$nulls":23},11,"5",2022,"105318",{"$f":"IFERROR(VLOOKUP(Tabla_SERIED_12_5[[#This Row],[IdEstablecimiento]],'[1]Establecimiento 2023'!$A$1:$E$183,3,FALSE),0)","v":"105318-Centro de Salud Familiar El Palqui"},{"$f":"IFERROR(VLOOKUP(Tabla_SERIED_12_5[[#This Row],[IdEstablecimiento]],'[1]Establecimiento 2023'!$A$1:$E$183,5,FALSE),0)","v":"04303-Monte Patria"},"16100300","2022-12-20T09:58:56",283,128,155,9,28]
[{"$nulls":23},11,"5",2022,"105319",{"$f":"IFERROR(VLOOKUP(Tabla_SERIED_12_5[[#This Row],[IdEstablecimiento]],'[1]Establecimiento 2023'!$A$1:$E$183,3,FALSE),0)","v":"105319-Centro de Salud Familiar Cardenal Raúl Silva Henríquez de La Serena"},{"$f":"IFERROR(VLOOKUP(Tabla_SERIED_12_5[[#This Row],[IdEstablecimiento]],'[1]Establecimiento 2023'!$A$1:$E$183,5,FALSE),0)","v":"04101-La Serena"},"15010500","2022-12-20T09:59:07",4,{"$nulls":5},4]
[{"$nulls":23},11,"5",2022,"105319",{"$f":"IFERROR(VLOOKUP(Tabla_SERIED_12_5[[#This Row],[IdEstablecimiento]],'[1]Establecimiento 2023'!$A$1:$E$183,3,FALSE),0)","v":"105319-Centro de Salud Familiar Cardenal Raúl Silva Henríquez de La Serena"},{"$f":"IFERROR(VLOOKUP(Tabla_SERIED_12_5[[#This Row],[IdEstablecimiento]],'[1]Establecimiento 2023'!$A$1:$E$183,5,FALSE),0)","v":"04101-La Serena"},"16200210","2022-12-20T09:59:07",43,43]
[{"$nulls":23},11,"5",2022,"105321",{"$f":"IFERROR(VLOOKUP(Tabla_SERIED_12_5[[#This Row],[IdEstablecimiento]],'[1]Establecimiento 2023'!$A$1:$E$183,3,FALSE),0)","v":"105321-Centro de Salud Familiar Tongoy"},{"$f":"IFERROR(VLOOKUP(Tabla_SERIED_12_5[[#This Row],[IdEstablecimiento]],'[1]Establecimiento 2023'!$A$1:$E$183,5,FALSE),0)","v":"04102-Coquimbo"},"15010100","2022-12-20T09:59:25",52,{"$nulls":3},52]
[{"$nulls":23},11,"5",2022,"105321",{"$f":"IFERROR(VLOOKUP(Tabla_SERIED_12_5[[#This Row],[IdEstablecimiento]],'[1]Establecimiento 2023'!$A$1:$E$183,3,FALSE),0)","v":"105321-Centro de Salud Familiar Tongoy"},{"$f":"IFERROR(VLOOKUP(Tabla_SERIED_12_5[[#This Row],[IdEstablecimiento]],'[1]Establecimiento 2023'!$A$1:$E$183,5,FALSE),0)","v":"04102-Coquimbo"},"15010500","2022-12-20T09:59:25",8,null,null,0,4,0,4]
[{"$nulls":23},11,"5",2022,"105321",{"$f":"IFERROR(VLOOKUP(Tabla_SERIED_12_5[[#This Row],[IdEstablecimiento]],'[1]Establecimiento 2023'!$A$1:$E$183,3,FALSE),0)","v":"105321-Centro de Salud Familiar Tongoy"},{"$f":"IFERROR(VLOOKUP(Tabla_SERIED_12_5[[#This Row],[IdEstablecimiento]],'[1]Establecimiento 2023'!$A$1:$E$183,5,FALSE),0)","v":"04102-Coquimbo"},"16200210","2022-12-20T09:59:25",7,7]
[{"$nulls":23},11,"5",2022,"105322",{"$f":"IFERROR(VLOOKUP(Tabla_SERIED_12_5[[#This Row],[IdEstablecimiento]],'[1]Establecimiento 2023'!$A$1:$E$183,3,FALSE),0)","v":"105322-Centro de Salud Familiar Marcos Macuada"},{"$f":"IFERROR(VLOOKUP(Tabla_SERIED_12_5[[#This Row],[IdEstablecimiento]],'[1]Establecimiento 2023'!$A$1:$E$183,5,FALSE),0)","v":"04301-Ovalle"},"15080009","2022-12-20T09:59:38",4,{"$nulls":8},3,0,1,0]
[{"$nulls":23},11,"5",2022,"105322",{"$f":"IFERROR(VLOOKUP(Tabla_SERIED_12_5[[#This Row],[IdEstablecimiento]],'[1]Establecimiento 2023'!$A$1:$E$183,3,FALSE),0)","v":"105322-Centro de Salud Familiar Marcos Macuada"},{"$f":"IFERROR(VLOOKUP(Tabla_SERIED_12_5[[#This Row],[IdEstablecimiento]],'[1]Establecimiento 2023'!$A$1:$E$183,5,FALSE),0)","v":"04301-Ovalle"},"15020100","2022-12-20T09:59:38",11,0,1,0,10,0]
[{"$nulls":23},11,"5",2022,"105322",{"$f":"IFERROR(VLOOKUP(Tabla_SERIED_12_5[[#This Row],[IdEstablecimiento]],'[1]Establecimiento 2023'!$A$1:$E$183,3,FALSE),0)","v":"105322-Centro de Salud Familiar Marcos Macuada"},{"$f":"IFERROR(VLOOKUP(Tabla_SERIED_12_5[[#This Row],[IdEstablecimiento]],'[1]Establecimiento 2023'!$A$1:$E$183,5,FALSE),0)","v":"04301-Ovalle"},"16200220","2022-12-20T09:59:38",37,18,19,0,0]
[{"$nulls":23},11,"5",2022,"105323",{"$f":"IFERROR(VLOOKUP(Tabla_SERIED_12_5[[#This Row],[IdEstablecimiento]],'[1]Establecimiento 2023'!$A$1:$E$183,3,FALSE),0)","v":"105323-Centro de Salud Familiar Dr. Sergio Aguilar Delgado"},{"$f":"IFERROR(VLOOKUP(Tabla_SERIED_12_5[[#This Row],[IdEstablecimiento]],'[1]Establecimiento 2023'!$A$1:$E$183,5,FALSE),0)","v":"04102-Coquimbo"},"15010500","2022-12-20T09:59:49",29,null,1,4,8,2,10,4]
[{"$nulls":23},11,"5",2022,"105323",{"$f":"IFERROR(VLOOKUP(Tabla_SERIED_12_5[[#This Row],[IdEstablecimiento]],'[1]Establecimiento 2023'!$A$1:$E$183,3,FALSE),0)","v":"105323-Centro de Salud Familiar Dr. Sergio Aguilar Delgado"},{"$f":"IFERROR(VLOOKUP(Tabla_SERIED_12_5[[#This Row],[IdEstablecimiento]],'[1]Establecimiento 2023'!$A$1:$E$183,5,FALSE),0)","v":"04102-Coquimbo"},"15020100","2022-12-20T09:59:49",7,null,1,6]
[{"$nulls":23},11,"5",2022,"105323",{"$f":"IFERROR(VLOOKUP(Tabla_SERIED_12_5[[#This Row],[IdEstablecimiento]],'[1]Establecimiento 2023'!$A$1:$E$183,3,FALSE),0)","v":"105323-Centro de Salud Familiar Dr. Sergio Aguilar Delgado"},{"$f":"IFERROR(VLOOKUP(Tabla_SERIED_12_5[[#This Row],[IdEstablecimiento]],'[1]Establecimiento 2023'!$A$1:$E$183,5,FALSE),0)","v":"04102-Coquimbo"},"15020200","2022-12-20T09:59:49",40,{"$nulls":4},12,12,16]
[{"$nulls":23},11,"5",2022,"105323",{"$f":"IFERROR(VLOOKUP(Tabla_SERIED_12_5[[#This Row],[IdEstablecimiento]],'[1]Establecimiento 2023'!$A$1:$E$183,3,FALSE),0)","v":"105323-Centro de Salud Familiar Dr. Sergio Aguilar Delgado"},{"$f":"IFERROR(VLOOKUP(Tabla_SERIED_12_5[[#This Row],[IdEstablecimiento]],'[1]Establecimiento 2023'!$A$1:$E$183,5,FALSE),0)","v":"04102-Coquimbo"},"16200220","2022-12-20T09:59:49",35,18,17,8,9]
[{"$nulls":23},11,"5",2022,"105324",{"$f":"IFERROR(VLOOKUP(Tabla_SERIED_12_5[[#This Row],[IdEstablecimiento]],'[1]Establecimiento 2023'!$A$1:$E$183,3,FALSE),0)","v":"105324-Centro de Salud Familiar Sotaquí"},{"$f":"IFERROR(VLOOKUP(Tabla_SERIED_12_5[[#This Row],[IdEstablecimiento]],'[1]Establecimiento 2023'!$A$1:$E$183,5,FALSE),0)","v":"04301-Ovalle"},"15080009","2022-12-20T10:00:03",3,{"$nulls":8},3]
[{"$nulls":23},11,"5",2022,"105324",{"$f":"IFERROR(VLOOKUP(Tabla_SERIED_12_5[[#This Row],[IdEstablecimiento]],'[1]Establecimiento 2023'!$A$1:$E$183,3,FALSE),0)","v":"105324-Centro de Salud Familiar Sotaquí"},{"$f":"IFERROR(VLOOKUP(Tabla_SERIED_12_5[[#This Row],[IdEstablecimiento]],'[1]Establecimiento 2023'!$A$1:$E$183,5,FALSE),0)","v":"04301-Ovalle"},"16090300","2022-12-20T10:00:03",275,275]
[{"$nulls":23},11,"5",2022,"105325",{"$f":"IFERROR(VLOOKUP(Tabla_SERIED_12_5[[#This Row],[IdEstablecimiento]],'[1]Establecimiento 2023'!$A$1:$E$183,3,FALSE),0)","v":"105325-Centro de Salud Familiar Juan Pablo II (La Serena)"},{"$f":"IFERROR(VLOOKUP(Tabla_SERIED_12_5[[#This Row],[IdEstablecimiento]],'[1]Establecimiento 2023'!$A$1:$E$183,5,FALSE),0)","v":"04101-La Serena"},"15010400","2022-12-20T10:00:17",20,{"$nulls":4},0,16,4]
[{"$nulls":23},11,"5",2022,"105325",{"$f":"IFERROR(VLOOKUP(Tabla_SERIED_12_5[[#This Row],[IdEstablecimiento]],'[1]Establecimiento 2023'!$A$1:$E$183,3,FALSE),0)","v":"105325-Centro de Salud Familiar Juan Pablo II (La Serena)"},{"$f":"IFERROR(VLOOKUP(Tabla_SERIED_12_5[[#This Row],[IdEstablecimiento]],'[1]Establecimiento 2023'!$A$1:$E$183,5,FALSE),0)","v":"04101-La Serena"},"15050500","2022-12-20T10:00:17",8,5,3,2,1,5]
[{"$nulls":23},11,"5",2022,"105325",{"$f":"IFERROR(VLOOKUP(Tabla_SERIED_12_5[[#This Row],[IdEstablecimiento]],'[1]Establecimiento 2023'!$A$1:$E$183,3,FALSE),0)","v":"105325-Centro de Salud Familiar Juan Pablo II (La Serena)"},{"$f":"IFERROR(VLOOKUP(Tabla_SERIED_12_5[[#This Row],[IdEstablecimiento]],'[1]Establecimiento 2023'!$A$1:$E$183,5,FALSE),0)","v":"04101-La Serena"},"16100300","2022-12-20T10:00:17",229,66,163,8,475]
[{"$nulls":23},11,"5",2022,"105326",{"$f":"IFERROR(VLOOKUP(Tabla_SERIED_12_5[[#This Row],[IdEstablecimiento]],'[1]Establecimiento 2023'!$A$1:$E$183,3,FALSE),0)","v":"105326-Centro de Salud Familiar Villa San Rafael de Rozas"},{"$f":"IFERROR(VLOOKUP(Tabla_SERIED_12_5[[#This Row],[IdEstablecimiento]],'[1]Establecimiento 2023'!$A$1:$E$183,5,FALSE),0)","v":"04201-Illapel"},"15010500","2022-12-20T10:00:28",10,null,null,2,null,2,4,2]
[{"$nulls":23},11,"5",2022,"105326",{"$f":"IFERROR(VLOOKUP(Tabla_SERIED_12_5[[#This Row],[IdEstablecimiento]],'[1]Establecimiento 2023'!$A$1:$E$183,3,FALSE),0)","v":"105326-Centro de Salud Familiar Villa San Rafael de Rozas"},{"$f":"IFERROR(VLOOKUP(Tabla_SERIED_12_5[[#This Row],[IdEstablecimiento]],'[1]Establecimiento 2023'!$A$1:$E$183,5,FALSE),0)","v":"04201-Illapel"},"15900020","2022-12-20T10:00:28",4500,null,4500]
[{"$nulls":23},11,"5",2022,"105326",{"$f":"IFERROR(VLOOKUP(Tabla_SERIED_12_5[[#This Row],[IdEstablecimiento]],'[1]Establecimiento 2023'!$A$1:$E$183,3,FALSE),0)","v":"105326-Centro de Salud Familiar Villa San Rafael de Rozas"},{"$f":"IFERROR(VLOOKUP(Tabla_SERIED_12_5[[#This Row],[IdEstablecimiento]],'[1]Establecimiento 2023'!$A$1:$E$183,5,FALSE),0)","v":"04201-Illapel"},"16090300","2022-12-20T10:00:28",220,220]
[{"$nulls":23},11,"5",2022,"105400",{"$f":"IFERROR(VLOOKUP(Tabla_SERIED_12_5[[#This Row],[IdEstablecimiento]],'[1]Establecimiento 2023'!$A$1:$E$183,3,FALSE),0)","v":"105400-Posta de Salud Rural Algarrobito"},{"$f":"IFERROR(VLOOKUP(Tabla_SERIED_12_5[[#This Row],[IdEstablecimiento]],'[1]Establecimiento 2023'!$A$1:$E$183,5,FALSE),0)","v":"04101-La Serena"},"15010500","2022-12-20T10:00:38",2,{"$nulls":5},2]
[{"$nulls":23},11,"5",2022,"105401",{"$f":"IFERROR(VLOOKUP(Tabla_SERIED_12_5[[#This Row],[IdEstablecimiento]],'[1]Establecimiento 2023'!$A$1:$E$183,3,FALSE),0)","v":"105401-Posta de Salud Rural Las Rojas"},{"$f":"IFERROR(VLOOKUP(Tabla_SERIED_12_5[[#This Row],[IdEstablecimiento]],'[1]Establecimiento 2023'!$A$1:$E$183,5,FALSE),0)","v":"04101-La Serena"},"15080008","2022-12-20T10:00:49",11,{"$nulls":7},6,null,4,null,1]
[{"$nulls":23},11,"5",2022,"105402",{"$f":"IFERROR(VLOOKUP(Tabla_SERIED_12_5[[#This Row],[IdEstablecimiento]],'[1]Establecimiento 2023'!$A$1:$E$183,3,FALSE),0)","v":"105402-Posta de Salud Rural El Romero"},{"$f":"IFERROR(VLOOKUP(Tabla_SERIED_12_5[[#This Row],[IdEstablecimiento]],'[1]Establecimiento 2023'!$A$1:$E$183,5,FALSE),0)","v":"04101-La Serena"},"15080008","2022-12-20T10:01:02",9,{"$nulls":7},3,null,4,null,2]
[{"$nulls":23},11,"5",2022,"105405",{"$f":"IFERROR(VLOOKUP(Tabla_SERIED_12_5[[#This Row],[IdEstablecimiento]],'[1]Establecimiento 2023'!$A$1:$E$183,3,FALSE),0)","v":"105405-Posta de Salud Rural Guanaqueros"},{"$f":"IFERROR(VLOOKUP(Tabla_SERIED_12_5[[#This Row],[IdEstablecimiento]],'[1]Establecimiento 2023'!$A$1:$E$183,5,FALSE),0)","v":"04102-Coquimbo"},"15010300","2022-12-20T10:01:27",2,{"$nulls":3},2]
[{"$nulls":23},11,"5",2022,"105405",{"$f":"IFERROR(VLOOKUP(Tabla_SERIED_12_5[[#This Row],[IdEstablecimiento]],'[1]Establecimiento 2023'!$A$1:$E$183,3,FALSE),0)","v":"105405-Posta de Salud Rural Guanaqueros"},{"$f":"IFERROR(VLOOKUP(Tabla_SERIED_12_5[[#This Row],[IdEstablecimiento]],'[1]Establecimiento 2023'!$A$1:$E$183,5,FALSE),0)","v":"04102-Coquimbo"},"16200220","2022-12-20T10:01:27",1,null,1]
[{"$nulls":23},11,"5",2022,"105410",{"$f":"IFERROR(VLOOKUP(Tabla_SERIED_12_5[[#This Row],[IdEstablecimiento]],'[1]Establecimiento 2023'!$A$1:$E$183,3,FALSE),0)","v":"105410-Posta de Salud Rural Hurtado"},{"$f":"IFERROR(VLOOKUP(Tabla_SERIED_12_5[[#This Row],[IdEstablecimiento]],'[1]Establecimiento 2023'!$A$1:$E$183,5,FALSE),0)","v":"04305-Río Hurtado"},"15080008","2022-12-20T10:02:15",1,{"$nulls":7},1]
[{"$nulls":23},11,"5",2022,"105410",{"$f":"IFERROR(VLOOKUP(Tabla_SERIED_12_5[[#This Row],[IdEstablecimiento]],'[1]Establecimiento 2023'!$A$1:$E$183,3,FALSE),0)","v":"105410-Posta de Salud Rural Hurtado"},{"$f":"IFERROR(VLOOKUP(Tabla_SERIED_12_5[[#This Row],[IdEstablecimiento]],'[1]Establecimiento 2023'!$A$1:$E$183,5,FALSE),0)","v":"04305-Río Hurtado"},"15050100","2022-12-20T10:02:15",6,1,5,{"$nulls":5},3,2,1]
[{"$nulls":23},10,"5",2022,"105437",{"$f":"IFERROR(VLOOKUP(Tabla_SERIED_12_5[[#This Row],[IdEstablecimiento]],'[1]Establecimiento 2023'!$A$1:$E$183,3,FALSE),0)","v":"105437-Posta de Salud Rural Chalinga"},{"$f":"IFERROR(VLOOKUP(Tabla_SERIED_12_5[[#This Row],[IdEstablecimiento]],'[1]Establecimiento 2023'!$A$1:$E$183,5,FALSE),0)","v":"04301-Ovalle"},"16200100","2022-12-20T11:11:14",2,1,1]
[{"$nulls":23},11,"5",2022,"105413",{"$f":"IFERROR(VLOOKUP(Tabla_SERIED_12_5[[#This Row],[IdEstablecimiento]],'[1]Establecimiento 2023'!$A$1:$E$183,3,FALSE),0)","v":"105413-Posta de Salud Rural Samo Alto"},{"$f":"IFERROR(VLOOKUP(Tabla_SERIED_12_5[[#This Row],[IdEstablecimiento]],'[1]Establecimiento 2023'!$A$1:$E$183,5,FALSE),0)","v":"04305-Río Hurtado"},"15080008","2022-12-20T10:02:38",2,{"$nulls":7},2]
[{"$nulls":23},11,"5",2022,"105414",{"$f":"IFERROR(VLOOKUP(Tabla_SERIED_12_5[[#This Row],[IdEstablecimiento]],'[1]Establecimiento 2023'!$A$1:$E$183,3,FALSE),0)","v":"105414-Posta de Salud Rural Serón"},{"$f":"IFERROR(VLOOKUP(Tabla_SERIED_12_5[[#This Row],[IdEstablecimiento]],'[1]Establecimiento 2023'!$A$1:$E$183,5,FALSE),0)","v":"04305-Río Hurtado"},"15080008","2022-12-20T10:05:21",5,{"$nulls":7},1,null,4]
[{"$nulls":23},11,"5",2022,"105415",{"$f":"IFERROR(VLOOKUP(Tabla_SERIED_12_5[[#This Row],[IdEstablecimiento]],'[1]Establecimiento 2023'!$A$1:$E$183,3,FALSE),0)","v":"105415-Posta de Salud Rural Barraza"},{"$f":"IFERROR(VLOOKUP(Tabla_SERIED_12_5[[#This Row],[IdEstablecimiento]],'[1]Establecimiento 2023'!$A$1:$E$183,5,FALSE),0)","v":"04301-Ovalle"},"16200210","2022-12-20T10:05:33",2,2]
[{"$nulls":23},11,"5",2022,"105416",{"$f":"IFERROR(VLOOKUP(Tabla_SERIED_12_5[[#This Row],[IdEstablecimiento]],'[1]Establecimiento 2023'!$A$1:$E$183,3,FALSE),0)","v":"105416-Posta de Salud Rural Camarico (Ovalle)"},{"$f":"IFERROR(VLOOKUP(Tabla_SERIED_12_5[[#This Row],[IdEstablecimiento]],'[1]Establecimiento 2023'!$A$1:$E$183,5,FALSE),0)","v":"04301-Ovalle"},"15050100","2022-12-20T10:05:43",23,9,14,{"$nulls":3},1,4,10,5,2,null,1]
[{"$nulls":23},11,"5",2022,"105417",{"$f":"IFERROR(VLOOKUP(Tabla_SERIED_12_5[[#This Row],[IdEstablecimiento]],'[1]Establecimiento 2023'!$A$1:$E$183,3,FALSE),0)","v":"105417-Posta de Salud Rural Alcones Bajo"},{"$f":"IFERROR(VLOOKUP(Tabla_SERIED_12_5[[#This Row],[IdEstablecimiento]],'[1]Establecimiento 2023'!$A$1:$E$183,5,FALSE),0)","v":"04301-Ovalle"},"15900010","2022-12-20T10:05:58",5.4,null,5.4]
[{"$nulls":23},11,"5",2022,"105419",{"$f":"IFERROR(VLOOKUP(Tabla_SERIED_12_5[[#This Row],[IdEstablecimiento]],'[1]Establecimiento 2023'!$A$1:$E$183,3,FALSE),0)","v":"105419-Posta de Salud Rural Las Sossas"},{"$f":"IFERROR(VLOOKUP(Tabla_SERIED_12_5[[#This Row],[IdEstablecimiento]],'[1]Establecimiento 2023'!$A$1:$E$183,5,FALSE),0)","v":"04301-Ovalle"},"16090300","2022-12-20T10:06:10",48,48]
[{"$nulls":23},11,"5",2022,"105419",{"$f":"IFERROR(VLOOKUP(Tabla_SERIED_12_5[[#This Row],[IdEstablecimiento]],'[1]Establecimiento 2023'!$A$1:$E$183,3,FALSE),0)","v":"105419-Posta de Salud Rural Las Sossas"},{"$f":"IFERROR(VLOOKUP(Tabla_SERIED_12_5[[#This Row],[IdEstablecimiento]],'[1]Establecimiento 2023'!$A$1:$E$183,5,FALSE),0)","v":"04301-Ovalle"},"16100300","2022-12-20T10:06:10",48,21,27,0,6]
[{"$nulls":23},11,"5",2022,"105422",{"$f":"IFERROR(VLOOKUP(Tabla_SERIED_12_5[[#This Row],[IdEstablecimiento]],'[1]Establecimiento 2023'!$A$1:$E$183,3,FALSE),0)","v":"105422-Posta de Salud Rural Hornillos"},{"$f":"IFERROR(VLOOKUP(Tabla_SERIED_12_5[[#This Row],[IdEstablecimiento]],'[1]Establecimiento 2023'!$A$1:$E$183,5,FALSE),0)","v":"04301-Ovalle"},"16200220","2022-12-20T10:06:22",5,4,1]
[{"$nulls":23},11,"5",2022,"105425",{"$f":"IFERROR(VLOOKUP(Tabla_SERIED_12_5[[#This Row],[IdEstablecimiento]],'[1]Establecimiento 2023'!$A$1:$E$183,3,FALSE),0)","v":"105425-Posta de Salud Rural Chilecito"},{"$f":"IFERROR(VLOOKUP(Tabla_SERIED_12_5[[#This Row],[IdEstablecimiento]],'[1]Establecimiento 2023'!$A$1:$E$183,5,FALSE),0)","v":"04303-Monte Patria"},"16200210","2022-12-20T10:06:35",2,2]
[{"$nulls":23},11,"5",2022,"105427",{"$f":"IFERROR(VLOOKUP(Tabla_SERIED_12_5[[#This Row],[IdEstablecimiento]],'[1]Establecimiento 2023'!$A$1:$E$183,3,FALSE),0)","v":"105427-Posta de Salud Rural Hacienda Valdivia"},{"$f":"IFERROR(VLOOKUP(Tabla_SERIED_12_5[[#This Row],[IdEstablecimiento]],'[1]Establecimiento 2023'!$A$1:$E$183,5,FALSE),0)","v":"04303-Monte Patria"},"16090300","2022-12-20T10:08:10",32,32]
[{"$nulls":23},11,"5",2022,"105428",{"$f":"IFERROR(VLOOKUP(Tabla_SERIED_12_5[[#This Row],[IdEstablecimiento]],'[1]Establecimiento 2023'!$A$1:$E$183,3,FALSE),0)","v":"105428-Posta de Salud Rural Huatulame"},{"$f":"IFERROR(VLOOKUP(Tabla_SERIED_12_5[[#This Row],[IdEstablecimiento]],'[1]Establecimiento 2023'!$A$1:$E$183,5,FALSE),0)","v":"04303-Monte Patria"},"16090300","2022-12-20T10:08:23",74,74]
[{"$nulls":23},11,"5",2022,"105430",{"$f":"IFERROR(VLOOKUP(Tabla_SERIED_12_5[[#This Row],[IdEstablecimiento]],'[1]Establecimiento 2023'!$A$1:$E$183,3,FALSE),0)","v":"105430-Posta de Salud Rural Mialqui"},{"$f":"IFERROR(VLOOKUP(Tabla_SERIED_12_5[[#This Row],[IdEstablecimiento]],'[1]Establecimiento 2023'!$A$1:$E$183,5,FALSE),0)","v":"04303-Monte Patria"},"15050100","2022-12-20T10:08:37",11,3,8,null,null,1,1,2,1,1,2,null,1,1,1]
[{"$nulls":23},11,"5",2022,"105431",{"$f":"IFERROR(VLOOKUP(Tabla_SERIED_12_5[[#This Row],[IdEstablecimiento]],'[1]Establecimiento 2023'!$A$1:$E$183,3,FALSE),0)","v":"105431-Posta de Salud Rural Pedregal"},{"$f":"IFERROR(VLOOKUP(Tabla_SERIED_12_5[[#This Row],[IdEstablecimiento]],'[1]Establecimiento 2023'!$A$1:$E$183,5,FALSE),0)","v":"04303-Monte Patria"},"16200210","2022-12-20T10:08:47",2,2]
[{"$nulls":23},11,"5",2022,"105432",{"$f":"IFERROR(VLOOKUP(Tabla_SERIED_12_5[[#This Row],[IdEstablecimiento]],'[1]Establecimiento 2023'!$A$1:$E$183,3,FALSE),0)","v":"105432-Posta de Salud Rural Rapel (Monte Patria)"},{"$f":"IFERROR(VLOOKUP(Tabla_SERIED_12_5[[#This Row],[IdEstablecimiento]],'[1]Establecimiento 2023'!$A$1:$E$183,5,FALSE),0)","v":"04303-Monte Patria"},"16200210","2022-12-20T10:08:58",8,8]
[{"$nulls":23},11,"5",2022,"105432",{"$f":"IFERROR(VLOOKUP(Tabla_SERIED_12_5[[#This Row],[IdEstablecimiento]],'[1]Establecimiento 2023'!$A$1:$E$183,3,FALSE),0)","v":"105432-Posta de Salud Rural Rapel (Monte Patria)"},{"$f":"IFERROR(VLOOKUP(Tabla_SERIED_12_5[[#This Row],[IdEstablecimiento]],'[1]Establecimiento 2023'!$A$1:$E$183,5,FALSE),0)","v":"04303-Monte Patria"},"16100300","2022-12-20T10:08:58",102,61,41,2,16]
[{"$nulls":23},11,"5",2022,"105434",{"$f":"IFERROR(VLOOKUP(Tabla_SERIED_12_5[[#This Row],[IdEstablecimiento]],'[1]Establecimiento 2023'!$A$1:$E$183,3,FALSE),0)","v":"105434-Posta de Salud Rural San Marcos (Combarbalá)"},{"$f":"IFERROR(VLOOKUP(Tabla_SERIED_12_5[[#This Row],[IdEstablecimiento]],'[1]Establecimiento 2023'!$A$1:$E$183,5,FALSE),0)","v":"04302-Combarbalá"},"15080008","2022-12-20T10:09:20",5,{"$nulls":7},2,null,2,null,1]
[{"$nulls":23},11,"5",2022,"105435",{"$f":"IFERROR(VLOOKUP(Tabla_SERIED_12_5[[#This Row],[IdEstablecimiento]],'[1]Establecimiento 2023'!$A$1:$E$183,3,FALSE),0)","v":"105435-Posta de Salud Rural Tulahuén"},{"$f":"IFERROR(VLOOKUP(Tabla_SERIED_12_5[[#This Row],[IdEstablecimiento]],'[1]Establecimiento 2023'!$A$1:$E$183,5,FALSE),0)","v":"04303-Monte Patria"},"15010200","2022-12-20T10:09:32",46,{"$nulls":4},14,22,10]
[{"$nulls":23},11,"5",2022,"105435",{"$f":"IFERROR(VLOOKUP(Tabla_SERIED_12_5[[#This Row],[IdEstablecimiento]],'[1]Establecimiento 2023'!$A$1:$E$183,3,FALSE),0)","v":"105435-Posta de Salud Rural Tulahuén"},{"$f":"IFERROR(VLOOKUP(Tabla_SERIED_12_5[[#This Row],[IdEstablecimiento]],'[1]Establecimiento 2023'!$A$1:$E$183,5,FALSE),0)","v":"04303-Monte Patria"},"16200220","2022-12-20T10:09:32",2,2,0,0,0]
[{"$nulls":23},11,"5",2022,"105437",{"$f":"IFERROR(VLOOKUP(Tabla_SERIED_12_5[[#This Row],[IdEstablecimiento]],'[1]Establecimiento 2023'!$A$1:$E$183,3,FALSE),0)","v":"105437-Posta de Salud Rural Chalinga"},{"$f":"IFERROR(VLOOKUP(Tabla_SERIED_12_5[[#This Row],[IdEstablecimiento]],'[1]Establecimiento 2023'!$A$1:$E$183,5,FALSE),0)","v":"04301-Ovalle"},"15010100","2022-12-20T10:10:04",4,{"$nulls":3},4]
[{"$nulls":23},11,"5",2022,"105437",{"$f":"IFERROR(VLOOKUP(Tabla_SERIED_12_5[[#This Row],[IdEstablecimiento]],'[1]Establecimiento 2023'!$A$1:$E$183,3,FALSE),0)","v":"105437-Posta de Salud Rural Chalinga"},{"$f":"IFERROR(VLOOKUP(Tabla_SERIED_12_5[[#This Row],[IdEstablecimiento]],'[1]Establecimiento 2023'!$A$1:$E$183,5,FALSE),0)","v":"04301-Ovalle"},"16100300","2022-12-20T10:10:04",120,50,70,null,6]
[{"$nulls":23},11,"5",2022,"105439",{"$f":"IFERROR(VLOOKUP(Tabla_SERIED_12_5[[#This Row],[IdEstablecimiento]],'[1]Establecimiento 2023'!$A$1:$E$183,3,FALSE),0)","v":"105439-Posta de Salud Rural Cerro Blanco"},{"$f":"IFERROR(VLOOKUP(Tabla_SERIED_12_5[[#This Row],[IdEstablecimiento]],'[1]Establecimiento 2023'!$A$1:$E$183,5,FALSE),0)","v":"04301-Ovalle"},"16200210","2022-12-20T10:12:19",5,5]
[{"$nulls":23},11,"5",2022,"105439",{"$f":"IFERROR(VLOOKUP(Tabla_SERIED_12_5[[#This Row],[IdEstablecimiento]],'[1]Establecimiento 2023'!$A$1:$E$183,3,FALSE),0)","v":"105439-Posta de Salud Rural Cerro Blanco"},{"$f":"IFERROR(VLOOKUP(Tabla_SERIED_12_5[[#This Row],[IdEstablecimiento]],'[1]Establecimiento 2023'!$A$1:$E$183,5,FALSE),0)","v":"04301-Ovalle"},"16200240","2022-12-20T10:12:19",1,1]
[{"$nulls":23},11,"5",2022,"105441",{"$f":"IFERROR(VLOOKUP(Tabla_SERIED_12_5[[#This Row],[IdEstablecimiento]],'[1]Establecimiento 2023'!$A$1:$E$183,3,FALSE),0)","v":"105441-Posta de Salud Rural Manquehua"},{"$f":"IFERROR(VLOOKUP(Tabla_SERIED_12_5[[#This Row],[IdEstablecimiento]],'[1]Establecimiento 2023'!$A$1:$E$183,5,FALSE),0)","v":"04302-Combarbalá"},"15050100","2022-12-20T10:12:48",9,6,3,{"$nulls":4},1,4,4]
[{"$nulls":23},11,"5",2022,"105442",{"$f":"IFERROR(VLOOKUP(Tabla_SERIED_12_5[[#This Row],[IdEstablecimiento]],'[1]Establecimiento 2023'!$A$1:$E$183,3,FALSE),0)","v":"105442-Posta de Salud Rural San Pedro de Quiles"},{"$f":"IFERROR(VLOOKUP(Tabla_SERIED_12_5[[#This Row],[IdEstablecimiento]],'[1]Establecimiento 2023'!$A$1:$E$183,5,FALSE),0)","v":"04304-Punitaqui"},"16090300","2022-12-20T10:12:59",25,25]
[{"$nulls":23},11,"5",2022,"105443",{"$f":"IFERROR(VLOOKUP(Tabla_SERIED_12_5[[#This Row],[IdEstablecimiento]],'[1]Establecimiento 2023'!$A$1:$E$183,3,FALSE),0)","v":"105443-Posta de Salud Rural Cárcamo"},{"$f":"IFERROR(VLOOKUP(Tabla_SERIED_12_5[[#This Row],[IdEstablecimiento]],'[1]Establecimiento 2023'!$A$1:$E$183,5,FALSE),0)","v":"04201-Illapel"},"16200210","2022-12-20T10:13:11",7,7]
[{"$nulls":23},11,"5",2022,"105444",{"$f":"IFERROR(VLOOKUP(Tabla_SERIED_12_5[[#This Row],[IdEstablecimiento]],'[1]Establecimiento 2023'!$A$1:$E$183,3,FALSE),0)","v":"105444-Posta de Salud Rural Huintil"},{"$f":"IFERROR(VLOOKUP(Tabla_SERIED_12_5[[#This Row],[IdEstablecimiento]],'[1]Establecimiento 2023'!$A$1:$E$183,5,FALSE),0)","v":"04201-Illapel"},"16100300","2022-12-20T10:13:25",58,28,30]
[{"$nulls":23},11,"5",2022,"105445",{"$f":"IFERROR(VLOOKUP(Tabla_SERIED_12_5[[#This Row],[IdEstablecimiento]],'[1]Establecimiento 2023'!$A$1:$E$183,3,FALSE),0)","v":"105445-Posta de Salud Rural Limáhuida"},{"$f":"IFERROR(VLOOKUP(Tabla_SERIED_12_5[[#This Row],[IdEstablecimiento]],'[1]Establecimiento 2023'!$A$1:$E$183,5,FALSE),0)","v":"04201-Illapel"},"16200220","2022-12-20T10:13:37",4,2,2,null,5]
[{"$nulls":23},11,"5",2022,"105447",{"$f":"IFERROR(VLOOKUP(Tabla_SERIED_12_5[[#This Row],[IdEstablecimiento]],'[1]Establecimiento 2023'!$A$1:$E$183,3,FALSE),0)","v":"105447-Posta de Salud Rural Peralillo Illapel"},{"$f":"IFERROR(VLOOKUP(Tabla_SERIED_12_5[[#This Row],[IdEstablecimiento]],'[1]Establecimiento 2023'!$A$1:$E$183,5,FALSE),0)","v":"04201-Illapel"},"15080008","2022-12-20T10:14:03",6,{"$nulls":7},2,null,4]
[{"$nulls":23},11,"5",2022,"105448",{"$f":"IFERROR(VLOOKUP(Tabla_SERIED_12_5[[#This Row],[IdEstablecimiento]],'[1]Establecimiento 2023'!$A$1:$E$183,3,FALSE),0)","v":"105448-Posta de Salud Rural Santa Virginia"},{"$f":"IFERROR(VLOOKUP(Tabla_SERIED_12_5[[#This Row],[IdEstablecimiento]],'[1]Establecimiento 2023'!$A$1:$E$183,5,FALSE),0)","v":"04201-Illapel"},"15900030","2022-12-20T10:14:15",3.2,null,null,3.2]
[{"$nulls":23},11,"5",2022,"105449",{"$f":"IFERROR(VLOOKUP(Tabla_SERIED_12_5[[#This Row],[IdEstablecimiento]],'[1]Establecimiento 2023'!$A$1:$E$183,3,FALSE),0)","v":"105449-Posta de Salud Rural Tunga Norte"},{"$f":"IFERROR(VLOOKUP(Tabla_SERIED_12_5[[#This Row],[IdEstablecimiento]],'[1]Establecimiento 2023'!$A$1:$E$183,5,FALSE),0)","v":"04201-Illapel"},"16100300","2022-12-20T10:14:28",24,10,14]
[{"$nulls":23},11,"5",2022,"105450",{"$f":"IFERROR(VLOOKUP(Tabla_SERIED_12_5[[#This Row],[IdEstablecimiento]],'[1]Establecimiento 2023'!$A$1:$E$183,3,FALSE),0)","v":"105450-Posta de Salud Rural Mincha Norte"},{"$f":"IFERROR(VLOOKUP(Tabla_SERIED_12_5[[#This Row],[IdEstablecimiento]],'[1]Establecimiento 2023'!$A$1:$E$183,5,FALSE),0)","v":"04202-Canela"},"16090600","2022-12-20T10:14:41",1,1]
[{"$nulls":23},11,"5",2022,"105450",{"$f":"IFERROR(VLOOKUP(Tabla_SERIED_12_5[[#This Row],[IdEstablecimiento]],'[1]Establecimiento 2023'!$A$1:$E$183,3,FALSE),0)","v":"105450-Posta de Salud Rural Mincha Norte"},{"$f":"IFERROR(VLOOKUP(Tabla_SERIED_12_5[[#This Row],[IdEstablecimiento]],'[1]Establecimiento 2023'!$A$1:$E$183,5,FALSE),0)","v":"04202-Canela"},"16200220","2022-12-20T10:14:41",14,6,8,0,0]
[{"$nulls":23},11,"5",2022,"105452",{"$f":"IFERROR(VLOOKUP(Tabla_SERIED_12_5[[#This Row],[IdEstablecimiento]],'[1]Establecimiento 2023'!$A$1:$E$183,3,FALSE),0)","v":"105452-Posta de Salud Rural Cuncumén(Salamanca)"},{"$f":"IFERROR(VLOOKUP(Tabla_SERIED_12_5[[#This Row],[IdEstablecimiento]],'[1]Establecimiento 2023'!$A$1:$E$183,5,FALSE),0)","v":"04204-Salamanca"},"15010200","2022-12-20T10:15:07",46,{"$nulls":5},18,28]
[{"$nulls":23},11,"5",2022,"105453",{"$f":"IFERROR(VLOOKUP(Tabla_SERIED_12_5[[#This Row],[IdEstablecimiento]],'[1]Establecimiento 2023'!$A$1:$E$183,3,FALSE),0)","v":"105453-Posta de Salud Rural Tranquilla"},{"$f":"IFERROR(VLOOKUP(Tabla_SERIED_12_5[[#This Row],[IdEstablecimiento]],'[1]Establecimiento 2023'!$A$1:$E$183,5,FALSE),0)","v":"04204-Salamanca"},"15010200","2022-12-20T10:15:19",52,{"$nulls":4},10,26,16]
[{"$nulls":23},11,"5",2022,"105453",{"$f":"IFERROR(VLOOKUP(Tabla_SERIED_12_5[[#This Row],[IdEstablecimiento]],'[1]Establecimiento 2023'!$A$1:$E$183,3,FALSE),0)","v":"105453-Posta de Salud Rural Tranquilla"},{"$f":"IFERROR(VLOOKUP(Tabla_SERIED_12_5[[#This Row],[IdEstablecimiento]],'[1]Establecimiento 2023'!$A$1:$E$183,5,FALSE),0)","v":"04204-Salamanca"},"16100300","2022-12-20T10:15:19",85,45,40]
[{"$nulls":23},11,"5",2022,"105455",{"$f":"IFERROR(VLOOKUP(Tabla_SERIED_12_5[[#This Row],[IdEstablecimiento]],'[1]Establecimiento 2023'!$A$1:$E$183,3,FALSE),0)","v":"105455-CESFAM Valle Alto"},{"$f":"IFERROR(VLOOKUP(Tabla_SERIED_12_5[[#This Row],[IdEstablecimiento]],'[1]Establecimiento 2023'!$A$1:$E$183,5,FALSE),0)","v":"04204-Salamanca"},"15010200","2022-12-20T10:15:46",34,{"$nulls":4},6,18,10]
[{"$nulls":23},11,"5",2022,"105455",{"$f":"IFERROR(VLOOKUP(Tabla_SERIED_12_5[[#This Row],[IdEstablecimiento]],'[1]Establecimiento 2023'!$A$1:$E$183,3,FALSE),0)","v":"105455-CESFAM Valle Alto"},{"$f":"IFERROR(VLOOKUP(Tabla_SERIED_12_5[[#This Row],[IdEstablecimiento]],'[1]Establecimiento 2023'!$A$1:$E$183,5,FALSE),0)","v":"04204-Salamanca"},"16090300","2022-12-20T10:15:46",38,38]
[{"$nulls":23},11,"5",2022,"105456",{"$f":"IFERROR(VLOOKUP(Tabla_SERIED_12_5[[#This Row],[IdEstablecimiento]],'[1]Establecimiento 2023'!$A$1:$E$183,3,FALSE),0)","v":"105456-Posta de Salud Rural Llimpo"},{"$f":"IFERROR(VLOOKUP(Tabla_SERIED_12_5[[#This Row],[IdEstablecimiento]],'[1]Establecimiento 2023'!$A$1:$E$183,5,FALSE),0)","v":"04204-Salamanca"},"15010500","2022-12-20T10:16:00",2,{"$nulls":5},2]
[{"$nulls":23},11,"5",2022,"105456",{"$f":"IFERROR(VLOOKUP(Tabla_SERIED_12_5[[#This Row],[IdEstablecimiento]],'[1]Establecimiento 2023'!$A$1:$E$183,3,FALSE),0)","v":"105456-Posta de Salud Rural Llimpo"},{"$f":"IFERROR(VLOOKUP(Tabla_SERIED_12_5[[#This Row],[IdEstablecimiento]],'[1]Establecimiento 2023'!$A$1:$E$183,5,FALSE),0)","v":"04204-Salamanca"},"15900020","2022-12-20T10:16:00",1.8,1.8]
[{"$nulls":23},11,"5",2022,"105457",{"$f":"IFERROR(VLOOKUP(Tabla_SERIED_12_5[[#This Row],[IdEstablecimiento]],'[1]Establecimiento 2023'!$A$1:$E$183,3,FALSE),0)","v":"105457-Posta de Salud Rural San Agustín (Salamanca)"},{"$f":"IFERROR(VLOOKUP(Tabla_SERIED_12_5[[#This Row],[IdEstablecimiento]],'[1]Establecimiento 2023'!$A$1:$E$183,5,FALSE),0)","v":"04204-Salamanca"},"15080008","2022-12-20T10:16:58",1,{"$nulls":7},1]
[{"$nulls":23},11,"5",2022,"105458",{"$f":"IFERROR(VLOOKUP(Tabla_SERIED_12_5[[#This Row],[IdEstablecimiento]],'[1]Establecimiento 2023'!$A$1:$E$183,3,FALSE),0)","v":"105458-Posta de Salud Rural Tahuinco"},{"$f":"IFERROR(VLOOKUP(Tabla_SERIED_12_5[[#This Row],[IdEstablecimiento]],'[1]Establecimiento 2023'!$A$1:$E$183,5,FALSE),0)","v":"04204-Salamanca"},"15010100","2022-12-20T10:17:11",14,{"$nulls":3},14]
[{"$nulls":23},11,"5",2022,"105459",{"$f":"IFERROR(VLOOKUP(Tabla_SERIED_12_5[[#This Row],[IdEstablecimiento]],'[1]Establecimiento 2023'!$A$1:$E$183,3,FALSE),0)","v":"105459-Posta de Salud Rural Barrancas"},{"$f":"IFERROR(VLOOKUP(Tabla_SERIED_12_5[[#This Row],[IdEstablecimiento]],'[1]Establecimiento 2023'!$A$1:$E$183,5,FALSE),0)","v":"04302-Combarbalá"},"15050100","2022-12-20T10:17:23",10,6,4,{"$nulls":3},3,1,1,3,{"$nulls":4},2]
[{"$nulls":23},11,"5",2022,"105460",{"$f":"IFERROR(VLOOKUP(Tabla_SERIED_12_5[[#This Row],[IdEstablecimiento]],'[1]Establecimiento 2023'!$A$1:$E$183,3,FALSE),0)","v":"105460-Centro Comunitario de Salud Familiar Cogotí 18"},{"$f":"IFERROR(VLOOKUP(Tabla_SERIED_12_5[[#This Row],[IdEstablecimiento]],'[1]Establecimiento 2023'!$A$1:$E$183,5,FALSE),0)","v":"04302-Combarbalá"},"15010500","2022-12-20T10:17:34",2,{"$nulls":5},2]
[{"$nulls":23},11,"5",2022,"105461",{"$f":"IFERROR(VLOOKUP(Tabla_SERIED_12_5[[#This Row],[IdEstablecimiento]],'[1]Establecimiento 2023'!$A$1:$E$183,3,FALSE),0)","v":"105461-Posta de Salud Rural El Huacho"},{"$f":"IFERROR(VLOOKUP(Tabla_SERIED_12_5[[#This Row],[IdEstablecimiento]],'[1]Establecimiento 2023'!$A$1:$E$183,5,FALSE),0)","v":"04302-Combarbalá"},"15010200","2022-12-20T10:17:46",6,{"$nulls":5},4,2]
[{"$nulls":23},11,"5",2022,"105462",{"$f":"IFERROR(VLOOKUP(Tabla_SERIED_12_5[[#This Row],[IdEstablecimiento]],'[1]Establecimiento 2023'!$A$1:$E$183,3,FALSE),0)","v":"105462-Posta de Salud Rural El Sauce (Combarbalá)"},{"$f":"IFERROR(VLOOKUP(Tabla_SERIED_12_5[[#This Row],[IdEstablecimiento]],'[1]Establecimiento 2023'!$A$1:$E$183,5,FALSE),0)","v":"04302-Combarbalá"},"15900030","2022-12-20T10:17:58",4.4,{"$nulls":4},4.4]
[{"$nulls":23},11,"5",2022,"105463",{"$f":"IFERROR(VLOOKUP(Tabla_SERIED_12_5[[#This Row],[IdEstablecimiento]],'[1]Establecimiento 2023'!$A$1:$E$183,3,FALSE),0)","v":"105463-Posta de Salud Rural Quilitapia"},{"$f":"IFERROR(VLOOKUP(Tabla_SERIED_12_5[[#This Row],[IdEstablecimiento]],'[1]Establecimiento 2023'!$A$1:$E$183,5,FALSE),0)","v":"04302-Combarbalá"},"15080008","2022-12-20T10:18:09",2,{"$nulls":7},2]
[{"$nulls":23},11,"5",2022,"105463",{"$f":"IFERROR(VLOOKUP(Tabla_SERIED_12_5[[#This Row],[IdEstablecimiento]],'[1]Establecimiento 2023'!$A$1:$E$183,3,FALSE),0)","v":"105463-Posta de Salud Rural Quilitapia"},{"$f":"IFERROR(VLOOKUP(Tabla_SERIED_12_5[[#This Row],[IdEstablecimiento]],'[1]Establecimiento 2023'!$A$1:$E$183,5,FALSE),0)","v":"04302-Combarbalá"},"15050100","2022-12-20T10:18:09",12,7,5,{"$nulls":3},1,null,5,4,2]
[{"$nulls":23},11,"5",2022,"105464",{"$f":"IFERROR(VLOOKUP(Tabla_SERIED_12_5[[#This Row],[IdEstablecimiento]],'[1]Establecimiento 2023'!$A$1:$E$183,3,FALSE),0)","v":"105464-Posta de Salud Rural La Ligua"},{"$f":"IFERROR(VLOOKUP(Tabla_SERIED_12_5[[#This Row],[IdEstablecimiento]],'[1]Establecimiento 2023'!$A$1:$E$183,5,FALSE),0)","v":"04302-Combarbalá"},"16090300","2022-12-20T10:18:39",72,72]
[{"$nulls":23},11,"5",2022,"105465",{"$f":"IFERROR(VLOOKUP(Tabla_SERIED_12_5[[#This Row],[IdEstablecimiento]],'[1]Establecimiento 2023'!$A$1:$E$183,3,FALSE),0)","v":"105465-Posta de Salud Rural Ramadilla"},{"$f":"IFERROR(VLOOKUP(Tabla_SERIED_12_5[[#This Row],[IdEstablecimiento]],'[1]Establecimiento 2023'!$A$1:$E$183,5,FALSE),0)","v":"04302-Combarbalá"},"15080008","2022-12-20T10:23:45",2,{"$nulls":7},2]
[{"$nulls":23},11,"5",2022,"105467",{"$f":"IFERROR(VLOOKUP(Tabla_SERIED_12_5[[#This Row],[IdEstablecimiento]],'[1]Establecimiento 2023'!$A$1:$E$183,3,FALSE),0)","v":"105467-Posta de Salud Rural Diaguitas"},{"$f":"IFERROR(VLOOKUP(Tabla_SERIED_12_5[[#This Row],[IdEstablecimiento]],'[1]Establecimiento 2023'!$A$1:$E$183,5,FALSE),0)","v":"04106-Vicuña"},"15010400","2022-12-20T10:24:18",2,{"$nulls":6},2]
[{"$nulls":23},11,"5",2022,"105468",{"$f":"IFERROR(VLOOKUP(Tabla_SERIED_12_5[[#This Row],[IdEstablecimiento]],'[1]Establecimiento 2023'!$A$1:$E$183,3,FALSE),0)","v":"105468-Posta de Salud Rural El Molle"},{"$f":"IFERROR(VLOOKUP(Tabla_SERIED_12_5[[#This Row],[IdEstablecimiento]],'[1]Establecimiento 2023'!$A$1:$E$183,5,FALSE),0)","v":"04106-Vicuña"},"15080008","2022-12-20T10:25:16",3,{"$nulls":7},3]
[{"$nulls":23},11,"5",2022,"105469",{"$f":"IFERROR(VLOOKUP(Tabla_SERIED_12_5[[#This Row],[IdEstablecimiento]],'[1]Establecimiento 2023'!$A$1:$E$183,3,FALSE),0)","v":"105469-Posta de Salud Rural El Tambo (Vicuña)"},{"$f":"IFERROR(VLOOKUP(Tabla_SERIED_12_5[[#This Row],[IdEstablecimiento]],'[1]Establecimiento 2023'!$A$1:$E$183,5,FALSE),0)","v":"04106-Vicuña"},"15900010","2022-12-20T10:25:47",2.7,null,null,2.7]
[{"$nulls":23},11,"5",2022,"105469",{"$f":"IFERROR(VLOOKUP(Tabla_SERIED_12_5[[#This Row],[IdEstablecimiento]],'[1]Establecimiento 2023'!$A$1:$E$183,3,FALSE),0)","v":"105469-Posta de Salud Rural El Tambo (Vicuña)"},{"$f":"IFERROR(VLOOKUP(Tabla_SERIED_12_5[[#This Row],[IdEstablecimiento]],'[1]Establecimiento 2023'!$A$1:$E$183,5,FALSE),0)","v":"04106-Vicuña"},"16100600","2022-12-20T10:25:47",1,0,1,0,0]
[{"$nulls":23},11,"5",2022,"105466",{"$f":"IFERROR(VLOOKUP(Tabla_SERIED_12_5[[#This Row],[IdEstablecimiento]],'[1]Establecimiento 2023'!$A$1:$E$183,3,FALSE),0)","v":"105466-Posta de Salud Rural Valle Hermoso"},{"$f":"IFERROR(VLOOKUP(Tabla_SERIED_12_5[[#This Row],[IdEstablecimiento]],'[1]Establecimiento 2023'!$A$1:$E$183,5,FALSE),0)","v":"04302-Combarbalá"},"15010100","2022-12-20T10:24:04",4,{"$nulls":3},4]
[{"$nulls":23},11,"5",2022,"105466",{"$f":"IFERROR(VLOOKUP(Tabla_SERIED_12_5[[#This Row],[IdEstablecimiento]],'[1]Establecimiento 2023'!$A$1:$E$183,3,FALSE),0)","v":"105466-Posta de Salud Rural Valle Hermoso"},{"$f":"IFERROR(VLOOKUP(Tabla_SERIED_12_5[[#This Row],[IdEstablecimiento]],'[1]Establecimiento 2023'!$A$1:$E$183,5,FALSE),0)","v":"04302-Combarbalá"},"15010200","2022-12-20T10:24:04",14,{"$nulls":5},8,6]
[{"$nulls":23},11,"5",2022,"105471",{"$f":"IFERROR(VLOOKUP(Tabla_SERIED_12_5[[#This Row],[IdEstablecimiento]],'[1]Establecimiento 2023'!$A$1:$E$183,3,FALSE),0)","v":"105471-Posta de Salud Rural Peralillo Vicuña"},{"$f":"IFERROR(VLOOKUP(Tabla_SERIED_12_5[[#This Row],[IdEstablecimiento]],'[1]Establecimiento 2023'!$A$1:$E$183,5,FALSE),0)","v":"04106-Vicuña"},"16090300","2022-12-20T10:26:25",73,73]
[{"$nulls":23},11,"5",2022,"105472",{"$f":"IFERROR(VLOOKUP(Tabla_SERIED_12_5[[#This Row],[IdEstablecimiento]],'[1]Establecimiento 2023'!$A$1:$E$183,3,FALSE),0)","v":"105472-Posta de Salud Rural Rivadavia"},{"$f":"IFERROR(VLOOKUP(Tabla_SERIED_12_5[[#This Row],[IdEstablecimiento]],'[1]Establecimiento 2023'!$A$1:$E$183,5,FALSE),0)","v":"04106-Vicuña"},"15900020","2022-12-20T10:26:40",2.7,null,null,2.7]
[{"$nulls":23},11,"5",2022,"105473",{"$f":"IFERROR(VLOOKUP(Tabla_SERIED_12_5[[#This Row],[IdEstablecimiento]],'[1]Establecimiento 2023'!$A$1:$E$183,3,FALSE),0)","v":"105473-Posta de Salud Rural Talcuna"},{"$f":"IFERROR(VLOOKUP(Tabla_SERIED_12_5[[#This Row],[IdEstablecimiento]],'[1]Establecimiento 2023'!$A$1:$E$183,5,FALSE),0)","v":"04106-Vicuña"},"15010100","2022-12-20T10:28:54",10,{"$nulls":3},10]
[{"$nulls":23},11,"5",2022,"105474",{"$f":"IFERROR(VLOOKUP(Tabla_SERIED_12_5[[#This Row],[IdEstablecimiento]],'[1]Establecimiento 2023'!$A$1:$E$183,3,FALSE),0)","v":"105474-Posta de Salud Rural Chapilca"},{"$f":"IFERROR(VLOOKUP(Tabla_SERIED_12_5[[#This Row],[IdEstablecimiento]],'[1]Establecimiento 2023'!$A$1:$E$183,5,FALSE),0)","v":"04106-Vicuña"},"16090300","2022-12-20T10:31:17",4,4]
[{"$nulls":23},11,"5",2022,"105475",{"$f":"IFERROR(VLOOKUP(Tabla_SERIED_12_5[[#This Row],[IdEstablecimiento]],'[1]Establecimiento 2023'!$A$1:$E$183,3,FALSE),0)","v":"105475-Posta de Salud Rural Horcón (Paiguano)"},{"$f":"IFERROR(VLOOKUP(Tabla_SERIED_12_5[[#This Row],[IdEstablecimiento]],'[1]Establecimiento 2023'!$A$1:$E$183,5,FALSE),0)","v":"04105-Paiguano"},"15050100","2022-12-20T10:31:44",12,2,10,{"$nulls":3},1,1,3,4,null,null,2,null,1]
[{"$nulls":23},11,"5",2022,"105476",{"$f":"IFERROR(VLOOKUP(Tabla_SERIED_12_5[[#This Row],[IdEstablecimiento]],'[1]Establecimiento 2023'!$A$1:$E$183,3,FALSE),0)","v":"105476-Posta de Salud Rural Monte Grande"},{"$f":"IFERROR(VLOOKUP(Tabla_SERIED_12_5[[#This Row],[IdEstablecimiento]],'[1]Establecimiento 2023'!$A$1:$E$183,5,FALSE),0)","v":"04105-Paiguano"},"16200210","2022-12-20T10:32:52",1,1]
[{"$nulls":23},11,"5",2022,"105477",{"$f":"IFERROR(VLOOKUP(Tabla_SERIED_12_5[[#This Row],[IdEstablecimiento]],'[1]Establecimiento 2023'!$A$1:$E$183,3,FALSE),0)","v":"105477-Posta de Salud Rural Pisco Elqui"},{"$f":"IFERROR(VLOOKUP(Tabla_SERIED_12_5[[#This Row],[IdEstablecimiento]],'[1]Establecimiento 2023'!$A$1:$E$183,5,FALSE),0)","v":"04105-Paiguano"},"15050100","2022-12-20T10:34:47",9,4,5,null,null,2,1,null,3,1,{"$nulls":4},2]
[{"$nulls":23},11,"5",2022,"105477",{"$f":"IFERROR(VLOOKUP(Tabla_SERIED_12_5[[#This Row],[IdEstablecimiento]],'[1]Establecimiento 2023'!$A$1:$E$183,3,FALSE),0)","v":"105477-Posta de Salud Rural Pisco Elqui"},{"$f":"IFERROR(VLOOKUP(Tabla_SERIED_12_5[[#This Row],[IdEstablecimiento]],'[1]Establecimiento 2023'!$A$1:$E$183,5,FALSE),0)","v":"04105-Paiguano"},"15050200","2022-12-20T10:34:47",1,null,1,{"$nulls":5},1]
[{"$nulls":23},11,"5",2022,"105478",{"$f":"IFERROR(VLOOKUP(Tabla_SERIED_12_5[[#This Row],[IdEstablecimiento]],'[1]Establecimiento 2023'!$A$1:$E$183,3,FALSE),0)","v":"105478-Posta de Salud Rural Caimanes"},{"$f":"IFERROR(VLOOKUP(Tabla_SERIED_12_5[[#This Row],[IdEstablecimiento]],'[1]Establecimiento 2023'!$A$1:$E$183,5,FALSE),0)","v":"04203-Los Vilos"},"15900050","2022-12-20T10:35:37",1,0,1,0,null,null,1]
[{"$nulls":23},11,"5",2022,"105479",{"$f":"IFERROR(VLOOKUP(Tabla_SERIED_12_5[[#This Row],[IdEstablecimiento]],'[1]Establecimiento 2023'!$A$1:$E$183,3,FALSE),0)","v":"105479-Posta de Salud Rural Guangualí"},{"$f":"IFERROR(VLOOKUP(Tabla_SERIED_12_5[[#This Row],[IdEstablecimiento]],'[1]Establecimiento 2023'!$A$1:$E$183,5,FALSE),0)","v":"04203-Los Vilos"},"16200210","2022-12-20T10:36:51",4,4]
[{"$nulls":23},11,"5",2022,"105480",{"$f":"IFERROR(VLOOKUP(Tabla_SERIED_12_5[[#This Row],[IdEstablecimiento]],'[1]Establecimiento 2023'!$A$1:$E$183,3,FALSE),0)","v":"105480-Posta de Salud Rural Quilimarí"},{"$f":"IFERROR(VLOOKUP(Tabla_SERIED_12_5[[#This Row],[IdEstablecimiento]],'[1]Establecimiento 2023'!$A$1:$E$183,5,FALSE),0)","v":"04203-Los Vilos"},"15050100","2022-12-20T10:37:32",40,13,27,3,null,3,5,5,9,8,5,null,2]
[{"$nulls":23},11,"5",2022,"105481",{"$f":"IFERROR(VLOOKUP(Tabla_SERIED_12_5[[#This Row],[IdEstablecimiento]],'[1]Establecimiento 2023'!$A$1:$E$183,3,FALSE),0)","v":"105481-Posta de Salud Rural Tilama"},{"$f":"IFERROR(VLOOKUP(Tabla_SERIED_12_5[[#This Row],[IdEstablecimiento]],'[1]Establecimiento 2023'!$A$1:$E$183,5,FALSE),0)","v":"04203-Los Vilos"},"15050100","2022-12-20T10:38:56",8,3,5,{"$nulls":3},2,null,1,1,1,null,2,null,1]
[{"$nulls":23},11,"5",2022,"105482",{"$f":"IFERROR(VLOOKUP(Tabla_SERIED_12_5[[#This Row],[IdEstablecimiento]],'[1]Establecimiento 2023'!$A$1:$E$183,3,FALSE),0)","v":"105482-Posta de Salud Rural Canela Alta"},{"$f":"IFERROR(VLOOKUP(Tabla_SERIED_12_5[[#This Row],[IdEstablecimiento]],'[1]Establecimiento 2023'!$A$1:$E$183,5,FALSE),0)","v":"04202-Canela"},"16100300","2022-12-20T10:39:26",85,38,47,0,12]
[{"$nulls":23},11,"5",2022,"105484",{"$f":"IFERROR(VLOOKUP(Tabla_SERIED_12_5[[#This Row],[IdEstablecimiento]],'[1]Establecimiento 2023'!$A$1:$E$183,3,FALSE),0)","v":"105484-Posta de Salud Rural Huentelauquén"},{"$f":"IFERROR(VLOOKUP(Tabla_SERIED_12_5[[#This Row],[IdEstablecimiento]],'[1]Establecimiento 2023'!$A$1:$E$183,5,FALSE),0)","v":"04202-Canela"},"16090300","2022-12-20T10:43:38",48,48]
[{"$nulls":23},11,"5",2022,"105485",{"$f":"IFERROR(VLOOKUP(Tabla_SERIED_12_5[[#This Row],[IdEstablecimiento]],'[1]Establecimiento 2023'!$A$1:$E$183,3,FALSE),0)","v":"105485-Posta de Salud Rural Plan de Hornos"},{"$f":"IFERROR(VLOOKUP(Tabla_SERIED_12_5[[#This Row],[IdEstablecimiento]],'[1]Establecimiento 2023'!$A$1:$E$183,5,FALSE),0)","v":"04201-Illapel"},"16200210","2022-12-20T10:44:00",6,6]
[{"$nulls":23},11,"5",2022,"105485",{"$f":"IFERROR(VLOOKUP(Tabla_SERIED_12_5[[#This Row],[IdEstablecimiento]],'[1]Establecimiento 2023'!$A$1:$E$183,3,FALSE),0)","v":"105485-Posta de Salud Rural Plan de Hornos"},{"$f":"IFERROR(VLOOKUP(Tabla_SERIED_12_5[[#This Row],[IdEstablecimiento]],'[1]Establecimiento 2023'!$A$1:$E$183,5,FALSE),0)","v":"04201-Illapel"},"16100300","2022-12-20T10:44:00",81,35,46]
[{"$nulls":23},11,"5",2022,"105486",{"$f":"IFERROR(VLOOKUP(Tabla_SERIED_12_5[[#This Row],[IdEstablecimiento]],'[1]Establecimiento 2023'!$A$1:$E$183,3,FALSE),0)","v":"105486-Posta de Salud Rural Tunga Sur"},{"$f":"IFERROR(VLOOKUP(Tabla_SERIED_12_5[[#This Row],[IdEstablecimiento]],'[1]Establecimiento 2023'!$A$1:$E$183,5,FALSE),0)","v":"04201-Illapel"},"16100300","2022-12-20T10:44:18",59,26,33]
[{"$nulls":23},11,"5",2022,"105487",{"$f":"IFERROR(VLOOKUP(Tabla_SERIED_12_5[[#This Row],[IdEstablecimiento]],'[1]Establecimiento 2023'!$A$1:$E$183,3,FALSE),0)","v":"105487-Posta de Salud Rural Cañas Uno"},{"$f":"IFERROR(VLOOKUP(Tabla_SERIED_12_5[[#This Row],[IdEstablecimiento]],'[1]Establecimiento 2023'!$A$1:$E$183,5,FALSE),0)","v":"04201-Illapel"},"16100300","2022-12-20T10:45:23",122,52,70]
[{"$nulls":23},11,"5",2022,"105489",{"$f":"IFERROR(VLOOKUP(Tabla_SERIED_12_5[[#This Row],[IdEstablecimiento]],'[1]Establecimiento 2023'!$A$1:$E$183,3,FALSE),0)","v":"105489-Posta de Salud Rural Ramadas de Tulahuén"},{"$f":"IFERROR(VLOOKUP(Tabla_SERIED_12_5[[#This Row],[IdEstablecimiento]],'[1]Establecimiento 2023'!$A$1:$E$183,5,FALSE),0)","v":"04303-Monte Patria"},"15050100","2022-12-20T10:45:44",7,2,5,{"$nulls":3},2,3,2]
[{"$nulls":23},11,"5",2022,"105490",{"$f":"IFERROR(VLOOKUP(Tabla_SERIED_12_5[[#This Row],[IdEstablecimiento]],'[1]Establecimiento 2023'!$A$1:$E$183,3,FALSE),0)","v":"105490-Posta de Salud Rural El Durazno(Combarbalá)"},{"$f":"IFERROR(VLOOKUP(Tabla_SERIED_12_5[[#This Row],[IdEstablecimiento]],'[1]Establecimiento 2023'!$A$1:$E$183,5,FALSE),0)","v":"04302-Combarbalá"},"16200220","2022-12-20T10:45:55",11,6,5,1]
[{"$nulls":23},11,"5",2022,"105491",{"$f":"IFERROR(VLOOKUP(Tabla_SERIED_12_5[[#This Row],[IdEstablecimiento]],'[1]Establecimiento 2023'!$A$1:$E$183,3,FALSE),0)","v":"105491-Posta de Salud Rural Quelén Bajo"},{"$f":"IFERROR(VLOOKUP(Tabla_SERIED_12_5[[#This Row],[IdEstablecimiento]],'[1]Establecimiento 2023'!$A$1:$E$183,5,FALSE),0)","v":"04204-Salamanca"},"16090300","2022-12-20T10:46:06",120,120]
[{"$nulls":23},11,"5",2022,"105492",{"$f":"IFERROR(VLOOKUP(Tabla_SERIED_12_5[[#This Row],[IdEstablecimiento]],'[1]Establecimiento 2023'!$A$1:$E$183,3,FALSE),0)","v":"105492-Posta de Salud Rural Camisa"},{"$f":"IFERROR(VLOOKUP(Tabla_SERIED_12_5[[#This Row],[IdEstablecimiento]],'[1]Establecimiento 2023'!$A$1:$E$183,5,FALSE),0)","v":"04204-Salamanca"},"16200210","2022-12-20T10:46:17",3,3]
[{"$nulls":23},11,"5",2022,"105496",{"$f":"IFERROR(VLOOKUP(Tabla_SERIED_12_5[[#This Row],[IdEstablecimiento]],'[1]Establecimiento 2023'!$A$1:$E$183,3,FALSE),0)","v":"105496-Posta de Salud Rural Pintacura Sur"},{"$f":"IFERROR(VLOOKUP(Tabla_SERIED_12_5[[#This Row],[IdEstablecimiento]],'[1]Establecimiento 2023'!$A$1:$E$183,5,FALSE),0)","v":"04201-Illapel"},"15010100","2022-12-20T10:46:43",2,{"$nulls":3},2]
[{"$nulls":23},11,"5",2022,"105496",{"$f":"IFERROR(VLOOKUP(Tabla_SERIED_12_5[[#This Row],[IdEstablecimiento]],'[1]Establecimiento 2023'!$A$1:$E$183,3,FALSE),0)","v":"105496-Posta de Salud Rural Pintacura Sur"},{"$f":"IFERROR(VLOOKUP(Tabla_SERIED_12_5[[#This Row],[IdEstablecimiento]],'[1]Establecimiento 2023'!$A$1:$E$183,5,FALSE),0)","v":"04201-Illapel"},"16090300","2022-12-20T10:46:43",36,36]
[{"$nulls":23},11,"5",2022,"105497",{"$f":"IFERROR(VLOOKUP(Tabla_SERIED_12_5[[#This Row],[IdEstablecimiento]],'[1]Establecimiento 2023'!$A$1:$E$183,3,FALSE),0)","v":"105497-Posta de Salud Rural Jabonería"},{"$f":"IFERROR(VLOOKUP(Tabla_SERIED_12_5[[#This Row],[IdEstablecimiento]],'[1]Establecimiento 2023'!$A$1:$E$183,5,FALSE),0)","v":"04202-Canela"},"16200220","2022-12-20T10:46:53",3,2,1,0,0]
[{"$nulls":23},11,"5",2022,"105499",{"$f":"IFERROR(VLOOKUP(Tabla_SERIED_12_5[[#This Row],[IdEstablecimiento]],'[1]Establecimiento 2023'!$A$1:$E$183,3,FALSE),0)","v":"105499-Posta de Salud Rural Lambert"},{"$f":"IFERROR(VLOOKUP(Tabla_SERIED_12_5[[#This Row],[IdEstablecimiento]],'[1]Establecimiento 2023'!$A$1:$E$183,5,FALSE),0)","v":"04101-La Serena"},"15010100","2022-12-20T10:47:15",6,{"$nulls":3},6]
[{"$nulls":23},11,"5",2022,"105500",{"$f":"IFERROR(VLOOKUP(Tabla_SERIED_12_5[[#This Row],[IdEstablecimiento]],'[1]Establecimiento 2023'!$A$1:$E$183,3,FALSE),0)","v":"105500-Posta de Salud Rural Caleta Hornos"},{"$f":"IFERROR(VLOOKUP(Tabla_SERIED_12_5[[#This Row],[IdEstablecimiento]],'[1]Establecimiento 2023'!$A$1:$E$183,5,FALSE),0)","v":"04104-La Higuera"},"15080008","2022-12-20T10:47:34",1,{"$nulls":7},1]
[{"$nulls":23},11,"5",2022,"105501",{"$f":"IFERROR(VLOOKUP(Tabla_SERIED_12_5[[#This Row],[IdEstablecimiento]],'[1]Establecimiento 2023'!$A$1:$E$183,3,FALSE),0)","v":"105501-Posta de Salud Rural Arboleda Grande"},{"$f":"IFERROR(VLOOKUP(Tabla_SERIED_12_5[[#This Row],[IdEstablecimiento]],'[1]Establecimiento 2023'!$A$1:$E$183,5,FALSE),0)","v":"04204-Salamanca"},"15900010","2022-12-20T10:47:45",5.4,null,1.8,3.6]
[{"$nulls":23},11,"5",2022,"105501",{"$f":"IFERROR(VLOOKUP(Tabla_SERIED_12_5[[#This Row],[IdEstablecimiento]],'[1]Establecimiento 2023'!$A$1:$E$183,3,FALSE),0)","v":"105501-Posta de Salud Rural Arboleda Grande"},{"$f":"IFERROR(VLOOKUP(Tabla_SERIED_12_5[[#This Row],[IdEstablecimiento]],'[1]Establecimiento 2023'!$A$1:$E$183,5,FALSE),0)","v":"04204-Salamanca"},"16100300","2022-12-20T10:47:45",109,48,61]
[{"$nulls":23},11,"5",2022,"105503",{"$f":"IFERROR(VLOOKUP(Tabla_SERIED_12_5[[#This Row],[IdEstablecimiento]],'[1]Establecimiento 2023'!$A$1:$E$183,3,FALSE),0)","v":"105503-Posta de Salud Rural Tabaqueros"},{"$f":"IFERROR(VLOOKUP(Tabla_SERIED_12_5[[#This Row],[IdEstablecimiento]],'[1]Establecimiento 2023'!$A$1:$E$183,5,FALSE),0)","v":"04305-Río Hurtado"},"16200220","2022-12-20T10:47:55",3,1,2,null,5]
[{"$nulls":23},11,"5",2022,"105505",{"$f":"IFERROR(VLOOKUP(Tabla_SERIED_12_5[[#This Row],[IdEstablecimiento]],'[1]Establecimiento 2023'!$A$1:$E$183,3,FALSE),0)","v":"105505-Posta de Salud Rural Los Choros"},{"$f":"IFERROR(VLOOKUP(Tabla_SERIED_12_5[[#This Row],[IdEstablecimiento]],'[1]Establecimiento 2023'!$A$1:$E$183,5,FALSE),0)","v":"04104-La Higuera"},"15010100","2022-12-20T10:52:35",8,{"$nulls":3},12]
[{"$nulls":23},11,"5",2022,"105505",{"$f":"IFERROR(VLOOKUP(Tabla_SERIED_12_5[[#This Row],[IdEstablecimiento]],'[1]Establecimiento 2023'!$A$1:$E$183,3,FALSE),0)","v":"105505-Posta de Salud Rural Los Choros"},{"$f":"IFERROR(VLOOKUP(Tabla_SERIED_12_5[[#This Row],[IdEstablecimiento]],'[1]Establecimiento 2023'!$A$1:$E$183,5,FALSE),0)","v":"04104-La Higuera"},"15010200","2022-12-20T10:52:35",16,{"$nulls":4},4,8,6]
[{"$nulls":23},11,"5",2022,"105508",{"$f":"IFERROR(VLOOKUP(Tabla_SERIED_12_5[[#This Row],[IdEstablecimiento]],'[1]Establecimiento 2023'!$A$1:$E$183,3,FALSE),0)","v":"105508-Posta de Salud Rural El Parral de Quiles"},{"$f":"IFERROR(VLOOKUP(Tabla_SERIED_12_5[[#This Row],[IdEstablecimiento]],'[1]Establecimiento 2023'!$A$1:$E$183,5,FALSE),0)","v":"04304-Punitaqui"},"15010200","2022-12-20T10:58:44",12,{"$nulls":4},4,4,4]
[{"$nulls":23},11,"5",2022,"105509",{"$f":"IFERROR(VLOOKUP(Tabla_SERIED_12_5[[#This Row],[IdEstablecimiento]],'[1]Establecimiento 2023'!$A$1:$E$183,3,FALSE),0)","v":"105509-Posta de Salud Rural Gualliguaica"},{"$f":"IFERROR(VLOOKUP(Tabla_SERIED_12_5[[#This Row],[IdEstablecimiento]],'[1]Establecimiento 2023'!$A$1:$E$183,5,FALSE),0)","v":"04106-Vicuña"},"15050100","2022-12-20T10:58:57",5,4,1,{"$nulls":4},1,3,1]
[{"$nulls":23},11,"5",2022,"105510",{"$f":"IFERROR(VLOOKUP(Tabla_SERIED_12_5[[#This Row],[IdEstablecimiento]],'[1]Establecimiento 2023'!$A$1:$E$183,3,FALSE),0)","v":"105510-Posta de Salud Rural Recoleta"},{"$f":"IFERROR(VLOOKUP(Tabla_SERIED_12_5[[#This Row],[IdEstablecimiento]],'[1]Establecimiento 2023'!$A$1:$E$183,5,FALSE),0)","v":"04301-Ovalle"},"16200210","2022-12-20T10:59:19",6,6]
[{"$nulls":23},11,"5",2022,"105511",{"$f":"IFERROR(VLOOKUP(Tabla_SERIED_12_5[[#This Row],[IdEstablecimiento]],'[1]Establecimiento 2023'!$A$1:$E$183,3,FALSE),0)","v":"105511-Posta de Salud Rural Los Cóndores"},{"$f":"IFERROR(VLOOKUP(Tabla_SERIED_12_5[[#This Row],[IdEstablecimiento]],'[1]Establecimiento 2023'!$A$1:$E$183,5,FALSE),0)","v":"04203-Los Vilos"},"15900010","2022-12-20T10:59:36",15.3,2.7,12.6]
[{"$nulls":23},11,"5",2022,"105511",{"$f":"IFERROR(VLOOKUP(Tabla_SERIED_12_5[[#This Row],[IdEstablecimiento]],'[1]Establecimiento 2023'!$A$1:$E$183,3,FALSE),0)","v":"105511-Posta de Salud Rural Los Cóndores"},{"$f":"IFERROR(VLOOKUP(Tabla_SERIED_12_5[[#This Row],[IdEstablecimiento]],'[1]Establecimiento 2023'!$A$1:$E$183,5,FALSE),0)","v":"04203-Los Vilos"},"16200220","2022-12-20T10:59:36",2,1,1,null,0]
[{"$nulls":23},11,"5",2022,"105700",{"$f":"IFERROR(VLOOKUP(Tabla_SERIED_12_5[[#This Row],[IdEstablecimiento]],'[1]Establecimiento 2023'!$A$1:$E$183,3,FALSE),0)","v":"105700-Centro Comunitario de Salud Familiar Villa el Indio"},{"$f":"IFERROR(VLOOKUP(Tabla_SERIED_12_5[[#This Row],[IdEstablecimiento]],'[1]Establecimiento 2023'!$A$1:$E$183,5,FALSE),0)","v":"04101-La Serena"},"16200210","2022-12-20T10:59:55",7,7]
[{"$nulls":23},11,"5",2022,"105701",{"$f":"IFERROR(VLOOKUP(Tabla_SERIED_12_5[[#This Row],[IdEstablecimiento]],'[1]Establecimiento 2023'!$A$1:$E$183,3,FALSE),0)","v":"105701-Centro Comunitario de Salud Familiar Villa Alemania"},{"$f":"IFERROR(VLOOKUP(Tabla_SERIED_12_5[[#This Row],[IdEstablecimiento]],'[1]Establecimiento 2023'!$A$1:$E$183,5,FALSE),0)","v":"04101-La Serena"},"15900050","2022-12-20T11:00:06",1,null,1,null,null,1]
[{"$nulls":23},11,"5",2022,"105701",{"$f":"IFERROR(VLOOKUP(Tabla_SERIED_12_5[[#This Row],[IdEstablecimiento]],'[1]Establecimiento 2023'!$A$1:$E$183,3,FALSE),0)","v":"105701-Centro Comunitario de Salud Familiar Villa Alemania"},{"$f":"IFERROR(VLOOKUP(Tabla_SERIED_12_5[[#This Row],[IdEstablecimiento]],'[1]Establecimiento 2023'!$A$1:$E$183,5,FALSE),0)","v":"04101-La Serena"},"16090300","2022-12-20T11:00:06",37,37]
[{"$nulls":23},11,"5",2022,"105702",{"$f":"IFERROR(VLOOKUP(Tabla_SERIED_12_5[[#This Row],[IdEstablecimiento]],'[1]Establecimiento 2023'!$A$1:$E$183,3,FALSE),0)","v":"105702-Centro Comunitario de Salud Familiar Lambert"},{"$f":"IFERROR(VLOOKUP(Tabla_SERIED_12_5[[#This Row],[IdEstablecimiento]],'[1]Establecimiento 2023'!$A$1:$E$183,5,FALSE),0)","v":"04101-La Serena"},"15020200","2022-12-20T11:00:16",2,{"$nulls":5},2]
[{"$nulls":23},11,"5",2022,"105722",{"$f":"IFERROR(VLOOKUP(Tabla_SERIED_12_5[[#This Row],[IdEstablecimiento]],'[1]Establecimiento 2023'!$A$1:$E$183,3,FALSE),0)","v":"105722-Centro Comunitario de Salud Familiar San José de la Dehesa"},{"$f":"IFERROR(VLOOKUP(Tabla_SERIED_12_5[[#This Row],[IdEstablecimiento]],'[1]Establecimiento 2023'!$A$1:$E$183,5,FALSE),0)","v":"04301-Ovalle"},"15010200","2022-12-20T11:00:38",184,{"$nulls":4},48,68,68]
[{"$nulls":23},11,"5",2022,"105722",{"$f":"IFERROR(VLOOKUP(Tabla_SERIED_12_5[[#This Row],[IdEstablecimiento]],'[1]Establecimiento 2023'!$A$1:$E$183,3,FALSE),0)","v":"105722-Centro Comunitario de Salud Familiar San José de la Dehesa"},{"$f":"IFERROR(VLOOKUP(Tabla_SERIED_12_5[[#This Row],[IdEstablecimiento]],'[1]Establecimiento 2023'!$A$1:$E$183,5,FALSE),0)","v":"04301-Ovalle"},"16100300","2022-12-20T11:00:38",165,83,82,4,85]
[{"$nulls":23},11,"5",2022,"105723",{"$f":"IFERROR(VLOOKUP(Tabla_SERIED_12_5[[#This Row],[IdEstablecimiento]],'[1]Establecimiento 2023'!$A$1:$E$183,3,FALSE),0)","v":"105723-Centro Comunitario de Salud Familiar Limarí"},{"$f":"IFERROR(VLOOKUP(Tabla_SERIED_12_5[[#This Row],[IdEstablecimiento]],'[1]Establecimiento 2023'!$A$1:$E$183,5,FALSE),0)","v":"04301-Ovalle"},"15900040","2022-12-20T11:00:49",4.4,null,null,4.4]
[{"$nulls":23},11,"5",2022,"200258",{"$f":"IFERROR(VLOOKUP(Tabla_SERIED_12_5[[#This Row],[IdEstablecimiento]],'[1]Establecimiento 2023'!$A$1:$E$183,3,FALSE),0)","v":"200258-Centro Comunitario de Salud Familiar Los Copihues"},{"$f":"IFERROR(VLOOKUP(Tabla_SERIED_12_5[[#This Row],[IdEstablecimiento]],'[1]Establecimiento 2023'!$A$1:$E$183,5,FALSE),0)","v":"04301-Ovalle"},"15010100","2022-12-20T11:01:16",17,{"$nulls":3},16,{"$nulls":6},1]
[{"$nulls":23},11,"5",2022,"200258",{"$f":"IFERROR(VLOOKUP(Tabla_SERIED_12_5[[#This Row],[IdEstablecimiento]],'[1]Establecimiento 2023'!$A$1:$E$183,3,FALSE),0)","v":"200258-Centro Comunitario de Salud Familiar Los Copihues"},{"$f":"IFERROR(VLOOKUP(Tabla_SERIED_12_5[[#This Row],[IdEstablecimiento]],'[1]Establecimiento 2023'!$A$1:$E$183,5,FALSE),0)","v":"04301-Ovalle"},"15050200","2022-12-20T11:01:16",2,2,0,0,0,0,1,1,0,0,null,0,0,0,0]
[{"$nulls":23},11,"5",2022,"200258",{"$f":"IFERROR(VLOOKUP(Tabla_SERIED_12_5[[#This Row],[IdEstablecimiento]],'[1]Establecimiento 2023'!$A$1:$E$183,3,FALSE),0)","v":"200258-Centro Comunitario de Salud Familiar Los Copihues"},{"$f":"IFERROR(VLOOKUP(Tabla_SERIED_12_5[[#This Row],[IdEstablecimiento]],'[1]Establecimiento 2023'!$A$1:$E$183,5,FALSE),0)","v":"04301-Ovalle"},"16200220","2022-12-20T11:01:16",13,7,6,0,3]
[{"$nulls":23},11,"5",2022,"200273",{"$f":"IFERROR(VLOOKUP(Tabla_SERIED_12_5[[#This Row],[IdEstablecimiento]],'[1]Establecimiento 2023'!$A$1:$E$183,3,FALSE),0)","v":"200273-Centro Comunitario de Salud Familiar Punta Mira"},{"$f":"IFERROR(VLOOKUP(Tabla_SERIED_12_5[[#This Row],[IdEstablecimiento]],'[1]Establecimiento 2023'!$A$1:$E$183,5,FALSE),0)","v":"04102-Coquimbo"},"15010100","2022-12-20T11:01:29",10,{"$nulls":3},10]
[{"$nulls":23},11,"5",2022,"200366",{"$f":"IFERROR(VLOOKUP(Tabla_SERIED_12_5[[#This Row],[IdEstablecimiento]],'[1]Establecimiento 2023'!$A$1:$E$183,3,FALSE),0)","v":"200366-Centro de Salud Familiar Urbano de Illapel"},{"$f":"IFERROR(VLOOKUP(Tabla_SERIED_12_5[[#This Row],[IdEstablecimiento]],'[1]Establecimiento 2023'!$A$1:$E$183,5,FALSE),0)","v":"04201-Illapel"},"15010100","2022-12-20T11:01:41",96,{"$nulls":3},96]
[{"$nulls":23},11,"5",2022,"200366",{"$f":"IFERROR(VLOOKUP(Tabla_SERIED_12_5[[#This Row],[IdEstablecimiento]],'[1]Establecimiento 2023'!$A$1:$E$183,3,FALSE),0)","v":"200366-Centro de Salud Familiar Urbano de Illapel"},{"$f":"IFERROR(VLOOKUP(Tabla_SERIED_12_5[[#This Row],[IdEstablecimiento]],'[1]Establecimiento 2023'!$A$1:$E$183,5,FALSE),0)","v":"04201-Illapel"},"15900030","2022-12-20T11:01:41",24,4.8,null,9.6,2,7.6]
[{"$nulls":23},11,"5",2022,"200366",{"$f":"IFERROR(VLOOKUP(Tabla_SERIED_12_5[[#This Row],[IdEstablecimiento]],'[1]Establecimiento 2023'!$A$1:$E$183,3,FALSE),0)","v":"200366-Centro de Salud Familiar Urbano de Illapel"},{"$f":"IFERROR(VLOOKUP(Tabla_SERIED_12_5[[#This Row],[IdEstablecimiento]],'[1]Establecimiento 2023'!$A$1:$E$183,5,FALSE),0)","v":"04201-Illapel"},"16090300","2022-12-20T11:01:41",527,527]
[{"$nulls":23},11,"5",2022,"200366",{"$f":"IFERROR(VLOOKUP(Tabla_SERIED_12_5[[#This Row],[IdEstablecimiento]],'[1]Establecimiento 2023'!$A$1:$E$183,3,FALSE),0)","v":"200366-Centro de Salud Familiar Urbano de Illapel"},{"$f":"IFERROR(VLOOKUP(Tabla_SERIED_12_5[[#This Row],[IdEstablecimiento]],'[1]Establecimiento 2023'!$A$1:$E$183,5,FALSE),0)","v":"04201-Illapel"},"16100600","2022-12-20T11:01:41",4,2,2,0,0]
[{"$nulls":23},11,"5",2022,"200367",{"$f":"IFERROR(VLOOKUP(Tabla_SERIED_12_5[[#This Row],[IdEstablecimiento]],'[1]Establecimiento 2023'!$A$1:$E$183,3,FALSE),0)","v":"200367-Centro Comunitario de Salud Familiar Colonia Limarí"},{"$f":"IFERROR(VLOOKUP(Tabla_SERIED_12_5[[#This Row],[IdEstablecimiento]],'[1]Establecimiento 2023'!$A$1:$E$183,5,FALSE),0)","v":"04301-Ovalle"},"15060100","2022-12-20T11:01:58",2,0,2,{"$nulls":3},1,1]
[{"$nulls":23},11,"5",2022,"200402",{"$f":"IFERROR(VLOOKUP(Tabla_SERIED_12_5[[#This Row],[IdEstablecimiento]],'[1]Establecimiento 2023'!$A$1:$E$183,3,FALSE),0)","v":"200402-Centro Comunitario de Salud Familiar Arcos de Pinamar"},{"$f":"IFERROR(VLOOKUP(Tabla_SERIED_12_5[[#This Row],[IdEstablecimiento]],'[1]Establecimiento 2023'!$A$1:$E$183,5,FALSE),0)","v":"04101-La Serena"},"15900010","2022-12-20T11:02:09",30.6,1.8,5.4,23.4]
[{"$nulls":23},11,"5",2022,"200402",{"$f":"IFERROR(VLOOKUP(Tabla_SERIED_12_5[[#This Row],[IdEstablecimiento]],'[1]Establecimiento 2023'!$A$1:$E$183,3,FALSE),0)","v":"200402-Centro Comunitario de Salud Familiar Arcos de Pinamar"},{"$f":"IFERROR(VLOOKUP(Tabla_SERIED_12_5[[#This Row],[IdEstablecimiento]],'[1]Establecimiento 2023'!$A$1:$E$183,5,FALSE),0)","v":"04101-La Serena"},"16100300","2022-12-20T11:02:09",50,21,29,1,14]
[{"$nulls":23},11,"5",2022,"200402",{"$f":"IFERROR(VLOOKUP(Tabla_SERIED_12_5[[#This Row],[IdEstablecimiento]],'[1]Establecimiento 2023'!$A$1:$E$183,3,FALSE),0)","v":"200402-Centro Comunitario de Salud Familiar Arcos de Pinamar"},{"$f":"IFERROR(VLOOKUP(Tabla_SERIED_12_5[[#This Row],[IdEstablecimiento]],'[1]Establecimiento 2023'!$A$1:$E$183,5,FALSE),0)","v":"04101-La Serena"},"16200220","2022-12-20T11:02:09",2,1,1,0,1]
[{"$nulls":23},11,"5",2022,"200494",{"$f":"IFERROR(VLOOKUP(Tabla_SERIED_12_5[[#This Row],[IdEstablecimiento]],'[1]Establecimiento 2023'!$A$1:$E$183,3,FALSE),0)","v":"200494-Centro de Salud Familiar El Sauce"},{"$f":"IFERROR(VLOOKUP(Tabla_SERIED_12_5[[#This Row],[IdEstablecimiento]],'[1]Establecimiento 2023'!$A$1:$E$183,5,FALSE),0)","v":"04102-Coquimbo"},"15030100","2022-12-20T11:04:42",6.4,3.2,null,3.2]
[{"$nulls":23},11,"5",2022,"200494",{"$f":"IFERROR(VLOOKUP(Tabla_SERIED_12_5[[#This Row],[IdEstablecimiento]],'[1]Establecimiento 2023'!$A$1:$E$183,3,FALSE),0)","v":"200494-Centro de Salud Familiar El Sauce"},{"$f":"IFERROR(VLOOKUP(Tabla_SERIED_12_5[[#This Row],[IdEstablecimiento]],'[1]Establecimiento 2023'!$A$1:$E$183,5,FALSE),0)","v":"04102-Coquimbo"},"16090300","2022-12-20T11:04:42",319,319]
[{"$nulls":23},11,"5",2022,"200499",{"$f":"IFERROR(VLOOKUP(Tabla_SERIED_12_5[[#This Row],[IdEstablecimiento]],'[1]Establecimiento 2023'!$A$1:$E$183,3,FALSE),0)","v":"200499-Centro de Salud Familiar Rural Pan de Azúcar"},{"$f":"IFERROR(VLOOKUP(Tabla_SERIED_12_5[[#This Row],[IdEstablecimiento]],'[1]Establecimiento 2023'!$A$1:$E$183,5,FALSE),0)","v":"04102-Coquimbo"},"15010400","2022-12-20T11:04:53",2,{"$nulls":5},2]
[{"$nulls":23},11,"5",2022,"200499",{"$f":"IFERROR(VLOOKUP(Tabla_SERIED_12_5[[#This Row],[IdEstablecimiento]],'[1]Establecimiento 2023'!$A$1:$E$183,3,FALSE),0)","v":"200499-Centro de Salud Familiar Rural Pan de Azúcar"},{"$f":"IFERROR(VLOOKUP(Tabla_SERIED_12_5[[#This Row],[IdEstablecimiento]],'[1]Establecimiento 2023'!$A$1:$E$183,5,FALSE),0)","v":"04102-Coquimbo"},"15060200","2022-12-20T11:04:53",1,1,{"$nulls":3},1]
[{"$nulls":23},11,"5",2022,"200538",{"$f":"IFERROR(VLOOKUP(Tabla_SERIED_12_5[[#This Row],[IdEstablecimiento]],'[1]Establecimiento 2023'!$A$1:$E$183,3,FALSE),0)","v":"200538-Centro de Salud Familiar San Isidro Calingasta"},{"$f":"IFERROR(VLOOKUP(Tabla_SERIED_12_5[[#This Row],[IdEstablecimiento]],'[1]Establecimiento 2023'!$A$1:$E$183,5,FALSE),0)","v":"04106-Vicuña"},"15900010","2022-12-20T11:05:06",40.5,2.7,10.8,27]
[{"$nulls":23},11,"5",2022,"200538",{"$f":"IFERROR(VLOOKUP(Tabla_SERIED_12_5[[#This Row],[IdEstablecimiento]],'[1]Establecimiento 2023'!$A$1:$E$183,3,FALSE),0)","v":"200538-Centro de Salud Familiar San Isidro Calingasta"},{"$f":"IFERROR(VLOOKUP(Tabla_SERIED_12_5[[#This Row],[IdEstablecimiento]],'[1]Establecimiento 2023'!$A$1:$E$183,5,FALSE),0)","v":"04106-Vicuña"},"16200210","2022-12-20T11:05:06",2,2]
[{"$nulls":23},11,"5",2022,"200569",{"$f":"IFERROR(VLOOKUP(Tabla_SERIED_12_5[[#This Row],[IdEstablecimiento]],'[1]Establecimiento 2023'!$A$1:$E$183,3,FALSE),0)","v":"200569-Centro de Salud Familiar Fray Jorge"},{"$f":"IFERROR(VLOOKUP(Tabla_SERIED_12_5[[#This Row],[IdEstablecimiento]],'[1]Establecimiento 2023'!$A$1:$E$183,5,FALSE),0)","v":"04301-Ovalle"},"15010400","2022-12-20T11:05:22",24,{"$nulls":4},6,8,10]
[{"$nulls":23},11,"5",2022,"200569",{"$f":"IFERROR(VLOOKUP(Tabla_SERIED_12_5[[#This Row],[IdEstablecimiento]],'[1]Establecimiento 2023'!$A$1:$E$183,3,FALSE),0)","v":"200569-Centro de Salud Familiar Fray Jorge"},{"$f":"IFERROR(VLOOKUP(Tabla_SERIED_12_5[[#This Row],[IdEstablecimiento]],'[1]Establecimiento 2023'!$A$1:$E$183,5,FALSE),0)","v":"04301-Ovalle"},"15010500","2022-12-20T11:05:22",32,null,null,8,null,6,8,10]
[{"$nulls":23},11,"5",2022,"200569",{"$f":"IFERROR(VLOOKUP(Tabla_SERIED_12_5[[#This Row],[IdEstablecimiento]],'[1]Establecimiento 2023'!$A$1:$E$183,3,FALSE),0)","v":"200569-Centro de Salud Familiar Fray Jorge"},{"$f":"IFERROR(VLOOKUP(Tabla_SERIED_12_5[[#This Row],[IdEstablecimiento]],'[1]Establecimiento 2023'!$A$1:$E$183,5,FALSE),0)","v":"04301-Ovalle"},"15020100","2022-12-20T11:05:22",2,{"$nulls":3},2]
[{"$nulls":23},11,"5",2022,"200569",{"$f":"IFERROR(VLOOKUP(Tabla_SERIED_12_5[[#This Row],[IdEstablecimiento]],'[1]Establecimiento 2023'!$A$1:$E$183,3,FALSE),0)","v":"200569-Centro de Salud Familiar Fray Jorge"},{"$f":"IFERROR(VLOOKUP(Tabla_SERIED_12_5[[#This Row],[IdEstablecimiento]],'[1]Establecimiento 2023'!$A$1:$E$183,5,FALSE),0)","v":"04301-Ovalle"},"16200220","2022-12-20T11:05:22",6,2,4,1,1]
[{"$nulls":23},11,"5",2022,"200607",{"$f":"IFERROR(VLOOKUP(Tabla_SERIED_12_5[[#This Row],[IdEstablecimiento]],'[1]Establecimiento 2023'!$A$1:$E$183,3,FALSE),0)","v":"200607-Centro de Salud Familiar Lila Cortés Godoy"},{"$f":"IFERROR(VLOOKUP(Tabla_SERIED_12_5[[#This Row],[IdEstablecimiento]],'[1]Establecimiento 2023'!$A$1:$E$183,5,FALSE),0)","v":"04102-Coquimbo"},"15900020","2022-12-20T11:05:38",0.9,0,0,0.9]
[{"$nulls":23},11,"5",2022,"200607",{"$f":"IFERROR(VLOOKUP(Tabla_SERIED_12_5[[#This Row],[IdEstablecimiento]],'[1]Establecimiento 2023'!$A$1:$E$183,3,FALSE),0)","v":"200607-Centro de Salud Familiar Lila Cortés Godoy"},{"$f":"IFERROR(VLOOKUP(Tabla_SERIED_12_5[[#This Row],[IdEstablecimiento]],'[1]Establecimiento 2023'!$A$1:$E$183,5,FALSE),0)","v":"04102-Coquimbo"},"15080010","2022-12-20T11:05:38",2,{"$nulls":7},0,null,2,0,0]
[{"$nulls":23},11,"5",2022,"200607",{"$f":"IFERROR(VLOOKUP(Tabla_SERIED_12_5[[#This Row],[IdEstablecimiento]],'[1]Establecimiento 2023'!$A$1:$E$183,3,FALSE),0)","v":"200607-Centro de Salud Familiar Lila Cortés Godoy"},{"$f":"IFERROR(VLOOKUP(Tabla_SERIED_12_5[[#This Row],[IdEstablecimiento]],'[1]Establecimiento 2023'!$A$1:$E$183,5,FALSE),0)","v":"04102-Coquimbo"},"16200220","2022-12-20T11:05:38",55,28,27,4,14]
[{"$nulls":23},11,"5",2022,"105411",{"$f":"IFERROR(VLOOKUP(Tabla_SERIED_12_5[[#This Row],[IdEstablecimiento]],'[1]Establecimiento 2023'!$A$1:$E$183,3,FALSE),0)","v":"105411-Posta de Salud Rural Las Breas (Río Hurtado)"},{"$f":"IFERROR(VLOOKUP(Tabla_SERIED_12_5[[#This Row],[IdEstablecimiento]],'[1]Establecimiento 2023'!$A$1:$E$183,5,FALSE),0)","v":"04305-Río Hurtado"},"16100300","2022-12-20T11:08:33",22,11,11,1,11]
[{"$nulls":23},10,"5",2022,"105510",{"$f":"IFERROR(VLOOKUP(Tabla_SERIED_12_5[[#This Row],[IdEstablecimiento]],'[1]Establecimiento 2023'!$A$1:$E$183,3,FALSE),0)","v":"105510-Posta de Salud Rural Recoleta"},{"$f":"IFERROR(VLOOKUP(Tabla_SERIED_12_5[[#This Row],[IdEstablecimiento]],'[1]Establecimiento 2023'!$A$1:$E$183,5,FALSE),0)","v":"04301-Ovalle"},"16200100","2022-12-20T11:13:39",4,3,1]
[{"$nulls":23},10,"5",2022,"105723",{"$f":"IFERROR(VLOOKUP(Tabla_SERIED_12_5[[#This Row],[IdEstablecimiento]],'[1]Establecimiento 2023'!$A$1:$E$183,3,FALSE),0)","v":"105723-Centro Comunitario de Salud Familiar Limarí"},{"$f":"IFERROR(VLOOKUP(Tabla_SERIED_12_5[[#This Row],[IdEstablecimiento]],'[1]Establecimiento 2023'!$A$1:$E$183,5,FALSE),0)","v":"04301-Ovalle"},"16090300","2022-12-20T11:14:39",237,237]
[{"$nulls":23},11,"5",2022,"105301",{"$f":"IFERROR(VLOOKUP(Tabla_SERIED_12_5[[#This Row],[IdEstablecimiento]],'[1]Establecimiento 2023'!$A$1:$E$183,3,FALSE),0)","v":"105301-Centro de Salud Familiar Las Compañías"},{"$f":"IFERROR(VLOOKUP(Tabla_SERIED_12_5[[#This Row],[IdEstablecimiento]],'[1]Establecimiento 2023'!$A$1:$E$183,5,FALSE),0)","v":"04101-La Serena"},"15020200","2022-12-20T11:47:59",10,{"$nulls":4},0,8,2]
[{"$nulls":23},9,"5",2022,"105485",{"$f":"IFERROR(VLOOKUP(Tabla_SERIED_12_5[[#This Row],[IdEstablecimiento]],'[1]Establecimiento 2023'!$A$1:$E$183,3,FALSE),0)","v":"105485-Posta de Salud Rural Plan de Hornos"},{"$f":"IFERROR(VLOOKUP(Tabla_SERIED_12_5[[#This Row],[IdEstablecimiento]],'[1]Establecimiento 2023'!$A$1:$E$183,5,FALSE),0)","v":"04201-Illapel"},"15900010","2022-11-15T14:50:26",6.3,null,null,6.3]
[{"$nulls":23},9,"5",2022,"105486",{"$f":"IFERROR(VLOOKUP(Tabla_SERIED_12_5[[#This Row],[IdEstablecimiento]],'[1]Establecimiento 2023'!$A$1:$E$183,3,FALSE),0)","v":"105486-Posta de Salud Rural Tunga Sur"},{"$f":"IFERROR(VLOOKUP(Tabla_SERIED_12_5[[#This Row],[IdEstablecimiento]],'[1]Establecimiento 2023'!$A$1:$E$183,5,FALSE),0)","v":"04201-Illapel"},"15010200","2022-11-15T14:50:37",10,{"$nulls":4},2,8,0]
[{"$nulls":23},9,"5",2022,"105487",{"$f":"IFERROR(VLOOKUP(Tabla_SERIED_12_5[[#This Row],[IdEstablecimiento]],'[1]Establecimiento 2023'!$A$1:$E$183,3,FALSE),0)","v":"105487-Posta de Salud Rural Cañas Uno"},{"$f":"IFERROR(VLOOKUP(Tabla_SERIED_12_5[[#This Row],[IdEstablecimiento]],'[1]Establecimiento 2023'!$A$1:$E$183,5,FALSE),0)","v":"04201-Illapel"},"15080008","2022-11-15T14:50:48",32,{"$nulls":7},10,null,14,null,8]
[{"$nulls":23},9,"5",2022,"105488",{"$f":"IFERROR(VLOOKUP(Tabla_SERIED_12_5[[#This Row],[IdEstablecimiento]],'[1]Establecimiento 2023'!$A$1:$E$183,3,FALSE),0)","v":"105488-Posta de Salud Rural Espíritu Santo"},{"$f":"IFERROR(VLOOKUP(Tabla_SERIED_12_5[[#This Row],[IdEstablecimiento]],'[1]Establecimiento 2023'!$A$1:$E$183,5,FALSE),0)","v":"04202-Canela"},"15050100","2022-11-15T14:51:00",2,2,{"$nulls":3},1,{"$nulls":3},1]
[{"$nulls":23},9,"5",2022,"105489",{"$f":"IFERROR(VLOOKUP(Tabla_SERIED_12_5[[#This Row],[IdEstablecimiento]],'[1]Establecimiento 2023'!$A$1:$E$183,3,FALSE),0)","v":"105489-Posta de Salud Rural Ramadas de Tulahuén"},{"$f":"IFERROR(VLOOKUP(Tabla_SERIED_12_5[[#This Row],[IdEstablecimiento]],'[1]Establecimiento 2023'!$A$1:$E$183,5,FALSE),0)","v":"04303-Monte Patria"},"15030100","2022-11-15T14:51:10",3.2,null,null,3.2]
[{"$nulls":23},9,"5",2022,"105104",{"$f":"IFERROR(VLOOKUP(Tabla_SERIED_12_5[[#This Row],[IdEstablecimiento]],'[1]Establecimiento 2023'!$A$1:$E$183,3,FALSE),0)","v":"105104-Hospital de Salamanca"},{"$f":"IFERROR(VLOOKUP(Tabla_SERIED_12_5[[#This Row],[IdEstablecimiento]],'[1]Establecimiento 2023'!$A$1:$E$183,5,FALSE),0)","v":"105104-Hospital Salamanca"},"16200220","2022-11-15T14:20:46",5,1,4]
[{"$nulls":23},9,"5",2022,"105105",{"$f":"IFERROR(VLOOKUP(Tabla_SERIED_12_5[[#This Row],[IdEstablecimiento]],'[1]Establecimiento 2023'!$A$1:$E$183,3,FALSE),0)","v":"105105-Hospital San Juan de Dios (Combarbalá)"},{"$f":"IFERROR(VLOOKUP(Tabla_SERIED_12_5[[#This Row],[IdEstablecimiento]],'[1]Establecimiento 2023'!$A$1:$E$183,5,FALSE),0)","v":"105105-Hospital Combarbalá"},"15900010","2022-11-15T14:20:59",27,2.7,9,15.3]
[{"$nulls":23},9,"5",2022,"105105",{"$f":"IFERROR(VLOOKUP(Tabla_SERIED_12_5[[#This Row],[IdEstablecimiento]],'[1]Establecimiento 2023'!$A$1:$E$183,3,FALSE),0)","v":"105105-Hospital San Juan de Dios (Combarbalá)"},{"$f":"IFERROR(VLOOKUP(Tabla_SERIED_12_5[[#This Row],[IdEstablecimiento]],'[1]Establecimiento 2023'!$A$1:$E$183,5,FALSE),0)","v":"105105-Hospital Combarbalá"},"15050200","2022-11-15T14:20:59",8,5,3,{"$nulls":3},1,null,6,null,null,1]
[{"$nulls":23},9,"5",2022,"105106",{"$f":"IFERROR(VLOOKUP(Tabla_SERIED_12_5[[#This Row],[IdEstablecimiento]],'[1]Establecimiento 2023'!$A$1:$E$183,3,FALSE),0)","v":"105106-Hospital Dr. José Arraño (Andacollo)"},{"$f":"IFERROR(VLOOKUP(Tabla_SERIED_12_5[[#This Row],[IdEstablecimiento]],'[1]Establecimiento 2023'!$A$1:$E$183,5,FALSE),0)","v":"105106-Hospital Andacollo"},"15010200","2022-11-15T14:22:42",234,{"$nulls":4},38,94,102]
[{"$nulls":23},9,"5",2022,"105106",{"$f":"IFERROR(VLOOKUP(Tabla_SERIED_12_5[[#This Row],[IdEstablecimiento]],'[1]Establecimiento 2023'!$A$1:$E$183,3,FALSE),0)","v":"105106-Hospital Dr. José Arraño (Andacollo)"},{"$f":"IFERROR(VLOOKUP(Tabla_SERIED_12_5[[#This Row],[IdEstablecimiento]],'[1]Establecimiento 2023'!$A$1:$E$183,5,FALSE),0)","v":"105106-Hospital Andacollo"},"15050100","2022-11-15T14:22:42",178,78,100,3,5,12,13,19,47,51,18,null,2,6,2]
[{"$nulls":23},9,"5",2022,"105106",{"$f":"IFERROR(VLOOKUP(Tabla_SERIED_12_5[[#This Row],[IdEstablecimiento]],'[1]Establecimiento 2023'!$A$1:$E$183,3,FALSE),0)","v":"105106-Hospital Dr. José Arraño (Andacollo)"},{"$f":"IFERROR(VLOOKUP(Tabla_SERIED_12_5[[#This Row],[IdEstablecimiento]],'[1]Establecimiento 2023'!$A$1:$E$183,5,FALSE),0)","v":"105106-Hospital Andacollo"},"16100300","2022-11-15T14:22:42",295,128,167,20,110]
[{"$nulls":23},9,"5",2022,"105107",{"$f":"IFERROR(VLOOKUP(Tabla_SERIED_12_5[[#This Row],[IdEstablecimiento]],'[1]Establecimiento 2023'!$A$1:$E$183,3,FALSE),0)","v":"105107-Hospital San Juan de Dios (Vicuña)"},{"$f":"IFERROR(VLOOKUP(Tabla_SERIED_12_5[[#This Row],[IdEstablecimiento]],'[1]Establecimiento 2023'!$A$1:$E$183,5,FALSE),0)","v":"105107-Hospital Vicuña"},"15010400","2022-11-15T14:22:53",14,{"$nulls":5},12,2]
[{"$nulls":23},9,"5",2022,"105107",{"$f":"IFERROR(VLOOKUP(Tabla_SERIED_12_5[[#This Row],[IdEstablecimiento]],'[1]Establecimiento 2023'!$A$1:$E$183,3,FALSE),0)","v":"105107-Hospital San Juan de Dios (Vicuña)"},{"$f":"IFERROR(VLOOKUP(Tabla_SERIED_12_5[[#This Row],[IdEstablecimiento]],'[1]Establecimiento 2023'!$A$1:$E$183,5,FALSE),0)","v":"105107-Hospital Vicuña"},"15050500","2022-11-15T14:22:53",1,null,1,1]
[{"$nulls":23},9,"5",2022,"105107",{"$f":"IFERROR(VLOOKUP(Tabla_SERIED_12_5[[#This Row],[IdEstablecimiento]],'[1]Establecimiento 2023'!$A$1:$E$183,3,FALSE),0)","v":"105107-Hospital San Juan de Dios (Vicuña)"},{"$f":"IFERROR(VLOOKUP(Tabla_SERIED_12_5[[#This Row],[IdEstablecimiento]],'[1]Establecimiento 2023'!$A$1:$E$183,5,FALSE),0)","v":"105107-Hospital Vicuña"},"16100300","2022-11-15T14:22:53",355,151,204,7,81]
[{"$nulls":23},9,"5",2022,"105107",{"$f":"IFERROR(VLOOKUP(Tabla_SERIED_12_5[[#This Row],[IdEstablecimiento]],'[1]Establecimiento 2023'!$A$1:$E$183,3,FALSE),0)","v":"105107-Hospital San Juan de Dios (Vicuña)"},{"$f":"IFERROR(VLOOKUP(Tabla_SERIED_12_5[[#This Row],[IdEstablecimiento]],'[1]Establecimiento 2023'!$A$1:$E$183,5,FALSE),0)","v":"105107-Hospital Vicuña"},"16200220","2022-11-15T14:22:53",5,2,3,0,5]
[{"$nulls":23},6,"5",2022,"200273",{"$f":"IFERROR(VLOOKUP(Tabla_SERIED_12_5[[#This Row],[IdEstablecimiento]],'[1]Establecimiento 2023'!$A$1:$E$183,3,FALSE),0)","v":"200273-Centro Comunitario de Salud Familiar Punta Mira"},{"$f":"IFERROR(VLOOKUP(Tabla_SERIED_12_5[[#This Row],[IdEstablecimiento]],'[1]Establecimiento 2023'!$A$1:$E$183,5,FALSE),0)","v":"04102-Coquimbo"},"16090300","2022-07-14T14:42:23",61,61]
[{"$nulls":23},1,"5",2022,"105409",{"$f":"IFERROR(VLOOKUP(Tabla_SERIED_12_5[[#This Row],[IdEstablecimiento]],'[1]Establecimiento 2023'!$A$1:$E$183,3,FALSE),0)","v":"105409-Posta de Salud Rural El Chañar"},{"$f":"IFERROR(VLOOKUP(Tabla_SERIED_12_5[[#This Row],[IdEstablecimiento]],'[1]Establecimiento 2023'!$A$1:$E$183,5,FALSE),0)","v":"04305-Río Hurtado"},"15060100","2022-02-16T10:54:29",1,null,1,{"$nulls":6},1]
[{"$nulls":23},1,"5",2022,"105410",{"$f":"IFERROR(VLOOKUP(Tabla_SERIED_12_5[[#This Row],[IdEstablecimiento]],'[1]Establecimiento 2023'!$A$1:$E$183,3,FALSE),0)","v":"105410-Posta de Salud Rural Hurtado"},{"$f":"IFERROR(VLOOKUP(Tabla_SERIED_12_5[[#This Row],[IdEstablecimiento]],'[1]Establecimiento 2023'!$A$1:$E$183,5,FALSE),0)","v":"04305-Río Hurtado"},"15060100","2022-02-16T10:54:45",1,0,1,{"$nulls":4},1]
[{"$nulls":23},5,"5",2022,"105318",{"$f":"IFERROR(VLOOKUP(Tabla_SERIED_12_5[[#This Row],[IdEstablecimiento]],'[1]Establecimiento 2023'!$A$1:$E$183,3,FALSE),0)","v":"105318-Centro de Salud Familiar El Palqui"},{"$f":"IFERROR(VLOOKUP(Tabla_SERIED_12_5[[#This Row],[IdEstablecimiento]],'[1]Establecimiento 2023'!$A$1:$E$183,5,FALSE),0)","v":"04303-Monte Patria"},"15050100","2022-06-20T17:04:21",312,132,180,null,6,11,30,34,74,70,56,null,22,null,9]
[{"$nulls":23},3,"5",2022,"105303",{"$f":"IFERROR(VLOOKUP(Tabla_SERIED_12_5[[#This Row],[IdEstablecimiento]],'[1]Establecimiento 2023'!$A$1:$E$183,3,FALSE),0)","v":"105303-Centro de Salud Familiar San Juan"},{"$f":"IFERROR(VLOOKUP(Tabla_SERIED_12_5[[#This Row],[IdEstablecimiento]],'[1]Establecimiento 2023'!$A$1:$E$183,5,FALSE),0)","v":"04102-Coquimbo"},"15080008","2022-04-19T08:02:50",166,{"$nulls":7},92,null,52,4,18]
[{"$nulls":23},9,"5",2022,"105490",{"$f":"IFERROR(VLOOKUP(Tabla_SERIED_12_5[[#This Row],[IdEstablecimiento]],'[1]Establecimiento 2023'!$A$1:$E$183,3,FALSE),0)","v":"105490-Posta de Salud Rural El Durazno(Combarbalá)"},{"$f":"IFERROR(VLOOKUP(Tabla_SERIED_12_5[[#This Row],[IdEstablecimiento]],'[1]Establecimiento 2023'!$A$1:$E$183,5,FALSE),0)","v":"04302-Combarbalá"},"15050100","2022-11-15T14:51:21",5,1,4,{"$nulls":4},1,2,null,1,null,1]
[{"$nulls":23},9,"5",2022,"105491",{"$f":"IFERROR(VLOOKUP(Tabla_SERIED_12_5[[#This Row],[IdEstablecimiento]],'[1]Establecimiento 2023'!$A$1:$E$183,3,FALSE),0)","v":"105491-Posta de Salud Rural Quelén Bajo"},{"$f":"IFERROR(VLOOKUP(Tabla_SERIED_12_5[[#This Row],[IdEstablecimiento]],'[1]Establecimiento 2023'!$A$1:$E$183,5,FALSE),0)","v":"04204-Salamanca"},"15900010","2022-11-15T14:51:31",8,null,2.7,5.3]
[{"$nulls":23},9,"5",2022,"105491",{"$f":"IFERROR(VLOOKUP(Tabla_SERIED_12_5[[#This Row],[IdEstablecimiento]],'[1]Establecimiento 2023'!$A$1:$E$183,3,FALSE),0)","v":"105491-Posta de Salud Rural Quelén Bajo"},{"$f":"IFERROR(VLOOKUP(Tabla_SERIED_12_5[[#This Row],[IdEstablecimiento]],'[1]Establecimiento 2023'!$A$1:$E$183,5,FALSE),0)","v":"04204-Salamanca"},"15010400","2022-11-15T14:51:31",2,{"$nulls":6},2]
[{"$nulls":23},5,"5",2022,"105464",{"$f":"IFERROR(VLOOKUP(Tabla_SERIED_12_5[[#This Row],[IdEstablecimiento]],'[1]Establecimiento 2023'!$A$1:$E$183,3,FALSE),0)","v":"105464-Posta de Salud Rural La Ligua"},{"$f":"IFERROR(VLOOKUP(Tabla_SERIED_12_5[[#This Row],[IdEstablecimiento]],'[1]Establecimiento 2023'!$A$1:$E$183,5,FALSE),0)","v":"04302-Combarbalá"},"15010200","2022-06-20T17:21:05",12,{"$nulls":4},4,2,6]
[{"$nulls":23},1,"5",2022,"105323",{"$f":"IFERROR(VLOOKUP(Tabla_SERIED_12_5[[#This Row],[IdEstablecimiento]],'[1]Establecimiento 2023'!$A$1:$E$183,3,FALSE),0)","v":"105323-Centro de Salud Familiar Dr. Sergio Aguilar Delgado"},{"$f":"IFERROR(VLOOKUP(Tabla_SERIED_12_5[[#This Row],[IdEstablecimiento]],'[1]Establecimiento 2023'!$A$1:$E$183,5,FALSE),0)","v":"04102-Coquimbo"},"15050200","2022-02-16T10:50:56",28,12,16,null,3,4,5,2,5,{"$nulls":3},3,3,3]
[{"$nulls":23},9,"5",2022,"105108",{"$f":"IFERROR(VLOOKUP(Tabla_SERIED_12_5[[#This Row],[IdEstablecimiento]],'[1]Establecimiento 2023'!$A$1:$E$183,3,FALSE),0)","v":"105108-Hospital San Pedro (Los Vilos)"},{"$f":"IFERROR(VLOOKUP(Tabla_SERIED_12_5[[#This Row],[IdEstablecimiento]],'[1]Establecimiento 2023'!$A$1:$E$183,5,FALSE),0)","v":"105108-Hospital Los Vilos"},"15010200","2022-11-15T14:23:05",331,{"$nulls":4},78,132,121]
[{"$nulls":23},9,"5",2022,"105108",{"$f":"IFERROR(VLOOKUP(Tabla_SERIED_12_5[[#This Row],[IdEstablecimiento]],'[1]Establecimiento 2023'!$A$1:$E$183,3,FALSE),0)","v":"105108-Hospital San Pedro (Los Vilos)"},{"$f":"IFERROR(VLOOKUP(Tabla_SERIED_12_5[[#This Row],[IdEstablecimiento]],'[1]Establecimiento 2023'!$A$1:$E$183,5,FALSE),0)","v":"105108-Hospital Los Vilos"},"15900020","2022-11-15T14:23:05",2.7,null,null,2.7]
[{"$nulls":23},9,"5",2022,"105108",{"$f":"IFERROR(VLOOKUP(Tabla_SERIED_12_5[[#This Row],[IdEstablecimiento]],'[1]Establecimiento 2023'!$A$1:$E$183,3,FALSE),0)","v":"105108-Hospital San Pedro (Los Vilos)"},{"$f":"IFERROR(VLOOKUP(Tabla_SERIED_12_5[[#This Row],[IdEstablecimiento]],'[1]Establecimiento 2023'!$A$1:$E$183,5,FALSE),0)","v":"105108-Hospital Los Vilos"},"16100300","2022-11-15T14:23:05",287,120,167,6,73]
[{"$nulls":23},9,"5",2022,"105300",{"$f":"IFERROR(VLOOKUP(Tabla_SERIED_12_5[[#This Row],[IdEstablecimiento]],'[1]Establecimiento 2023'!$A$1:$E$183,3,FALSE),0)","v":"105300-Centro de Salud Familiar Cardenal Caro"},{"$f":"IFERROR(VLOOKUP(Tabla_SERIED_12_5[[#This Row],[IdEstablecimiento]],'[1]Establecimiento 2023'!$A$1:$E$183,5,FALSE),0)","v":"04101-La Serena"},"15900030","2022-11-15T14:23:18",6.8,null,null,6.8]
[{"$nulls":23},9,"5",2022,"105300",{"$f":"IFERROR(VLOOKUP(Tabla_SERIED_12_5[[#This Row],[IdEstablecimiento]],'[1]Establecimiento 2023'!$A$1:$E$183,3,FALSE),0)","v":"105300-Centro de Salud Familiar Cardenal Caro"},{"$f":"IFERROR(VLOOKUP(Tabla_SERIED_12_5[[#This Row],[IdEstablecimiento]],'[1]Establecimiento 2023'!$A$1:$E$183,5,FALSE),0)","v":"04101-La Serena"},"15901200","2022-11-15T14:23:18",73.6,3.6,8,17.2,22.8,22]
[{"$nulls":23},9,"5",2022,"105300",{"$f":"IFERROR(VLOOKUP(Tabla_SERIED_12_5[[#This Row],[IdEstablecimiento]],'[1]Establecimiento 2023'!$A$1:$E$183,3,FALSE),0)","v":"105300-Centro de Salud Familiar Cardenal Caro"},{"$f":"IFERROR(VLOOKUP(Tabla_SERIED_12_5[[#This Row],[IdEstablecimiento]],'[1]Establecimiento 2023'!$A$1:$E$183,5,FALSE),0)","v":"04101-La Serena"},"15901300","2022-11-15T14:23:18",16.4,null,4.4,3.2,8.8]
[{"$nulls":23},9,"5",2022,"105301",{"$f":"IFERROR(VLOOKUP(Tabla_SERIED_12_5[[#This Row],[IdEstablecimiento]],'[1]Establecimiento 2023'!$A$1:$E$183,3,FALSE),0)","v":"105301-Centro de Salud Familiar Las Compañías"},{"$f":"IFERROR(VLOOKUP(Tabla_SERIED_12_5[[#This Row],[IdEstablecimiento]],'[1]Establecimiento 2023'!$A$1:$E$183,5,FALSE),0)","v":"04101-La Serena"},"15010100","2022-11-15T14:23:28",108,{"$nulls":3},108,0]
[{"$nulls":23},4,"5",2022,"105473",{"$f":"IFERROR(VLOOKUP(Tabla_SERIED_12_5[[#This Row],[IdEstablecimiento]],'[1]Establecimiento 2023'!$A$1:$E$183,3,FALSE),0)","v":"105473-Posta de Salud Rural Talcuna"},{"$f":"IFERROR(VLOOKUP(Tabla_SERIED_12_5[[#This Row],[IdEstablecimiento]],'[1]Establecimiento 2023'!$A$1:$E$183,5,FALSE),0)","v":"04106-Vicuña"},"15060100","2022-05-18T15:12:46",1,null,1,{"$nulls":5},1]
[{"$nulls":23},1,"5",2022,"105322",{"$f":"IFERROR(VLOOKUP(Tabla_SERIED_12_5[[#This Row],[IdEstablecimiento]],'[1]Establecimiento 2023'!$A$1:$E$183,3,FALSE),0)","v":"105322-Centro de Salud Familiar Marcos Macuada"},{"$f":"IFERROR(VLOOKUP(Tabla_SERIED_12_5[[#This Row],[IdEstablecimiento]],'[1]Establecimiento 2023'!$A$1:$E$183,5,FALSE),0)","v":"04301-Ovalle"},"15050100","2022-02-16T10:50:40",495,203,292,7,8,38,42,43,126,124,68,null,32,2,5]
[{"$nulls":23},2,"5",2022,"105510",{"$f":"IFERROR(VLOOKUP(Tabla_SERIED_12_5[[#This Row],[IdEstablecimiento]],'[1]Establecimiento 2023'!$A$1:$E$183,3,FALSE),0)","v":"105510-Posta de Salud Rural Recoleta"},{"$f":"IFERROR(VLOOKUP(Tabla_SERIED_12_5[[#This Row],[IdEstablecimiento]],'[1]Establecimiento 2023'!$A$1:$E$183,5,FALSE),0)","v":"04301-Ovalle"},"16200220","2022-03-17T10:03:06",11,6,5]
[{"$nulls":23},3,"5",2022,"105483",{"$f":"IFERROR(VLOOKUP(Tabla_SERIED_12_5[[#This Row],[IdEstablecimiento]],'[1]Establecimiento 2023'!$A$1:$E$183,3,FALSE),0)","v":"105483-Posta de Salud Rural Los Rulos"},{"$f":"IFERROR(VLOOKUP(Tabla_SERIED_12_5[[#This Row],[IdEstablecimiento]],'[1]Establecimiento 2023'!$A$1:$E$183,5,FALSE),0)","v":"04202-Canela"},"16100300","2022-04-19T10:05:49",39,12,27,1,0]
[{"$nulls":23},1,"5",2022,"105323",{"$f":"IFERROR(VLOOKUP(Tabla_SERIED_12_5[[#This Row],[IdEstablecimiento]],'[1]Establecimiento 2023'!$A$1:$E$183,3,FALSE),0)","v":"105323-Centro de Salud Familiar Dr. Sergio Aguilar Delgado"},{"$f":"IFERROR(VLOOKUP(Tabla_SERIED_12_5[[#This Row],[IdEstablecimiento]],'[1]Establecimiento 2023'!$A$1:$E$183,5,FALSE),0)","v":"04102-Coquimbo"},"15060100","2022-02-16T10:50:56",29,18,11,null,null,5,3,2,11,8]
[{"$nulls":23},1,"5",2022,"105324",{"$f":"IFERROR(VLOOKUP(Tabla_SERIED_12_5[[#This Row],[IdEstablecimiento]],'[1]Establecimiento 2023'!$A$1:$E$183,3,FALSE),0)","v":"105324-Centro de Salud Familiar Sotaquí"},{"$f":"IFERROR(VLOOKUP(Tabla_SERIED_12_5[[#This Row],[IdEstablecimiento]],'[1]Establecimiento 2023'!$A$1:$E$183,5,FALSE),0)","v":"04301-Ovalle"},"15010100","2022-02-16T10:51:51",32,null,null,6,24,0,null,null,2]
[{"$nulls":23},1,"5",2022,"105324",{"$f":"IFERROR(VLOOKUP(Tabla_SERIED_12_5[[#This Row],[IdEstablecimiento]],'[1]Establecimiento 2023'!$A$1:$E$183,3,FALSE),0)","v":"105324-Centro de Salud Familiar Sotaquí"},{"$f":"IFERROR(VLOOKUP(Tabla_SERIED_12_5[[#This Row],[IdEstablecimiento]],'[1]Establecimiento 2023'!$A$1:$E$183,5,FALSE),0)","v":"04301-Ovalle"},"15010200","2022-02-16T10:51:51",166,{"$nulls":4},32,66,68]
[{"$nulls":23},2,"5",2022,"105304",{"$f":"IFERROR(VLOOKUP(Tabla_SERIED_12_5[[#This Row],[IdEstablecimiento]],'[1]Establecimiento 2023'!$A$1:$E$183,3,FALSE),0)","v":"105304-Centro de Salud Familiar Santa Cecilia"},{"$f":"IFERROR(VLOOKUP(Tabla_SERIED_12_5[[#This Row],[IdEstablecimiento]],'[1]Establecimiento 2023'!$A$1:$E$183,5,FALSE),0)","v":"04102-Coquimbo"},"15080008","2022-03-17T09:27:26",120,{"$nulls":7},81,null,18,10,11]
[{"$nulls":23},3,"5",2022,"105462",{"$f":"IFERROR(VLOOKUP(Tabla_SERIED_12_5[[#This Row],[IdEstablecimiento]],'[1]Establecimiento 2023'!$A$1:$E$183,3,FALSE),0)","v":"105462-Posta de Salud Rural El Sauce (Combarbalá)"},{"$f":"IFERROR(VLOOKUP(Tabla_SERIED_12_5[[#This Row],[IdEstablecimiento]],'[1]Establecimiento 2023'!$A$1:$E$183,5,FALSE),0)","v":"04302-Combarbalá"},"16090300","2022-04-19T10:00:13",64,64]
[{"$nulls":23},4,"5",2022,"105313",{"$f":"IFERROR(VLOOKUP(Tabla_SERIED_12_5[[#This Row],[IdEstablecimiento]],'[1]Establecimiento 2023'!$A$1:$E$183,3,FALSE),0)","v":"105313-Centro de Salud Familiar Dr. Emilio Schaffhauser"},{"$f":"IFERROR(VLOOKUP(Tabla_SERIED_12_5[[#This Row],[IdEstablecimiento]],'[1]Establecimiento 2023'!$A$1:$E$183,5,FALSE),0)","v":"04101-La Serena"},"15010200","2022-05-18T11:51:54",325,{"$nulls":4},56,154,115]
[{"$nulls":23},6,"5",2022,"105305",{"$f":"IFERROR(VLOOKUP(Tabla_SERIED_12_5[[#This Row],[IdEstablecimiento]],'[1]Establecimiento 2023'!$A$1:$E$183,3,FALSE),0)","v":"105305-Centro de Salud Familiar Tierras Blancas"},{"$f":"IFERROR(VLOOKUP(Tabla_SERIED_12_5[[#This Row],[IdEstablecimiento]],'[1]Establecimiento 2023'!$A$1:$E$183,5,FALSE),0)","v":"04102-Coquimbo"},"15050500","2022-07-14T13:37:13",4,1,3,1,null,3]
[{"$nulls":23},9,"5",2022,"105301",{"$f":"IFERROR(VLOOKUP(Tabla_SERIED_12_5[[#This Row],[IdEstablecimiento]],'[1]Establecimiento 2023'!$A$1:$E$183,3,FALSE),0)","v":"105301-Centro de Salud Familiar Las Compañías"},{"$f":"IFERROR(VLOOKUP(Tabla_SERIED_12_5[[#This Row],[IdEstablecimiento]],'[1]Establecimiento 2023'!$A$1:$E$183,5,FALSE),0)","v":"04101-La Serena"},"15030100","2022-11-15T14:23:28",4,4,0,0]
[{"$nulls":23},9,"5",2022,"105301",{"$f":"IFERROR(VLOOKUP(Tabla_SERIED_12_5[[#This Row],[IdEstablecimiento]],'[1]Establecimiento 2023'!$A$1:$E$183,3,FALSE),0)","v":"105301-Centro de Salud Familiar Las Compañías"},{"$f":"IFERROR(VLOOKUP(Tabla_SERIED_12_5[[#This Row],[IdEstablecimiento]],'[1]Establecimiento 2023'!$A$1:$E$183,5,FALSE),0)","v":"04101-La Serena"},"15050500","2022-11-15T14:23:28",1,1,0,1,0,0]
[{"$nulls":23},9,"5",2022,"105302",{"$f":"IFERROR(VLOOKUP(Tabla_SERIED_12_5[[#This Row],[IdEstablecimiento]],'[1]Establecimiento 2023'!$A$1:$E$183,3,FALSE),0)","v":"105302-Centro de Salud Familiar Pedro Aguirre Cerda"},{"$f":"IFERROR(VLOOKUP(Tabla_SERIED_12_5[[#This Row],[IdEstablecimiento]],'[1]Establecimiento 2023'!$A$1:$E$183,5,FALSE),0)","v":"04101-La Serena"},"15010200","2022-11-15T14:23:38",555,{"$nulls":4},132,246,177]
[{"$nulls":23},9,"5",2022,"105302",{"$f":"IFERROR(VLOOKUP(Tabla_SERIED_12_5[[#This Row],[IdEstablecimiento]],'[1]Establecimiento 2023'!$A$1:$E$183,3,FALSE),0)","v":"105302-Centro de Salud Familiar Pedro Aguirre Cerda"},{"$f":"IFERROR(VLOOKUP(Tabla_SERIED_12_5[[#This Row],[IdEstablecimiento]],'[1]Establecimiento 2023'!$A$1:$E$183,5,FALSE),0)","v":"04101-La Serena"},"15080008","2022-11-15T14:23:38",223,{"$nulls":7},70,null,112,11,30]
[{"$nulls":23},9,"5",2022,"105302",{"$f":"IFERROR(VLOOKUP(Tabla_SERIED_12_5[[#This Row],[IdEstablecimiento]],'[1]Establecimiento 2023'!$A$1:$E$183,3,FALSE),0)","v":"105302-Centro de Salud Familiar Pedro Aguirre Cerda"},{"$f":"IFERROR(VLOOKUP(Tabla_SERIED_12_5[[#This Row],[IdEstablecimiento]],'[1]Establecimiento 2023'!$A$1:$E$183,5,FALSE),0)","v":"04101-La Serena"},"15900040","2022-11-15T14:23:38",11.2,null,6.8,4.4]
[{"$nulls":23},9,"5",2022,"105302",{"$f":"IFERROR(VLOOKUP(Tabla_SERIED_12_5[[#This Row],[IdEstablecimiento]],'[1]Establecimiento 2023'!$A$1:$E$183,3,FALSE),0)","v":"105302-Centro de Salud Familiar Pedro Aguirre Cerda"},{"$f":"IFERROR(VLOOKUP(Tabla_SERIED_12_5[[#This Row],[IdEstablecimiento]],'[1]Establecimiento 2023'!$A$1:$E$183,5,FALSE),0)","v":"04101-La Serena"},"15901300","2022-11-15T14:23:38",12.8,null,null,4.4,3.6,4.8]
[{"$nulls":23},5,"5",2022,"105309",{"$f":"IFERROR(VLOOKUP(Tabla_SERIED_12_5[[#This Row],[IdEstablecimiento]],'[1]Establecimiento 2023'!$A$1:$E$183,3,FALSE),0)","v":"105309-Centro de Salud Familiar Canela"},{"$f":"IFERROR(VLOOKUP(Tabla_SERIED_12_5[[#This Row],[IdEstablecimiento]],'[1]Establecimiento 2023'!$A$1:$E$183,5,FALSE),0)","v":"04202-Canela"},"16200210","2022-06-20T17:02:35",20,20]
[{"$nulls":23},3,"5",2022,"105325",{"$f":"IFERROR(VLOOKUP(Tabla_SERIED_12_5[[#This Row],[IdEstablecimiento]],'[1]Establecimiento 2023'!$A$1:$E$183,3,FALSE),0)","v":"105325-Centro de Salud Familiar Juan Pablo II (La Serena)"},{"$f":"IFERROR(VLOOKUP(Tabla_SERIED_12_5[[#This Row],[IdEstablecimiento]],'[1]Establecimiento 2023'!$A$1:$E$183,5,FALSE),0)","v":"04101-La Serena"},"15900010","2022-04-19T08:11:56",244,23.2,63.2,157.6]
[{"$nulls":23},2,"5",2022,"105315",{"$f":"IFERROR(VLOOKUP(Tabla_SERIED_12_5[[#This Row],[IdEstablecimiento]],'[1]Establecimiento 2023'!$A$1:$E$183,3,FALSE),0)","v":"105315-Centro de Salud Familiar Cerrillos de Tamaya"},{"$f":"IFERROR(VLOOKUP(Tabla_SERIED_12_5[[#This Row],[IdEstablecimiento]],'[1]Establecimiento 2023'!$A$1:$E$183,5,FALSE),0)","v":"04301-Ovalle"},"15900010","2022-03-17T09:30:08",15.2,null,10.4,4.8]
[{"$nulls":23},3,"5",2022,"105107",{"$f":"IFERROR(VLOOKUP(Tabla_SERIED_12_5[[#This Row],[IdEstablecimiento]],'[1]Establecimiento 2023'!$A$1:$E$183,3,FALSE),0)","v":"105107-Hospital San Juan de Dios (Vicuña)"},{"$f":"IFERROR(VLOOKUP(Tabla_SERIED_12_5[[#This Row],[IdEstablecimiento]],'[1]Establecimiento 2023'!$A$1:$E$183,5,FALSE),0)","v":"105107-Hospital Vicuña"},"15900030","2022-04-19T08:00:25",2.8,null,null,2.8]
[{"$nulls":23},5,"5",2022,"105313",{"$f":"IFERROR(VLOOKUP(Tabla_SERIED_12_5[[#This Row],[IdEstablecimiento]],'[1]Establecimiento 2023'!$A$1:$E$183,3,FALSE),0)","v":"105313-Centro de Salud Familiar Dr. Emilio Schaffhauser"},{"$f":"IFERROR(VLOOKUP(Tabla_SERIED_12_5[[#This Row],[IdEstablecimiento]],'[1]Establecimiento 2023'!$A$1:$E$183,5,FALSE),0)","v":"04101-La Serena"},"16090100","2022-06-20T17:03:27",23,23]
[{"$nulls":23},5,"5",2022,"105313",{"$f":"IFERROR(VLOOKUP(Tabla_SERIED_12_5[[#This Row],[IdEstablecimiento]],'[1]Establecimiento 2023'!$A$1:$E$183,3,FALSE),0)","v":"105313-Centro de Salud Familiar Dr. Emilio Schaffhauser"},{"$f":"IFERROR(VLOOKUP(Tabla_SERIED_12_5[[#This Row],[IdEstablecimiento]],'[1]Establecimiento 2023'!$A$1:$E$183,5,FALSE),0)","v":"04101-La Serena"},"16100100","2022-06-20T17:03:27",23,14,9,5]
[{"$nulls":23},6,"5",2022,"105306",{"$f":"IFERROR(VLOOKUP(Tabla_SERIED_12_5[[#This Row],[IdEstablecimiento]],'[1]Establecimiento 2023'!$A$1:$E$183,3,FALSE),0)","v":"105306-Centro de Salud Familiar Paihuano"},{"$f":"IFERROR(VLOOKUP(Tabla_SERIED_12_5[[#This Row],[IdEstablecimiento]],'[1]Establecimiento 2023'!$A$1:$E$183,5,FALSE),0)","v":"04105-Paiguano"},"16200210","2022-07-14T13:37:27",1,1]
[{"$nulls":23},4,"5",2022,"105465",{"$f":"IFERROR(VLOOKUP(Tabla_SERIED_12_5[[#This Row],[IdEstablecimiento]],'[1]Establecimiento 2023'!$A$1:$E$183,3,FALSE),0)","v":"105465-Posta de Salud Rural Ramadilla"},{"$f":"IFERROR(VLOOKUP(Tabla_SERIED_12_5[[#This Row],[IdEstablecimiento]],'[1]Establecimiento 2023'!$A$1:$E$183,5,FALSE),0)","v":"04302-Combarbalá"},"16090300","2022-05-18T15:10:54",85,85]
[{"$nulls":23},1,"5",2022,"200494",{"$f":"IFERROR(VLOOKUP(Tabla_SERIED_12_5[[#This Row],[IdEstablecimiento]],'[1]Establecimiento 2023'!$A$1:$E$183,3,FALSE),0)","v":"200494-Centro de Salud Familiar El Sauce"},{"$f":"IFERROR(VLOOKUP(Tabla_SERIED_12_5[[#This Row],[IdEstablecimiento]],'[1]Establecimiento 2023'!$A$1:$E$183,5,FALSE),0)","v":"04102-Coquimbo"},"15080008","2022-02-17T04:30:58",173,{"$nulls":7},88,null,76,null,9]
[{"$nulls":23},2,"5",2022,"105480",{"$f":"IFERROR(VLOOKUP(Tabla_SERIED_12_5[[#This Row],[IdEstablecimiento]],'[1]Establecimiento 2023'!$A$1:$E$183,3,FALSE),0)","v":"105480-Posta de Salud Rural Quilimarí"},{"$f":"IFERROR(VLOOKUP(Tabla_SERIED_12_5[[#This Row],[IdEstablecimiento]],'[1]Establecimiento 2023'!$A$1:$E$183,5,FALSE),0)","v":"04203-Los Vilos"},"16090300","2022-03-17T09:54:11",61,61]
[{"$nulls":23},3,"5",2022,"200258",{"$f":"IFERROR(VLOOKUP(Tabla_SERIED_12_5[[#This Row],[IdEstablecimiento]],'[1]Establecimiento 2023'!$A$1:$E$183,3,FALSE),0)","v":"200258-Centro Comunitario de Salud Familiar Los Copihues"},{"$f":"IFERROR(VLOOKUP(Tabla_SERIED_12_5[[#This Row],[IdEstablecimiento]],'[1]Establecimiento 2023'!$A$1:$E$183,5,FALSE),0)","v":"04301-Ovalle"},"16200220","2022-04-19T10:13:49",10,5,5,0,0]
[{"$nulls":23},9,"5",2022,"105302",{"$f":"IFERROR(VLOOKUP(Tabla_SERIED_12_5[[#This Row],[IdEstablecimiento]],'[1]Establecimiento 2023'!$A$1:$E$183,3,FALSE),0)","v":"105302-Centro de Salud Familiar Pedro Aguirre Cerda"},{"$f":"IFERROR(VLOOKUP(Tabla_SERIED_12_5[[#This Row],[IdEstablecimiento]],'[1]Establecimiento 2023'!$A$1:$E$183,5,FALSE),0)","v":"04101-La Serena"},"16100300","2022-11-15T14:23:38",683,266,417,18,136]
[{"$nulls":23},9,"5",2022,"105303",{"$f":"IFERROR(VLOOKUP(Tabla_SERIED_12_5[[#This Row],[IdEstablecimiento]],'[1]Establecimiento 2023'!$A$1:$E$183,3,FALSE),0)","v":"105303-Centro de Salud Familiar San Juan"},{"$f":"IFERROR(VLOOKUP(Tabla_SERIED_12_5[[#This Row],[IdEstablecimiento]],'[1]Establecimiento 2023'!$A$1:$E$183,5,FALSE),0)","v":"04102-Coquimbo"},"15900030","2022-11-15T14:23:48",6.4,0,3.2,0,0,3.2]
[{"$nulls":23},9,"5",2022,"105303",{"$f":"IFERROR(VLOOKUP(Tabla_SERIED_12_5[[#This Row],[IdEstablecimiento]],'[1]Establecimiento 2023'!$A$1:$E$183,3,FALSE),0)","v":"105303-Centro de Salud Familiar San Juan"},{"$f":"IFERROR(VLOOKUP(Tabla_SERIED_12_5[[#This Row],[IdEstablecimiento]],'[1]Establecimiento 2023'!$A$1:$E$183,5,FALSE),0)","v":"04102-Coquimbo"},"15050100","2022-11-15T14:23:48",558,234,324,6,22,55,59,68,118,103,71,null,32,18,6]
[{"$nulls":23},6,"5",2022,"105457",{"$f":"IFERROR(VLOOKUP(Tabla_SERIED_12_5[[#This Row],[IdEstablecimiento]],'[1]Establecimiento 2023'!$A$1:$E$183,3,FALSE),0)","v":"105457-Posta de Salud Rural San Agustín (Salamanca)"},{"$f":"IFERROR(VLOOKUP(Tabla_SERIED_12_5[[#This Row],[IdEstablecimiento]],'[1]Establecimiento 2023'!$A$1:$E$183,5,FALSE),0)","v":"04204-Salamanca"},"16100300","2022-07-14T14:19:35",53,24,29,1,21]
[{"$nulls":23},6,"5",2022,"105458",{"$f":"IFERROR(VLOOKUP(Tabla_SERIED_12_5[[#This Row],[IdEstablecimiento]],'[1]Establecimiento 2023'!$A$1:$E$183,3,FALSE),0)","v":"105458-Posta de Salud Rural Tahuinco"},{"$f":"IFERROR(VLOOKUP(Tabla_SERIED_12_5[[#This Row],[IdEstablecimiento]],'[1]Establecimiento 2023'!$A$1:$E$183,5,FALSE),0)","v":"04204-Salamanca"},"15900010","2022-07-14T14:19:48",12.8,null,2.4,10.4]
[{"$nulls":23},3,"5",2022,"105318",{"$f":"IFERROR(VLOOKUP(Tabla_SERIED_12_5[[#This Row],[IdEstablecimiento]],'[1]Establecimiento 2023'!$A$1:$E$183,3,FALSE),0)","v":"105318-Centro de Salud Familiar El Palqui"},{"$f":"IFERROR(VLOOKUP(Tabla_SERIED_12_5[[#This Row],[IdEstablecimiento]],'[1]Establecimiento 2023'!$A$1:$E$183,5,FALSE),0)","v":"04303-Monte Patria"},"16100600","2022-04-19T08:10:14",26,14,12,null,3]
[{"$nulls":23},1,"5",2022,"105414",{"$f":"IFERROR(VLOOKUP(Tabla_SERIED_12_5[[#This Row],[IdEstablecimiento]],'[1]Establecimiento 2023'!$A$1:$E$183,3,FALSE),0)","v":"105414-Posta de Salud Rural Serón"},{"$f":"IFERROR(VLOOKUP(Tabla_SERIED_12_5[[#This Row],[IdEstablecimiento]],'[1]Establecimiento 2023'!$A$1:$E$183,5,FALSE),0)","v":"04305-Río Hurtado"},"15010100","2022-02-16T10:55:31",12,null,null,4,8]
[{"$nulls":23},6,"5",2022,"105455",{"$f":"IFERROR(VLOOKUP(Tabla_SERIED_12_5[[#This Row],[IdEstablecimiento]],'[1]Establecimiento 2023'!$A$1:$E$183,3,FALSE),0)","v":"105455-CESFAM Valle Alto"},{"$f":"IFERROR(VLOOKUP(Tabla_SERIED_12_5[[#This Row],[IdEstablecimiento]],'[1]Establecimiento 2023'!$A$1:$E$183,5,FALSE),0)","v":"04204-Salamanca"},"15900010","2022-07-14T14:19:08",8,null,4,4]
[{"$nulls":23},4,"5",2022,"105506",{"$f":"IFERROR(VLOOKUP(Tabla_SERIED_12_5[[#This Row],[IdEstablecimiento]],'[1]Establecimiento 2023'!$A$1:$E$183,3,FALSE),0)","v":"105506-Posta de Salud Rural El Trapiche"},{"$f":"IFERROR(VLOOKUP(Tabla_SERIED_12_5[[#This Row],[IdEstablecimiento]],'[1]Establecimiento 2023'!$A$1:$E$183,5,FALSE),0)","v":"04104-La Higuera"},"15010100","2022-05-18T15:21:16",4,{"$nulls":3},4]
[{"$nulls":23},9,"5",2022,"105492",{"$f":"IFERROR(VLOOKUP(Tabla_SERIED_12_5[[#This Row],[IdEstablecimiento]],'[1]Establecimiento 2023'!$A$1:$E$183,3,FALSE),0)","v":"105492-Posta de Salud Rural Camisa"},{"$f":"IFERROR(VLOOKUP(Tabla_SERIED_12_5[[#This Row],[IdEstablecimiento]],'[1]Establecimiento 2023'!$A$1:$E$183,5,FALSE),0)","v":"04204-Salamanca"},"16090300","2022-11-15T14:51:42",44,44]
[{"$nulls":23},9,"5",2022,"105492",{"$f":"IFERROR(VLOOKUP(Tabla_SERIED_12_5[[#This Row],[IdEstablecimiento]],'[1]Establecimiento 2023'!$A$1:$E$183,3,FALSE),0)","v":"105492-Posta de Salud Rural Camisa"},{"$f":"IFERROR(VLOOKUP(Tabla_SERIED_12_5[[#This Row],[IdEstablecimiento]],'[1]Establecimiento 2023'!$A$1:$E$183,5,FALSE),0)","v":"04204-Salamanca"},"16200210","2022-11-15T14:51:42",1,1]
[{"$nulls":23},9,"5",2022,"105496",{"$f":"IFERROR(VLOOKUP(Tabla_SERIED_12_5[[#This Row],[IdEstablecimiento]],'[1]Establecimiento 2023'!$A$1:$E$183,3,FALSE),0)","v":"105496-Posta de Salud Rural Pintacura Sur"},{"$f":"IFERROR(VLOOKUP(Tabla_SERIED_12_5[[#This Row],[IdEstablecimiento]],'[1]Establecimiento 2023'!$A$1:$E$183,5,FALSE),0)","v":"04201-Illapel"},"15010100","2022-11-15T14:52:09",6,{"$nulls":3},6]
[{"$nulls":23},3,"5",2022,"105471",{"$f":"IFERROR(VLOOKUP(Tabla_SERIED_12_5[[#This Row],[IdEstablecimiento]],'[1]Establecimiento 2023'!$A$1:$E$183,3,FALSE),0)","v":"105471-Posta de Salud Rural Peralillo Vicuña"},{"$f":"IFERROR(VLOOKUP(Tabla_SERIED_12_5[[#This Row],[IdEstablecimiento]],'[1]Establecimiento 2023'!$A$1:$E$183,5,FALSE),0)","v":"04106-Vicuña"},"16200210","2022-04-19T10:02:34",2,2]
[{"$nulls":23},4,"5",2022,"105476",{"$f":"IFERROR(VLOOKUP(Tabla_SERIED_12_5[[#This Row],[IdEstablecimiento]],'[1]Establecimiento 2023'!$A$1:$E$183,3,FALSE),0)","v":"105476-Posta de Salud Rural Monte Grande"},{"$f":"IFERROR(VLOOKUP(Tabla_SERIED_12_5[[#This Row],[IdEstablecimiento]],'[1]Establecimiento 2023'!$A$1:$E$183,5,FALSE),0)","v":"04105-Paiguano"},"16200210","2022-05-18T15:13:25",1,1]
[{"$nulls":23},4,"5",2022,"105477",{"$f":"IFERROR(VLOOKUP(Tabla_SERIED_12_5[[#This Row],[IdEstablecimiento]],'[1]Establecimiento 2023'!$A$1:$E$183,3,FALSE),0)","v":"105477-Posta de Salud Rural Pisco Elqui"},{"$f":"IFERROR(VLOOKUP(Tabla_SERIED_12_5[[#This Row],[IdEstablecimiento]],'[1]Establecimiento 2023'!$A$1:$E$183,5,FALSE),0)","v":"04105-Paiguano"},"15050100","2022-05-18T15:13:44",8,3,5,null,1,null,1,null,4,1,null,null,1]
[{"$nulls":23},7,"5",2022,"200366",{"$f":"IFERROR(VLOOKUP(Tabla_SERIED_12_5[[#This Row],[IdEstablecimiento]],'[1]Establecimiento 2023'!$A$1:$E$183,3,FALSE),0)","v":"200366-Centro de Salud Familiar Urbano de Illapel"},{"$f":"IFERROR(VLOOKUP(Tabla_SERIED_12_5[[#This Row],[IdEstablecimiento]],'[1]Establecimiento 2023'!$A$1:$E$183,5,FALSE),0)","v":"04201-Illapel"},"16100300","2022-08-22T06:48:27",476,156,320,13,66]
[{"$nulls":23},4,"5",2022,"200499",{"$f":"IFERROR(VLOOKUP(Tabla_SERIED_12_5[[#This Row],[IdEstablecimiento]],'[1]Establecimiento 2023'!$A$1:$E$183,3,FALSE),0)","v":"200499-Centro de Salud Familiar Rural Pan de Azúcar"},{"$f":"IFERROR(VLOOKUP(Tabla_SERIED_12_5[[#This Row],[IdEstablecimiento]],'[1]Establecimiento 2023'!$A$1:$E$183,5,FALSE),0)","v":"04102-Coquimbo"},"15080009","2022-05-18T15:27:59",9,{"$nulls":8},9]
[{"$nulls":23},2,"5",2022,"105507",{"$f":"IFERROR(VLOOKUP(Tabla_SERIED_12_5[[#This Row],[IdEstablecimiento]],'[1]Establecimiento 2023'!$A$1:$E$183,3,FALSE),0)","v":"105507-Posta de Salud Rural Huamalata"},{"$f":"IFERROR(VLOOKUP(Tabla_SERIED_12_5[[#This Row],[IdEstablecimiento]],'[1]Establecimiento 2023'!$A$1:$E$183,5,FALSE),0)","v":"04301-Ovalle"},"15900010","2022-03-17T10:02:21",5.6,null,1.6,4]
[{"$nulls":23},9,"5",2022,"105303",{"$f":"IFERROR(VLOOKUP(Tabla_SERIED_12_5[[#This Row],[IdEstablecimiento]],'[1]Establecimiento 2023'!$A$1:$E$183,3,FALSE),0)","v":"105303-Centro de Salud Familiar San Juan"},{"$f":"IFERROR(VLOOKUP(Tabla_SERIED_12_5[[#This Row],[IdEstablecimiento]],'[1]Establecimiento 2023'!$A$1:$E$183,5,FALSE),0)","v":"04102-Coquimbo"},"16100300","2022-11-15T14:23:48",646,260,386,12,148]
[{"$nulls":23},9,"5",2022,"105304",{"$f":"IFERROR(VLOOKUP(Tabla_SERIED_12_5[[#This Row],[IdEstablecimiento]],'[1]Establecimiento 2023'!$A$1:$E$183,3,FALSE),0)","v":"105304-Centro de Salud Familiar Santa Cecilia"},{"$f":"IFERROR(VLOOKUP(Tabla_SERIED_12_5[[#This Row],[IdEstablecimiento]],'[1]Establecimiento 2023'!$A$1:$E$183,5,FALSE),0)","v":"04102-Coquimbo"},"15080009","2022-11-15T14:23:59",3,{"$nulls":8},3,0,0,0]
[{"$nulls":23},9,"5",2022,"105304",{"$f":"IFERROR(VLOOKUP(Tabla_SERIED_12_5[[#This Row],[IdEstablecimiento]],'[1]Establecimiento 2023'!$A$1:$E$183,3,FALSE),0)","v":"105304-Centro de Salud Familiar Santa Cecilia"},{"$f":"IFERROR(VLOOKUP(Tabla_SERIED_12_5[[#This Row],[IdEstablecimiento]],'[1]Establecimiento 2023'!$A$1:$E$183,5,FALSE),0)","v":"04102-Coquimbo"},"15900050","2022-11-15T14:23:59",6,5,1,1,1,2,1,1]
[{"$nulls":23},9,"5",2022,"105304",{"$f":"IFERROR(VLOOKUP(Tabla_SERIED_12_5[[#This Row],[IdEstablecimiento]],'[1]Establecimiento 2023'!$A$1:$E$183,3,FALSE),0)","v":"105304-Centro de Salud Familiar Santa Cecilia"},{"$f":"IFERROR(VLOOKUP(Tabla_SERIED_12_5[[#This Row],[IdEstablecimiento]],'[1]Establecimiento 2023'!$A$1:$E$183,5,FALSE),0)","v":"04102-Coquimbo"},"16200220","2022-11-15T14:23:59",49,17,32,1,10]
[{"$nulls":23},9,"5",2022,"105305",{"$f":"IFERROR(VLOOKUP(Tabla_SERIED_12_5[[#This Row],[IdEstablecimiento]],'[1]Establecimiento 2023'!$A$1:$E$183,3,FALSE),0)","v":"105305-Centro de Salud Familiar Tierras Blancas"},{"$f":"IFERROR(VLOOKUP(Tabla_SERIED_12_5[[#This Row],[IdEstablecimiento]],'[1]Establecimiento 2023'!$A$1:$E$183,5,FALSE),0)","v":"04102-Coquimbo"},"15080009","2022-11-15T14:24:10",9,{"$nulls":8},9]
[{"$nulls":23},5,"5",2022,"105106",{"$f":"IFERROR(VLOOKUP(Tabla_SERIED_12_5[[#This Row],[IdEstablecimiento]],'[1]Establecimiento 2023'!$A$1:$E$183,3,FALSE),0)","v":"105106-Hospital Dr. José Arraño (Andacollo)"},{"$f":"IFERROR(VLOOKUP(Tabla_SERIED_12_5[[#This Row],[IdEstablecimiento]],'[1]Establecimiento 2023'!$A$1:$E$183,5,FALSE),0)","v":"105106-Hospital Andacollo"},"15900050","2022-06-20T16:55:43",1,1,null,1]
[{"$nulls":23},5,"5",2022,"105106",{"$f":"IFERROR(VLOOKUP(Tabla_SERIED_12_5[[#This Row],[IdEstablecimiento]],'[1]Establecimiento 2023'!$A$1:$E$183,3,FALSE),0)","v":"105106-Hospital Dr. José Arraño (Andacollo)"},{"$f":"IFERROR(VLOOKUP(Tabla_SERIED_12_5[[#This Row],[IdEstablecimiento]],'[1]Establecimiento 2023'!$A$1:$E$183,5,FALSE),0)","v":"105106-Hospital Andacollo"},"16100700","2022-06-20T16:55:43",0,0,0,0,1]
[{"$nulls":23},1,"5",2022,"200607",{"$f":"IFERROR(VLOOKUP(Tabla_SERIED_12_5[[#This Row],[IdEstablecimiento]],'[1]Establecimiento 2023'!$A$1:$E$183,3,FALSE),0)","v":"200607-Centro de Salud Familiar Lila Cortés Godoy"},{"$f":"IFERROR(VLOOKUP(Tabla_SERIED_12_5[[#This Row],[IdEstablecimiento]],'[1]Establecimiento 2023'!$A$1:$E$183,5,FALSE),0)","v":"04102-Coquimbo"},"15030100","2022-02-17T08:06:34",19.2,11.2,8,0]
[{"$nulls":23},1,"5",2022,"200607",{"$f":"IFERROR(VLOOKUP(Tabla_SERIED_12_5[[#This Row],[IdEstablecimiento]],'[1]Establecimiento 2023'!$A$1:$E$183,3,FALSE),0)","v":"200607-Centro de Salud Familiar Lila Cortés Godoy"},{"$f":"IFERROR(VLOOKUP(Tabla_SERIED_12_5[[#This Row],[IdEstablecimiento]],'[1]Establecimiento 2023'!$A$1:$E$183,5,FALSE),0)","v":"04102-Coquimbo"},"15901500","2022-02-17T08:06:34",6.4,0,0,6.4]
[{"$nulls":23},1,"5",2022,"200607",{"$f":"IFERROR(VLOOKUP(Tabla_SERIED_12_5[[#This Row],[IdEstablecimiento]],'[1]Establecimiento 2023'!$A$1:$E$183,3,FALSE),0)","v":"200607-Centro de Salud Familiar Lila Cortés Godoy"},{"$f":"IFERROR(VLOOKUP(Tabla_SERIED_12_5[[#This Row],[IdEstablecimiento]],'[1]Establecimiento 2023'!$A$1:$E$183,5,FALSE),0)","v":"04102-Coquimbo"},"15901200","2022-02-17T08:06:34",15.2,0,0,8,4,3.2]
[{"$nulls":23},3,"5",2022,"105511",{"$f":"IFERROR(VLOOKUP(Tabla_SERIED_12_5[[#This Row],[IdEstablecimiento]],'[1]Establecimiento 2023'!$A$1:$E$183,3,FALSE),0)","v":"105511-Posta de Salud Rural Los Cóndores"},{"$f":"IFERROR(VLOOKUP(Tabla_SERIED_12_5[[#This Row],[IdEstablecimiento]],'[1]Establecimiento 2023'!$A$1:$E$183,5,FALSE),0)","v":"04203-Los Vilos"},"16100600","2022-04-19T10:11:45",1,0,1,0,0]
[{"$nulls":23},1,"5",2022,"105322",{"$f":"IFERROR(VLOOKUP(Tabla_SERIED_12_5[[#This Row],[IdEstablecimiento]],'[1]Establecimiento 2023'!$A$1:$E$183,3,FALSE),0)","v":"105322-Centro de Salud Familiar Marcos Macuada"},{"$f":"IFERROR(VLOOKUP(Tabla_SERIED_12_5[[#This Row],[IdEstablecimiento]],'[1]Establecimiento 2023'!$A$1:$E$183,5,FALSE),0)","v":"04301-Ovalle"},"15020100","2022-02-16T10:50:40",10,null,null,4,6]
[{"$nulls":23},7,"5",2022,"105106",{"$f":"IFERROR(VLOOKUP(Tabla_SERIED_12_5[[#This Row],[IdEstablecimiento]],'[1]Establecimiento 2023'!$A$1:$E$183,3,FALSE),0)","v":"105106-Hospital Dr. José Arraño (Andacollo)"},{"$f":"IFERROR(VLOOKUP(Tabla_SERIED_12_5[[#This Row],[IdEstablecimiento]],'[1]Establecimiento 2023'!$A$1:$E$183,5,FALSE),0)","v":"105106-Hospital Andacollo"},"16200100","2022-08-19T11:39:31",1,1,null,null,1]
[{"$nulls":23},7,"5",2022,"105107",{"$f":"IFERROR(VLOOKUP(Tabla_SERIED_12_5[[#This Row],[IdEstablecimiento]],'[1]Establecimiento 2023'!$A$1:$E$183,3,FALSE),0)","v":"105107-Hospital San Juan de Dios (Vicuña)"},{"$f":"IFERROR(VLOOKUP(Tabla_SERIED_12_5[[#This Row],[IdEstablecimiento]],'[1]Establecimiento 2023'!$A$1:$E$183,5,FALSE),0)","v":"105107-Hospital Vicuña"},"15050100","2022-08-19T11:39:44",231,92,139,2,8,26,17,16,65,42,33,null,15,null,7]
[{"$nulls":23},9,"5",2022,"105498",{"$f":"IFERROR(VLOOKUP(Tabla_SERIED_12_5[[#This Row],[IdEstablecimiento]],'[1]Establecimiento 2023'!$A$1:$E$183,3,FALSE),0)","v":"105498-Posta de Salud Rural Quebrada Linares"},{"$f":"IFERROR(VLOOKUP(Tabla_SERIED_12_5[[#This Row],[IdEstablecimiento]],'[1]Establecimiento 2023'!$A$1:$E$183,5,FALSE),0)","v":"04202-Canela"},"15050100","2022-11-15T14:52:33",1,null,1,{"$nulls":6},1]
[{"$nulls":23},9,"5",2022,"105499",{"$f":"IFERROR(VLOOKUP(Tabla_SERIED_12_5[[#This Row],[IdEstablecimiento]],'[1]Establecimiento 2023'!$A$1:$E$183,3,FALSE),0)","v":"105499-Posta de Salud Rural Lambert"},{"$f":"IFERROR(VLOOKUP(Tabla_SERIED_12_5[[#This Row],[IdEstablecimiento]],'[1]Establecimiento 2023'!$A$1:$E$183,5,FALSE),0)","v":"04101-La Serena"},"15010200","2022-11-15T14:52:45",21,{"$nulls":5},12,9]
[{"$nulls":23},9,"5",2022,"105499",{"$f":"IFERROR(VLOOKUP(Tabla_SERIED_12_5[[#This Row],[IdEstablecimiento]],'[1]Establecimiento 2023'!$A$1:$E$183,3,FALSE),0)","v":"105499-Posta de Salud Rural Lambert"},{"$f":"IFERROR(VLOOKUP(Tabla_SERIED_12_5[[#This Row],[IdEstablecimiento]],'[1]Establecimiento 2023'!$A$1:$E$183,5,FALSE),0)","v":"04101-La Serena"},"15080008","2022-11-15T14:52:45",5,{"$nulls":7},1,null,4]
[{"$nulls":23},9,"5",2022,"105500",{"$f":"IFERROR(VLOOKUP(Tabla_SERIED_12_5[[#This Row],[IdEstablecimiento]],'[1]Establecimiento 2023'!$A$1:$E$183,3,FALSE),0)","v":"105500-Posta de Salud Rural Caleta Hornos"},{"$f":"IFERROR(VLOOKUP(Tabla_SERIED_12_5[[#This Row],[IdEstablecimiento]],'[1]Establecimiento 2023'!$A$1:$E$183,5,FALSE),0)","v":"04104-La Higuera"},"15900020","2022-11-15T14:52:57",7.2,3.6,3.6]
[{"$nulls":23},9,"5",2022,"105501",{"$f":"IFERROR(VLOOKUP(Tabla_SERIED_12_5[[#This Row],[IdEstablecimiento]],'[1]Establecimiento 2023'!$A$1:$E$183,3,FALSE),0)","v":"105501-Posta de Salud Rural Arboleda Grande"},{"$f":"IFERROR(VLOOKUP(Tabla_SERIED_12_5[[#This Row],[IdEstablecimiento]],'[1]Establecimiento 2023'!$A$1:$E$183,5,FALSE),0)","v":"04204-Salamanca"},"15900030","2022-11-15T14:53:11",4,null,null,4]
[{"$nulls":23},9,"5",2022,"105503",{"$f":"IFERROR(VLOOKUP(Tabla_SERIED_12_5[[#This Row],[IdEstablecimiento]],'[1]Establecimiento 2023'!$A$1:$E$183,3,FALSE),0)","v":"105503-Posta de Salud Rural Tabaqueros"},{"$f":"IFERROR(VLOOKUP(Tabla_SERIED_12_5[[#This Row],[IdEstablecimiento]],'[1]Establecimiento 2023'!$A$1:$E$183,5,FALSE),0)","v":"04305-Río Hurtado"},"15900010","2022-11-15T14:53:23",3.6,null,null,3.6]
[{"$nulls":23},9,"5",2022,"105305",{"$f":"IFERROR(VLOOKUP(Tabla_SERIED_12_5[[#This Row],[IdEstablecimiento]],'[1]Establecimiento 2023'!$A$1:$E$183,3,FALSE),0)","v":"105305-Centro de Salud Familiar Tierras Blancas"},{"$f":"IFERROR(VLOOKUP(Tabla_SERIED_12_5[[#This Row],[IdEstablecimiento]],'[1]Establecimiento 2023'!$A$1:$E$183,5,FALSE),0)","v":"04102-Coquimbo"},"15020200","2022-11-15T14:24:10",16,{"$nulls":4},6,8,2]
[{"$nulls":23},9,"5",2022,"105305",{"$f":"IFERROR(VLOOKUP(Tabla_SERIED_12_5[[#This Row],[IdEstablecimiento]],'[1]Establecimiento 2023'!$A$1:$E$183,3,FALSE),0)","v":"105305-Centro de Salud Familiar Tierras Blancas"},{"$f":"IFERROR(VLOOKUP(Tabla_SERIED_12_5[[#This Row],[IdEstablecimiento]],'[1]Establecimiento 2023'!$A$1:$E$183,5,FALSE),0)","v":"04102-Coquimbo"},"16200100","2022-11-15T14:24:10",9,3,6]
[{"$nulls":23},9,"5",2022,"105306",{"$f":"IFERROR(VLOOKUP(Tabla_SERIED_12_5[[#This Row],[IdEstablecimiento]],'[1]Establecimiento 2023'!$A$1:$E$183,3,FALSE),0)","v":"105306-Centro de Salud Familiar Paihuano"},{"$f":"IFERROR(VLOOKUP(Tabla_SERIED_12_5[[#This Row],[IdEstablecimiento]],'[1]Establecimiento 2023'!$A$1:$E$183,5,FALSE),0)","v":"04105-Paiguano"},"15900030","2022-11-15T14:24:20",3.6,null,3.6]
[{"$nulls":23},9,"5",2022,"105307",{"$f":"IFERROR(VLOOKUP(Tabla_SERIED_12_5[[#This Row],[IdEstablecimiento]],'[1]Establecimiento 2023'!$A$1:$E$183,3,FALSE),0)","v":"105307-Centro de Salud Familiar Monte Patria"},{"$f":"IFERROR(VLOOKUP(Tabla_SERIED_12_5[[#This Row],[IdEstablecimiento]],'[1]Establecimiento 2023'!$A$1:$E$183,5,FALSE),0)","v":"04303-Monte Patria"},"15080009","2022-11-15T14:24:30",3,{"$nulls":8},3]
[{"$nulls":23},9,"5",2022,"105307",{"$f":"IFERROR(VLOOKUP(Tabla_SERIED_12_5[[#This Row],[IdEstablecimiento]],'[1]Establecimiento 2023'!$A$1:$E$183,3,FALSE),0)","v":"105307-Centro de Salud Familiar Monte Patria"},{"$f":"IFERROR(VLOOKUP(Tabla_SERIED_12_5[[#This Row],[IdEstablecimiento]],'[1]Establecimiento 2023'!$A$1:$E$183,5,FALSE),0)","v":"04303-Monte Patria"},"15030100","2022-11-15T14:24:30",5.6,2.4,3.2]
[{"$nulls":23},9,"5",2022,"105307",{"$f":"IFERROR(VLOOKUP(Tabla_SERIED_12_5[[#This Row],[IdEstablecimiento]],'[1]Establecimiento 2023'!$A$1:$E$183,3,FALSE),0)","v":"105307-Centro de Salud Familiar Monte Patria"},{"$f":"IFERROR(VLOOKUP(Tabla_SERIED_12_5[[#This Row],[IdEstablecimiento]],'[1]Establecimiento 2023'!$A$1:$E$183,5,FALSE),0)","v":"04303-Monte Patria"},"16090300","2022-11-15T14:24:30",252,251]
[{"$nulls":23},9,"5",2022,"105308",{"$f":"IFERROR(VLOOKUP(Tabla_SERIED_12_5[[#This Row],[IdEstablecimiento]],'[1]Establecimiento 2023'!$A$1:$E$183,3,FALSE),0)","v":"105308-Centro de Salud Familiar Punitaqui"},{"$f":"IFERROR(VLOOKUP(Tabla_SERIED_12_5[[#This Row],[IdEstablecimiento]],'[1]Establecimiento 2023'!$A$1:$E$183,5,FALSE),0)","v":"04304-Punitaqui"},"15010500","2022-11-15T14:24:41",4,{"$nulls":4},2,2]
[{"$nulls":23},9,"5",2022,"105308",{"$f":"IFERROR(VLOOKUP(Tabla_SERIED_12_5[[#This Row],[IdEstablecimiento]],'[1]Establecimiento 2023'!$A$1:$E$183,3,FALSE),0)","v":"105308-Centro de Salud Familiar Punitaqui"},{"$f":"IFERROR(VLOOKUP(Tabla_SERIED_12_5[[#This Row],[IdEstablecimiento]],'[1]Establecimiento 2023'!$A$1:$E$183,5,FALSE),0)","v":"04304-Punitaqui"},"16100300","2022-11-15T14:24:41",435,185,250,6,66]
[{"$nulls":23},9,"5",2022,"105325",{"$f":"IFERROR(VLOOKUP(Tabla_SERIED_12_5[[#This Row],[IdEstablecimiento]],'[1]Establecimiento 2023'!$A$1:$E$183,3,FALSE),0)","v":"105325-Centro de Salud Familiar Juan Pablo II (La Serena)"},{"$f":"IFERROR(VLOOKUP(Tabla_SERIED_12_5[[#This Row],[IdEstablecimiento]],'[1]Establecimiento 2023'!$A$1:$E$183,5,FALSE),0)","v":"04101-La Serena"},"15900020","2022-11-15T14:35:29",8.1,0,4.5,3.6]
[{"$nulls":23},4,"5",2022,"105311",{"$f":"IFERROR(VLOOKUP(Tabla_SERIED_12_5[[#This Row],[IdEstablecimiento]],'[1]Establecimiento 2023'!$A$1:$E$183,3,FALSE),0)","v":"105311-Centro de Salud Familiar Chañaral Alto"},{"$f":"IFERROR(VLOOKUP(Tabla_SERIED_12_5[[#This Row],[IdEstablecimiento]],'[1]Establecimiento 2023'!$A$1:$E$183,5,FALSE),0)","v":"04303-Monte Patria"},"15010500","2022-05-18T11:51:31",14,{"$nulls":4},2,10,2]
[{"$nulls":23},1,"5",2022,"105441",{"$f":"IFERROR(VLOOKUP(Tabla_SERIED_12_5[[#This Row],[IdEstablecimiento]],'[1]Establecimiento 2023'!$A$1:$E$183,3,FALSE),0)","v":"105441-Posta de Salud Rural Manquehua"},{"$f":"IFERROR(VLOOKUP(Tabla_SERIED_12_5[[#This Row],[IdEstablecimiento]],'[1]Establecimiento 2023'!$A$1:$E$183,5,FALSE),0)","v":"04302-Combarbalá"},"16200230","2022-02-16T11:05:19",1,1]
[{"$nulls":23},1,"5",2022,"105466",{"$f":"IFERROR(VLOOKUP(Tabla_SERIED_12_5[[#This Row],[IdEstablecimiento]],'[1]Establecimiento 2023'!$A$1:$E$183,3,FALSE),0)","v":"105466-Posta de Salud Rural Valle Hermoso"},{"$f":"IFERROR(VLOOKUP(Tabla_SERIED_12_5[[#This Row],[IdEstablecimiento]],'[1]Establecimiento 2023'!$A$1:$E$183,5,FALSE),0)","v":"04302-Combarbalá"},"15050200","2022-02-17T03:51:34",1,1,{"$nulls":6},1]
[{"$nulls":23},1,"5",2022,"105466",{"$f":"IFERROR(VLOOKUP(Tabla_SERIED_12_5[[#This Row],[IdEstablecimiento]],'[1]Establecimiento 2023'!$A$1:$E$183,3,FALSE),0)","v":"105466-Posta de Salud Rural Valle Hermoso"},{"$f":"IFERROR(VLOOKUP(Tabla_SERIED_12_5[[#This Row],[IdEstablecimiento]],'[1]Establecimiento 2023'!$A$1:$E$183,5,FALSE),0)","v":"04302-Combarbalá"},"16200220","2022-02-17T03:51:34",9,5,4]
[{"$nulls":23},3,"5",2022,"105460",{"$f":"IFERROR(VLOOKUP(Tabla_SERIED_12_5[[#This Row],[IdEstablecimiento]],'[1]Establecimiento 2023'!$A$1:$E$183,3,FALSE),0)","v":"105460-Centro Comunitario de Salud Familiar Cogotí 18"},{"$f":"IFERROR(VLOOKUP(Tabla_SERIED_12_5[[#This Row],[IdEstablecimiento]],'[1]Establecimiento 2023'!$A$1:$E$183,5,FALSE),0)","v":"04302-Combarbalá"},"15050100","2022-04-19T09:59:35",13,8,5,{"$nulls":3},1,1,5,4,2]
[{"$nulls":23},5,"5",2022,"105311",{"$f":"IFERROR(VLOOKUP(Tabla_SERIED_12_5[[#This Row],[IdEstablecimiento]],'[1]Establecimiento 2023'!$A$1:$E$183,3,FALSE),0)","v":"105311-Centro de Salud Familiar Chañaral Alto"},{"$f":"IFERROR(VLOOKUP(Tabla_SERIED_12_5[[#This Row],[IdEstablecimiento]],'[1]Establecimiento 2023'!$A$1:$E$183,5,FALSE),0)","v":"04303-Monte Patria"},"15900010","2022-06-20T17:03:00",32800,800,12000,20000]
[{"$nulls":23},3,"5",2022,"105315",{"$f":"IFERROR(VLOOKUP(Tabla_SERIED_12_5[[#This Row],[IdEstablecimiento]],'[1]Establecimiento 2023'!$A$1:$E$183,3,FALSE),0)","v":"105315-Centro de Salud Familiar Cerrillos de Tamaya"},{"$f":"IFERROR(VLOOKUP(Tabla_SERIED_12_5[[#This Row],[IdEstablecimiento]],'[1]Establecimiento 2023'!$A$1:$E$183,5,FALSE),0)","v":"04301-Ovalle"},"15080008","2022-04-19T08:09:49",61,{"$nulls":7},30,null,24,4,3]
[{"$nulls":23},5,"5",2022,"105324",{"$f":"IFERROR(VLOOKUP(Tabla_SERIED_12_5[[#This Row],[IdEstablecimiento]],'[1]Establecimiento 2023'!$A$1:$E$183,3,FALSE),0)","v":"105324-Centro de Salud Familiar Sotaquí"},{"$f":"IFERROR(VLOOKUP(Tabla_SERIED_12_5[[#This Row],[IdEstablecimiento]],'[1]Establecimiento 2023'!$A$1:$E$183,5,FALSE),0)","v":"04301-Ovalle"},"16200220","2022-06-20T17:05:26",2,null,2,2,1]
[{"$nulls":23},5,"5",2022,"105319",{"$f":"IFERROR(VLOOKUP(Tabla_SERIED_12_5[[#This Row],[IdEstablecimiento]],'[1]Establecimiento 2023'!$A$1:$E$183,3,FALSE),0)","v":"105319-Centro de Salud Familiar Cardenal Raúl Silva Henríquez de La Serena"},{"$f":"IFERROR(VLOOKUP(Tabla_SERIED_12_5[[#This Row],[IdEstablecimiento]],'[1]Establecimiento 2023'!$A$1:$E$183,5,FALSE),0)","v":"04101-La Serena"},"15050100","2022-06-20T17:04:36",564,269,295,10,12,62,65,62,129,106,83,null,24,null,11]
[{"$nulls":23},9,"5",2022,"200499",{"$f":"IFERROR(VLOOKUP(Tabla_SERIED_12_5[[#This Row],[IdEstablecimiento]],'[1]Establecimiento 2023'!$A$1:$E$183,3,FALSE),0)","v":"200499-Centro de Salud Familiar Rural Pan de Azúcar"},{"$f":"IFERROR(VLOOKUP(Tabla_SERIED_12_5[[#This Row],[IdEstablecimiento]],'[1]Establecimiento 2023'!$A$1:$E$183,5,FALSE),0)","v":"04102-Coquimbo"},"15080008","2022-11-15T15:00:06",95,{"$nulls":7},39,null,40,6,10]
[{"$nulls":23},9,"5",2022,"200499",{"$f":"IFERROR(VLOOKUP(Tabla_SERIED_12_5[[#This Row],[IdEstablecimiento]],'[1]Establecimiento 2023'!$A$1:$E$183,3,FALSE),0)","v":"200499-Centro de Salud Familiar Rural Pan de Azúcar"},{"$f":"IFERROR(VLOOKUP(Tabla_SERIED_12_5[[#This Row],[IdEstablecimiento]],'[1]Establecimiento 2023'!$A$1:$E$183,5,FALSE),0)","v":"04102-Coquimbo"},"15050100","2022-11-15T15:00:06",304,102,202,3,5,32,42,37,72,38,39,null,20,6,10]
[{"$nulls":23},9,"5",2022,"200499",{"$f":"IFERROR(VLOOKUP(Tabla_SERIED_12_5[[#This Row],[IdEstablecimiento]],'[1]Establecimiento 2023'!$A$1:$E$183,3,FALSE),0)","v":"200499-Centro de Salud Familiar Rural Pan de Azúcar"},{"$f":"IFERROR(VLOOKUP(Tabla_SERIED_12_5[[#This Row],[IdEstablecimiento]],'[1]Establecimiento 2023'!$A$1:$E$183,5,FALSE),0)","v":"04102-Coquimbo"},"15050200","2022-11-15T15:00:06",9,6,3,null,null,4,1,1,2,null,null,1]
[{"$nulls":23},9,"5",2022,"200538",{"$f":"IFERROR(VLOOKUP(Tabla_SERIED_12_5[[#This Row],[IdEstablecimiento]],'[1]Establecimiento 2023'!$A$1:$E$183,3,FALSE),0)","v":"200538-Centro de Salud Familiar San Isidro Calingasta"},{"$f":"IFERROR(VLOOKUP(Tabla_SERIED_12_5[[#This Row],[IdEstablecimiento]],'[1]Establecimiento 2023'!$A$1:$E$183,5,FALSE),0)","v":"04106-Vicuña"},"15900010","2022-11-15T15:00:17",36,6.3,2.7,27]
[{"$nulls":23},9,"5",2022,"200538",{"$f":"IFERROR(VLOOKUP(Tabla_SERIED_12_5[[#This Row],[IdEstablecimiento]],'[1]Establecimiento 2023'!$A$1:$E$183,3,FALSE),0)","v":"200538-Centro de Salud Familiar San Isidro Calingasta"},{"$f":"IFERROR(VLOOKUP(Tabla_SERIED_12_5[[#This Row],[IdEstablecimiento]],'[1]Establecimiento 2023'!$A$1:$E$183,5,FALSE),0)","v":"04106-Vicuña"},"16200210","2022-11-15T15:00:17",2,2]
[{"$nulls":23},9,"5",2022,"200569",{"$f":"IFERROR(VLOOKUP(Tabla_SERIED_12_5[[#This Row],[IdEstablecimiento]],'[1]Establecimiento 2023'!$A$1:$E$183,3,FALSE),0)","v":"200569-Centro de Salud Familiar Fray Jorge"},{"$f":"IFERROR(VLOOKUP(Tabla_SERIED_12_5[[#This Row],[IdEstablecimiento]],'[1]Establecimiento 2023'!$A$1:$E$183,5,FALSE),0)","v":"04301-Ovalle"},"15010500","2022-11-15T15:00:30",22,null,null,2,4,2,12,2]
[{"$nulls":23},2,"5",2022,"105400",{"$f":"IFERROR(VLOOKUP(Tabla_SERIED_12_5[[#This Row],[IdEstablecimiento]],'[1]Establecimiento 2023'!$A$1:$E$183,3,FALSE),0)","v":"105400-Posta de Salud Rural Algarrobito"},{"$f":"IFERROR(VLOOKUP(Tabla_SERIED_12_5[[#This Row],[IdEstablecimiento]],'[1]Establecimiento 2023'!$A$1:$E$183,5,FALSE),0)","v":"04101-La Serena"},"15010100","2022-03-17T09:32:34",14,null,null,6,8]
[{"$nulls":23},2,"5",2022,"105322",{"$f":"IFERROR(VLOOKUP(Tabla_SERIED_12_5[[#This Row],[IdEstablecimiento]],'[1]Establecimiento 2023'!$A$1:$E$183,3,FALSE),0)","v":"105322-Centro de Salud Familiar Marcos Macuada"},{"$f":"IFERROR(VLOOKUP(Tabla_SERIED_12_5[[#This Row],[IdEstablecimiento]],'[1]Establecimiento 2023'!$A$1:$E$183,5,FALSE),0)","v":"04301-Ovalle"},"15900050","2022-03-17T09:31:26",3,2,1,null,null,1,2]
[{"$nulls":23},2,"5",2022,"105323",{"$f":"IFERROR(VLOOKUP(Tabla_SERIED_12_5[[#This Row],[IdEstablecimiento]],'[1]Establecimiento 2023'!$A$1:$E$183,3,FALSE),0)","v":"105323-Centro de Salud Familiar Dr. Sergio Aguilar Delgado"},{"$f":"IFERROR(VLOOKUP(Tabla_SERIED_12_5[[#This Row],[IdEstablecimiento]],'[1]Establecimiento 2023'!$A$1:$E$183,5,FALSE),0)","v":"04102-Coquimbo"},"15010200","2022-03-17T09:31:39",366,{"$nulls":4},82,162,122]
[{"$nulls":23},5,"5",2022,"105108",{"$f":"IFERROR(VLOOKUP(Tabla_SERIED_12_5[[#This Row],[IdEstablecimiento]],'[1]Establecimiento 2023'!$A$1:$E$183,3,FALSE),0)","v":"105108-Hospital San Pedro (Los Vilos)"},{"$f":"IFERROR(VLOOKUP(Tabla_SERIED_12_5[[#This Row],[IdEstablecimiento]],'[1]Establecimiento 2023'!$A$1:$E$183,5,FALSE),0)","v":"105108-Hospital Los Vilos"},"15050500","2022-08-22T07:34:56",1,null,1,1]
[{"$nulls":23},5,"5",2022,"105108",{"$f":"IFERROR(VLOOKUP(Tabla_SERIED_12_5[[#This Row],[IdEstablecimiento]],'[1]Establecimiento 2023'!$A$1:$E$183,3,FALSE),0)","v":"105108-Hospital San Pedro (Los Vilos)"},{"$f":"IFERROR(VLOOKUP(Tabla_SERIED_12_5[[#This Row],[IdEstablecimiento]],'[1]Establecimiento 2023'!$A$1:$E$183,5,FALSE),0)","v":"105108-Hospital Los Vilos"},"15900050","2022-08-22T07:34:56",2,null,2,null,1,null,null,1]
[{"$nulls":23},3,"5",2022,"105701",{"$f":"IFERROR(VLOOKUP(Tabla_SERIED_12_5[[#This Row],[IdEstablecimiento]],'[1]Establecimiento 2023'!$A$1:$E$183,3,FALSE),0)","v":"105701-Centro Comunitario de Salud Familiar Villa Alemania"},{"$f":"IFERROR(VLOOKUP(Tabla_SERIED_12_5[[#This Row],[IdEstablecimiento]],'[1]Establecimiento 2023'!$A$1:$E$183,5,FALSE),0)","v":"04101-La Serena"},"15080008","2022-04-19T10:12:14",18,{"$nulls":7},8,null,6,null,4]
[{"$nulls":23},9,"5",2022,"105325",{"$f":"IFERROR(VLOOKUP(Tabla_SERIED_12_5[[#This Row],[IdEstablecimiento]],'[1]Establecimiento 2023'!$A$1:$E$183,3,FALSE),0)","v":"105325-Centro de Salud Familiar Juan Pablo II (La Serena)"},{"$f":"IFERROR(VLOOKUP(Tabla_SERIED_12_5[[#This Row],[IdEstablecimiento]],'[1]Establecimiento 2023'!$A$1:$E$183,5,FALSE),0)","v":"04101-La Serena"},"15080010","2022-11-15T14:35:29",1,{"$nulls":7},1,null,0,0,0]
[{"$nulls":23},9,"5",2022,"105325",{"$f":"IFERROR(VLOOKUP(Tabla_SERIED_12_5[[#This Row],[IdEstablecimiento]],'[1]Establecimiento 2023'!$A$1:$E$183,3,FALSE),0)","v":"105325-Centro de Salud Familiar Juan Pablo II (La Serena)"},{"$f":"IFERROR(VLOOKUP(Tabla_SERIED_12_5[[#This Row],[IdEstablecimiento]],'[1]Establecimiento 2023'!$A$1:$E$183,5,FALSE),0)","v":"04101-La Serena"},"16200100","2022-11-15T14:35:29",2,2,0,0,11]
[{"$nulls":23},9,"5",2022,"105326",{"$f":"IFERROR(VLOOKUP(Tabla_SERIED_12_5[[#This Row],[IdEstablecimiento]],'[1]Establecimiento 2023'!$A$1:$E$183,3,FALSE),0)","v":"105326-Centro de Salud Familiar Villa San Rafael de Rozas"},{"$f":"IFERROR(VLOOKUP(Tabla_SERIED_12_5[[#This Row],[IdEstablecimiento]],'[1]Establecimiento 2023'!$A$1:$E$183,5,FALSE),0)","v":"04201-Illapel"},"15050200","2022-11-15T14:35:44",8,4,4,1,null,1,1,1,1,3]
[{"$nulls":23},9,"5",2022,"105326",{"$f":"IFERROR(VLOOKUP(Tabla_SERIED_12_5[[#This Row],[IdEstablecimiento]],'[1]Establecimiento 2023'!$A$1:$E$183,3,FALSE),0)","v":"105326-Centro de Salud Familiar Villa San Rafael de Rozas"},{"$f":"IFERROR(VLOOKUP(Tabla_SERIED_12_5[[#This Row],[IdEstablecimiento]],'[1]Establecimiento 2023'!$A$1:$E$183,5,FALSE),0)","v":"04201-Illapel"},"16100300","2022-11-15T14:35:44",214,93,121,4,89]
[{"$nulls":23},9,"5",2022,"105400",{"$f":"IFERROR(VLOOKUP(Tabla_SERIED_12_5[[#This Row],[IdEstablecimiento]],'[1]Establecimiento 2023'!$A$1:$E$183,3,FALSE),0)","v":"105400-Posta de Salud Rural Algarrobito"},{"$f":"IFERROR(VLOOKUP(Tabla_SERIED_12_5[[#This Row],[IdEstablecimiento]],'[1]Establecimiento 2023'!$A$1:$E$183,5,FALSE),0)","v":"04101-La Serena"},"15050200","2022-11-15T14:35:54",1,1,{"$nulls":6},1]
[{"$nulls":23},2,"5",2022,"105472",{"$f":"IFERROR(VLOOKUP(Tabla_SERIED_12_5[[#This Row],[IdEstablecimiento]],'[1]Establecimiento 2023'!$A$1:$E$183,3,FALSE),0)","v":"105472-Posta de Salud Rural Rivadavia"},{"$f":"IFERROR(VLOOKUP(Tabla_SERIED_12_5[[#This Row],[IdEstablecimiento]],'[1]Establecimiento 2023'!$A$1:$E$183,5,FALSE),0)","v":"04106-Vicuña"},"16200220","2022-03-17T09:50:58",4,2,2,null,1]
[{"$nulls":23},2,"5",2022,"105472",{"$f":"IFERROR(VLOOKUP(Tabla_SERIED_12_5[[#This Row],[IdEstablecimiento]],'[1]Establecimiento 2023'!$A$1:$E$183,3,FALSE),0)","v":"105472-Posta de Salud Rural Rivadavia"},{"$f":"IFERROR(VLOOKUP(Tabla_SERIED_12_5[[#This Row],[IdEstablecimiento]],'[1]Establecimiento 2023'!$A$1:$E$183,5,FALSE),0)","v":"04106-Vicuña"},"16100600","2022-03-17T09:50:58",3,null,3]
[{"$nulls":23},2,"5",2022,"105443",{"$f":"IFERROR(VLOOKUP(Tabla_SERIED_12_5[[#This Row],[IdEstablecimiento]],'[1]Establecimiento 2023'!$A$1:$E$183,3,FALSE),0)","v":"105443-Posta de Salud Rural Cárcamo"},{"$f":"IFERROR(VLOOKUP(Tabla_SERIED_12_5[[#This Row],[IdEstablecimiento]],'[1]Establecimiento 2023'!$A$1:$E$183,5,FALSE),0)","v":"04201-Illapel"},"16090300","2022-03-17T09:42:26",126,126]
[{"$nulls":23},2,"5",2022,"105473",{"$f":"IFERROR(VLOOKUP(Tabla_SERIED_12_5[[#This Row],[IdEstablecimiento]],'[1]Establecimiento 2023'!$A$1:$E$183,3,FALSE),0)","v":"105473-Posta de Salud Rural Talcuna"},{"$f":"IFERROR(VLOOKUP(Tabla_SERIED_12_5[[#This Row],[IdEstablecimiento]],'[1]Establecimiento 2023'!$A$1:$E$183,5,FALSE),0)","v":"04106-Vicuña"},"15010100","2022-03-17T09:51:11",8,null,null,2,6]
[{"$nulls":23},2,"5",2022,"105410",{"$f":"IFERROR(VLOOKUP(Tabla_SERIED_12_5[[#This Row],[IdEstablecimiento]],'[1]Establecimiento 2023'!$A$1:$E$183,3,FALSE),0)","v":"105410-Posta de Salud Rural Hurtado"},{"$f":"IFERROR(VLOOKUP(Tabla_SERIED_12_5[[#This Row],[IdEstablecimiento]],'[1]Establecimiento 2023'!$A$1:$E$183,5,FALSE),0)","v":"04305-Río Hurtado"},"15050500","2022-03-17T09:34:15",1,1,0,null,null,1]
[{"$nulls":23},6,"5",2022,"105325",{"$f":"IFERROR(VLOOKUP(Tabla_SERIED_12_5[[#This Row],[IdEstablecimiento]],'[1]Establecimiento 2023'!$A$1:$E$183,3,FALSE),0)","v":"105325-Centro de Salud Familiar Juan Pablo II (La Serena)"},{"$f":"IFERROR(VLOOKUP(Tabla_SERIED_12_5[[#This Row],[IdEstablecimiento]],'[1]Establecimiento 2023'!$A$1:$E$183,5,FALSE),0)","v":"04101-La Serena"},"15010400","2022-07-14T14:07:16",18,{"$nulls":4},6,8,4]
[{"$nulls":23},1,"5",2022,"105308",{"$f":"IFERROR(VLOOKUP(Tabla_SERIED_12_5[[#This Row],[IdEstablecimiento]],'[1]Establecimiento 2023'!$A$1:$E$183,3,FALSE),0)","v":"105308-Centro de Salud Familiar Punitaqui"},{"$f":"IFERROR(VLOOKUP(Tabla_SERIED_12_5[[#This Row],[IdEstablecimiento]],'[1]Establecimiento 2023'!$A$1:$E$183,5,FALSE),0)","v":"04304-Punitaqui"},"15010500","2022-02-17T08:05:20",10,{"$nulls":3},2,null,2,6]
[{"$nulls":23},1,"5",2022,"105307",{"$f":"IFERROR(VLOOKUP(Tabla_SERIED_12_5[[#This Row],[IdEstablecimiento]],'[1]Establecimiento 2023'!$A$1:$E$183,3,FALSE),0)","v":"105307-Centro de Salud Familiar Monte Patria"},{"$f":"IFERROR(VLOOKUP(Tabla_SERIED_12_5[[#This Row],[IdEstablecimiento]],'[1]Establecimiento 2023'!$A$1:$E$183,5,FALSE),0)","v":"04303-Monte Patria"},"16100300","2022-02-16T10:36:10",180,79,101,null,37]
[{"$nulls":23},7,"5",2022,"105700",{"$f":"IFERROR(VLOOKUP(Tabla_SERIED_12_5[[#This Row],[IdEstablecimiento]],'[1]Establecimiento 2023'!$A$1:$E$183,3,FALSE),0)","v":"105700-Centro Comunitario de Salud Familiar Villa el Indio"},{"$f":"IFERROR(VLOOKUP(Tabla_SERIED_12_5[[#This Row],[IdEstablecimiento]],'[1]Establecimiento 2023'!$A$1:$E$183,5,FALSE),0)","v":"04101-La Serena"},"16090300","2022-08-22T06:46:43",90,90]
[{"$nulls":23},7,"5",2022,"105700",{"$f":"IFERROR(VLOOKUP(Tabla_SERIED_12_5[[#This Row],[IdEstablecimiento]],'[1]Establecimiento 2023'!$A$1:$E$183,3,FALSE),0)","v":"105700-Centro Comunitario de Salud Familiar Villa el Indio"},{"$f":"IFERROR(VLOOKUP(Tabla_SERIED_12_5[[#This Row],[IdEstablecimiento]],'[1]Establecimiento 2023'!$A$1:$E$183,5,FALSE),0)","v":"04101-La Serena"},"16200210","2022-08-22T06:46:43",4,4]
[{"$nulls":23},5,"5",2022,"105511",{"$f":"IFERROR(VLOOKUP(Tabla_SERIED_12_5[[#This Row],[IdEstablecimiento]],'[1]Establecimiento 2023'!$A$1:$E$183,3,FALSE),0)","v":"105511-Posta de Salud Rural Los Cóndores"},{"$f":"IFERROR(VLOOKUP(Tabla_SERIED_12_5[[#This Row],[IdEstablecimiento]],'[1]Establecimiento 2023'!$A$1:$E$183,5,FALSE),0)","v":"04203-Los Vilos"},"16100300","2022-06-20T17:31:22",45,22,23,null,20]
[{"$nulls":23},2,"5",2022,"105432",{"$f":"IFERROR(VLOOKUP(Tabla_SERIED_12_5[[#This Row],[IdEstablecimiento]],'[1]Establecimiento 2023'!$A$1:$E$183,3,FALSE),0)","v":"105432-Posta de Salud Rural Rapel (Monte Patria)"},{"$f":"IFERROR(VLOOKUP(Tabla_SERIED_12_5[[#This Row],[IdEstablecimiento]],'[1]Establecimiento 2023'!$A$1:$E$183,5,FALSE),0)","v":"04303-Monte Patria"},"15010200","2022-05-18T15:46:58",26,{"$nulls":4},10,12,4]
[{"$nulls":23},5,"5",2022,"105405",{"$f":"IFERROR(VLOOKUP(Tabla_SERIED_12_5[[#This Row],[IdEstablecimiento]],'[1]Establecimiento 2023'!$A$1:$E$183,3,FALSE),0)","v":"105405-Posta de Salud Rural Guanaqueros"},{"$f":"IFERROR(VLOOKUP(Tabla_SERIED_12_5[[#This Row],[IdEstablecimiento]],'[1]Establecimiento 2023'!$A$1:$E$183,5,FALSE),0)","v":"04102-Coquimbo"},"15010400","2022-06-20T17:08:46",2,{"$nulls":5},0,2]
[{"$nulls":23},5,"5",2022,"105407",{"$f":"IFERROR(VLOOKUP(Tabla_SERIED_12_5[[#This Row],[IdEstablecimiento]],'[1]Establecimiento 2023'!$A$1:$E$183,3,FALSE),0)","v":"105407-Posta de Salud Rural Tambillo"},{"$f":"IFERROR(VLOOKUP(Tabla_SERIED_12_5[[#This Row],[IdEstablecimiento]],'[1]Establecimiento 2023'!$A$1:$E$183,5,FALSE),0)","v":"04102-Coquimbo"},"15050100","2022-06-20T17:09:43",12,2,10,null,null,1,null,2,1,3,2,null,3]
[{"$nulls":23},8,"5",2022,"105411",{"$f":"IFERROR(VLOOKUP(Tabla_SERIED_12_5[[#This Row],[IdEstablecimiento]],'[1]Establecimiento 2023'!$A$1:$E$183,3,FALSE),0)","v":"105411-Posta de Salud Rural Las Breas (Río Hurtado)"},{"$f":"IFERROR(VLOOKUP(Tabla_SERIED_12_5[[#This Row],[IdEstablecimiento]],'[1]Establecimiento 2023'!$A$1:$E$183,5,FALSE),0)","v":"04305-Río Hurtado"},"15050200","2022-09-21T07:22:30",1,1,{"$nulls":3},1]
[{"$nulls":23},9,"5",2022,"105401",{"$f":"IFERROR(VLOOKUP(Tabla_SERIED_12_5[[#This Row],[IdEstablecimiento]],'[1]Establecimiento 2023'!$A$1:$E$183,3,FALSE),0)","v":"105401-Posta de Salud Rural Las Rojas"},{"$f":"IFERROR(VLOOKUP(Tabla_SERIED_12_5[[#This Row],[IdEstablecimiento]],'[1]Establecimiento 2023'!$A$1:$E$183,5,FALSE),0)","v":"04101-La Serena"},"16100300","2022-11-15T14:36:03",53,24,29,2,26]
[{"$nulls":23},9,"5",2022,"105402",{"$f":"IFERROR(VLOOKUP(Tabla_SERIED_12_5[[#This Row],[IdEstablecimiento]],'[1]Establecimiento 2023'!$A$1:$E$183,3,FALSE),0)","v":"105402-Posta de Salud Rural El Romero"},{"$f":"IFERROR(VLOOKUP(Tabla_SERIED_12_5[[#This Row],[IdEstablecimiento]],'[1]Establecimiento 2023'!$A$1:$E$183,5,FALSE),0)","v":"04101-La Serena"},"16090300","2022-11-15T14:36:13",47,47]
[{"$nulls":23},9,"5",2022,"105402",{"$f":"IFERROR(VLOOKUP(Tabla_SERIED_12_5[[#This Row],[IdEstablecimiento]],'[1]Establecimiento 2023'!$A$1:$E$183,3,FALSE),0)","v":"105402-Posta de Salud Rural El Romero"},{"$f":"IFERROR(VLOOKUP(Tabla_SERIED_12_5[[#This Row],[IdEstablecimiento]],'[1]Establecimiento 2023'!$A$1:$E$183,5,FALSE),0)","v":"04101-La Serena"},"16100300","2022-11-15T14:36:13",47,25,22,null,4]
[{"$nulls":23},9,"5",2022,"105405",{"$f":"IFERROR(VLOOKUP(Tabla_SERIED_12_5[[#This Row],[IdEstablecimiento]],'[1]Establecimiento 2023'!$A$1:$E$183,3,FALSE),0)","v":"105405-Posta de Salud Rural Guanaqueros"},{"$f":"IFERROR(VLOOKUP(Tabla_SERIED_12_5[[#This Row],[IdEstablecimiento]],'[1]Establecimiento 2023'!$A$1:$E$183,5,FALSE),0)","v":"04102-Coquimbo"},"16090300","2022-11-15T14:36:26",63,63]
[{"$nulls":23},9,"5",2022,"105409",{"$f":"IFERROR(VLOOKUP(Tabla_SERIED_12_5[[#This Row],[IdEstablecimiento]],'[1]Establecimiento 2023'!$A$1:$E$183,3,FALSE),0)","v":"105409-Posta de Salud Rural El Chañar"},{"$f":"IFERROR(VLOOKUP(Tabla_SERIED_12_5[[#This Row],[IdEstablecimiento]],'[1]Establecimiento 2023'!$A$1:$E$183,5,FALSE),0)","v":"04305-Río Hurtado"},"15010200","2022-11-15T14:36:47",2,{"$nulls":5},2]
[{"$nulls":23},9,"5",2022,"105410",{"$f":"IFERROR(VLOOKUP(Tabla_SERIED_12_5[[#This Row],[IdEstablecimiento]],'[1]Establecimiento 2023'!$A$1:$E$183,3,FALSE),0)","v":"105410-Posta de Salud Rural Hurtado"},{"$f":"IFERROR(VLOOKUP(Tabla_SERIED_12_5[[#This Row],[IdEstablecimiento]],'[1]Establecimiento 2023'!$A$1:$E$183,5,FALSE),0)","v":"04305-Río Hurtado"},"15010400","2022-11-15T14:36:57",2,{"$nulls":4},2]
[{"$nulls":23},9,"5",2022,"105411",{"$f":"IFERROR(VLOOKUP(Tabla_SERIED_12_5[[#This Row],[IdEstablecimiento]],'[1]Establecimiento 2023'!$A$1:$E$183,3,FALSE),0)","v":"105411-Posta de Salud Rural Las Breas (Río Hurtado)"},{"$f":"IFERROR(VLOOKUP(Tabla_SERIED_12_5[[#This Row],[IdEstablecimiento]],'[1]Establecimiento 2023'!$A$1:$E$183,5,FALSE),0)","v":"04305-Río Hurtado"},"15010200","2022-11-15T14:37:07",4,{"$nulls":5},2,2]
[{"$nulls":23},9,"5",2022,"105411",{"$f":"IFERROR(VLOOKUP(Tabla_SERIED_12_5[[#This Row],[IdEstablecimiento]],'[1]Establecimiento 2023'!$A$1:$E$183,3,FALSE),0)","v":"105411-Posta de Salud Rural Las Breas (Río Hurtado)"},{"$f":"IFERROR(VLOOKUP(Tabla_SERIED_12_5[[#This Row],[IdEstablecimiento]],'[1]Establecimiento 2023'!$A$1:$E$183,5,FALSE),0)","v":"04305-Río Hurtado"},"16100300","2022-11-15T14:37:07",22,10,12,0,10]
[{"$nulls":23},9,"5",2022,"105413",{"$f":"IFERROR(VLOOKUP(Tabla_SERIED_12_5[[#This Row],[IdEstablecimiento]],'[1]Establecimiento 2023'!$A$1:$E$183,3,FALSE),0)","v":"105413-Posta de Salud Rural Samo Alto"},{"$f":"IFERROR(VLOOKUP(Tabla_SERIED_12_5[[#This Row],[IdEstablecimiento]],'[1]Establecimiento 2023'!$A$1:$E$183,5,FALSE),0)","v":"04305-Río Hurtado"},"16200220","2022-11-15T14:37:18",7,2,5,1]
[{"$nulls":23},7,"5",2022,"105700",{"$f":"IFERROR(VLOOKUP(Tabla_SERIED_12_5[[#This Row],[IdEstablecimiento]],'[1]Establecimiento 2023'!$A$1:$E$183,3,FALSE),0)","v":"105700-Centro Comunitario de Salud Familiar Villa el Indio"},{"$f":"IFERROR(VLOOKUP(Tabla_SERIED_12_5[[#This Row],[IdEstablecimiento]],'[1]Establecimiento 2023'!$A$1:$E$183,5,FALSE),0)","v":"04101-La Serena"},"16100300","2022-08-22T06:46:43",90,37,53,3,27]
[{"$nulls":23},2,"5",2022,"105407",{"$f":"IFERROR(VLOOKUP(Tabla_SERIED_12_5[[#This Row],[IdEstablecimiento]],'[1]Establecimiento 2023'!$A$1:$E$183,3,FALSE),0)","v":"105407-Posta de Salud Rural Tambillo"},{"$f":"IFERROR(VLOOKUP(Tabla_SERIED_12_5[[#This Row],[IdEstablecimiento]],'[1]Establecimiento 2023'!$A$1:$E$183,5,FALSE),0)","v":"04102-Coquimbo"},"16200220","2022-03-17T09:33:44",7,1,6]
[{"$nulls":23},1,"5",2022,"105484",{"$f":"IFERROR(VLOOKUP(Tabla_SERIED_12_5[[#This Row],[IdEstablecimiento]],'[1]Establecimiento 2023'!$A$1:$E$183,3,FALSE),0)","v":"105484-Posta de Salud Rural Huentelauquén"},{"$f":"IFERROR(VLOOKUP(Tabla_SERIED_12_5[[#This Row],[IdEstablecimiento]],'[1]Establecimiento 2023'!$A$1:$E$183,5,FALSE),0)","v":"04202-Canela"},"16090300","2022-02-17T03:57:48",51,51]
[{"$nulls":23},1,"5",2022,"105478",{"$f":"IFERROR(VLOOKUP(Tabla_SERIED_12_5[[#This Row],[IdEstablecimiento]],'[1]Establecimiento 2023'!$A$1:$E$183,3,FALSE),0)","v":"105478-Posta de Salud Rural Caimanes"},{"$f":"IFERROR(VLOOKUP(Tabla_SERIED_12_5[[#This Row],[IdEstablecimiento]],'[1]Establecimiento 2023'!$A$1:$E$183,5,FALSE),0)","v":"04203-Los Vilos"},"15010200","2022-02-17T03:55:39",32,{"$nulls":4},6,8,18]
[{"$nulls":23},3,"5",2022,"105441",{"$f":"IFERROR(VLOOKUP(Tabla_SERIED_12_5[[#This Row],[IdEstablecimiento]],'[1]Establecimiento 2023'!$A$1:$E$183,3,FALSE),0)","v":"105441-Posta de Salud Rural Manquehua"},{"$f":"IFERROR(VLOOKUP(Tabla_SERIED_12_5[[#This Row],[IdEstablecimiento]],'[1]Establecimiento 2023'!$A$1:$E$183,5,FALSE),0)","v":"04302-Combarbalá"},"16200220","2022-04-19T09:45:14",18,7,11,null,1]
[{"$nulls":23},3,"5",2022,"105443",{"$f":"IFERROR(VLOOKUP(Tabla_SERIED_12_5[[#This Row],[IdEstablecimiento]],'[1]Establecimiento 2023'!$A$1:$E$183,3,FALSE),0)","v":"105443-Posta de Salud Rural Cárcamo"},{"$f":"IFERROR(VLOOKUP(Tabla_SERIED_12_5[[#This Row],[IdEstablecimiento]],'[1]Establecimiento 2023'!$A$1:$E$183,5,FALSE),0)","v":"04201-Illapel"},"15010200","2022-04-19T09:45:43",12,{"$nulls":5},4,8]
[{"$nulls":23},7,"5",2022,"200367",{"$f":"IFERROR(VLOOKUP(Tabla_SERIED_12_5[[#This Row],[IdEstablecimiento]],'[1]Establecimiento 2023'!$A$1:$E$183,3,FALSE),0)","v":"200367-Centro Comunitario de Salud Familiar Colonia Limarí"},{"$f":"IFERROR(VLOOKUP(Tabla_SERIED_12_5[[#This Row],[IdEstablecimiento]],'[1]Establecimiento 2023'!$A$1:$E$183,5,FALSE),0)","v":"04301-Ovalle"},"15010500","2022-08-22T06:48:40",2,{"$nulls":5},2]
[{"$nulls":23},7,"5",2022,"105325",{"$f":"IFERROR(VLOOKUP(Tabla_SERIED_12_5[[#This Row],[IdEstablecimiento]],'[1]Establecimiento 2023'!$A$1:$E$183,3,FALSE),0)","v":"105325-Centro de Salud Familiar Juan Pablo II (La Serena)"},{"$f":"IFERROR(VLOOKUP(Tabla_SERIED_12_5[[#This Row],[IdEstablecimiento]],'[1]Establecimiento 2023'!$A$1:$E$183,5,FALSE),0)","v":"04101-La Serena"},"15050500","2022-08-19T12:03:07",8,4,4,4,2,2]
[{"$nulls":23},9,"5",2022,"200569",{"$f":"IFERROR(VLOOKUP(Tabla_SERIED_12_5[[#This Row],[IdEstablecimiento]],'[1]Establecimiento 2023'!$A$1:$E$183,3,FALSE),0)","v":"200569-Centro de Salud Familiar Fray Jorge"},{"$f":"IFERROR(VLOOKUP(Tabla_SERIED_12_5[[#This Row],[IdEstablecimiento]],'[1]Establecimiento 2023'!$A$1:$E$183,5,FALSE),0)","v":"04301-Ovalle"},"15900030","2022-11-15T15:00:30",1.2,null,1.2]
[{"$nulls":23},9,"5",2022,"200569",{"$f":"IFERROR(VLOOKUP(Tabla_SERIED_12_5[[#This Row],[IdEstablecimiento]],'[1]Establecimiento 2023'!$A$1:$E$183,3,FALSE),0)","v":"200569-Centro de Salud Familiar Fray Jorge"},{"$f":"IFERROR(VLOOKUP(Tabla_SERIED_12_5[[#This Row],[IdEstablecimiento]],'[1]Establecimiento 2023'!$A$1:$E$183,5,FALSE),0)","v":"04301-Ovalle"},"15901300","2022-11-15T15:00:30",7.2,null,null,4.4,2.8]
[{"$nulls":23},9,"5",2022,"200569",{"$f":"IFERROR(VLOOKUP(Tabla_SERIED_12_5[[#This Row],[IdEstablecimiento]],'[1]Establecimiento 2023'!$A$1:$E$183,3,FALSE),0)","v":"200569-Centro de Salud Familiar Fray Jorge"},{"$f":"IFERROR(VLOOKUP(Tabla_SERIED_12_5[[#This Row],[IdEstablecimiento]],'[1]Establecimiento 2023'!$A$1:$E$183,5,FALSE),0)","v":"04301-Ovalle"},"16090300","2022-11-15T15:00:30",414,409]
[{"$nulls":23},9,"5",2022,"200607",{"$f":"IFERROR(VLOOKUP(Tabla_SERIED_12_5[[#This Row],[IdEstablecimiento]],'[1]Establecimiento 2023'!$A$1:$E$183,3,FALSE),0)","v":"200607-Centro de Salud Familiar Lila Cortés Godoy"},{"$f":"IFERROR(VLOOKUP(Tabla_SERIED_12_5[[#This Row],[IdEstablecimiento]],'[1]Establecimiento 2023'!$A$1:$E$183,5,FALSE),0)","v":"04102-Coquimbo"},"15010400","2022-11-15T15:00:40",12,{"$nulls":4},4,6,2]
[{"$nulls":23},9,"5",2022,"200607",{"$f":"IFERROR(VLOOKUP(Tabla_SERIED_12_5[[#This Row],[IdEstablecimiento]],'[1]Establecimiento 2023'!$A$1:$E$183,3,FALSE),0)","v":"200607-Centro de Salud Familiar Lila Cortés Godoy"},{"$f":"IFERROR(VLOOKUP(Tabla_SERIED_12_5[[#This Row],[IdEstablecimiento]],'[1]Establecimiento 2023'!$A$1:$E$183,5,FALSE),0)","v":"04102-Coquimbo"},"15050500","2022-11-15T15:00:40",4,2,2,2,2,0]
[{"$nulls":23},9,"5",2022,"200607",{"$f":"IFERROR(VLOOKUP(Tabla_SERIED_12_5[[#This Row],[IdEstablecimiento]],'[1]Establecimiento 2023'!$A$1:$E$183,3,FALSE),0)","v":"200607-Centro de Salud Familiar Lila Cortés Godoy"},{"$f":"IFERROR(VLOOKUP(Tabla_SERIED_12_5[[#This Row],[IdEstablecimiento]],'[1]Establecimiento 2023'!$A$1:$E$183,5,FALSE),0)","v":"04102-Coquimbo"},"16200210","2022-11-15T15:00:40",54,54]
[{"$nulls":23},9,"5",2022,"105414",{"$f":"IFERROR(VLOOKUP(Tabla_SERIED_12_5[[#This Row],[IdEstablecimiento]],'[1]Establecimiento 2023'!$A$1:$E$183,3,FALSE),0)","v":"105414-Posta de Salud Rural Serón"},{"$f":"IFERROR(VLOOKUP(Tabla_SERIED_12_5[[#This Row],[IdEstablecimiento]],'[1]Establecimiento 2023'!$A$1:$E$183,5,FALSE),0)","v":"04305-Río Hurtado"},"15010500","2022-11-15T14:37:28",6,{"$nulls":5},4,2]
[{"$nulls":23},9,"5",2022,"105415",{"$f":"IFERROR(VLOOKUP(Tabla_SERIED_12_5[[#This Row],[IdEstablecimiento]],'[1]Establecimiento 2023'!$A$1:$E$183,3,FALSE),0)","v":"105415-Posta de Salud Rural Barraza"},{"$f":"IFERROR(VLOOKUP(Tabla_SERIED_12_5[[#This Row],[IdEstablecimiento]],'[1]Establecimiento 2023'!$A$1:$E$183,5,FALSE),0)","v":"04301-Ovalle"},"15080008","2022-11-15T14:37:38",6,{"$nulls":7},4,null,2]
[{"$nulls":23},9,"5",2022,"105416",{"$f":"IFERROR(VLOOKUP(Tabla_SERIED_12_5[[#This Row],[IdEstablecimiento]],'[1]Establecimiento 2023'!$A$1:$E$183,3,FALSE),0)","v":"105416-Posta de Salud Rural Camarico (Ovalle)"},{"$f":"IFERROR(VLOOKUP(Tabla_SERIED_12_5[[#This Row],[IdEstablecimiento]],'[1]Establecimiento 2023'!$A$1:$E$183,5,FALSE),0)","v":"04301-Ovalle"},"15010400","2022-11-15T14:37:49",4,{"$nulls":4},2,null,2]
[{"$nulls":23},9,"5",2022,"105416",{"$f":"IFERROR(VLOOKUP(Tabla_SERIED_12_5[[#This Row],[IdEstablecimiento]],'[1]Establecimiento 2023'!$A$1:$E$183,3,FALSE),0)","v":"105416-Posta de Salud Rural Camarico (Ovalle)"},{"$f":"IFERROR(VLOOKUP(Tabla_SERIED_12_5[[#This Row],[IdEstablecimiento]],'[1]Establecimiento 2023'!$A$1:$E$183,5,FALSE),0)","v":"04301-Ovalle"},"15010500","2022-11-15T14:37:49",4,{"$nulls":4},2,null,2]
[{"$nulls":23},9,"5",2022,"105417",{"$f":"IFERROR(VLOOKUP(Tabla_SERIED_12_5[[#This Row],[IdEstablecimiento]],'[1]Establecimiento 2023'!$A$1:$E$183,3,FALSE),0)","v":"105417-Posta de Salud Rural Alcones Bajo"},{"$f":"IFERROR(VLOOKUP(Tabla_SERIED_12_5[[#This Row],[IdEstablecimiento]],'[1]Establecimiento 2023'!$A$1:$E$183,5,FALSE),0)","v":"04301-Ovalle"},"15010200","2022-11-15T14:38:00",16,{"$nulls":4},4,6,6]
[{"$nulls":23},9,"5",2022,"105419",{"$f":"IFERROR(VLOOKUP(Tabla_SERIED_12_5[[#This Row],[IdEstablecimiento]],'[1]Establecimiento 2023'!$A$1:$E$183,3,FALSE),0)","v":"105419-Posta de Salud Rural Las Sossas"},{"$f":"IFERROR(VLOOKUP(Tabla_SERIED_12_5[[#This Row],[IdEstablecimiento]],'[1]Establecimiento 2023'!$A$1:$E$183,5,FALSE),0)","v":"04301-Ovalle"},"16090300","2022-11-15T14:38:10",44,44]
[{"$nulls":23},3,"5",2022,"105443",{"$f":"IFERROR(VLOOKUP(Tabla_SERIED_12_5[[#This Row],[IdEstablecimiento]],'[1]Establecimiento 2023'!$A$1:$E$183,3,FALSE),0)","v":"105443-Posta de Salud Rural Cárcamo"},{"$f":"IFERROR(VLOOKUP(Tabla_SERIED_12_5[[#This Row],[IdEstablecimiento]],'[1]Establecimiento 2023'!$A$1:$E$183,5,FALSE),0)","v":"04201-Illapel"},"16200210","2022-04-19T09:45:43",10,10]
[{"$nulls":23},1,"5",2022,"200569",{"$f":"IFERROR(VLOOKUP(Tabla_SERIED_12_5[[#This Row],[IdEstablecimiento]],'[1]Establecimiento 2023'!$A$1:$E$183,3,FALSE),0)","v":"200569-Centro de Salud Familiar Fray Jorge"},{"$f":"IFERROR(VLOOKUP(Tabla_SERIED_12_5[[#This Row],[IdEstablecimiento]],'[1]Establecimiento 2023'!$A$1:$E$183,5,FALSE),0)","v":"04301-Ovalle"},"16200210","2022-02-17T04:38:37",6,6]
[{"$nulls":23},3,"5",2022,"105315",{"$f":"IFERROR(VLOOKUP(Tabla_SERIED_12_5[[#This Row],[IdEstablecimiento]],'[1]Establecimiento 2023'!$A$1:$E$183,3,FALSE),0)","v":"105315-Centro de Salud Familiar Cerrillos de Tamaya"},{"$f":"IFERROR(VLOOKUP(Tabla_SERIED_12_5[[#This Row],[IdEstablecimiento]],'[1]Establecimiento 2023'!$A$1:$E$183,5,FALSE),0)","v":"04301-Ovalle"},"15010400","2022-04-19T08:09:49",4,{"$nulls":6},4]
[{"$nulls":23},10,"5",2022,"105308",{"$f":"IFERROR(VLOOKUP(Tabla_SERIED_12_5[[#This Row],[IdEstablecimiento]],'[1]Establecimiento 2023'!$A$1:$E$183,3,FALSE),0)","v":"105308-Centro de Salud Familiar Punitaqui"},{"$f":"IFERROR(VLOOKUP(Tabla_SERIED_12_5[[#This Row],[IdEstablecimiento]],'[1]Establecimiento 2023'!$A$1:$E$183,5,FALSE),0)","v":"04304-Punitaqui"},"15050100","2022-11-16T15:24:33",270,119,151,2,4,25,30,25,57,57,37,null,25,null,8]
[{"$nulls":23},10,"5",2022,"105440",{"$f":"IFERROR(VLOOKUP(Tabla_SERIED_12_5[[#This Row],[IdEstablecimiento]],'[1]Establecimiento 2023'!$A$1:$E$183,3,FALSE),0)","v":"105440-Posta de Salud Rural Divisadero"},{"$f":"IFERROR(VLOOKUP(Tabla_SERIED_12_5[[#This Row],[IdEstablecimiento]],'[1]Establecimiento 2023'!$A$1:$E$183,5,FALSE),0)","v":"04304-Punitaqui"},"16090300","2022-11-16T15:24:54",53,53]
[{"$nulls":23},10,"5",2022,"105440",{"$f":"IFERROR(VLOOKUP(Tabla_SERIED_12_5[[#This Row],[IdEstablecimiento]],'[1]Establecimiento 2023'!$A$1:$E$183,3,FALSE),0)","v":"105440-Posta de Salud Rural Divisadero"},{"$f":"IFERROR(VLOOKUP(Tabla_SERIED_12_5[[#This Row],[IdEstablecimiento]],'[1]Establecimiento 2023'!$A$1:$E$183,5,FALSE),0)","v":"04304-Punitaqui"},"16100300","2022-11-16T15:24:54",53,28,25]
[{"$nulls":23},8,"5",2022,"105470",{"$f":"IFERROR(VLOOKUP(Tabla_SERIED_12_5[[#This Row],[IdEstablecimiento]],'[1]Establecimiento 2023'!$A$1:$E$183,3,FALSE),0)","v":"105470-Posta de Salud Rural Huanta"},{"$f":"IFERROR(VLOOKUP(Tabla_SERIED_12_5[[#This Row],[IdEstablecimiento]],'[1]Establecimiento 2023'!$A$1:$E$183,5,FALSE),0)","v":"04106-Vicuña"},"15050100","2022-09-21T07:48:54",1,0,1,{"$nulls":5},1]
[{"$nulls":23},8,"5",2022,"105471",{"$f":"IFERROR(VLOOKUP(Tabla_SERIED_12_5[[#This Row],[IdEstablecimiento]],'[1]Establecimiento 2023'!$A$1:$E$183,3,FALSE),0)","v":"105471-Posta de Salud Rural Peralillo Vicuña"},{"$f":"IFERROR(VLOOKUP(Tabla_SERIED_12_5[[#This Row],[IdEstablecimiento]],'[1]Establecimiento 2023'!$A$1:$E$183,5,FALSE),0)","v":"04106-Vicuña"},"15080008","2022-09-21T07:49:04",6,{"$nulls":7},3,null,2,null,1]
[{"$nulls":23},8,"5",2022,"105472",{"$f":"IFERROR(VLOOKUP(Tabla_SERIED_12_5[[#This Row],[IdEstablecimiento]],'[1]Establecimiento 2023'!$A$1:$E$183,3,FALSE),0)","v":"105472-Posta de Salud Rural Rivadavia"},{"$f":"IFERROR(VLOOKUP(Tabla_SERIED_12_5[[#This Row],[IdEstablecimiento]],'[1]Establecimiento 2023'!$A$1:$E$183,5,FALSE),0)","v":"04106-Vicuña"},"15010200","2022-09-21T07:49:27",38,{"$nulls":4},4,14,20]
[{"$nulls":23},3,"5",2022,"105325",{"$f":"IFERROR(VLOOKUP(Tabla_SERIED_12_5[[#This Row],[IdEstablecimiento]],'[1]Establecimiento 2023'!$A$1:$E$183,3,FALSE),0)","v":"105325-Centro de Salud Familiar Juan Pablo II (La Serena)"},{"$f":"IFERROR(VLOOKUP(Tabla_SERIED_12_5[[#This Row],[IdEstablecimiento]],'[1]Establecimiento 2023'!$A$1:$E$183,5,FALSE),0)","v":"04101-La Serena"},"15900040","2022-04-19T08:11:56",12,0,0,8.8,3.2,0]
[{"$nulls":23},5,"5",2022,"105304",{"$f":"IFERROR(VLOOKUP(Tabla_SERIED_12_5[[#This Row],[IdEstablecimiento]],'[1]Establecimiento 2023'!$A$1:$E$183,3,FALSE),0)","v":"105304-Centro de Salud Familiar Santa Cecilia"},{"$f":"IFERROR(VLOOKUP(Tabla_SERIED_12_5[[#This Row],[IdEstablecimiento]],'[1]Establecimiento 2023'!$A$1:$E$183,5,FALSE),0)","v":"04102-Coquimbo"},"15060100","2022-06-20T17:00:17",9,4,5,0,0,1,3,1,3,1]
[{"$nulls":23},4,"5",2022,"105304",{"$f":"IFERROR(VLOOKUP(Tabla_SERIED_12_5[[#This Row],[IdEstablecimiento]],'[1]Establecimiento 2023'!$A$1:$E$183,3,FALSE),0)","v":"105304-Centro de Salud Familiar Santa Cecilia"},{"$f":"IFERROR(VLOOKUP(Tabla_SERIED_12_5[[#This Row],[IdEstablecimiento]],'[1]Establecimiento 2023'!$A$1:$E$183,5,FALSE),0)","v":"04102-Coquimbo"},"15050100","2022-05-18T11:50:01",468,179,289,4,14,38,69,44,85,87,91,null,13,9,14]
[{"$nulls":23},2,"5",2022,"105427",{"$f":"IFERROR(VLOOKUP(Tabla_SERIED_12_5[[#This Row],[IdEstablecimiento]],'[1]Establecimiento 2023'!$A$1:$E$183,3,FALSE),0)","v":"105427-Posta de Salud Rural Hacienda Valdivia"},{"$f":"IFERROR(VLOOKUP(Tabla_SERIED_12_5[[#This Row],[IdEstablecimiento]],'[1]Establecimiento 2023'!$A$1:$E$183,5,FALSE),0)","v":"04303-Monte Patria"},"15050100","2022-05-18T15:46:26",7,3,4,{"$nulls":3},1,null,2,2,1,null,1,0,0]
[{"$nulls":23},2,"5",2022,"105427",{"$f":"IFERROR(VLOOKUP(Tabla_SERIED_12_5[[#This Row],[IdEstablecimiento]],'[1]Establecimiento 2023'!$A$1:$E$183,3,FALSE),0)","v":"105427-Posta de Salud Rural Hacienda Valdivia"},{"$f":"IFERROR(VLOOKUP(Tabla_SERIED_12_5[[#This Row],[IdEstablecimiento]],'[1]Establecimiento 2023'!$A$1:$E$183,5,FALSE),0)","v":"04303-Monte Patria"},"15050200","2022-05-18T15:46:26",1,1,{"$nulls":3},1]
[{"$nulls":23},2,"5",2022,"105459",{"$f":"IFERROR(VLOOKUP(Tabla_SERIED_12_5[[#This Row],[IdEstablecimiento]],'[1]Establecimiento 2023'!$A$1:$E$183,3,FALSE),0)","v":"105459-Posta de Salud Rural Barrancas"},{"$f":"IFERROR(VLOOKUP(Tabla_SERIED_12_5[[#This Row],[IdEstablecimiento]],'[1]Establecimiento 2023'!$A$1:$E$183,5,FALSE),0)","v":"04302-Combarbalá"},"16100600","2022-03-17T09:46:00",2,1,1,null,1]
[{"$nulls":23},9,"5",2022,"105422",{"$f":"IFERROR(VLOOKUP(Tabla_SERIED_12_5[[#This Row],[IdEstablecimiento]],'[1]Establecimiento 2023'!$A$1:$E$183,3,FALSE),0)","v":"105422-Posta de Salud Rural Hornillos"},{"$f":"IFERROR(VLOOKUP(Tabla_SERIED_12_5[[#This Row],[IdEstablecimiento]],'[1]Establecimiento 2023'!$A$1:$E$183,5,FALSE),0)","v":"04301-Ovalle"},"16200220","2022-11-15T14:38:22",5,4,1]
[{"$nulls":23},9,"5",2022,"105425",{"$f":"IFERROR(VLOOKUP(Tabla_SERIED_12_5[[#This Row],[IdEstablecimiento]],'[1]Establecimiento 2023'!$A$1:$E$183,3,FALSE),0)","v":"105425-Posta de Salud Rural Chilecito"},{"$f":"IFERROR(VLOOKUP(Tabla_SERIED_12_5[[#This Row],[IdEstablecimiento]],'[1]Establecimiento 2023'!$A$1:$E$183,5,FALSE),0)","v":"04303-Monte Patria"},"16100300","2022-11-15T14:38:35",37,17,20,1]
[{"$nulls":23},9,"5",2022,"105428",{"$f":"IFERROR(VLOOKUP(Tabla_SERIED_12_5[[#This Row],[IdEstablecimiento]],'[1]Establecimiento 2023'!$A$1:$E$183,3,FALSE),0)","v":"105428-Posta de Salud Rural Huatulame"},{"$f":"IFERROR(VLOOKUP(Tabla_SERIED_12_5[[#This Row],[IdEstablecimiento]],'[1]Establecimiento 2023'!$A$1:$E$183,5,FALSE),0)","v":"04303-Monte Patria"},"15010100","2022-11-15T14:38:58",4,{"$nulls":3},4]
[{"$nulls":23},9,"5",2022,"105428",{"$f":"IFERROR(VLOOKUP(Tabla_SERIED_12_5[[#This Row],[IdEstablecimiento]],'[1]Establecimiento 2023'!$A$1:$E$183,3,FALSE),0)","v":"105428-Posta de Salud Rural Huatulame"},{"$f":"IFERROR(VLOOKUP(Tabla_SERIED_12_5[[#This Row],[IdEstablecimiento]],'[1]Establecimiento 2023'!$A$1:$E$183,5,FALSE),0)","v":"04303-Monte Patria"},"16200220","2022-11-15T14:38:58",0,{"$nulls":3},2]
[{"$nulls":23},9,"5",2022,"105430",{"$f":"IFERROR(VLOOKUP(Tabla_SERIED_12_5[[#This Row],[IdEstablecimiento]],'[1]Establecimiento 2023'!$A$1:$E$183,3,FALSE),0)","v":"105430-Posta de Salud Rural Mialqui"},{"$f":"IFERROR(VLOOKUP(Tabla_SERIED_12_5[[#This Row],[IdEstablecimiento]],'[1]Establecimiento 2023'!$A$1:$E$183,5,FALSE),0)","v":"04303-Monte Patria"},"16200220","2022-11-15T14:39:08",5,3,2]
[{"$nulls":23},4,"5",2022,"105473",{"$f":"IFERROR(VLOOKUP(Tabla_SERIED_12_5[[#This Row],[IdEstablecimiento]],'[1]Establecimiento 2023'!$A$1:$E$183,3,FALSE),0)","v":"105473-Posta de Salud Rural Talcuna"},{"$f":"IFERROR(VLOOKUP(Tabla_SERIED_12_5[[#This Row],[IdEstablecimiento]],'[1]Establecimiento 2023'!$A$1:$E$183,5,FALSE),0)","v":"04106-Vicuña"},"15010200","2022-05-18T15:12:46",44,{"$nulls":4},8,22,14]
[{"$nulls":23},4,"5",2022,"105473",{"$f":"IFERROR(VLOOKUP(Tabla_SERIED_12_5[[#This Row],[IdEstablecimiento]],'[1]Establecimiento 2023'!$A$1:$E$183,3,FALSE),0)","v":"105473-Posta de Salud Rural Talcuna"},{"$f":"IFERROR(VLOOKUP(Tabla_SERIED_12_5[[#This Row],[IdEstablecimiento]],'[1]Establecimiento 2023'!$A$1:$E$183,5,FALSE),0)","v":"04106-Vicuña"},"15080008","2022-05-18T15:12:46",2,{"$nulls":7},1,{"$nulls":3},1]
[{"$nulls":23},3,"5",2022,"105455",{"$f":"IFERROR(VLOOKUP(Tabla_SERIED_12_5[[#This Row],[IdEstablecimiento]],'[1]Establecimiento 2023'!$A$1:$E$183,3,FALSE),0)","v":"105455-CESFAM Valle Alto"},{"$f":"IFERROR(VLOOKUP(Tabla_SERIED_12_5[[#This Row],[IdEstablecimiento]],'[1]Establecimiento 2023'!$A$1:$E$183,5,FALSE),0)","v":"04204-Salamanca"},"15010500","2022-04-19T09:50:04",4,{"$nulls":5},2,2]
[{"$nulls":23},5,"5",2022,"105458",{"$f":"IFERROR(VLOOKUP(Tabla_SERIED_12_5[[#This Row],[IdEstablecimiento]],'[1]Establecimiento 2023'!$A$1:$E$183,3,FALSE),0)","v":"105458-Posta de Salud Rural Tahuinco"},{"$f":"IFERROR(VLOOKUP(Tabla_SERIED_12_5[[#This Row],[IdEstablecimiento]],'[1]Establecimiento 2023'!$A$1:$E$183,5,FALSE),0)","v":"04204-Salamanca"},"15010100","2022-06-22T10:51:24",25,null,null,2,22,{"$nulls":3},1]
[{"$nulls":23},1,"5",2022,"105308",{"$f":"IFERROR(VLOOKUP(Tabla_SERIED_12_5[[#This Row],[IdEstablecimiento]],'[1]Establecimiento 2023'!$A$1:$E$183,3,FALSE),0)","v":"105308-Centro de Salud Familiar Punitaqui"},{"$f":"IFERROR(VLOOKUP(Tabla_SERIED_12_5[[#This Row],[IdEstablecimiento]],'[1]Establecimiento 2023'!$A$1:$E$183,5,FALSE),0)","v":"04304-Punitaqui"},"16090300","2022-02-17T08:05:20",423,423]
[{"$nulls":23},1,"5",2022,"105300",{"$f":"IFERROR(VLOOKUP(Tabla_SERIED_12_5[[#This Row],[IdEstablecimiento]],'[1]Establecimiento 2023'!$A$1:$E$183,3,FALSE),0)","v":"105300-Centro de Salud Familiar Cardenal Caro"},{"$f":"IFERROR(VLOOKUP(Tabla_SERIED_12_5[[#This Row],[IdEstablecimiento]],'[1]Establecimiento 2023'!$A$1:$E$183,5,FALSE),0)","v":"04101-La Serena"},"16100100","2022-02-16T10:34:03",9,2,7]
[{"$nulls":23},10,"5",2022,"105322",{"$f":"IFERROR(VLOOKUP(Tabla_SERIED_12_5[[#This Row],[IdEstablecimiento]],'[1]Establecimiento 2023'!$A$1:$E$183,3,FALSE),0)","v":"105322-Centro de Salud Familiar Marcos Macuada"},{"$f":"IFERROR(VLOOKUP(Tabla_SERIED_12_5[[#This Row],[IdEstablecimiento]],'[1]Establecimiento 2023'!$A$1:$E$183,5,FALSE),0)","v":"04301-Ovalle"},"15050100","2022-11-15T13:35:05",435,164,271,1,3,33,53,48,104,94,66,null,22,1,10]
[{"$nulls":23},5,"5",2022,"105486",{"$f":"IFERROR(VLOOKUP(Tabla_SERIED_12_5[[#This Row],[IdEstablecimiento]],'[1]Establecimiento 2023'!$A$1:$E$183,3,FALSE),0)","v":"105486-Posta de Salud Rural Tunga Sur"},{"$f":"IFERROR(VLOOKUP(Tabla_SERIED_12_5[[#This Row],[IdEstablecimiento]],'[1]Establecimiento 2023'!$A$1:$E$183,5,FALSE),0)","v":"04201-Illapel"},"15010100","2022-06-20T17:25:03",2,{"$nulls":3},2]
[{"$nulls":23},5,"5",2022,"105301",{"$f":"IFERROR(VLOOKUP(Tabla_SERIED_12_5[[#This Row],[IdEstablecimiento]],'[1]Establecimiento 2023'!$A$1:$E$183,3,FALSE),0)","v":"105301-Centro de Salud Familiar Las Compañías"},{"$f":"IFERROR(VLOOKUP(Tabla_SERIED_12_5[[#This Row],[IdEstablecimiento]],'[1]Establecimiento 2023'!$A$1:$E$183,5,FALSE),0)","v":"04101-La Serena"},"15050200","2022-06-20T16:59:40",5,2,3,0,0,2,1,0,1,null,null,0,0,1,0]
[{"$nulls":23},5,"5",2022,"105301",{"$f":"IFERROR(VLOOKUP(Tabla_SERIED_12_5[[#This Row],[IdEstablecimiento]],'[1]Establecimiento 2023'!$A$1:$E$183,3,FALSE),0)","v":"105301-Centro de Salud Familiar Las Compañías"},{"$f":"IFERROR(VLOOKUP(Tabla_SERIED_12_5[[#This Row],[IdEstablecimiento]],'[1]Establecimiento 2023'!$A$1:$E$183,5,FALSE),0)","v":"04101-La Serena"},"15050500","2022-06-20T16:59:40",1,1,0,0,0,1]
[{"$nulls":23},10,"5",2022,"105318",{"$f":"IFERROR(VLOOKUP(Tabla_SERIED_12_5[[#This Row],[IdEstablecimiento]],'[1]Establecimiento 2023'!$A$1:$E$183,3,FALSE),0)","v":"105318-Centro de Salud Familiar El Palqui"},{"$f":"IFERROR(VLOOKUP(Tabla_SERIED_12_5[[#This Row],[IdEstablecimiento]],'[1]Establecimiento 2023'!$A$1:$E$183,5,FALSE),0)","v":"04303-Monte Patria"},"15080008","2022-11-15T13:34:23",92,{"$nulls":7},31,null,48,null,13]
[{"$nulls":23},4,"5",2022,"105302",{"$f":"IFERROR(VLOOKUP(Tabla_SERIED_12_5[[#This Row],[IdEstablecimiento]],'[1]Establecimiento 2023'!$A$1:$E$183,3,FALSE),0)","v":"105302-Centro de Salud Familiar Pedro Aguirre Cerda"},{"$f":"IFERROR(VLOOKUP(Tabla_SERIED_12_5[[#This Row],[IdEstablecimiento]],'[1]Establecimiento 2023'!$A$1:$E$183,5,FALSE),0)","v":"04101-La Serena"},"15901300","2022-05-18T11:49:37",4.4,{"$nulls":4},4.4]
[{"$nulls":23},10,"5",2022,"105322",{"$f":"IFERROR(VLOOKUP(Tabla_SERIED_12_5[[#This Row],[IdEstablecimiento]],'[1]Establecimiento 2023'!$A$1:$E$183,3,FALSE),0)","v":"105322-Centro de Salud Familiar Marcos Macuada"},{"$f":"IFERROR(VLOOKUP(Tabla_SERIED_12_5[[#This Row],[IdEstablecimiento]],'[1]Establecimiento 2023'!$A$1:$E$183,5,FALSE),0)","v":"04301-Ovalle"},"16090300","2022-11-15T13:35:05",764,764]
[{"$nulls":23},8,"5",2022,"105325",{"$f":"IFERROR(VLOOKUP(Tabla_SERIED_12_5[[#This Row],[IdEstablecimiento]],'[1]Establecimiento 2023'!$A$1:$E$183,3,FALSE),0)","v":"105325-Centro de Salud Familiar Juan Pablo II (La Serena)"},{"$f":"IFERROR(VLOOKUP(Tabla_SERIED_12_5[[#This Row],[IdEstablecimiento]],'[1]Establecimiento 2023'!$A$1:$E$183,5,FALSE),0)","v":"04101-La Serena"},"15080008","2022-09-21T07:20:10",178,{"$nulls":7},92,null,46,11,29]
[{"$nulls":23},8,"5",2022,"105325",{"$f":"IFERROR(VLOOKUP(Tabla_SERIED_12_5[[#This Row],[IdEstablecimiento]],'[1]Establecimiento 2023'!$A$1:$E$183,3,FALSE),0)","v":"105325-Centro de Salud Familiar Juan Pablo II (La Serena)"},{"$f":"IFERROR(VLOOKUP(Tabla_SERIED_12_5[[#This Row],[IdEstablecimiento]],'[1]Establecimiento 2023'!$A$1:$E$183,5,FALSE),0)","v":"04101-La Serena"},"15900040","2022-09-21T07:20:10",3.2,0,0,0,0,3.2]
[{"$nulls":23},5,"5",2022,"105458",{"$f":"IFERROR(VLOOKUP(Tabla_SERIED_12_5[[#This Row],[IdEstablecimiento]],'[1]Establecimiento 2023'!$A$1:$E$183,3,FALSE),0)","v":"105458-Posta de Salud Rural Tahuinco"},{"$f":"IFERROR(VLOOKUP(Tabla_SERIED_12_5[[#This Row],[IdEstablecimiento]],'[1]Establecimiento 2023'!$A$1:$E$183,5,FALSE),0)","v":"04204-Salamanca"},"15900020","2022-06-22T10:51:24",1.6,null,1.6]
[{"$nulls":23},5,"5",2022,"200366",{"$f":"IFERROR(VLOOKUP(Tabla_SERIED_12_5[[#This Row],[IdEstablecimiento]],'[1]Establecimiento 2023'!$A$1:$E$183,3,FALSE),0)","v":"200366-Centro de Salud Familiar Urbano de Illapel"},{"$f":"IFERROR(VLOOKUP(Tabla_SERIED_12_5[[#This Row],[IdEstablecimiento]],'[1]Establecimiento 2023'!$A$1:$E$183,5,FALSE),0)","v":"04201-Illapel"},"15020200","2022-06-20T17:36:22",8,{"$nulls":5},4,4]
[{"$nulls":23},2,"5",2022,"105313",{"$f":"IFERROR(VLOOKUP(Tabla_SERIED_12_5[[#This Row],[IdEstablecimiento]],'[1]Establecimiento 2023'!$A$1:$E$183,3,FALSE),0)","v":"105313-Centro de Salud Familiar Dr. Emilio Schaffhauser"},{"$f":"IFERROR(VLOOKUP(Tabla_SERIED_12_5[[#This Row],[IdEstablecimiento]],'[1]Establecimiento 2023'!$A$1:$E$183,5,FALSE),0)","v":"04101-La Serena"},"15010500","2022-03-17T09:29:40",6,null,null,2,2,null,2]
[{"$nulls":23},7,"5",2022,"105488",{"$f":"IFERROR(VLOOKUP(Tabla_SERIED_12_5[[#This Row],[IdEstablecimiento]],'[1]Establecimiento 2023'!$A$1:$E$183,3,FALSE),0)","v":"105488-Posta de Salud Rural Espíritu Santo"},{"$f":"IFERROR(VLOOKUP(Tabla_SERIED_12_5[[#This Row],[IdEstablecimiento]],'[1]Establecimiento 2023'!$A$1:$E$183,5,FALSE),0)","v":"04202-Canela"},"15010200","2022-08-22T06:33:45",2,{"$nulls":6},2]
[{"$nulls":23},2,"5",2022,"105318",{"$f":"IFERROR(VLOOKUP(Tabla_SERIED_12_5[[#This Row],[IdEstablecimiento]],'[1]Establecimiento 2023'!$A$1:$E$183,3,FALSE),0)","v":"105318-Centro de Salud Familiar El Palqui"},{"$f":"IFERROR(VLOOKUP(Tabla_SERIED_12_5[[#This Row],[IdEstablecimiento]],'[1]Establecimiento 2023'!$A$1:$E$183,5,FALSE),0)","v":"04303-Monte Patria"},"16100300","2022-03-17T09:30:35",359,159,200,4,28]
[{"$nulls":23},2,"5",2022,"105445",{"$f":"IFERROR(VLOOKUP(Tabla_SERIED_12_5[[#This Row],[IdEstablecimiento]],'[1]Establecimiento 2023'!$A$1:$E$183,3,FALSE),0)","v":"105445-Posta de Salud Rural Limáhuida"},{"$f":"IFERROR(VLOOKUP(Tabla_SERIED_12_5[[#This Row],[IdEstablecimiento]],'[1]Establecimiento 2023'!$A$1:$E$183,5,FALSE),0)","v":"04201-Illapel"},"15010200","2022-03-17T09:42:54",18,{"$nulls":4},2,4,12]
[{"$nulls":23},9,"5",2022,"105432",{"$f":"IFERROR(VLOOKUP(Tabla_SERIED_12_5[[#This Row],[IdEstablecimiento]],'[1]Establecimiento 2023'!$A$1:$E$183,3,FALSE),0)","v":"105432-Posta de Salud Rural Rapel (Monte Patria)"},{"$f":"IFERROR(VLOOKUP(Tabla_SERIED_12_5[[#This Row],[IdEstablecimiento]],'[1]Establecimiento 2023'!$A$1:$E$183,5,FALSE),0)","v":"04303-Monte Patria"},"15010200","2022-11-15T14:39:31",26,{"$nulls":4},6,16,4]
[{"$nulls":23},9,"5",2022,"105433",{"$f":"IFERROR(VLOOKUP(Tabla_SERIED_12_5[[#This Row],[IdEstablecimiento]],'[1]Establecimiento 2023'!$A$1:$E$183,3,FALSE),0)","v":"105433-Posta de Salud Rural San Lorenzo (Combarbalá)"},{"$f":"IFERROR(VLOOKUP(Tabla_SERIED_12_5[[#This Row],[IdEstablecimiento]],'[1]Establecimiento 2023'!$A$1:$E$183,5,FALSE),0)","v":"04302-Combarbalá"},"15050100","2022-11-15T14:39:42",2,1,1,{"$nulls":5},2]
[{"$nulls":23},9,"5",2022,"105434",{"$f":"IFERROR(VLOOKUP(Tabla_SERIED_12_5[[#This Row],[IdEstablecimiento]],'[1]Establecimiento 2023'!$A$1:$E$183,3,FALSE),0)","v":"105434-Posta de Salud Rural San Marcos (Combarbalá)"},{"$f":"IFERROR(VLOOKUP(Tabla_SERIED_12_5[[#This Row],[IdEstablecimiento]],'[1]Establecimiento 2023'!$A$1:$E$183,5,FALSE),0)","v":"04302-Combarbalá"},"16200210","2022-11-15T14:39:58",4,4]
[{"$nulls":23},1,"5",2022,"105498",{"$f":"IFERROR(VLOOKUP(Tabla_SERIED_12_5[[#This Row],[IdEstablecimiento]],'[1]Establecimiento 2023'!$A$1:$E$183,3,FALSE),0)","v":"105498-Posta de Salud Rural Quebrada Linares"},{"$f":"IFERROR(VLOOKUP(Tabla_SERIED_12_5[[#This Row],[IdEstablecimiento]],'[1]Establecimiento 2023'!$A$1:$E$183,5,FALSE),0)","v":"04202-Canela"},"15010100","2022-02-17T04:10:43",2,{"$nulls":3},2]
[{"$nulls":23},1,"5",2022,"105498",{"$f":"IFERROR(VLOOKUP(Tabla_SERIED_12_5[[#This Row],[IdEstablecimiento]],'[1]Establecimiento 2023'!$A$1:$E$183,3,FALSE),0)","v":"105498-Posta de Salud Rural Quebrada Linares"},{"$f":"IFERROR(VLOOKUP(Tabla_SERIED_12_5[[#This Row],[IdEstablecimiento]],'[1]Establecimiento 2023'!$A$1:$E$183,5,FALSE),0)","v":"04202-Canela"},"15010200","2022-02-17T04:10:43",2,{"$nulls":5},2]
[{"$nulls":23},1,"5",2022,"200538",{"$f":"IFERROR(VLOOKUP(Tabla_SERIED_12_5[[#This Row],[IdEstablecimiento]],'[1]Establecimiento 2023'!$A$1:$E$183,3,FALSE),0)","v":"200538-Centro de Salud Familiar San Isidro Calingasta"},{"$f":"IFERROR(VLOOKUP(Tabla_SERIED_12_5[[#This Row],[IdEstablecimiento]],'[1]Establecimiento 2023'!$A$1:$E$183,5,FALSE),0)","v":"04106-Vicuña"},"15010400","2022-02-17T04:31:41",10,{"$nulls":4},4,6]
[{"$nulls":23},7,"5",2022,"105107",{"$f":"IFERROR(VLOOKUP(Tabla_SERIED_12_5[[#This Row],[IdEstablecimiento]],'[1]Establecimiento 2023'!$A$1:$E$183,3,FALSE),0)","v":"105107-Hospital San Juan de Dios (Vicuña)"},{"$f":"IFERROR(VLOOKUP(Tabla_SERIED_12_5[[#This Row],[IdEstablecimiento]],'[1]Establecimiento 2023'!$A$1:$E$183,5,FALSE),0)","v":"105107-Hospital Vicuña"},"16200210","2022-08-19T11:39:44",11,11]
[{"$nulls":23},7,"5",2022,"105108",{"$f":"IFERROR(VLOOKUP(Tabla_SERIED_12_5[[#This Row],[IdEstablecimiento]],'[1]Establecimiento 2023'!$A$1:$E$183,3,FALSE),0)","v":"105108-Hospital San Pedro (Los Vilos)"},{"$f":"IFERROR(VLOOKUP(Tabla_SERIED_12_5[[#This Row],[IdEstablecimiento]],'[1]Establecimiento 2023'!$A$1:$E$183,5,FALSE),0)","v":"105108-Hospital Los Vilos"},"15080009","2022-08-19T11:39:56",3,{"$nulls":8},3]
[{"$nulls":23},4,"5",2022,"105302",{"$f":"IFERROR(VLOOKUP(Tabla_SERIED_12_5[[#This Row],[IdEstablecimiento]],'[1]Establecimiento 2023'!$A$1:$E$183,3,FALSE),0)","v":"105302-Centro de Salud Familiar Pedro Aguirre Cerda"},{"$f":"IFERROR(VLOOKUP(Tabla_SERIED_12_5[[#This Row],[IdEstablecimiento]],'[1]Establecimiento 2023'!$A$1:$E$183,5,FALSE),0)","v":"04101-La Serena"},"16100300","2022-05-18T11:49:37",638,249,389,19,121]
[{"$nulls":23},4,"5",2022,"105303",{"$f":"IFERROR(VLOOKUP(Tabla_SERIED_12_5[[#This Row],[IdEstablecimiento]],'[1]Establecimiento 2023'!$A$1:$E$183,3,FALSE),0)","v":"105303-Centro de Salud Familiar San Juan"},{"$f":"IFERROR(VLOOKUP(Tabla_SERIED_12_5[[#This Row],[IdEstablecimiento]],'[1]Establecimiento 2023'!$A$1:$E$183,5,FALSE),0)","v":"04102-Coquimbo"},"15050100","2022-05-18T11:49:48",488,187,301,0,0,0,73,50,123,98,92,null,23,4,25]
[{"$nulls":23},3,"5",2022,"105309",{"$f":"IFERROR(VLOOKUP(Tabla_SERIED_12_5[[#This Row],[IdEstablecimiento]],'[1]Establecimiento 2023'!$A$1:$E$183,3,FALSE),0)","v":"105309-Centro de Salud Familiar Canela"},{"$f":"IFERROR(VLOOKUP(Tabla_SERIED_12_5[[#This Row],[IdEstablecimiento]],'[1]Establecimiento 2023'!$A$1:$E$183,5,FALSE),0)","v":"04202-Canela"},"15050200","2022-04-19T08:08:19",2,2,{"$nulls":6},2]
[{"$nulls":23},3,"5",2022,"105309",{"$f":"IFERROR(VLOOKUP(Tabla_SERIED_12_5[[#This Row],[IdEstablecimiento]],'[1]Establecimiento 2023'!$A$1:$E$183,3,FALSE),0)","v":"105309-Centro de Salud Familiar Canela"},{"$f":"IFERROR(VLOOKUP(Tabla_SERIED_12_5[[#This Row],[IdEstablecimiento]],'[1]Establecimiento 2023'!$A$1:$E$183,5,FALSE),0)","v":"04202-Canela"},"16100600","2022-04-19T08:08:19",1,null,1]
[{"$nulls":23},3,"5",2022,"105309",{"$f":"IFERROR(VLOOKUP(Tabla_SERIED_12_5[[#This Row],[IdEstablecimiento]],'[1]Establecimiento 2023'!$A$1:$E$183,3,FALSE),0)","v":"105309-Centro de Salud Familiar Canela"},{"$f":"IFERROR(VLOOKUP(Tabla_SERIED_12_5[[#This Row],[IdEstablecimiento]],'[1]Establecimiento 2023'!$A$1:$E$183,5,FALSE),0)","v":"04202-Canela"},"16100700","2022-04-19T08:08:19",1,1]
[{"$nulls":23},3,"5",2022,"105308",{"$f":"IFERROR(VLOOKUP(Tabla_SERIED_12_5[[#This Row],[IdEstablecimiento]],'[1]Establecimiento 2023'!$A$1:$E$183,3,FALSE),0)","v":"105308-Centro de Salud Familiar Punitaqui"},{"$f":"IFERROR(VLOOKUP(Tabla_SERIED_12_5[[#This Row],[IdEstablecimiento]],'[1]Establecimiento 2023'!$A$1:$E$183,5,FALSE),0)","v":"04304-Punitaqui"},"15060100","2022-04-19T08:08:07",1,null,1,{"$nulls":3},1]
[{"$nulls":23},5,"5",2022,"105422",{"$f":"IFERROR(VLOOKUP(Tabla_SERIED_12_5[[#This Row],[IdEstablecimiento]],'[1]Establecimiento 2023'!$A$1:$E$183,3,FALSE),0)","v":"105422-Posta de Salud Rural Hornillos"},{"$f":"IFERROR(VLOOKUP(Tabla_SERIED_12_5[[#This Row],[IdEstablecimiento]],'[1]Establecimiento 2023'!$A$1:$E$183,5,FALSE),0)","v":"04301-Ovalle"},"16200100","2022-06-20T17:12:08",1,null,1]
[{"$nulls":23},5,"5",2022,"105425",{"$f":"IFERROR(VLOOKUP(Tabla_SERIED_12_5[[#This Row],[IdEstablecimiento]],'[1]Establecimiento 2023'!$A$1:$E$183,3,FALSE),0)","v":"105425-Posta de Salud Rural Chilecito"},{"$f":"IFERROR(VLOOKUP(Tabla_SERIED_12_5[[#This Row],[IdEstablecimiento]],'[1]Establecimiento 2023'!$A$1:$E$183,5,FALSE),0)","v":"04303-Monte Patria"},"15050100","2022-06-20T17:13:14",5,2,3,{"$nulls":3},4,1]
[{"$nulls":23},5,"5",2022,"105435",{"$f":"IFERROR(VLOOKUP(Tabla_SERIED_12_5[[#This Row],[IdEstablecimiento]],'[1]Establecimiento 2023'!$A$1:$E$183,3,FALSE),0)","v":"105435-Posta de Salud Rural Tulahuén"},{"$f":"IFERROR(VLOOKUP(Tabla_SERIED_12_5[[#This Row],[IdEstablecimiento]],'[1]Establecimiento 2023'!$A$1:$E$183,5,FALSE),0)","v":"04303-Monte Patria"},"16090300","2022-06-20T17:15:27",147,193]
[{"$nulls":23},4,"5",2022,"105464",{"$f":"IFERROR(VLOOKUP(Tabla_SERIED_12_5[[#This Row],[IdEstablecimiento]],'[1]Establecimiento 2023'!$A$1:$E$183,3,FALSE),0)","v":"105464-Posta de Salud Rural La Ligua"},{"$f":"IFERROR(VLOOKUP(Tabla_SERIED_12_5[[#This Row],[IdEstablecimiento]],'[1]Establecimiento 2023'!$A$1:$E$183,5,FALSE),0)","v":"04302-Combarbalá"},"15010100","2022-05-18T15:10:39",2,{"$nulls":3},2]
[{"$nulls":23},2,"5",2022,"200569",{"$f":"IFERROR(VLOOKUP(Tabla_SERIED_12_5[[#This Row],[IdEstablecimiento]],'[1]Establecimiento 2023'!$A$1:$E$183,3,FALSE),0)","v":"200569-Centro de Salud Familiar Fray Jorge"},{"$f":"IFERROR(VLOOKUP(Tabla_SERIED_12_5[[#This Row],[IdEstablecimiento]],'[1]Establecimiento 2023'!$A$1:$E$183,5,FALSE),0)","v":"04301-Ovalle"},"15901400","2022-03-17T10:09:48",5,4,1,null,null,1,1,3]
[{"$nulls":23},10,"5",2022,"105425",{"$f":"IFERROR(VLOOKUP(Tabla_SERIED_12_5[[#This Row],[IdEstablecimiento]],'[1]Establecimiento 2023'!$A$1:$E$183,3,FALSE),0)","v":"105425-Posta de Salud Rural Chilecito"},{"$f":"IFERROR(VLOOKUP(Tabla_SERIED_12_5[[#This Row],[IdEstablecimiento]],'[1]Establecimiento 2023'!$A$1:$E$183,5,FALSE),0)","v":"04303-Monte Patria"},"16090300","2022-11-15T13:43:51",53,53]
[{"$nulls":23},10,"5",2022,"105434",{"$f":"IFERROR(VLOOKUP(Tabla_SERIED_12_5[[#This Row],[IdEstablecimiento]],'[1]Establecimiento 2023'!$A$1:$E$183,3,FALSE),0)","v":"105434-Posta de Salud Rural San Marcos (Combarbalá)"},{"$f":"IFERROR(VLOOKUP(Tabla_SERIED_12_5[[#This Row],[IdEstablecimiento]],'[1]Establecimiento 2023'!$A$1:$E$183,5,FALSE),0)","v":"04302-Combarbalá"},"16200220","2022-11-15T13:46:26",6,2,4]
[{"$nulls":23},3,"5",2022,"105479",{"$f":"IFERROR(VLOOKUP(Tabla_SERIED_12_5[[#This Row],[IdEstablecimiento]],'[1]Establecimiento 2023'!$A$1:$E$183,3,FALSE),0)","v":"105479-Posta de Salud Rural Guangualí"},{"$f":"IFERROR(VLOOKUP(Tabla_SERIED_12_5[[#This Row],[IdEstablecimiento]],'[1]Establecimiento 2023'!$A$1:$E$183,5,FALSE),0)","v":"04203-Los Vilos"},"15010200","2022-04-19T10:04:56",18,{"$nulls":4},6,6,6]
[{"$nulls":23},1,"5",2022,"105483",{"$f":"IFERROR(VLOOKUP(Tabla_SERIED_12_5[[#This Row],[IdEstablecimiento]],'[1]Establecimiento 2023'!$A$1:$E$183,3,FALSE),0)","v":"105483-Posta de Salud Rural Los Rulos"},{"$f":"IFERROR(VLOOKUP(Tabla_SERIED_12_5[[#This Row],[IdEstablecimiento]],'[1]Establecimiento 2023'!$A$1:$E$183,5,FALSE),0)","v":"04202-Canela"},"16200220","2022-02-17T03:57:30",3,1,2]
[{"$nulls":23},2,"5",2022,"105462",{"$f":"IFERROR(VLOOKUP(Tabla_SERIED_12_5[[#This Row],[IdEstablecimiento]],'[1]Establecimiento 2023'!$A$1:$E$183,3,FALSE),0)","v":"105462-Posta de Salud Rural El Sauce (Combarbalá)"},{"$f":"IFERROR(VLOOKUP(Tabla_SERIED_12_5[[#This Row],[IdEstablecimiento]],'[1]Establecimiento 2023'!$A$1:$E$183,5,FALSE),0)","v":"04302-Combarbalá"},"15900050","2022-03-17T09:48:27",1,null,1,null,null,1]
[{"$nulls":23},9,"5",2022,"105435",{"$f":"IFERROR(VLOOKUP(Tabla_SERIED_12_5[[#This Row],[IdEstablecimiento]],'[1]Establecimiento 2023'!$A$1:$E$183,3,FALSE),0)","v":"105435-Posta de Salud Rural Tulahuén"},{"$f":"IFERROR(VLOOKUP(Tabla_SERIED_12_5[[#This Row],[IdEstablecimiento]],'[1]Establecimiento 2023'!$A$1:$E$183,5,FALSE),0)","v":"04303-Monte Patria"},"15080008","2022-11-15T14:40:09",4,{"$nulls":7},2,null,2]
[{"$nulls":23},9,"5",2022,"105436",{"$f":"IFERROR(VLOOKUP(Tabla_SERIED_12_5[[#This Row],[IdEstablecimiento]],'[1]Establecimiento 2023'!$A$1:$E$183,3,FALSE),0)","v":"105436-Posta de Salud Rural El Maitén"},{"$f":"IFERROR(VLOOKUP(Tabla_SERIED_12_5[[#This Row],[IdEstablecimiento]],'[1]Establecimiento 2023'!$A$1:$E$183,5,FALSE),0)","v":"04303-Monte Patria"},"16100300","2022-11-15T14:40:21",11,6,5]
[{"$nulls":23},6,"5",2022,"105478",{"$f":"IFERROR(VLOOKUP(Tabla_SERIED_12_5[[#This Row],[IdEstablecimiento]],'[1]Establecimiento 2023'!$A$1:$E$183,3,FALSE),0)","v":"105478-Posta de Salud Rural Caimanes"},{"$f":"IFERROR(VLOOKUP(Tabla_SERIED_12_5[[#This Row],[IdEstablecimiento]],'[1]Establecimiento 2023'!$A$1:$E$183,5,FALSE),0)","v":"04203-Los Vilos"},"16200220","2022-07-14T14:29:15",3,1,2,0,2]
[{"$nulls":23},6,"5",2022,"105480",{"$f":"IFERROR(VLOOKUP(Tabla_SERIED_12_5[[#This Row],[IdEstablecimiento]],'[1]Establecimiento 2023'!$A$1:$E$183,3,FALSE),0)","v":"105480-Posta de Salud Rural Quilimarí"},{"$f":"IFERROR(VLOOKUP(Tabla_SERIED_12_5[[#This Row],[IdEstablecimiento]],'[1]Establecimiento 2023'!$A$1:$E$183,5,FALSE),0)","v":"04203-Los Vilos"},"15010100","2022-07-14T14:31:31",8,{"$nulls":3},8]
[{"$nulls":23},6,"5",2022,"105480",{"$f":"IFERROR(VLOOKUP(Tabla_SERIED_12_5[[#This Row],[IdEstablecimiento]],'[1]Establecimiento 2023'!$A$1:$E$183,3,FALSE),0)","v":"105480-Posta de Salud Rural Quilimarí"},{"$f":"IFERROR(VLOOKUP(Tabla_SERIED_12_5[[#This Row],[IdEstablecimiento]],'[1]Establecimiento 2023'!$A$1:$E$183,5,FALSE),0)","v":"04203-Los Vilos"},"15010200","2022-07-14T14:31:31",56,{"$nulls":4},12,24,20]
[{"$nulls":23},1,"5",2022,"105436",{"$f":"IFERROR(VLOOKUP(Tabla_SERIED_12_5[[#This Row],[IdEstablecimiento]],'[1]Establecimiento 2023'!$A$1:$E$183,3,FALSE),0)","v":"105436-Posta de Salud Rural El Maitén"},{"$f":"IFERROR(VLOOKUP(Tabla_SERIED_12_5[[#This Row],[IdEstablecimiento]],'[1]Establecimiento 2023'!$A$1:$E$183,5,FALSE),0)","v":"04303-Monte Patria"},"15010100","2022-02-16T11:01:52",2,null,null,2]
[{"$nulls":23},1,"5",2022,"105436",{"$f":"IFERROR(VLOOKUP(Tabla_SERIED_12_5[[#This Row],[IdEstablecimiento]],'[1]Establecimiento 2023'!$A$1:$E$183,3,FALSE),0)","v":"105436-Posta de Salud Rural El Maitén"},{"$f":"IFERROR(VLOOKUP(Tabla_SERIED_12_5[[#This Row],[IdEstablecimiento]],'[1]Establecimiento 2023'!$A$1:$E$183,5,FALSE),0)","v":"04303-Monte Patria"},"16200220","2022-02-16T11:01:52",3,0,3,0,0]
[{"$nulls":23},5,"5",2022,"105510",{"$f":"IFERROR(VLOOKUP(Tabla_SERIED_12_5[[#This Row],[IdEstablecimiento]],'[1]Establecimiento 2023'!$A$1:$E$183,3,FALSE),0)","v":"105510-Posta de Salud Rural Recoleta"},{"$f":"IFERROR(VLOOKUP(Tabla_SERIED_12_5[[#This Row],[IdEstablecimiento]],'[1]Establecimiento 2023'!$A$1:$E$183,5,FALSE),0)","v":"04301-Ovalle"},"15900010","2022-06-20T17:31:10",3.2,null,null,3.2]
[{"$nulls":23},4,"5",2022,"105485",{"$f":"IFERROR(VLOOKUP(Tabla_SERIED_12_5[[#This Row],[IdEstablecimiento]],'[1]Establecimiento 2023'!$A$1:$E$183,3,FALSE),0)","v":"105485-Posta de Salud Rural Plan de Hornos"},{"$f":"IFERROR(VLOOKUP(Tabla_SERIED_12_5[[#This Row],[IdEstablecimiento]],'[1]Establecimiento 2023'!$A$1:$E$183,5,FALSE),0)","v":"04201-Illapel"},"15900030","2022-05-18T15:15:30",2.4,null,2.4]
[{"$nulls":23},6,"5",2022,"105480",{"$f":"IFERROR(VLOOKUP(Tabla_SERIED_12_5[[#This Row],[IdEstablecimiento]],'[1]Establecimiento 2023'!$A$1:$E$183,3,FALSE),0)","v":"105480-Posta de Salud Rural Quilimarí"},{"$f":"IFERROR(VLOOKUP(Tabla_SERIED_12_5[[#This Row],[IdEstablecimiento]],'[1]Establecimiento 2023'!$A$1:$E$183,5,FALSE),0)","v":"04203-Los Vilos"},"16200220","2022-07-14T14:31:31",3,3,0,0,0]
[{"$nulls":23},7,"5",2022,"105301",{"$f":"IFERROR(VLOOKUP(Tabla_SERIED_12_5[[#This Row],[IdEstablecimiento]],'[1]Establecimiento 2023'!$A$1:$E$183,3,FALSE),0)","v":"105301-Centro de Salud Familiar Las Compañías"},{"$f":"IFERROR(VLOOKUP(Tabla_SERIED_12_5[[#This Row],[IdEstablecimiento]],'[1]Establecimiento 2023'!$A$1:$E$183,5,FALSE),0)","v":"04101-La Serena"},"15900030","2022-08-19T11:58:13",16000,0,4400,8400,3200,0]
[{"$nulls":23},7,"5",2022,"105301",{"$f":"IFERROR(VLOOKUP(Tabla_SERIED_12_5[[#This Row],[IdEstablecimiento]],'[1]Establecimiento 2023'!$A$1:$E$183,3,FALSE),0)","v":"105301-Centro de Salud Familiar Las Compañías"},{"$f":"IFERROR(VLOOKUP(Tabla_SERIED_12_5[[#This Row],[IdEstablecimiento]],'[1]Establecimiento 2023'!$A$1:$E$183,5,FALSE),0)","v":"04101-La Serena"},"16090300","2022-08-19T11:58:13",469,469]
[{"$nulls":23},7,"5",2022,"105301",{"$f":"IFERROR(VLOOKUP(Tabla_SERIED_12_5[[#This Row],[IdEstablecimiento]],'[1]Establecimiento 2023'!$A$1:$E$183,3,FALSE),0)","v":"105301-Centro de Salud Familiar Las Compañías"},{"$f":"IFERROR(VLOOKUP(Tabla_SERIED_12_5[[#This Row],[IdEstablecimiento]],'[1]Establecimiento 2023'!$A$1:$E$183,5,FALSE),0)","v":"04101-La Serena"},"16200210","2022-08-19T11:58:13",56,56]
[{"$nulls":23},4,"5",2022,"105443",{"$f":"IFERROR(VLOOKUP(Tabla_SERIED_12_5[[#This Row],[IdEstablecimiento]],'[1]Establecimiento 2023'!$A$1:$E$183,3,FALSE),0)","v":"105443-Posta de Salud Rural Cárcamo"},{"$f":"IFERROR(VLOOKUP(Tabla_SERIED_12_5[[#This Row],[IdEstablecimiento]],'[1]Establecimiento 2023'!$A$1:$E$183,5,FALSE),0)","v":"04201-Illapel"},"15900040","2022-05-18T14:58:48",4,null,4]
[{"$nulls":23},4,"5",2022,"105443",{"$f":"IFERROR(VLOOKUP(Tabla_SERIED_12_5[[#This Row],[IdEstablecimiento]],'[1]Establecimiento 2023'!$A$1:$E$183,3,FALSE),0)","v":"105443-Posta de Salud Rural Cárcamo"},{"$f":"IFERROR(VLOOKUP(Tabla_SERIED_12_5[[#This Row],[IdEstablecimiento]],'[1]Establecimiento 2023'!$A$1:$E$183,5,FALSE),0)","v":"04201-Illapel"},"15050100","2022-05-18T14:58:48",15,8,7,{"$nulls":3},3,null,7,3,1,null,1]
[{"$nulls":23},1,"5",2022,"105303",{"$f":"IFERROR(VLOOKUP(Tabla_SERIED_12_5[[#This Row],[IdEstablecimiento]],'[1]Establecimiento 2023'!$A$1:$E$183,3,FALSE),0)","v":"105303-Centro de Salud Familiar San Juan"},{"$f":"IFERROR(VLOOKUP(Tabla_SERIED_12_5[[#This Row],[IdEstablecimiento]],'[1]Establecimiento 2023'!$A$1:$E$183,5,FALSE),0)","v":"04102-Coquimbo"},"15901200","2022-02-16T10:34:59",31,8,5,0,7,11]
[{"$nulls":23},1,"5",2022,"105451",{"$f":"IFERROR(VLOOKUP(Tabla_SERIED_12_5[[#This Row],[IdEstablecimiento]],'[1]Establecimiento 2023'!$A$1:$E$183,3,FALSE),0)","v":"105451-Posta de Salud Rural Agua Fría"},{"$f":"IFERROR(VLOOKUP(Tabla_SERIED_12_5[[#This Row],[IdEstablecimiento]],'[1]Establecimiento 2023'!$A$1:$E$183,5,FALSE),0)","v":"04202-Canela"},"16090300","2022-02-16T11:35:16",71,71]
[{"$nulls":23},3,"5",2022,"105417",{"$f":"IFERROR(VLOOKUP(Tabla_SERIED_12_5[[#This Row],[IdEstablecimiento]],'[1]Establecimiento 2023'!$A$1:$E$183,3,FALSE),0)","v":"105417-Posta de Salud Rural Alcones Bajo"},{"$f":"IFERROR(VLOOKUP(Tabla_SERIED_12_5[[#This Row],[IdEstablecimiento]],'[1]Establecimiento 2023'!$A$1:$E$183,5,FALSE),0)","v":"04301-Ovalle"},"15900010","2022-04-19T09:11:58",2.4,null,null,2.4]
[{"$nulls":23},3,"5",2022,"105414",{"$f":"IFERROR(VLOOKUP(Tabla_SERIED_12_5[[#This Row],[IdEstablecimiento]],'[1]Establecimiento 2023'!$A$1:$E$183,3,FALSE),0)","v":"105414-Posta de Salud Rural Serón"},{"$f":"IFERROR(VLOOKUP(Tabla_SERIED_12_5[[#This Row],[IdEstablecimiento]],'[1]Establecimiento 2023'!$A$1:$E$183,5,FALSE),0)","v":"04305-Río Hurtado"},"16100300","2022-04-19T08:17:00",37,18,19,0,9]
[{"$nulls":23},1,"5",2022,"105475",{"$f":"IFERROR(VLOOKUP(Tabla_SERIED_12_5[[#This Row],[IdEstablecimiento]],'[1]Establecimiento 2023'!$A$1:$E$183,3,FALSE),0)","v":"105475-Posta de Salud Rural Horcón (Paiguano)"},{"$f":"IFERROR(VLOOKUP(Tabla_SERIED_12_5[[#This Row],[IdEstablecimiento]],'[1]Establecimiento 2023'!$A$1:$E$183,5,FALSE),0)","v":"04105-Paiguano"},"16200220","2022-02-17T03:54:37",2,2]
[{"$nulls":23},7,"5",2022,"200273",{"$f":"IFERROR(VLOOKUP(Tabla_SERIED_12_5[[#This Row],[IdEstablecimiento]],'[1]Establecimiento 2023'!$A$1:$E$183,3,FALSE),0)","v":"200273-Centro Comunitario de Salud Familiar Punta Mira"},{"$f":"IFERROR(VLOOKUP(Tabla_SERIED_12_5[[#This Row],[IdEstablecimiento]],'[1]Establecimiento 2023'!$A$1:$E$183,5,FALSE),0)","v":"04102-Coquimbo"},"15050200","2022-08-22T06:48:15",4,2,2,null,null,1,null,1,1,1]
[{"$nulls":23},7,"5",2022,"105467",{"$f":"IFERROR(VLOOKUP(Tabla_SERIED_12_5[[#This Row],[IdEstablecimiento]],'[1]Establecimiento 2023'!$A$1:$E$183,3,FALSE),0)","v":"105467-Posta de Salud Rural Diaguitas"},{"$f":"IFERROR(VLOOKUP(Tabla_SERIED_12_5[[#This Row],[IdEstablecimiento]],'[1]Establecimiento 2023'!$A$1:$E$183,5,FALSE),0)","v":"04106-Vicuña"},"15050200","2022-08-22T06:25:07",2,2,{"$nulls":4},1,null,null,1]
[{"$nulls":23},7,"5",2022,"105455",{"$f":"IFERROR(VLOOKUP(Tabla_SERIED_12_5[[#This Row],[IdEstablecimiento]],'[1]Establecimiento 2023'!$A$1:$E$183,3,FALSE),0)","v":"105455-CESFAM Valle Alto"},{"$f":"IFERROR(VLOOKUP(Tabla_SERIED_12_5[[#This Row],[IdEstablecimiento]],'[1]Establecimiento 2023'!$A$1:$E$183,5,FALSE),0)","v":"04204-Salamanca"},"16090300","2022-08-22T06:08:07",51,51]
[{"$nulls":23},7,"5",2022,"105456",{"$f":"IFERROR(VLOOKUP(Tabla_SERIED_12_5[[#This Row],[IdEstablecimiento]],'[1]Establecimiento 2023'!$A$1:$E$183,3,FALSE),0)","v":"105456-Posta de Salud Rural Llimpo"},{"$f":"IFERROR(VLOOKUP(Tabla_SERIED_12_5[[#This Row],[IdEstablecimiento]],'[1]Establecimiento 2023'!$A$1:$E$183,5,FALSE),0)","v":"04204-Salamanca"},"15050100","2022-08-22T06:08:39",23,9,14,null,null,1,1,null,8,8,5]
[{"$nulls":23},7,"5",2022,"105457",{"$f":"IFERROR(VLOOKUP(Tabla_SERIED_12_5[[#This Row],[IdEstablecimiento]],'[1]Establecimiento 2023'!$A$1:$E$183,3,FALSE),0)","v":"105457-Posta de Salud Rural San Agustín (Salamanca)"},{"$f":"IFERROR(VLOOKUP(Tabla_SERIED_12_5[[#This Row],[IdEstablecimiento]],'[1]Establecimiento 2023'!$A$1:$E$183,5,FALSE),0)","v":"04204-Salamanca"},"15900010","2022-08-22T06:08:56",3.2,null,null,3.2]
[{"$nulls":23},5,"5",2022,"105510",{"$f":"IFERROR(VLOOKUP(Tabla_SERIED_12_5[[#This Row],[IdEstablecimiento]],'[1]Establecimiento 2023'!$A$1:$E$183,3,FALSE),0)","v":"105510-Posta de Salud Rural Recoleta"},{"$f":"IFERROR(VLOOKUP(Tabla_SERIED_12_5[[#This Row],[IdEstablecimiento]],'[1]Establecimiento 2023'!$A$1:$E$183,5,FALSE),0)","v":"04301-Ovalle"},"16100600","2022-06-20T17:31:10",8,5,3]
[{"$nulls":23},6,"5",2022,"105325",{"$f":"IFERROR(VLOOKUP(Tabla_SERIED_12_5[[#This Row],[IdEstablecimiento]],'[1]Establecimiento 2023'!$A$1:$E$183,3,FALSE),0)","v":"105325-Centro de Salud Familiar Juan Pablo II (La Serena)"},{"$f":"IFERROR(VLOOKUP(Tabla_SERIED_12_5[[#This Row],[IdEstablecimiento]],'[1]Establecimiento 2023'!$A$1:$E$183,5,FALSE),0)","v":"04101-La Serena"},"15050500","2022-07-14T14:07:16",8,4,4,1,0,7]
[{"$nulls":23},6,"5",2022,"105325",{"$f":"IFERROR(VLOOKUP(Tabla_SERIED_12_5[[#This Row],[IdEstablecimiento]],'[1]Establecimiento 2023'!$A$1:$E$183,3,FALSE),0)","v":"105325-Centro de Salud Familiar Juan Pablo II (La Serena)"},{"$f":"IFERROR(VLOOKUP(Tabla_SERIED_12_5[[#This Row],[IdEstablecimiento]],'[1]Establecimiento 2023'!$A$1:$E$183,5,FALSE),0)","v":"04101-La Serena"},"16100600","2022-07-14T14:07:16",0,0,0,0,2]
[{"$nulls":23},1,"5",2022,"105409",{"$f":"IFERROR(VLOOKUP(Tabla_SERIED_12_5[[#This Row],[IdEstablecimiento]],'[1]Establecimiento 2023'!$A$1:$E$183,3,FALSE),0)","v":"105409-Posta de Salud Rural El Chañar"},{"$f":"IFERROR(VLOOKUP(Tabla_SERIED_12_5[[#This Row],[IdEstablecimiento]],'[1]Establecimiento 2023'!$A$1:$E$183,5,FALSE),0)","v":"04305-Río Hurtado"},"15080008","2022-02-16T10:54:29",2,{"$nulls":7},2]
[{"$nulls":23},2,"5",2022,"105300",{"$f":"IFERROR(VLOOKUP(Tabla_SERIED_12_5[[#This Row],[IdEstablecimiento]],'[1]Establecimiento 2023'!$A$1:$E$183,3,FALSE),0)","v":"105300-Centro de Salud Familiar Cardenal Caro"},{"$f":"IFERROR(VLOOKUP(Tabla_SERIED_12_5[[#This Row],[IdEstablecimiento]],'[1]Establecimiento 2023'!$A$1:$E$183,5,FALSE),0)","v":"04101-La Serena"},"15080009","2022-03-17T09:26:33",3,{"$nulls":8},3]
[{"$nulls":23},2,"5",2022,"105475",{"$f":"IFERROR(VLOOKUP(Tabla_SERIED_12_5[[#This Row],[IdEstablecimiento]],'[1]Establecimiento 2023'!$A$1:$E$183,3,FALSE),0)","v":"105475-Posta de Salud Rural Horcón (Paiguano)"},{"$f":"IFERROR(VLOOKUP(Tabla_SERIED_12_5[[#This Row],[IdEstablecimiento]],'[1]Establecimiento 2023'!$A$1:$E$183,5,FALSE),0)","v":"04105-Paiguano"},"15010400","2022-03-17T09:52:01",2,{"$nulls":6},2]
[{"$nulls":23},8,"5",2022,"105313",{"$f":"IFERROR(VLOOKUP(Tabla_SERIED_12_5[[#This Row],[IdEstablecimiento]],'[1]Establecimiento 2023'!$A$1:$E$183,3,FALSE),0)","v":"105313-Centro de Salud Familiar Dr. Emilio Schaffhauser"},{"$f":"IFERROR(VLOOKUP(Tabla_SERIED_12_5[[#This Row],[IdEstablecimiento]],'[1]Establecimiento 2023'!$A$1:$E$183,5,FALSE),0)","v":"04101-La Serena"},"16090100","2022-09-21T07:17:54",36,36]
[{"$nulls":23},8,"5",2022,"105314",{"$f":"IFERROR(VLOOKUP(Tabla_SERIED_12_5[[#This Row],[IdEstablecimiento]],'[1]Establecimiento 2023'!$A$1:$E$183,3,FALSE),0)","v":"105314-Centro de Salud Familiar La Higuera"},{"$f":"IFERROR(VLOOKUP(Tabla_SERIED_12_5[[#This Row],[IdEstablecimiento]],'[1]Establecimiento 2023'!$A$1:$E$183,5,FALSE),0)","v":"04104-La Higuera"},"15050100","2022-09-21T07:18:06",34,20,14,null,1,4,6,3,11,4,5]
[{"$nulls":23},8,"5",2022,"105315",{"$f":"IFERROR(VLOOKUP(Tabla_SERIED_12_5[[#This Row],[IdEstablecimiento]],'[1]Establecimiento 2023'!$A$1:$E$183,3,FALSE),0)","v":"105315-Centro de Salud Familiar Cerrillos de Tamaya"},{"$f":"IFERROR(VLOOKUP(Tabla_SERIED_12_5[[#This Row],[IdEstablecimiento]],'[1]Establecimiento 2023'!$A$1:$E$183,5,FALSE),0)","v":"04301-Ovalle"},"15010400","2022-09-21T07:18:20",2,{"$nulls":4},2]
[{"$nulls":23},2,"5",2022,"105463",{"$f":"IFERROR(VLOOKUP(Tabla_SERIED_12_5[[#This Row],[IdEstablecimiento]],'[1]Establecimiento 2023'!$A$1:$E$183,3,FALSE),0)","v":"105463-Posta de Salud Rural Quilitapia"},{"$f":"IFERROR(VLOOKUP(Tabla_SERIED_12_5[[#This Row],[IdEstablecimiento]],'[1]Establecimiento 2023'!$A$1:$E$183,5,FALSE),0)","v":"04302-Combarbalá"},"15010200","2022-03-17T09:48:41",32,{"$nulls":4},8,10,14]
[{"$nulls":23},2,"5",2022,"105467",{"$f":"IFERROR(VLOOKUP(Tabla_SERIED_12_5[[#This Row],[IdEstablecimiento]],'[1]Establecimiento 2023'!$A$1:$E$183,3,FALSE),0)","v":"105467-Posta de Salud Rural Diaguitas"},{"$f":"IFERROR(VLOOKUP(Tabla_SERIED_12_5[[#This Row],[IdEstablecimiento]],'[1]Establecimiento 2023'!$A$1:$E$183,5,FALSE),0)","v":"04106-Vicuña"},"15010500","2022-03-17T09:49:36",2,null,null,2]
[{"$nulls":23},2,"5",2022,"105467",{"$f":"IFERROR(VLOOKUP(Tabla_SERIED_12_5[[#This Row],[IdEstablecimiento]],'[1]Establecimiento 2023'!$A$1:$E$183,3,FALSE),0)","v":"105467-Posta de Salud Rural Diaguitas"},{"$f":"IFERROR(VLOOKUP(Tabla_SERIED_12_5[[#This Row],[IdEstablecimiento]],'[1]Establecimiento 2023'!$A$1:$E$183,5,FALSE),0)","v":"04106-Vicuña"},"15050100","2022-03-17T09:49:36",14,4,10,null,null,4,2,2,1,2,1,{"$nulls":3},2]
[{"$nulls":23},1,"5",2022,"105317",{"$f":"IFERROR(VLOOKUP(Tabla_SERIED_12_5[[#This Row],[IdEstablecimiento]],'[1]Establecimiento 2023'!$A$1:$E$183,3,FALSE),0)","v":"105317-Centro de Salud Familiar Jorge Jordán Domic"},{"$f":"IFERROR(VLOOKUP(Tabla_SERIED_12_5[[#This Row],[IdEstablecimiento]],'[1]Establecimiento 2023'!$A$1:$E$183,5,FALSE),0)","v":"04301-Ovalle"},"15080008","2022-02-16T10:49:06",191,{"$nulls":7},74,null,94,8,15]
[{"$nulls":23},1,"5",2022,"105489",{"$f":"IFERROR(VLOOKUP(Tabla_SERIED_12_5[[#This Row],[IdEstablecimiento]],'[1]Establecimiento 2023'!$A$1:$E$183,3,FALSE),0)","v":"105489-Posta de Salud Rural Ramadas de Tulahuén"},{"$f":"IFERROR(VLOOKUP(Tabla_SERIED_12_5[[#This Row],[IdEstablecimiento]],'[1]Establecimiento 2023'!$A$1:$E$183,5,FALSE),0)","v":"04303-Monte Patria"},"15030100","2022-02-17T04:08:13",4,4]
[{"$nulls":23},1,"5",2022,"105489",{"$f":"IFERROR(VLOOKUP(Tabla_SERIED_12_5[[#This Row],[IdEstablecimiento]],'[1]Establecimiento 2023'!$A$1:$E$183,3,FALSE),0)","v":"105489-Posta de Salud Rural Ramadas de Tulahuén"},{"$f":"IFERROR(VLOOKUP(Tabla_SERIED_12_5[[#This Row],[IdEstablecimiento]],'[1]Establecimiento 2023'!$A$1:$E$183,5,FALSE),0)","v":"04303-Monte Patria"},"16100300","2022-02-17T04:08:13",28,15,13,null,2]
[{"$nulls":23},2,"5",2022,"105484",{"$f":"IFERROR(VLOOKUP(Tabla_SERIED_12_5[[#This Row],[IdEstablecimiento]],'[1]Establecimiento 2023'!$A$1:$E$183,3,FALSE),0)","v":"105484-Posta de Salud Rural Huentelauquén"},{"$f":"IFERROR(VLOOKUP(Tabla_SERIED_12_5[[#This Row],[IdEstablecimiento]],'[1]Establecimiento 2023'!$A$1:$E$183,5,FALSE),0)","v":"04202-Canela"},"15010200","2022-03-17T09:55:03",10,{"$nulls":4},6,2,2]
[{"$nulls":23},6,"5",2022,"105300",{"$f":"IFERROR(VLOOKUP(Tabla_SERIED_12_5[[#This Row],[IdEstablecimiento]],'[1]Establecimiento 2023'!$A$1:$E$183,3,FALSE),0)","v":"105300-Centro de Salud Familiar Cardenal Caro"},{"$f":"IFERROR(VLOOKUP(Tabla_SERIED_12_5[[#This Row],[IdEstablecimiento]],'[1]Establecimiento 2023'!$A$1:$E$183,5,FALSE),0)","v":"04101-La Serena"},"15010200","2022-07-14T13:35:51",368,{"$nulls":4},66,158,144]
[{"$nulls":23},6,"5",2022,"105305",{"$f":"IFERROR(VLOOKUP(Tabla_SERIED_12_5[[#This Row],[IdEstablecimiento]],'[1]Establecimiento 2023'!$A$1:$E$183,3,FALSE),0)","v":"105305-Centro de Salud Familiar Tierras Blancas"},{"$f":"IFERROR(VLOOKUP(Tabla_SERIED_12_5[[#This Row],[IdEstablecimiento]],'[1]Establecimiento 2023'!$A$1:$E$183,5,FALSE),0)","v":"04102-Coquimbo"},"15901200","2022-07-14T13:37:13",4.4,null,null,4.4]
[{"$nulls":23},2,"5",2022,"105323",{"$f":"IFERROR(VLOOKUP(Tabla_SERIED_12_5[[#This Row],[IdEstablecimiento]],'[1]Establecimiento 2023'!$A$1:$E$183,3,FALSE),0)","v":"105323-Centro de Salud Familiar Dr. Sergio Aguilar Delgado"},{"$f":"IFERROR(VLOOKUP(Tabla_SERIED_12_5[[#This Row],[IdEstablecimiento]],'[1]Establecimiento 2023'!$A$1:$E$183,5,FALSE),0)","v":"04102-Coquimbo"},"16090300","2022-03-17T09:31:39",846,846]
[{"$nulls":23},2,"5",2022,"105323",{"$f":"IFERROR(VLOOKUP(Tabla_SERIED_12_5[[#This Row],[IdEstablecimiento]],'[1]Establecimiento 2023'!$A$1:$E$183,3,FALSE),0)","v":"105323-Centro de Salud Familiar Dr. Sergio Aguilar Delgado"},{"$f":"IFERROR(VLOOKUP(Tabla_SERIED_12_5[[#This Row],[IdEstablecimiento]],'[1]Establecimiento 2023'!$A$1:$E$183,5,FALSE),0)","v":"04102-Coquimbo"},"16200210","2022-03-17T09:31:39",25,25]
[{"$nulls":23},4,"5",2022,"105450",{"$f":"IFERROR(VLOOKUP(Tabla_SERIED_12_5[[#This Row],[IdEstablecimiento]],'[1]Establecimiento 2023'!$A$1:$E$183,3,FALSE),0)","v":"105450-Posta de Salud Rural Mincha Norte"},{"$f":"IFERROR(VLOOKUP(Tabla_SERIED_12_5[[#This Row],[IdEstablecimiento]],'[1]Establecimiento 2023'!$A$1:$E$183,5,FALSE),0)","v":"04202-Canela"},"16200220","2022-05-18T15:03:59",20,11,9,0,0]
[{"$nulls":23},2,"5",2022,"105107",{"$f":"IFERROR(VLOOKUP(Tabla_SERIED_12_5[[#This Row],[IdEstablecimiento]],'[1]Establecimiento 2023'!$A$1:$E$183,3,FALSE),0)","v":"105107-Hospital San Juan de Dios (Vicuña)"},{"$f":"IFERROR(VLOOKUP(Tabla_SERIED_12_5[[#This Row],[IdEstablecimiento]],'[1]Establecimiento 2023'!$A$1:$E$183,5,FALSE),0)","v":"105107-Hospital Vicuña"},"16200220","2022-04-20T05:54:01",4,null,4,null,4]
[{"$nulls":23},4,"5",2022,"105106",{"$f":"IFERROR(VLOOKUP(Tabla_SERIED_12_5[[#This Row],[IdEstablecimiento]],'[1]Establecimiento 2023'!$A$1:$E$183,3,FALSE),0)","v":"105106-Hospital Dr. José Arraño (Andacollo)"},{"$f":"IFERROR(VLOOKUP(Tabla_SERIED_12_5[[#This Row],[IdEstablecimiento]],'[1]Establecimiento 2023'!$A$1:$E$183,5,FALSE),0)","v":"105106-Hospital Andacollo"},"15010200","2022-05-18T11:48:24",212,{"$nulls":4},34,110,68]
[{"$nulls":23},4,"5",2022,"105106",{"$f":"IFERROR(VLOOKUP(Tabla_SERIED_12_5[[#This Row],[IdEstablecimiento]],'[1]Establecimiento 2023'!$A$1:$E$183,3,FALSE),0)","v":"105106-Hospital Dr. José Arraño (Andacollo)"},{"$f":"IFERROR(VLOOKUP(Tabla_SERIED_12_5[[#This Row],[IdEstablecimiento]],'[1]Establecimiento 2023'!$A$1:$E$183,5,FALSE),0)","v":"105106-Hospital Andacollo"},"15010400","2022-05-18T11:48:24",12,{"$nulls":4},2,10]
[{"$nulls":23},6,"5",2022,"200366",{"$f":"IFERROR(VLOOKUP(Tabla_SERIED_12_5[[#This Row],[IdEstablecimiento]],'[1]Establecimiento 2023'!$A$1:$E$183,3,FALSE),0)","v":"200366-Centro de Salud Familiar Urbano de Illapel"},{"$f":"IFERROR(VLOOKUP(Tabla_SERIED_12_5[[#This Row],[IdEstablecimiento]],'[1]Establecimiento 2023'!$A$1:$E$183,5,FALSE),0)","v":"04201-Illapel"},"16200100","2022-07-18T13:33:55",15,11,4,0,4]
[{"$nulls":23},7,"5",2022,"105317",{"$f":"IFERROR(VLOOKUP(Tabla_SERIED_12_5[[#This Row],[IdEstablecimiento]],'[1]Establecimiento 2023'!$A$1:$E$183,3,FALSE),0)","v":"105317-Centro de Salud Familiar Jorge Jordán Domic"},{"$f":"IFERROR(VLOOKUP(Tabla_SERIED_12_5[[#This Row],[IdEstablecimiento]],'[1]Establecimiento 2023'!$A$1:$E$183,5,FALSE),0)","v":"04301-Ovalle"},"15010200","2022-08-19T12:01:33",493,{"$nulls":4},84,206,203]
[{"$nulls":23},6,"5",2022,"105430",{"$f":"IFERROR(VLOOKUP(Tabla_SERIED_12_5[[#This Row],[IdEstablecimiento]],'[1]Establecimiento 2023'!$A$1:$E$183,3,FALSE),0)","v":"105430-Posta de Salud Rural Mialqui"},{"$f":"IFERROR(VLOOKUP(Tabla_SERIED_12_5[[#This Row],[IdEstablecimiento]],'[1]Establecimiento 2023'!$A$1:$E$183,5,FALSE),0)","v":"04303-Monte Patria"},"16200210","2022-07-14T14:12:50",12,12]
[{"$nulls":23},6,"5",2022,"105430",{"$f":"IFERROR(VLOOKUP(Tabla_SERIED_12_5[[#This Row],[IdEstablecimiento]],'[1]Establecimiento 2023'!$A$1:$E$183,3,FALSE),0)","v":"105430-Posta de Salud Rural Mialqui"},{"$f":"IFERROR(VLOOKUP(Tabla_SERIED_12_5[[#This Row],[IdEstablecimiento]],'[1]Establecimiento 2023'!$A$1:$E$183,5,FALSE),0)","v":"04303-Monte Patria"},"16100300","2022-07-14T14:12:50",33,17,16,0,0]
[{"$nulls":23},6,"5",2022,"105432",{"$f":"IFERROR(VLOOKUP(Tabla_SERIED_12_5[[#This Row],[IdEstablecimiento]],'[1]Establecimiento 2023'!$A$1:$E$183,3,FALSE),0)","v":"105432-Posta de Salud Rural Rapel (Monte Patria)"},{"$f":"IFERROR(VLOOKUP(Tabla_SERIED_12_5[[#This Row],[IdEstablecimiento]],'[1]Establecimiento 2023'!$A$1:$E$183,5,FALSE),0)","v":"04303-Monte Patria"},"15010100","2022-07-14T14:13:41",8,{"$nulls":3},8]
[{"$nulls":23},6,"5",2022,"105432",{"$f":"IFERROR(VLOOKUP(Tabla_SERIED_12_5[[#This Row],[IdEstablecimiento]],'[1]Establecimiento 2023'!$A$1:$E$183,3,FALSE),0)","v":"105432-Posta de Salud Rural Rapel (Monte Patria)"},{"$f":"IFERROR(VLOOKUP(Tabla_SERIED_12_5[[#This Row],[IdEstablecimiento]],'[1]Establecimiento 2023'!$A$1:$E$183,5,FALSE),0)","v":"04303-Monte Patria"},"16200220","2022-07-14T14:13:41",2,1,1]
[{"$nulls":23},10,"5",2022,"105435",{"$f":"IFERROR(VLOOKUP(Tabla_SERIED_12_5[[#This Row],[IdEstablecimiento]],'[1]Establecimiento 2023'!$A$1:$E$183,3,FALSE),0)","v":"105435-Posta de Salud Rural Tulahuén"},{"$f":"IFERROR(VLOOKUP(Tabla_SERIED_12_5[[#This Row],[IdEstablecimiento]],'[1]Establecimiento 2023'!$A$1:$E$183,5,FALSE),0)","v":"04303-Monte Patria"},"16100300","2022-11-15T13:46:37",11,5,6,0,0]
[{"$nulls":23},6,"5",2022,"105434",{"$f":"IFERROR(VLOOKUP(Tabla_SERIED_12_5[[#This Row],[IdEstablecimiento]],'[1]Establecimiento 2023'!$A$1:$E$183,3,FALSE),0)","v":"105434-Posta de Salud Rural San Marcos (Combarbalá)"},{"$f":"IFERROR(VLOOKUP(Tabla_SERIED_12_5[[#This Row],[IdEstablecimiento]],'[1]Establecimiento 2023'!$A$1:$E$183,5,FALSE),0)","v":"04302-Combarbalá"},"15010200","2022-07-14T14:14:05",26,{"$nulls":5},18,8]
[{"$nulls":23},4,"5",2022,"105700",{"$f":"IFERROR(VLOOKUP(Tabla_SERIED_12_5[[#This Row],[IdEstablecimiento]],'[1]Establecimiento 2023'!$A$1:$E$183,3,FALSE),0)","v":"105700-Centro Comunitario de Salud Familiar Villa el Indio"},{"$f":"IFERROR(VLOOKUP(Tabla_SERIED_12_5[[#This Row],[IdEstablecimiento]],'[1]Establecimiento 2023'!$A$1:$E$183,5,FALSE),0)","v":"04101-La Serena"},"15060100","2022-05-18T15:22:41",1,{"$nulls":8},1]
[{"$nulls":23},2,"5",2022,"200607",{"$f":"IFERROR(VLOOKUP(Tabla_SERIED_12_5[[#This Row],[IdEstablecimiento]],'[1]Establecimiento 2023'!$A$1:$E$183,3,FALSE),0)","v":"200607-Centro de Salud Familiar Lila Cortés Godoy"},{"$f":"IFERROR(VLOOKUP(Tabla_SERIED_12_5[[#This Row],[IdEstablecimiento]],'[1]Establecimiento 2023'!$A$1:$E$183,5,FALSE),0)","v":"04102-Coquimbo"},"16200100","2022-03-17T10:10:14",4,2,2,0,0]
[{"$nulls":23},7,"5",2022,"105325",{"$f":"IFERROR(VLOOKUP(Tabla_SERIED_12_5[[#This Row],[IdEstablecimiento]],'[1]Establecimiento 2023'!$A$1:$E$183,3,FALSE),0)","v":"105325-Centro de Salud Familiar Juan Pablo II (La Serena)"},{"$f":"IFERROR(VLOOKUP(Tabla_SERIED_12_5[[#This Row],[IdEstablecimiento]],'[1]Establecimiento 2023'!$A$1:$E$183,5,FALSE),0)","v":"04101-La Serena"},"16100300","2022-08-19T12:03:07",232,80,152,3,482]
[{"$nulls":23},6,"5",2022,"105434",{"$f":"IFERROR(VLOOKUP(Tabla_SERIED_12_5[[#This Row],[IdEstablecimiento]],'[1]Establecimiento 2023'!$A$1:$E$183,3,FALSE),0)","v":"105434-Posta de Salud Rural San Marcos (Combarbalá)"},{"$f":"IFERROR(VLOOKUP(Tabla_SERIED_12_5[[#This Row],[IdEstablecimiento]],'[1]Establecimiento 2023'!$A$1:$E$183,5,FALSE),0)","v":"04302-Combarbalá"},"16090300","2022-07-14T14:14:05",54,54]
[{"$nulls":23},6,"5",2022,"105435",{"$f":"IFERROR(VLOOKUP(Tabla_SERIED_12_5[[#This Row],[IdEstablecimiento]],'[1]Establecimiento 2023'!$A$1:$E$183,3,FALSE),0)","v":"105435-Posta de Salud Rural Tulahuén"},{"$f":"IFERROR(VLOOKUP(Tabla_SERIED_12_5[[#This Row],[IdEstablecimiento]],'[1]Establecimiento 2023'!$A$1:$E$183,5,FALSE),0)","v":"04303-Monte Patria"},"15010500","2022-07-14T14:14:17",6,{"$nulls":5},4,2]
[{"$nulls":23},7,"5",2022,"105317",{"$f":"IFERROR(VLOOKUP(Tabla_SERIED_12_5[[#This Row],[IdEstablecimiento]],'[1]Establecimiento 2023'!$A$1:$E$183,3,FALSE),0)","v":"105317-Centro de Salud Familiar Jorge Jordán Domic"},{"$f":"IFERROR(VLOOKUP(Tabla_SERIED_12_5[[#This Row],[IdEstablecimiento]],'[1]Establecimiento 2023'!$A$1:$E$183,5,FALSE),0)","v":"04301-Ovalle"},"15900030","2022-08-19T12:01:33",36.8,null,7.2,15.2,7.2,7.2]
[{"$nulls":23},7,"5",2022,"105317",{"$f":"IFERROR(VLOOKUP(Tabla_SERIED_12_5[[#This Row],[IdEstablecimiento]],'[1]Establecimiento 2023'!$A$1:$E$183,3,FALSE),0)","v":"105317-Centro de Salud Familiar Jorge Jordán Domic"},{"$f":"IFERROR(VLOOKUP(Tabla_SERIED_12_5[[#This Row],[IdEstablecimiento]],'[1]Establecimiento 2023'!$A$1:$E$183,5,FALSE),0)","v":"04301-Ovalle"},"16090300","2022-08-19T12:01:33",707,707]
[{"$nulls":23},7,"5",2022,"105318",{"$f":"IFERROR(VLOOKUP(Tabla_SERIED_12_5[[#This Row],[IdEstablecimiento]],'[1]Establecimiento 2023'!$A$1:$E$183,3,FALSE),0)","v":"105318-Centro de Salud Familiar El Palqui"},{"$f":"IFERROR(VLOOKUP(Tabla_SERIED_12_5[[#This Row],[IdEstablecimiento]],'[1]Establecimiento 2023'!$A$1:$E$183,5,FALSE),0)","v":"04303-Monte Patria"},"15010500","2022-08-19T12:01:46",8,{"$nulls":3},4,2,2]
[{"$nulls":23},5,"5",2022,"105460",{"$f":"IFERROR(VLOOKUP(Tabla_SERIED_12_5[[#This Row],[IdEstablecimiento]],'[1]Establecimiento 2023'!$A$1:$E$183,3,FALSE),0)","v":"105460-Centro Comunitario de Salud Familiar Cogotí 18"},{"$f":"IFERROR(VLOOKUP(Tabla_SERIED_12_5[[#This Row],[IdEstablecimiento]],'[1]Establecimiento 2023'!$A$1:$E$183,5,FALSE),0)","v":"04302-Combarbalá"},"15010200","2022-06-20T17:20:04",14,{"$nulls":5},6,8]
[{"$nulls":23},7,"5",2022,"105723",{"$f":"IFERROR(VLOOKUP(Tabla_SERIED_12_5[[#This Row],[IdEstablecimiento]],'[1]Establecimiento 2023'!$A$1:$E$183,3,FALSE),0)","v":"105723-Centro Comunitario de Salud Familiar Limarí"},{"$f":"IFERROR(VLOOKUP(Tabla_SERIED_12_5[[#This Row],[IdEstablecimiento]],'[1]Establecimiento 2023'!$A$1:$E$183,5,FALSE),0)","v":"04301-Ovalle"},"15050100","2022-08-22T06:47:43",82,37,45,1,5,3,7,14,17,21,12,null,1,null,1]
[{"$nulls":23},3,"5",2022,"105105",{"$f":"IFERROR(VLOOKUP(Tabla_SERIED_12_5[[#This Row],[IdEstablecimiento]],'[1]Establecimiento 2023'!$A$1:$E$183,3,FALSE),0)","v":"105105-Hospital San Juan de Dios (Combarbalá)"},{"$f":"IFERROR(VLOOKUP(Tabla_SERIED_12_5[[#This Row],[IdEstablecimiento]],'[1]Establecimiento 2023'!$A$1:$E$183,5,FALSE),0)","v":"105105-Hospital Combarbalá"},"15900030","2022-04-19T07:58:32",2.8,2.8]
[{"$nulls":23},3,"5",2022,"105105",{"$f":"IFERROR(VLOOKUP(Tabla_SERIED_12_5[[#This Row],[IdEstablecimiento]],'[1]Establecimiento 2023'!$A$1:$E$183,3,FALSE),0)","v":"105105-Hospital San Juan de Dios (Combarbalá)"},{"$f":"IFERROR(VLOOKUP(Tabla_SERIED_12_5[[#This Row],[IdEstablecimiento]],'[1]Establecimiento 2023'!$A$1:$E$183,5,FALSE),0)","v":"105105-Hospital Combarbalá"},"15050100","2022-04-19T07:58:32",220,91,129,2,2,8,21,24,51,56,34,null,8,3,11]
[{"$nulls":23},6,"5",2022,"105305",{"$f":"IFERROR(VLOOKUP(Tabla_SERIED_12_5[[#This Row],[IdEstablecimiento]],'[1]Establecimiento 2023'!$A$1:$E$183,3,FALSE),0)","v":"105305-Centro de Salud Familiar Tierras Blancas"},{"$f":"IFERROR(VLOOKUP(Tabla_SERIED_12_5[[#This Row],[IdEstablecimiento]],'[1]Establecimiento 2023'!$A$1:$E$183,5,FALSE),0)","v":"04102-Coquimbo"},"15010100","2022-07-14T13:37:13",106,{"$nulls":3},102,4]
[{"$nulls":23},2,"5",2022,"105402",{"$f":"IFERROR(VLOOKUP(Tabla_SERIED_12_5[[#This Row],[IdEstablecimiento]],'[1]Establecimiento 2023'!$A$1:$E$183,3,FALSE),0)","v":"105402-Posta de Salud Rural El Romero"},{"$f":"IFERROR(VLOOKUP(Tabla_SERIED_12_5[[#This Row],[IdEstablecimiento]],'[1]Establecimiento 2023'!$A$1:$E$183,5,FALSE),0)","v":"04101-La Serena"},"16100300","2022-03-17T09:33:02",34,20,14]
[{"$nulls":23},5,"5",2022,"105500",{"$f":"IFERROR(VLOOKUP(Tabla_SERIED_12_5[[#This Row],[IdEstablecimiento]],'[1]Establecimiento 2023'!$A$1:$E$183,3,FALSE),0)","v":"105500-Posta de Salud Rural Caleta Hornos"},{"$f":"IFERROR(VLOOKUP(Tabla_SERIED_12_5[[#This Row],[IdEstablecimiento]],'[1]Establecimiento 2023'!$A$1:$E$183,5,FALSE),0)","v":"04104-La Higuera"},"15050200","2022-06-20T17:27:31",1,1,{"$nulls":6},1]
[{"$nulls":23},5,"5",2022,"105461",{"$f":"IFERROR(VLOOKUP(Tabla_SERIED_12_5[[#This Row],[IdEstablecimiento]],'[1]Establecimiento 2023'!$A$1:$E$183,3,FALSE),0)","v":"105461-Posta de Salud Rural El Huacho"},{"$f":"IFERROR(VLOOKUP(Tabla_SERIED_12_5[[#This Row],[IdEstablecimiento]],'[1]Establecimiento 2023'!$A$1:$E$183,5,FALSE),0)","v":"04302-Combarbalá"},"15900010","2022-06-20T17:20:20",0.8,null,null,0.8]
[{"$nulls":23},8,"5",2022,"105315",{"$f":"IFERROR(VLOOKUP(Tabla_SERIED_12_5[[#This Row],[IdEstablecimiento]],'[1]Establecimiento 2023'!$A$1:$E$183,3,FALSE),0)","v":"105315-Centro de Salud Familiar Cerrillos de Tamaya"},{"$f":"IFERROR(VLOOKUP(Tabla_SERIED_12_5[[#This Row],[IdEstablecimiento]],'[1]Establecimiento 2023'!$A$1:$E$183,5,FALSE),0)","v":"04301-Ovalle"},"15900050","2022-09-21T07:18:20",1,1,null,null,1]
[{"$nulls":23},5,"5",2022,"105302",{"$f":"IFERROR(VLOOKUP(Tabla_SERIED_12_5[[#This Row],[IdEstablecimiento]],'[1]Establecimiento 2023'!$A$1:$E$183,3,FALSE),0)","v":"105302-Centro de Salud Familiar Pedro Aguirre Cerda"},{"$f":"IFERROR(VLOOKUP(Tabla_SERIED_12_5[[#This Row],[IdEstablecimiento]],'[1]Establecimiento 2023'!$A$1:$E$183,5,FALSE),0)","v":"04101-La Serena"},"15080010","2022-06-20T16:59:55",1,{"$nulls":7},1]
[{"$nulls":23},4,"5",2022,"105490",{"$f":"IFERROR(VLOOKUP(Tabla_SERIED_12_5[[#This Row],[IdEstablecimiento]],'[1]Establecimiento 2023'!$A$1:$E$183,3,FALSE),0)","v":"105490-Posta de Salud Rural El Durazno(Combarbalá)"},{"$f":"IFERROR(VLOOKUP(Tabla_SERIED_12_5[[#This Row],[IdEstablecimiento]],'[1]Establecimiento 2023'!$A$1:$E$183,5,FALSE),0)","v":"04302-Combarbalá"},"16200220","2022-05-18T15:16:37",10,6,4]
[{"$nulls":23},7,"5",2022,"105318",{"$f":"IFERROR(VLOOKUP(Tabla_SERIED_12_5[[#This Row],[IdEstablecimiento]],'[1]Establecimiento 2023'!$A$1:$E$183,3,FALSE),0)","v":"105318-Centro de Salud Familiar El Palqui"},{"$f":"IFERROR(VLOOKUP(Tabla_SERIED_12_5[[#This Row],[IdEstablecimiento]],'[1]Establecimiento 2023'!$A$1:$E$183,5,FALSE),0)","v":"04303-Monte Patria"},"15010200","2022-08-19T12:01:46",324,{"$nulls":4},46,134,144]
[{"$nulls":23},7,"5",2022,"105410",{"$f":"IFERROR(VLOOKUP(Tabla_SERIED_12_5[[#This Row],[IdEstablecimiento]],'[1]Establecimiento 2023'!$A$1:$E$183,3,FALSE),0)","v":"105410-Posta de Salud Rural Hurtado"},{"$f":"IFERROR(VLOOKUP(Tabla_SERIED_12_5[[#This Row],[IdEstablecimiento]],'[1]Establecimiento 2023'!$A$1:$E$183,5,FALSE),0)","v":"04305-Río Hurtado"},"16100300","2022-08-19T13:09:10",33,14,19,0,25]
[{"$nulls":23},7,"5",2022,"105453",{"$f":"IFERROR(VLOOKUP(Tabla_SERIED_12_5[[#This Row],[IdEstablecimiento]],'[1]Establecimiento 2023'!$A$1:$E$183,3,FALSE),0)","v":"105453-Posta de Salud Rural Tranquilla"},{"$f":"IFERROR(VLOOKUP(Tabla_SERIED_12_5[[#This Row],[IdEstablecimiento]],'[1]Establecimiento 2023'!$A$1:$E$183,5,FALSE),0)","v":"04204-Salamanca"},"15010500","2022-08-22T05:58:33",2,{"$nulls":5},2]
[{"$nulls":23},2,"5",2022,"105308",{"$f":"IFERROR(VLOOKUP(Tabla_SERIED_12_5[[#This Row],[IdEstablecimiento]],'[1]Establecimiento 2023'!$A$1:$E$183,3,FALSE),0)","v":"105308-Centro de Salud Familiar Punitaqui"},{"$f":"IFERROR(VLOOKUP(Tabla_SERIED_12_5[[#This Row],[IdEstablecimiento]],'[1]Establecimiento 2023'!$A$1:$E$183,5,FALSE),0)","v":"04304-Punitaqui"},"15050100","2022-03-17T09:28:24",185,86,99,null,null,3,20,16,46,46,36,null,12,null,6]
[{"$nulls":23},6,"5",2022,"105489",{"$f":"IFERROR(VLOOKUP(Tabla_SERIED_12_5[[#This Row],[IdEstablecimiento]],'[1]Establecimiento 2023'!$A$1:$E$183,3,FALSE),0)","v":"105489-Posta de Salud Rural Ramadas de Tulahuén"},{"$f":"IFERROR(VLOOKUP(Tabla_SERIED_12_5[[#This Row],[IdEstablecimiento]],'[1]Establecimiento 2023'!$A$1:$E$183,5,FALSE),0)","v":"04303-Monte Patria"},"15010100","2022-07-14T14:33:29",4,{"$nulls":3},4]
[{"$nulls":23},6,"5",2022,"105490",{"$f":"IFERROR(VLOOKUP(Tabla_SERIED_12_5[[#This Row],[IdEstablecimiento]],'[1]Establecimiento 2023'!$A$1:$E$183,3,FALSE),0)","v":"105490-Posta de Salud Rural El Durazno(Combarbalá)"},{"$f":"IFERROR(VLOOKUP(Tabla_SERIED_12_5[[#This Row],[IdEstablecimiento]],'[1]Establecimiento 2023'!$A$1:$E$183,5,FALSE),0)","v":"04302-Combarbalá"},"15010200","2022-07-14T14:33:43",14,{"$nulls":5},8,6]
[{"$nulls":23},4,"5",2022,"105701",{"$f":"IFERROR(VLOOKUP(Tabla_SERIED_12_5[[#This Row],[IdEstablecimiento]],'[1]Establecimiento 2023'!$A$1:$E$183,3,FALSE),0)","v":"105701-Centro Comunitario de Salud Familiar Villa Alemania"},{"$f":"IFERROR(VLOOKUP(Tabla_SERIED_12_5[[#This Row],[IdEstablecimiento]],'[1]Establecimiento 2023'!$A$1:$E$183,5,FALSE),0)","v":"04101-La Serena"},"16090300","2022-05-18T15:22:55",34,34]
[{"$nulls":23},4,"5",2022,"105702",{"$f":"IFERROR(VLOOKUP(Tabla_SERIED_12_5[[#This Row],[IdEstablecimiento]],'[1]Establecimiento 2023'!$A$1:$E$183,3,FALSE),0)","v":"105702-Centro Comunitario de Salud Familiar Lambert"},{"$f":"IFERROR(VLOOKUP(Tabla_SERIED_12_5[[#This Row],[IdEstablecimiento]],'[1]Establecimiento 2023'!$A$1:$E$183,5,FALSE),0)","v":"04101-La Serena"},"15010500","2022-05-18T15:23:09",4,null,null,2,2]
[{"$nulls":23},4,"5",2022,"105506",{"$f":"IFERROR(VLOOKUP(Tabla_SERIED_12_5[[#This Row],[IdEstablecimiento]],'[1]Establecimiento 2023'!$A$1:$E$183,3,FALSE),0)","v":"105506-Posta de Salud Rural El Trapiche"},{"$f":"IFERROR(VLOOKUP(Tabla_SERIED_12_5[[#This Row],[IdEstablecimiento]],'[1]Establecimiento 2023'!$A$1:$E$183,5,FALSE),0)","v":"04104-La Higuera"},"15010200","2022-05-18T15:21:16",12,{"$nulls":4},6,4,2]
[{"$nulls":23},1,"5",2022,"105417",{"$f":"IFERROR(VLOOKUP(Tabla_SERIED_12_5[[#This Row],[IdEstablecimiento]],'[1]Establecimiento 2023'!$A$1:$E$183,3,FALSE),0)","v":"105417-Posta de Salud Rural Alcones Bajo"},{"$f":"IFERROR(VLOOKUP(Tabla_SERIED_12_5[[#This Row],[IdEstablecimiento]],'[1]Establecimiento 2023'!$A$1:$E$183,5,FALSE),0)","v":"04301-Ovalle"},"16200210","2022-02-16T10:56:14",3,3]
[{"$nulls":23},2,"5",2022,"105305",{"$f":"IFERROR(VLOOKUP(Tabla_SERIED_12_5[[#This Row],[IdEstablecimiento]],'[1]Establecimiento 2023'!$A$1:$E$183,3,FALSE),0)","v":"105305-Centro de Salud Familiar Tierras Blancas"},{"$f":"IFERROR(VLOOKUP(Tabla_SERIED_12_5[[#This Row],[IdEstablecimiento]],'[1]Establecimiento 2023'!$A$1:$E$183,5,FALSE),0)","v":"04102-Coquimbo"},"15050100","2022-03-17T09:27:42",551,241,310,null,7,57,63,56,119,99,109,null,33,null,8]
[{"$nulls":23},5,"5",2022,"105473",{"$f":"IFERROR(VLOOKUP(Tabla_SERIED_12_5[[#This Row],[IdEstablecimiento]],'[1]Establecimiento 2023'!$A$1:$E$183,3,FALSE),0)","v":"105473-Posta de Salud Rural Talcuna"},{"$f":"IFERROR(VLOOKUP(Tabla_SERIED_12_5[[#This Row],[IdEstablecimiento]],'[1]Establecimiento 2023'!$A$1:$E$183,5,FALSE),0)","v":"04106-Vicuña"},"15010300","2022-06-20T17:22:42",2,{"$nulls":3},2]
[{"$nulls":23},3,"5",2022,"105405",{"$f":"IFERROR(VLOOKUP(Tabla_SERIED_12_5[[#This Row],[IdEstablecimiento]],'[1]Establecimiento 2023'!$A$1:$E$183,3,FALSE),0)","v":"105405-Posta de Salud Rural Guanaqueros"},{"$f":"IFERROR(VLOOKUP(Tabla_SERIED_12_5[[#This Row],[IdEstablecimiento]],'[1]Establecimiento 2023'!$A$1:$E$183,5,FALSE),0)","v":"04102-Coquimbo"},"15010400","2022-04-19T08:15:10",2,{"$nulls":5},2,0]
[{"$nulls":23},3,"5",2022,"105304",{"$f":"IFERROR(VLOOKUP(Tabla_SERIED_12_5[[#This Row],[IdEstablecimiento]],'[1]Establecimiento 2023'!$A$1:$E$183,3,FALSE),0)","v":"105304-Centro de Salud Familiar Santa Cecilia"},{"$f":"IFERROR(VLOOKUP(Tabla_SERIED_12_5[[#This Row],[IdEstablecimiento]],'[1]Establecimiento 2023'!$A$1:$E$183,5,FALSE),0)","v":"04102-Coquimbo"},"16200100","2022-04-19T08:03:06",35,18,17,0,3]
[{"$nulls":23},4,"5",2022,"105104",{"$f":"IFERROR(VLOOKUP(Tabla_SERIED_12_5[[#This Row],[IdEstablecimiento]],'[1]Establecimiento 2023'!$A$1:$E$183,3,FALSE),0)","v":"105104-Hospital de Salamanca"},{"$f":"IFERROR(VLOOKUP(Tabla_SERIED_12_5[[#This Row],[IdEstablecimiento]],'[1]Establecimiento 2023'!$A$1:$E$183,5,FALSE),0)","v":"105104-Hospital Salamanca"},"16090300","2022-05-18T11:48:00",346,346]
[{"$nulls":23},4,"5",2022,"105448",{"$f":"IFERROR(VLOOKUP(Tabla_SERIED_12_5[[#This Row],[IdEstablecimiento]],'[1]Establecimiento 2023'!$A$1:$E$183,3,FALSE),0)","v":"105448-Posta de Salud Rural Santa Virginia"},{"$f":"IFERROR(VLOOKUP(Tabla_SERIED_12_5[[#This Row],[IdEstablecimiento]],'[1]Establecimiento 2023'!$A$1:$E$183,5,FALSE),0)","v":"04201-Illapel"},"15050100","2022-05-18T15:03:31",22,14,8,null,1,2,5,3,2,4,2,{"$nulls":3},3]
[{"$nulls":23},4,"5",2022,"105448",{"$f":"IFERROR(VLOOKUP(Tabla_SERIED_12_5[[#This Row],[IdEstablecimiento]],'[1]Establecimiento 2023'!$A$1:$E$183,3,FALSE),0)","v":"105448-Posta de Salud Rural Santa Virginia"},{"$f":"IFERROR(VLOOKUP(Tabla_SERIED_12_5[[#This Row],[IdEstablecimiento]],'[1]Establecimiento 2023'!$A$1:$E$183,5,FALSE),0)","v":"04201-Illapel"},"16090300","2022-05-18T15:03:31",36,36]
[{"$nulls":23},7,"5",2022,"105305",{"$f":"IFERROR(VLOOKUP(Tabla_SERIED_12_5[[#This Row],[IdEstablecimiento]],'[1]Establecimiento 2023'!$A$1:$E$183,3,FALSE),0)","v":"105305-Centro de Salud Familiar Tierras Blancas"},{"$f":"IFERROR(VLOOKUP(Tabla_SERIED_12_5[[#This Row],[IdEstablecimiento]],'[1]Establecimiento 2023'!$A$1:$E$183,5,FALSE),0)","v":"04102-Coquimbo"},"15060100","2022-08-19T11:59:12",13,8,5,null,null,1,3,4,2,2,null,null,1]
[{"$nulls":23},4,"5",2022,"200258",{"$f":"IFERROR(VLOOKUP(Tabla_SERIED_12_5[[#This Row],[IdEstablecimiento]],'[1]Establecimiento 2023'!$A$1:$E$183,3,FALSE),0)","v":"200258-Centro Comunitario de Salud Familiar Los Copihues"},{"$f":"IFERROR(VLOOKUP(Tabla_SERIED_12_5[[#This Row],[IdEstablecimiento]],'[1]Establecimiento 2023'!$A$1:$E$183,5,FALSE),0)","v":"04301-Ovalle"},"15080008","2022-05-18T15:24:35",15,{"$nulls":7},10,null,2,1,2]
[{"$nulls":23},2,"5",2022,"105317",{"$f":"IFERROR(VLOOKUP(Tabla_SERIED_12_5[[#This Row],[IdEstablecimiento]],'[1]Establecimiento 2023'!$A$1:$E$183,3,FALSE),0)","v":"105317-Centro de Salud Familiar Jorge Jordán Domic"},{"$f":"IFERROR(VLOOKUP(Tabla_SERIED_12_5[[#This Row],[IdEstablecimiento]],'[1]Establecimiento 2023'!$A$1:$E$183,5,FALSE),0)","v":"04301-Ovalle"},"15010100","2022-03-17T09:30:21",120,null,null,24,94,2]
[{"$nulls":23},1,"5",2022,"105317",{"$f":"IFERROR(VLOOKUP(Tabla_SERIED_12_5[[#This Row],[IdEstablecimiento]],'[1]Establecimiento 2023'!$A$1:$E$183,3,FALSE),0)","v":"105317-Centro de Salud Familiar Jorge Jordán Domic"},{"$f":"IFERROR(VLOOKUP(Tabla_SERIED_12_5[[#This Row],[IdEstablecimiento]],'[1]Establecimiento 2023'!$A$1:$E$183,5,FALSE),0)","v":"04301-Ovalle"},"15010400","2022-02-16T10:49:06",14,{"$nulls":5},10,4]
[{"$nulls":23},2,"5",2022,"105410",{"$f":"IFERROR(VLOOKUP(Tabla_SERIED_12_5[[#This Row],[IdEstablecimiento]],'[1]Establecimiento 2023'!$A$1:$E$183,3,FALSE),0)","v":"105410-Posta de Salud Rural Hurtado"},{"$f":"IFERROR(VLOOKUP(Tabla_SERIED_12_5[[#This Row],[IdEstablecimiento]],'[1]Establecimiento 2023'!$A$1:$E$183,5,FALSE),0)","v":"04305-Río Hurtado"},"16200210","2022-03-17T09:34:15",1,1]
[{"$nulls":23},2,"5",2022,"105428",{"$f":"IFERROR(VLOOKUP(Tabla_SERIED_12_5[[#This Row],[IdEstablecimiento]],'[1]Establecimiento 2023'!$A$1:$E$183,3,FALSE),0)","v":"105428-Posta de Salud Rural Huatulame"},{"$f":"IFERROR(VLOOKUP(Tabla_SERIED_12_5[[#This Row],[IdEstablecimiento]],'[1]Establecimiento 2023'!$A$1:$E$183,5,FALSE),0)","v":"04303-Monte Patria"},"16200210","2022-03-17T09:38:39",10,10]
[{"$nulls":23},2,"5",2022,"105701",{"$f":"IFERROR(VLOOKUP(Tabla_SERIED_12_5[[#This Row],[IdEstablecimiento]],'[1]Establecimiento 2023'!$A$1:$E$183,3,FALSE),0)","v":"105701-Centro Comunitario de Salud Familiar Villa Alemania"},{"$f":"IFERROR(VLOOKUP(Tabla_SERIED_12_5[[#This Row],[IdEstablecimiento]],'[1]Establecimiento 2023'!$A$1:$E$183,5,FALSE),0)","v":"04101-La Serena"},"16100600","2022-03-17T10:04:57",4,2,2]
[{"$nulls":23},2,"5",2022,"105702",{"$f":"IFERROR(VLOOKUP(Tabla_SERIED_12_5[[#This Row],[IdEstablecimiento]],'[1]Establecimiento 2023'!$A$1:$E$183,3,FALSE),0)","v":"105702-Centro Comunitario de Salud Familiar Lambert"},{"$f":"IFERROR(VLOOKUP(Tabla_SERIED_12_5[[#This Row],[IdEstablecimiento]],'[1]Establecimiento 2023'!$A$1:$E$183,5,FALSE),0)","v":"04101-La Serena"},"15010100","2022-03-17T10:05:12",20,null,null,2,18]
[{"$nulls":23},4,"5",2022,"200538",{"$f":"IFERROR(VLOOKUP(Tabla_SERIED_12_5[[#This Row],[IdEstablecimiento]],'[1]Establecimiento 2023'!$A$1:$E$183,3,FALSE),0)","v":"200538-Centro de Salud Familiar San Isidro Calingasta"},{"$f":"IFERROR(VLOOKUP(Tabla_SERIED_12_5[[#This Row],[IdEstablecimiento]],'[1]Establecimiento 2023'!$A$1:$E$183,5,FALSE),0)","v":"04106-Vicuña"},"16100300","2022-05-18T15:28:12",72,25,47,1,36]
[{"$nulls":23},2,"5",2022,"105455",{"$f":"IFERROR(VLOOKUP(Tabla_SERIED_12_5[[#This Row],[IdEstablecimiento]],'[1]Establecimiento 2023'!$A$1:$E$183,3,FALSE),0)","v":"105455-CESFAM Valle Alto"},{"$f":"IFERROR(VLOOKUP(Tabla_SERIED_12_5[[#This Row],[IdEstablecimiento]],'[1]Establecimiento 2023'!$A$1:$E$183,5,FALSE),0)","v":"04204-Salamanca"},"15050100","2022-03-17T09:45:06",17,8,9,null,null,1,3,2,3,1,5,{"$nulls":3},2]
[{"$nulls":23},2,"5",2022,"105445",{"$f":"IFERROR(VLOOKUP(Tabla_SERIED_12_5[[#This Row],[IdEstablecimiento]],'[1]Establecimiento 2023'!$A$1:$E$183,3,FALSE),0)","v":"105445-Posta de Salud Rural Limáhuida"},{"$f":"IFERROR(VLOOKUP(Tabla_SERIED_12_5[[#This Row],[IdEstablecimiento]],'[1]Establecimiento 2023'!$A$1:$E$183,5,FALSE),0)","v":"04201-Illapel"},"16200210","2022-03-17T09:42:54",3,3]
[{"$nulls":23},8,"5",2022,"105488",{"$f":"IFERROR(VLOOKUP(Tabla_SERIED_12_5[[#This Row],[IdEstablecimiento]],'[1]Establecimiento 2023'!$A$1:$E$183,3,FALSE),0)","v":"105488-Posta de Salud Rural Espíritu Santo"},{"$f":"IFERROR(VLOOKUP(Tabla_SERIED_12_5[[#This Row],[IdEstablecimiento]],'[1]Establecimiento 2023'!$A$1:$E$183,5,FALSE),0)","v":"04202-Canela"},"16200210","2022-09-21T07:53:07",2,2]
[{"$nulls":23},7,"5",2022,"105311",{"$f":"IFERROR(VLOOKUP(Tabla_SERIED_12_5[[#This Row],[IdEstablecimiento]],'[1]Establecimiento 2023'!$A$1:$E$183,3,FALSE),0)","v":"105311-Centro de Salud Familiar Chañaral Alto"},{"$f":"IFERROR(VLOOKUP(Tabla_SERIED_12_5[[#This Row],[IdEstablecimiento]],'[1]Establecimiento 2023'!$A$1:$E$183,5,FALSE),0)","v":"04303-Monte Patria"},"15900010","2022-08-19T12:00:23",24.1,null,6.1,18]
[{"$nulls":23},7,"5",2022,"105311",{"$f":"IFERROR(VLOOKUP(Tabla_SERIED_12_5[[#This Row],[IdEstablecimiento]],'[1]Establecimiento 2023'!$A$1:$E$183,3,FALSE),0)","v":"105311-Centro de Salud Familiar Chañaral Alto"},{"$f":"IFERROR(VLOOKUP(Tabla_SERIED_12_5[[#This Row],[IdEstablecimiento]],'[1]Establecimiento 2023'!$A$1:$E$183,5,FALSE),0)","v":"04303-Monte Patria"},"16200220","2022-08-19T12:00:23",24,13,11,null,15]
[{"$nulls":23},7,"5",2022,"105455",{"$f":"IFERROR(VLOOKUP(Tabla_SERIED_12_5[[#This Row],[IdEstablecimiento]],'[1]Establecimiento 2023'!$A$1:$E$183,3,FALSE),0)","v":"105455-CESFAM Valle Alto"},{"$f":"IFERROR(VLOOKUP(Tabla_SERIED_12_5[[#This Row],[IdEstablecimiento]],'[1]Establecimiento 2023'!$A$1:$E$183,5,FALSE),0)","v":"04204-Salamanca"},"15010100","2022-08-22T06:08:07",8,{"$nulls":3},8]
[{"$nulls":23},2,"5",2022,"105447",{"$f":"IFERROR(VLOOKUP(Tabla_SERIED_12_5[[#This Row],[IdEstablecimiento]],'[1]Establecimiento 2023'!$A$1:$E$183,3,FALSE),0)","v":"105447-Posta de Salud Rural Peralillo Illapel"},{"$f":"IFERROR(VLOOKUP(Tabla_SERIED_12_5[[#This Row],[IdEstablecimiento]],'[1]Establecimiento 2023'!$A$1:$E$183,5,FALSE),0)","v":"04201-Illapel"},"15080008","2022-03-17T09:43:22",6,{"$nulls":7},3,{"$nulls":3},3]
[{"$nulls":23},5,"5",2022,"105318",{"$f":"IFERROR(VLOOKUP(Tabla_SERIED_12_5[[#This Row],[IdEstablecimiento]],'[1]Establecimiento 2023'!$A$1:$E$183,3,FALSE),0)","v":"105318-Centro de Salud Familiar El Palqui"},{"$f":"IFERROR(VLOOKUP(Tabla_SERIED_12_5[[#This Row],[IdEstablecimiento]],'[1]Establecimiento 2023'!$A$1:$E$183,5,FALSE),0)","v":"04303-Monte Patria"},"16100600","2022-06-20T17:04:21",10,4,6,null,11]
[{"$nulls":23},1,"5",2022,"105106",{"$f":"IFERROR(VLOOKUP(Tabla_SERIED_12_5[[#This Row],[IdEstablecimiento]],'[1]Establecimiento 2023'!$A$1:$E$183,3,FALSE),0)","v":"105106-Hospital Dr. José Arraño (Andacollo)"},{"$f":"IFERROR(VLOOKUP(Tabla_SERIED_12_5[[#This Row],[IdEstablecimiento]],'[1]Establecimiento 2023'!$A$1:$E$183,5,FALSE),0)","v":"105106-Hospital Andacollo"},"15010100","2022-03-17T10:26:46",40,null,null,10,30]
[{"$nulls":23},2,"5",2022,"105700",{"$f":"IFERROR(VLOOKUP(Tabla_SERIED_12_5[[#This Row],[IdEstablecimiento]],'[1]Establecimiento 2023'!$A$1:$E$183,3,FALSE),0)","v":"105700-Centro Comunitario de Salud Familiar Villa el Indio"},{"$f":"IFERROR(VLOOKUP(Tabla_SERIED_12_5[[#This Row],[IdEstablecimiento]],'[1]Establecimiento 2023'!$A$1:$E$183,5,FALSE),0)","v":"04101-La Serena"},"15010200","2022-03-17T10:04:44",34,{"$nulls":4},8,16,10]
[{"$nulls":23},2,"5",2022,"105313",{"$f":"IFERROR(VLOOKUP(Tabla_SERIED_12_5[[#This Row],[IdEstablecimiento]],'[1]Establecimiento 2023'!$A$1:$E$183,3,FALSE),0)","v":"105313-Centro de Salud Familiar Dr. Emilio Schaffhauser"},{"$f":"IFERROR(VLOOKUP(Tabla_SERIED_12_5[[#This Row],[IdEstablecimiento]],'[1]Establecimiento 2023'!$A$1:$E$183,5,FALSE),0)","v":"04101-La Serena"},"15900010","2022-03-17T09:29:40",143.2,20,51.2,72]
[{"$nulls":23},8,"5",2022,"105489",{"$f":"IFERROR(VLOOKUP(Tabla_SERIED_12_5[[#This Row],[IdEstablecimiento]],'[1]Establecimiento 2023'!$A$1:$E$183,3,FALSE),0)","v":"105489-Posta de Salud Rural Ramadas de Tulahuén"},{"$f":"IFERROR(VLOOKUP(Tabla_SERIED_12_5[[#This Row],[IdEstablecimiento]],'[1]Establecimiento 2023'!$A$1:$E$183,5,FALSE),0)","v":"04303-Monte Patria"},"16090300","2022-09-21T07:53:19",6,6]
[{"$nulls":23},8,"5",2022,"105490",{"$f":"IFERROR(VLOOKUP(Tabla_SERIED_12_5[[#This Row],[IdEstablecimiento]],'[1]Establecimiento 2023'!$A$1:$E$183,3,FALSE),0)","v":"105490-Posta de Salud Rural El Durazno(Combarbalá)"},{"$f":"IFERROR(VLOOKUP(Tabla_SERIED_12_5[[#This Row],[IdEstablecimiento]],'[1]Establecimiento 2023'!$A$1:$E$183,5,FALSE),0)","v":"04302-Combarbalá"},"16200220","2022-09-21T07:53:35",11,7,4]
[{"$nulls":23},8,"5",2022,"105491",{"$f":"IFERROR(VLOOKUP(Tabla_SERIED_12_5[[#This Row],[IdEstablecimiento]],'[1]Establecimiento 2023'!$A$1:$E$183,3,FALSE),0)","v":"105491-Posta de Salud Rural Quelén Bajo"},{"$f":"IFERROR(VLOOKUP(Tabla_SERIED_12_5[[#This Row],[IdEstablecimiento]],'[1]Establecimiento 2023'!$A$1:$E$183,5,FALSE),0)","v":"04204-Salamanca"},"15050100","2022-09-21T07:53:46",50,22,28,null,null,1,4,3,16,15,4,null,6,1]
[{"$nulls":23},4,"5",2022,"105414",{"$f":"IFERROR(VLOOKUP(Tabla_SERIED_12_5[[#This Row],[IdEstablecimiento]],'[1]Establecimiento 2023'!$A$1:$E$183,3,FALSE),0)","v":"105414-Posta de Salud Rural Serón"},{"$f":"IFERROR(VLOOKUP(Tabla_SERIED_12_5[[#This Row],[IdEstablecimiento]],'[1]Establecimiento 2023'!$A$1:$E$183,5,FALSE),0)","v":"04305-Río Hurtado"},"15010200","2022-05-18T14:50:33",10,{"$nulls":4},2,4,4]
[{"$nulls":23},3,"5",2022,"105477",{"$f":"IFERROR(VLOOKUP(Tabla_SERIED_12_5[[#This Row],[IdEstablecimiento]],'[1]Establecimiento 2023'!$A$1:$E$183,3,FALSE),0)","v":"105477-Posta de Salud Rural Pisco Elqui"},{"$f":"IFERROR(VLOOKUP(Tabla_SERIED_12_5[[#This Row],[IdEstablecimiento]],'[1]Establecimiento 2023'!$A$1:$E$183,5,FALSE),0)","v":"04105-Paiguano"},"15050200","2022-04-19T10:04:30",1,null,1,{"$nulls":4},1]
[{"$nulls":23},5,"5",2022,"105400",{"$f":"IFERROR(VLOOKUP(Tabla_SERIED_12_5[[#This Row],[IdEstablecimiento]],'[1]Establecimiento 2023'!$A$1:$E$183,3,FALSE),0)","v":"105400-Posta de Salud Rural Algarrobito"},{"$f":"IFERROR(VLOOKUP(Tabla_SERIED_12_5[[#This Row],[IdEstablecimiento]],'[1]Establecimiento 2023'!$A$1:$E$183,5,FALSE),0)","v":"04101-La Serena"},"15020200","2022-06-20T17:06:50",4,{"$nulls":5},2,2]
[{"$nulls":23},5,"5",2022,"105404",{"$f":"IFERROR(VLOOKUP(Tabla_SERIED_12_5[[#This Row],[IdEstablecimiento]],'[1]Establecimiento 2023'!$A$1:$E$183,3,FALSE),0)","v":0},{"$f":"IFERROR(VLOOKUP(Tabla_SERIED_12_5[[#This Row],[IdEstablecimiento]],'[1]Establecimiento 2023'!$A$1:$E$183,5,FALSE),0)","v":0},"16090300","2022-06-20T17:08:31",30,30]
[{"$nulls":23},5,"5",2022,"105474",{"$f":"IFERROR(VLOOKUP(Tabla_SERIED_12_5[[#This Row],[IdEstablecimiento]],'[1]Establecimiento 2023'!$A$1:$E$183,3,FALSE),0)","v":"105474-Posta de Salud Rural Chapilca"},{"$f":"IFERROR(VLOOKUP(Tabla_SERIED_12_5[[#This Row],[IdEstablecimiento]],'[1]Establecimiento 2023'!$A$1:$E$183,5,FALSE),0)","v":"04106-Vicuña"},"15050100","2022-06-20T17:22:52",3,1,2,{"$nulls":5},1,2]
[{"$nulls":23},3,"5",2022,"105480",{"$f":"IFERROR(VLOOKUP(Tabla_SERIED_12_5[[#This Row],[IdEstablecimiento]],'[1]Establecimiento 2023'!$A$1:$E$183,3,FALSE),0)","v":"105480-Posta de Salud Rural Quilimarí"},{"$f":"IFERROR(VLOOKUP(Tabla_SERIED_12_5[[#This Row],[IdEstablecimiento]],'[1]Establecimiento 2023'!$A$1:$E$183,5,FALSE),0)","v":"04203-Los Vilos"},"16090300","2022-04-19T10:05:10",55,55]
[{"$nulls":23},1,"5",2022,"105411",{"$f":"IFERROR(VLOOKUP(Tabla_SERIED_12_5[[#This Row],[IdEstablecimiento]],'[1]Establecimiento 2023'!$A$1:$E$183,3,FALSE),0)","v":"105411-Posta de Salud Rural Las Breas (Río Hurtado)"},{"$f":"IFERROR(VLOOKUP(Tabla_SERIED_12_5[[#This Row],[IdEstablecimiento]],'[1]Establecimiento 2023'!$A$1:$E$183,5,FALSE),0)","v":"04305-Río Hurtado"},"15080008","2022-02-16T10:55:02",6,{"$nulls":7},2,null,4]
[{"$nulls":23},1,"5",2022,"105413",{"$f":"IFERROR(VLOOKUP(Tabla_SERIED_12_5[[#This Row],[IdEstablecimiento]],'[1]Establecimiento 2023'!$A$1:$E$183,3,FALSE),0)","v":"105413-Posta de Salud Rural Samo Alto"},{"$f":"IFERROR(VLOOKUP(Tabla_SERIED_12_5[[#This Row],[IdEstablecimiento]],'[1]Establecimiento 2023'!$A$1:$E$183,5,FALSE),0)","v":"04305-Río Hurtado"},"15060100","2022-02-16T10:55:17",3,1,2,null,null,1,1,{"$nulls":3},1,{"$nulls":3},0]
[{"$nulls":23},1,"5",2022,"105413",{"$f":"IFERROR(VLOOKUP(Tabla_SERIED_12_5[[#This Row],[IdEstablecimiento]],'[1]Establecimiento 2023'!$A$1:$E$183,3,FALSE),0)","v":"105413-Posta de Salud Rural Samo Alto"},{"$f":"IFERROR(VLOOKUP(Tabla_SERIED_12_5[[#This Row],[IdEstablecimiento]],'[1]Establecimiento 2023'!$A$1:$E$183,5,FALSE),0)","v":"04305-Río Hurtado"},"15060200","2022-02-16T10:55:17",5,2,3,{"$nulls":5},1,4]
[{"$nulls":23},3,"5",2022,"105723",{"$f":"IFERROR(VLOOKUP(Tabla_SERIED_12_5[[#This Row],[IdEstablecimiento]],'[1]Establecimiento 2023'!$A$1:$E$183,3,FALSE),0)","v":"105723-Centro Comunitario de Salud Familiar Limarí"},{"$f":"IFERROR(VLOOKUP(Tabla_SERIED_12_5[[#This Row],[IdEstablecimiento]],'[1]Establecimiento 2023'!$A$1:$E$183,5,FALSE),0)","v":"04301-Ovalle"},"15010500","2022-04-19T10:13:13",10,{"$nulls":5},6,4]
[{"$nulls":23},6,"5",2022,"105472",{"$f":"IFERROR(VLOOKUP(Tabla_SERIED_12_5[[#This Row],[IdEstablecimiento]],'[1]Establecimiento 2023'!$A$1:$E$183,3,FALSE),0)","v":"105472-Posta de Salud Rural Rivadavia"},{"$f":"IFERROR(VLOOKUP(Tabla_SERIED_12_5[[#This Row],[IdEstablecimiento]],'[1]Establecimiento 2023'!$A$1:$E$183,5,FALSE),0)","v":"04106-Vicuña"},"15010200","2022-07-14T14:27:59",14,{"$nulls":4},2,4,8]
[{"$nulls":23},8,"5",2022,"105469",{"$f":"IFERROR(VLOOKUP(Tabla_SERIED_12_5[[#This Row],[IdEstablecimiento]],'[1]Establecimiento 2023'!$A$1:$E$183,3,FALSE),0)","v":"105469-Posta de Salud Rural El Tambo (Vicuña)"},{"$f":"IFERROR(VLOOKUP(Tabla_SERIED_12_5[[#This Row],[IdEstablecimiento]],'[1]Establecimiento 2023'!$A$1:$E$183,5,FALSE),0)","v":"04106-Vicuña"},"16200220","2022-09-21T07:48:42",4,2,2]
[{"$nulls":23},4,"5",2022,"105400",{"$f":"IFERROR(VLOOKUP(Tabla_SERIED_12_5[[#This Row],[IdEstablecimiento]],'[1]Establecimiento 2023'!$A$1:$E$183,3,FALSE),0)","v":"105400-Posta de Salud Rural Algarrobito"},{"$f":"IFERROR(VLOOKUP(Tabla_SERIED_12_5[[#This Row],[IdEstablecimiento]],'[1]Establecimiento 2023'!$A$1:$E$183,5,FALSE),0)","v":"04101-La Serena"},"15010400","2022-05-18T11:55:03",4,{"$nulls":5},2,2]
[{"$nulls":23},5,"5",2022,"105322",{"$f":"IFERROR(VLOOKUP(Tabla_SERIED_12_5[[#This Row],[IdEstablecimiento]],'[1]Establecimiento 2023'!$A$1:$E$183,3,FALSE),0)","v":"105322-Centro de Salud Familiar Marcos Macuada"},{"$f":"IFERROR(VLOOKUP(Tabla_SERIED_12_5[[#This Row],[IdEstablecimiento]],'[1]Establecimiento 2023'!$A$1:$E$183,5,FALSE),0)","v":"04301-Ovalle"},"15010200","2022-06-20T17:05:03",484,{"$nulls":5},226,258]
[{"$nulls":23},8,"5",2022,"105501",{"$f":"IFERROR(VLOOKUP(Tabla_SERIED_12_5[[#This Row],[IdEstablecimiento]],'[1]Establecimiento 2023'!$A$1:$E$183,3,FALSE),0)","v":"105501-Posta de Salud Rural Arboleda Grande"},{"$f":"IFERROR(VLOOKUP(Tabla_SERIED_12_5[[#This Row],[IdEstablecimiento]],'[1]Establecimiento 2023'!$A$1:$E$183,5,FALSE),0)","v":"04204-Salamanca"},"15050100","2022-09-21T07:57:43",40,20,20,1,null,3,3,3,12,14,2,null,null,2]
[{"$nulls":23},4,"5",2022,"105416",{"$f":"IFERROR(VLOOKUP(Tabla_SERIED_12_5[[#This Row],[IdEstablecimiento]],'[1]Establecimiento 2023'!$A$1:$E$183,3,FALSE),0)","v":"105416-Posta de Salud Rural Camarico (Ovalle)"},{"$f":"IFERROR(VLOOKUP(Tabla_SERIED_12_5[[#This Row],[IdEstablecimiento]],'[1]Establecimiento 2023'!$A$1:$E$183,5,FALSE),0)","v":"04301-Ovalle"},"15050200","2022-05-18T14:51:01",1,null,1,{"$nulls":3},1]
[{"$nulls":23},4,"5",2022,"105416",{"$f":"IFERROR(VLOOKUP(Tabla_SERIED_12_5[[#This Row],[IdEstablecimiento]],'[1]Establecimiento 2023'!$A$1:$E$183,3,FALSE),0)","v":"105416-Posta de Salud Rural Camarico (Ovalle)"},{"$f":"IFERROR(VLOOKUP(Tabla_SERIED_12_5[[#This Row],[IdEstablecimiento]],'[1]Establecimiento 2023'!$A$1:$E$183,5,FALSE),0)","v":"04301-Ovalle"},"16200210","2022-05-18T14:51:01",17,17]
[{"$nulls":23},7,"5",2022,"105443",{"$f":"IFERROR(VLOOKUP(Tabla_SERIED_12_5[[#This Row],[IdEstablecimiento]],'[1]Establecimiento 2023'!$A$1:$E$183,3,FALSE),0)","v":"105443-Posta de Salud Rural Cárcamo"},{"$f":"IFERROR(VLOOKUP(Tabla_SERIED_12_5[[#This Row],[IdEstablecimiento]],'[1]Establecimiento 2023'!$A$1:$E$183,5,FALSE),0)","v":"04201-Illapel"},"15080008","2022-08-22T05:55:52",2,{"$nulls":7},1,{"$nulls":3},1]
[{"$nulls":23},7,"5",2022,"105444",{"$f":"IFERROR(VLOOKUP(Tabla_SERIED_12_5[[#This Row],[IdEstablecimiento]],'[1]Establecimiento 2023'!$A$1:$E$183,3,FALSE),0)","v":"105444-Posta de Salud Rural Huintil"},{"$f":"IFERROR(VLOOKUP(Tabla_SERIED_12_5[[#This Row],[IdEstablecimiento]],'[1]Establecimiento 2023'!$A$1:$E$183,5,FALSE),0)","v":"04201-Illapel"},"15010200","2022-08-22T05:56:17",20,{"$nulls":4},4,10,6]
[{"$nulls":23},2,"5",2022,"105317",{"$f":"IFERROR(VLOOKUP(Tabla_SERIED_12_5[[#This Row],[IdEstablecimiento]],'[1]Establecimiento 2023'!$A$1:$E$183,3,FALSE),0)","v":"105317-Centro de Salud Familiar Jorge Jordán Domic"},{"$f":"IFERROR(VLOOKUP(Tabla_SERIED_12_5[[#This Row],[IdEstablecimiento]],'[1]Establecimiento 2023'!$A$1:$E$183,5,FALSE),0)","v":"04301-Ovalle"},"15020500","2022-03-17T09:30:21",2,{"$nulls":5},2]
[{"$nulls":23},5,"5",2022,"105723",{"$f":"IFERROR(VLOOKUP(Tabla_SERIED_12_5[[#This Row],[IdEstablecimiento]],'[1]Establecimiento 2023'!$A$1:$E$183,3,FALSE),0)","v":"105723-Centro Comunitario de Salud Familiar Limarí"},{"$f":"IFERROR(VLOOKUP(Tabla_SERIED_12_5[[#This Row],[IdEstablecimiento]],'[1]Establecimiento 2023'!$A$1:$E$183,5,FALSE),0)","v":"04301-Ovalle"},"15900040","2022-06-20T17:32:30",4.4,null,4.4]
[{"$nulls":23},5,"5",2022,"105409",{"$f":"IFERROR(VLOOKUP(Tabla_SERIED_12_5[[#This Row],[IdEstablecimiento]],'[1]Establecimiento 2023'!$A$1:$E$183,3,FALSE),0)","v":"105409-Posta de Salud Rural El Chañar"},{"$f":"IFERROR(VLOOKUP(Tabla_SERIED_12_5[[#This Row],[IdEstablecimiento]],'[1]Establecimiento 2023'!$A$1:$E$183,5,FALSE),0)","v":"04305-Río Hurtado"},"15010200","2022-06-20T17:10:04",4,{"$nulls":5},2,2]
[{"$nulls":23},5,"5",2022,"105410",{"$f":"IFERROR(VLOOKUP(Tabla_SERIED_12_5[[#This Row],[IdEstablecimiento]],'[1]Establecimiento 2023'!$A$1:$E$183,3,FALSE),0)","v":"105410-Posta de Salud Rural Hurtado"},{"$f":"IFERROR(VLOOKUP(Tabla_SERIED_12_5[[#This Row],[IdEstablecimiento]],'[1]Establecimiento 2023'!$A$1:$E$183,5,FALSE),0)","v":"04305-Río Hurtado"},"15050100","2022-06-20T17:10:17",8,2,6,{"$nulls":4},1,1,2,3,{"$nulls":3},1]
[{"$nulls":23},5,"5",2022,"105411",{"$f":"IFERROR(VLOOKUP(Tabla_SERIED_12_5[[#This Row],[IdEstablecimiento]],'[1]Establecimiento 2023'!$A$1:$E$183,3,FALSE),0)","v":"105411-Posta de Salud Rural Las Breas (Río Hurtado)"},{"$f":"IFERROR(VLOOKUP(Tabla_SERIED_12_5[[#This Row],[IdEstablecimiento]],'[1]Establecimiento 2023'!$A$1:$E$183,5,FALSE),0)","v":"04305-Río Hurtado"},"15900020","2022-06-20T17:10:30",3.2,null,null,3.2]
[{"$nulls":23},5,"5",2022,"105411",{"$f":"IFERROR(VLOOKUP(Tabla_SERIED_12_5[[#This Row],[IdEstablecimiento]],'[1]Establecimiento 2023'!$A$1:$E$183,3,FALSE),0)","v":"105411-Posta de Salud Rural Las Breas (Río Hurtado)"},{"$f":"IFERROR(VLOOKUP(Tabla_SERIED_12_5[[#This Row],[IdEstablecimiento]],'[1]Establecimiento 2023'!$A$1:$E$183,5,FALSE),0)","v":"04305-Río Hurtado"},"15050100","2022-06-20T17:10:30",14,3,11,null,null,2,null,null,1,5,4,null,2]
[{"$nulls":23},4,"5",2022,"105405",{"$f":"IFERROR(VLOOKUP(Tabla_SERIED_12_5[[#This Row],[IdEstablecimiento]],'[1]Establecimiento 2023'!$A$1:$E$183,3,FALSE),0)","v":"105405-Posta de Salud Rural Guanaqueros"},{"$f":"IFERROR(VLOOKUP(Tabla_SERIED_12_5[[#This Row],[IdEstablecimiento]],'[1]Establecimiento 2023'!$A$1:$E$183,5,FALSE),0)","v":"04102-Coquimbo"},"15050100","2022-05-18T11:56:18",58,27,31,1,4,11,11,8,18,4,1,null,0]
[{"$nulls":23},2,"5",2022,"105305",{"$f":"IFERROR(VLOOKUP(Tabla_SERIED_12_5[[#This Row],[IdEstablecimiento]],'[1]Establecimiento 2023'!$A$1:$E$183,3,FALSE),0)","v":"105305-Centro de Salud Familiar Tierras Blancas"},{"$f":"IFERROR(VLOOKUP(Tabla_SERIED_12_5[[#This Row],[IdEstablecimiento]],'[1]Establecimiento 2023'!$A$1:$E$183,5,FALSE),0)","v":"04102-Coquimbo"},"16100300","2022-03-17T09:27:42",552,217,335,8,213]
[{"$nulls":23},1,"5",2022,"200494",{"$f":"IFERROR(VLOOKUP(Tabla_SERIED_12_5[[#This Row],[IdEstablecimiento]],'[1]Establecimiento 2023'!$A$1:$E$183,3,FALSE),0)","v":"200494-Centro de Salud Familiar El Sauce"},{"$f":"IFERROR(VLOOKUP(Tabla_SERIED_12_5[[#This Row],[IdEstablecimiento]],'[1]Establecimiento 2023'!$A$1:$E$183,5,FALSE),0)","v":"04102-Coquimbo"},"15030200","2022-02-17T04:30:58",7.2,null,null,7.2]
[{"$nulls":23},6,"5",2022,"105319",{"$f":"IFERROR(VLOOKUP(Tabla_SERIED_12_5[[#This Row],[IdEstablecimiento]],'[1]Establecimiento 2023'!$A$1:$E$183,3,FALSE),0)","v":"105319-Centro de Salud Familiar Cardenal Raúl Silva Henríquez de La Serena"},{"$f":"IFERROR(VLOOKUP(Tabla_SERIED_12_5[[#This Row],[IdEstablecimiento]],'[1]Establecimiento 2023'!$A$1:$E$183,5,FALSE),0)","v":"04101-La Serena"},"15080008","2022-07-14T14:06:14",111,{"$nulls":7},68,null,40,null,3]
[{"$nulls":23},4,"5",2022,"105305",{"$f":"IFERROR(VLOOKUP(Tabla_SERIED_12_5[[#This Row],[IdEstablecimiento]],'[1]Establecimiento 2023'!$A$1:$E$183,3,FALSE),0)","v":"105305-Centro de Salud Familiar Tierras Blancas"},{"$f":"IFERROR(VLOOKUP(Tabla_SERIED_12_5[[#This Row],[IdEstablecimiento]],'[1]Establecimiento 2023'!$A$1:$E$183,5,FALSE),0)","v":"04102-Coquimbo"},"15010200","2022-05-18T11:50:14",603,{"$nulls":4},154,266,183]
[{"$nulls":23},4,"5",2022,"105302",{"$f":"IFERROR(VLOOKUP(Tabla_SERIED_12_5[[#This Row],[IdEstablecimiento]],'[1]Establecimiento 2023'!$A$1:$E$183,3,FALSE),0)","v":"105302-Centro de Salud Familiar Pedro Aguirre Cerda"},{"$f":"IFERROR(VLOOKUP(Tabla_SERIED_12_5[[#This Row],[IdEstablecimiento]],'[1]Establecimiento 2023'!$A$1:$E$183,5,FALSE),0)","v":"04101-La Serena"},"15010300","2022-05-18T11:49:37",2,{"$nulls":4},2]
[{"$nulls":23},2,"5",2022,"105471",{"$f":"IFERROR(VLOOKUP(Tabla_SERIED_12_5[[#This Row],[IdEstablecimiento]],'[1]Establecimiento 2023'!$A$1:$E$183,3,FALSE),0)","v":"105471-Posta de Salud Rural Peralillo Vicuña"},{"$f":"IFERROR(VLOOKUP(Tabla_SERIED_12_5[[#This Row],[IdEstablecimiento]],'[1]Establecimiento 2023'!$A$1:$E$183,5,FALSE),0)","v":"04106-Vicuña"},"15900010","2022-03-17T09:50:42",3.2,null,null,3.2]
[{"$nulls":23},2,"5",2022,"105471",{"$f":"IFERROR(VLOOKUP(Tabla_SERIED_12_5[[#This Row],[IdEstablecimiento]],'[1]Establecimiento 2023'!$A$1:$E$183,3,FALSE),0)","v":"105471-Posta de Salud Rural Peralillo Vicuña"},{"$f":"IFERROR(VLOOKUP(Tabla_SERIED_12_5[[#This Row],[IdEstablecimiento]],'[1]Establecimiento 2023'!$A$1:$E$183,5,FALSE),0)","v":"04106-Vicuña"},"15050100","2022-03-17T09:50:42",14,9,5,null,null,2,null,3,1,6,1,null,1]
[{"$nulls":23},5,"5",2022,"105411",{"$f":"IFERROR(VLOOKUP(Tabla_SERIED_12_5[[#This Row],[IdEstablecimiento]],'[1]Establecimiento 2023'!$A$1:$E$183,3,FALSE),0)","v":"105411-Posta de Salud Rural Las Breas (Río Hurtado)"},{"$f":"IFERROR(VLOOKUP(Tabla_SERIED_12_5[[#This Row],[IdEstablecimiento]],'[1]Establecimiento 2023'!$A$1:$E$183,5,FALSE),0)","v":"04305-Río Hurtado"},"16200210","2022-06-20T17:10:30",1,1]
[{"$nulls":23},1,"5",2022,"105104",{"$f":"IFERROR(VLOOKUP(Tabla_SERIED_12_5[[#This Row],[IdEstablecimiento]],'[1]Establecimiento 2023'!$A$1:$E$183,3,FALSE),0)","v":"105104-Hospital de Salamanca"},{"$f":"IFERROR(VLOOKUP(Tabla_SERIED_12_5[[#This Row],[IdEstablecimiento]],'[1]Establecimiento 2023'!$A$1:$E$183,5,FALSE),0)","v":"105104-Hospital Salamanca"},"15010100","2022-02-16T10:28:29",64,null,null,26,38]
[{"$nulls":23},4,"5",2022,"200569",{"$f":"IFERROR(VLOOKUP(Tabla_SERIED_12_5[[#This Row],[IdEstablecimiento]],'[1]Establecimiento 2023'!$A$1:$E$183,3,FALSE),0)","v":"200569-Centro de Salud Familiar Fray Jorge"},{"$f":"IFERROR(VLOOKUP(Tabla_SERIED_12_5[[#This Row],[IdEstablecimiento]],'[1]Establecimiento 2023'!$A$1:$E$183,5,FALSE),0)","v":"04301-Ovalle"},"15901400","2022-05-18T15:28:33",9,6,3,2,null,1,4,2]
[{"$nulls":23},1,"5",2022,"105309",{"$f":"IFERROR(VLOOKUP(Tabla_SERIED_12_5[[#This Row],[IdEstablecimiento]],'[1]Establecimiento 2023'!$A$1:$E$183,3,FALSE),0)","v":"105309-Centro de Salud Familiar Canela"},{"$f":"IFERROR(VLOOKUP(Tabla_SERIED_12_5[[#This Row],[IdEstablecimiento]],'[1]Establecimiento 2023'!$A$1:$E$183,5,FALSE),0)","v":"04202-Canela"},"16200100","2022-02-16T10:36:38",2,1,1,null,1]
[{"$nulls":23},6,"5",2022,"105108",{"$f":"IFERROR(VLOOKUP(Tabla_SERIED_12_5[[#This Row],[IdEstablecimiento]],'[1]Establecimiento 2023'!$A$1:$E$183,3,FALSE),0)","v":"105108-Hospital San Pedro (Los Vilos)"},{"$f":"IFERROR(VLOOKUP(Tabla_SERIED_12_5[[#This Row],[IdEstablecimiento]],'[1]Establecimiento 2023'!$A$1:$E$183,5,FALSE),0)","v":"105108-Hospital Los Vilos"},"15010100","2022-08-22T07:35:41",75,{"$nulls":3},74,{"$nulls":3},1]
[{"$nulls":23},1,"5",2022,"105105",{"$f":"IFERROR(VLOOKUP(Tabla_SERIED_12_5[[#This Row],[IdEstablecimiento]],'[1]Establecimiento 2023'!$A$1:$E$183,3,FALSE),0)","v":"105105-Hospital San Juan de Dios (Combarbalá)"},{"$f":"IFERROR(VLOOKUP(Tabla_SERIED_12_5[[#This Row],[IdEstablecimiento]],'[1]Establecimiento 2023'!$A$1:$E$183,5,FALSE),0)","v":"105105-Hospital Combarbalá"},"16090300","2022-02-16T10:28:45",335,335]
[{"$nulls":23},2,"5",2022,"105313",{"$f":"IFERROR(VLOOKUP(Tabla_SERIED_12_5[[#This Row],[IdEstablecimiento]],'[1]Establecimiento 2023'!$A$1:$E$183,3,FALSE),0)","v":"105313-Centro de Salud Familiar Dr. Emilio Schaffhauser"},{"$f":"IFERROR(VLOOKUP(Tabla_SERIED_12_5[[#This Row],[IdEstablecimiento]],'[1]Establecimiento 2023'!$A$1:$E$183,5,FALSE),0)","v":"04101-La Serena"},"15900030","2022-03-17T09:29:40",38,1.6,2.8,18.4,10.4,4.8]
[{"$nulls":23},2,"5",2022,"105313",{"$f":"IFERROR(VLOOKUP(Tabla_SERIED_12_5[[#This Row],[IdEstablecimiento]],'[1]Establecimiento 2023'!$A$1:$E$183,3,FALSE),0)","v":"105313-Centro de Salud Familiar Dr. Emilio Schaffhauser"},{"$f":"IFERROR(VLOOKUP(Tabla_SERIED_12_5[[#This Row],[IdEstablecimiento]],'[1]Establecimiento 2023'!$A$1:$E$183,5,FALSE),0)","v":"04101-La Serena"},"15050100","2022-03-17T09:29:40",464,151,313,9,20,35,38,39,91,64,104,null,36,11,17]
[{"$nulls":23},5,"5",2022,"200494",{"$f":"IFERROR(VLOOKUP(Tabla_SERIED_12_5[[#This Row],[IdEstablecimiento]],'[1]Establecimiento 2023'!$A$1:$E$183,3,FALSE),0)","v":"200494-Centro de Salud Familiar El Sauce"},{"$f":"IFERROR(VLOOKUP(Tabla_SERIED_12_5[[#This Row],[IdEstablecimiento]],'[1]Establecimiento 2023'!$A$1:$E$183,5,FALSE),0)","v":"04102-Coquimbo"},"15050100","2022-06-20T17:37:05",508,183,325,5,11,50,55,46,106,87,100,null,35,null,13]
[{"$nulls":23},7,"5",2022,"105444",{"$f":"IFERROR(VLOOKUP(Tabla_SERIED_12_5[[#This Row],[IdEstablecimiento]],'[1]Establecimiento 2023'!$A$1:$E$183,3,FALSE),0)","v":"105444-Posta de Salud Rural Huintil"},{"$f":"IFERROR(VLOOKUP(Tabla_SERIED_12_5[[#This Row],[IdEstablecimiento]],'[1]Establecimiento 2023'!$A$1:$E$183,5,FALSE),0)","v":"04201-Illapel"},"16100300","2022-08-22T05:56:17",54,25,29]
[{"$nulls":23},8,"5",2022,"105723",{"$f":"IFERROR(VLOOKUP(Tabla_SERIED_12_5[[#This Row],[IdEstablecimiento]],'[1]Establecimiento 2023'!$A$1:$E$183,3,FALSE),0)","v":"105723-Centro Comunitario de Salud Familiar Limarí"},{"$f":"IFERROR(VLOOKUP(Tabla_SERIED_12_5[[#This Row],[IdEstablecimiento]],'[1]Establecimiento 2023'!$A$1:$E$183,5,FALSE),0)","v":"04301-Ovalle"},"15050200","2022-09-21T08:01:22",2,1,1,{"$nulls":5},2]
[{"$nulls":23},8,"5",2022,"200258",{"$f":"IFERROR(VLOOKUP(Tabla_SERIED_12_5[[#This Row],[IdEstablecimiento]],'[1]Establecimiento 2023'!$A$1:$E$183,3,FALSE),0)","v":"200258-Centro Comunitario de Salud Familiar Los Copihues"},{"$f":"IFERROR(VLOOKUP(Tabla_SERIED_12_5[[#This Row],[IdEstablecimiento]],'[1]Establecimiento 2023'!$A$1:$E$183,5,FALSE),0)","v":"04301-Ovalle"},"15010200","2022-09-21T08:01:50",101,{"$nulls":4},22,42,37]
[{"$nulls":23},4,"5",2022,"200607",{"$f":"IFERROR(VLOOKUP(Tabla_SERIED_12_5[[#This Row],[IdEstablecimiento]],'[1]Establecimiento 2023'!$A$1:$E$183,3,FALSE),0)","v":"200607-Centro de Salud Familiar Lila Cortés Godoy"},{"$f":"IFERROR(VLOOKUP(Tabla_SERIED_12_5[[#This Row],[IdEstablecimiento]],'[1]Establecimiento 2023'!$A$1:$E$183,5,FALSE),0)","v":"04102-Coquimbo"},"15010400","2022-05-18T15:29:00",2,{"$nulls":4},0,2,0]
[{"$nulls":23},5,"5",2022,"105437",{"$f":"IFERROR(VLOOKUP(Tabla_SERIED_12_5[[#This Row],[IdEstablecimiento]],'[1]Establecimiento 2023'!$A$1:$E$183,3,FALSE),0)","v":"105437-Posta de Salud Rural Chalinga"},{"$f":"IFERROR(VLOOKUP(Tabla_SERIED_12_5[[#This Row],[IdEstablecimiento]],'[1]Establecimiento 2023'!$A$1:$E$183,5,FALSE),0)","v":"04301-Ovalle"},"15010200","2022-06-20T17:15:58",8,{"$nulls":5},6,2]
[{"$nulls":23},5,"5",2022,"105437",{"$f":"IFERROR(VLOOKUP(Tabla_SERIED_12_5[[#This Row],[IdEstablecimiento]],'[1]Establecimiento 2023'!$A$1:$E$183,3,FALSE),0)","v":"105437-Posta de Salud Rural Chalinga"},{"$f":"IFERROR(VLOOKUP(Tabla_SERIED_12_5[[#This Row],[IdEstablecimiento]],'[1]Establecimiento 2023'!$A$1:$E$183,5,FALSE),0)","v":"04301-Ovalle"},"16200210","2022-06-20T17:15:58",24,24]
[{"$nulls":23},5,"5",2022,"105437",{"$f":"IFERROR(VLOOKUP(Tabla_SERIED_12_5[[#This Row],[IdEstablecimiento]],'[1]Establecimiento 2023'!$A$1:$E$183,3,FALSE),0)","v":"105437-Posta de Salud Rural Chalinga"},{"$f":"IFERROR(VLOOKUP(Tabla_SERIED_12_5[[#This Row],[IdEstablecimiento]],'[1]Establecimiento 2023'!$A$1:$E$183,5,FALSE),0)","v":"04301-Ovalle"},"16100300","2022-06-20T17:15:58",112,51,61,0,7]
[{"$nulls":23},5,"5",2022,"105439",{"$f":"IFERROR(VLOOKUP(Tabla_SERIED_12_5[[#This Row],[IdEstablecimiento]],'[1]Establecimiento 2023'!$A$1:$E$183,3,FALSE),0)","v":"105439-Posta de Salud Rural Cerro Blanco"},{"$f":"IFERROR(VLOOKUP(Tabla_SERIED_12_5[[#This Row],[IdEstablecimiento]],'[1]Establecimiento 2023'!$A$1:$E$183,5,FALSE),0)","v":"04301-Ovalle"},"16200210","2022-06-20T17:16:12",3,3]
[{"$nulls":23},5,"5",2022,"105441",{"$f":"IFERROR(VLOOKUP(Tabla_SERIED_12_5[[#This Row],[IdEstablecimiento]],'[1]Establecimiento 2023'!$A$1:$E$183,3,FALSE),0)","v":"105441-Posta de Salud Rural Manquehua"},{"$f":"IFERROR(VLOOKUP(Tabla_SERIED_12_5[[#This Row],[IdEstablecimiento]],'[1]Establecimiento 2023'!$A$1:$E$183,5,FALSE),0)","v":"04302-Combarbalá"},"15080008","2022-06-20T17:16:39",2,{"$nulls":7},2]
[{"$nulls":23},8,"5",2022,"105315",{"$f":"IFERROR(VLOOKUP(Tabla_SERIED_12_5[[#This Row],[IdEstablecimiento]],'[1]Establecimiento 2023'!$A$1:$E$183,3,FALSE),0)","v":"105315-Centro de Salud Familiar Cerrillos de Tamaya"},{"$f":"IFERROR(VLOOKUP(Tabla_SERIED_12_5[[#This Row],[IdEstablecimiento]],'[1]Establecimiento 2023'!$A$1:$E$183,5,FALSE),0)","v":"04301-Ovalle"},"16090300","2022-09-21T07:18:20",248,248]
[{"$nulls":23},8,"5",2022,"105317",{"$f":"IFERROR(VLOOKUP(Tabla_SERIED_12_5[[#This Row],[IdEstablecimiento]],'[1]Establecimiento 2023'!$A$1:$E$183,3,FALSE),0)","v":"105317-Centro de Salud Familiar Jorge Jordán Domic"},{"$f":"IFERROR(VLOOKUP(Tabla_SERIED_12_5[[#This Row],[IdEstablecimiento]],'[1]Establecimiento 2023'!$A$1:$E$183,5,FALSE),0)","v":"04301-Ovalle"},"15010500","2022-09-21T07:18:32",18,{"$nulls":4},2,8,8]
[{"$nulls":23},8,"5",2022,"105506",{"$f":"IFERROR(VLOOKUP(Tabla_SERIED_12_5[[#This Row],[IdEstablecimiento]],'[1]Establecimiento 2023'!$A$1:$E$183,3,FALSE),0)","v":"105506-Posta de Salud Rural El Trapiche"},{"$f":"IFERROR(VLOOKUP(Tabla_SERIED_12_5[[#This Row],[IdEstablecimiento]],'[1]Establecimiento 2023'!$A$1:$E$183,5,FALSE),0)","v":"04104-La Higuera"},"15010400","2022-09-21T07:58:59",2,{"$nulls":5},2]
[{"$nulls":23},8,"5",2022,"105506",{"$f":"IFERROR(VLOOKUP(Tabla_SERIED_12_5[[#This Row],[IdEstablecimiento]],'[1]Establecimiento 2023'!$A$1:$E$183,3,FALSE),0)","v":"105506-Posta de Salud Rural El Trapiche"},{"$f":"IFERROR(VLOOKUP(Tabla_SERIED_12_5[[#This Row],[IdEstablecimiento]],'[1]Establecimiento 2023'!$A$1:$E$183,5,FALSE),0)","v":"04104-La Higuera"},"16200220","2022-09-21T07:58:59",3,null,3]
[{"$nulls":23},8,"5",2022,"105321",{"$f":"IFERROR(VLOOKUP(Tabla_SERIED_12_5[[#This Row],[IdEstablecimiento]],'[1]Establecimiento 2023'!$A$1:$E$183,3,FALSE),0)","v":"105321-Centro de Salud Familiar Tongoy"},{"$f":"IFERROR(VLOOKUP(Tabla_SERIED_12_5[[#This Row],[IdEstablecimiento]],'[1]Establecimiento 2023'!$A$1:$E$183,5,FALSE),0)","v":"04102-Coquimbo"},"15900050","2022-09-21T07:19:18",2,1,1,null,2]
[{"$nulls":23},8,"5",2022,"105321",{"$f":"IFERROR(VLOOKUP(Tabla_SERIED_12_5[[#This Row],[IdEstablecimiento]],'[1]Establecimiento 2023'!$A$1:$E$183,3,FALSE),0)","v":"105321-Centro de Salud Familiar Tongoy"},{"$f":"IFERROR(VLOOKUP(Tabla_SERIED_12_5[[#This Row],[IdEstablecimiento]],'[1]Establecimiento 2023'!$A$1:$E$183,5,FALSE),0)","v":"04102-Coquimbo"},"16090300","2022-09-21T07:19:18",134,134]
[{"$nulls":23},2,"5",2022,"200258",{"$f":"IFERROR(VLOOKUP(Tabla_SERIED_12_5[[#This Row],[IdEstablecimiento]],'[1]Establecimiento 2023'!$A$1:$E$183,3,FALSE),0)","v":"200258-Centro Comunitario de Salud Familiar Los Copihues"},{"$f":"IFERROR(VLOOKUP(Tabla_SERIED_12_5[[#This Row],[IdEstablecimiento]],'[1]Establecimiento 2023'!$A$1:$E$183,5,FALSE),0)","v":"04301-Ovalle"},"16200220","2022-03-17T10:06:13",7,1,6,0,4]
[{"$nulls":23},4,"5",2022,"105309",{"$f":"IFERROR(VLOOKUP(Tabla_SERIED_12_5[[#This Row],[IdEstablecimiento]],'[1]Establecimiento 2023'!$A$1:$E$183,3,FALSE),0)","v":"105309-Centro de Salud Familiar Canela"},{"$f":"IFERROR(VLOOKUP(Tabla_SERIED_12_5[[#This Row],[IdEstablecimiento]],'[1]Establecimiento 2023'!$A$1:$E$183,5,FALSE),0)","v":"04202-Canela"},"15080009","2022-05-18T11:51:04",3,{"$nulls":8},3]
[{"$nulls":23},5,"5",2022,"200494",{"$f":"IFERROR(VLOOKUP(Tabla_SERIED_12_5[[#This Row],[IdEstablecimiento]],'[1]Establecimiento 2023'!$A$1:$E$183,3,FALSE),0)","v":"200494-Centro de Salud Familiar El Sauce"},{"$f":"IFERROR(VLOOKUP(Tabla_SERIED_12_5[[#This Row],[IdEstablecimiento]],'[1]Establecimiento 2023'!$A$1:$E$183,5,FALSE),0)","v":"04102-Coquimbo"},"15060100","2022-06-20T17:37:05",4,1,3,{"$nulls":3},1,null,1,2]
[{"$nulls":23},5,"5",2022,"105486",{"$f":"IFERROR(VLOOKUP(Tabla_SERIED_12_5[[#This Row],[IdEstablecimiento]],'[1]Establecimiento 2023'!$A$1:$E$183,3,FALSE),0)","v":"105486-Posta de Salud Rural Tunga Sur"},{"$f":"IFERROR(VLOOKUP(Tabla_SERIED_12_5[[#This Row],[IdEstablecimiento]],'[1]Establecimiento 2023'!$A$1:$E$183,5,FALSE),0)","v":"04201-Illapel"},"16200220","2022-06-20T17:25:03",10,5,5]
[{"$nulls":23},5,"5",2022,"105487",{"$f":"IFERROR(VLOOKUP(Tabla_SERIED_12_5[[#This Row],[IdEstablecimiento]],'[1]Establecimiento 2023'!$A$1:$E$183,3,FALSE),0)","v":"105487-Posta de Salud Rural Cañas Uno"},{"$f":"IFERROR(VLOOKUP(Tabla_SERIED_12_5[[#This Row],[IdEstablecimiento]],'[1]Establecimiento 2023'!$A$1:$E$183,5,FALSE),0)","v":"04201-Illapel"},"16200220","2022-06-20T17:25:14",32,15,17]
[{"$nulls":23},8,"5",2022,"200258",{"$f":"IFERROR(VLOOKUP(Tabla_SERIED_12_5[[#This Row],[IdEstablecimiento]],'[1]Establecimiento 2023'!$A$1:$E$183,3,FALSE),0)","v":"200258-Centro Comunitario de Salud Familiar Los Copihues"},{"$f":"IFERROR(VLOOKUP(Tabla_SERIED_12_5[[#This Row],[IdEstablecimiento]],'[1]Establecimiento 2023'!$A$1:$E$183,5,FALSE),0)","v":"04301-Ovalle"},"15050100","2022-09-21T08:01:50",80,41,39,0,0,6,6,11,21,19,14,null,1,0,2]
[{"$nulls":23},2,"5",2022,"105497",{"$f":"IFERROR(VLOOKUP(Tabla_SERIED_12_5[[#This Row],[IdEstablecimiento]],'[1]Establecimiento 2023'!$A$1:$E$183,3,FALSE),0)","v":"105497-Posta de Salud Rural Jabonería"},{"$f":"IFERROR(VLOOKUP(Tabla_SERIED_12_5[[#This Row],[IdEstablecimiento]],'[1]Establecimiento 2023'!$A$1:$E$183,5,FALSE),0)","v":"04202-Canela"},"16100300","2022-03-17T09:59:58",21,7,14,1,2]
[{"$nulls":23},2,"5",2022,"105497",{"$f":"IFERROR(VLOOKUP(Tabla_SERIED_12_5[[#This Row],[IdEstablecimiento]],'[1]Establecimiento 2023'!$A$1:$E$183,3,FALSE),0)","v":"105497-Posta de Salud Rural Jabonería"},{"$f":"IFERROR(VLOOKUP(Tabla_SERIED_12_5[[#This Row],[IdEstablecimiento]],'[1]Establecimiento 2023'!$A$1:$E$183,5,FALSE),0)","v":"04202-Canela"},"16200220","2022-03-17T09:59:58",5,3,2,0,0]
[{"$nulls":23},5,"5",2022,"105441",{"$f":"IFERROR(VLOOKUP(Tabla_SERIED_12_5[[#This Row],[IdEstablecimiento]],'[1]Establecimiento 2023'!$A$1:$E$183,3,FALSE),0)","v":"105441-Posta de Salud Rural Manquehua"},{"$f":"IFERROR(VLOOKUP(Tabla_SERIED_12_5[[#This Row],[IdEstablecimiento]],'[1]Establecimiento 2023'!$A$1:$E$183,5,FALSE),0)","v":"04302-Combarbalá"},"16200210","2022-06-20T17:16:39",3,3]
[{"$nulls":23},5,"5",2022,"105317",{"$f":"IFERROR(VLOOKUP(Tabla_SERIED_12_5[[#This Row],[IdEstablecimiento]],'[1]Establecimiento 2023'!$A$1:$E$183,3,FALSE),0)","v":"105317-Centro de Salud Familiar Jorge Jordán Domic"},{"$f":"IFERROR(VLOOKUP(Tabla_SERIED_12_5[[#This Row],[IdEstablecimiento]],'[1]Establecimiento 2023'!$A$1:$E$183,5,FALSE),0)","v":"04301-Ovalle"},"15030100","2022-06-20T17:04:08",6.4,null,null,6.4]
[{"$nulls":23},5,"5",2022,"105303",{"$f":"IFERROR(VLOOKUP(Tabla_SERIED_12_5[[#This Row],[IdEstablecimiento]],'[1]Establecimiento 2023'!$A$1:$E$183,3,FALSE),0)","v":"105303-Centro de Salud Familiar San Juan"},{"$f":"IFERROR(VLOOKUP(Tabla_SERIED_12_5[[#This Row],[IdEstablecimiento]],'[1]Establecimiento 2023'!$A$1:$E$183,5,FALSE),0)","v":"04102-Coquimbo"},"15080008","2022-06-20T17:00:05",172,{"$nulls":7},87,null,48,29,8]
[{"$nulls":23},8,"5",2022,"105322",{"$f":"IFERROR(VLOOKUP(Tabla_SERIED_12_5[[#This Row],[IdEstablecimiento]],'[1]Establecimiento 2023'!$A$1:$E$183,3,FALSE),0)","v":"105322-Centro de Salud Familiar Marcos Macuada"},{"$f":"IFERROR(VLOOKUP(Tabla_SERIED_12_5[[#This Row],[IdEstablecimiento]],'[1]Establecimiento 2023'!$A$1:$E$183,5,FALSE),0)","v":"04301-Ovalle"},"15080008","2022-09-21T07:19:31",93,{"$nulls":7},58,null,28,null,7]
[{"$nulls":23},4,"5",2022,"105326",{"$f":"IFERROR(VLOOKUP(Tabla_SERIED_12_5[[#This Row],[IdEstablecimiento]],'[1]Establecimiento 2023'!$A$1:$E$183,3,FALSE),0)","v":"105326-Centro de Salud Familiar Villa San Rafael de Rozas"},{"$f":"IFERROR(VLOOKUP(Tabla_SERIED_12_5[[#This Row],[IdEstablecimiento]],'[1]Establecimiento 2023'!$A$1:$E$183,5,FALSE),0)","v":"04201-Illapel"},"15080009","2022-05-18T11:54:51",5,{"$nulls":8},3,2]
[{"$nulls":23},2,"5",2022,"105405",{"$f":"IFERROR(VLOOKUP(Tabla_SERIED_12_5[[#This Row],[IdEstablecimiento]],'[1]Establecimiento 2023'!$A$1:$E$183,3,FALSE),0)","v":"105405-Posta de Salud Rural Guanaqueros"},{"$f":"IFERROR(VLOOKUP(Tabla_SERIED_12_5[[#This Row],[IdEstablecimiento]],'[1]Establecimiento 2023'!$A$1:$E$183,5,FALSE),0)","v":"04102-Coquimbo"},"15010500","2022-03-17T09:33:30",4,{"$nulls":5},2,2]
[{"$nulls":23},4,"5",2022,"105507",{"$f":"IFERROR(VLOOKUP(Tabla_SERIED_12_5[[#This Row],[IdEstablecimiento]],'[1]Establecimiento 2023'!$A$1:$E$183,3,FALSE),0)","v":"105507-Posta de Salud Rural Huamalata"},{"$f":"IFERROR(VLOOKUP(Tabla_SERIED_12_5[[#This Row],[IdEstablecimiento]],'[1]Establecimiento 2023'!$A$1:$E$183,5,FALSE),0)","v":"04301-Ovalle"},"16100300","2022-05-18T15:21:28",128,52,76,0,12]
[{"$nulls":23},4,"5",2022,"105507",{"$f":"IFERROR(VLOOKUP(Tabla_SERIED_12_5[[#This Row],[IdEstablecimiento]],'[1]Establecimiento 2023'!$A$1:$E$183,3,FALSE),0)","v":"105507-Posta de Salud Rural Huamalata"},{"$f":"IFERROR(VLOOKUP(Tabla_SERIED_12_5[[#This Row],[IdEstablecimiento]],'[1]Establecimiento 2023'!$A$1:$E$183,5,FALSE),0)","v":"04301-Ovalle"},"16200220","2022-05-18T15:21:28",12,3,9,0,0]
[{"$nulls":23},4,"5",2022,"105509",{"$f":"IFERROR(VLOOKUP(Tabla_SERIED_12_5[[#This Row],[IdEstablecimiento]],'[1]Establecimiento 2023'!$A$1:$E$183,3,FALSE),0)","v":"105509-Posta de Salud Rural Gualliguaica"},{"$f":"IFERROR(VLOOKUP(Tabla_SERIED_12_5[[#This Row],[IdEstablecimiento]],'[1]Establecimiento 2023'!$A$1:$E$183,5,FALSE),0)","v":"04106-Vicuña"},"15080008","2022-05-18T15:21:53",4,{"$nulls":7},1,null,2,null,1]
[{"$nulls":23},6,"5",2022,"105454",{"$f":"IFERROR(VLOOKUP(Tabla_SERIED_12_5[[#This Row],[IdEstablecimiento]],'[1]Establecimiento 2023'!$A$1:$E$183,3,FALSE),0)","v":"105454-Posta de Salud Rural Cunlagua"},{"$f":"IFERROR(VLOOKUP(Tabla_SERIED_12_5[[#This Row],[IdEstablecimiento]],'[1]Establecimiento 2023'!$A$1:$E$183,5,FALSE),0)","v":"04204-Salamanca"},"16090300","2022-07-14T14:18:23",57,57]
[{"$nulls":23},6,"5",2022,"105456",{"$f":"IFERROR(VLOOKUP(Tabla_SERIED_12_5[[#This Row],[IdEstablecimiento]],'[1]Establecimiento 2023'!$A$1:$E$183,3,FALSE),0)","v":"105456-Posta de Salud Rural Llimpo"},{"$f":"IFERROR(VLOOKUP(Tabla_SERIED_12_5[[#This Row],[IdEstablecimiento]],'[1]Establecimiento 2023'!$A$1:$E$183,5,FALSE),0)","v":"04204-Salamanca"},"16200210","2022-07-14T14:19:23",1,1]
[{"$nulls":23},4,"5",2022,"105428",{"$f":"IFERROR(VLOOKUP(Tabla_SERIED_12_5[[#This Row],[IdEstablecimiento]],'[1]Establecimiento 2023'!$A$1:$E$183,3,FALSE),0)","v":"105428-Posta de Salud Rural Huatulame"},{"$f":"IFERROR(VLOOKUP(Tabla_SERIED_12_5[[#This Row],[IdEstablecimiento]],'[1]Establecimiento 2023'!$A$1:$E$183,5,FALSE),0)","v":"04303-Monte Patria"},"16090300","2022-05-18T14:55:19",162,162]
[{"$nulls":23},1,"5",2022,"105425",{"$f":"IFERROR(VLOOKUP(Tabla_SERIED_12_5[[#This Row],[IdEstablecimiento]],'[1]Establecimiento 2023'!$A$1:$E$183,3,FALSE),0)","v":"105425-Posta de Salud Rural Chilecito"},{"$f":"IFERROR(VLOOKUP(Tabla_SERIED_12_5[[#This Row],[IdEstablecimiento]],'[1]Establecimiento 2023'!$A$1:$E$183,5,FALSE),0)","v":"04303-Monte Patria"},"16200220","2022-05-18T15:38:00",1,null,1,0,0]
[{"$nulls":23},8,"5",2022,"105325",{"$f":"IFERROR(VLOOKUP(Tabla_SERIED_12_5[[#This Row],[IdEstablecimiento]],'[1]Establecimiento 2023'!$A$1:$E$183,3,FALSE),0)","v":"105325-Centro de Salud Familiar Juan Pablo II (La Serena)"},{"$f":"IFERROR(VLOOKUP(Tabla_SERIED_12_5[[#This Row],[IdEstablecimiento]],'[1]Establecimiento 2023'!$A$1:$E$183,5,FALSE),0)","v":"04101-La Serena"},"16100300","2022-09-21T07:20:10",255,85,170,7,422]
[{"$nulls":23},6,"5",2022,"105307",{"$f":"IFERROR(VLOOKUP(Tabla_SERIED_12_5[[#This Row],[IdEstablecimiento]],'[1]Establecimiento 2023'!$A$1:$E$183,3,FALSE),0)","v":"105307-Centro de Salud Familiar Monte Patria"},{"$f":"IFERROR(VLOOKUP(Tabla_SERIED_12_5[[#This Row],[IdEstablecimiento]],'[1]Establecimiento 2023'!$A$1:$E$183,5,FALSE),0)","v":"04303-Monte Patria"},"15060100","2022-07-14T13:37:40",3,2,1,{"$nulls":5},2,1]
[{"$nulls":23},6,"5",2022,"105307",{"$f":"IFERROR(VLOOKUP(Tabla_SERIED_12_5[[#This Row],[IdEstablecimiento]],'[1]Establecimiento 2023'!$A$1:$E$183,3,FALSE),0)","v":"105307-Centro de Salud Familiar Monte Patria"},{"$f":"IFERROR(VLOOKUP(Tabla_SERIED_12_5[[#This Row],[IdEstablecimiento]],'[1]Establecimiento 2023'!$A$1:$E$183,5,FALSE),0)","v":"04303-Monte Patria"},"16090300","2022-07-14T13:37:40",167,209]
[{"$nulls":23},2,"5",2022,"105300",{"$f":"IFERROR(VLOOKUP(Tabla_SERIED_12_5[[#This Row],[IdEstablecimiento]],'[1]Establecimiento 2023'!$A$1:$E$183,3,FALSE),0)","v":"105300-Centro de Salud Familiar Cardenal Caro"},{"$f":"IFERROR(VLOOKUP(Tabla_SERIED_12_5[[#This Row],[IdEstablecimiento]],'[1]Establecimiento 2023'!$A$1:$E$183,5,FALSE),0)","v":"04101-La Serena"},"15901300","2022-03-17T09:26:33",17.6,null,11.2,3.2,3.2]
[{"$nulls":23},1,"5",2022,"200494",{"$f":"IFERROR(VLOOKUP(Tabla_SERIED_12_5[[#This Row],[IdEstablecimiento]],'[1]Establecimiento 2023'!$A$1:$E$183,3,FALSE),0)","v":"200494-Centro de Salud Familiar El Sauce"},{"$f":"IFERROR(VLOOKUP(Tabla_SERIED_12_5[[#This Row],[IdEstablecimiento]],'[1]Establecimiento 2023'!$A$1:$E$183,5,FALSE),0)","v":"04102-Coquimbo"},"15050500","2022-02-17T04:30:58",5,4,1,2,2,1]
[{"$nulls":23},1,"5",2022,"105467",{"$f":"IFERROR(VLOOKUP(Tabla_SERIED_12_5[[#This Row],[IdEstablecimiento]],'[1]Establecimiento 2023'!$A$1:$E$183,3,FALSE),0)","v":"105467-Posta de Salud Rural Diaguitas"},{"$f":"IFERROR(VLOOKUP(Tabla_SERIED_12_5[[#This Row],[IdEstablecimiento]],'[1]Establecimiento 2023'!$A$1:$E$183,5,FALSE),0)","v":"04106-Vicuña"},"15010100","2022-02-17T03:52:03",8,null,null,2,6]
[{"$nulls":23},6,"5",2022,"105469",{"$f":"IFERROR(VLOOKUP(Tabla_SERIED_12_5[[#This Row],[IdEstablecimiento]],'[1]Establecimiento 2023'!$A$1:$E$183,3,FALSE),0)","v":"105469-Posta de Salud Rural El Tambo (Vicuña)"},{"$f":"IFERROR(VLOOKUP(Tabla_SERIED_12_5[[#This Row],[IdEstablecimiento]],'[1]Establecimiento 2023'!$A$1:$E$183,5,FALSE),0)","v":"04106-Vicuña"},"15010100","2022-07-14T14:27:14",4,{"$nulls":3},4]
[{"$nulls":23},2,"5",2022,"105498",{"$f":"IFERROR(VLOOKUP(Tabla_SERIED_12_5[[#This Row],[IdEstablecimiento]],'[1]Establecimiento 2023'!$A$1:$E$183,3,FALSE),0)","v":"105498-Posta de Salud Rural Quebrada Linares"},{"$f":"IFERROR(VLOOKUP(Tabla_SERIED_12_5[[#This Row],[IdEstablecimiento]],'[1]Establecimiento 2023'!$A$1:$E$183,5,FALSE),0)","v":"04202-Canela"},"16200100","2022-03-17T10:00:14",1,1]
[{"$nulls":23},3,"5",2022,"105321",{"$f":"IFERROR(VLOOKUP(Tabla_SERIED_12_5[[#This Row],[IdEstablecimiento]],'[1]Establecimiento 2023'!$A$1:$E$183,3,FALSE),0)","v":"105321-Centro de Salud Familiar Tongoy"},{"$f":"IFERROR(VLOOKUP(Tabla_SERIED_12_5[[#This Row],[IdEstablecimiento]],'[1]Establecimiento 2023'!$A$1:$E$183,5,FALSE),0)","v":"04102-Coquimbo"},"15010300","2022-04-19T08:10:59",2,{"$nulls":3},2]
[{"$nulls":23},8,"5",2022,"105451",{"$f":"IFERROR(VLOOKUP(Tabla_SERIED_12_5[[#This Row],[IdEstablecimiento]],'[1]Establecimiento 2023'!$A$1:$E$183,3,FALSE),0)","v":"105451-Posta de Salud Rural Agua Fría"},{"$f":"IFERROR(VLOOKUP(Tabla_SERIED_12_5[[#This Row],[IdEstablecimiento]],'[1]Establecimiento 2023'!$A$1:$E$183,5,FALSE),0)","v":"04202-Canela"},"16200220","2022-09-21T07:44:24",6,3,3]
[{"$nulls":23},8,"5",2022,"105452",{"$f":"IFERROR(VLOOKUP(Tabla_SERIED_12_5[[#This Row],[IdEstablecimiento]],'[1]Establecimiento 2023'!$A$1:$E$183,3,FALSE),0)","v":"105452-Posta de Salud Rural Cuncumén(Salamanca)"},{"$f":"IFERROR(VLOOKUP(Tabla_SERIED_12_5[[#This Row],[IdEstablecimiento]],'[1]Establecimiento 2023'!$A$1:$E$183,5,FALSE),0)","v":"04204-Salamanca"},"15010100","2022-09-21T07:44:35",8,{"$nulls":3},8]
[{"$nulls":23},10,"5",2022,"105104",{"$f":"IFERROR(VLOOKUP(Tabla_SERIED_12_5[[#This Row],[IdEstablecimiento]],'[1]Establecimiento 2023'!$A$1:$E$183,3,FALSE),0)","v":"105104-Hospital de Salamanca"},{"$f":"IFERROR(VLOOKUP(Tabla_SERIED_12_5[[#This Row],[IdEstablecimiento]],'[1]Establecimiento 2023'!$A$1:$E$183,5,FALSE),0)","v":"105104-Hospital Salamanca"},"15010500","2022-11-15T13:26:57",4,null,0,0,2,0,0,2]
[{"$nulls":23},10,"5",2022,"105104",{"$f":"IFERROR(VLOOKUP(Tabla_SERIED_12_5[[#This Row],[IdEstablecimiento]],'[1]Establecimiento 2023'!$A$1:$E$183,3,FALSE),0)","v":"105104-Hospital de Salamanca"},{"$f":"IFERROR(VLOOKUP(Tabla_SERIED_12_5[[#This Row],[IdEstablecimiento]],'[1]Establecimiento 2023'!$A$1:$E$183,5,FALSE),0)","v":"105104-Hospital Salamanca"},"16200210","2022-11-15T13:26:57",4,4]
[{"$nulls":23},10,"5",2022,"105416",{"$f":"IFERROR(VLOOKUP(Tabla_SERIED_12_5[[#This Row],[IdEstablecimiento]],'[1]Establecimiento 2023'!$A$1:$E$183,3,FALSE),0)","v":"105416-Posta de Salud Rural Camarico (Ovalle)"},{"$f":"IFERROR(VLOOKUP(Tabla_SERIED_12_5[[#This Row],[IdEstablecimiento]],'[1]Establecimiento 2023'!$A$1:$E$183,5,FALSE),0)","v":"04301-Ovalle"},"15010500","2022-11-15T13:42:52",4,{"$nulls":4},2,null,2]
[{"$nulls":23},6,"5",2022,"105473",{"$f":"IFERROR(VLOOKUP(Tabla_SERIED_12_5[[#This Row],[IdEstablecimiento]],'[1]Establecimiento 2023'!$A$1:$E$183,3,FALSE),0)","v":"105473-Posta de Salud Rural Talcuna"},{"$f":"IFERROR(VLOOKUP(Tabla_SERIED_12_5[[#This Row],[IdEstablecimiento]],'[1]Establecimiento 2023'!$A$1:$E$183,5,FALSE),0)","v":"04106-Vicuña"},"15050100","2022-07-14T14:28:12",31,16,15,null,null,4,6,3,11,6,1]
[{"$nulls":23},5,"5",2022,"105498",{"$f":"IFERROR(VLOOKUP(Tabla_SERIED_12_5[[#This Row],[IdEstablecimiento]],'[1]Establecimiento 2023'!$A$1:$E$183,3,FALSE),0)","v":"105498-Posta de Salud Rural Quebrada Linares"},{"$f":"IFERROR(VLOOKUP(Tabla_SERIED_12_5[[#This Row],[IdEstablecimiento]],'[1]Establecimiento 2023'!$A$1:$E$183,5,FALSE),0)","v":"04202-Canela"},"16090300","2022-06-20T17:27:06",20,20]
[{"$nulls":23},1,"5",2022,"105449",{"$f":"IFERROR(VLOOKUP(Tabla_SERIED_12_5[[#This Row],[IdEstablecimiento]],'[1]Establecimiento 2023'!$A$1:$E$183,3,FALSE),0)","v":"105449-Posta de Salud Rural Tunga Norte"},{"$f":"IFERROR(VLOOKUP(Tabla_SERIED_12_5[[#This Row],[IdEstablecimiento]],'[1]Establecimiento 2023'!$A$1:$E$183,5,FALSE),0)","v":"04201-Illapel"},"16090300","2022-02-16T11:34:45",27,27]
[{"$nulls":23},4,"5",2022,"105455",{"$f":"IFERROR(VLOOKUP(Tabla_SERIED_12_5[[#This Row],[IdEstablecimiento]],'[1]Establecimiento 2023'!$A$1:$E$183,3,FALSE),0)","v":"105455-CESFAM Valle Alto"},{"$f":"IFERROR(VLOOKUP(Tabla_SERIED_12_5[[#This Row],[IdEstablecimiento]],'[1]Establecimiento 2023'!$A$1:$E$183,5,FALSE),0)","v":"04204-Salamanca"},"16100300","2022-05-18T15:05:05",41,18,23]
[{"$nulls":23},4,"5",2022,"105455",{"$f":"IFERROR(VLOOKUP(Tabla_SERIED_12_5[[#This Row],[IdEstablecimiento]],'[1]Establecimiento 2023'!$A$1:$E$183,3,FALSE),0)","v":"105455-CESFAM Valle Alto"},{"$f":"IFERROR(VLOOKUP(Tabla_SERIED_12_5[[#This Row],[IdEstablecimiento]],'[1]Establecimiento 2023'!$A$1:$E$183,5,FALSE),0)","v":"04204-Salamanca"},"16200220","2022-05-18T15:05:05",6,3,3]
[{"$nulls":23},8,"5",2022,"105437",{"$f":"IFERROR(VLOOKUP(Tabla_SERIED_12_5[[#This Row],[IdEstablecimiento]],'[1]Establecimiento 2023'!$A$1:$E$183,3,FALSE),0)","v":"105437-Posta de Salud Rural Chalinga"},{"$f":"IFERROR(VLOOKUP(Tabla_SERIED_12_5[[#This Row],[IdEstablecimiento]],'[1]Establecimiento 2023'!$A$1:$E$183,5,FALSE),0)","v":"04301-Ovalle"},"15050200","2022-09-21T07:40:42",3,1,2,null,null,1,null,null,2]
[{"$nulls":23},10,"5",2022,"105417",{"$f":"IFERROR(VLOOKUP(Tabla_SERIED_12_5[[#This Row],[IdEstablecimiento]],'[1]Establecimiento 2023'!$A$1:$E$183,3,FALSE),0)","v":"105417-Posta de Salud Rural Alcones Bajo"},{"$f":"IFERROR(VLOOKUP(Tabla_SERIED_12_5[[#This Row],[IdEstablecimiento]],'[1]Establecimiento 2023'!$A$1:$E$183,5,FALSE),0)","v":"04301-Ovalle"},"15080008","2022-11-15T13:43:05",10,{"$nulls":7},2,null,2,6]
[{"$nulls":23},10,"5",2022,"105417",{"$f":"IFERROR(VLOOKUP(Tabla_SERIED_12_5[[#This Row],[IdEstablecimiento]],'[1]Establecimiento 2023'!$A$1:$E$183,3,FALSE),0)","v":"105417-Posta de Salud Rural Alcones Bajo"},{"$f":"IFERROR(VLOOKUP(Tabla_SERIED_12_5[[#This Row],[IdEstablecimiento]],'[1]Establecimiento 2023'!$A$1:$E$183,5,FALSE),0)","v":"04301-Ovalle"},"16200100","2022-11-15T13:43:05",4,4,0]
[{"$nulls":23},5,"5",2022,"105507",{"$f":"IFERROR(VLOOKUP(Tabla_SERIED_12_5[[#This Row],[IdEstablecimiento]],'[1]Establecimiento 2023'!$A$1:$E$183,3,FALSE),0)","v":"105507-Posta de Salud Rural Huamalata"},{"$f":"IFERROR(VLOOKUP(Tabla_SERIED_12_5[[#This Row],[IdEstablecimiento]],'[1]Establecimiento 2023'!$A$1:$E$183,5,FALSE),0)","v":"04301-Ovalle"},"15900010","2022-06-20T17:29:14",3.2,null,null,3.2]
[{"$nulls":23},3,"5",2022,"105487",{"$f":"IFERROR(VLOOKUP(Tabla_SERIED_12_5[[#This Row],[IdEstablecimiento]],'[1]Establecimiento 2023'!$A$1:$E$183,3,FALSE),0)","v":"105487-Posta de Salud Rural Cañas Uno"},{"$f":"IFERROR(VLOOKUP(Tabla_SERIED_12_5[[#This Row],[IdEstablecimiento]],'[1]Establecimiento 2023'!$A$1:$E$183,5,FALSE),0)","v":"04201-Illapel"},"15010100","2022-04-19T10:06:43",16,{"$nulls":3},16]
[{"$nulls":23},3,"5",2022,"105490",{"$f":"IFERROR(VLOOKUP(Tabla_SERIED_12_5[[#This Row],[IdEstablecimiento]],'[1]Establecimiento 2023'!$A$1:$E$183,3,FALSE),0)","v":"105490-Posta de Salud Rural El Durazno(Combarbalá)"},{"$f":"IFERROR(VLOOKUP(Tabla_SERIED_12_5[[#This Row],[IdEstablecimiento]],'[1]Establecimiento 2023'!$A$1:$E$183,5,FALSE),0)","v":"04302-Combarbalá"},"15050200","2022-04-19T10:07:23",2,1,1,{"$nulls":6},2]
[{"$nulls":23},3,"5",2022,"105491",{"$f":"IFERROR(VLOOKUP(Tabla_SERIED_12_5[[#This Row],[IdEstablecimiento]],'[1]Establecimiento 2023'!$A$1:$E$183,3,FALSE),0)","v":"105491-Posta de Salud Rural Quelén Bajo"},{"$f":"IFERROR(VLOOKUP(Tabla_SERIED_12_5[[#This Row],[IdEstablecimiento]],'[1]Establecimiento 2023'!$A$1:$E$183,5,FALSE),0)","v":"04204-Salamanca"},"15010400","2022-04-19T10:07:37",6,{"$nulls":5},4,2]
[{"$nulls":23},3,"5",2022,"105491",{"$f":"IFERROR(VLOOKUP(Tabla_SERIED_12_5[[#This Row],[IdEstablecimiento]],'[1]Establecimiento 2023'!$A$1:$E$183,3,FALSE),0)","v":"105491-Posta de Salud Rural Quelén Bajo"},{"$f":"IFERROR(VLOOKUP(Tabla_SERIED_12_5[[#This Row],[IdEstablecimiento]],'[1]Establecimiento 2023'!$A$1:$E$183,5,FALSE),0)","v":"04204-Salamanca"},"15010500","2022-04-19T10:07:37",6,{"$nulls":5},4,2]
[{"$nulls":23},3,"5",2022,"105493",{"$f":"IFERROR(VLOOKUP(Tabla_SERIED_12_5[[#This Row],[IdEstablecimiento]],'[1]Establecimiento 2023'!$A$1:$E$183,3,FALSE),0)","v":"105493-Posta de Salud Rural Mincha Sur"},{"$f":"IFERROR(VLOOKUP(Tabla_SERIED_12_5[[#This Row],[IdEstablecimiento]],'[1]Establecimiento 2023'!$A$1:$E$183,5,FALSE),0)","v":"04202-Canela"},"15010200","2022-04-19T10:08:03",4,{"$nulls":4},2,2,0]
[{"$nulls":23},1,"5",2022,"200569",{"$f":"IFERROR(VLOOKUP(Tabla_SERIED_12_5[[#This Row],[IdEstablecimiento]],'[1]Establecimiento 2023'!$A$1:$E$183,3,FALSE),0)","v":"200569-Centro de Salud Familiar Fray Jorge"},{"$f":"IFERROR(VLOOKUP(Tabla_SERIED_12_5[[#This Row],[IdEstablecimiento]],'[1]Establecimiento 2023'!$A$1:$E$183,5,FALSE),0)","v":"04301-Ovalle"},"15900030","2022-02-17T04:38:37",11.2,null,null,3.2,4.4,3.6]
[{"$nulls":23},5,"5",2022,"105488",{"$f":"IFERROR(VLOOKUP(Tabla_SERIED_12_5[[#This Row],[IdEstablecimiento]],'[1]Establecimiento 2023'!$A$1:$E$183,3,FALSE),0)","v":"105488-Posta de Salud Rural Espíritu Santo"},{"$f":"IFERROR(VLOOKUP(Tabla_SERIED_12_5[[#This Row],[IdEstablecimiento]],'[1]Establecimiento 2023'!$A$1:$E$183,5,FALSE),0)","v":"04202-Canela"},"16200210","2022-06-20T17:25:28",2,2]
[{"$nulls":23},5,"5",2022,"200499",{"$f":"IFERROR(VLOOKUP(Tabla_SERIED_12_5[[#This Row],[IdEstablecimiento]],'[1]Establecimiento 2023'!$A$1:$E$183,3,FALSE),0)","v":"200499-Centro de Salud Familiar Rural Pan de Azúcar"},{"$f":"IFERROR(VLOOKUP(Tabla_SERIED_12_5[[#This Row],[IdEstablecimiento]],'[1]Establecimiento 2023'!$A$1:$E$183,5,FALSE),0)","v":"04102-Coquimbo"},"15080009","2022-06-20T17:37:18",6,{"$nulls":8},6]
[{"$nulls":23},7,"5",2022,"105464",{"$f":"IFERROR(VLOOKUP(Tabla_SERIED_12_5[[#This Row],[IdEstablecimiento]],'[1]Establecimiento 2023'!$A$1:$E$183,3,FALSE),0)","v":"105464-Posta de Salud Rural La Ligua"},{"$f":"IFERROR(VLOOKUP(Tabla_SERIED_12_5[[#This Row],[IdEstablecimiento]],'[1]Establecimiento 2023'!$A$1:$E$183,5,FALSE),0)","v":"04302-Combarbalá"},"15080008","2022-08-22T06:23:06",3,{"$nulls":10},1,2]
[{"$nulls":23},7,"5",2022,"105465",{"$f":"IFERROR(VLOOKUP(Tabla_SERIED_12_5[[#This Row],[IdEstablecimiento]],'[1]Establecimiento 2023'!$A$1:$E$183,3,FALSE),0)","v":"105465-Posta de Salud Rural Ramadilla"},{"$f":"IFERROR(VLOOKUP(Tabla_SERIED_12_5[[#This Row],[IdEstablecimiento]],'[1]Establecimiento 2023'!$A$1:$E$183,5,FALSE),0)","v":"04302-Combarbalá"},"15010100","2022-08-22T06:23:28",4,{"$nulls":3},4]
[{"$nulls":23},1,"5",2022,"105314",{"$f":"IFERROR(VLOOKUP(Tabla_SERIED_12_5[[#This Row],[IdEstablecimiento]],'[1]Establecimiento 2023'!$A$1:$E$183,3,FALSE),0)","v":"105314-Centro de Salud Familiar La Higuera"},{"$f":"IFERROR(VLOOKUP(Tabla_SERIED_12_5[[#This Row],[IdEstablecimiento]],'[1]Establecimiento 2023'!$A$1:$E$183,5,FALSE),0)","v":"04104-La Higuera"},"15900010","2022-02-16T10:48:30",7,null,4,3]
[{"$nulls":23},8,"5",2022,"105437",{"$f":"IFERROR(VLOOKUP(Tabla_SERIED_12_5[[#This Row],[IdEstablecimiento]],'[1]Establecimiento 2023'!$A$1:$E$183,3,FALSE),0)","v":"105437-Posta de Salud Rural Chalinga"},{"$f":"IFERROR(VLOOKUP(Tabla_SERIED_12_5[[#This Row],[IdEstablecimiento]],'[1]Establecimiento 2023'!$A$1:$E$183,5,FALSE),0)","v":"04301-Ovalle"},"16090300","2022-09-21T07:40:42",113,113]
[{"$nulls":23},8,"5",2022,"105439",{"$f":"IFERROR(VLOOKUP(Tabla_SERIED_12_5[[#This Row],[IdEstablecimiento]],'[1]Establecimiento 2023'!$A$1:$E$183,3,FALSE),0)","v":"105439-Posta de Salud Rural Cerro Blanco"},{"$f":"IFERROR(VLOOKUP(Tabla_SERIED_12_5[[#This Row],[IdEstablecimiento]],'[1]Establecimiento 2023'!$A$1:$E$183,5,FALSE),0)","v":"04301-Ovalle"},"15060100","2022-09-21T07:40:53",1,null,1,{"$nulls":3},1]
[{"$nulls":23},4,"5",2022,"105433",{"$f":"IFERROR(VLOOKUP(Tabla_SERIED_12_5[[#This Row],[IdEstablecimiento]],'[1]Establecimiento 2023'!$A$1:$E$183,3,FALSE),0)","v":"105433-Posta de Salud Rural San Lorenzo (Combarbalá)"},{"$f":"IFERROR(VLOOKUP(Tabla_SERIED_12_5[[#This Row],[IdEstablecimiento]],'[1]Establecimiento 2023'!$A$1:$E$183,5,FALSE),0)","v":"04302-Combarbalá"},"16200220","2022-05-18T14:56:17",3,1,2]
[{"$nulls":23},8,"5",2022,"105452",{"$f":"IFERROR(VLOOKUP(Tabla_SERIED_12_5[[#This Row],[IdEstablecimiento]],'[1]Establecimiento 2023'!$A$1:$E$183,3,FALSE),0)","v":"105452-Posta de Salud Rural Cuncumén(Salamanca)"},{"$f":"IFERROR(VLOOKUP(Tabla_SERIED_12_5[[#This Row],[IdEstablecimiento]],'[1]Establecimiento 2023'!$A$1:$E$183,5,FALSE),0)","v":"04204-Salamanca"},"16100300","2022-09-21T07:44:35",45,22,23]
[{"$nulls":23},8,"5",2022,"105453",{"$f":"IFERROR(VLOOKUP(Tabla_SERIED_12_5[[#This Row],[IdEstablecimiento]],'[1]Establecimiento 2023'!$A$1:$E$183,3,FALSE),0)","v":"105453-Posta de Salud Rural Tranquilla"},{"$f":"IFERROR(VLOOKUP(Tabla_SERIED_12_5[[#This Row],[IdEstablecimiento]],'[1]Establecimiento 2023'!$A$1:$E$183,5,FALSE),0)","v":"04204-Salamanca"},"15050100","2022-09-21T07:44:46",39,22,17,null,null,1,6,4,7,16,3,null,null,1,1]
[{"$nulls":23},8,"5",2022,"105453",{"$f":"IFERROR(VLOOKUP(Tabla_SERIED_12_5[[#This Row],[IdEstablecimiento]],'[1]Establecimiento 2023'!$A$1:$E$183,3,FALSE),0)","v":"105453-Posta de Salud Rural Tranquilla"},{"$f":"IFERROR(VLOOKUP(Tabla_SERIED_12_5[[#This Row],[IdEstablecimiento]],'[1]Establecimiento 2023'!$A$1:$E$183,5,FALSE),0)","v":"04204-Salamanca"},"16100600","2022-09-21T07:44:46",1,null,1]
[{"$nulls":23},3,"5",2022,"105497",{"$f":"IFERROR(VLOOKUP(Tabla_SERIED_12_5[[#This Row],[IdEstablecimiento]],'[1]Establecimiento 2023'!$A$1:$E$183,3,FALSE),0)","v":"105497-Posta de Salud Rural Jabonería"},{"$f":"IFERROR(VLOOKUP(Tabla_SERIED_12_5[[#This Row],[IdEstablecimiento]],'[1]Establecimiento 2023'!$A$1:$E$183,5,FALSE),0)","v":"04202-Canela"},"16200210","2022-04-19T10:08:32",5,5]
[{"$nulls":23},1,"5",2022,"105459",{"$f":"IFERROR(VLOOKUP(Tabla_SERIED_12_5[[#This Row],[IdEstablecimiento]],'[1]Establecimiento 2023'!$A$1:$E$183,3,FALSE),0)","v":"105459-Posta de Salud Rural Barrancas"},{"$f":"IFERROR(VLOOKUP(Tabla_SERIED_12_5[[#This Row],[IdEstablecimiento]],'[1]Establecimiento 2023'!$A$1:$E$183,5,FALSE),0)","v":"04302-Combarbalá"},"15050100","2022-02-16T11:37:39",8,6,2,null,null,1,1,null,2,2,null,null,1,null,1]
[{"$nulls":23},1,"5",2022,"105460",{"$f":"IFERROR(VLOOKUP(Tabla_SERIED_12_5[[#This Row],[IdEstablecimiento]],'[1]Establecimiento 2023'!$A$1:$E$183,3,FALSE),0)","v":"105460-Centro Comunitario de Salud Familiar Cogotí 18"},{"$f":"IFERROR(VLOOKUP(Tabla_SERIED_12_5[[#This Row],[IdEstablecimiento]],'[1]Establecimiento 2023'!$A$1:$E$183,5,FALSE),0)","v":"04302-Combarbalá"},"15080008","2022-02-16T11:37:53",3,{"$nulls":7},1,null,2]
[{"$nulls":23},10,"5",2022,"105422",{"$f":"IFERROR(VLOOKUP(Tabla_SERIED_12_5[[#This Row],[IdEstablecimiento]],'[1]Establecimiento 2023'!$A$1:$E$183,3,FALSE),0)","v":"105422-Posta de Salud Rural Hornillos"},{"$f":"IFERROR(VLOOKUP(Tabla_SERIED_12_5[[#This Row],[IdEstablecimiento]],'[1]Establecimiento 2023'!$A$1:$E$183,5,FALSE),0)","v":"04301-Ovalle"},"15050100","2022-11-15T13:43:30",17,6,11,null,1,1,4,null,6,2,1,null,2]
[{"$nulls":23},2,"5",2022,"105105",{"$f":"IFERROR(VLOOKUP(Tabla_SERIED_12_5[[#This Row],[IdEstablecimiento]],'[1]Establecimiento 2023'!$A$1:$E$183,3,FALSE),0)","v":"105105-Hospital San Juan de Dios (Combarbalá)"},{"$f":"IFERROR(VLOOKUP(Tabla_SERIED_12_5[[#This Row],[IdEstablecimiento]],'[1]Establecimiento 2023'!$A$1:$E$183,5,FALSE),0)","v":"105105-Hospital Combarbalá"},"16100300","2022-03-17T09:25:37",334,131,203,4,61]
[{"$nulls":23},2,"5",2022,"200569",{"$f":"IFERROR(VLOOKUP(Tabla_SERIED_12_5[[#This Row],[IdEstablecimiento]],'[1]Establecimiento 2023'!$A$1:$E$183,3,FALSE),0)","v":"200569-Centro de Salud Familiar Fray Jorge"},{"$f":"IFERROR(VLOOKUP(Tabla_SERIED_12_5[[#This Row],[IdEstablecimiento]],'[1]Establecimiento 2023'!$A$1:$E$183,5,FALSE),0)","v":"04301-Ovalle"},"15050200","2022-03-17T10:09:48",15,7,8,null,null,1,1,1,8,2,null,2]
[{"$nulls":23},3,"5",2022,"105301",{"$f":"IFERROR(VLOOKUP(Tabla_SERIED_12_5[[#This Row],[IdEstablecimiento]],'[1]Establecimiento 2023'!$A$1:$E$183,3,FALSE),0)","v":"105301-Centro de Salud Familiar Las Compañías"},{"$f":"IFERROR(VLOOKUP(Tabla_SERIED_12_5[[#This Row],[IdEstablecimiento]],'[1]Establecimiento 2023'!$A$1:$E$183,5,FALSE),0)","v":"04101-La Serena"},"15900030","2022-04-19T08:02:23",12.4,0,4.4,3.2,0,4.8]
[{"$nulls":23},3,"5",2022,"105301",{"$f":"IFERROR(VLOOKUP(Tabla_SERIED_12_5[[#This Row],[IdEstablecimiento]],'[1]Establecimiento 2023'!$A$1:$E$183,3,FALSE),0)","v":"105301-Centro de Salud Familiar Las Compañías"},{"$f":"IFERROR(VLOOKUP(Tabla_SERIED_12_5[[#This Row],[IdEstablecimiento]],'[1]Establecimiento 2023'!$A$1:$E$183,5,FALSE),0)","v":"04101-La Serena"},"15060100","2022-04-19T08:02:23",24,9,15,1,3,4,2,2,6,3,0,null,2,1,0]
[{"$nulls":23},8,"5",2022,"105302",{"$f":"IFERROR(VLOOKUP(Tabla_SERIED_12_5[[#This Row],[IdEstablecimiento]],'[1]Establecimiento 2023'!$A$1:$E$183,3,FALSE),0)","v":"105302-Centro de Salud Familiar Pedro Aguirre Cerda"},{"$f":"IFERROR(VLOOKUP(Tabla_SERIED_12_5[[#This Row],[IdEstablecimiento]],'[1]Establecimiento 2023'!$A$1:$E$183,5,FALSE),0)","v":"04101-La Serena"},"15010200","2022-09-21T07:15:06",584,{"$nulls":4},116,272,196]
[{"$nulls":23},1,"5",2022,"105314",{"$f":"IFERROR(VLOOKUP(Tabla_SERIED_12_5[[#This Row],[IdEstablecimiento]],'[1]Establecimiento 2023'!$A$1:$E$183,3,FALSE),0)","v":"105314-Centro de Salud Familiar La Higuera"},{"$f":"IFERROR(VLOOKUP(Tabla_SERIED_12_5[[#This Row],[IdEstablecimiento]],'[1]Establecimiento 2023'!$A$1:$E$183,5,FALSE),0)","v":"04104-La Higuera"},"16200220","2022-02-16T10:48:30",5,0,5]
[{"$nulls":23},1,"5",2022,"105415",{"$f":"IFERROR(VLOOKUP(Tabla_SERIED_12_5[[#This Row],[IdEstablecimiento]],'[1]Establecimiento 2023'!$A$1:$E$183,3,FALSE),0)","v":"105415-Posta de Salud Rural Barraza"},{"$f":"IFERROR(VLOOKUP(Tabla_SERIED_12_5[[#This Row],[IdEstablecimiento]],'[1]Establecimiento 2023'!$A$1:$E$183,5,FALSE),0)","v":"04301-Ovalle"},"16200210","2022-02-16T10:55:44",9,9]
[{"$nulls":23},6,"5",2022,"105428",{"$f":"IFERROR(VLOOKUP(Tabla_SERIED_12_5[[#This Row],[IdEstablecimiento]],'[1]Establecimiento 2023'!$A$1:$E$183,3,FALSE),0)","v":"105428-Posta de Salud Rural Huatulame"},{"$f":"IFERROR(VLOOKUP(Tabla_SERIED_12_5[[#This Row],[IdEstablecimiento]],'[1]Establecimiento 2023'!$A$1:$E$183,5,FALSE),0)","v":"04303-Monte Patria"},"15080008","2022-07-14T14:12:37",3,{"$nulls":7},1,null,2]
[{"$nulls":23},1,"5",2022,"105304",{"$f":"IFERROR(VLOOKUP(Tabla_SERIED_12_5[[#This Row],[IdEstablecimiento]],'[1]Establecimiento 2023'!$A$1:$E$183,3,FALSE),0)","v":"105304-Centro de Salud Familiar Santa Cecilia"},{"$f":"IFERROR(VLOOKUP(Tabla_SERIED_12_5[[#This Row],[IdEstablecimiento]],'[1]Establecimiento 2023'!$A$1:$E$183,5,FALSE),0)","v":"04102-Coquimbo"},"15010500","2022-02-16T10:35:19",8,null,0,2,0,2,4,0]
[{"$nulls":23},1,"5",2022,"105462",{"$f":"IFERROR(VLOOKUP(Tabla_SERIED_12_5[[#This Row],[IdEstablecimiento]],'[1]Establecimiento 2023'!$A$1:$E$183,3,FALSE),0)","v":"105462-Posta de Salud Rural El Sauce (Combarbalá)"},{"$f":"IFERROR(VLOOKUP(Tabla_SERIED_12_5[[#This Row],[IdEstablecimiento]],'[1]Establecimiento 2023'!$A$1:$E$183,5,FALSE),0)","v":"04302-Combarbalá"},"16200210","2022-02-17T08:06:09",3,3]
[{"$nulls":23},5,"5",2022,"105321",{"$f":"IFERROR(VLOOKUP(Tabla_SERIED_12_5[[#This Row],[IdEstablecimiento]],'[1]Establecimiento 2023'!$A$1:$E$183,3,FALSE),0)","v":"105321-Centro de Salud Familiar Tongoy"},{"$f":"IFERROR(VLOOKUP(Tabla_SERIED_12_5[[#This Row],[IdEstablecimiento]],'[1]Establecimiento 2023'!$A$1:$E$183,5,FALSE),0)","v":"04102-Coquimbo"},"15010400","2022-06-20T17:04:50",2,{"$nulls":4},0,2]
[{"$nulls":23},3,"5",2022,"105457",{"$f":"IFERROR(VLOOKUP(Tabla_SERIED_12_5[[#This Row],[IdEstablecimiento]],'[1]Establecimiento 2023'!$A$1:$E$183,3,FALSE),0)","v":"105457-Posta de Salud Rural San Agustín (Salamanca)"},{"$f":"IFERROR(VLOOKUP(Tabla_SERIED_12_5[[#This Row],[IdEstablecimiento]],'[1]Establecimiento 2023'!$A$1:$E$183,5,FALSE),0)","v":"04204-Salamanca"},"15080008","2022-04-19T09:50:34",4,{"$nulls":9},2,null,2]
[{"$nulls":23},4,"5",2022,"105417",{"$f":"IFERROR(VLOOKUP(Tabla_SERIED_12_5[[#This Row],[IdEstablecimiento]],'[1]Establecimiento 2023'!$A$1:$E$183,3,FALSE),0)","v":"105417-Posta de Salud Rural Alcones Bajo"},{"$f":"IFERROR(VLOOKUP(Tabla_SERIED_12_5[[#This Row],[IdEstablecimiento]],'[1]Establecimiento 2023'!$A$1:$E$183,5,FALSE),0)","v":"04301-Ovalle"},"16200100","2022-05-18T14:53:43",0,{"$nulls":3},2]
[{"$nulls":23},8,"5",2022,"105454",{"$f":"IFERROR(VLOOKUP(Tabla_SERIED_12_5[[#This Row],[IdEstablecimiento]],'[1]Establecimiento 2023'!$A$1:$E$183,3,FALSE),0)","v":"105454-Posta de Salud Rural Cunlagua"},{"$f":"IFERROR(VLOOKUP(Tabla_SERIED_12_5[[#This Row],[IdEstablecimiento]],'[1]Establecimiento 2023'!$A$1:$E$183,5,FALSE),0)","v":"04204-Salamanca"},"15010500","2022-09-21T07:45:04",2,{"$nulls":3},2]
[{"$nulls":23},8,"5",2022,"105454",{"$f":"IFERROR(VLOOKUP(Tabla_SERIED_12_5[[#This Row],[IdEstablecimiento]],'[1]Establecimiento 2023'!$A$1:$E$183,3,FALSE),0)","v":"105454-Posta de Salud Rural Cunlagua"},{"$f":"IFERROR(VLOOKUP(Tabla_SERIED_12_5[[#This Row],[IdEstablecimiento]],'[1]Establecimiento 2023'!$A$1:$E$183,5,FALSE),0)","v":"04204-Salamanca"},"15050100","2022-09-21T07:45:04",2,1,1,{"$nulls":5},1,1]
[{"$nulls":23},7,"5",2022,"105108",{"$f":"IFERROR(VLOOKUP(Tabla_SERIED_12_5[[#This Row],[IdEstablecimiento]],'[1]Establecimiento 2023'!$A$1:$E$183,3,FALSE),0)","v":"105108-Hospital San Pedro (Los Vilos)"},{"$f":"IFERROR(VLOOKUP(Tabla_SERIED_12_5[[#This Row],[IdEstablecimiento]],'[1]Establecimiento 2023'!$A$1:$E$183,5,FALSE),0)","v":"105108-Hospital Los Vilos"},"15900050","2022-08-19T11:39:56",4,1,3,1,null,3]
[{"$nulls":23},7,"5",2022,"105302",{"$f":"IFERROR(VLOOKUP(Tabla_SERIED_12_5[[#This Row],[IdEstablecimiento]],'[1]Establecimiento 2023'!$A$1:$E$183,3,FALSE),0)","v":"105302-Centro de Salud Familiar Pedro Aguirre Cerda"},{"$f":"IFERROR(VLOOKUP(Tabla_SERIED_12_5[[#This Row],[IdEstablecimiento]],'[1]Establecimiento 2023'!$A$1:$E$183,5,FALSE),0)","v":"04101-La Serena"},"15010200","2022-08-19T11:58:31",591,{"$nulls":4},118,276,197]
[{"$nulls":23},7,"5",2022,"105302",{"$f":"IFERROR(VLOOKUP(Tabla_SERIED_12_5[[#This Row],[IdEstablecimiento]],'[1]Establecimiento 2023'!$A$1:$E$183,3,FALSE),0)","v":"105302-Centro de Salud Familiar Pedro Aguirre Cerda"},{"$f":"IFERROR(VLOOKUP(Tabla_SERIED_12_5[[#This Row],[IdEstablecimiento]],'[1]Establecimiento 2023'!$A$1:$E$183,5,FALSE),0)","v":"04101-La Serena"},"15900020","2022-08-19T11:58:31",3.6,null,3.6]
[{"$nulls":23},7,"5",2022,"105458",{"$f":"IFERROR(VLOOKUP(Tabla_SERIED_12_5[[#This Row],[IdEstablecimiento]],'[1]Establecimiento 2023'!$A$1:$E$183,3,FALSE),0)","v":"105458-Posta de Salud Rural Tahuinco"},{"$f":"IFERROR(VLOOKUP(Tabla_SERIED_12_5[[#This Row],[IdEstablecimiento]],'[1]Establecimiento 2023'!$A$1:$E$183,5,FALSE),0)","v":"04204-Salamanca"},"15080009","2022-08-22T06:09:14",3,{"$nulls":8},3]
[{"$nulls":23},7,"5",2022,"105459",{"$f":"IFERROR(VLOOKUP(Tabla_SERIED_12_5[[#This Row],[IdEstablecimiento]],'[1]Establecimiento 2023'!$A$1:$E$183,3,FALSE),0)","v":"105459-Posta de Salud Rural Barrancas"},{"$f":"IFERROR(VLOOKUP(Tabla_SERIED_12_5[[#This Row],[IdEstablecimiento]],'[1]Establecimiento 2023'!$A$1:$E$183,5,FALSE),0)","v":"04302-Combarbalá"},"15010200","2022-08-22T06:11:04",16,{"$nulls":4},2,6,8]
[{"$nulls":23},7,"5",2022,"105460",{"$f":"IFERROR(VLOOKUP(Tabla_SERIED_12_5[[#This Row],[IdEstablecimiento]],'[1]Establecimiento 2023'!$A$1:$E$183,3,FALSE),0)","v":"105460-Centro Comunitario de Salud Familiar Cogotí 18"},{"$f":"IFERROR(VLOOKUP(Tabla_SERIED_12_5[[#This Row],[IdEstablecimiento]],'[1]Establecimiento 2023'!$A$1:$E$183,5,FALSE),0)","v":"04302-Combarbalá"},"15080008","2022-08-22T06:12:45",7,{"$nulls":7},3,null,4]
[{"$nulls":23},7,"5",2022,"200366",{"$f":"IFERROR(VLOOKUP(Tabla_SERIED_12_5[[#This Row],[IdEstablecimiento]],'[1]Establecimiento 2023'!$A$1:$E$183,3,FALSE),0)","v":"200366-Centro de Salud Familiar Urbano de Illapel"},{"$f":"IFERROR(VLOOKUP(Tabla_SERIED_12_5[[#This Row],[IdEstablecimiento]],'[1]Establecimiento 2023'!$A$1:$E$183,5,FALSE),0)","v":"04201-Illapel"},"15010300","2022-08-22T06:48:27",2,{"$nulls":3},2]
[{"$nulls":23},7,"5",2022,"200366",{"$f":"IFERROR(VLOOKUP(Tabla_SERIED_12_5[[#This Row],[IdEstablecimiento]],'[1]Establecimiento 2023'!$A$1:$E$183,3,FALSE),0)","v":"200366-Centro de Salud Familiar Urbano de Illapel"},{"$f":"IFERROR(VLOOKUP(Tabla_SERIED_12_5[[#This Row],[IdEstablecimiento]],'[1]Establecimiento 2023'!$A$1:$E$183,5,FALSE),0)","v":"04201-Illapel"},"15010400","2022-08-22T06:48:27",32,{"$nulls":4},10,12,10]
[{"$nulls":23},7,"5",2022,"105416",{"$f":"IFERROR(VLOOKUP(Tabla_SERIED_12_5[[#This Row],[IdEstablecimiento]],'[1]Establecimiento 2023'!$A$1:$E$183,3,FALSE),0)","v":"105416-Posta de Salud Rural Camarico (Ovalle)"},{"$f":"IFERROR(VLOOKUP(Tabla_SERIED_12_5[[#This Row],[IdEstablecimiento]],'[1]Establecimiento 2023'!$A$1:$E$183,5,FALSE),0)","v":"04301-Ovalle"},"15010100","2022-08-22T05:41:33",2,{"$nulls":3},2]
[{"$nulls":23},7,"5",2022,"105416",{"$f":"IFERROR(VLOOKUP(Tabla_SERIED_12_5[[#This Row],[IdEstablecimiento]],'[1]Establecimiento 2023'!$A$1:$E$183,3,FALSE),0)","v":"105416-Posta de Salud Rural Camarico (Ovalle)"},{"$f":"IFERROR(VLOOKUP(Tabla_SERIED_12_5[[#This Row],[IdEstablecimiento]],'[1]Establecimiento 2023'!$A$1:$E$183,5,FALSE),0)","v":"04301-Ovalle"},"16100300","2022-08-22T05:41:33",91,49,42,null,36]
[{"$nulls":23},7,"5",2022,"105473",{"$f":"IFERROR(VLOOKUP(Tabla_SERIED_12_5[[#This Row],[IdEstablecimiento]],'[1]Establecimiento 2023'!$A$1:$E$183,3,FALSE),0)","v":"105473-Posta de Salud Rural Talcuna"},{"$f":"IFERROR(VLOOKUP(Tabla_SERIED_12_5[[#This Row],[IdEstablecimiento]],'[1]Establecimiento 2023'!$A$1:$E$183,5,FALSE),0)","v":"04106-Vicuña"},"15080008","2022-08-22T06:26:39",4,{"$nulls":7},4]
[{"$nulls":23},7,"5",2022,"105474",{"$f":"IFERROR(VLOOKUP(Tabla_SERIED_12_5[[#This Row],[IdEstablecimiento]],'[1]Establecimiento 2023'!$A$1:$E$183,3,FALSE),0)","v":"105474-Posta de Salud Rural Chapilca"},{"$f":"IFERROR(VLOOKUP(Tabla_SERIED_12_5[[#This Row],[IdEstablecimiento]],'[1]Establecimiento 2023'!$A$1:$E$183,5,FALSE),0)","v":"04106-Vicuña"},"16100300","2022-08-22T06:26:51",14,5,9]
[{"$nulls":23},4,"5",2022,"105475",{"$f":"IFERROR(VLOOKUP(Tabla_SERIED_12_5[[#This Row],[IdEstablecimiento]],'[1]Establecimiento 2023'!$A$1:$E$183,3,FALSE),0)","v":"105475-Posta de Salud Rural Horcón (Paiguano)"},{"$f":"IFERROR(VLOOKUP(Tabla_SERIED_12_5[[#This Row],[IdEstablecimiento]],'[1]Establecimiento 2023'!$A$1:$E$183,5,FALSE),0)","v":"04105-Paiguano"},"15010200","2022-05-18T15:13:10",20,{"$nulls":4},2,10,8]
[{"$nulls":23},5,"5",2022,"105500",{"$f":"IFERROR(VLOOKUP(Tabla_SERIED_12_5[[#This Row],[IdEstablecimiento]],'[1]Establecimiento 2023'!$A$1:$E$183,3,FALSE),0)","v":"105500-Posta de Salud Rural Caleta Hornos"},{"$f":"IFERROR(VLOOKUP(Tabla_SERIED_12_5[[#This Row],[IdEstablecimiento]],'[1]Establecimiento 2023'!$A$1:$E$183,5,FALSE),0)","v":"04104-La Higuera"},"16200220","2022-06-20T17:27:31",4,2,2]
[{"$nulls":23},5,"5",2022,"105504",{"$f":"IFERROR(VLOOKUP(Tabla_SERIED_12_5[[#This Row],[IdEstablecimiento]],'[1]Establecimiento 2023'!$A$1:$E$183,3,FALSE),0)","v":"105504-Posta de Salud Rural Socavón"},{"$f":"IFERROR(VLOOKUP(Tabla_SERIED_12_5[[#This Row],[IdEstablecimiento]],'[1]Establecimiento 2023'!$A$1:$E$183,5,FALSE),0)","v":"04201-Illapel"},"15010200","2022-06-20T17:28:07",8,{"$nulls":4},0,6,2]
[{"$nulls":23},5,"5",2022,"105504",{"$f":"IFERROR(VLOOKUP(Tabla_SERIED_12_5[[#This Row],[IdEstablecimiento]],'[1]Establecimiento 2023'!$A$1:$E$183,3,FALSE),0)","v":"105504-Posta de Salud Rural Socavón"},{"$f":"IFERROR(VLOOKUP(Tabla_SERIED_12_5[[#This Row],[IdEstablecimiento]],'[1]Establecimiento 2023'!$A$1:$E$183,5,FALSE),0)","v":"04201-Illapel"},"15050100","2022-06-20T17:28:07",7,3,4,{"$nulls":3},3,null,3,1]
[{"$nulls":23},3,"5",2022,"105301",{"$f":"IFERROR(VLOOKUP(Tabla_SERIED_12_5[[#This Row],[IdEstablecimiento]],'[1]Establecimiento 2023'!$A$1:$E$183,3,FALSE),0)","v":"105301-Centro de Salud Familiar Las Compañías"},{"$f":"IFERROR(VLOOKUP(Tabla_SERIED_12_5[[#This Row],[IdEstablecimiento]],'[1]Establecimiento 2023'!$A$1:$E$183,5,FALSE),0)","v":"04101-La Serena"},"16100600","2022-04-19T08:02:23",2,0,2,0,0]
[{"$nulls":23},3,"5",2022,"105304",{"$f":"IFERROR(VLOOKUP(Tabla_SERIED_12_5[[#This Row],[IdEstablecimiento]],'[1]Establecimiento 2023'!$A$1:$E$183,3,FALSE),0)","v":"105304-Centro de Salud Familiar Santa Cecilia"},{"$f":"IFERROR(VLOOKUP(Tabla_SERIED_12_5[[#This Row],[IdEstablecimiento]],'[1]Establecimiento 2023'!$A$1:$E$183,5,FALSE),0)","v":"04102-Coquimbo"},"15900040","2022-04-19T08:03:06",3.6,0,3.6,0,0,0,0,0]
[{"$nulls":23},6,"5",2022,"105702",{"$f":"IFERROR(VLOOKUP(Tabla_SERIED_12_5[[#This Row],[IdEstablecimiento]],'[1]Establecimiento 2023'!$A$1:$E$183,3,FALSE),0)","v":"105702-Centro Comunitario de Salud Familiar Lambert"},{"$f":"IFERROR(VLOOKUP(Tabla_SERIED_12_5[[#This Row],[IdEstablecimiento]],'[1]Establecimiento 2023'!$A$1:$E$183,5,FALSE),0)","v":"04101-La Serena"},"16100300","2022-07-14T14:38:35",28,8,20,2,16]
[{"$nulls":23},5,"5",2022,"105485",{"$f":"IFERROR(VLOOKUP(Tabla_SERIED_12_5[[#This Row],[IdEstablecimiento]],'[1]Establecimiento 2023'!$A$1:$E$183,3,FALSE),0)","v":"105485-Posta de Salud Rural Plan de Hornos"},{"$f":"IFERROR(VLOOKUP(Tabla_SERIED_12_5[[#This Row],[IdEstablecimiento]],'[1]Establecimiento 2023'!$A$1:$E$183,5,FALSE),0)","v":"04201-Illapel"},"15900030","2022-06-20T17:24:51",6.4,null,6.4]
[{"$nulls":23},5,"5",2022,"105485",{"$f":"IFERROR(VLOOKUP(Tabla_SERIED_12_5[[#This Row],[IdEstablecimiento]],'[1]Establecimiento 2023'!$A$1:$E$183,3,FALSE),0)","v":"105485-Posta de Salud Rural Plan de Hornos"},{"$f":"IFERROR(VLOOKUP(Tabla_SERIED_12_5[[#This Row],[IdEstablecimiento]],'[1]Establecimiento 2023'!$A$1:$E$183,5,FALSE),0)","v":"04201-Illapel"},"16200220","2022-06-20T17:24:51",8,4,4]
[{"$nulls":23},5,"5",2022,"105305",{"$f":"IFERROR(VLOOKUP(Tabla_SERIED_12_5[[#This Row],[IdEstablecimiento]],'[1]Establecimiento 2023'!$A$1:$E$183,3,FALSE),0)","v":"105305-Centro de Salud Familiar Tierras Blancas"},{"$f":"IFERROR(VLOOKUP(Tabla_SERIED_12_5[[#This Row],[IdEstablecimiento]],'[1]Establecimiento 2023'!$A$1:$E$183,5,FALSE),0)","v":"04102-Coquimbo"},"16100300","2022-06-20T17:00:49",685,279,406,14,208]
[{"$nulls":23},7,"5",2022,"200366",{"$f":"IFERROR(VLOOKUP(Tabla_SERIED_12_5[[#This Row],[IdEstablecimiento]],'[1]Establecimiento 2023'!$A$1:$E$183,3,FALSE),0)","v":"200366-Centro de Salud Familiar Urbano de Illapel"},{"$f":"IFERROR(VLOOKUP(Tabla_SERIED_12_5[[#This Row],[IdEstablecimiento]],'[1]Establecimiento 2023'!$A$1:$E$183,5,FALSE),0)","v":"04201-Illapel"},"15901200","2022-08-22T06:48:27",2.8,{"$nulls":3},2.8]
[{"$nulls":23},7,"5",2022,"200366",{"$f":"IFERROR(VLOOKUP(Tabla_SERIED_12_5[[#This Row],[IdEstablecimiento]],'[1]Establecimiento 2023'!$A$1:$E$183,3,FALSE),0)","v":"200366-Centro de Salud Familiar Urbano de Illapel"},{"$f":"IFERROR(VLOOKUP(Tabla_SERIED_12_5[[#This Row],[IdEstablecimiento]],'[1]Establecimiento 2023'!$A$1:$E$183,5,FALSE),0)","v":"04201-Illapel"},"15060100","2022-08-22T06:48:27",7,5,2,{"$nulls":5},3,4]
[{"$nulls":23},7,"5",2022,"105302",{"$f":"IFERROR(VLOOKUP(Tabla_SERIED_12_5[[#This Row],[IdEstablecimiento]],'[1]Establecimiento 2023'!$A$1:$E$183,3,FALSE),0)","v":"105302-Centro de Salud Familiar Pedro Aguirre Cerda"},{"$f":"IFERROR(VLOOKUP(Tabla_SERIED_12_5[[#This Row],[IdEstablecimiento]],'[1]Establecimiento 2023'!$A$1:$E$183,5,FALSE),0)","v":"04101-La Serena"},"15060100","2022-08-19T11:58:31",13,7,6,1,null,1,3,1,2,5]
[{"$nulls":23},6,"5",2022,"105445",{"$f":"IFERROR(VLOOKUP(Tabla_SERIED_12_5[[#This Row],[IdEstablecimiento]],'[1]Establecimiento 2023'!$A$1:$E$183,3,FALSE),0)","v":"105445-Posta de Salud Rural Limáhuida"},{"$f":"IFERROR(VLOOKUP(Tabla_SERIED_12_5[[#This Row],[IdEstablecimiento]],'[1]Establecimiento 2023'!$A$1:$E$183,5,FALSE),0)","v":"04201-Illapel"},"16100300","2022-07-14T14:16:18",40,18,22]
[{"$nulls":23},6,"5",2022,"105447",{"$f":"IFERROR(VLOOKUP(Tabla_SERIED_12_5[[#This Row],[IdEstablecimiento]],'[1]Establecimiento 2023'!$A$1:$E$183,3,FALSE),0)","v":"105447-Posta de Salud Rural Peralillo Illapel"},{"$f":"IFERROR(VLOOKUP(Tabla_SERIED_12_5[[#This Row],[IdEstablecimiento]],'[1]Establecimiento 2023'!$A$1:$E$183,5,FALSE),0)","v":"04201-Illapel"},"15010200","2022-07-14T14:16:44",38,{"$nulls":4},4,24,10]
[{"$nulls":23},7,"5",2022,"105449",{"$f":"IFERROR(VLOOKUP(Tabla_SERIED_12_5[[#This Row],[IdEstablecimiento]],'[1]Establecimiento 2023'!$A$1:$E$183,3,FALSE),0)","v":"105449-Posta de Salud Rural Tunga Norte"},{"$f":"IFERROR(VLOOKUP(Tabla_SERIED_12_5[[#This Row],[IdEstablecimiento]],'[1]Establecimiento 2023'!$A$1:$E$183,5,FALSE),0)","v":"04201-Illapel"},"16200220","2022-08-22T05:57:35",6,1,5]
[{"$nulls":23},6,"5",2022,"105722",{"$f":"IFERROR(VLOOKUP(Tabla_SERIED_12_5[[#This Row],[IdEstablecimiento]],'[1]Establecimiento 2023'!$A$1:$E$183,3,FALSE),0)","v":"105722-Centro Comunitario de Salud Familiar San José de la Dehesa"},{"$f":"IFERROR(VLOOKUP(Tabla_SERIED_12_5[[#This Row],[IdEstablecimiento]],'[1]Establecimiento 2023'!$A$1:$E$183,5,FALSE),0)","v":"04301-Ovalle"},"16100300","2022-07-14T14:40:00",106,50,56]
[{"$nulls":23},4,"5",2022,"105444",{"$f":"IFERROR(VLOOKUP(Tabla_SERIED_12_5[[#This Row],[IdEstablecimiento]],'[1]Establecimiento 2023'!$A$1:$E$183,3,FALSE),0)","v":"105444-Posta de Salud Rural Huintil"},{"$f":"IFERROR(VLOOKUP(Tabla_SERIED_12_5[[#This Row],[IdEstablecimiento]],'[1]Establecimiento 2023'!$A$1:$E$183,5,FALSE),0)","v":"04201-Illapel"},"15010100","2022-05-18T14:59:05",2,{"$nulls":3},2]
[{"$nulls":23},4,"5",2022,"105444",{"$f":"IFERROR(VLOOKUP(Tabla_SERIED_12_5[[#This Row],[IdEstablecimiento]],'[1]Establecimiento 2023'!$A$1:$E$183,3,FALSE),0)","v":"105444-Posta de Salud Rural Huintil"},{"$f":"IFERROR(VLOOKUP(Tabla_SERIED_12_5[[#This Row],[IdEstablecimiento]],'[1]Establecimiento 2023'!$A$1:$E$183,5,FALSE),0)","v":"04201-Illapel"},"16200210","2022-05-18T14:59:05",8,8]
[{"$nulls":23},5,"5",2022,"105401",{"$f":"IFERROR(VLOOKUP(Tabla_SERIED_12_5[[#This Row],[IdEstablecimiento]],'[1]Establecimiento 2023'!$A$1:$E$183,3,FALSE),0)","v":"105401-Posta de Salud Rural Las Rojas"},{"$f":"IFERROR(VLOOKUP(Tabla_SERIED_12_5[[#This Row],[IdEstablecimiento]],'[1]Establecimiento 2023'!$A$1:$E$183,5,FALSE),0)","v":"04101-La Serena"},"15080008","2022-06-20T17:07:27",10,{"$nulls":7},1,null,6,2,1]
[{"$nulls":23},5,"5",2022,"105402",{"$f":"IFERROR(VLOOKUP(Tabla_SERIED_12_5[[#This Row],[IdEstablecimiento]],'[1]Establecimiento 2023'!$A$1:$E$183,3,FALSE),0)","v":"105402-Posta de Salud Rural El Romero"},{"$f":"IFERROR(VLOOKUP(Tabla_SERIED_12_5[[#This Row],[IdEstablecimiento]],'[1]Establecimiento 2023'!$A$1:$E$183,5,FALSE),0)","v":"04101-La Serena"},"15080008","2022-06-20T17:08:06",8,{"$nulls":7},4,null,4]
[{"$nulls":23},5,"5",2022,"105501",{"$f":"IFERROR(VLOOKUP(Tabla_SERIED_12_5[[#This Row],[IdEstablecimiento]],'[1]Establecimiento 2023'!$A$1:$E$183,3,FALSE),0)","v":"105501-Posta de Salud Rural Arboleda Grande"},{"$f":"IFERROR(VLOOKUP(Tabla_SERIED_12_5[[#This Row],[IdEstablecimiento]],'[1]Establecimiento 2023'!$A$1:$E$183,5,FALSE),0)","v":"04204-Salamanca"},"15900020","2022-06-22T10:52:35",2.4,null,2.4]
[{"$nulls":23},2,"5",2022,"105302",{"$f":"IFERROR(VLOOKUP(Tabla_SERIED_12_5[[#This Row],[IdEstablecimiento]],'[1]Establecimiento 2023'!$A$1:$E$183,3,FALSE),0)","v":"105302-Centro de Salud Familiar Pedro Aguirre Cerda"},{"$f":"IFERROR(VLOOKUP(Tabla_SERIED_12_5[[#This Row],[IdEstablecimiento]],'[1]Establecimiento 2023'!$A$1:$E$183,5,FALSE),0)","v":"04101-La Serena"},"15900010","2022-03-17T09:26:58",137.6,10.4,50.4,76.8]
[{"$nulls":23},6,"5",2022,"105510",{"$f":"IFERROR(VLOOKUP(Tabla_SERIED_12_5[[#This Row],[IdEstablecimiento]],'[1]Establecimiento 2023'!$A$1:$E$183,3,FALSE),0)","v":"105510-Posta de Salud Rural Recoleta"},{"$f":"IFERROR(VLOOKUP(Tabla_SERIED_12_5[[#This Row],[IdEstablecimiento]],'[1]Establecimiento 2023'!$A$1:$E$183,5,FALSE),0)","v":"04301-Ovalle"},"15080008","2022-07-14T14:37:26",6,{"$nulls":7},2,null,4]
[{"$nulls":23},6,"5",2022,"105326",{"$f":"IFERROR(VLOOKUP(Tabla_SERIED_12_5[[#This Row],[IdEstablecimiento]],'[1]Establecimiento 2023'!$A$1:$E$183,3,FALSE),0)","v":"105326-Centro de Salud Familiar Villa San Rafael de Rozas"},{"$f":"IFERROR(VLOOKUP(Tabla_SERIED_12_5[[#This Row],[IdEstablecimiento]],'[1]Establecimiento 2023'!$A$1:$E$183,5,FALSE),0)","v":"04201-Illapel"},"15050100","2022-07-14T14:07:30",152,56,96,1,6,10,13,24,32,31,19,null,7,3,6]
[{"$nulls":23},7,"5",2022,"105469",{"$f":"IFERROR(VLOOKUP(Tabla_SERIED_12_5[[#This Row],[IdEstablecimiento]],'[1]Establecimiento 2023'!$A$1:$E$183,3,FALSE),0)","v":"105469-Posta de Salud Rural El Tambo (Vicuña)"},{"$f":"IFERROR(VLOOKUP(Tabla_SERIED_12_5[[#This Row],[IdEstablecimiento]],'[1]Establecimiento 2023'!$A$1:$E$183,5,FALSE),0)","v":"04106-Vicuña"},"16100600","2022-08-22T06:25:45",1,null,1,null,1]
[{"$nulls":23},7,"5",2022,"105471",{"$f":"IFERROR(VLOOKUP(Tabla_SERIED_12_5[[#This Row],[IdEstablecimiento]],'[1]Establecimiento 2023'!$A$1:$E$183,3,FALSE),0)","v":"105471-Posta de Salud Rural Peralillo Vicuña"},{"$f":"IFERROR(VLOOKUP(Tabla_SERIED_12_5[[#This Row],[IdEstablecimiento]],'[1]Establecimiento 2023'!$A$1:$E$183,5,FALSE),0)","v":"04106-Vicuña"},"16200210","2022-08-22T06:26:12",7,7]
[{"$nulls":23},7,"5",2022,"105472",{"$f":"IFERROR(VLOOKUP(Tabla_SERIED_12_5[[#This Row],[IdEstablecimiento]],'[1]Establecimiento 2023'!$A$1:$E$183,3,FALSE),0)","v":"105472-Posta de Salud Rural Rivadavia"},{"$f":"IFERROR(VLOOKUP(Tabla_SERIED_12_5[[#This Row],[IdEstablecimiento]],'[1]Establecimiento 2023'!$A$1:$E$183,5,FALSE),0)","v":"04106-Vicuña"},"15010500","2022-08-22T06:26:24",2,{"$nulls":3},2]
[{"$nulls":23},7,"5",2022,"105472",{"$f":"IFERROR(VLOOKUP(Tabla_SERIED_12_5[[#This Row],[IdEstablecimiento]],'[1]Establecimiento 2023'!$A$1:$E$183,3,FALSE),0)","v":"105472-Posta de Salud Rural Rivadavia"},{"$f":"IFERROR(VLOOKUP(Tabla_SERIED_12_5[[#This Row],[IdEstablecimiento]],'[1]Establecimiento 2023'!$A$1:$E$183,5,FALSE),0)","v":"04106-Vicuña"},"16090300","2022-08-22T06:26:24",42,42]
[{"$nulls":23},7,"5",2022,"105475",{"$f":"IFERROR(VLOOKUP(Tabla_SERIED_12_5[[#This Row],[IdEstablecimiento]],'[1]Establecimiento 2023'!$A$1:$E$183,3,FALSE),0)","v":"105475-Posta de Salud Rural Horcón (Paiguano)"},{"$f":"IFERROR(VLOOKUP(Tabla_SERIED_12_5[[#This Row],[IdEstablecimiento]],'[1]Establecimiento 2023'!$A$1:$E$183,5,FALSE),0)","v":"04105-Paiguano"},"15900020","2022-08-22T06:27:06",3.2,null,null,3.2]
[{"$nulls":23},7,"5",2022,"105475",{"$f":"IFERROR(VLOOKUP(Tabla_SERIED_12_5[[#This Row],[IdEstablecimiento]],'[1]Establecimiento 2023'!$A$1:$E$183,3,FALSE),0)","v":"105475-Posta de Salud Rural Horcón (Paiguano)"},{"$f":"IFERROR(VLOOKUP(Tabla_SERIED_12_5[[#This Row],[IdEstablecimiento]],'[1]Establecimiento 2023'!$A$1:$E$183,5,FALSE),0)","v":"04105-Paiguano"},"16200100","2022-08-22T06:27:06",1,1]
[{"$nulls":23},8,"5",2022,"105302",{"$f":"IFERROR(VLOOKUP(Tabla_SERIED_12_5[[#This Row],[IdEstablecimiento]],'[1]Establecimiento 2023'!$A$1:$E$183,3,FALSE),0)","v":"105302-Centro de Salud Familiar Pedro Aguirre Cerda"},{"$f":"IFERROR(VLOOKUP(Tabla_SERIED_12_5[[#This Row],[IdEstablecimiento]],'[1]Establecimiento 2023'!$A$1:$E$183,5,FALSE),0)","v":"04101-La Serena"},"15050100","2022-09-21T07:15:06",659,240,419,11,22,61,69,58,136,101,97,null,65,10,29]
[{"$nulls":23},8,"5",2022,"105302",{"$f":"IFERROR(VLOOKUP(Tabla_SERIED_12_5[[#This Row],[IdEstablecimiento]],'[1]Establecimiento 2023'!$A$1:$E$183,3,FALSE),0)","v":"105302-Centro de Salud Familiar Pedro Aguirre Cerda"},{"$f":"IFERROR(VLOOKUP(Tabla_SERIED_12_5[[#This Row],[IdEstablecimiento]],'[1]Establecimiento 2023'!$A$1:$E$183,5,FALSE),0)","v":"04101-La Serena"},"15060100","2022-09-21T07:15:06",27,13,14,null,2,3,2,2,3,13,2]
[{"$nulls":23},7,"5",2022,"105450",{"$f":"IFERROR(VLOOKUP(Tabla_SERIED_12_5[[#This Row],[IdEstablecimiento]],'[1]Establecimiento 2023'!$A$1:$E$183,3,FALSE),0)","v":"105450-Posta de Salud Rural Mincha Norte"},{"$f":"IFERROR(VLOOKUP(Tabla_SERIED_12_5[[#This Row],[IdEstablecimiento]],'[1]Establecimiento 2023'!$A$1:$E$183,5,FALSE),0)","v":"04202-Canela"},"15050200","2022-08-22T05:57:49",1,1,{"$nulls":6},1]
[{"$nulls":23},1,"5",2022,"200258",{"$f":"IFERROR(VLOOKUP(Tabla_SERIED_12_5[[#This Row],[IdEstablecimiento]],'[1]Establecimiento 2023'!$A$1:$E$183,3,FALSE),0)","v":"200258-Centro Comunitario de Salud Familiar Los Copihues"},{"$f":"IFERROR(VLOOKUP(Tabla_SERIED_12_5[[#This Row],[IdEstablecimiento]],'[1]Establecimiento 2023'!$A$1:$E$183,5,FALSE),0)","v":"04301-Ovalle"},"15080008","2022-02-17T04:29:12",18,{"$nulls":7},16,null,0,0,2]
[{"$nulls":23},2,"5",2022,"105722",{"$f":"IFERROR(VLOOKUP(Tabla_SERIED_12_5[[#This Row],[IdEstablecimiento]],'[1]Establecimiento 2023'!$A$1:$E$183,3,FALSE),0)","v":"105722-Centro Comunitario de Salud Familiar San José de la Dehesa"},{"$f":"IFERROR(VLOOKUP(Tabla_SERIED_12_5[[#This Row],[IdEstablecimiento]],'[1]Establecimiento 2023'!$A$1:$E$183,5,FALSE),0)","v":"04301-Ovalle"},"15050200","2022-03-17T10:05:32",5,1,4,null,null,2,1,1,1]
[{"$nulls":23},7,"5",2022,"105507",{"$f":"IFERROR(VLOOKUP(Tabla_SERIED_12_5[[#This Row],[IdEstablecimiento]],'[1]Establecimiento 2023'!$A$1:$E$183,3,FALSE),0)","v":"105507-Posta de Salud Rural Huamalata"},{"$f":"IFERROR(VLOOKUP(Tabla_SERIED_12_5[[#This Row],[IdEstablecimiento]],'[1]Establecimiento 2023'!$A$1:$E$183,5,FALSE),0)","v":"04301-Ovalle"},"15050100","2022-08-22T06:45:35",35,16,19,1,null,1,7,2,7,10,4,null,2,null,1]
[{"$nulls":23},4,"5",2022,"105317",{"$f":"IFERROR(VLOOKUP(Tabla_SERIED_12_5[[#This Row],[IdEstablecimiento]],'[1]Establecimiento 2023'!$A$1:$E$183,3,FALSE),0)","v":"105317-Centro de Salud Familiar Jorge Jordán Domic"},{"$f":"IFERROR(VLOOKUP(Tabla_SERIED_12_5[[#This Row],[IdEstablecimiento]],'[1]Establecimiento 2023'!$A$1:$E$183,5,FALSE),0)","v":"04301-Ovalle"},"15010400","2022-05-18T11:52:31",16,{"$nulls":4},4,6,6]
[{"$nulls":23},4,"5",2022,"105441",{"$f":"IFERROR(VLOOKUP(Tabla_SERIED_12_5[[#This Row],[IdEstablecimiento]],'[1]Establecimiento 2023'!$A$1:$E$183,3,FALSE),0)","v":"105441-Posta de Salud Rural Manquehua"},{"$f":"IFERROR(VLOOKUP(Tabla_SERIED_12_5[[#This Row],[IdEstablecimiento]],'[1]Establecimiento 2023'!$A$1:$E$183,5,FALSE),0)","v":"04302-Combarbalá"},"16200210","2022-05-18T14:57:57",19,19]
[{"$nulls":23},3,"5",2022,"105321",{"$f":"IFERROR(VLOOKUP(Tabla_SERIED_12_5[[#This Row],[IdEstablecimiento]],'[1]Establecimiento 2023'!$A$1:$E$183,3,FALSE),0)","v":"105321-Centro de Salud Familiar Tongoy"},{"$f":"IFERROR(VLOOKUP(Tabla_SERIED_12_5[[#This Row],[IdEstablecimiento]],'[1]Establecimiento 2023'!$A$1:$E$183,5,FALSE),0)","v":"04102-Coquimbo"},"16200220","2022-04-19T08:10:59",4,1,3]
[{"$nulls":23},6,"5",2022,"105450",{"$f":"IFERROR(VLOOKUP(Tabla_SERIED_12_5[[#This Row],[IdEstablecimiento]],'[1]Establecimiento 2023'!$A$1:$E$183,3,FALSE),0)","v":"105450-Posta de Salud Rural Mincha Norte"},{"$f":"IFERROR(VLOOKUP(Tabla_SERIED_12_5[[#This Row],[IdEstablecimiento]],'[1]Establecimiento 2023'!$A$1:$E$183,5,FALSE),0)","v":"04202-Canela"},"16100300","2022-07-14T14:17:26",200,86,114,0,2]
[{"$nulls":23},6,"5",2022,"105404",{"$f":"IFERROR(VLOOKUP(Tabla_SERIED_12_5[[#This Row],[IdEstablecimiento]],'[1]Establecimiento 2023'!$A$1:$E$183,3,FALSE),0)","v":0},{"$f":"IFERROR(VLOOKUP(Tabla_SERIED_12_5[[#This Row],[IdEstablecimiento]],'[1]Establecimiento 2023'!$A$1:$E$183,5,FALSE),0)","v":0},"16100300","2022-07-14T14:08:26",30,18,12]
[{"$nulls":23},8,"5",2022,"105508",{"$f":"IFERROR(VLOOKUP(Tabla_SERIED_12_5[[#This Row],[IdEstablecimiento]],'[1]Establecimiento 2023'!$A$1:$E$183,3,FALSE),0)","v":"105508-Posta de Salud Rural El Parral de Quiles"},{"$f":"IFERROR(VLOOKUP(Tabla_SERIED_12_5[[#This Row],[IdEstablecimiento]],'[1]Establecimiento 2023'!$A$1:$E$183,5,FALSE),0)","v":"04304-Punitaqui"},"15010200","2022-09-21T07:59:24",10,{"$nulls":4},2,4,4]
[{"$nulls":23},8,"5",2022,"105508",{"$f":"IFERROR(VLOOKUP(Tabla_SERIED_12_5[[#This Row],[IdEstablecimiento]],'[1]Establecimiento 2023'!$A$1:$E$183,3,FALSE),0)","v":"105508-Posta de Salud Rural El Parral de Quiles"},{"$f":"IFERROR(VLOOKUP(Tabla_SERIED_12_5[[#This Row],[IdEstablecimiento]],'[1]Establecimiento 2023'!$A$1:$E$183,5,FALSE),0)","v":"04304-Punitaqui"},"15050100","2022-09-21T07:59:24",5,2,3,{"$nulls":4},1,2,2]
[{"$nulls":23},8,"5",2022,"105510",{"$f":"IFERROR(VLOOKUP(Tabla_SERIED_12_5[[#This Row],[IdEstablecimiento]],'[1]Establecimiento 2023'!$A$1:$E$183,3,FALSE),0)","v":"105510-Posta de Salud Rural Recoleta"},{"$f":"IFERROR(VLOOKUP(Tabla_SERIED_12_5[[#This Row],[IdEstablecimiento]],'[1]Establecimiento 2023'!$A$1:$E$183,5,FALSE),0)","v":"04301-Ovalle"},"15010100","2022-09-21T07:59:51",8,{"$nulls":3},8]
[{"$nulls":23},8,"5",2022,"105303",{"$f":"IFERROR(VLOOKUP(Tabla_SERIED_12_5[[#This Row],[IdEstablecimiento]],'[1]Establecimiento 2023'!$A$1:$E$183,3,FALSE),0)","v":"105303-Centro de Salud Familiar San Juan"},{"$f":"IFERROR(VLOOKUP(Tabla_SERIED_12_5[[#This Row],[IdEstablecimiento]],'[1]Establecimiento 2023'!$A$1:$E$183,5,FALSE),0)","v":"04102-Coquimbo"},"15010100","2022-09-21T07:15:21",114,{"$nulls":3},108,6]
[{"$nulls":23},8,"5",2022,"105303",{"$f":"IFERROR(VLOOKUP(Tabla_SERIED_12_5[[#This Row],[IdEstablecimiento]],'[1]Establecimiento 2023'!$A$1:$E$183,3,FALSE),0)","v":"105303-Centro de Salud Familiar San Juan"},{"$f":"IFERROR(VLOOKUP(Tabla_SERIED_12_5[[#This Row],[IdEstablecimiento]],'[1]Establecimiento 2023'!$A$1:$E$183,5,FALSE),0)","v":"04102-Coquimbo"},"15050100","2022-09-21T07:15:21",502,211,291,0,0,0,57,58,143,113,72,null,30,22,7]
[{"$nulls":23},8,"5",2022,"105303",{"$f":"IFERROR(VLOOKUP(Tabla_SERIED_12_5[[#This Row],[IdEstablecimiento]],'[1]Establecimiento 2023'!$A$1:$E$183,3,FALSE),0)","v":"105303-Centro de Salud Familiar San Juan"},{"$f":"IFERROR(VLOOKUP(Tabla_SERIED_12_5[[#This Row],[IdEstablecimiento]],'[1]Establecimiento 2023'!$A$1:$E$183,5,FALSE),0)","v":"04102-Coquimbo"},"16200220","2022-09-21T07:15:21",14,6,8,1,5]
[{"$nulls":23},7,"5",2022,"105476",{"$f":"IFERROR(VLOOKUP(Tabla_SERIED_12_5[[#This Row],[IdEstablecimiento]],'[1]Establecimiento 2023'!$A$1:$E$183,3,FALSE),0)","v":"105476-Posta de Salud Rural Monte Grande"},{"$f":"IFERROR(VLOOKUP(Tabla_SERIED_12_5[[#This Row],[IdEstablecimiento]],'[1]Establecimiento 2023'!$A$1:$E$183,5,FALSE),0)","v":"04105-Paiguano"},"16100300","2022-08-22T06:27:18",13,7,6,1,6]
[{"$nulls":23},7,"5",2022,"105477",{"$f":"IFERROR(VLOOKUP(Tabla_SERIED_12_5[[#This Row],[IdEstablecimiento]],'[1]Establecimiento 2023'!$A$1:$E$183,3,FALSE),0)","v":"105477-Posta de Salud Rural Pisco Elqui"},{"$f":"IFERROR(VLOOKUP(Tabla_SERIED_12_5[[#This Row],[IdEstablecimiento]],'[1]Establecimiento 2023'!$A$1:$E$183,5,FALSE),0)","v":"04105-Paiguano"},"16090300","2022-08-22T06:27:31",35,35]
[{"$nulls":23},7,"5",2022,"105478",{"$f":"IFERROR(VLOOKUP(Tabla_SERIED_12_5[[#This Row],[IdEstablecimiento]],'[1]Establecimiento 2023'!$A$1:$E$183,3,FALSE),0)","v":"105478-Posta de Salud Rural Caimanes"},{"$f":"IFERROR(VLOOKUP(Tabla_SERIED_12_5[[#This Row],[IdEstablecimiento]],'[1]Establecimiento 2023'!$A$1:$E$183,5,FALSE),0)","v":"04203-Los Vilos"},"16090300","2022-08-22T06:27:43",30,30]
[{"$nulls":23},7,"5",2022,"105480",{"$f":"IFERROR(VLOOKUP(Tabla_SERIED_12_5[[#This Row],[IdEstablecimiento]],'[1]Establecimiento 2023'!$A$1:$E$183,3,FALSE),0)","v":"105480-Posta de Salud Rural Quilimarí"},{"$f":"IFERROR(VLOOKUP(Tabla_SERIED_12_5[[#This Row],[IdEstablecimiento]],'[1]Establecimiento 2023'!$A$1:$E$183,5,FALSE),0)","v":"04203-Los Vilos"},"15050100","2022-08-22T06:31:46",44,14,30,null,2,2,5,5,10,10,9,null,1]
[{"$nulls":23},1,"5",2022,"105507",{"$f":"IFERROR(VLOOKUP(Tabla_SERIED_12_5[[#This Row],[IdEstablecimiento]],'[1]Establecimiento 2023'!$A$1:$E$183,3,FALSE),0)","v":"105507-Posta de Salud Rural Huamalata"},{"$f":"IFERROR(VLOOKUP(Tabla_SERIED_12_5[[#This Row],[IdEstablecimiento]],'[1]Establecimiento 2023'!$A$1:$E$183,5,FALSE),0)","v":"04301-Ovalle"},"16200210","2022-02-17T04:20:48",9,9]
[{"$nulls":23},4,"5",2022,"105430",{"$f":"IFERROR(VLOOKUP(Tabla_SERIED_12_5[[#This Row],[IdEstablecimiento]],'[1]Establecimiento 2023'!$A$1:$E$183,3,FALSE),0)","v":"105430-Posta de Salud Rural Mialqui"},{"$f":"IFERROR(VLOOKUP(Tabla_SERIED_12_5[[#This Row],[IdEstablecimiento]],'[1]Establecimiento 2023'!$A$1:$E$183,5,FALSE),0)","v":"04303-Monte Patria"},"15010200","2022-05-18T14:55:35",2,{"$nulls":5},2]
[{"$nulls":23},5,"5",2022,"105455",{"$f":"IFERROR(VLOOKUP(Tabla_SERIED_12_5[[#This Row],[IdEstablecimiento]],'[1]Establecimiento 2023'!$A$1:$E$183,3,FALSE),0)","v":"105455-CESFAM Valle Alto"},{"$f":"IFERROR(VLOOKUP(Tabla_SERIED_12_5[[#This Row],[IdEstablecimiento]],'[1]Establecimiento 2023'!$A$1:$E$183,5,FALSE),0)","v":"04204-Salamanca"},"16200210","2022-06-22T10:50:34",4,4]
[{"$nulls":23},1,"5",2022,"105303",{"$f":"IFERROR(VLOOKUP(Tabla_SERIED_12_5[[#This Row],[IdEstablecimiento]],'[1]Establecimiento 2023'!$A$1:$E$183,3,FALSE),0)","v":"105303-Centro de Salud Familiar San Juan"},{"$f":"IFERROR(VLOOKUP(Tabla_SERIED_12_5[[#This Row],[IdEstablecimiento]],'[1]Establecimiento 2023'!$A$1:$E$183,5,FALSE),0)","v":"04102-Coquimbo"},"15901400","2022-02-16T10:34:59",7,3,4,1,1,3,1,1,0,0]
[{"$nulls":23},3,"5",2022,"105308",{"$f":"IFERROR(VLOOKUP(Tabla_SERIED_12_5[[#This Row],[IdEstablecimiento]],'[1]Establecimiento 2023'!$A$1:$E$183,3,FALSE),0)","v":"105308-Centro de Salud Familiar Punitaqui"},{"$f":"IFERROR(VLOOKUP(Tabla_SERIED_12_5[[#This Row],[IdEstablecimiento]],'[1]Establecimiento 2023'!$A$1:$E$183,5,FALSE),0)","v":"04304-Punitaqui"},"15080009","2022-04-19T08:08:07",3,{"$nulls":8},3]
[{"$nulls":23},2,"5",2022,"105722",{"$f":"IFERROR(VLOOKUP(Tabla_SERIED_12_5[[#This Row],[IdEstablecimiento]],'[1]Establecimiento 2023'!$A$1:$E$183,3,FALSE),0)","v":"105722-Centro Comunitario de Salud Familiar San José de la Dehesa"},{"$f":"IFERROR(VLOOKUP(Tabla_SERIED_12_5[[#This Row],[IdEstablecimiento]],'[1]Establecimiento 2023'!$A$1:$E$183,5,FALSE),0)","v":"04301-Ovalle"},"16200210","2022-03-17T10:05:32",17,17]
[{"$nulls":23},3,"5",2022,"105453",{"$f":"IFERROR(VLOOKUP(Tabla_SERIED_12_5[[#This Row],[IdEstablecimiento]],'[1]Establecimiento 2023'!$A$1:$E$183,3,FALSE),0)","v":"105453-Posta de Salud Rural Tranquilla"},{"$f":"IFERROR(VLOOKUP(Tabla_SERIED_12_5[[#This Row],[IdEstablecimiento]],'[1]Establecimiento 2023'!$A$1:$E$183,5,FALSE),0)","v":"04204-Salamanca"},"15010100","2022-04-20T05:41:52",16,null,null,2,14]
[{"$nulls":23},3,"5",2022,"105453",{"$f":"IFERROR(VLOOKUP(Tabla_SERIED_12_5[[#This Row],[IdEstablecimiento]],'[1]Establecimiento 2023'!$A$1:$E$183,3,FALSE),0)","v":"105453-Posta de Salud Rural Tranquilla"},{"$f":"IFERROR(VLOOKUP(Tabla_SERIED_12_5[[#This Row],[IdEstablecimiento]],'[1]Establecimiento 2023'!$A$1:$E$183,5,FALSE),0)","v":"04204-Salamanca"},"15010200","2022-04-20T05:41:52",72,{"$nulls":4},12,34,26]
[{"$nulls":23},6,"5",2022,"105505",{"$f":"IFERROR(VLOOKUP(Tabla_SERIED_12_5[[#This Row],[IdEstablecimiento]],'[1]Establecimiento 2023'!$A$1:$E$183,3,FALSE),0)","v":"105505-Posta de Salud Rural Los Choros"},{"$f":"IFERROR(VLOOKUP(Tabla_SERIED_12_5[[#This Row],[IdEstablecimiento]],'[1]Establecimiento 2023'!$A$1:$E$183,5,FALSE),0)","v":"04104-La Higuera"},"16100300","2022-07-14T14:36:15",32,11,21]
[{"$nulls":23},5,"5",2022,"105455",{"$f":"IFERROR(VLOOKUP(Tabla_SERIED_12_5[[#This Row],[IdEstablecimiento]],'[1]Establecimiento 2023'!$A$1:$E$183,3,FALSE),0)","v":"105455-CESFAM Valle Alto"},{"$f":"IFERROR(VLOOKUP(Tabla_SERIED_12_5[[#This Row],[IdEstablecimiento]],'[1]Establecimiento 2023'!$A$1:$E$183,5,FALSE),0)","v":"04204-Salamanca"},"15900020","2022-06-22T10:50:34",1.6,null,null,1.6]
[{"$nulls":23},2,"5",2022,"105472",{"$f":"IFERROR(VLOOKUP(Tabla_SERIED_12_5[[#This Row],[IdEstablecimiento]],'[1]Establecimiento 2023'!$A$1:$E$183,3,FALSE),0)","v":"105472-Posta de Salud Rural Rivadavia"},{"$f":"IFERROR(VLOOKUP(Tabla_SERIED_12_5[[#This Row],[IdEstablecimiento]],'[1]Establecimiento 2023'!$A$1:$E$183,5,FALSE),0)","v":"04106-Vicuña"},"16200210","2022-03-17T09:50:58",4,4]
[{"$nulls":23},6,"5",2022,"105414",{"$f":"IFERROR(VLOOKUP(Tabla_SERIED_12_5[[#This Row],[IdEstablecimiento]],'[1]Establecimiento 2023'!$A$1:$E$183,3,FALSE),0)","v":"105414-Posta de Salud Rural Serón"},{"$f":"IFERROR(VLOOKUP(Tabla_SERIED_12_5[[#This Row],[IdEstablecimiento]],'[1]Establecimiento 2023'!$A$1:$E$183,5,FALSE),0)","v":"04305-Río Hurtado"},"16200220","2022-07-14T14:55:34",2,2]
[{"$nulls":23},6,"5",2022,"105311",{"$f":"IFERROR(VLOOKUP(Tabla_SERIED_12_5[[#This Row],[IdEstablecimiento]],'[1]Establecimiento 2023'!$A$1:$E$183,3,FALSE),0)","v":"105311-Centro de Salud Familiar Chañaral Alto"},{"$f":"IFERROR(VLOOKUP(Tabla_SERIED_12_5[[#This Row],[IdEstablecimiento]],'[1]Establecimiento 2023'!$A$1:$E$183,5,FALSE),0)","v":"04303-Monte Patria"},"15900020","2022-07-14T14:02:07",2.4,null,null,2.4]
[{"$nulls":23},6,"5",2022,"105437",{"$f":"IFERROR(VLOOKUP(Tabla_SERIED_12_5[[#This Row],[IdEstablecimiento]],'[1]Establecimiento 2023'!$A$1:$E$183,3,FALSE),0)","v":"105437-Posta de Salud Rural Chalinga"},{"$f":"IFERROR(VLOOKUP(Tabla_SERIED_12_5[[#This Row],[IdEstablecimiento]],'[1]Establecimiento 2023'!$A$1:$E$183,5,FALSE),0)","v":"04301-Ovalle"},"15010400","2022-07-14T14:14:42",4,{"$nulls":5},4]
[{"$nulls":23},1,"5",2022,"105106",{"$f":"IFERROR(VLOOKUP(Tabla_SERIED_12_5[[#This Row],[IdEstablecimiento]],'[1]Establecimiento 2023'!$A$1:$E$183,3,FALSE),0)","v":"105106-Hospital Dr. José Arraño (Andacollo)"},{"$f":"IFERROR(VLOOKUP(Tabla_SERIED_12_5[[#This Row],[IdEstablecimiento]],'[1]Establecimiento 2023'!$A$1:$E$183,5,FALSE),0)","v":"105106-Hospital Andacollo"},"16100700","2022-03-17T10:26:46",1,1]
[{"$nulls":23},1,"5",2022,"105107",{"$f":"IFERROR(VLOOKUP(Tabla_SERIED_12_5[[#This Row],[IdEstablecimiento]],'[1]Establecimiento 2023'!$A$1:$E$183,3,FALSE),0)","v":"105107-Hospital San Juan de Dios (Vicuña)"},{"$f":"IFERROR(VLOOKUP(Tabla_SERIED_12_5[[#This Row],[IdEstablecimiento]],'[1]Establecimiento 2023'!$A$1:$E$183,5,FALSE),0)","v":"105107-Hospital Vicuña"},"15010100","2022-02-17T07:56:13",76,null,null,8,68]
[{"$nulls":23},8,"5",2022,"105313",{"$f":"IFERROR(VLOOKUP(Tabla_SERIED_12_5[[#This Row],[IdEstablecimiento]],'[1]Establecimiento 2023'!$A$1:$E$183,3,FALSE),0)","v":"105313-Centro de Salud Familiar Dr. Emilio Schaffhauser"},{"$f":"IFERROR(VLOOKUP(Tabla_SERIED_12_5[[#This Row],[IdEstablecimiento]],'[1]Establecimiento 2023'!$A$1:$E$183,5,FALSE),0)","v":"04101-La Serena"},"15020100","2022-09-21T07:17:54",6,{"$nulls":3},6]
[{"$nulls":23},7,"5",2022,"105432",{"$f":"IFERROR(VLOOKUP(Tabla_SERIED_12_5[[#This Row],[IdEstablecimiento]],'[1]Establecimiento 2023'!$A$1:$E$183,3,FALSE),0)","v":"105432-Posta de Salud Rural Rapel (Monte Patria)"},{"$f":"IFERROR(VLOOKUP(Tabla_SERIED_12_5[[#This Row],[IdEstablecimiento]],'[1]Establecimiento 2023'!$A$1:$E$183,5,FALSE),0)","v":"04303-Monte Patria"},"15080008","2022-08-22T05:49:18",8,{"$nulls":7},4,null,4]
[{"$nulls":23},2,"5",2022,"105478",{"$f":"IFERROR(VLOOKUP(Tabla_SERIED_12_5[[#This Row],[IdEstablecimiento]],'[1]Establecimiento 2023'!$A$1:$E$183,3,FALSE),0)","v":"105478-Posta de Salud Rural Caimanes"},{"$f":"IFERROR(VLOOKUP(Tabla_SERIED_12_5[[#This Row],[IdEstablecimiento]],'[1]Establecimiento 2023'!$A$1:$E$183,5,FALSE),0)","v":"04203-Los Vilos"},"15050200","2022-03-17T09:53:42",2,null,2,{"$nulls":8},2]
[{"$nulls":23},1,"5",2022,"105441",{"$f":"IFERROR(VLOOKUP(Tabla_SERIED_12_5[[#This Row],[IdEstablecimiento]],'[1]Establecimiento 2023'!$A$1:$E$183,3,FALSE),0)","v":"105441-Posta de Salud Rural Manquehua"},{"$f":"IFERROR(VLOOKUP(Tabla_SERIED_12_5[[#This Row],[IdEstablecimiento]],'[1]Establecimiento 2023'!$A$1:$E$183,5,FALSE),0)","v":"04302-Combarbalá"},"15080008","2022-02-16T11:05:19",1,{"$nulls":11},1]
[{"$nulls":23},1,"5",2022,"105486",{"$f":"IFERROR(VLOOKUP(Tabla_SERIED_12_5[[#This Row],[IdEstablecimiento]],'[1]Establecimiento 2023'!$A$1:$E$183,3,FALSE),0)","v":"105486-Posta de Salud Rural Tunga Sur"},{"$f":"IFERROR(VLOOKUP(Tabla_SERIED_12_5[[#This Row],[IdEstablecimiento]],'[1]Establecimiento 2023'!$A$1:$E$183,5,FALSE),0)","v":"04201-Illapel"},"16200220","2022-02-17T04:06:15",10,5,5]
[{"$nulls":23},2,"5",2022,"105445",{"$f":"IFERROR(VLOOKUP(Tabla_SERIED_12_5[[#This Row],[IdEstablecimiento]],'[1]Establecimiento 2023'!$A$1:$E$183,3,FALSE),0)","v":"105445-Posta de Salud Rural Limáhuida"},{"$f":"IFERROR(VLOOKUP(Tabla_SERIED_12_5[[#This Row],[IdEstablecimiento]],'[1]Establecimiento 2023'!$A$1:$E$183,5,FALSE),0)","v":"04201-Illapel"},"15010400","2022-03-17T09:42:54",2,{"$nulls":5},2]
[{"$nulls":23},6,"5",2022,"105321",{"$f":"IFERROR(VLOOKUP(Tabla_SERIED_12_5[[#This Row],[IdEstablecimiento]],'[1]Establecimiento 2023'!$A$1:$E$183,3,FALSE),0)","v":"105321-Centro de Salud Familiar Tongoy"},{"$f":"IFERROR(VLOOKUP(Tabla_SERIED_12_5[[#This Row],[IdEstablecimiento]],'[1]Establecimiento 2023'!$A$1:$E$183,5,FALSE),0)","v":"04102-Coquimbo"},"15050100","2022-07-14T14:06:26",165,77,88,2,7,19,25,14,33,30,24,null,11]
[{"$nulls":23},6,"5",2022,"105321",{"$f":"IFERROR(VLOOKUP(Tabla_SERIED_12_5[[#This Row],[IdEstablecimiento]],'[1]Establecimiento 2023'!$A$1:$E$183,3,FALSE),0)","v":"105321-Centro de Salud Familiar Tongoy"},{"$f":"IFERROR(VLOOKUP(Tabla_SERIED_12_5[[#This Row],[IdEstablecimiento]],'[1]Establecimiento 2023'!$A$1:$E$183,5,FALSE),0)","v":"04102-Coquimbo"},"15050500","2022-07-14T14:06:26",1,null,1,1]
[{"$nulls":23},6,"5",2022,"105322",{"$f":"IFERROR(VLOOKUP(Tabla_SERIED_12_5[[#This Row],[IdEstablecimiento]],'[1]Establecimiento 2023'!$A$1:$E$183,3,FALSE),0)","v":"105322-Centro de Salud Familiar Marcos Macuada"},{"$f":"IFERROR(VLOOKUP(Tabla_SERIED_12_5[[#This Row],[IdEstablecimiento]],'[1]Establecimiento 2023'!$A$1:$E$183,5,FALSE),0)","v":"04301-Ovalle"},"15900010","2022-07-14T14:06:39",166.5,2.7,34.2,129.6]
[{"$nulls":23},6,"5",2022,"105322",{"$f":"IFERROR(VLOOKUP(Tabla_SERIED_12_5[[#This Row],[IdEstablecimiento]],'[1]Establecimiento 2023'!$A$1:$E$183,3,FALSE),0)","v":"105322-Centro de Salud Familiar Marcos Macuada"},{"$f":"IFERROR(VLOOKUP(Tabla_SERIED_12_5[[#This Row],[IdEstablecimiento]],'[1]Establecimiento 2023'!$A$1:$E$183,5,FALSE),0)","v":"04301-Ovalle"},"15050500","2022-07-14T14:06:39",3,2,1,2,1]
[{"$nulls":23},6,"5",2022,"105323",{"$f":"IFERROR(VLOOKUP(Tabla_SERIED_12_5[[#This Row],[IdEstablecimiento]],'[1]Establecimiento 2023'!$A$1:$E$183,3,FALSE),0)","v":"105323-Centro de Salud Familiar Dr. Sergio Aguilar Delgado"},{"$f":"IFERROR(VLOOKUP(Tabla_SERIED_12_5[[#This Row],[IdEstablecimiento]],'[1]Establecimiento 2023'!$A$1:$E$183,5,FALSE),0)","v":"04102-Coquimbo"},"15010100","2022-07-14T14:06:51",114,{"$nulls":3},110,4]
[{"$nulls":23},4,"5",2022,"105300",{"$f":"IFERROR(VLOOKUP(Tabla_SERIED_12_5[[#This Row],[IdEstablecimiento]],'[1]Establecimiento 2023'!$A$1:$E$183,3,FALSE),0)","v":"105300-Centro de Salud Familiar Cardenal Caro"},{"$f":"IFERROR(VLOOKUP(Tabla_SERIED_12_5[[#This Row],[IdEstablecimiento]],'[1]Establecimiento 2023'!$A$1:$E$183,5,FALSE),0)","v":"04101-La Serena"},"15900010","2022-05-18T11:49:12",139.2,null,22.4,116.8]
[{"$nulls":23},5,"5",2022,"105454",{"$f":"IFERROR(VLOOKUP(Tabla_SERIED_12_5[[#This Row],[IdEstablecimiento]],'[1]Establecimiento 2023'!$A$1:$E$183,3,FALSE),0)","v":"105454-Posta de Salud Rural Cunlagua"},{"$f":"IFERROR(VLOOKUP(Tabla_SERIED_12_5[[#This Row],[IdEstablecimiento]],'[1]Establecimiento 2023'!$A$1:$E$183,5,FALSE),0)","v":"04204-Salamanca"},"16200210","2022-06-22T10:50:19",3,3]
[{"$nulls":23},6,"5",2022,"200538",{"$f":"IFERROR(VLOOKUP(Tabla_SERIED_12_5[[#This Row],[IdEstablecimiento]],'[1]Establecimiento 2023'!$A$1:$E$183,3,FALSE),0)","v":"200538-Centro de Salud Familiar San Isidro Calingasta"},{"$f":"IFERROR(VLOOKUP(Tabla_SERIED_12_5[[#This Row],[IdEstablecimiento]],'[1]Establecimiento 2023'!$A$1:$E$183,5,FALSE),0)","v":"04106-Vicuña"},"15050100","2022-07-14T14:44:26",99,41,58,null,2,16,9,13,14,17,7,null,6,14,1]
[{"$nulls":23},6,"5",2022,"105491",{"$f":"IFERROR(VLOOKUP(Tabla_SERIED_12_5[[#This Row],[IdEstablecimiento]],'[1]Establecimiento 2023'!$A$1:$E$183,3,FALSE),0)","v":"105491-Posta de Salud Rural Quelén Bajo"},{"$f":"IFERROR(VLOOKUP(Tabla_SERIED_12_5[[#This Row],[IdEstablecimiento]],'[1]Establecimiento 2023'!$A$1:$E$183,5,FALSE),0)","v":"04204-Salamanca"},"16200220","2022-07-14T14:33:54",7,4,3]
[{"$nulls":23},6,"5",2022,"105492",{"$f":"IFERROR(VLOOKUP(Tabla_SERIED_12_5[[#This Row],[IdEstablecimiento]],'[1]Establecimiento 2023'!$A$1:$E$183,3,FALSE),0)","v":"105492-Posta de Salud Rural Camisa"},{"$f":"IFERROR(VLOOKUP(Tabla_SERIED_12_5[[#This Row],[IdEstablecimiento]],'[1]Establecimiento 2023'!$A$1:$E$183,5,FALSE),0)","v":"04204-Salamanca"},"15010100","2022-07-14T14:34:16",2,{"$nulls":3},2]
[{"$nulls":23},5,"5",2022,"105450",{"$f":"IFERROR(VLOOKUP(Tabla_SERIED_12_5[[#This Row],[IdEstablecimiento]],'[1]Establecimiento 2023'!$A$1:$E$183,3,FALSE),0)","v":"105450-Posta de Salud Rural Mincha Norte"},{"$f":"IFERROR(VLOOKUP(Tabla_SERIED_12_5[[#This Row],[IdEstablecimiento]],'[1]Establecimiento 2023'!$A$1:$E$183,5,FALSE),0)","v":"04202-Canela"},"15010500","2022-06-20T17:18:52",2,{"$nulls":5},2]
[{"$nulls":23},5,"5",2022,"105450",{"$f":"IFERROR(VLOOKUP(Tabla_SERIED_12_5[[#This Row],[IdEstablecimiento]],'[1]Establecimiento 2023'!$A$1:$E$183,3,FALSE),0)","v":"105450-Posta de Salud Rural Mincha Norte"},{"$f":"IFERROR(VLOOKUP(Tabla_SERIED_12_5[[#This Row],[IdEstablecimiento]],'[1]Establecimiento 2023'!$A$1:$E$183,5,FALSE),0)","v":"04202-Canela"},"16200220","2022-06-20T17:18:52",20,10,10,0,0]
[{"$nulls":23},6,"5",2022,"105405",{"$f":"IFERROR(VLOOKUP(Tabla_SERIED_12_5[[#This Row],[IdEstablecimiento]],'[1]Establecimiento 2023'!$A$1:$E$183,3,FALSE),0)","v":"105405-Posta de Salud Rural Guanaqueros"},{"$f":"IFERROR(VLOOKUP(Tabla_SERIED_12_5[[#This Row],[IdEstablecimiento]],'[1]Establecimiento 2023'!$A$1:$E$183,5,FALSE),0)","v":"04102-Coquimbo"},"16100300","2022-07-14T14:08:38",61,30,31,1,9]
[{"$nulls":23},6,"5",2022,"105407",{"$f":"IFERROR(VLOOKUP(Tabla_SERIED_12_5[[#This Row],[IdEstablecimiento]],'[1]Establecimiento 2023'!$A$1:$E$183,3,FALSE),0)","v":"105407-Posta de Salud Rural Tambillo"},{"$f":"IFERROR(VLOOKUP(Tabla_SERIED_12_5[[#This Row],[IdEstablecimiento]],'[1]Establecimiento 2023'!$A$1:$E$183,5,FALSE),0)","v":"04102-Coquimbo"},"16200220","2022-07-14T14:08:50",5,1,4]
[{"$nulls":23},6,"5",2022,"105510",{"$f":"IFERROR(VLOOKUP(Tabla_SERIED_12_5[[#This Row],[IdEstablecimiento]],'[1]Establecimiento 2023'!$A$1:$E$183,3,FALSE),0)","v":"105510-Posta de Salud Rural Recoleta"},{"$f":"IFERROR(VLOOKUP(Tabla_SERIED_12_5[[#This Row],[IdEstablecimiento]],'[1]Establecimiento 2023'!$A$1:$E$183,5,FALSE),0)","v":"04301-Ovalle"},"16200210","2022-07-14T14:37:26",10,10]
[{"$nulls":23},6,"5",2022,"105511",{"$f":"IFERROR(VLOOKUP(Tabla_SERIED_12_5[[#This Row],[IdEstablecimiento]],'[1]Establecimiento 2023'!$A$1:$E$183,3,FALSE),0)","v":"105511-Posta de Salud Rural Los Cóndores"},{"$f":"IFERROR(VLOOKUP(Tabla_SERIED_12_5[[#This Row],[IdEstablecimiento]],'[1]Establecimiento 2023'!$A$1:$E$183,5,FALSE),0)","v":"04203-Los Vilos"},"15050100","2022-07-14T14:37:41",39,22,19,1,1,8,8,3,11,7,0]
[{"$nulls":23},6,"5",2022,"105700",{"$f":"IFERROR(VLOOKUP(Tabla_SERIED_12_5[[#This Row],[IdEstablecimiento]],'[1]Establecimiento 2023'!$A$1:$E$183,3,FALSE),0)","v":"105700-Centro Comunitario de Salud Familiar Villa el Indio"},{"$f":"IFERROR(VLOOKUP(Tabla_SERIED_12_5[[#This Row],[IdEstablecimiento]],'[1]Establecimiento 2023'!$A$1:$E$183,5,FALSE),0)","v":"04101-La Serena"},"15080008","2022-07-14T14:38:07",13,{"$nulls":7},7,null,6]
[{"$nulls":23},6,"5",2022,"105700",{"$f":"IFERROR(VLOOKUP(Tabla_SERIED_12_5[[#This Row],[IdEstablecimiento]],'[1]Establecimiento 2023'!$A$1:$E$183,3,FALSE),0)","v":"105700-Centro Comunitario de Salud Familiar Villa el Indio"},{"$f":"IFERROR(VLOOKUP(Tabla_SERIED_12_5[[#This Row],[IdEstablecimiento]],'[1]Establecimiento 2023'!$A$1:$E$183,5,FALSE),0)","v":"04101-La Serena"},"15900010","2022-07-14T14:38:07",9.6,null,3.2,6.4]
[{"$nulls":23},6,"5",2022,"200402",{"$f":"IFERROR(VLOOKUP(Tabla_SERIED_12_5[[#This Row],[IdEstablecimiento]],'[1]Establecimiento 2023'!$A$1:$E$183,3,FALSE),0)","v":"200402-Centro Comunitario de Salud Familiar Arcos de Pinamar"},{"$f":"IFERROR(VLOOKUP(Tabla_SERIED_12_5[[#This Row],[IdEstablecimiento]],'[1]Establecimiento 2023'!$A$1:$E$183,5,FALSE),0)","v":"04101-La Serena"},"16200220","2022-07-14T14:43:40",2,0,2,0,0]
[{"$nulls":23},1,"5",2022,"105323",{"$f":"IFERROR(VLOOKUP(Tabla_SERIED_12_5[[#This Row],[IdEstablecimiento]],'[1]Establecimiento 2023'!$A$1:$E$183,3,FALSE),0)","v":"105323-Centro de Salud Familiar Dr. Sergio Aguilar Delgado"},{"$f":"IFERROR(VLOOKUP(Tabla_SERIED_12_5[[#This Row],[IdEstablecimiento]],'[1]Establecimiento 2023'!$A$1:$E$183,5,FALSE),0)","v":"04102-Coquimbo"},"15010200","2022-02-16T10:50:56",411,{"$nulls":4},86,160,165]
[{"$nulls":23},4,"5",2022,"105401",{"$f":"IFERROR(VLOOKUP(Tabla_SERIED_12_5[[#This Row],[IdEstablecimiento]],'[1]Establecimiento 2023'!$A$1:$E$183,3,FALSE),0)","v":"105401-Posta de Salud Rural Las Rojas"},{"$f":"IFERROR(VLOOKUP(Tabla_SERIED_12_5[[#This Row],[IdEstablecimiento]],'[1]Establecimiento 2023'!$A$1:$E$183,5,FALSE),0)","v":"04101-La Serena"},"15900010","2022-05-18T11:55:15",1.6,null,1.6]
[{"$nulls":23},2,"5",2022,"105302",{"$f":"IFERROR(VLOOKUP(Tabla_SERIED_12_5[[#This Row],[IdEstablecimiento]],'[1]Establecimiento 2023'!$A$1:$E$183,3,FALSE),0)","v":"105302-Centro de Salud Familiar Pedro Aguirre Cerda"},{"$f":"IFERROR(VLOOKUP(Tabla_SERIED_12_5[[#This Row],[IdEstablecimiento]],'[1]Establecimiento 2023'!$A$1:$E$183,5,FALSE),0)","v":"04101-La Serena"},"15060100","2022-03-17T09:26:58",17,4,13,0,0,1,1,3,6,6]
[{"$nulls":23},7,"5",2022,"105422",{"$f":"IFERROR(VLOOKUP(Tabla_SERIED_12_5[[#This Row],[IdEstablecimiento]],'[1]Establecimiento 2023'!$A$1:$E$183,3,FALSE),0)","v":"105422-Posta de Salud Rural Hornillos"},{"$f":"IFERROR(VLOOKUP(Tabla_SERIED_12_5[[#This Row],[IdEstablecimiento]],'[1]Establecimiento 2023'!$A$1:$E$183,5,FALSE),0)","v":"04301-Ovalle"},"16100300","2022-08-22T05:42:20",39,16,23,null,4]
[{"$nulls":23},7,"5",2022,"200607",{"$f":"IFERROR(VLOOKUP(Tabla_SERIED_12_5[[#This Row],[IdEstablecimiento]],'[1]Establecimiento 2023'!$A$1:$E$183,3,FALSE),0)","v":"200607-Centro de Salud Familiar Lila Cortés Godoy"},{"$f":"IFERROR(VLOOKUP(Tabla_SERIED_12_5[[#This Row],[IdEstablecimiento]],'[1]Establecimiento 2023'!$A$1:$E$183,5,FALSE),0)","v":"04102-Coquimbo"},"15020100","2022-08-22T06:52:05",2,0,0,2,0,0]
[{"$nulls":23},4,"5",2022,"105307",{"$f":"IFERROR(VLOOKUP(Tabla_SERIED_12_5[[#This Row],[IdEstablecimiento]],'[1]Establecimiento 2023'!$A$1:$E$183,3,FALSE),0)","v":"105307-Centro de Salud Familiar Monte Patria"},{"$f":"IFERROR(VLOOKUP(Tabla_SERIED_12_5[[#This Row],[IdEstablecimiento]],'[1]Establecimiento 2023'!$A$1:$E$183,5,FALSE),0)","v":"04303-Monte Patria"},"15901400","2022-05-18T11:50:38",1,1,0,{"$nulls":3},1]
[{"$nulls":23},4,"5",2022,"105307",{"$f":"IFERROR(VLOOKUP(Tabla_SERIED_12_5[[#This Row],[IdEstablecimiento]],'[1]Establecimiento 2023'!$A$1:$E$183,3,FALSE),0)","v":"105307-Centro de Salud Familiar Monte Patria"},{"$f":"IFERROR(VLOOKUP(Tabla_SERIED_12_5[[#This Row],[IdEstablecimiento]],'[1]Establecimiento 2023'!$A$1:$E$183,5,FALSE),0)","v":"04303-Monte Patria"},"16090300","2022-05-18T11:50:38",243,243]
[{"$nulls":23},3,"5",2022,"105701",{"$f":"IFERROR(VLOOKUP(Tabla_SERIED_12_5[[#This Row],[IdEstablecimiento]],'[1]Establecimiento 2023'!$A$1:$E$183,3,FALSE),0)","v":"105701-Centro Comunitario de Salud Familiar Villa Alemania"},{"$f":"IFERROR(VLOOKUP(Tabla_SERIED_12_5[[#This Row],[IdEstablecimiento]],'[1]Establecimiento 2023'!$A$1:$E$183,5,FALSE),0)","v":"04101-La Serena"},"16090300","2022-04-19T10:12:14",23,23]
[{"$nulls":23},8,"5",2022,"105323",{"$f":"IFERROR(VLOOKUP(Tabla_SERIED_12_5[[#This Row],[IdEstablecimiento]],'[1]Establecimiento 2023'!$A$1:$E$183,3,FALSE),0)","v":"105323-Centro de Salud Familiar Dr. Sergio Aguilar Delgado"},{"$f":"IFERROR(VLOOKUP(Tabla_SERIED_12_5[[#This Row],[IdEstablecimiento]],'[1]Establecimiento 2023'!$A$1:$E$183,5,FALSE),0)","v":"04102-Coquimbo"},"15060600","2022-09-21T07:19:45",1,null,1,null,1]
[{"$nulls":23},8,"5",2022,"105323",{"$f":"IFERROR(VLOOKUP(Tabla_SERIED_12_5[[#This Row],[IdEstablecimiento]],'[1]Establecimiento 2023'!$A$1:$E$183,3,FALSE),0)","v":"105323-Centro de Salud Familiar Dr. Sergio Aguilar Delgado"},{"$f":"IFERROR(VLOOKUP(Tabla_SERIED_12_5[[#This Row],[IdEstablecimiento]],'[1]Establecimiento 2023'!$A$1:$E$183,5,FALSE),0)","v":"04102-Coquimbo"},"16200230","2022-09-21T07:19:45",1,null,1]
[{"$nulls":23},3,"5",2022,"105500",{"$f":"IFERROR(VLOOKUP(Tabla_SERIED_12_5[[#This Row],[IdEstablecimiento]],'[1]Establecimiento 2023'!$A$1:$E$183,3,FALSE),0)","v":"105500-Posta de Salud Rural Caleta Hornos"},{"$f":"IFERROR(VLOOKUP(Tabla_SERIED_12_5[[#This Row],[IdEstablecimiento]],'[1]Establecimiento 2023'!$A$1:$E$183,5,FALSE),0)","v":"04104-La Higuera"},"15010200","2022-04-19T10:09:15",32,{"$nulls":4},2,16,14]
[{"$nulls":23},3,"5",2022,"200494",{"$f":"IFERROR(VLOOKUP(Tabla_SERIED_12_5[[#This Row],[IdEstablecimiento]],'[1]Establecimiento 2023'!$A$1:$E$183,3,FALSE),0)","v":"200494-Centro de Salud Familiar El Sauce"},{"$f":"IFERROR(VLOOKUP(Tabla_SERIED_12_5[[#This Row],[IdEstablecimiento]],'[1]Establecimiento 2023'!$A$1:$E$183,5,FALSE),0)","v":"04102-Coquimbo"},"15060100","2022-04-19T10:15:21",3,1,2,{"$nulls":5},2,1]
[{"$nulls":23},3,"5",2022,"105444",{"$f":"IFERROR(VLOOKUP(Tabla_SERIED_12_5[[#This Row],[IdEstablecimiento]],'[1]Establecimiento 2023'!$A$1:$E$183,3,FALSE),0)","v":"105444-Posta de Salud Rural Huintil"},{"$f":"IFERROR(VLOOKUP(Tabla_SERIED_12_5[[#This Row],[IdEstablecimiento]],'[1]Establecimiento 2023'!$A$1:$E$183,5,FALSE),0)","v":"04201-Illapel"},"16100300","2022-04-19T09:45:57",50,23,27]
[{"$nulls":23},3,"5",2022,"105702",{"$f":"IFERROR(VLOOKUP(Tabla_SERIED_12_5[[#This Row],[IdEstablecimiento]],'[1]Establecimiento 2023'!$A$1:$E$183,3,FALSE),0)","v":"105702-Centro Comunitario de Salud Familiar Lambert"},{"$f":"IFERROR(VLOOKUP(Tabla_SERIED_12_5[[#This Row],[IdEstablecimiento]],'[1]Establecimiento 2023'!$A$1:$E$183,5,FALSE),0)","v":"04101-La Serena"},"15050100","2022-04-19T10:12:38",57,27,30,null,2,9,8,10,9,12,6,null,1]
[{"$nulls":23},2,"5",2022,"105306",{"$f":"IFERROR(VLOOKUP(Tabla_SERIED_12_5[[#This Row],[IdEstablecimiento]],'[1]Establecimiento 2023'!$A$1:$E$183,3,FALSE),0)","v":"105306-Centro de Salud Familiar Paihuano"},{"$f":"IFERROR(VLOOKUP(Tabla_SERIED_12_5[[#This Row],[IdEstablecimiento]],'[1]Establecimiento 2023'!$A$1:$E$183,5,FALSE),0)","v":"04105-Paiguano"},"15010500","2022-03-17T09:27:56",2,{"$nulls":4},2]
[{"$nulls":23},2,"5",2022,"105500",{"$f":"IFERROR(VLOOKUP(Tabla_SERIED_12_5[[#This Row],[IdEstablecimiento]],'[1]Establecimiento 2023'!$A$1:$E$183,3,FALSE),0)","v":"105500-Posta de Salud Rural Caleta Hornos"},{"$f":"IFERROR(VLOOKUP(Tabla_SERIED_12_5[[#This Row],[IdEstablecimiento]],'[1]Establecimiento 2023'!$A$1:$E$183,5,FALSE),0)","v":"04104-La Higuera"},"15900010","2022-06-22T11:16:10",9,6,null,3]
[{"$nulls":23},2,"5",2022,"105501",{"$f":"IFERROR(VLOOKUP(Tabla_SERIED_12_5[[#This Row],[IdEstablecimiento]],'[1]Establecimiento 2023'!$A$1:$E$183,3,FALSE),0)","v":"105501-Posta de Salud Rural Arboleda Grande"},{"$f":"IFERROR(VLOOKUP(Tabla_SERIED_12_5[[#This Row],[IdEstablecimiento]],'[1]Establecimiento 2023'!$A$1:$E$183,5,FALSE),0)","v":"04204-Salamanca"},"16090300","2022-03-17T10:00:56",93,93]
[{"$nulls":23},6,"5",2022,"105319",{"$f":"IFERROR(VLOOKUP(Tabla_SERIED_12_5[[#This Row],[IdEstablecimiento]],'[1]Establecimiento 2023'!$A$1:$E$183,3,FALSE),0)","v":"105319-Centro de Salud Familiar Cardenal Raúl Silva Henríquez de La Serena"},{"$f":"IFERROR(VLOOKUP(Tabla_SERIED_12_5[[#This Row],[IdEstablecimiento]],'[1]Establecimiento 2023'!$A$1:$E$183,5,FALSE),0)","v":"04101-La Serena"},"16090300","2022-07-14T14:06:14",520,520]
[{"$nulls":23},4,"5",2022,"200367",{"$f":"IFERROR(VLOOKUP(Tabla_SERIED_12_5[[#This Row],[IdEstablecimiento]],'[1]Establecimiento 2023'!$A$1:$E$183,3,FALSE),0)","v":"200367-Centro Comunitario de Salud Familiar Colonia Limarí"},{"$f":"IFERROR(VLOOKUP(Tabla_SERIED_12_5[[#This Row],[IdEstablecimiento]],'[1]Establecimiento 2023'!$A$1:$E$183,5,FALSE),0)","v":"04301-Ovalle"},"15010500","2022-05-18T15:27:19",4,null,null,2,null,null,2]
[{"$nulls":23},1,"5",2022,"105323",{"$f":"IFERROR(VLOOKUP(Tabla_SERIED_12_5[[#This Row],[IdEstablecimiento]],'[1]Establecimiento 2023'!$A$1:$E$183,3,FALSE),0)","v":"105323-Centro de Salud Familiar Dr. Sergio Aguilar Delgado"},{"$f":"IFERROR(VLOOKUP(Tabla_SERIED_12_5[[#This Row],[IdEstablecimiento]],'[1]Establecimiento 2023'!$A$1:$E$183,5,FALSE),0)","v":"04102-Coquimbo"},"15010500","2022-02-16T10:50:56",32,null,null,8,10,4,10]
[{"$nulls":23},4,"5",2022,"200607",{"$f":"IFERROR(VLOOKUP(Tabla_SERIED_12_5[[#This Row],[IdEstablecimiento]],'[1]Establecimiento 2023'!$A$1:$E$183,3,FALSE),0)","v":"200607-Centro de Salud Familiar Lila Cortés Godoy"},{"$f":"IFERROR(VLOOKUP(Tabla_SERIED_12_5[[#This Row],[IdEstablecimiento]],'[1]Establecimiento 2023'!$A$1:$E$183,5,FALSE),0)","v":"04102-Coquimbo"},"15080009","2022-05-18T15:29:00",3,{"$nulls":8},3,0,0,0]
[{"$nulls":23},4,"5",2022,"200607",{"$f":"IFERROR(VLOOKUP(Tabla_SERIED_12_5[[#This Row],[IdEstablecimiento]],'[1]Establecimiento 2023'!$A$1:$E$183,3,FALSE),0)","v":"200607-Centro de Salud Familiar Lila Cortés Godoy"},{"$f":"IFERROR(VLOOKUP(Tabla_SERIED_12_5[[#This Row],[IdEstablecimiento]],'[1]Establecimiento 2023'!$A$1:$E$183,5,FALSE),0)","v":"04102-Coquimbo"},"15020200","2022-05-18T15:29:00",4,{"$nulls":4},2,2,0]
[{"$nulls":23},4,"5",2022,"105104",{"$f":"IFERROR(VLOOKUP(Tabla_SERIED_12_5[[#This Row],[IdEstablecimiento]],'[1]Establecimiento 2023'!$A$1:$E$183,3,FALSE),0)","v":"105104-Hospital de Salamanca"},{"$f":"IFERROR(VLOOKUP(Tabla_SERIED_12_5[[#This Row],[IdEstablecimiento]],'[1]Establecimiento 2023'!$A$1:$E$183,5,FALSE),0)","v":"105104-Hospital Salamanca"},"15080008","2022-05-18T11:48:00",62,{"$nulls":7},41,null,16,2,3]
[{"$nulls":23},2,"5",2022,"105104",{"$f":"IFERROR(VLOOKUP(Tabla_SERIED_12_5[[#This Row],[IdEstablecimiento]],'[1]Establecimiento 2023'!$A$1:$E$183,3,FALSE),0)","v":"105104-Hospital de Salamanca"},{"$f":"IFERROR(VLOOKUP(Tabla_SERIED_12_5[[#This Row],[IdEstablecimiento]],'[1]Establecimiento 2023'!$A$1:$E$183,5,FALSE),0)","v":"105104-Hospital Salamanca"},"15020200","2022-03-17T10:48:27",12,{"$nulls":4},0,12,0]
[{"$nulls":23},4,"5",2022,"105467",{"$f":"IFERROR(VLOOKUP(Tabla_SERIED_12_5[[#This Row],[IdEstablecimiento]],'[1]Establecimiento 2023'!$A$1:$E$183,3,FALSE),0)","v":"105467-Posta de Salud Rural Diaguitas"},{"$f":"IFERROR(VLOOKUP(Tabla_SERIED_12_5[[#This Row],[IdEstablecimiento]],'[1]Establecimiento 2023'!$A$1:$E$183,5,FALSE),0)","v":"04106-Vicuña"},"15050200","2022-05-18T15:11:19",2,2,{"$nulls":4},1,null,null,1]
[{"$nulls":23},4,"5",2022,"105468",{"$f":"IFERROR(VLOOKUP(Tabla_SERIED_12_5[[#This Row],[IdEstablecimiento]],'[1]Establecimiento 2023'!$A$1:$E$183,3,FALSE),0)","v":"105468-Posta de Salud Rural El Molle"},{"$f":"IFERROR(VLOOKUP(Tabla_SERIED_12_5[[#This Row],[IdEstablecimiento]],'[1]Establecimiento 2023'!$A$1:$E$183,5,FALSE),0)","v":"04106-Vicuña"},"15050100","2022-05-18T15:11:32",19,8,11,{"$nulls":3},6,1,6,2,2,null,null,1,1]
[{"$nulls":23},3,"5",2022,"105484",{"$f":"IFERROR(VLOOKUP(Tabla_SERIED_12_5[[#This Row],[IdEstablecimiento]],'[1]Establecimiento 2023'!$A$1:$E$183,3,FALSE),0)","v":"105484-Posta de Salud Rural Huentelauquén"},{"$f":"IFERROR(VLOOKUP(Tabla_SERIED_12_5[[#This Row],[IdEstablecimiento]],'[1]Establecimiento 2023'!$A$1:$E$183,5,FALSE),0)","v":"04202-Canela"},"16200100","2022-04-19T10:06:03",1,1,0,0,0]
[{"$nulls":23},3,"5",2022,"105700",{"$f":"IFERROR(VLOOKUP(Tabla_SERIED_12_5[[#This Row],[IdEstablecimiento]],'[1]Establecimiento 2023'!$A$1:$E$183,3,FALSE),0)","v":"105700-Centro Comunitario de Salud Familiar Villa el Indio"},{"$f":"IFERROR(VLOOKUP(Tabla_SERIED_12_5[[#This Row],[IdEstablecimiento]],'[1]Establecimiento 2023'!$A$1:$E$183,5,FALSE),0)","v":"04101-La Serena"},"15080008","2022-04-19T10:12:01",8,{"$nulls":7},4,null,4]
[{"$nulls":23},7,"5",2022,"105434",{"$f":"IFERROR(VLOOKUP(Tabla_SERIED_12_5[[#This Row],[IdEstablecimiento]],'[1]Establecimiento 2023'!$A$1:$E$183,3,FALSE),0)","v":"105434-Posta de Salud Rural San Marcos (Combarbalá)"},{"$f":"IFERROR(VLOOKUP(Tabla_SERIED_12_5[[#This Row],[IdEstablecimiento]],'[1]Establecimiento 2023'!$A$1:$E$183,5,FALSE),0)","v":"04302-Combarbalá"},"16100300","2022-08-22T05:49:51",31,12,19,null,30]
[{"$nulls":23},7,"5",2022,"105435",{"$f":"IFERROR(VLOOKUP(Tabla_SERIED_12_5[[#This Row],[IdEstablecimiento]],'[1]Establecimiento 2023'!$A$1:$E$183,3,FALSE),0)","v":"105435-Posta de Salud Rural Tulahuén"},{"$f":"IFERROR(VLOOKUP(Tabla_SERIED_12_5[[#This Row],[IdEstablecimiento]],'[1]Establecimiento 2023'!$A$1:$E$183,5,FALSE),0)","v":"04303-Monte Patria"},"15080008","2022-08-22T05:50:06",4,{"$nulls":7},2,null,2]
[{"$nulls":23},8,"5",2022,"105511",{"$f":"IFERROR(VLOOKUP(Tabla_SERIED_12_5[[#This Row],[IdEstablecimiento]],'[1]Establecimiento 2023'!$A$1:$E$183,3,FALSE),0)","v":"105511-Posta de Salud Rural Los Cóndores"},{"$f":"IFERROR(VLOOKUP(Tabla_SERIED_12_5[[#This Row],[IdEstablecimiento]],'[1]Establecimiento 2023'!$A$1:$E$183,5,FALSE),0)","v":"04203-Los Vilos"},"15010200","2022-09-21T08:00:04",44,{"$nulls":4},10,18,16]
[{"$nulls":23},2,"5",2022,"105313",{"$f":"IFERROR(VLOOKUP(Tabla_SERIED_12_5[[#This Row],[IdEstablecimiento]],'[1]Establecimiento 2023'!$A$1:$E$183,3,FALSE),0)","v":"105313-Centro de Salud Familiar Dr. Emilio Schaffhauser"},{"$f":"IFERROR(VLOOKUP(Tabla_SERIED_12_5[[#This Row],[IdEstablecimiento]],'[1]Establecimiento 2023'!$A$1:$E$183,5,FALSE),0)","v":"04101-La Serena"},"16100100","2022-03-17T09:29:40",23,10,13,0,0]
[{"$nulls":23},4,"5",2022,"105313",{"$f":"IFERROR(VLOOKUP(Tabla_SERIED_12_5[[#This Row],[IdEstablecimiento]],'[1]Establecimiento 2023'!$A$1:$E$183,3,FALSE),0)","v":"105313-Centro de Salud Familiar Dr. Emilio Schaffhauser"},{"$f":"IFERROR(VLOOKUP(Tabla_SERIED_12_5[[#This Row],[IdEstablecimiento]],'[1]Establecimiento 2023'!$A$1:$E$183,5,FALSE),0)","v":"04101-La Serena"},"15901400","2022-05-18T11:51:54",5,3,2,null,2,1,null,2]
[{"$nulls":23},1,"5",2022,"105452",{"$f":"IFERROR(VLOOKUP(Tabla_SERIED_12_5[[#This Row],[IdEstablecimiento]],'[1]Establecimiento 2023'!$A$1:$E$183,3,FALSE),0)","v":"105452-Posta de Salud Rural Cuncumén(Salamanca)"},{"$f":"IFERROR(VLOOKUP(Tabla_SERIED_12_5[[#This Row],[IdEstablecimiento]],'[1]Establecimiento 2023'!$A$1:$E$183,5,FALSE),0)","v":"04204-Salamanca"},"16100300","2022-02-16T11:35:53",29,13,16]
[{"$nulls":23},5,"5",2022,"105305",{"$f":"IFERROR(VLOOKUP(Tabla_SERIED_12_5[[#This Row],[IdEstablecimiento]],'[1]Establecimiento 2023'!$A$1:$E$183,3,FALSE),0)","v":"105305-Centro de Salud Familiar Tierras Blancas"},{"$f":"IFERROR(VLOOKUP(Tabla_SERIED_12_5[[#This Row],[IdEstablecimiento]],'[1]Establecimiento 2023'!$A$1:$E$183,5,FALSE),0)","v":"04102-Coquimbo"},"15050500","2022-06-20T17:00:49",2,null,2,null,null,2]
[{"$nulls":23},2,"5",2022,"105318",{"$f":"IFERROR(VLOOKUP(Tabla_SERIED_12_5[[#This Row],[IdEstablecimiento]],'[1]Establecimiento 2023'!$A$1:$E$183,3,FALSE),0)","v":"105318-Centro de Salud Familiar El Palqui"},{"$f":"IFERROR(VLOOKUP(Tabla_SERIED_12_5[[#This Row],[IdEstablecimiento]],'[1]Establecimiento 2023'!$A$1:$E$183,5,FALSE),0)","v":"04303-Monte Patria"},"15900050","2022-03-17T09:30:35",2,null,2,null,1,1]
[{"$nulls":23},2,"5",2022,"105507",{"$f":"IFERROR(VLOOKUP(Tabla_SERIED_12_5[[#This Row],[IdEstablecimiento]],'[1]Establecimiento 2023'!$A$1:$E$183,3,FALSE),0)","v":"105507-Posta de Salud Rural Huamalata"},{"$f":"IFERROR(VLOOKUP(Tabla_SERIED_12_5[[#This Row],[IdEstablecimiento]],'[1]Establecimiento 2023'!$A$1:$E$183,5,FALSE),0)","v":"04301-Ovalle"},"16090300","2022-03-17T10:02:21",104,104]
[{"$nulls":23},6,"5",2022,"105315",{"$f":"IFERROR(VLOOKUP(Tabla_SERIED_12_5[[#This Row],[IdEstablecimiento]],'[1]Establecimiento 2023'!$A$1:$E$183,3,FALSE),0)","v":"105315-Centro de Salud Familiar Cerrillos de Tamaya"},{"$f":"IFERROR(VLOOKUP(Tabla_SERIED_12_5[[#This Row],[IdEstablecimiento]],'[1]Establecimiento 2023'!$A$1:$E$183,5,FALSE),0)","v":"04301-Ovalle"},"15050200","2022-07-14T14:05:21",4,null,4,{"$nulls":4},1,{"$nulls":3},3]
[{"$nulls":23},6,"5",2022,"105315",{"$f":"IFERROR(VLOOKUP(Tabla_SERIED_12_5[[#This Row],[IdEstablecimiento]],'[1]Establecimiento 2023'!$A$1:$E$183,3,FALSE),0)","v":"105315-Centro de Salud Familiar Cerrillos de Tamaya"},{"$f":"IFERROR(VLOOKUP(Tabla_SERIED_12_5[[#This Row],[IdEstablecimiento]],'[1]Establecimiento 2023'!$A$1:$E$183,5,FALSE),0)","v":"04301-Ovalle"},"15900050","2022-07-14T14:05:21",2,2,0,null,2]
[{"$nulls":23},8,"5",2022,"105511",{"$f":"IFERROR(VLOOKUP(Tabla_SERIED_12_5[[#This Row],[IdEstablecimiento]],'[1]Establecimiento 2023'!$A$1:$E$183,3,FALSE),0)","v":"105511-Posta de Salud Rural Los Cóndores"},{"$f":"IFERROR(VLOOKUP(Tabla_SERIED_12_5[[#This Row],[IdEstablecimiento]],'[1]Establecimiento 2023'!$A$1:$E$183,5,FALSE),0)","v":"04203-Los Vilos"},"15010400","2022-09-21T08:00:04",2,{"$nulls":4},2,null,0]
[{"$nulls":23},8,"5",2022,"105511",{"$f":"IFERROR(VLOOKUP(Tabla_SERIED_12_5[[#This Row],[IdEstablecimiento]],'[1]Establecimiento 2023'!$A$1:$E$183,3,FALSE),0)","v":"105511-Posta de Salud Rural Los Cóndores"},{"$f":"IFERROR(VLOOKUP(Tabla_SERIED_12_5[[#This Row],[IdEstablecimiento]],'[1]Establecimiento 2023'!$A$1:$E$183,5,FALSE),0)","v":"04203-Los Vilos"},"16100600","2022-09-21T08:00:04",1,0,1,0,0]
[{"$nulls":23},8,"5",2022,"105304",{"$f":"IFERROR(VLOOKUP(Tabla_SERIED_12_5[[#This Row],[IdEstablecimiento]],'[1]Establecimiento 2023'!$A$1:$E$183,3,FALSE),0)","v":"105304-Centro de Salud Familiar Santa Cecilia"},{"$f":"IFERROR(VLOOKUP(Tabla_SERIED_12_5[[#This Row],[IdEstablecimiento]],'[1]Establecimiento 2023'!$A$1:$E$183,5,FALSE),0)","v":"04102-Coquimbo"},"15010100","2022-09-21T07:15:45",143,{"$nulls":3},138,0,null,null,3,null,2]
[{"$nulls":23},2,"5",2022,"200499",{"$f":"IFERROR(VLOOKUP(Tabla_SERIED_12_5[[#This Row],[IdEstablecimiento]],'[1]Establecimiento 2023'!$A$1:$E$183,3,FALSE),0)","v":"200499-Centro de Salud Familiar Rural Pan de Azúcar"},{"$f":"IFERROR(VLOOKUP(Tabla_SERIED_12_5[[#This Row],[IdEstablecimiento]],'[1]Establecimiento 2023'!$A$1:$E$183,5,FALSE),0)","v":"04102-Coquimbo"},"16090300","2022-03-17T10:09:21",302,302]
[{"$nulls":23},2,"5",2022,"200569",{"$f":"IFERROR(VLOOKUP(Tabla_SERIED_12_5[[#This Row],[IdEstablecimiento]],'[1]Establecimiento 2023'!$A$1:$E$183,3,FALSE),0)","v":"200569-Centro de Salud Familiar Fray Jorge"},{"$f":"IFERROR(VLOOKUP(Tabla_SERIED_12_5[[#This Row],[IdEstablecimiento]],'[1]Establecimiento 2023'!$A$1:$E$183,5,FALSE),0)","v":"04301-Ovalle"},"15900020","2022-03-17T10:09:48",3.2,null,null,3.2]
[{"$nulls":23},4,"5",2022,"105473",{"$f":"IFERROR(VLOOKUP(Tabla_SERIED_12_5[[#This Row],[IdEstablecimiento]],'[1]Establecimiento 2023'!$A$1:$E$183,3,FALSE),0)","v":"105473-Posta de Salud Rural Talcuna"},{"$f":"IFERROR(VLOOKUP(Tabla_SERIED_12_5[[#This Row],[IdEstablecimiento]],'[1]Establecimiento 2023'!$A$1:$E$183,5,FALSE),0)","v":"04106-Vicuña"},"16200220","2022-05-18T15:12:46",2,1,1,null,4]
[{"$nulls":23},4,"5",2022,"105722",{"$f":"IFERROR(VLOOKUP(Tabla_SERIED_12_5[[#This Row],[IdEstablecimiento]],'[1]Establecimiento 2023'!$A$1:$E$183,3,FALSE),0)","v":"105722-Centro Comunitario de Salud Familiar San José de la Dehesa"},{"$f":"IFERROR(VLOOKUP(Tabla_SERIED_12_5[[#This Row],[IdEstablecimiento]],'[1]Establecimiento 2023'!$A$1:$E$183,5,FALSE),0)","v":"04301-Ovalle"},"15010100","2022-05-18T15:23:27",34,{"$nulls":3},34]
[{"$nulls":23},3,"5",2022,"105435",{"$f":"IFERROR(VLOOKUP(Tabla_SERIED_12_5[[#This Row],[IdEstablecimiento]],'[1]Establecimiento 2023'!$A$1:$E$183,3,FALSE),0)","v":"105435-Posta de Salud Rural Tulahuén"},{"$f":"IFERROR(VLOOKUP(Tabla_SERIED_12_5[[#This Row],[IdEstablecimiento]],'[1]Establecimiento 2023'!$A$1:$E$183,5,FALSE),0)","v":"04303-Monte Patria"},"16200220","2022-04-19T09:44:03",3,2,1]
[{"$nulls":23},2,"5",2022,"105469",{"$f":"IFERROR(VLOOKUP(Tabla_SERIED_12_5[[#This Row],[IdEstablecimiento]],'[1]Establecimiento 2023'!$A$1:$E$183,3,FALSE),0)","v":"105469-Posta de Salud Rural El Tambo (Vicuña)"},{"$f":"IFERROR(VLOOKUP(Tabla_SERIED_12_5[[#This Row],[IdEstablecimiento]],'[1]Establecimiento 2023'!$A$1:$E$183,5,FALSE),0)","v":"04106-Vicuña"},"16100300","2022-03-17T09:50:05",31,9,22,null,12]
[{"$nulls":23},4,"5",2022,"105476",{"$f":"IFERROR(VLOOKUP(Tabla_SERIED_12_5[[#This Row],[IdEstablecimiento]],'[1]Establecimiento 2023'!$A$1:$E$183,3,FALSE),0)","v":"105476-Posta de Salud Rural Monte Grande"},{"$f":"IFERROR(VLOOKUP(Tabla_SERIED_12_5[[#This Row],[IdEstablecimiento]],'[1]Establecimiento 2023'!$A$1:$E$183,5,FALSE),0)","v":"04105-Paiguano"},"15010100","2022-05-18T15:13:25",4,{"$nulls":3},4]
[{"$nulls":23},5,"5",2022,"105456",{"$f":"IFERROR(VLOOKUP(Tabla_SERIED_12_5[[#This Row],[IdEstablecimiento]],'[1]Establecimiento 2023'!$A$1:$E$183,3,FALSE),0)","v":"105456-Posta de Salud Rural Llimpo"},{"$f":"IFERROR(VLOOKUP(Tabla_SERIED_12_5[[#This Row],[IdEstablecimiento]],'[1]Establecimiento 2023'!$A$1:$E$183,5,FALSE),0)","v":"04204-Salamanca"},"16200220","2022-06-22T10:50:48",2,2]
[{"$nulls":23},5,"5",2022,"105105",{"$f":"IFERROR(VLOOKUP(Tabla_SERIED_12_5[[#This Row],[IdEstablecimiento]],'[1]Establecimiento 2023'!$A$1:$E$183,3,FALSE),0)","v":"105105-Hospital San Juan de Dios (Combarbalá)"},{"$f":"IFERROR(VLOOKUP(Tabla_SERIED_12_5[[#This Row],[IdEstablecimiento]],'[1]Establecimiento 2023'!$A$1:$E$183,5,FALSE),0)","v":"105105-Hospital Combarbalá"},"15010400","2022-06-20T16:55:29",18,{"$nulls":4},2,14,2]
[{"$nulls":23},4,"5",2022,"105305",{"$f":"IFERROR(VLOOKUP(Tabla_SERIED_12_5[[#This Row],[IdEstablecimiento]],'[1]Establecimiento 2023'!$A$1:$E$183,3,FALSE),0)","v":"105305-Centro de Salud Familiar Tierras Blancas"},{"$f":"IFERROR(VLOOKUP(Tabla_SERIED_12_5[[#This Row],[IdEstablecimiento]],'[1]Establecimiento 2023'!$A$1:$E$183,5,FALSE),0)","v":"04102-Coquimbo"},"15080009","2022-05-18T11:50:14",9,{"$nulls":8},9]
[{"$nulls":23},2,"5",2022,"105401",{"$f":"IFERROR(VLOOKUP(Tabla_SERIED_12_5[[#This Row],[IdEstablecimiento]],'[1]Establecimiento 2023'!$A$1:$E$183,3,FALSE),0)","v":"105401-Posta de Salud Rural Las Rojas"},{"$f":"IFERROR(VLOOKUP(Tabla_SERIED_12_5[[#This Row],[IdEstablecimiento]],'[1]Establecimiento 2023'!$A$1:$E$183,5,FALSE),0)","v":"04101-La Serena"},"15080008","2022-03-17T09:32:48",4,{"$nulls":7},4]
[{"$nulls":23},1,"5",2022,"105104",{"$f":"IFERROR(VLOOKUP(Tabla_SERIED_12_5[[#This Row],[IdEstablecimiento]],'[1]Establecimiento 2023'!$A$1:$E$183,3,FALSE),0)","v":"105104-Hospital de Salamanca"},{"$f":"IFERROR(VLOOKUP(Tabla_SERIED_12_5[[#This Row],[IdEstablecimiento]],'[1]Establecimiento 2023'!$A$1:$E$183,5,FALSE),0)","v":"105104-Hospital Salamanca"},"16090300","2022-02-16T10:28:29",318,318]
[{"$nulls":23},1,"5",2022,"105104",{"$f":"IFERROR(VLOOKUP(Tabla_SERIED_12_5[[#This Row],[IdEstablecimiento]],'[1]Establecimiento 2023'!$A$1:$E$183,3,FALSE),0)","v":"105104-Hospital de Salamanca"},{"$f":"IFERROR(VLOOKUP(Tabla_SERIED_12_5[[#This Row],[IdEstablecimiento]],'[1]Establecimiento 2023'!$A$1:$E$183,5,FALSE),0)","v":"105104-Hospital Salamanca"},"16200210","2022-02-16T10:28:29",6,6]
[{"$nulls":23},2,"5",2022,"105319",{"$f":"IFERROR(VLOOKUP(Tabla_SERIED_12_5[[#This Row],[IdEstablecimiento]],'[1]Establecimiento 2023'!$A$1:$E$183,3,FALSE),0)","v":"105319-Centro de Salud Familiar Cardenal Raúl Silva Henríquez de La Serena"},{"$f":"IFERROR(VLOOKUP(Tabla_SERIED_12_5[[#This Row],[IdEstablecimiento]],'[1]Establecimiento 2023'!$A$1:$E$183,5,FALSE),0)","v":"04101-La Serena"},"15050100","2022-03-17T09:30:49",530,212,318,null,21,44,70,67,135,99,68,null,14,1,11]
[{"$nulls":23},5,"5",2022,"105445",{"$f":"IFERROR(VLOOKUP(Tabla_SERIED_12_5[[#This Row],[IdEstablecimiento]],'[1]Establecimiento 2023'!$A$1:$E$183,3,FALSE),0)","v":"105445-Posta de Salud Rural Limáhuida"},{"$f":"IFERROR(VLOOKUP(Tabla_SERIED_12_5[[#This Row],[IdEstablecimiento]],'[1]Establecimiento 2023'!$A$1:$E$183,5,FALSE),0)","v":"04201-Illapel"},"15050100","2022-06-20T17:17:34",21,12,9,null,null,2,1,3,6,8,{"$nulls":4},1]
[{"$nulls":23},8,"5",2022,"105304",{"$f":"IFERROR(VLOOKUP(Tabla_SERIED_12_5[[#This Row],[IdEstablecimiento]],'[1]Establecimiento 2023'!$A$1:$E$183,3,FALSE),0)","v":"105304-Centro de Salud Familiar Santa Cecilia"},{"$f":"IFERROR(VLOOKUP(Tabla_SERIED_12_5[[#This Row],[IdEstablecimiento]],'[1]Establecimiento 2023'!$A$1:$E$183,5,FALSE),0)","v":"04102-Coquimbo"},"15900030","2022-09-21T07:15:45",9.6,0,4,2.4,3.2,0]
[{"$nulls":23},8,"5",2022,"105304",{"$f":"IFERROR(VLOOKUP(Tabla_SERIED_12_5[[#This Row],[IdEstablecimiento]],'[1]Establecimiento 2023'!$A$1:$E$183,3,FALSE),0)","v":"105304-Centro de Salud Familiar Santa Cecilia"},{"$f":"IFERROR(VLOOKUP(Tabla_SERIED_12_5[[#This Row],[IdEstablecimiento]],'[1]Establecimiento 2023'!$A$1:$E$183,5,FALSE),0)","v":"04102-Coquimbo"},"15901200","2022-09-21T07:15:45",6.4,0,0,0,3.2,3.2]
[{"$nulls":23},5,"5",2022,"105446",{"$f":"IFERROR(VLOOKUP(Tabla_SERIED_12_5[[#This Row],[IdEstablecimiento]],'[1]Establecimiento 2023'!$A$1:$E$183,3,FALSE),0)","v":"105446-Posta de Salud Rural Matancilla"},{"$f":"IFERROR(VLOOKUP(Tabla_SERIED_12_5[[#This Row],[IdEstablecimiento]],'[1]Establecimiento 2023'!$A$1:$E$183,5,FALSE),0)","v":"04201-Illapel"},"15010200","2022-06-20T17:17:48",4,{"$nulls":5},4]
[{"$nulls":23},2,"5",2022,"105490",{"$f":"IFERROR(VLOOKUP(Tabla_SERIED_12_5[[#This Row],[IdEstablecimiento]],'[1]Establecimiento 2023'!$A$1:$E$183,3,FALSE),0)","v":"105490-Posta de Salud Rural El Durazno(Combarbalá)"},{"$f":"IFERROR(VLOOKUP(Tabla_SERIED_12_5[[#This Row],[IdEstablecimiento]],'[1]Establecimiento 2023'!$A$1:$E$183,5,FALSE),0)","v":"04302-Combarbalá"},"16100300","2022-03-17T09:56:58",37,16,21,1]
[{"$nulls":23},1,"5",2022,"105471",{"$f":"IFERROR(VLOOKUP(Tabla_SERIED_12_5[[#This Row],[IdEstablecimiento]],'[1]Establecimiento 2023'!$A$1:$E$183,3,FALSE),0)","v":"105471-Posta de Salud Rural Peralillo Vicuña"},{"$f":"IFERROR(VLOOKUP(Tabla_SERIED_12_5[[#This Row],[IdEstablecimiento]],'[1]Establecimiento 2023'!$A$1:$E$183,5,FALSE),0)","v":"04106-Vicuña"},"16100300","2022-02-17T03:53:24",55,25,30,null,35]
[{"$nulls":23},1,"5",2022,"105471",{"$f":"IFERROR(VLOOKUP(Tabla_SERIED_12_5[[#This Row],[IdEstablecimiento]],'[1]Establecimiento 2023'!$A$1:$E$183,3,FALSE),0)","v":"105471-Posta de Salud Rural Peralillo Vicuña"},{"$f":"IFERROR(VLOOKUP(Tabla_SERIED_12_5[[#This Row],[IdEstablecimiento]],'[1]Establecimiento 2023'!$A$1:$E$183,5,FALSE),0)","v":"04106-Vicuña"},"16200220","2022-02-17T03:53:24",2,1,1,null,3]
[{"$nulls":23},2,"5",2022,"105307",{"$f":"IFERROR(VLOOKUP(Tabla_SERIED_12_5[[#This Row],[IdEstablecimiento]],'[1]Establecimiento 2023'!$A$1:$E$183,3,FALSE),0)","v":"105307-Centro de Salud Familiar Monte Patria"},{"$f":"IFERROR(VLOOKUP(Tabla_SERIED_12_5[[#This Row],[IdEstablecimiento]],'[1]Establecimiento 2023'!$A$1:$E$183,5,FALSE),0)","v":"04303-Monte Patria"},"15900050","2022-03-17T09:28:11",2,1,1,null,1,null,1]
[{"$nulls":23},2,"5",2022,"105308",{"$f":"IFERROR(VLOOKUP(Tabla_SERIED_12_5[[#This Row],[IdEstablecimiento]],'[1]Establecimiento 2023'!$A$1:$E$183,3,FALSE),0)","v":"105308-Centro de Salud Familiar Punitaqui"},{"$f":"IFERROR(VLOOKUP(Tabla_SERIED_12_5[[#This Row],[IdEstablecimiento]],'[1]Establecimiento 2023'!$A$1:$E$183,5,FALSE),0)","v":"04304-Punitaqui"},"15010100","2022-03-17T09:28:24",46,null,null,6,40]
[{"$nulls":23},2,"5",2022,"105309",{"$f":"IFERROR(VLOOKUP(Tabla_SERIED_12_5[[#This Row],[IdEstablecimiento]],'[1]Establecimiento 2023'!$A$1:$E$183,3,FALSE),0)","v":"105309-Centro de Salud Familiar Canela"},{"$f":"IFERROR(VLOOKUP(Tabla_SERIED_12_5[[#This Row],[IdEstablecimiento]],'[1]Establecimiento 2023'!$A$1:$E$183,5,FALSE),0)","v":"04202-Canela"},"15050500","2022-03-17T09:28:37",2,1,1,1,null,1]
[{"$nulls":23},4,"5",2022,"105313",{"$f":"IFERROR(VLOOKUP(Tabla_SERIED_12_5[[#This Row],[IdEstablecimiento]],'[1]Establecimiento 2023'!$A$1:$E$183,3,FALSE),0)","v":"105313-Centro de Salud Familiar Dr. Emilio Schaffhauser"},{"$f":"IFERROR(VLOOKUP(Tabla_SERIED_12_5[[#This Row],[IdEstablecimiento]],'[1]Establecimiento 2023'!$A$1:$E$183,5,FALSE),0)","v":"04101-La Serena"},"15050100","2022-05-18T11:51:54",466,129,337,8,15,50,50,28,77,58,116,null,28,8,28]
[{"$nulls":23},4,"5",2022,"105439",{"$f":"IFERROR(VLOOKUP(Tabla_SERIED_12_5[[#This Row],[IdEstablecimiento]],'[1]Establecimiento 2023'!$A$1:$E$183,3,FALSE),0)","v":"105439-Posta de Salud Rural Cerro Blanco"},{"$f":"IFERROR(VLOOKUP(Tabla_SERIED_12_5[[#This Row],[IdEstablecimiento]],'[1]Establecimiento 2023'!$A$1:$E$183,5,FALSE),0)","v":"04301-Ovalle"},"16100300","2022-05-18T14:57:30",49,22,27,0,4]
[{"$nulls":23},8,"5",2022,"105317",{"$f":"IFERROR(VLOOKUP(Tabla_SERIED_12_5[[#This Row],[IdEstablecimiento]],'[1]Establecimiento 2023'!$A$1:$E$183,3,FALSE),0)","v":"105317-Centro de Salud Familiar Jorge Jordán Domic"},{"$f":"IFERROR(VLOOKUP(Tabla_SERIED_12_5[[#This Row],[IdEstablecimiento]],'[1]Establecimiento 2023'!$A$1:$E$183,5,FALSE),0)","v":"04301-Ovalle"},"15050200","2022-09-21T07:18:32",14,9,5,1,1,1,null,1,4,4,null,1,null,null,1]
[{"$nulls":23},8,"5",2022,"105317",{"$f":"IFERROR(VLOOKUP(Tabla_SERIED_12_5[[#This Row],[IdEstablecimiento]],'[1]Establecimiento 2023'!$A$1:$E$183,3,FALSE),0)","v":"105317-Centro de Salud Familiar Jorge Jordán Domic"},{"$f":"IFERROR(VLOOKUP(Tabla_SERIED_12_5[[#This Row],[IdEstablecimiento]],'[1]Establecimiento 2023'!$A$1:$E$183,5,FALSE),0)","v":"04301-Ovalle"},"16200220","2022-09-21T07:18:32",92,32,60,5,10]
[{"$nulls":23},8,"5",2022,"105317",{"$f":"IFERROR(VLOOKUP(Tabla_SERIED_12_5[[#This Row],[IdEstablecimiento]],'[1]Establecimiento 2023'!$A$1:$E$183,3,FALSE),0)","v":"105317-Centro de Salud Familiar Jorge Jordán Domic"},{"$f":"IFERROR(VLOOKUP(Tabla_SERIED_12_5[[#This Row],[IdEstablecimiento]],'[1]Establecimiento 2023'!$A$1:$E$183,5,FALSE),0)","v":"04301-Ovalle"},"16200100","2022-09-21T07:18:32",42,26,16,0,8]
[{"$nulls":23},8,"5",2022,"105318",{"$f":"IFERROR(VLOOKUP(Tabla_SERIED_12_5[[#This Row],[IdEstablecimiento]],'[1]Establecimiento 2023'!$A$1:$E$183,3,FALSE),0)","v":"105318-Centro de Salud Familiar El Palqui"},{"$f":"IFERROR(VLOOKUP(Tabla_SERIED_12_5[[#This Row],[IdEstablecimiento]],'[1]Establecimiento 2023'!$A$1:$E$183,5,FALSE),0)","v":"04303-Monte Patria"},"15901500","2022-09-21T07:18:44",7.2,5.4,1.8]
[{"$nulls":23},8,"5",2022,"105318",{"$f":"IFERROR(VLOOKUP(Tabla_SERIED_12_5[[#This Row],[IdEstablecimiento]],'[1]Establecimiento 2023'!$A$1:$E$183,3,FALSE),0)","v":"105318-Centro de Salud Familiar El Palqui"},{"$f":"IFERROR(VLOOKUP(Tabla_SERIED_12_5[[#This Row],[IdEstablecimiento]],'[1]Establecimiento 2023'!$A$1:$E$183,5,FALSE),0)","v":"04303-Monte Patria"},"16200210","2022-09-21T07:18:44",24,24]
[{"$nulls":23},8,"5",2022,"105301",{"$f":"IFERROR(VLOOKUP(Tabla_SERIED_12_5[[#This Row],[IdEstablecimiento]],'[1]Establecimiento 2023'!$A$1:$E$183,3,FALSE),0)","v":"105301-Centro de Salud Familiar Las Compañías"},{"$f":"IFERROR(VLOOKUP(Tabla_SERIED_12_5[[#This Row],[IdEstablecimiento]],'[1]Establecimiento 2023'!$A$1:$E$183,5,FALSE),0)","v":"04101-La Serena"},"16200210","2022-09-21T07:14:54",68,68]
[{"$nulls":23},2,"5",2022,"105309",{"$f":"IFERROR(VLOOKUP(Tabla_SERIED_12_5[[#This Row],[IdEstablecimiento]],'[1]Establecimiento 2023'!$A$1:$E$183,3,FALSE),0)","v":"105309-Centro de Salud Familiar Canela"},{"$f":"IFERROR(VLOOKUP(Tabla_SERIED_12_5[[#This Row],[IdEstablecimiento]],'[1]Establecimiento 2023'!$A$1:$E$183,5,FALSE),0)","v":"04202-Canela"},"16100300","2022-03-17T09:28:37",214,92,122,null,3]
[{"$nulls":23},5,"5",2022,"105489",{"$f":"IFERROR(VLOOKUP(Tabla_SERIED_12_5[[#This Row],[IdEstablecimiento]],'[1]Establecimiento 2023'!$A$1:$E$183,3,FALSE),0)","v":"105489-Posta de Salud Rural Ramadas de Tulahuén"},{"$f":"IFERROR(VLOOKUP(Tabla_SERIED_12_5[[#This Row],[IdEstablecimiento]],'[1]Establecimiento 2023'!$A$1:$E$183,5,FALSE),0)","v":"04303-Monte Patria"},"15050100","2022-06-20T17:25:39",14,4,10,null,null,1,2,1,4,2,1,null,1,null,2]
[{"$nulls":23},5,"5",2022,"105489",{"$f":"IFERROR(VLOOKUP(Tabla_SERIED_12_5[[#This Row],[IdEstablecimiento]],'[1]Establecimiento 2023'!$A$1:$E$183,3,FALSE),0)","v":"105489-Posta de Salud Rural Ramadas de Tulahuén"},{"$f":"IFERROR(VLOOKUP(Tabla_SERIED_12_5[[#This Row],[IdEstablecimiento]],'[1]Establecimiento 2023'!$A$1:$E$183,5,FALSE),0)","v":"04303-Monte Patria"},"16100300","2022-06-20T17:25:39",33,17,16,1,3]
[{"$nulls":23},1,"5",2022,"105105",{"$f":"IFERROR(VLOOKUP(Tabla_SERIED_12_5[[#This Row],[IdEstablecimiento]],'[1]Establecimiento 2023'!$A$1:$E$183,3,FALSE),0)","v":"105105-Hospital San Juan de Dios (Combarbalá)"},{"$f":"IFERROR(VLOOKUP(Tabla_SERIED_12_5[[#This Row],[IdEstablecimiento]],'[1]Establecimiento 2023'!$A$1:$E$183,5,FALSE),0)","v":"105105-Hospital Combarbalá"},"15900010","2022-02-16T10:28:45",24,1.6,7.2,15.2]
[{"$nulls":23},2,"5",2022,"105437",{"$f":"IFERROR(VLOOKUP(Tabla_SERIED_12_5[[#This Row],[IdEstablecimiento]],'[1]Establecimiento 2023'!$A$1:$E$183,3,FALSE),0)","v":"105437-Posta de Salud Rural Chalinga"},{"$f":"IFERROR(VLOOKUP(Tabla_SERIED_12_5[[#This Row],[IdEstablecimiento]],'[1]Establecimiento 2023'!$A$1:$E$183,5,FALSE),0)","v":"04301-Ovalle"},"15900010","2022-03-17T09:40:36",10.4,null,7.2,3.2]
[{"$nulls":23},1,"5",2022,"105317",{"$f":"IFERROR(VLOOKUP(Tabla_SERIED_12_5[[#This Row],[IdEstablecimiento]],'[1]Establecimiento 2023'!$A$1:$E$183,3,FALSE),0)","v":"105317-Centro de Salud Familiar Jorge Jordán Domic"},{"$f":"IFERROR(VLOOKUP(Tabla_SERIED_12_5[[#This Row],[IdEstablecimiento]],'[1]Establecimiento 2023'!$A$1:$E$183,5,FALSE),0)","v":"04301-Ovalle"},"15060100","2022-02-16T10:49:06",5,3,2,{"$nulls":4},1,2,2]
[{"$nulls":23},5,"5",2022,"105105",{"$f":"IFERROR(VLOOKUP(Tabla_SERIED_12_5[[#This Row],[IdEstablecimiento]],'[1]Establecimiento 2023'!$A$1:$E$183,3,FALSE),0)","v":"105105-Hospital San Juan de Dios (Combarbalá)"},{"$f":"IFERROR(VLOOKUP(Tabla_SERIED_12_5[[#This Row],[IdEstablecimiento]],'[1]Establecimiento 2023'!$A$1:$E$183,5,FALSE),0)","v":"105105-Hospital Combarbalá"},"16200210","2022-06-20T16:55:29",36,36]
[{"$nulls":23},4,"5",2022,"105308",{"$f":"IFERROR(VLOOKUP(Tabla_SERIED_12_5[[#This Row],[IdEstablecimiento]],'[1]Establecimiento 2023'!$A$1:$E$183,3,FALSE),0)","v":"105308-Centro de Salud Familiar Punitaqui"},{"$f":"IFERROR(VLOOKUP(Tabla_SERIED_12_5[[#This Row],[IdEstablecimiento]],'[1]Establecimiento 2023'!$A$1:$E$183,5,FALSE),0)","v":"04304-Punitaqui"},"15050100","2022-05-18T11:50:51",316,136,180,1,6,21,41,32,74,68,48,null,12,null,13]
[{"$nulls":23},5,"5",2022,"200569",{"$f":"IFERROR(VLOOKUP(Tabla_SERIED_12_5[[#This Row],[IdEstablecimiento]],'[1]Establecimiento 2023'!$A$1:$E$183,3,FALSE),0)","v":"200569-Centro de Salud Familiar Fray Jorge"},{"$f":"IFERROR(VLOOKUP(Tabla_SERIED_12_5[[#This Row],[IdEstablecimiento]],'[1]Establecimiento 2023'!$A$1:$E$183,5,FALSE),0)","v":"04301-Ovalle"},"15010100","2022-06-20T17:37:44",138,{"$nulls":3},134,4]
[{"$nulls":23},3,"5",2022,"105313",{"$f":"IFERROR(VLOOKUP(Tabla_SERIED_12_5[[#This Row],[IdEstablecimiento]],'[1]Establecimiento 2023'!$A$1:$E$183,3,FALSE),0)","v":"105313-Centro de Salud Familiar Dr. Emilio Schaffhauser"},{"$f":"IFERROR(VLOOKUP(Tabla_SERIED_12_5[[#This Row],[IdEstablecimiento]],'[1]Establecimiento 2023'!$A$1:$E$183,5,FALSE),0)","v":"04101-La Serena"},"16090300","2022-04-19T08:09:04",830,830]
[{"$nulls":23},1,"5",2022,"105469",{"$f":"IFERROR(VLOOKUP(Tabla_SERIED_12_5[[#This Row],[IdEstablecimiento]],'[1]Establecimiento 2023'!$A$1:$E$183,3,FALSE),0)","v":"105469-Posta de Salud Rural El Tambo (Vicuña)"},{"$f":"IFERROR(VLOOKUP(Tabla_SERIED_12_5[[#This Row],[IdEstablecimiento]],'[1]Establecimiento 2023'!$A$1:$E$183,5,FALSE),0)","v":"04106-Vicuña"},"16200210","2022-02-17T03:52:42",1,1]
[{"$nulls":23},5,"5",2022,"200569",{"$f":"IFERROR(VLOOKUP(Tabla_SERIED_12_5[[#This Row],[IdEstablecimiento]],'[1]Establecimiento 2023'!$A$1:$E$183,3,FALSE),0)","v":"200569-Centro de Salud Familiar Fray Jorge"},{"$f":"IFERROR(VLOOKUP(Tabla_SERIED_12_5[[#This Row],[IdEstablecimiento]],'[1]Establecimiento 2023'!$A$1:$E$183,5,FALSE),0)","v":"04301-Ovalle"},"15010300","2022-06-20T17:37:44",6,{"$nulls":3},6]
[{"$nulls":23},8,"5",2022,"105324",{"$f":"IFERROR(VLOOKUP(Tabla_SERIED_12_5[[#This Row],[IdEstablecimiento]],'[1]Establecimiento 2023'!$A$1:$E$183,3,FALSE),0)","v":"105324-Centro de Salud Familiar Sotaquí"},{"$f":"IFERROR(VLOOKUP(Tabla_SERIED_12_5[[#This Row],[IdEstablecimiento]],'[1]Establecimiento 2023'!$A$1:$E$183,5,FALSE),0)","v":"04301-Ovalle"},"15050200","2022-09-21T07:19:58",4,1,3,{"$nulls":5},1,3]
[{"$nulls":23},3,"5",2022,"200569",{"$f":"IFERROR(VLOOKUP(Tabla_SERIED_12_5[[#This Row],[IdEstablecimiento]],'[1]Establecimiento 2023'!$A$1:$E$183,3,FALSE),0)","v":"200569-Centro de Salud Familiar Fray Jorge"},{"$f":"IFERROR(VLOOKUP(Tabla_SERIED_12_5[[#This Row],[IdEstablecimiento]],'[1]Establecimiento 2023'!$A$1:$E$183,5,FALSE),0)","v":"04301-Ovalle"},"15050200","2022-04-19T10:17:03",23,9,14,null,null,1,3,5,9,2,null,3]
[{"$nulls":23},3,"5",2022,"105469",{"$f":"IFERROR(VLOOKUP(Tabla_SERIED_12_5[[#This Row],[IdEstablecimiento]],'[1]Establecimiento 2023'!$A$1:$E$183,3,FALSE),0)","v":"105469-Posta de Salud Rural El Tambo (Vicuña)"},{"$f":"IFERROR(VLOOKUP(Tabla_SERIED_12_5[[#This Row],[IdEstablecimiento]],'[1]Establecimiento 2023'!$A$1:$E$183,5,FALSE),0)","v":"04106-Vicuña"},"15900050","2022-04-19T10:02:06",1,1,{"$nulls":4},1]
[{"$nulls":23},5,"5",2022,"105312",{"$f":"IFERROR(VLOOKUP(Tabla_SERIED_12_5[[#This Row],[IdEstablecimiento]],'[1]Establecimiento 2023'!$A$1:$E$183,3,FALSE),0)","v":"105312-Centro de Salud Familiar Carén"},{"$f":"IFERROR(VLOOKUP(Tabla_SERIED_12_5[[#This Row],[IdEstablecimiento]],'[1]Establecimiento 2023'!$A$1:$E$183,5,FALSE),0)","v":"04303-Monte Patria"},"15080008","2022-06-20T17:03:13",14,{"$nulls":7},6,null,6,null,2]
[{"$nulls":23},5,"5",2022,"105324",{"$f":"IFERROR(VLOOKUP(Tabla_SERIED_12_5[[#This Row],[IdEstablecimiento]],'[1]Establecimiento 2023'!$A$1:$E$183,3,FALSE),0)","v":"105324-Centro de Salud Familiar Sotaquí"},{"$f":"IFERROR(VLOOKUP(Tabla_SERIED_12_5[[#This Row],[IdEstablecimiento]],'[1]Establecimiento 2023'!$A$1:$E$183,5,FALSE),0)","v":"04301-Ovalle"},"15010100","2022-06-20T17:05:26",32,{"$nulls":3},30,{"$nulls":5},2]
[{"$nulls":23},5,"5",2022,"105484",{"$f":"IFERROR(VLOOKUP(Tabla_SERIED_12_5[[#This Row],[IdEstablecimiento]],'[1]Establecimiento 2023'!$A$1:$E$183,3,FALSE),0)","v":"105484-Posta de Salud Rural Huentelauquén"},{"$f":"IFERROR(VLOOKUP(Tabla_SERIED_12_5[[#This Row],[IdEstablecimiento]],'[1]Establecimiento 2023'!$A$1:$E$183,5,FALSE),0)","v":"04202-Canela"},"15080008","2022-06-20T17:24:39",1,{"$nulls":7},1]
[{"$nulls":23},5,"5",2022,"105317",{"$f":"IFERROR(VLOOKUP(Tabla_SERIED_12_5[[#This Row],[IdEstablecimiento]],'[1]Establecimiento 2023'!$A$1:$E$183,3,FALSE),0)","v":"105317-Centro de Salud Familiar Jorge Jordán Domic"},{"$f":"IFERROR(VLOOKUP(Tabla_SERIED_12_5[[#This Row],[IdEstablecimiento]],'[1]Establecimiento 2023'!$A$1:$E$183,5,FALSE),0)","v":"04301-Ovalle"},"15900030","2022-06-20T17:04:08",28.4,4,3.2,13.2,2.8,2.8,2.4]
[{"$nulls":23},6,"5",2022,"105701",{"$f":"IFERROR(VLOOKUP(Tabla_SERIED_12_5[[#This Row],[IdEstablecimiento]],'[1]Establecimiento 2023'!$A$1:$E$183,3,FALSE),0)","v":"105701-Centro Comunitario de Salud Familiar Villa Alemania"},{"$f":"IFERROR(VLOOKUP(Tabla_SERIED_12_5[[#This Row],[IdEstablecimiento]],'[1]Establecimiento 2023'!$A$1:$E$183,5,FALSE),0)","v":"04101-La Serena"},"15900030","2022-07-14T14:38:22",7.2,null,4.4,null,2.8]
[{"$nulls":23},6,"5",2022,"105701",{"$f":"IFERROR(VLOOKUP(Tabla_SERIED_12_5[[#This Row],[IdEstablecimiento]],'[1]Establecimiento 2023'!$A$1:$E$183,3,FALSE),0)","v":"105701-Centro Comunitario de Salud Familiar Villa Alemania"},{"$f":"IFERROR(VLOOKUP(Tabla_SERIED_12_5[[#This Row],[IdEstablecimiento]],'[1]Establecimiento 2023'!$A$1:$E$183,5,FALSE),0)","v":"04101-La Serena"},"15050100","2022-07-14T14:38:22",49,32,17,null,1,7,3,7,11,11,8,null,1]
[{"$nulls":23},6,"5",2022,"105701",{"$f":"IFERROR(VLOOKUP(Tabla_SERIED_12_5[[#This Row],[IdEstablecimiento]],'[1]Establecimiento 2023'!$A$1:$E$183,3,FALSE),0)","v":"105701-Centro Comunitario de Salud Familiar Villa Alemania"},{"$f":"IFERROR(VLOOKUP(Tabla_SERIED_12_5[[#This Row],[IdEstablecimiento]],'[1]Establecimiento 2023'!$A$1:$E$183,5,FALSE),0)","v":"04101-La Serena"},"16100600","2022-07-14T14:38:22",4,3,1]
[{"$nulls":23},6,"5",2022,"105702",{"$f":"IFERROR(VLOOKUP(Tabla_SERIED_12_5[[#This Row],[IdEstablecimiento]],'[1]Establecimiento 2023'!$A$1:$E$183,3,FALSE),0)","v":"105702-Centro Comunitario de Salud Familiar Lambert"},{"$f":"IFERROR(VLOOKUP(Tabla_SERIED_12_5[[#This Row],[IdEstablecimiento]],'[1]Establecimiento 2023'!$A$1:$E$183,5,FALSE),0)","v":"04101-La Serena"},"15080008","2022-07-14T14:38:35",7,{"$nulls":7},7]
[{"$nulls":23},6,"5",2022,"105323",{"$f":"IFERROR(VLOOKUP(Tabla_SERIED_12_5[[#This Row],[IdEstablecimiento]],'[1]Establecimiento 2023'!$A$1:$E$183,3,FALSE),0)","v":"105323-Centro de Salud Familiar Dr. Sergio Aguilar Delgado"},{"$f":"IFERROR(VLOOKUP(Tabla_SERIED_12_5[[#This Row],[IdEstablecimiento]],'[1]Establecimiento 2023'!$A$1:$E$183,5,FALSE),0)","v":"04102-Coquimbo"},"16100300","2022-07-14T14:06:51",990,371,619,21,174]
[{"$nulls":23},3,"5",2022,"200402",{"$f":"IFERROR(VLOOKUP(Tabla_SERIED_12_5[[#This Row],[IdEstablecimiento]],'[1]Establecimiento 2023'!$A$1:$E$183,3,FALSE),0)","v":"200402-Centro Comunitario de Salud Familiar Arcos de Pinamar"},{"$f":"IFERROR(VLOOKUP(Tabla_SERIED_12_5[[#This Row],[IdEstablecimiento]],'[1]Establecimiento 2023'!$A$1:$E$183,5,FALSE),0)","v":"04101-La Serena"},"15060100","2022-04-19T10:15:08",2,null,2,null,null,1,{"$nulls":4},1]
[{"$nulls":23},4,"5",2022,"105313",{"$f":"IFERROR(VLOOKUP(Tabla_SERIED_12_5[[#This Row],[IdEstablecimiento]],'[1]Establecimiento 2023'!$A$1:$E$183,3,FALSE),0)","v":"105313-Centro de Salud Familiar Dr. Emilio Schaffhauser"},{"$f":"IFERROR(VLOOKUP(Tabla_SERIED_12_5[[#This Row],[IdEstablecimiento]],'[1]Establecimiento 2023'!$A$1:$E$183,5,FALSE),0)","v":"04101-La Serena"},"16100700","2022-05-18T11:51:54",1,1,0,0,0]
[{"$nulls":23},1,"5",2022,"200607",{"$f":"IFERROR(VLOOKUP(Tabla_SERIED_12_5[[#This Row],[IdEstablecimiento]],'[1]Establecimiento 2023'!$A$1:$E$183,3,FALSE),0)","v":"200607-Centro de Salud Familiar Lila Cortés Godoy"},{"$f":"IFERROR(VLOOKUP(Tabla_SERIED_12_5[[#This Row],[IdEstablecimiento]],'[1]Establecimiento 2023'!$A$1:$E$183,5,FALSE),0)","v":"04102-Coquimbo"},"16200220","2022-02-17T08:06:34",26,12,14,1,18]
[{"$nulls":23},7,"5",2022,"105411",{"$f":"IFERROR(VLOOKUP(Tabla_SERIED_12_5[[#This Row],[IdEstablecimiento]],'[1]Establecimiento 2023'!$A$1:$E$183,3,FALSE),0)","v":"105411-Posta de Salud Rural Las Breas (Río Hurtado)"},{"$f":"IFERROR(VLOOKUP(Tabla_SERIED_12_5[[#This Row],[IdEstablecimiento]],'[1]Establecimiento 2023'!$A$1:$E$183,5,FALSE),0)","v":"04305-Río Hurtado"},"16200220","2022-08-19T13:09:24",1,1,0,0,0]
[{"$nulls":23},8,"5",2022,"105106",{"$f":"IFERROR(VLOOKUP(Tabla_SERIED_12_5[[#This Row],[IdEstablecimiento]],'[1]Establecimiento 2023'!$A$1:$E$183,3,FALSE),0)","v":"105106-Hospital Dr. José Arraño (Andacollo)"},{"$f":"IFERROR(VLOOKUP(Tabla_SERIED_12_5[[#This Row],[IdEstablecimiento]],'[1]Establecimiento 2023'!$A$1:$E$183,5,FALSE),0)","v":"105106-Hospital Andacollo"},"16090300","2022-09-21T07:13:54",362,362]
[{"$nulls":23},1,"5",2022,"105472",{"$f":"IFERROR(VLOOKUP(Tabla_SERIED_12_5[[#This Row],[IdEstablecimiento]],'[1]Establecimiento 2023'!$A$1:$E$183,3,FALSE),0)","v":"105472-Posta de Salud Rural Rivadavia"},{"$f":"IFERROR(VLOOKUP(Tabla_SERIED_12_5[[#This Row],[IdEstablecimiento]],'[1]Establecimiento 2023'!$A$1:$E$183,5,FALSE),0)","v":"04106-Vicuña"},"16090300","2022-02-17T03:53:43",45,45]
[{"$nulls":23},2,"5",2022,"105425",{"$f":"IFERROR(VLOOKUP(Tabla_SERIED_12_5[[#This Row],[IdEstablecimiento]],'[1]Establecimiento 2023'!$A$1:$E$183,3,FALSE),0)","v":"105425-Posta de Salud Rural Chilecito"},{"$f":"IFERROR(VLOOKUP(Tabla_SERIED_12_5[[#This Row],[IdEstablecimiento]],'[1]Establecimiento 2023'!$A$1:$E$183,5,FALSE),0)","v":"04303-Monte Patria"},"16090300","2022-05-18T15:46:03",80,80]
[{"$nulls":23},2,"5",2022,"105455",{"$f":"IFERROR(VLOOKUP(Tabla_SERIED_12_5[[#This Row],[IdEstablecimiento]],'[1]Establecimiento 2023'!$A$1:$E$183,3,FALSE),0)","v":"105455-CESFAM Valle Alto"},{"$f":"IFERROR(VLOOKUP(Tabla_SERIED_12_5[[#This Row],[IdEstablecimiento]],'[1]Establecimiento 2023'!$A$1:$E$183,5,FALSE),0)","v":"04204-Salamanca"},"15010100","2022-03-17T09:45:06",6,{"$nulls":3},6]
[{"$nulls":23},1,"5",2022,"105499",{"$f":"IFERROR(VLOOKUP(Tabla_SERIED_12_5[[#This Row],[IdEstablecimiento]],'[1]Establecimiento 2023'!$A$1:$E$183,3,FALSE),0)","v":"105499-Posta de Salud Rural Lambert"},{"$f":"IFERROR(VLOOKUP(Tabla_SERIED_12_5[[#This Row],[IdEstablecimiento]],'[1]Establecimiento 2023'!$A$1:$E$183,5,FALSE),0)","v":"04101-La Serena"},"15900010","2022-02-17T04:14:59",10.4,null,3.2,7.2]
[{"$nulls":23},6,"5",2022,"105105",{"$f":"IFERROR(VLOOKUP(Tabla_SERIED_12_5[[#This Row],[IdEstablecimiento]],'[1]Establecimiento 2023'!$A$1:$E$183,3,FALSE),0)","v":"105105-Hospital San Juan de Dios (Combarbalá)"},{"$f":"IFERROR(VLOOKUP(Tabla_SERIED_12_5[[#This Row],[IdEstablecimiento]],'[1]Establecimiento 2023'!$A$1:$E$183,5,FALSE),0)","v":"105105-Hospital Combarbalá"},"15010300","2022-07-14T13:33:36",2,{"$nulls":3},2]
[{"$nulls":23},1,"5",2022,"105108",{"$f":"IFERROR(VLOOKUP(Tabla_SERIED_12_5[[#This Row],[IdEstablecimiento]],'[1]Establecimiento 2023'!$A$1:$E$183,3,FALSE),0)","v":"105108-Hospital San Pedro (Los Vilos)"},{"$f":"IFERROR(VLOOKUP(Tabla_SERIED_12_5[[#This Row],[IdEstablecimiento]],'[1]Establecimiento 2023'!$A$1:$E$183,5,FALSE),0)","v":"105108-Hospital Los Vilos"},"16100300","2022-05-18T15:37:40",192,89,103,18,112]
[{"$nulls":23},7,"5",2022,"105313",{"$f":"IFERROR(VLOOKUP(Tabla_SERIED_12_5[[#This Row],[IdEstablecimiento]],'[1]Establecimiento 2023'!$A$1:$E$183,3,FALSE),0)","v":"105313-Centro de Salud Familiar Dr. Emilio Schaffhauser"},{"$f":"IFERROR(VLOOKUP(Tabla_SERIED_12_5[[#This Row],[IdEstablecimiento]],'[1]Establecimiento 2023'!$A$1:$E$183,5,FALSE),0)","v":"04101-La Serena"},"15900010","2022-08-19T12:00:48",394.6,66,76,252.6]
[{"$nulls":23},7,"5",2022,"105313",{"$f":"IFERROR(VLOOKUP(Tabla_SERIED_12_5[[#This Row],[IdEstablecimiento]],'[1]Establecimiento 2023'!$A$1:$E$183,3,FALSE),0)","v":"105313-Centro de Salud Familiar Dr. Emilio Schaffhauser"},{"$f":"IFERROR(VLOOKUP(Tabla_SERIED_12_5[[#This Row],[IdEstablecimiento]],'[1]Establecimiento 2023'!$A$1:$E$183,5,FALSE),0)","v":"04101-La Serena"},"15010400","2022-08-19T12:00:48",6,{"$nulls":4},2,4]
[{"$nulls":23},1,"5",2022,"200569",{"$f":"IFERROR(VLOOKUP(Tabla_SERIED_12_5[[#This Row],[IdEstablecimiento]],'[1]Establecimiento 2023'!$A$1:$E$183,3,FALSE),0)","v":"200569-Centro de Salud Familiar Fray Jorge"},{"$f":"IFERROR(VLOOKUP(Tabla_SERIED_12_5[[#This Row],[IdEstablecimiento]],'[1]Establecimiento 2023'!$A$1:$E$183,5,FALSE),0)","v":"04301-Ovalle"},"15050100","2022-02-17T04:38:37",464,165,299,7,11,40,50,45,107,78,60,null,39,9,18]
[{"$nulls":23},6,"5",2022,"105723",{"$f":"IFERROR(VLOOKUP(Tabla_SERIED_12_5[[#This Row],[IdEstablecimiento]],'[1]Establecimiento 2023'!$A$1:$E$183,3,FALSE),0)","v":"105723-Centro Comunitario de Salud Familiar Limarí"},{"$f":"IFERROR(VLOOKUP(Tabla_SERIED_12_5[[#This Row],[IdEstablecimiento]],'[1]Establecimiento 2023'!$A$1:$E$183,5,FALSE),0)","v":"04301-Ovalle"},"15900040","2022-07-14T14:40:18",4.4,null,4.4]
[{"$nulls":23},2,"5",2022,"105701",{"$f":"IFERROR(VLOOKUP(Tabla_SERIED_12_5[[#This Row],[IdEstablecimiento]],'[1]Establecimiento 2023'!$A$1:$E$183,3,FALSE),0)","v":"105701-Centro Comunitario de Salud Familiar Villa Alemania"},{"$f":"IFERROR(VLOOKUP(Tabla_SERIED_12_5[[#This Row],[IdEstablecimiento]],'[1]Establecimiento 2023'!$A$1:$E$183,5,FALSE),0)","v":"04101-La Serena"},"15010200","2022-03-17T10:04:57",36,{"$nulls":4},6,16,14]
[{"$nulls":23},4,"5",2022,"105432",{"$f":"IFERROR(VLOOKUP(Tabla_SERIED_12_5[[#This Row],[IdEstablecimiento]],'[1]Establecimiento 2023'!$A$1:$E$183,3,FALSE),0)","v":"105432-Posta de Salud Rural Rapel (Monte Patria)"},{"$f":"IFERROR(VLOOKUP(Tabla_SERIED_12_5[[#This Row],[IdEstablecimiento]],'[1]Establecimiento 2023'!$A$1:$E$183,5,FALSE),0)","v":"04303-Monte Patria"},"15080008","2022-05-18T14:56:04",3,{"$nulls":7},2,{"$nulls":3},1]
[{"$nulls":23},6,"5",2022,"105475",{"$f":"IFERROR(VLOOKUP(Tabla_SERIED_12_5[[#This Row],[IdEstablecimiento]],'[1]Establecimiento 2023'!$A$1:$E$183,3,FALSE),0)","v":"105475-Posta de Salud Rural Horcón (Paiguano)"},{"$f":"IFERROR(VLOOKUP(Tabla_SERIED_12_5[[#This Row],[IdEstablecimiento]],'[1]Establecimiento 2023'!$A$1:$E$183,5,FALSE),0)","v":"04105-Paiguano"},"16090500","2022-07-14T14:28:38",1,1]
[{"$nulls":23},6,"5",2022,"105477",{"$f":"IFERROR(VLOOKUP(Tabla_SERIED_12_5[[#This Row],[IdEstablecimiento]],'[1]Establecimiento 2023'!$A$1:$E$183,3,FALSE),0)","v":"105477-Posta de Salud Rural Pisco Elqui"},{"$f":"IFERROR(VLOOKUP(Tabla_SERIED_12_5[[#This Row],[IdEstablecimiento]],'[1]Establecimiento 2023'!$A$1:$E$183,5,FALSE),0)","v":"04105-Paiguano"},"15010100","2022-07-14T14:29:03",2,{"$nulls":3},2]
[{"$nulls":23},6,"5",2022,"105477",{"$f":"IFERROR(VLOOKUP(Tabla_SERIED_12_5[[#This Row],[IdEstablecimiento]],'[1]Establecimiento 2023'!$A$1:$E$183,3,FALSE),0)","v":"105477-Posta de Salud Rural Pisco Elqui"},{"$f":"IFERROR(VLOOKUP(Tabla_SERIED_12_5[[#This Row],[IdEstablecimiento]],'[1]Establecimiento 2023'!$A$1:$E$183,5,FALSE),0)","v":"04105-Paiguano"},"16100300","2022-07-14T14:29:03",21,8,13,1,18]
[{"$nulls":23},6,"5",2022,"105478",{"$f":"IFERROR(VLOOKUP(Tabla_SERIED_12_5[[#This Row],[IdEstablecimiento]],'[1]Establecimiento 2023'!$A$1:$E$183,3,FALSE),0)","v":"105478-Posta de Salud Rural Caimanes"},{"$f":"IFERROR(VLOOKUP(Tabla_SERIED_12_5[[#This Row],[IdEstablecimiento]],'[1]Establecimiento 2023'!$A$1:$E$183,5,FALSE),0)","v":"04203-Los Vilos"},"15010100","2022-07-14T14:29:15",8,{"$nulls":3},8]
[{"$nulls":23},4,"5",2022,"105107",{"$f":"IFERROR(VLOOKUP(Tabla_SERIED_12_5[[#This Row],[IdEstablecimiento]],'[1]Establecimiento 2023'!$A$1:$E$183,3,FALSE),0)","v":"105107-Hospital San Juan de Dios (Vicuña)"},{"$f":"IFERROR(VLOOKUP(Tabla_SERIED_12_5[[#This Row],[IdEstablecimiento]],'[1]Establecimiento 2023'!$A$1:$E$183,5,FALSE),0)","v":"105107-Hospital Vicuña"},"15050100","2022-05-18T11:48:37",215,81,134,2,4,15,24,22,58,37,36,null,11,null,6]
[{"$nulls":23},1,"5",2022,"200258",{"$f":"IFERROR(VLOOKUP(Tabla_SERIED_12_5[[#This Row],[IdEstablecimiento]],'[1]Establecimiento 2023'!$A$1:$E$183,3,FALSE),0)","v":"200258-Centro Comunitario de Salud Familiar Los Copihues"},{"$f":"IFERROR(VLOOKUP(Tabla_SERIED_12_5[[#This Row],[IdEstablecimiento]],'[1]Establecimiento 2023'!$A$1:$E$183,5,FALSE),0)","v":"04301-Ovalle"},"15050100","2022-02-17T04:29:12",81,40,41,0,0,4,10,9,16,24,16,null,0,0,2]
[{"$nulls":23},8,"5",2022,"105107",{"$f":"IFERROR(VLOOKUP(Tabla_SERIED_12_5[[#This Row],[IdEstablecimiento]],'[1]Establecimiento 2023'!$A$1:$E$183,3,FALSE),0)","v":"105107-Hospital San Juan de Dios (Vicuña)"},{"$f":"IFERROR(VLOOKUP(Tabla_SERIED_12_5[[#This Row],[IdEstablecimiento]],'[1]Establecimiento 2023'!$A$1:$E$183,5,FALSE),0)","v":"105107-Hospital Vicuña"},"15010400","2022-09-21T07:14:05",16,{"$nulls":4},2,6,8]
[{"$nulls":23},3,"5",2022,"105499",{"$f":"IFERROR(VLOOKUP(Tabla_SERIED_12_5[[#This Row],[IdEstablecimiento]],'[1]Establecimiento 2023'!$A$1:$E$183,3,FALSE),0)","v":"105499-Posta de Salud Rural Lambert"},{"$f":"IFERROR(VLOOKUP(Tabla_SERIED_12_5[[#This Row],[IdEstablecimiento]],'[1]Establecimiento 2023'!$A$1:$E$183,5,FALSE),0)","v":"04101-La Serena"},"16100300","2022-04-19T10:09:01",12,4,8,1]
[{"$nulls":23},4,"5",2022,"105107",{"$f":"IFERROR(VLOOKUP(Tabla_SERIED_12_5[[#This Row],[IdEstablecimiento]],'[1]Establecimiento 2023'!$A$1:$E$183,3,FALSE),0)","v":"105107-Hospital San Juan de Dios (Vicuña)"},{"$f":"IFERROR(VLOOKUP(Tabla_SERIED_12_5[[#This Row],[IdEstablecimiento]],'[1]Establecimiento 2023'!$A$1:$E$183,5,FALSE),0)","v":"105107-Hospital Vicuña"},"16200210","2022-05-18T11:48:37",4,4]
[{"$nulls":23},3,"5",2022,"105300",{"$f":"IFERROR(VLOOKUP(Tabla_SERIED_12_5[[#This Row],[IdEstablecimiento]],'[1]Establecimiento 2023'!$A$1:$E$183,3,FALSE),0)","v":"105300-Centro de Salud Familiar Cardenal Caro"},{"$f":"IFERROR(VLOOKUP(Tabla_SERIED_12_5[[#This Row],[IdEstablecimiento]],'[1]Establecimiento 2023'!$A$1:$E$183,5,FALSE),0)","v":"04101-La Serena"},"15020200","2022-04-19T08:02:11",58,{"$nulls":4},22,14,22]
[{"$nulls":23},4,"5",2022,"105449",{"$f":"IFERROR(VLOOKUP(Tabla_SERIED_12_5[[#This Row],[IdEstablecimiento]],'[1]Establecimiento 2023'!$A$1:$E$183,3,FALSE),0)","v":"105449-Posta de Salud Rural Tunga Norte"},{"$f":"IFERROR(VLOOKUP(Tabla_SERIED_12_5[[#This Row],[IdEstablecimiento]],'[1]Establecimiento 2023'!$A$1:$E$183,5,FALSE),0)","v":"04201-Illapel"},"16100300","2022-05-18T15:03:46",27,12,15]
[{"$nulls":23},1,"5",2022,"200499",{"$f":"IFERROR(VLOOKUP(Tabla_SERIED_12_5[[#This Row],[IdEstablecimiento]],'[1]Establecimiento 2023'!$A$1:$E$183,3,FALSE),0)","v":"200499-Centro de Salud Familiar Rural Pan de Azúcar"},{"$f":"IFERROR(VLOOKUP(Tabla_SERIED_12_5[[#This Row],[IdEstablecimiento]],'[1]Establecimiento 2023'!$A$1:$E$183,5,FALSE),0)","v":"04102-Coquimbo"},"15050200","2022-02-17T04:31:18",3,3,0,null,null,2,1]
[{"$nulls":23},3,"5",2022,"200402",{"$f":"IFERROR(VLOOKUP(Tabla_SERIED_12_5[[#This Row],[IdEstablecimiento]],'[1]Establecimiento 2023'!$A$1:$E$183,3,FALSE),0)","v":"200402-Centro Comunitario de Salud Familiar Arcos de Pinamar"},{"$f":"IFERROR(VLOOKUP(Tabla_SERIED_12_5[[#This Row],[IdEstablecimiento]],'[1]Establecimiento 2023'!$A$1:$E$183,5,FALSE),0)","v":"04101-La Serena"},"15900050","2022-04-19T10:15:08",3,2,1,null,null,1,1,1]
[{"$nulls":23},1,"5",2022,"105465",{"$f":"IFERROR(VLOOKUP(Tabla_SERIED_12_5[[#This Row],[IdEstablecimiento]],'[1]Establecimiento 2023'!$A$1:$E$183,3,FALSE),0)","v":"105465-Posta de Salud Rural Ramadilla"},{"$f":"IFERROR(VLOOKUP(Tabla_SERIED_12_5[[#This Row],[IdEstablecimiento]],'[1]Establecimiento 2023'!$A$1:$E$183,5,FALSE),0)","v":"04302-Combarbalá"},"15010200","2022-02-17T03:51:14",28,{"$nulls":4},4,16,8]
[{"$nulls":23},1,"5",2022,"105473",{"$f":"IFERROR(VLOOKUP(Tabla_SERIED_12_5[[#This Row],[IdEstablecimiento]],'[1]Establecimiento 2023'!$A$1:$E$183,3,FALSE),0)","v":"105473-Posta de Salud Rural Talcuna"},{"$f":"IFERROR(VLOOKUP(Tabla_SERIED_12_5[[#This Row],[IdEstablecimiento]],'[1]Establecimiento 2023'!$A$1:$E$183,5,FALSE),0)","v":"04106-Vicuña"},"15020200","2022-02-17T03:54:02",2,{"$nulls":5},2]
[{"$nulls":23},1,"5",2022,"105481",{"$f":"IFERROR(VLOOKUP(Tabla_SERIED_12_5[[#This Row],[IdEstablecimiento]],'[1]Establecimiento 2023'!$A$1:$E$183,3,FALSE),0)","v":"105481-Posta de Salud Rural Tilama"},{"$f":"IFERROR(VLOOKUP(Tabla_SERIED_12_5[[#This Row],[IdEstablecimiento]],'[1]Establecimiento 2023'!$A$1:$E$183,5,FALSE),0)","v":"04203-Los Vilos"},"16090500","2022-02-17T03:56:43",1,1]
[{"$nulls":23},4,"5",2022,"105409",{"$f":"IFERROR(VLOOKUP(Tabla_SERIED_12_5[[#This Row],[IdEstablecimiento]],'[1]Establecimiento 2023'!$A$1:$E$183,3,FALSE),0)","v":"105409-Posta de Salud Rural El Chañar"},{"$f":"IFERROR(VLOOKUP(Tabla_SERIED_12_5[[#This Row],[IdEstablecimiento]],'[1]Establecimiento 2023'!$A$1:$E$183,5,FALSE),0)","v":"04305-Río Hurtado"},"16090300","2022-05-18T14:49:30",18,18]
[{"$nulls":23},4,"5",2022,"105410",{"$f":"IFERROR(VLOOKUP(Tabla_SERIED_12_5[[#This Row],[IdEstablecimiento]],'[1]Establecimiento 2023'!$A$1:$E$183,3,FALSE),0)","v":"105410-Posta de Salud Rural Hurtado"},{"$f":"IFERROR(VLOOKUP(Tabla_SERIED_12_5[[#This Row],[IdEstablecimiento]],'[1]Establecimiento 2023'!$A$1:$E$183,5,FALSE),0)","v":"04305-Río Hurtado"},"16090300","2022-05-18T14:49:44",35,35]
[{"$nulls":23},4,"5",2022,"105458",{"$f":"IFERROR(VLOOKUP(Tabla_SERIED_12_5[[#This Row],[IdEstablecimiento]],'[1]Establecimiento 2023'!$A$1:$E$183,3,FALSE),0)","v":"105458-Posta de Salud Rural Tahuinco"},{"$f":"IFERROR(VLOOKUP(Tabla_SERIED_12_5[[#This Row],[IdEstablecimiento]],'[1]Establecimiento 2023'!$A$1:$E$183,5,FALSE),0)","v":"04204-Salamanca"},"15010400","2022-05-18T15:05:42",2,{"$nulls":5},2]
[{"$nulls":23},4,"5",2022,"105458",{"$f":"IFERROR(VLOOKUP(Tabla_SERIED_12_5[[#This Row],[IdEstablecimiento]],'[1]Establecimiento 2023'!$A$1:$E$183,3,FALSE),0)","v":"105458-Posta de Salud Rural Tahuinco"},{"$f":"IFERROR(VLOOKUP(Tabla_SERIED_12_5[[#This Row],[IdEstablecimiento]],'[1]Establecimiento 2023'!$A$1:$E$183,5,FALSE),0)","v":"04204-Salamanca"},"15010500","2022-05-18T15:05:42",2,{"$nulls":5},2]
[{"$nulls":23},1,"5",2022,"105400",{"$f":"IFERROR(VLOOKUP(Tabla_SERIED_12_5[[#This Row],[IdEstablecimiento]],'[1]Establecimiento 2023'!$A$1:$E$183,3,FALSE),0)","v":"105400-Posta de Salud Rural Algarrobito"},{"$f":"IFERROR(VLOOKUP(Tabla_SERIED_12_5[[#This Row],[IdEstablecimiento]],'[1]Establecimiento 2023'!$A$1:$E$183,5,FALSE),0)","v":"04101-La Serena"},"15010100","2022-02-16T10:52:44",10,null,null,4,6]
[{"$nulls":23},7,"5",2022,"105300",{"$f":"IFERROR(VLOOKUP(Tabla_SERIED_12_5[[#This Row],[IdEstablecimiento]],'[1]Establecimiento 2023'!$A$1:$E$183,3,FALSE),0)","v":"105300-Centro de Salud Familiar Cardenal Caro"},{"$f":"IFERROR(VLOOKUP(Tabla_SERIED_12_5[[#This Row],[IdEstablecimiento]],'[1]Establecimiento 2023'!$A$1:$E$183,5,FALSE),0)","v":"04101-La Serena"},"15020100","2022-08-22T05:28:01",29,null,2,19,8]
[{"$nulls":23},7,"5",2022,"105300",{"$f":"IFERROR(VLOOKUP(Tabla_SERIED_12_5[[#This Row],[IdEstablecimiento]],'[1]Establecimiento 2023'!$A$1:$E$183,3,FALSE),0)","v":"105300-Centro de Salud Familiar Cardenal Caro"},{"$f":"IFERROR(VLOOKUP(Tabla_SERIED_12_5[[#This Row],[IdEstablecimiento]],'[1]Establecimiento 2023'!$A$1:$E$183,5,FALSE),0)","v":"04101-La Serena"},"16090100","2022-08-22T05:28:01",6,6]
[{"$nulls":23},8,"5",2022,"105479",{"$f":"IFERROR(VLOOKUP(Tabla_SERIED_12_5[[#This Row],[IdEstablecimiento]],'[1]Establecimiento 2023'!$A$1:$E$183,3,FALSE),0)","v":"105479-Posta de Salud Rural Guangualí"},{"$f":"IFERROR(VLOOKUP(Tabla_SERIED_12_5[[#This Row],[IdEstablecimiento]],'[1]Establecimiento 2023'!$A$1:$E$183,5,FALSE),0)","v":"04203-Los Vilos"},"16100300","2022-09-21T07:51:09",48,21,27,0,56]
[{"$nulls":23},8,"5",2022,"105480",{"$f":"IFERROR(VLOOKUP(Tabla_SERIED_12_5[[#This Row],[IdEstablecimiento]],'[1]Establecimiento 2023'!$A$1:$E$183,3,FALSE),0)","v":"105480-Posta de Salud Rural Quilimarí"},{"$f":"IFERROR(VLOOKUP(Tabla_SERIED_12_5[[#This Row],[IdEstablecimiento]],'[1]Establecimiento 2023'!$A$1:$E$183,5,FALSE),0)","v":"04203-Los Vilos"},"15050200","2022-09-21T07:51:20",1,0,1,null,null,1]
[{"$nulls":23},8,"5",2022,"105481",{"$f":"IFERROR(VLOOKUP(Tabla_SERIED_12_5[[#This Row],[IdEstablecimiento]],'[1]Establecimiento 2023'!$A$1:$E$183,3,FALSE),0)","v":"105481-Posta de Salud Rural Tilama"},{"$f":"IFERROR(VLOOKUP(Tabla_SERIED_12_5[[#This Row],[IdEstablecimiento]],'[1]Establecimiento 2023'!$A$1:$E$183,5,FALSE),0)","v":"04203-Los Vilos"},"16090300","2022-09-21T07:51:31",19,19]
[{"$nulls":23},8,"5",2022,"105482",{"$f":"IFERROR(VLOOKUP(Tabla_SERIED_12_5[[#This Row],[IdEstablecimiento]],'[1]Establecimiento 2023'!$A$1:$E$183,3,FALSE),0)","v":"105482-Posta de Salud Rural Canela Alta"},{"$f":"IFERROR(VLOOKUP(Tabla_SERIED_12_5[[#This Row],[IdEstablecimiento]],'[1]Establecimiento 2023'!$A$1:$E$183,5,FALSE),0)","v":"04202-Canela"},"16200210","2022-09-21T07:51:49",4,4]
[{"$nulls":23},8,"5",2022,"105475",{"$f":"IFERROR(VLOOKUP(Tabla_SERIED_12_5[[#This Row],[IdEstablecimiento]],'[1]Establecimiento 2023'!$A$1:$E$183,3,FALSE),0)","v":"105475-Posta de Salud Rural Horcón (Paiguano)"},{"$f":"IFERROR(VLOOKUP(Tabla_SERIED_12_5[[#This Row],[IdEstablecimiento]],'[1]Establecimiento 2023'!$A$1:$E$183,5,FALSE),0)","v":"04105-Paiguano"},"16200210","2022-09-21T07:50:06",2,2]
[{"$nulls":23},8,"5",2022,"105476",{"$f":"IFERROR(VLOOKUP(Tabla_SERIED_12_5[[#This Row],[IdEstablecimiento]],'[1]Establecimiento 2023'!$A$1:$E$183,3,FALSE),0)","v":"105476-Posta de Salud Rural Monte Grande"},{"$f":"IFERROR(VLOOKUP(Tabla_SERIED_12_5[[#This Row],[IdEstablecimiento]],'[1]Establecimiento 2023'!$A$1:$E$183,5,FALSE),0)","v":"04105-Paiguano"},"15080008","2022-09-21T07:50:23",3,{"$nulls":7},3]
[{"$nulls":23},8,"5",2022,"105477",{"$f":"IFERROR(VLOOKUP(Tabla_SERIED_12_5[[#This Row],[IdEstablecimiento]],'[1]Establecimiento 2023'!$A$1:$E$183,3,FALSE),0)","v":"105477-Posta de Salud Rural Pisco Elqui"},{"$f":"IFERROR(VLOOKUP(Tabla_SERIED_12_5[[#This Row],[IdEstablecimiento]],'[1]Establecimiento 2023'!$A$1:$E$183,5,FALSE),0)","v":"04105-Paiguano"},"15080008","2022-09-21T07:50:35",4,{"$nulls":9},2,null,2]
[{"$nulls":23},8,"5",2022,"105431",{"$f":"IFERROR(VLOOKUP(Tabla_SERIED_12_5[[#This Row],[IdEstablecimiento]],'[1]Establecimiento 2023'!$A$1:$E$183,3,FALSE),0)","v":"105431-Posta de Salud Rural Pedregal"},{"$f":"IFERROR(VLOOKUP(Tabla_SERIED_12_5[[#This Row],[IdEstablecimiento]],'[1]Establecimiento 2023'!$A$1:$E$183,5,FALSE),0)","v":"04303-Monte Patria"},"16100300","2022-09-21T07:35:52",21,9,12,0,0]
[{"$nulls":23},2,"5",2022,"105433",{"$f":"IFERROR(VLOOKUP(Tabla_SERIED_12_5[[#This Row],[IdEstablecimiento]],'[1]Establecimiento 2023'!$A$1:$E$183,3,FALSE),0)","v":"105433-Posta de Salud Rural San Lorenzo (Combarbalá)"},{"$f":"IFERROR(VLOOKUP(Tabla_SERIED_12_5[[#This Row],[IdEstablecimiento]],'[1]Establecimiento 2023'!$A$1:$E$183,5,FALSE),0)","v":"04302-Combarbalá"},"16100600","2022-03-17T09:39:39",1,null,1]
[{"$nulls":23},1,"5",2022,"105433",{"$f":"IFERROR(VLOOKUP(Tabla_SERIED_12_5[[#This Row],[IdEstablecimiento]],'[1]Establecimiento 2023'!$A$1:$E$183,3,FALSE),0)","v":"105433-Posta de Salud Rural San Lorenzo (Combarbalá)"},{"$f":"IFERROR(VLOOKUP(Tabla_SERIED_12_5[[#This Row],[IdEstablecimiento]],'[1]Establecimiento 2023'!$A$1:$E$183,5,FALSE),0)","v":"04302-Combarbalá"},"16090500","2022-02-16T11:01:07",1,1]
[{"$nulls":23},4,"5",2022,"105307",{"$f":"IFERROR(VLOOKUP(Tabla_SERIED_12_5[[#This Row],[IdEstablecimiento]],'[1]Establecimiento 2023'!$A$1:$E$183,3,FALSE),0)","v":"105307-Centro de Salud Familiar Monte Patria"},{"$f":"IFERROR(VLOOKUP(Tabla_SERIED_12_5[[#This Row],[IdEstablecimiento]],'[1]Establecimiento 2023'!$A$1:$E$183,5,FALSE),0)","v":"04303-Monte Patria"},"15050200","2022-05-18T11:50:38",7,3,4,null,null,1,null,null,4,1,null,1]
[{"$nulls":23},7,"5",2022,"105437",{"$f":"IFERROR(VLOOKUP(Tabla_SERIED_12_5[[#This Row],[IdEstablecimiento]],'[1]Establecimiento 2023'!$A$1:$E$183,3,FALSE),0)","v":"105437-Posta de Salud Rural Chalinga"},{"$f":"IFERROR(VLOOKUP(Tabla_SERIED_12_5[[#This Row],[IdEstablecimiento]],'[1]Establecimiento 2023'!$A$1:$E$183,5,FALSE),0)","v":"04301-Ovalle"},"15010400","2022-08-22T05:50:40",2,{"$nulls":5},2]
[{"$nulls":23},7,"5",2022,"105437",{"$f":"IFERROR(VLOOKUP(Tabla_SERIED_12_5[[#This Row],[IdEstablecimiento]],'[1]Establecimiento 2023'!$A$1:$E$183,3,FALSE),0)","v":"105437-Posta de Salud Rural Chalinga"},{"$f":"IFERROR(VLOOKUP(Tabla_SERIED_12_5[[#This Row],[IdEstablecimiento]],'[1]Establecimiento 2023'!$A$1:$E$183,5,FALSE),0)","v":"04301-Ovalle"},"15010500","2022-08-22T05:50:40",4,null,null,2,null,null,2]
[{"$nulls":23},1,"5",2022,"105435",{"$f":"IFERROR(VLOOKUP(Tabla_SERIED_12_5[[#This Row],[IdEstablecimiento]],'[1]Establecimiento 2023'!$A$1:$E$183,3,FALSE),0)","v":"105435-Posta de Salud Rural Tulahuén"},{"$f":"IFERROR(VLOOKUP(Tabla_SERIED_12_5[[#This Row],[IdEstablecimiento]],'[1]Establecimiento 2023'!$A$1:$E$183,5,FALSE),0)","v":"04303-Monte Patria"},"16200210","2022-02-16T11:01:37",10,10]
[{"$nulls":23},2,"5",2022,"105301",{"$f":"IFERROR(VLOOKUP(Tabla_SERIED_12_5[[#This Row],[IdEstablecimiento]],'[1]Establecimiento 2023'!$A$1:$E$183,3,FALSE),0)","v":"105301-Centro de Salud Familiar Las Compañías"},{"$f":"IFERROR(VLOOKUP(Tabla_SERIED_12_5[[#This Row],[IdEstablecimiento]],'[1]Establecimiento 2023'!$A$1:$E$183,5,FALSE),0)","v":"04101-La Serena"},"15050500","2022-03-17T09:26:46",1,1,0,0,0,1]
[{"$nulls":23},4,"5",2022,"200366",{"$f":"IFERROR(VLOOKUP(Tabla_SERIED_12_5[[#This Row],[IdEstablecimiento]],'[1]Establecimiento 2023'!$A$1:$E$183,3,FALSE),0)","v":"200366-Centro de Salud Familiar Urbano de Illapel"},{"$f":"IFERROR(VLOOKUP(Tabla_SERIED_12_5[[#This Row],[IdEstablecimiento]],'[1]Establecimiento 2023'!$A$1:$E$183,5,FALSE),0)","v":"04201-Illapel"},"15900030","2022-05-18T15:55:10",9.2,null,null,9.2]
[{"$nulls":23},2,"5",2022,"105303",{"$f":"IFERROR(VLOOKUP(Tabla_SERIED_12_5[[#This Row],[IdEstablecimiento]],'[1]Establecimiento 2023'!$A$1:$E$183,3,FALSE),0)","v":"105303-Centro de Salud Familiar San Juan"},{"$f":"IFERROR(VLOOKUP(Tabla_SERIED_12_5[[#This Row],[IdEstablecimiento]],'[1]Establecimiento 2023'!$A$1:$E$183,5,FALSE),0)","v":"04102-Coquimbo"},"15080009","2022-03-17T09:27:11",9,{"$nulls":8},6,3,0,0]
[{"$nulls":23},5,"5",2022,"105497",{"$f":"IFERROR(VLOOKUP(Tabla_SERIED_12_5[[#This Row],[IdEstablecimiento]],'[1]Establecimiento 2023'!$A$1:$E$183,3,FALSE),0)","v":"105497-Posta de Salud Rural Jabonería"},{"$f":"IFERROR(VLOOKUP(Tabla_SERIED_12_5[[#This Row],[IdEstablecimiento]],'[1]Establecimiento 2023'!$A$1:$E$183,5,FALSE),0)","v":"04202-Canela"},"16090300","2022-06-20T17:26:56",22,22]
[{"$nulls":23},5,"5",2022,"105306",{"$f":"IFERROR(VLOOKUP(Tabla_SERIED_12_5[[#This Row],[IdEstablecimiento]],'[1]Establecimiento 2023'!$A$1:$E$183,3,FALSE),0)","v":"105306-Centro de Salud Familiar Paihuano"},{"$f":"IFERROR(VLOOKUP(Tabla_SERIED_12_5[[#This Row],[IdEstablecimiento]],'[1]Establecimiento 2023'!$A$1:$E$183,5,FALSE),0)","v":"04105-Paiguano"},"16090300","2022-06-20T17:00:59",48,48]
[{"$nulls":23},5,"5",2022,"105416",{"$f":"IFERROR(VLOOKUP(Tabla_SERIED_12_5[[#This Row],[IdEstablecimiento]],'[1]Establecimiento 2023'!$A$1:$E$183,3,FALSE),0)","v":"105416-Posta de Salud Rural Camarico (Ovalle)"},{"$f":"IFERROR(VLOOKUP(Tabla_SERIED_12_5[[#This Row],[IdEstablecimiento]],'[1]Establecimiento 2023'!$A$1:$E$183,5,FALSE),0)","v":"04301-Ovalle"},"15010500","2022-06-20T17:11:26",8,{"$nulls":3},2,2,2,2]
[{"$nulls":23},5,"5",2022,"105416",{"$f":"IFERROR(VLOOKUP(Tabla_SERIED_12_5[[#This Row],[IdEstablecimiento]],'[1]Establecimiento 2023'!$A$1:$E$183,3,FALSE),0)","v":"105416-Posta de Salud Rural Camarico (Ovalle)"},{"$f":"IFERROR(VLOOKUP(Tabla_SERIED_12_5[[#This Row],[IdEstablecimiento]],'[1]Establecimiento 2023'!$A$1:$E$183,5,FALSE),0)","v":"04301-Ovalle"},"15050100","2022-06-20T17:11:26",27,10,17,{"$nulls":3},1,4,10,9,2,{"$nulls":3},1]
[{"$nulls":23},8,"5",2022,"105326",{"$f":"IFERROR(VLOOKUP(Tabla_SERIED_12_5[[#This Row],[IdEstablecimiento]],'[1]Establecimiento 2023'!$A$1:$E$183,3,FALSE),0)","v":"105326-Centro de Salud Familiar Villa San Rafael de Rozas"},{"$f":"IFERROR(VLOOKUP(Tabla_SERIED_12_5[[#This Row],[IdEstablecimiento]],'[1]Establecimiento 2023'!$A$1:$E$183,5,FALSE),0)","v":"04201-Illapel"},"15080008","2022-09-21T07:20:23",41,{"$nulls":7},23,null,12,3,3]
[{"$nulls":23},8,"5",2022,"105326",{"$f":"IFERROR(VLOOKUP(Tabla_SERIED_12_5[[#This Row],[IdEstablecimiento]],'[1]Establecimiento 2023'!$A$1:$E$183,3,FALSE),0)","v":"105326-Centro de Salud Familiar Villa San Rafael de Rozas"},{"$f":"IFERROR(VLOOKUP(Tabla_SERIED_12_5[[#This Row],[IdEstablecimiento]],'[1]Establecimiento 2023'!$A$1:$E$183,5,FALSE),0)","v":"04201-Illapel"},"15050200","2022-09-21T07:20:23",6,4,2,null,1,null,1,null,1,3]
[{"$nulls":23},4,"5",2022,"105410",{"$f":"IFERROR(VLOOKUP(Tabla_SERIED_12_5[[#This Row],[IdEstablecimiento]],'[1]Establecimiento 2023'!$A$1:$E$183,3,FALSE),0)","v":"105410-Posta de Salud Rural Hurtado"},{"$f":"IFERROR(VLOOKUP(Tabla_SERIED_12_5[[#This Row],[IdEstablecimiento]],'[1]Establecimiento 2023'!$A$1:$E$183,5,FALSE),0)","v":"04305-Río Hurtado"},"16100300","2022-05-18T14:49:44",35,17,18,0,18]
[{"$nulls":23},7,"5",2022,"105487",{"$f":"IFERROR(VLOOKUP(Tabla_SERIED_12_5[[#This Row],[IdEstablecimiento]],'[1]Establecimiento 2023'!$A$1:$E$183,3,FALSE),0)","v":"105487-Posta de Salud Rural Cañas Uno"},{"$f":"IFERROR(VLOOKUP(Tabla_SERIED_12_5[[#This Row],[IdEstablecimiento]],'[1]Establecimiento 2023'!$A$1:$E$183,5,FALSE),0)","v":"04201-Illapel"},"15010100","2022-08-22T06:33:31",10,{"$nulls":3},10]
[{"$nulls":23},4,"5",2022,"105323",{"$f":"IFERROR(VLOOKUP(Tabla_SERIED_12_5[[#This Row],[IdEstablecimiento]],'[1]Establecimiento 2023'!$A$1:$E$183,3,FALSE),0)","v":"105323-Centro de Salud Familiar Dr. Sergio Aguilar Delgado"},{"$f":"IFERROR(VLOOKUP(Tabla_SERIED_12_5[[#This Row],[IdEstablecimiento]],'[1]Establecimiento 2023'!$A$1:$E$183,5,FALSE),0)","v":"04102-Coquimbo"},"15900030","2022-05-18T11:53:56",10,null,4,2.8,3.2]
[{"$nulls":23},6,"5",2022,"105485",{"$f":"IFERROR(VLOOKUP(Tabla_SERIED_12_5[[#This Row],[IdEstablecimiento]],'[1]Establecimiento 2023'!$A$1:$E$183,3,FALSE),0)","v":"105485-Posta de Salud Rural Plan de Hornos"},{"$f":"IFERROR(VLOOKUP(Tabla_SERIED_12_5[[#This Row],[IdEstablecimiento]],'[1]Establecimiento 2023'!$A$1:$E$183,5,FALSE),0)","v":"04201-Illapel"},"16090300","2022-07-14T14:32:36",67,67]
[{"$nulls":23},6,"5",2022,"200367",{"$f":"IFERROR(VLOOKUP(Tabla_SERIED_12_5[[#This Row],[IdEstablecimiento]],'[1]Establecimiento 2023'!$A$1:$E$183,3,FALSE),0)","v":"200367-Centro Comunitario de Salud Familiar Colonia Limarí"},{"$f":"IFERROR(VLOOKUP(Tabla_SERIED_12_5[[#This Row],[IdEstablecimiento]],'[1]Establecimiento 2023'!$A$1:$E$183,5,FALSE),0)","v":"04301-Ovalle"},"15020200","2022-07-14T14:43:28",2,{"$nulls":6},2]
[{"$nulls":23},6,"5",2022,"200367",{"$f":"IFERROR(VLOOKUP(Tabla_SERIED_12_5[[#This Row],[IdEstablecimiento]],'[1]Establecimiento 2023'!$A$1:$E$183,3,FALSE),0)","v":"200367-Centro Comunitario de Salud Familiar Colonia Limarí"},{"$f":"IFERROR(VLOOKUP(Tabla_SERIED_12_5[[#This Row],[IdEstablecimiento]],'[1]Establecimiento 2023'!$A$1:$E$183,5,FALSE),0)","v":"04301-Ovalle"},"15060100","2022-07-14T14:43:28",1,0,1,{"$nulls":3},1]
[{"$nulls":23},6,"5",2022,"200402",{"$f":"IFERROR(VLOOKUP(Tabla_SERIED_12_5[[#This Row],[IdEstablecimiento]],'[1]Establecimiento 2023'!$A$1:$E$183,3,FALSE),0)","v":"200402-Centro Comunitario de Salud Familiar Arcos de Pinamar"},{"$f":"IFERROR(VLOOKUP(Tabla_SERIED_12_5[[#This Row],[IdEstablecimiento]],'[1]Establecimiento 2023'!$A$1:$E$183,5,FALSE),0)","v":"04101-La Serena"},"15080008","2022-07-14T14:43:40",16,{"$nulls":7},12,null,2,2]
[{"$nulls":23},2,"5",2022,"105475",{"$f":"IFERROR(VLOOKUP(Tabla_SERIED_12_5[[#This Row],[IdEstablecimiento]],'[1]Establecimiento 2023'!$A$1:$E$183,3,FALSE),0)","v":"105475-Posta de Salud Rural Horcón (Paiguano)"},{"$f":"IFERROR(VLOOKUP(Tabla_SERIED_12_5[[#This Row],[IdEstablecimiento]],'[1]Establecimiento 2023'!$A$1:$E$183,5,FALSE),0)","v":"04105-Paiguano"},"15900010","2022-03-17T09:52:01",6.4,null,3.2,3.2]
[{"$nulls":23},5,"5",2022,"200538",{"$f":"IFERROR(VLOOKUP(Tabla_SERIED_12_5[[#This Row],[IdEstablecimiento]],'[1]Establecimiento 2023'!$A$1:$E$183,3,FALSE),0)","v":"200538-Centro de Salud Familiar San Isidro Calingasta"},{"$f":"IFERROR(VLOOKUP(Tabla_SERIED_12_5[[#This Row],[IdEstablecimiento]],'[1]Establecimiento 2023'!$A$1:$E$183,5,FALSE),0)","v":"04106-Vicuña"},"15050500","2022-06-20T17:37:31",1,null,1,null,1]
[{"$nulls":23},6,"5",2022,"200402",{"$f":"IFERROR(VLOOKUP(Tabla_SERIED_12_5[[#This Row],[IdEstablecimiento]],'[1]Establecimiento 2023'!$A$1:$E$183,3,FALSE),0)","v":"200402-Centro Comunitario de Salud Familiar Arcos de Pinamar"},{"$f":"IFERROR(VLOOKUP(Tabla_SERIED_12_5[[#This Row],[IdEstablecimiento]],'[1]Establecimiento 2023'!$A$1:$E$183,5,FALSE),0)","v":"04101-La Serena"},"15900030","2022-07-14T14:43:40",7.6,{"$nulls":4},7.6]
[{"$nulls":23},7,"5",2022,"105322",{"$f":"IFERROR(VLOOKUP(Tabla_SERIED_12_5[[#This Row],[IdEstablecimiento]],'[1]Establecimiento 2023'!$A$1:$E$183,3,FALSE),0)","v":"105322-Centro de Salud Familiar Marcos Macuada"},{"$f":"IFERROR(VLOOKUP(Tabla_SERIED_12_5[[#This Row],[IdEstablecimiento]],'[1]Establecimiento 2023'!$A$1:$E$183,5,FALSE),0)","v":"04301-Ovalle"},"15010400","2022-08-19T12:02:30",4,{"$nulls":4},2,2]
[{"$nulls":23},7,"5",2022,"105322",{"$f":"IFERROR(VLOOKUP(Tabla_SERIED_12_5[[#This Row],[IdEstablecimiento]],'[1]Establecimiento 2023'!$A$1:$E$183,3,FALSE),0)","v":"105322-Centro de Salud Familiar Marcos Macuada"},{"$f":"IFERROR(VLOOKUP(Tabla_SERIED_12_5[[#This Row],[IdEstablecimiento]],'[1]Establecimiento 2023'!$A$1:$E$183,5,FALSE),0)","v":"04301-Ovalle"},"15900050","2022-08-19T12:02:30",9,6,3,null,3,3,1,2]
[{"$nulls":23},6,"5",2022,"105312",{"$f":"IFERROR(VLOOKUP(Tabla_SERIED_12_5[[#This Row],[IdEstablecimiento]],'[1]Establecimiento 2023'!$A$1:$E$183,3,FALSE),0)","v":"105312-Centro de Salud Familiar Carén"},{"$f":"IFERROR(VLOOKUP(Tabla_SERIED_12_5[[#This Row],[IdEstablecimiento]],'[1]Establecimiento 2023'!$A$1:$E$183,5,FALSE),0)","v":"04303-Monte Patria"},"15900010","2022-07-14T14:04:21",8,null,null,8]
[{"$nulls":23},6,"5",2022,"105312",{"$f":"IFERROR(VLOOKUP(Tabla_SERIED_12_5[[#This Row],[IdEstablecimiento]],'[1]Establecimiento 2023'!$A$1:$E$183,3,FALSE),0)","v":"105312-Centro de Salud Familiar Carén"},{"$f":"IFERROR(VLOOKUP(Tabla_SERIED_12_5[[#This Row],[IdEstablecimiento]],'[1]Establecimiento 2023'!$A$1:$E$183,5,FALSE),0)","v":"04303-Monte Patria"},"15050100","2022-07-14T14:04:21",45,21,24,null,null,2,5,3,14,10,5,null,4,null,2]
[{"$nulls":23},5,"5",2022,"105313",{"$f":"IFERROR(VLOOKUP(Tabla_SERIED_12_5[[#This Row],[IdEstablecimiento]],'[1]Establecimiento 2023'!$A$1:$E$183,3,FALSE),0)","v":"105313-Centro de Salud Familiar Dr. Emilio Schaffhauser"},{"$f":"IFERROR(VLOOKUP(Tabla_SERIED_12_5[[#This Row],[IdEstablecimiento]],'[1]Establecimiento 2023'!$A$1:$E$183,5,FALSE),0)","v":"04101-La Serena"},"15080009","2022-06-20T17:03:27",6,{"$nulls":8},6]
[{"$nulls":23},7,"5",2022,"105322",{"$f":"IFERROR(VLOOKUP(Tabla_SERIED_12_5[[#This Row],[IdEstablecimiento]],'[1]Establecimiento 2023'!$A$1:$E$183,3,FALSE),0)","v":"105322-Centro de Salud Familiar Marcos Macuada"},{"$f":"IFERROR(VLOOKUP(Tabla_SERIED_12_5[[#This Row],[IdEstablecimiento]],'[1]Establecimiento 2023'!$A$1:$E$183,5,FALSE),0)","v":"04301-Ovalle"},"16090300","2022-08-19T12:02:30",708,708]
[{"$nulls":23},7,"5",2022,"105701",{"$f":"IFERROR(VLOOKUP(Tabla_SERIED_12_5[[#This Row],[IdEstablecimiento]],'[1]Establecimiento 2023'!$A$1:$E$183,3,FALSE),0)","v":"105701-Centro Comunitario de Salud Familiar Villa Alemania"},{"$f":"IFERROR(VLOOKUP(Tabla_SERIED_12_5[[#This Row],[IdEstablecimiento]],'[1]Establecimiento 2023'!$A$1:$E$183,5,FALSE),0)","v":"04101-La Serena"},"16090300","2022-08-22T06:46:55",41,41]
[{"$nulls":23},6,"5",2022,"105504",{"$f":"IFERROR(VLOOKUP(Tabla_SERIED_12_5[[#This Row],[IdEstablecimiento]],'[1]Establecimiento 2023'!$A$1:$E$183,3,FALSE),0)","v":"105504-Posta de Salud Rural Socavón"},{"$f":"IFERROR(VLOOKUP(Tabla_SERIED_12_5[[#This Row],[IdEstablecimiento]],'[1]Establecimiento 2023'!$A$1:$E$183,5,FALSE),0)","v":"04201-Illapel"},"16090300","2022-07-14T14:36:03",34,34]
[{"$nulls":23},3,"5",2022,"105500",{"$f":"IFERROR(VLOOKUP(Tabla_SERIED_12_5[[#This Row],[IdEstablecimiento]],'[1]Establecimiento 2023'!$A$1:$E$183,3,FALSE),0)","v":"105500-Posta de Salud Rural Caleta Hornos"},{"$f":"IFERROR(VLOOKUP(Tabla_SERIED_12_5[[#This Row],[IdEstablecimiento]],'[1]Establecimiento 2023'!$A$1:$E$183,5,FALSE),0)","v":"04104-La Higuera"},"15050100","2022-04-19T10:09:15",26,16,10,2,null,1,4,1,8,7,1,null,2]
[{"$nulls":23},8,"5",2022,"105402",{"$f":"IFERROR(VLOOKUP(Tabla_SERIED_12_5[[#This Row],[IdEstablecimiento]],'[1]Establecimiento 2023'!$A$1:$E$183,3,FALSE),0)","v":"105402-Posta de Salud Rural El Romero"},{"$f":"IFERROR(VLOOKUP(Tabla_SERIED_12_5[[#This Row],[IdEstablecimiento]],'[1]Establecimiento 2023'!$A$1:$E$183,5,FALSE),0)","v":"04101-La Serena"},"15010100","2022-09-21T07:21:08",16,{"$nulls":3},16]
[{"$nulls":23},8,"5",2022,"105405",{"$f":"IFERROR(VLOOKUP(Tabla_SERIED_12_5[[#This Row],[IdEstablecimiento]],'[1]Establecimiento 2023'!$A$1:$E$183,3,FALSE),0)","v":"105405-Posta de Salud Rural Guanaqueros"},{"$f":"IFERROR(VLOOKUP(Tabla_SERIED_12_5[[#This Row],[IdEstablecimiento]],'[1]Establecimiento 2023'!$A$1:$E$183,5,FALSE),0)","v":"04102-Coquimbo"},"15900010","2022-09-21T07:21:39",35.1,0.9,10.8,23.4]
[{"$nulls":23},8,"5",2022,"105405",{"$f":"IFERROR(VLOOKUP(Tabla_SERIED_12_5[[#This Row],[IdEstablecimiento]],'[1]Establecimiento 2023'!$A$1:$E$183,3,FALSE),0)","v":"105405-Posta de Salud Rural Guanaqueros"},{"$f":"IFERROR(VLOOKUP(Tabla_SERIED_12_5[[#This Row],[IdEstablecimiento]],'[1]Establecimiento 2023'!$A$1:$E$183,5,FALSE),0)","v":"04102-Coquimbo"},"15010400","2022-09-21T07:21:39",2,{"$nulls":6},2]
[{"$nulls":23},2,"5",2022,"200367",{"$f":"IFERROR(VLOOKUP(Tabla_SERIED_12_5[[#This Row],[IdEstablecimiento]],'[1]Establecimiento 2023'!$A$1:$E$183,3,FALSE),0)","v":"200367-Centro Comunitario de Salud Familiar Colonia Limarí"},{"$f":"IFERROR(VLOOKUP(Tabla_SERIED_12_5[[#This Row],[IdEstablecimiento]],'[1]Establecimiento 2023'!$A$1:$E$183,5,FALSE),0)","v":"04301-Ovalle"},"15900010","2022-03-17T10:07:34",4.8,null,null,4.8]
[{"$nulls":23},6,"5",2022,"105469",{"$f":"IFERROR(VLOOKUP(Tabla_SERIED_12_5[[#This Row],[IdEstablecimiento]],'[1]Establecimiento 2023'!$A$1:$E$183,3,FALSE),0)","v":"105469-Posta de Salud Rural El Tambo (Vicuña)"},{"$f":"IFERROR(VLOOKUP(Tabla_SERIED_12_5[[#This Row],[IdEstablecimiento]],'[1]Establecimiento 2023'!$A$1:$E$183,5,FALSE),0)","v":"04106-Vicuña"},"16100300","2022-07-14T14:27:14",33,12,21,null,5]
[{"$nulls":23},8,"5",2022,"105702",{"$f":"IFERROR(VLOOKUP(Tabla_SERIED_12_5[[#This Row],[IdEstablecimiento]],'[1]Establecimiento 2023'!$A$1:$E$183,3,FALSE),0)","v":"105702-Centro Comunitario de Salud Familiar Lambert"},{"$f":"IFERROR(VLOOKUP(Tabla_SERIED_12_5[[#This Row],[IdEstablecimiento]],'[1]Establecimiento 2023'!$A$1:$E$183,5,FALSE),0)","v":"04101-La Serena"},"15080008","2022-09-21T08:00:49",15,{"$nulls":7},9,null,6]
[{"$nulls":23},8,"5",2022,"200366",{"$f":"IFERROR(VLOOKUP(Tabla_SERIED_12_5[[#This Row],[IdEstablecimiento]],'[1]Establecimiento 2023'!$A$1:$E$183,3,FALSE),0)","v":"200366-Centro de Salud Familiar Urbano de Illapel"},{"$f":"IFERROR(VLOOKUP(Tabla_SERIED_12_5[[#This Row],[IdEstablecimiento]],'[1]Establecimiento 2023'!$A$1:$E$183,5,FALSE),0)","v":"04201-Illapel"},"15060100","2022-09-21T08:04:04",13,8,5,{"$nulls":4},3,6,4]
[{"$nulls":23},2,"5",2022,"105108",{"$f":"IFERROR(VLOOKUP(Tabla_SERIED_12_5[[#This Row],[IdEstablecimiento]],'[1]Establecimiento 2023'!$A$1:$E$183,3,FALSE),0)","v":"105108-Hospital San Pedro (Los Vilos)"},{"$f":"IFERROR(VLOOKUP(Tabla_SERIED_12_5[[#This Row],[IdEstablecimiento]],'[1]Establecimiento 2023'!$A$1:$E$183,5,FALSE),0)","v":"105108-Hospital Los Vilos"},"16100300","2022-05-18T15:45:44",206,92,114,10,72]
[{"$nulls":23},3,"5",2022,"105500",{"$f":"IFERROR(VLOOKUP(Tabla_SERIED_12_5[[#This Row],[IdEstablecimiento]],'[1]Establecimiento 2023'!$A$1:$E$183,3,FALSE),0)","v":"105500-Posta de Salud Rural Caleta Hornos"},{"$f":"IFERROR(VLOOKUP(Tabla_SERIED_12_5[[#This Row],[IdEstablecimiento]],'[1]Establecimiento 2023'!$A$1:$E$183,5,FALSE),0)","v":"04104-La Higuera"},"16100300","2022-04-19T10:09:15",23,13,10]
[{"$nulls":23},6,"5",2022,"105301",{"$f":"IFERROR(VLOOKUP(Tabla_SERIED_12_5[[#This Row],[IdEstablecimiento]],'[1]Establecimiento 2023'!$A$1:$E$183,3,FALSE),0)","v":"105301-Centro de Salud Familiar Las Compañías"},{"$f":"IFERROR(VLOOKUP(Tabla_SERIED_12_5[[#This Row],[IdEstablecimiento]],'[1]Establecimiento 2023'!$A$1:$E$183,5,FALSE),0)","v":"04101-La Serena"},"16090300","2022-07-14T13:36:08",465,456]
[{"$nulls":23},6,"5",2022,"105302",{"$f":"IFERROR(VLOOKUP(Tabla_SERIED_12_5[[#This Row],[IdEstablecimiento]],'[1]Establecimiento 2023'!$A$1:$E$183,3,FALSE),0)","v":"105302-Centro de Salud Familiar Pedro Aguirre Cerda"},{"$f":"IFERROR(VLOOKUP(Tabla_SERIED_12_5[[#This Row],[IdEstablecimiento]],'[1]Establecimiento 2023'!$A$1:$E$183,5,FALSE),0)","v":"04101-La Serena"},"15010200","2022-07-14T13:36:22",424,{"$nulls":4},82,188,154]
[{"$nulls":23},6,"5",2022,"105302",{"$f":"IFERROR(VLOOKUP(Tabla_SERIED_12_5[[#This Row],[IdEstablecimiento]],'[1]Establecimiento 2023'!$A$1:$E$183,3,FALSE),0)","v":"105302-Centro de Salud Familiar Pedro Aguirre Cerda"},{"$f":"IFERROR(VLOOKUP(Tabla_SERIED_12_5[[#This Row],[IdEstablecimiento]],'[1]Establecimiento 2023'!$A$1:$E$183,5,FALSE),0)","v":"04101-La Serena"},"15050100","2022-07-14T13:36:22",499,170,329,11,21,49,49,41,94,78,83,null,38,16,19]
[{"$nulls":23},4,"5",2022,"105315",{"$f":"IFERROR(VLOOKUP(Tabla_SERIED_12_5[[#This Row],[IdEstablecimiento]],'[1]Establecimiento 2023'!$A$1:$E$183,3,FALSE),0)","v":"105315-Centro de Salud Familiar Cerrillos de Tamaya"},{"$f":"IFERROR(VLOOKUP(Tabla_SERIED_12_5[[#This Row],[IdEstablecimiento]],'[1]Establecimiento 2023'!$A$1:$E$183,5,FALSE),0)","v":"04301-Ovalle"},"15030100","2022-05-18T11:52:18",4,4]
[{"$nulls":23},4,"5",2022,"105315",{"$f":"IFERROR(VLOOKUP(Tabla_SERIED_12_5[[#This Row],[IdEstablecimiento]],'[1]Establecimiento 2023'!$A$1:$E$183,3,FALSE),0)","v":"105315-Centro de Salud Familiar Cerrillos de Tamaya"},{"$f":"IFERROR(VLOOKUP(Tabla_SERIED_12_5[[#This Row],[IdEstablecimiento]],'[1]Establecimiento 2023'!$A$1:$E$183,5,FALSE),0)","v":"04301-Ovalle"},"16200210","2022-05-18T11:52:18",22,22]
[{"$nulls":23},2,"5",2022,"105414",{"$f":"IFERROR(VLOOKUP(Tabla_SERIED_12_5[[#This Row],[IdEstablecimiento]],'[1]Establecimiento 2023'!$A$1:$E$183,3,FALSE),0)","v":"105414-Posta de Salud Rural Serón"},{"$f":"IFERROR(VLOOKUP(Tabla_SERIED_12_5[[#This Row],[IdEstablecimiento]],'[1]Establecimiento 2023'!$A$1:$E$183,5,FALSE),0)","v":"04305-Río Hurtado"},"15050100","2022-03-17T09:34:54",15,7,8,null,null,1,3,1,4,3,3]
[{"$nulls":23},3,"5",2022,"105108",{"$f":"IFERROR(VLOOKUP(Tabla_SERIED_12_5[[#This Row],[IdEstablecimiento]],'[1]Establecimiento 2023'!$A$1:$E$183,3,FALSE),0)","v":"105108-Hospital San Pedro (Los Vilos)"},{"$f":"IFERROR(VLOOKUP(Tabla_SERIED_12_5[[#This Row],[IdEstablecimiento]],'[1]Establecimiento 2023'!$A$1:$E$183,5,FALSE),0)","v":"105108-Hospital Los Vilos"},"15050200","2022-05-18T15:48:15",13,3,10,null,3,2,null,null,3,2,null,3]
[{"$nulls":23},7,"5",2022,"105303",{"$f":"IFERROR(VLOOKUP(Tabla_SERIED_12_5[[#This Row],[IdEstablecimiento]],'[1]Establecimiento 2023'!$A$1:$E$183,3,FALSE),0)","v":"105303-Centro de Salud Familiar San Juan"},{"$f":"IFERROR(VLOOKUP(Tabla_SERIED_12_5[[#This Row],[IdEstablecimiento]],'[1]Establecimiento 2023'!$A$1:$E$183,5,FALSE),0)","v":"04102-Coquimbo"},"15010200","2022-08-19T11:58:47",535,{"$nulls":4},106,214,215]
[{"$nulls":23},7,"5",2022,"105304",{"$f":"IFERROR(VLOOKUP(Tabla_SERIED_12_5[[#This Row],[IdEstablecimiento]],'[1]Establecimiento 2023'!$A$1:$E$183,3,FALSE),0)","v":"105304-Centro de Salud Familiar Santa Cecilia"},{"$f":"IFERROR(VLOOKUP(Tabla_SERIED_12_5[[#This Row],[IdEstablecimiento]],'[1]Establecimiento 2023'!$A$1:$E$183,5,FALSE),0)","v":"04102-Coquimbo"},"16090300","2022-08-19T11:59:01",443,443]
[{"$nulls":23},1,"5",2022,"105444",{"$f":"IFERROR(VLOOKUP(Tabla_SERIED_12_5[[#This Row],[IdEstablecimiento]],'[1]Establecimiento 2023'!$A$1:$E$183,3,FALSE),0)","v":"105444-Posta de Salud Rural Huintil"},{"$f":"IFERROR(VLOOKUP(Tabla_SERIED_12_5[[#This Row],[IdEstablecimiento]],'[1]Establecimiento 2023'!$A$1:$E$183,5,FALSE),0)","v":"04201-Illapel"},"16100300","2022-02-16T11:33:20",48,22,26]
[{"$nulls":23},4,"5",2022,"105323",{"$f":"IFERROR(VLOOKUP(Tabla_SERIED_12_5[[#This Row],[IdEstablecimiento]],'[1]Establecimiento 2023'!$A$1:$E$183,3,FALSE),0)","v":"105323-Centro de Salud Familiar Dr. Sergio Aguilar Delgado"},{"$f":"IFERROR(VLOOKUP(Tabla_SERIED_12_5[[#This Row],[IdEstablecimiento]],'[1]Establecimiento 2023'!$A$1:$E$183,5,FALSE),0)","v":"04102-Coquimbo"},"15040100","2022-05-18T11:53:56",3.2,3.2]
[{"$nulls":23},4,"5",2022,"105323",{"$f":"IFERROR(VLOOKUP(Tabla_SERIED_12_5[[#This Row],[IdEstablecimiento]],'[1]Establecimiento 2023'!$A$1:$E$183,3,FALSE),0)","v":"105323-Centro de Salud Familiar Dr. Sergio Aguilar Delgado"},{"$f":"IFERROR(VLOOKUP(Tabla_SERIED_12_5[[#This Row],[IdEstablecimiento]],'[1]Establecimiento 2023'!$A$1:$E$183,5,FALSE),0)","v":"04102-Coquimbo"},"15901200","2022-05-18T11:53:56",12,null,null,4.4,3.2,4.4]
[{"$nulls":23},4,"5",2022,"105323",{"$f":"IFERROR(VLOOKUP(Tabla_SERIED_12_5[[#This Row],[IdEstablecimiento]],'[1]Establecimiento 2023'!$A$1:$E$183,3,FALSE),0)","v":"105323-Centro de Salud Familiar Dr. Sergio Aguilar Delgado"},{"$f":"IFERROR(VLOOKUP(Tabla_SERIED_12_5[[#This Row],[IdEstablecimiento]],'[1]Establecimiento 2023'!$A$1:$E$183,5,FALSE),0)","v":"04102-Coquimbo"},"15060100","2022-05-18T11:53:56",26,14,12,null,null,3,6,4,4,8,{"$nulls":3},1]
[{"$nulls":23},4,"5",2022,"105323",{"$f":"IFERROR(VLOOKUP(Tabla_SERIED_12_5[[#This Row],[IdEstablecimiento]],'[1]Establecimiento 2023'!$A$1:$E$183,3,FALSE),0)","v":"105323-Centro de Salud Familiar Dr. Sergio Aguilar Delgado"},{"$f":"IFERROR(VLOOKUP(Tabla_SERIED_12_5[[#This Row],[IdEstablecimiento]],'[1]Establecimiento 2023'!$A$1:$E$183,5,FALSE),0)","v":"04102-Coquimbo"},"15060600","2022-05-18T11:53:56",1,null,1,1]
[{"$nulls":23},4,"5",2022,"105323",{"$f":"IFERROR(VLOOKUP(Tabla_SERIED_12_5[[#This Row],[IdEstablecimiento]],'[1]Establecimiento 2023'!$A$1:$E$183,3,FALSE),0)","v":"105323-Centro de Salud Familiar Dr. Sergio Aguilar Delgado"},{"$f":"IFERROR(VLOOKUP(Tabla_SERIED_12_5[[#This Row],[IdEstablecimiento]],'[1]Establecimiento 2023'!$A$1:$E$183,5,FALSE),0)","v":"04102-Coquimbo"},"15901400","2022-05-18T11:53:56",3,3,{"$nulls":3},1,1,1]
[{"$nulls":23},6,"5",2022,"105466",{"$f":"IFERROR(VLOOKUP(Tabla_SERIED_12_5[[#This Row],[IdEstablecimiento]],'[1]Establecimiento 2023'!$A$1:$E$183,3,FALSE),0)","v":"105466-Posta de Salud Rural Valle Hermoso"},{"$f":"IFERROR(VLOOKUP(Tabla_SERIED_12_5[[#This Row],[IdEstablecimiento]],'[1]Establecimiento 2023'!$A$1:$E$183,5,FALSE),0)","v":"04302-Combarbalá"},"16090300","2022-07-14T14:24:25",30,30]
[{"$nulls":23},6,"5",2022,"105466",{"$f":"IFERROR(VLOOKUP(Tabla_SERIED_12_5[[#This Row],[IdEstablecimiento]],'[1]Establecimiento 2023'!$A$1:$E$183,3,FALSE),0)","v":"105466-Posta de Salud Rural Valle Hermoso"},{"$f":"IFERROR(VLOOKUP(Tabla_SERIED_12_5[[#This Row],[IdEstablecimiento]],'[1]Establecimiento 2023'!$A$1:$E$183,5,FALSE),0)","v":"04302-Combarbalá"},"16200210","2022-07-14T14:24:25",9,9]
[{"$nulls":23},6,"5",2022,"105466",{"$f":"IFERROR(VLOOKUP(Tabla_SERIED_12_5[[#This Row],[IdEstablecimiento]],'[1]Establecimiento 2023'!$A$1:$E$183,3,FALSE),0)","v":"105466-Posta de Salud Rural Valle Hermoso"},{"$f":"IFERROR(VLOOKUP(Tabla_SERIED_12_5[[#This Row],[IdEstablecimiento]],'[1]Establecimiento 2023'!$A$1:$E$183,5,FALSE),0)","v":"04302-Combarbalá"},"16100300","2022-07-14T14:24:25",30,15,15,null,10]
[{"$nulls":23},6,"5",2022,"105466",{"$f":"IFERROR(VLOOKUP(Tabla_SERIED_12_5[[#This Row],[IdEstablecimiento]],'[1]Establecimiento 2023'!$A$1:$E$183,3,FALSE),0)","v":"105466-Posta de Salud Rural Valle Hermoso"},{"$f":"IFERROR(VLOOKUP(Tabla_SERIED_12_5[[#This Row],[IdEstablecimiento]],'[1]Establecimiento 2023'!$A$1:$E$183,5,FALSE),0)","v":"04302-Combarbalá"},"16200220","2022-07-14T14:24:25",9,7,2,null,1]
[{"$nulls":23},6,"5",2022,"105467",{"$f":"IFERROR(VLOOKUP(Tabla_SERIED_12_5[[#This Row],[IdEstablecimiento]],'[1]Establecimiento 2023'!$A$1:$E$183,3,FALSE),0)","v":"105467-Posta de Salud Rural Diaguitas"},{"$f":"IFERROR(VLOOKUP(Tabla_SERIED_12_5[[#This Row],[IdEstablecimiento]],'[1]Establecimiento 2023'!$A$1:$E$183,5,FALSE),0)","v":"04106-Vicuña"},"15010100","2022-07-14T14:26:44",8,{"$nulls":3},8]
[{"$nulls":23},6,"5",2022,"105467",{"$f":"IFERROR(VLOOKUP(Tabla_SERIED_12_5[[#This Row],[IdEstablecimiento]],'[1]Establecimiento 2023'!$A$1:$E$183,3,FALSE),0)","v":"105467-Posta de Salud Rural Diaguitas"},{"$f":"IFERROR(VLOOKUP(Tabla_SERIED_12_5[[#This Row],[IdEstablecimiento]],'[1]Establecimiento 2023'!$A$1:$E$183,5,FALSE),0)","v":"04106-Vicuña"},"15010200","2022-07-14T14:26:44",18,{"$nulls":4},6,6,6]
[{"$nulls":23},6,"5",2022,"105467",{"$f":"IFERROR(VLOOKUP(Tabla_SERIED_12_5[[#This Row],[IdEstablecimiento]],'[1]Establecimiento 2023'!$A$1:$E$183,3,FALSE),0)","v":"105467-Posta de Salud Rural Diaguitas"},{"$f":"IFERROR(VLOOKUP(Tabla_SERIED_12_5[[#This Row],[IdEstablecimiento]],'[1]Establecimiento 2023'!$A$1:$E$183,5,FALSE),0)","v":"04106-Vicuña"},"15080008","2022-07-14T14:26:44",5,{"$nulls":7},4,{"$nulls":3},1]
[{"$nulls":23},6,"5",2022,"105467",{"$f":"IFERROR(VLOOKUP(Tabla_SERIED_12_5[[#This Row],[IdEstablecimiento]],'[1]Establecimiento 2023'!$A$1:$E$183,3,FALSE),0)","v":"105467-Posta de Salud Rural Diaguitas"},{"$f":"IFERROR(VLOOKUP(Tabla_SERIED_12_5[[#This Row],[IdEstablecimiento]],'[1]Establecimiento 2023'!$A$1:$E$183,5,FALSE),0)","v":"04106-Vicuña"},"15900010","2022-07-14T14:26:44",13.5,null,null,13.5]
[{"$nulls":23},5,"5",2022,"105444",{"$f":"IFERROR(VLOOKUP(Tabla_SERIED_12_5[[#This Row],[IdEstablecimiento]],'[1]Establecimiento 2023'!$A$1:$E$183,3,FALSE),0)","v":"105444-Posta de Salud Rural Huintil"},{"$f":"IFERROR(VLOOKUP(Tabla_SERIED_12_5[[#This Row],[IdEstablecimiento]],'[1]Establecimiento 2023'!$A$1:$E$183,5,FALSE),0)","v":"04201-Illapel"},"16200220","2022-06-20T17:17:21",7,3,4]
[{"$nulls":23},5,"5",2022,"105445",{"$f":"IFERROR(VLOOKUP(Tabla_SERIED_12_5[[#This Row],[IdEstablecimiento]],'[1]Establecimiento 2023'!$A$1:$E$183,3,FALSE),0)","v":"105445-Posta de Salud Rural Limáhuida"},{"$f":"IFERROR(VLOOKUP(Tabla_SERIED_12_5[[#This Row],[IdEstablecimiento]],'[1]Establecimiento 2023'!$A$1:$E$183,5,FALSE),0)","v":"04201-Illapel"},"15010100","2022-06-20T17:17:34",2,{"$nulls":3},2]
[{"$nulls":23},5,"5",2022,"105445",{"$f":"IFERROR(VLOOKUP(Tabla_SERIED_12_5[[#This Row],[IdEstablecimiento]],'[1]Establecimiento 2023'!$A$1:$E$183,3,FALSE),0)","v":"105445-Posta de Salud Rural Limáhuida"},{"$f":"IFERROR(VLOOKUP(Tabla_SERIED_12_5[[#This Row],[IdEstablecimiento]],'[1]Establecimiento 2023'!$A$1:$E$183,5,FALSE),0)","v":"04201-Illapel"},"15010200","2022-06-20T17:17:34",34,{"$nulls":4},6,12,16]
[{"$nulls":23},5,"5",2022,"105445",{"$f":"IFERROR(VLOOKUP(Tabla_SERIED_12_5[[#This Row],[IdEstablecimiento]],'[1]Establecimiento 2023'!$A$1:$E$183,3,FALSE),0)","v":"105445-Posta de Salud Rural Limáhuida"},{"$f":"IFERROR(VLOOKUP(Tabla_SERIED_12_5[[#This Row],[IdEstablecimiento]],'[1]Establecimiento 2023'!$A$1:$E$183,5,FALSE),0)","v":"04201-Illapel"},"15080008","2022-06-20T17:17:34",1,{"$nulls":11},1]
[{"$nulls":23},6,"5",2022,"105302",{"$f":"IFERROR(VLOOKUP(Tabla_SERIED_12_5[[#This Row],[IdEstablecimiento]],'[1]Establecimiento 2023'!$A$1:$E$183,3,FALSE),0)","v":"105302-Centro de Salud Familiar Pedro Aguirre Cerda"},{"$f":"IFERROR(VLOOKUP(Tabla_SERIED_12_5[[#This Row],[IdEstablecimiento]],'[1]Establecimiento 2023'!$A$1:$E$183,5,FALSE),0)","v":"04101-La Serena"},"15900050","2022-07-14T13:36:22",3,1,2,null,1,1,1]
[{"$nulls":23},6,"5",2022,"105302",{"$f":"IFERROR(VLOOKUP(Tabla_SERIED_12_5[[#This Row],[IdEstablecimiento]],'[1]Establecimiento 2023'!$A$1:$E$183,3,FALSE),0)","v":"105302-Centro de Salud Familiar Pedro Aguirre Cerda"},{"$f":"IFERROR(VLOOKUP(Tabla_SERIED_12_5[[#This Row],[IdEstablecimiento]],'[1]Establecimiento 2023'!$A$1:$E$183,5,FALSE),0)","v":"04101-La Serena"},"15020100","2022-07-14T13:36:22",10,null,null,2,8]
[{"$nulls":23},6,"5",2022,"105302",{"$f":"IFERROR(VLOOKUP(Tabla_SERIED_12_5[[#This Row],[IdEstablecimiento]],'[1]Establecimiento 2023'!$A$1:$E$183,3,FALSE),0)","v":"105302-Centro de Salud Familiar Pedro Aguirre Cerda"},{"$f":"IFERROR(VLOOKUP(Tabla_SERIED_12_5[[#This Row],[IdEstablecimiento]],'[1]Establecimiento 2023'!$A$1:$E$183,5,FALSE),0)","v":"04101-La Serena"},"15020200","2022-07-14T13:36:22",32,{"$nulls":4},4,6,22]
[{"$nulls":23},6,"5",2022,"105302",{"$f":"IFERROR(VLOOKUP(Tabla_SERIED_12_5[[#This Row],[IdEstablecimiento]],'[1]Establecimiento 2023'!$A$1:$E$183,3,FALSE),0)","v":"105302-Centro de Salud Familiar Pedro Aguirre Cerda"},{"$f":"IFERROR(VLOOKUP(Tabla_SERIED_12_5[[#This Row],[IdEstablecimiento]],'[1]Establecimiento 2023'!$A$1:$E$183,5,FALSE),0)","v":"04101-La Serena"},"15080010","2022-07-14T13:36:22",2,{"$nulls":7},2]
[{"$nulls":23},6,"5",2022,"105302",{"$f":"IFERROR(VLOOKUP(Tabla_SERIED_12_5[[#This Row],[IdEstablecimiento]],'[1]Establecimiento 2023'!$A$1:$E$183,3,FALSE),0)","v":"105302-Centro de Salud Familiar Pedro Aguirre Cerda"},{"$f":"IFERROR(VLOOKUP(Tabla_SERIED_12_5[[#This Row],[IdEstablecimiento]],'[1]Establecimiento 2023'!$A$1:$E$183,5,FALSE),0)","v":"04101-La Serena"},"15040100","2022-07-14T13:36:22",3.2,null,null,3.2]
[{"$nulls":23},6,"5",2022,"105302",{"$f":"IFERROR(VLOOKUP(Tabla_SERIED_12_5[[#This Row],[IdEstablecimiento]],'[1]Establecimiento 2023'!$A$1:$E$183,3,FALSE),0)","v":"105302-Centro de Salud Familiar Pedro Aguirre Cerda"},{"$f":"IFERROR(VLOOKUP(Tabla_SERIED_12_5[[#This Row],[IdEstablecimiento]],'[1]Establecimiento 2023'!$A$1:$E$183,5,FALSE),0)","v":"04101-La Serena"},"15901200","2022-07-14T13:36:22",16.8,4.4,4.8,3.2,4.4]
[{"$nulls":23},6,"5",2022,"105302",{"$f":"IFERROR(VLOOKUP(Tabla_SERIED_12_5[[#This Row],[IdEstablecimiento]],'[1]Establecimiento 2023'!$A$1:$E$183,3,FALSE),0)","v":"105302-Centro de Salud Familiar Pedro Aguirre Cerda"},{"$f":"IFERROR(VLOOKUP(Tabla_SERIED_12_5[[#This Row],[IdEstablecimiento]],'[1]Establecimiento 2023'!$A$1:$E$183,5,FALSE),0)","v":"04101-La Serena"},"15901300","2022-07-14T13:36:22",8.8,{"$nulls":3},4.4,4.4]
[{"$nulls":23},6,"5",2022,"105302",{"$f":"IFERROR(VLOOKUP(Tabla_SERIED_12_5[[#This Row],[IdEstablecimiento]],'[1]Establecimiento 2023'!$A$1:$E$183,3,FALSE),0)","v":"105302-Centro de Salud Familiar Pedro Aguirre Cerda"},{"$f":"IFERROR(VLOOKUP(Tabla_SERIED_12_5[[#This Row],[IdEstablecimiento]],'[1]Establecimiento 2023'!$A$1:$E$183,5,FALSE),0)","v":"04101-La Serena"},"15060100","2022-07-14T13:36:22",23,7,16,null,null,1,4,2,3,11,2]
[{"$nulls":23},6,"5",2022,"105302",{"$f":"IFERROR(VLOOKUP(Tabla_SERIED_12_5[[#This Row],[IdEstablecimiento]],'[1]Establecimiento 2023'!$A$1:$E$183,3,FALSE),0)","v":"105302-Centro de Salud Familiar Pedro Aguirre Cerda"},{"$f":"IFERROR(VLOOKUP(Tabla_SERIED_12_5[[#This Row],[IdEstablecimiento]],'[1]Establecimiento 2023'!$A$1:$E$183,5,FALSE),0)","v":"04101-La Serena"},"15060600","2022-07-14T13:36:22",1,1,{"$nulls":3},1]
[{"$nulls":23},6,"5",2022,"105302",{"$f":"IFERROR(VLOOKUP(Tabla_SERIED_12_5[[#This Row],[IdEstablecimiento]],'[1]Establecimiento 2023'!$A$1:$E$183,3,FALSE),0)","v":"105302-Centro de Salud Familiar Pedro Aguirre Cerda"},{"$f":"IFERROR(VLOOKUP(Tabla_SERIED_12_5[[#This Row],[IdEstablecimiento]],'[1]Establecimiento 2023'!$A$1:$E$183,5,FALSE),0)","v":"04101-La Serena"},"15901400","2022-07-14T13:36:22",6,3,3,1,1,1,2,1]
[{"$nulls":23},6,"5",2022,"105302",{"$f":"IFERROR(VLOOKUP(Tabla_SERIED_12_5[[#This Row],[IdEstablecimiento]],'[1]Establecimiento 2023'!$A$1:$E$183,3,FALSE),0)","v":"105302-Centro de Salud Familiar Pedro Aguirre Cerda"},{"$f":"IFERROR(VLOOKUP(Tabla_SERIED_12_5[[#This Row],[IdEstablecimiento]],'[1]Establecimiento 2023'!$A$1:$E$183,5,FALSE),0)","v":"04101-La Serena"},"16090300","2022-07-14T13:36:22",648,648]
[{"$nulls":23},6,"5",2022,"105302",{"$f":"IFERROR(VLOOKUP(Tabla_SERIED_12_5[[#This Row],[IdEstablecimiento]],'[1]Establecimiento 2023'!$A$1:$E$183,3,FALSE),0)","v":"105302-Centro de Salud Familiar Pedro Aguirre Cerda"},{"$f":"IFERROR(VLOOKUP(Tabla_SERIED_12_5[[#This Row],[IdEstablecimiento]],'[1]Establecimiento 2023'!$A$1:$E$183,5,FALSE),0)","v":"04101-La Serena"},"16200210","2022-07-14T13:36:22",38,38]
[{"$nulls":23},6,"5",2022,"105302",{"$f":"IFERROR(VLOOKUP(Tabla_SERIED_12_5[[#This Row],[IdEstablecimiento]],'[1]Establecimiento 2023'!$A$1:$E$183,3,FALSE),0)","v":"105302-Centro de Salud Familiar Pedro Aguirre Cerda"},{"$f":"IFERROR(VLOOKUP(Tabla_SERIED_12_5[[#This Row],[IdEstablecimiento]],'[1]Establecimiento 2023'!$A$1:$E$183,5,FALSE),0)","v":"04101-La Serena"},"16090600","2022-07-14T13:36:22",1,1]
[{"$nulls":23},6,"5",2022,"105302",{"$f":"IFERROR(VLOOKUP(Tabla_SERIED_12_5[[#This Row],[IdEstablecimiento]],'[1]Establecimiento 2023'!$A$1:$E$183,3,FALSE),0)","v":"105302-Centro de Salud Familiar Pedro Aguirre Cerda"},{"$f":"IFERROR(VLOOKUP(Tabla_SERIED_12_5[[#This Row],[IdEstablecimiento]],'[1]Establecimiento 2023'!$A$1:$E$183,5,FALSE),0)","v":"04101-La Serena"},"16100300","2022-07-14T13:36:22",648,256,392,16,150]
[{"$nulls":23},6,"5",2022,"105302",{"$f":"IFERROR(VLOOKUP(Tabla_SERIED_12_5[[#This Row],[IdEstablecimiento]],'[1]Establecimiento 2023'!$A$1:$E$183,3,FALSE),0)","v":"105302-Centro de Salud Familiar Pedro Aguirre Cerda"},{"$f":"IFERROR(VLOOKUP(Tabla_SERIED_12_5[[#This Row],[IdEstablecimiento]],'[1]Establecimiento 2023'!$A$1:$E$183,5,FALSE),0)","v":"04101-La Serena"},"16200220","2022-07-14T13:36:22",38,12,26,3,5]
[{"$nulls":23},6,"5",2022,"105302",{"$f":"IFERROR(VLOOKUP(Tabla_SERIED_12_5[[#This Row],[IdEstablecimiento]],'[1]Establecimiento 2023'!$A$1:$E$183,3,FALSE),0)","v":"105302-Centro de Salud Familiar Pedro Aguirre Cerda"},{"$f":"IFERROR(VLOOKUP(Tabla_SERIED_12_5[[#This Row],[IdEstablecimiento]],'[1]Establecimiento 2023'!$A$1:$E$183,5,FALSE),0)","v":"04101-La Serena"},"16100700","2022-07-14T13:36:22",1,0,1,0,0]
[{"$nulls":23},6,"5",2022,"105303",{"$f":"IFERROR(VLOOKUP(Tabla_SERIED_12_5[[#This Row],[IdEstablecimiento]],'[1]Establecimiento 2023'!$A$1:$E$183,3,FALSE),0)","v":"105303-Centro de Salud Familiar San Juan"},{"$f":"IFERROR(VLOOKUP(Tabla_SERIED_12_5[[#This Row],[IdEstablecimiento]],'[1]Establecimiento 2023'!$A$1:$E$183,5,FALSE),0)","v":"04102-Coquimbo"},"15010100","2022-07-14T13:36:46",160,null,null,0,160,0]
[{"$nulls":23},6,"5",2022,"105303",{"$f":"IFERROR(VLOOKUP(Tabla_SERIED_12_5[[#This Row],[IdEstablecimiento]],'[1]Establecimiento 2023'!$A$1:$E$183,3,FALSE),0)","v":"105303-Centro de Salud Familiar San Juan"},{"$f":"IFERROR(VLOOKUP(Tabla_SERIED_12_5[[#This Row],[IdEstablecimiento]],'[1]Establecimiento 2023'!$A$1:$E$183,5,FALSE),0)","v":"04102-Coquimbo"},"15010200","2022-07-14T13:36:46",544,{"$nulls":4},104,242,198]
[{"$nulls":23},6,"5",2022,"105303",{"$f":"IFERROR(VLOOKUP(Tabla_SERIED_12_5[[#This Row],[IdEstablecimiento]],'[1]Establecimiento 2023'!$A$1:$E$183,3,FALSE),0)","v":"105303-Centro de Salud Familiar San Juan"},{"$f":"IFERROR(VLOOKUP(Tabla_SERIED_12_5[[#This Row],[IdEstablecimiento]],'[1]Establecimiento 2023'!$A$1:$E$183,5,FALSE),0)","v":"04102-Coquimbo"},"15080008","2022-07-14T13:36:46",153,{"$nulls":7},74,null,42,31,6]
[{"$nulls":23},6,"5",2022,"105303",{"$f":"IFERROR(VLOOKUP(Tabla_SERIED_12_5[[#This Row],[IdEstablecimiento]],'[1]Establecimiento 2023'!$A$1:$E$183,3,FALSE),0)","v":"105303-Centro de Salud Familiar San Juan"},{"$f":"IFERROR(VLOOKUP(Tabla_SERIED_12_5[[#This Row],[IdEstablecimiento]],'[1]Establecimiento 2023'!$A$1:$E$183,5,FALSE),0)","v":"04102-Coquimbo"},"15010500","2022-07-14T13:36:46",4,null,0,4,0,0,0,0]
[{"$nulls":23},6,"5",2022,"105303",{"$f":"IFERROR(VLOOKUP(Tabla_SERIED_12_5[[#This Row],[IdEstablecimiento]],'[1]Establecimiento 2023'!$A$1:$E$183,3,FALSE),0)","v":"105303-Centro de Salud Familiar San Juan"},{"$f":"IFERROR(VLOOKUP(Tabla_SERIED_12_5[[#This Row],[IdEstablecimiento]],'[1]Establecimiento 2023'!$A$1:$E$183,5,FALSE),0)","v":"04102-Coquimbo"},"15080009","2022-07-14T13:36:46",9,{"$nulls":8},9,0,0,0]
[{"$nulls":23},6,"5",2022,"105303",{"$f":"IFERROR(VLOOKUP(Tabla_SERIED_12_5[[#This Row],[IdEstablecimiento]],'[1]Establecimiento 2023'!$A$1:$E$183,3,FALSE),0)","v":"105303-Centro de Salud Familiar San Juan"},{"$f":"IFERROR(VLOOKUP(Tabla_SERIED_12_5[[#This Row],[IdEstablecimiento]],'[1]Establecimiento 2023'!$A$1:$E$183,5,FALSE),0)","v":"04102-Coquimbo"},"15900020","2022-07-14T13:36:46",270.3,27.6,71.6,171.1]
[{"$nulls":23},6,"5",2022,"105303",{"$f":"IFERROR(VLOOKUP(Tabla_SERIED_12_5[[#This Row],[IdEstablecimiento]],'[1]Establecimiento 2023'!$A$1:$E$183,3,FALSE),0)","v":"105303-Centro de Salud Familiar San Juan"},{"$f":"IFERROR(VLOOKUP(Tabla_SERIED_12_5[[#This Row],[IdEstablecimiento]],'[1]Establecimiento 2023'!$A$1:$E$183,5,FALSE),0)","v":"04102-Coquimbo"},"15050100","2022-07-14T13:36:46",539,222,317,10,21,58,44,52,121,101,74,null,21,31,6]
[{"$nulls":23},1,"5",2022,"105463",{"$f":"IFERROR(VLOOKUP(Tabla_SERIED_12_5[[#This Row],[IdEstablecimiento]],'[1]Establecimiento 2023'!$A$1:$E$183,3,FALSE),0)","v":"105463-Posta de Salud Rural Quilitapia"},{"$f":"IFERROR(VLOOKUP(Tabla_SERIED_12_5[[#This Row],[IdEstablecimiento]],'[1]Establecimiento 2023'!$A$1:$E$183,5,FALSE),0)","v":"04302-Combarbalá"},"15010200","2022-02-17T03:50:37",24,{"$nulls":4},2,12,10]
[{"$nulls":23},2,"5",2022,"105325",{"$f":"IFERROR(VLOOKUP(Tabla_SERIED_12_5[[#This Row],[IdEstablecimiento]],'[1]Establecimiento 2023'!$A$1:$E$183,3,FALSE),0)","v":"105325-Centro de Salud Familiar Juan Pablo II (La Serena)"},{"$f":"IFERROR(VLOOKUP(Tabla_SERIED_12_5[[#This Row],[IdEstablecimiento]],'[1]Establecimiento 2023'!$A$1:$E$183,5,FALSE),0)","v":"04101-La Serena"},"15900050","2022-03-17T09:32:05",12,8,4,0,1,6,1,4]
[{"$nulls":23},8,"5",2022,"105410",{"$f":"IFERROR(VLOOKUP(Tabla_SERIED_12_5[[#This Row],[IdEstablecimiento]],'[1]Establecimiento 2023'!$A$1:$E$183,3,FALSE),0)","v":"105410-Posta de Salud Rural Hurtado"},{"$f":"IFERROR(VLOOKUP(Tabla_SERIED_12_5[[#This Row],[IdEstablecimiento]],'[1]Establecimiento 2023'!$A$1:$E$183,5,FALSE),0)","v":"04305-Río Hurtado"},"15050100","2022-09-21T07:22:18",5,{"$nulls":6},1,1,1,1,null,1]
[{"$nulls":23},8,"5",2022,"105410",{"$f":"IFERROR(VLOOKUP(Tabla_SERIED_12_5[[#This Row],[IdEstablecimiento]],'[1]Establecimiento 2023'!$A$1:$E$183,3,FALSE),0)","v":"105410-Posta de Salud Rural Hurtado"},{"$f":"IFERROR(VLOOKUP(Tabla_SERIED_12_5[[#This Row],[IdEstablecimiento]],'[1]Establecimiento 2023'!$A$1:$E$183,5,FALSE),0)","v":"04305-Río Hurtado"},"16090300","2022-09-21T07:22:18",31,31]
[{"$nulls":23},8,"5",2022,"105441",{"$f":"IFERROR(VLOOKUP(Tabla_SERIED_12_5[[#This Row],[IdEstablecimiento]],'[1]Establecimiento 2023'!$A$1:$E$183,3,FALSE),0)","v":"105441-Posta de Salud Rural Manquehua"},{"$f":"IFERROR(VLOOKUP(Tabla_SERIED_12_5[[#This Row],[IdEstablecimiento]],'[1]Establecimiento 2023'!$A$1:$E$183,5,FALSE),0)","v":"04302-Combarbalá"},"16200100","2022-09-21T07:42:15",1,1]
[{"$nulls":23},8,"5",2022,"105442",{"$f":"IFERROR(VLOOKUP(Tabla_SERIED_12_5[[#This Row],[IdEstablecimiento]],'[1]Establecimiento 2023'!$A$1:$E$183,3,FALSE),0)","v":"105442-Posta de Salud Rural San Pedro de Quiles"},{"$f":"IFERROR(VLOOKUP(Tabla_SERIED_12_5[[#This Row],[IdEstablecimiento]],'[1]Establecimiento 2023'!$A$1:$E$183,5,FALSE),0)","v":"04304-Punitaqui"},"15010200","2022-09-21T07:42:32",12,{"$nulls":5},4,8]
[{"$nulls":23},2,"5",2022,"105723",{"$f":"IFERROR(VLOOKUP(Tabla_SERIED_12_5[[#This Row],[IdEstablecimiento]],'[1]Establecimiento 2023'!$A$1:$E$183,3,FALSE),0)","v":"105723-Centro Comunitario de Salud Familiar Limarí"},{"$f":"IFERROR(VLOOKUP(Tabla_SERIED_12_5[[#This Row],[IdEstablecimiento]],'[1]Establecimiento 2023'!$A$1:$E$183,5,FALSE),0)","v":"04301-Ovalle"},"15010200","2022-03-17T10:05:47",61,{"$nulls":4},14,24,23]
[{"$nulls":23},2,"5",2022,"105723",{"$f":"IFERROR(VLOOKUP(Tabla_SERIED_12_5[[#This Row],[IdEstablecimiento]],'[1]Establecimiento 2023'!$A$1:$E$183,3,FALSE),0)","v":"105723-Centro Comunitario de Salud Familiar Limarí"},{"$f":"IFERROR(VLOOKUP(Tabla_SERIED_12_5[[#This Row],[IdEstablecimiento]],'[1]Establecimiento 2023'!$A$1:$E$183,5,FALSE),0)","v":"04301-Ovalle"},"15080008","2022-03-17T10:05:47",11,{"$nulls":7},8,null,2,null,1]
[{"$nulls":23},2,"5",2022,"105723",{"$f":"IFERROR(VLOOKUP(Tabla_SERIED_12_5[[#This Row],[IdEstablecimiento]],'[1]Establecimiento 2023'!$A$1:$E$183,3,FALSE),0)","v":"105723-Centro Comunitario de Salud Familiar Limarí"},{"$f":"IFERROR(VLOOKUP(Tabla_SERIED_12_5[[#This Row],[IdEstablecimiento]],'[1]Establecimiento 2023'!$A$1:$E$183,5,FALSE),0)","v":"04301-Ovalle"},"15900010","2022-03-17T10:05:47",7.2,null,null,7.2]
[{"$nulls":23},2,"5",2022,"105723",{"$f":"IFERROR(VLOOKUP(Tabla_SERIED_12_5[[#This Row],[IdEstablecimiento]],'[1]Establecimiento 2023'!$A$1:$E$183,3,FALSE),0)","v":"105723-Centro Comunitario de Salud Familiar Limarí"},{"$f":"IFERROR(VLOOKUP(Tabla_SERIED_12_5[[#This Row],[IdEstablecimiento]],'[1]Establecimiento 2023'!$A$1:$E$183,5,FALSE),0)","v":"04301-Ovalle"},"15010400","2022-03-17T10:05:47",10,{"$nulls":5},4,6]
[{"$nulls":23},2,"5",2022,"105449",{"$f":"IFERROR(VLOOKUP(Tabla_SERIED_12_5[[#This Row],[IdEstablecimiento]],'[1]Establecimiento 2023'!$A$1:$E$183,3,FALSE),0)","v":"105449-Posta de Salud Rural Tunga Norte"},{"$f":"IFERROR(VLOOKUP(Tabla_SERIED_12_5[[#This Row],[IdEstablecimiento]],'[1]Establecimiento 2023'!$A$1:$E$183,5,FALSE),0)","v":"04201-Illapel"},"15080008","2022-03-17T09:43:47",2,{"$nulls":9},2]
[{"$nulls":23},2,"5",2022,"105449",{"$f":"IFERROR(VLOOKUP(Tabla_SERIED_12_5[[#This Row],[IdEstablecimiento]],'[1]Establecimiento 2023'!$A$1:$E$183,3,FALSE),0)","v":"105449-Posta de Salud Rural Tunga Norte"},{"$f":"IFERROR(VLOOKUP(Tabla_SERIED_12_5[[#This Row],[IdEstablecimiento]],'[1]Establecimiento 2023'!$A$1:$E$183,5,FALSE),0)","v":"04201-Illapel"},"15050100","2022-03-17T09:43:47",3,2,1,{"$nulls":6},2,null,null,1]
[{"$nulls":23},2,"5",2022,"105449",{"$f":"IFERROR(VLOOKUP(Tabla_SERIED_12_5[[#This Row],[IdEstablecimiento]],'[1]Establecimiento 2023'!$A$1:$E$183,3,FALSE),0)","v":"105449-Posta de Salud Rural Tunga Norte"},{"$f":"IFERROR(VLOOKUP(Tabla_SERIED_12_5[[#This Row],[IdEstablecimiento]],'[1]Establecimiento 2023'!$A$1:$E$183,5,FALSE),0)","v":"04201-Illapel"},"16090300","2022-03-17T09:43:47",28,28]
[{"$nulls":23},2,"5",2022,"105449",{"$f":"IFERROR(VLOOKUP(Tabla_SERIED_12_5[[#This Row],[IdEstablecimiento]],'[1]Establecimiento 2023'!$A$1:$E$183,3,FALSE),0)","v":"105449-Posta de Salud Rural Tunga Norte"},{"$f":"IFERROR(VLOOKUP(Tabla_SERIED_12_5[[#This Row],[IdEstablecimiento]],'[1]Establecimiento 2023'!$A$1:$E$183,5,FALSE),0)","v":"04201-Illapel"},"16200210","2022-03-17T09:43:47",2,2]
[{"$nulls":23},2,"5",2022,"105449",{"$f":"IFERROR(VLOOKUP(Tabla_SERIED_12_5[[#This Row],[IdEstablecimiento]],'[1]Establecimiento 2023'!$A$1:$E$183,3,FALSE),0)","v":"105449-Posta de Salud Rural Tunga Norte"},{"$f":"IFERROR(VLOOKUP(Tabla_SERIED_12_5[[#This Row],[IdEstablecimiento]],'[1]Establecimiento 2023'!$A$1:$E$183,5,FALSE),0)","v":"04201-Illapel"},"16090500","2022-03-17T09:43:47",1,1]
[{"$nulls":23},2,"5",2022,"105449",{"$f":"IFERROR(VLOOKUP(Tabla_SERIED_12_5[[#This Row],[IdEstablecimiento]],'[1]Establecimiento 2023'!$A$1:$E$183,3,FALSE),0)","v":"105449-Posta de Salud Rural Tunga Norte"},{"$f":"IFERROR(VLOOKUP(Tabla_SERIED_12_5[[#This Row],[IdEstablecimiento]],'[1]Establecimiento 2023'!$A$1:$E$183,5,FALSE),0)","v":"04201-Illapel"},"16100300","2022-03-17T09:43:47",28,13,15]
[{"$nulls":23},4,"5",2022,"105311",{"$f":"IFERROR(VLOOKUP(Tabla_SERIED_12_5[[#This Row],[IdEstablecimiento]],'[1]Establecimiento 2023'!$A$1:$E$183,3,FALSE),0)","v":"105311-Centro de Salud Familiar Chañaral Alto"},{"$f":"IFERROR(VLOOKUP(Tabla_SERIED_12_5[[#This Row],[IdEstablecimiento]],'[1]Establecimiento 2023'!$A$1:$E$183,5,FALSE),0)","v":"04303-Monte Patria"},"16100300","2022-05-18T11:51:31",155,78,77,3,7]
[{"$nulls":23},4,"5",2022,"105311",{"$f":"IFERROR(VLOOKUP(Tabla_SERIED_12_5[[#This Row],[IdEstablecimiento]],'[1]Establecimiento 2023'!$A$1:$E$183,3,FALSE),0)","v":"105311-Centro de Salud Familiar Chañaral Alto"},{"$f":"IFERROR(VLOOKUP(Tabla_SERIED_12_5[[#This Row],[IdEstablecimiento]],'[1]Establecimiento 2023'!$A$1:$E$183,5,FALSE),0)","v":"04303-Monte Patria"},"16200220","2022-05-18T11:51:31",36,15,21,1,2]
[{"$nulls":23},4,"5",2022,"105312",{"$f":"IFERROR(VLOOKUP(Tabla_SERIED_12_5[[#This Row],[IdEstablecimiento]],'[1]Establecimiento 2023'!$A$1:$E$183,3,FALSE),0)","v":"105312-Centro de Salud Familiar Carén"},{"$f":"IFERROR(VLOOKUP(Tabla_SERIED_12_5[[#This Row],[IdEstablecimiento]],'[1]Establecimiento 2023'!$A$1:$E$183,5,FALSE),0)","v":"04303-Monte Patria"},"15010100","2022-05-18T11:51:43",4,{"$nulls":3},4]
[{"$nulls":23},4,"5",2022,"105312",{"$f":"IFERROR(VLOOKUP(Tabla_SERIED_12_5[[#This Row],[IdEstablecimiento]],'[1]Establecimiento 2023'!$A$1:$E$183,3,FALSE),0)","v":"105312-Centro de Salud Familiar Carén"},{"$f":"IFERROR(VLOOKUP(Tabla_SERIED_12_5[[#This Row],[IdEstablecimiento]],'[1]Establecimiento 2023'!$A$1:$E$183,5,FALSE),0)","v":"04303-Monte Patria"},"15010200","2022-05-18T11:51:43",54,{"$nulls":4},8,22,24]
[{"$nulls":23},4,"5",2022,"105312",{"$f":"IFERROR(VLOOKUP(Tabla_SERIED_12_5[[#This Row],[IdEstablecimiento]],'[1]Establecimiento 2023'!$A$1:$E$183,3,FALSE),0)","v":"105312-Centro de Salud Familiar Carén"},{"$f":"IFERROR(VLOOKUP(Tabla_SERIED_12_5[[#This Row],[IdEstablecimiento]],'[1]Establecimiento 2023'!$A$1:$E$183,5,FALSE),0)","v":"04303-Monte Patria"},"15080008","2022-05-18T11:51:43",18,{"$nulls":7},2,null,12,2,2]
[{"$nulls":23},4,"5",2022,"105312",{"$f":"IFERROR(VLOOKUP(Tabla_SERIED_12_5[[#This Row],[IdEstablecimiento]],'[1]Establecimiento 2023'!$A$1:$E$183,3,FALSE),0)","v":"105312-Centro de Salud Familiar Carén"},{"$f":"IFERROR(VLOOKUP(Tabla_SERIED_12_5[[#This Row],[IdEstablecimiento]],'[1]Establecimiento 2023'!$A$1:$E$183,5,FALSE),0)","v":"04303-Monte Patria"},"15900010","2022-05-18T11:51:43",15.2,null,1.6,13.6]
[{"$nulls":23},1,"5",2022,"105315",{"$f":"IFERROR(VLOOKUP(Tabla_SERIED_12_5[[#This Row],[IdEstablecimiento]],'[1]Establecimiento 2023'!$A$1:$E$183,3,FALSE),0)","v":"105315-Centro de Salud Familiar Cerrillos de Tamaya"},{"$f":"IFERROR(VLOOKUP(Tabla_SERIED_12_5[[#This Row],[IdEstablecimiento]],'[1]Establecimiento 2023'!$A$1:$E$183,5,FALSE),0)","v":"04301-Ovalle"},"15080009","2022-02-16T10:48:49",3,{"$nulls":8},3]
[{"$nulls":23},1,"5",2022,"105315",{"$f":"IFERROR(VLOOKUP(Tabla_SERIED_12_5[[#This Row],[IdEstablecimiento]],'[1]Establecimiento 2023'!$A$1:$E$183,3,FALSE),0)","v":"105315-Centro de Salud Familiar Cerrillos de Tamaya"},{"$f":"IFERROR(VLOOKUP(Tabla_SERIED_12_5[[#This Row],[IdEstablecimiento]],'[1]Establecimiento 2023'!$A$1:$E$183,5,FALSE),0)","v":"04301-Ovalle"},"15901500","2022-02-16T10:48:49",19.2,2.4,13.6,3.2]
[{"$nulls":23},1,"5",2022,"105315",{"$f":"IFERROR(VLOOKUP(Tabla_SERIED_12_5[[#This Row],[IdEstablecimiento]],'[1]Establecimiento 2023'!$A$1:$E$183,3,FALSE),0)","v":"105315-Centro de Salud Familiar Cerrillos de Tamaya"},{"$f":"IFERROR(VLOOKUP(Tabla_SERIED_12_5[[#This Row],[IdEstablecimiento]],'[1]Establecimiento 2023'!$A$1:$E$183,5,FALSE),0)","v":"04301-Ovalle"},"15900030","2022-02-16T10:48:49",3.2,{"$nulls":4},3.2]
[{"$nulls":23},1,"5",2022,"105315",{"$f":"IFERROR(VLOOKUP(Tabla_SERIED_12_5[[#This Row],[IdEstablecimiento]],'[1]Establecimiento 2023'!$A$1:$E$183,3,FALSE),0)","v":"105315-Centro de Salud Familiar Cerrillos de Tamaya"},{"$f":"IFERROR(VLOOKUP(Tabla_SERIED_12_5[[#This Row],[IdEstablecimiento]],'[1]Establecimiento 2023'!$A$1:$E$183,5,FALSE),0)","v":"04301-Ovalle"},"15050100","2022-02-16T10:48:49",164,58,106,1,4,6,22,20,38,32,28,null,9,2,2]
[{"$nulls":23},2,"5",2022,"200494",{"$f":"IFERROR(VLOOKUP(Tabla_SERIED_12_5[[#This Row],[IdEstablecimiento]],'[1]Establecimiento 2023'!$A$1:$E$183,3,FALSE),0)","v":"200494-Centro de Salud Familiar El Sauce"},{"$f":"IFERROR(VLOOKUP(Tabla_SERIED_12_5[[#This Row],[IdEstablecimiento]],'[1]Establecimiento 2023'!$A$1:$E$183,5,FALSE),0)","v":"04102-Coquimbo"},"16090300","2022-03-17T10:09:07",226,226]
[{"$nulls":23},2,"5",2022,"200494",{"$f":"IFERROR(VLOOKUP(Tabla_SERIED_12_5[[#This Row],[IdEstablecimiento]],'[1]Establecimiento 2023'!$A$1:$E$183,3,FALSE),0)","v":"200494-Centro de Salud Familiar El Sauce"},{"$f":"IFERROR(VLOOKUP(Tabla_SERIED_12_5[[#This Row],[IdEstablecimiento]],'[1]Establecimiento 2023'!$A$1:$E$183,5,FALSE),0)","v":"04102-Coquimbo"},"16200210","2022-03-17T10:09:07",20,20]
[{"$nulls":23},2,"5",2022,"200494",{"$f":"IFERROR(VLOOKUP(Tabla_SERIED_12_5[[#This Row],[IdEstablecimiento]],'[1]Establecimiento 2023'!$A$1:$E$183,3,FALSE),0)","v":"200494-Centro de Salud Familiar El Sauce"},{"$f":"IFERROR(VLOOKUP(Tabla_SERIED_12_5[[#This Row],[IdEstablecimiento]],'[1]Establecimiento 2023'!$A$1:$E$183,5,FALSE),0)","v":"04102-Coquimbo"},"16100300","2022-03-17T10:09:07",226,90,136,null,72]
[{"$nulls":23},3,"5",2022,"105326",{"$f":"IFERROR(VLOOKUP(Tabla_SERIED_12_5[[#This Row],[IdEstablecimiento]],'[1]Establecimiento 2023'!$A$1:$E$183,3,FALSE),0)","v":"105326-Centro de Salud Familiar Villa San Rafael de Rozas"},{"$f":"IFERROR(VLOOKUP(Tabla_SERIED_12_5[[#This Row],[IdEstablecimiento]],'[1]Establecimiento 2023'!$A$1:$E$183,5,FALSE),0)","v":"04201-Illapel"},"15050200","2022-04-20T05:54:21",2,null,2,null,null,1,{"$nulls":5},1]
[{"$nulls":23},3,"5",2022,"105326",{"$f":"IFERROR(VLOOKUP(Tabla_SERIED_12_5[[#This Row],[IdEstablecimiento]],'[1]Establecimiento 2023'!$A$1:$E$183,3,FALSE),0)","v":"105326-Centro de Salud Familiar Villa San Rafael de Rozas"},{"$f":"IFERROR(VLOOKUP(Tabla_SERIED_12_5[[#This Row],[IdEstablecimiento]],'[1]Establecimiento 2023'!$A$1:$E$183,5,FALSE),0)","v":"04201-Illapel"},"15050500","2022-04-20T05:54:21",1,null,1,null,null,1]
[{"$nulls":23},3,"5",2022,"105326",{"$f":"IFERROR(VLOOKUP(Tabla_SERIED_12_5[[#This Row],[IdEstablecimiento]],'[1]Establecimiento 2023'!$A$1:$E$183,3,FALSE),0)","v":"105326-Centro de Salud Familiar Villa San Rafael de Rozas"},{"$f":"IFERROR(VLOOKUP(Tabla_SERIED_12_5[[#This Row],[IdEstablecimiento]],'[1]Establecimiento 2023'!$A$1:$E$183,5,FALSE),0)","v":"04201-Illapel"},"15020100","2022-04-20T05:54:21",34,null,null,2,32]
[{"$nulls":23},3,"5",2022,"105326",{"$f":"IFERROR(VLOOKUP(Tabla_SERIED_12_5[[#This Row],[IdEstablecimiento]],'[1]Establecimiento 2023'!$A$1:$E$183,3,FALSE),0)","v":"105326-Centro de Salud Familiar Villa San Rafael de Rozas"},{"$f":"IFERROR(VLOOKUP(Tabla_SERIED_12_5[[#This Row],[IdEstablecimiento]],'[1]Establecimiento 2023'!$A$1:$E$183,5,FALSE),0)","v":"04201-Illapel"},"15020200","2022-04-20T05:54:21",2,{"$nulls":5},2]
[{"$nulls":23},3,"5",2022,"105326",{"$f":"IFERROR(VLOOKUP(Tabla_SERIED_12_5[[#This Row],[IdEstablecimiento]],'[1]Establecimiento 2023'!$A$1:$E$183,3,FALSE),0)","v":"105326-Centro de Salud Familiar Villa San Rafael de Rozas"},{"$f":"IFERROR(VLOOKUP(Tabla_SERIED_12_5[[#This Row],[IdEstablecimiento]],'[1]Establecimiento 2023'!$A$1:$E$183,5,FALSE),0)","v":"04201-Illapel"},"15060100","2022-04-20T05:54:21",2,2,{"$nulls":3},1,null,null,1]
[{"$nulls":23},3,"5",2022,"105326",{"$f":"IFERROR(VLOOKUP(Tabla_SERIED_12_5[[#This Row],[IdEstablecimiento]],'[1]Establecimiento 2023'!$A$1:$E$183,3,FALSE),0)","v":"105326-Centro de Salud Familiar Villa San Rafael de Rozas"},{"$f":"IFERROR(VLOOKUP(Tabla_SERIED_12_5[[#This Row],[IdEstablecimiento]],'[1]Establecimiento 2023'!$A$1:$E$183,5,FALSE),0)","v":"04201-Illapel"},"16090300","2022-04-20T05:54:21",164,164]
[{"$nulls":23},3,"5",2022,"105326",{"$f":"IFERROR(VLOOKUP(Tabla_SERIED_12_5[[#This Row],[IdEstablecimiento]],'[1]Establecimiento 2023'!$A$1:$E$183,3,FALSE),0)","v":"105326-Centro de Salud Familiar Villa San Rafael de Rozas"},{"$f":"IFERROR(VLOOKUP(Tabla_SERIED_12_5[[#This Row],[IdEstablecimiento]],'[1]Establecimiento 2023'!$A$1:$E$183,5,FALSE),0)","v":"04201-Illapel"},"16090500","2022-04-20T05:54:21",7,7]
[{"$nulls":23},3,"5",2022,"105326",{"$f":"IFERROR(VLOOKUP(Tabla_SERIED_12_5[[#This Row],[IdEstablecimiento]],'[1]Establecimiento 2023'!$A$1:$E$183,3,FALSE),0)","v":"105326-Centro de Salud Familiar Villa San Rafael de Rozas"},{"$f":"IFERROR(VLOOKUP(Tabla_SERIED_12_5[[#This Row],[IdEstablecimiento]],'[1]Establecimiento 2023'!$A$1:$E$183,5,FALSE),0)","v":"04201-Illapel"},"16100300","2022-04-20T05:54:21",164,58,106,null,101]
[{"$nulls":23},3,"5",2022,"105326",{"$f":"IFERROR(VLOOKUP(Tabla_SERIED_12_5[[#This Row],[IdEstablecimiento]],'[1]Establecimiento 2023'!$A$1:$E$183,3,FALSE),0)","v":"105326-Centro de Salud Familiar Villa San Rafael de Rozas"},{"$f":"IFERROR(VLOOKUP(Tabla_SERIED_12_5[[#This Row],[IdEstablecimiento]],'[1]Establecimiento 2023'!$A$1:$E$183,5,FALSE),0)","v":"04201-Illapel"},"16100600","2022-04-20T05:54:21",7,3,4]
[{"$nulls":23},3,"5",2022,"105492",{"$f":"IFERROR(VLOOKUP(Tabla_SERIED_12_5[[#This Row],[IdEstablecimiento]],'[1]Establecimiento 2023'!$A$1:$E$183,3,FALSE),0)","v":"105492-Posta de Salud Rural Camisa"},{"$f":"IFERROR(VLOOKUP(Tabla_SERIED_12_5[[#This Row],[IdEstablecimiento]],'[1]Establecimiento 2023'!$A$1:$E$183,5,FALSE),0)","v":"04204-Salamanca"},"15010100","2022-04-20T05:54:44",4,{"$nulls":3},4]
[{"$nulls":23},3,"5",2022,"105492",{"$f":"IFERROR(VLOOKUP(Tabla_SERIED_12_5[[#This Row],[IdEstablecimiento]],'[1]Establecimiento 2023'!$A$1:$E$183,3,FALSE),0)","v":"105492-Posta de Salud Rural Camisa"},{"$f":"IFERROR(VLOOKUP(Tabla_SERIED_12_5[[#This Row],[IdEstablecimiento]],'[1]Establecimiento 2023'!$A$1:$E$183,5,FALSE),0)","v":"04204-Salamanca"},"15010200","2022-04-20T05:54:44",16,{"$nulls":5},8,8]
[{"$nulls":23},3,"5",2022,"105492",{"$f":"IFERROR(VLOOKUP(Tabla_SERIED_12_5[[#This Row],[IdEstablecimiento]],'[1]Establecimiento 2023'!$A$1:$E$183,3,FALSE),0)","v":"105492-Posta de Salud Rural Camisa"},{"$f":"IFERROR(VLOOKUP(Tabla_SERIED_12_5[[#This Row],[IdEstablecimiento]],'[1]Establecimiento 2023'!$A$1:$E$183,5,FALSE),0)","v":"04204-Salamanca"},"15080008","2022-04-20T05:54:44",5,{"$nulls":7},2,null,2,1]
[{"$nulls":23},2,"5",2022,"105490",{"$f":"IFERROR(VLOOKUP(Tabla_SERIED_12_5[[#This Row],[IdEstablecimiento]],'[1]Establecimiento 2023'!$A$1:$E$183,3,FALSE),0)","v":"105490-Posta de Salud Rural El Durazno(Combarbalá)"},{"$f":"IFERROR(VLOOKUP(Tabla_SERIED_12_5[[#This Row],[IdEstablecimiento]],'[1]Establecimiento 2023'!$A$1:$E$183,5,FALSE),0)","v":"04302-Combarbalá"},"15010100","2022-03-17T09:56:58",2,{"$nulls":3},2]
[{"$nulls":23},2,"5",2022,"105490",{"$f":"IFERROR(VLOOKUP(Tabla_SERIED_12_5[[#This Row],[IdEstablecimiento]],'[1]Establecimiento 2023'!$A$1:$E$183,3,FALSE),0)","v":"105490-Posta de Salud Rural El Durazno(Combarbalá)"},{"$f":"IFERROR(VLOOKUP(Tabla_SERIED_12_5[[#This Row],[IdEstablecimiento]],'[1]Establecimiento 2023'!$A$1:$E$183,5,FALSE),0)","v":"04302-Combarbalá"},"15010200","2022-03-17T09:56:58",10,{"$nulls":4},2,6,2]
[{"$nulls":23},3,"5",2022,"200402",{"$f":"IFERROR(VLOOKUP(Tabla_SERIED_12_5[[#This Row],[IdEstablecimiento]],'[1]Establecimiento 2023'!$A$1:$E$183,3,FALSE),0)","v":"200402-Centro Comunitario de Salud Familiar Arcos de Pinamar"},{"$f":"IFERROR(VLOOKUP(Tabla_SERIED_12_5[[#This Row],[IdEstablecimiento]],'[1]Establecimiento 2023'!$A$1:$E$183,5,FALSE),0)","v":"04101-La Serena"},"15900010","2022-04-19T10:15:08",40,7.2,6.4,26.4]
[{"$nulls":23},4,"5",2022,"105317",{"$f":"IFERROR(VLOOKUP(Tabla_SERIED_12_5[[#This Row],[IdEstablecimiento]],'[1]Establecimiento 2023'!$A$1:$E$183,3,FALSE),0)","v":"105317-Centro de Salud Familiar Jorge Jordán Domic"},{"$f":"IFERROR(VLOOKUP(Tabla_SERIED_12_5[[#This Row],[IdEstablecimiento]],'[1]Establecimiento 2023'!$A$1:$E$183,5,FALSE),0)","v":"04301-Ovalle"},"15050100","2022-05-18T11:52:31",512,177,335,1,9,30,56,63,98,99,86,null,36,7,27]
[{"$nulls":23},4,"5",2022,"105317",{"$f":"IFERROR(VLOOKUP(Tabla_SERIED_12_5[[#This Row],[IdEstablecimiento]],'[1]Establecimiento 2023'!$A$1:$E$183,3,FALSE),0)","v":"105317-Centro de Salud Familiar Jorge Jordán Domic"},{"$f":"IFERROR(VLOOKUP(Tabla_SERIED_12_5[[#This Row],[IdEstablecimiento]],'[1]Establecimiento 2023'!$A$1:$E$183,5,FALSE),0)","v":"04301-Ovalle"},"15050200","2022-05-18T11:52:31",17,10,7,null,1,3,null,2,3,3,null,3,2]
[{"$nulls":23},4,"5",2022,"105317",{"$f":"IFERROR(VLOOKUP(Tabla_SERIED_12_5[[#This Row],[IdEstablecimiento]],'[1]Establecimiento 2023'!$A$1:$E$183,3,FALSE),0)","v":"105317-Centro de Salud Familiar Jorge Jordán Domic"},{"$f":"IFERROR(VLOOKUP(Tabla_SERIED_12_5[[#This Row],[IdEstablecimiento]],'[1]Establecimiento 2023'!$A$1:$E$183,5,FALSE),0)","v":"04301-Ovalle"},"15050500","2022-05-18T11:52:31",5,3,2,2,1,2]
[{"$nulls":23},4,"5",2022,"105317",{"$f":"IFERROR(VLOOKUP(Tabla_SERIED_12_5[[#This Row],[IdEstablecimiento]],'[1]Establecimiento 2023'!$A$1:$E$183,3,FALSE),0)","v":"105317-Centro de Salud Familiar Jorge Jordán Domic"},{"$f":"IFERROR(VLOOKUP(Tabla_SERIED_12_5[[#This Row],[IdEstablecimiento]],'[1]Establecimiento 2023'!$A$1:$E$183,5,FALSE),0)","v":"04301-Ovalle"},"15900050","2022-05-18T11:52:31",8,6,2,1,1,3,null,1,2]
[{"$nulls":23},4,"5",2022,"105317",{"$f":"IFERROR(VLOOKUP(Tabla_SERIED_12_5[[#This Row],[IdEstablecimiento]],'[1]Establecimiento 2023'!$A$1:$E$183,3,FALSE),0)","v":"105317-Centro de Salud Familiar Jorge Jordán Domic"},{"$f":"IFERROR(VLOOKUP(Tabla_SERIED_12_5[[#This Row],[IdEstablecimiento]],'[1]Establecimiento 2023'!$A$1:$E$183,5,FALSE),0)","v":"04301-Ovalle"},"15020100","2022-05-18T11:52:31",2,{"$nulls":3},2]
[{"$nulls":23},4,"5",2022,"105317",{"$f":"IFERROR(VLOOKUP(Tabla_SERIED_12_5[[#This Row],[IdEstablecimiento]],'[1]Establecimiento 2023'!$A$1:$E$183,3,FALSE),0)","v":"105317-Centro de Salud Familiar Jorge Jordán Domic"},{"$f":"IFERROR(VLOOKUP(Tabla_SERIED_12_5[[#This Row],[IdEstablecimiento]],'[1]Establecimiento 2023'!$A$1:$E$183,5,FALSE),0)","v":"04301-Ovalle"},"15020200","2022-05-18T11:52:31",10,{"$nulls":5},6,4]
[{"$nulls":23},4,"5",2022,"105317",{"$f":"IFERROR(VLOOKUP(Tabla_SERIED_12_5[[#This Row],[IdEstablecimiento]],'[1]Establecimiento 2023'!$A$1:$E$183,3,FALSE),0)","v":"105317-Centro de Salud Familiar Jorge Jordán Domic"},{"$f":"IFERROR(VLOOKUP(Tabla_SERIED_12_5[[#This Row],[IdEstablecimiento]],'[1]Establecimiento 2023'!$A$1:$E$183,5,FALSE),0)","v":"04301-Ovalle"},"15020400","2022-05-18T11:52:31",2,{"$nulls":5},2]
[{"$nulls":23},4,"5",2022,"105317",{"$f":"IFERROR(VLOOKUP(Tabla_SERIED_12_5[[#This Row],[IdEstablecimiento]],'[1]Establecimiento 2023'!$A$1:$E$183,3,FALSE),0)","v":"105317-Centro de Salud Familiar Jorge Jordán Domic"},{"$f":"IFERROR(VLOOKUP(Tabla_SERIED_12_5[[#This Row],[IdEstablecimiento]],'[1]Establecimiento 2023'!$A$1:$E$183,5,FALSE),0)","v":"04301-Ovalle"},"15020500","2022-05-18T11:52:31",2,{"$nulls":5},2]
[{"$nulls":23},4,"5",2022,"105317",{"$f":"IFERROR(VLOOKUP(Tabla_SERIED_12_5[[#This Row],[IdEstablecimiento]],'[1]Establecimiento 2023'!$A$1:$E$183,3,FALSE),0)","v":"105317-Centro de Salud Familiar Jorge Jordán Domic"},{"$f":"IFERROR(VLOOKUP(Tabla_SERIED_12_5[[#This Row],[IdEstablecimiento]],'[1]Establecimiento 2023'!$A$1:$E$183,5,FALSE),0)","v":"04301-Ovalle"},"15060100","2022-05-18T11:52:31",6,3,3,{"$nulls":3},1,null,3,2]
[{"$nulls":23},4,"5",2022,"105317",{"$f":"IFERROR(VLOOKUP(Tabla_SERIED_12_5[[#This Row],[IdEstablecimiento]],'[1]Establecimiento 2023'!$A$1:$E$183,3,FALSE),0)","v":"105317-Centro de Salud Familiar Jorge Jordán Domic"},{"$f":"IFERROR(VLOOKUP(Tabla_SERIED_12_5[[#This Row],[IdEstablecimiento]],'[1]Establecimiento 2023'!$A$1:$E$183,5,FALSE),0)","v":"04301-Ovalle"},"15060200","2022-05-18T11:52:31",1,null,1,{"$nulls":5},1]
[{"$nulls":23},4,"5",2022,"105317",{"$f":"IFERROR(VLOOKUP(Tabla_SERIED_12_5[[#This Row],[IdEstablecimiento]],'[1]Establecimiento 2023'!$A$1:$E$183,3,FALSE),0)","v":"105317-Centro de Salud Familiar Jorge Jordán Domic"},{"$f":"IFERROR(VLOOKUP(Tabla_SERIED_12_5[[#This Row],[IdEstablecimiento]],'[1]Establecimiento 2023'!$A$1:$E$183,5,FALSE),0)","v":"04301-Ovalle"},"16090300","2022-05-18T11:52:31",717,717]
[{"$nulls":23},4,"5",2022,"105317",{"$f":"IFERROR(VLOOKUP(Tabla_SERIED_12_5[[#This Row],[IdEstablecimiento]],'[1]Establecimiento 2023'!$A$1:$E$183,3,FALSE),0)","v":"105317-Centro de Salud Familiar Jorge Jordán Domic"},{"$f":"IFERROR(VLOOKUP(Tabla_SERIED_12_5[[#This Row],[IdEstablecimiento]],'[1]Establecimiento 2023'!$A$1:$E$183,5,FALSE),0)","v":"04301-Ovalle"},"16200210","2022-05-18T11:52:31",73,73]
[{"$nulls":23},4,"5",2022,"105317",{"$f":"IFERROR(VLOOKUP(Tabla_SERIED_12_5[[#This Row],[IdEstablecimiento]],'[1]Establecimiento 2023'!$A$1:$E$183,3,FALSE),0)","v":"105317-Centro de Salud Familiar Jorge Jordán Domic"},{"$f":"IFERROR(VLOOKUP(Tabla_SERIED_12_5[[#This Row],[IdEstablecimiento]],'[1]Establecimiento 2023'!$A$1:$E$183,5,FALSE),0)","v":"04301-Ovalle"},"16100300","2022-05-18T11:52:31",717,298,419,7,107]
[{"$nulls":23},3,"5",2022,"105306",{"$f":"IFERROR(VLOOKUP(Tabla_SERIED_12_5[[#This Row],[IdEstablecimiento]],'[1]Establecimiento 2023'!$A$1:$E$183,3,FALSE),0)","v":"105306-Centro de Salud Familiar Paihuano"},{"$f":"IFERROR(VLOOKUP(Tabla_SERIED_12_5[[#This Row],[IdEstablecimiento]],'[1]Establecimiento 2023'!$A$1:$E$183,5,FALSE),0)","v":"04105-Paiguano"},"15010200","2022-04-19T08:03:33",50,{"$nulls":4},8,34,8]
[{"$nulls":23},3,"5",2022,"105306",{"$f":"IFERROR(VLOOKUP(Tabla_SERIED_12_5[[#This Row],[IdEstablecimiento]],'[1]Establecimiento 2023'!$A$1:$E$183,3,FALSE),0)","v":"105306-Centro de Salud Familiar Paihuano"},{"$f":"IFERROR(VLOOKUP(Tabla_SERIED_12_5[[#This Row],[IdEstablecimiento]],'[1]Establecimiento 2023'!$A$1:$E$183,5,FALSE),0)","v":"04105-Paiguano"},"15080008","2022-04-19T08:03:33",14,{"$nulls":7},11,null,2,null,1]
[{"$nulls":23},3,"5",2022,"105306",{"$f":"IFERROR(VLOOKUP(Tabla_SERIED_12_5[[#This Row],[IdEstablecimiento]],'[1]Establecimiento 2023'!$A$1:$E$183,3,FALSE),0)","v":"105306-Centro de Salud Familiar Paihuano"},{"$f":"IFERROR(VLOOKUP(Tabla_SERIED_12_5[[#This Row],[IdEstablecimiento]],'[1]Establecimiento 2023'!$A$1:$E$183,5,FALSE),0)","v":"04105-Paiguano"},"15900010","2022-04-19T08:03:33",3.2,null,3.2]
[{"$nulls":23},3,"5",2022,"105306",{"$f":"IFERROR(VLOOKUP(Tabla_SERIED_12_5[[#This Row],[IdEstablecimiento]],'[1]Establecimiento 2023'!$A$1:$E$183,3,FALSE),0)","v":"105306-Centro de Salud Familiar Paihuano"},{"$f":"IFERROR(VLOOKUP(Tabla_SERIED_12_5[[#This Row],[IdEstablecimiento]],'[1]Establecimiento 2023'!$A$1:$E$183,5,FALSE),0)","v":"04105-Paiguano"},"15030200","2022-04-19T08:03:33",3.6,null,null,3.6]
[{"$nulls":23},3,"5",2022,"105306",{"$f":"IFERROR(VLOOKUP(Tabla_SERIED_12_5[[#This Row],[IdEstablecimiento]],'[1]Establecimiento 2023'!$A$1:$E$183,3,FALSE),0)","v":"105306-Centro de Salud Familiar Paihuano"},{"$f":"IFERROR(VLOOKUP(Tabla_SERIED_12_5[[#This Row],[IdEstablecimiento]],'[1]Establecimiento 2023'!$A$1:$E$183,5,FALSE),0)","v":"04105-Paiguano"},"15050100","2022-04-19T08:03:33",43,16,27,null,1,null,4,4,17,4,11,null,1,null,1]
[{"$nulls":23},2,"5",2022,"105482",{"$f":"IFERROR(VLOOKUP(Tabla_SERIED_12_5[[#This Row],[IdEstablecimiento]],'[1]Establecimiento 2023'!$A$1:$E$183,3,FALSE),0)","v":"105482-Posta de Salud Rural Canela Alta"},{"$f":"IFERROR(VLOOKUP(Tabla_SERIED_12_5[[#This Row],[IdEstablecimiento]],'[1]Establecimiento 2023'!$A$1:$E$183,5,FALSE),0)","v":"04202-Canela"},"15010200","2022-03-17T09:54:38",8,{"$nulls":6},8]
[{"$nulls":23},2,"5",2022,"105482",{"$f":"IFERROR(VLOOKUP(Tabla_SERIED_12_5[[#This Row],[IdEstablecimiento]],'[1]Establecimiento 2023'!$A$1:$E$183,3,FALSE),0)","v":"105482-Posta de Salud Rural Canela Alta"},{"$f":"IFERROR(VLOOKUP(Tabla_SERIED_12_5[[#This Row],[IdEstablecimiento]],'[1]Establecimiento 2023'!$A$1:$E$183,5,FALSE),0)","v":"04202-Canela"},"15050100","2022-03-17T09:54:38",4,2,2,{"$nulls":6},4]
[{"$nulls":23},2,"5",2022,"105482",{"$f":"IFERROR(VLOOKUP(Tabla_SERIED_12_5[[#This Row],[IdEstablecimiento]],'[1]Establecimiento 2023'!$A$1:$E$183,3,FALSE),0)","v":"105482-Posta de Salud Rural Canela Alta"},{"$f":"IFERROR(VLOOKUP(Tabla_SERIED_12_5[[#This Row],[IdEstablecimiento]],'[1]Establecimiento 2023'!$A$1:$E$183,5,FALSE),0)","v":"04202-Canela"},"16090300","2022-03-17T09:54:38",80,80]
[{"$nulls":23},2,"5",2022,"105482",{"$f":"IFERROR(VLOOKUP(Tabla_SERIED_12_5[[#This Row],[IdEstablecimiento]],'[1]Establecimiento 2023'!$A$1:$E$183,3,FALSE),0)","v":"105482-Posta de Salud Rural Canela Alta"},{"$f":"IFERROR(VLOOKUP(Tabla_SERIED_12_5[[#This Row],[IdEstablecimiento]],'[1]Establecimiento 2023'!$A$1:$E$183,5,FALSE),0)","v":"04202-Canela"},"16200210","2022-03-17T09:54:38",2,2]
[{"$nulls":23},2,"5",2022,"105482",{"$f":"IFERROR(VLOOKUP(Tabla_SERIED_12_5[[#This Row],[IdEstablecimiento]],'[1]Establecimiento 2023'!$A$1:$E$183,3,FALSE),0)","v":"105482-Posta de Salud Rural Canela Alta"},{"$f":"IFERROR(VLOOKUP(Tabla_SERIED_12_5[[#This Row],[IdEstablecimiento]],'[1]Establecimiento 2023'!$A$1:$E$183,5,FALSE),0)","v":"04202-Canela"},"16100300","2022-03-17T09:54:38",80,38,42,0,15]
[{"$nulls":23},6,"5",2022,"200499",{"$f":"IFERROR(VLOOKUP(Tabla_SERIED_12_5[[#This Row],[IdEstablecimiento]],'[1]Establecimiento 2023'!$A$1:$E$183,3,FALSE),0)","v":"200499-Centro de Salud Familiar Rural Pan de Azúcar"},{"$f":"IFERROR(VLOOKUP(Tabla_SERIED_12_5[[#This Row],[IdEstablecimiento]],'[1]Establecimiento 2023'!$A$1:$E$183,5,FALSE),0)","v":"04102-Coquimbo"},"15010100","2022-07-14T14:44:07",70,null,null,12,58]
[{"$nulls":23},6,"5",2022,"200499",{"$f":"IFERROR(VLOOKUP(Tabla_SERIED_12_5[[#This Row],[IdEstablecimiento]],'[1]Establecimiento 2023'!$A$1:$E$183,3,FALSE),0)","v":"200499-Centro de Salud Familiar Rural Pan de Azúcar"},{"$f":"IFERROR(VLOOKUP(Tabla_SERIED_12_5[[#This Row],[IdEstablecimiento]],'[1]Establecimiento 2023'!$A$1:$E$183,5,FALSE),0)","v":"04102-Coquimbo"},"15010200","2022-07-14T14:44:07",299,{"$nulls":4},94,132,73]
[{"$nulls":23},6,"5",2022,"200499",{"$f":"IFERROR(VLOOKUP(Tabla_SERIED_12_5[[#This Row],[IdEstablecimiento]],'[1]Establecimiento 2023'!$A$1:$E$183,3,FALSE),0)","v":"200499-Centro de Salud Familiar Rural Pan de Azúcar"},{"$f":"IFERROR(VLOOKUP(Tabla_SERIED_12_5[[#This Row],[IdEstablecimiento]],'[1]Establecimiento 2023'!$A$1:$E$183,5,FALSE),0)","v":"04102-Coquimbo"},"15080008","2022-07-14T14:44:07",91,{"$nulls":7},50,null,28,3,10]
[{"$nulls":23},6,"5",2022,"200499",{"$f":"IFERROR(VLOOKUP(Tabla_SERIED_12_5[[#This Row],[IdEstablecimiento]],'[1]Establecimiento 2023'!$A$1:$E$183,3,FALSE),0)","v":"200499-Centro de Salud Familiar Rural Pan de Azúcar"},{"$f":"IFERROR(VLOOKUP(Tabla_SERIED_12_5[[#This Row],[IdEstablecimiento]],'[1]Establecimiento 2023'!$A$1:$E$183,5,FALSE),0)","v":"04102-Coquimbo"},"15900010","2022-07-14T14:44:07",119.2,5.2,16,98]
[{"$nulls":23},6,"5",2022,"200499",{"$f":"IFERROR(VLOOKUP(Tabla_SERIED_12_5[[#This Row],[IdEstablecimiento]],'[1]Establecimiento 2023'!$A$1:$E$183,3,FALSE),0)","v":"200499-Centro de Salud Familiar Rural Pan de Azúcar"},{"$f":"IFERROR(VLOOKUP(Tabla_SERIED_12_5[[#This Row],[IdEstablecimiento]],'[1]Establecimiento 2023'!$A$1:$E$183,5,FALSE),0)","v":"04102-Coquimbo"},"15010300","2022-07-14T14:44:07",6,null,null,2,4]
[{"$nulls":23},6,"5",2022,"200499",{"$f":"IFERROR(VLOOKUP(Tabla_SERIED_12_5[[#This Row],[IdEstablecimiento]],'[1]Establecimiento 2023'!$A$1:$E$183,3,FALSE),0)","v":"200499-Centro de Salud Familiar Rural Pan de Azúcar"},{"$f":"IFERROR(VLOOKUP(Tabla_SERIED_12_5[[#This Row],[IdEstablecimiento]],'[1]Establecimiento 2023'!$A$1:$E$183,5,FALSE),0)","v":"04102-Coquimbo"},"15010400","2022-07-14T14:44:07",2,{"$nulls":5},2]
[{"$nulls":23},6,"5",2022,"200499",{"$f":"IFERROR(VLOOKUP(Tabla_SERIED_12_5[[#This Row],[IdEstablecimiento]],'[1]Establecimiento 2023'!$A$1:$E$183,3,FALSE),0)","v":"200499-Centro de Salud Familiar Rural Pan de Azúcar"},{"$f":"IFERROR(VLOOKUP(Tabla_SERIED_12_5[[#This Row],[IdEstablecimiento]],'[1]Establecimiento 2023'!$A$1:$E$183,5,FALSE),0)","v":"04102-Coquimbo"},"15010500","2022-07-14T14:44:07",28,null,null,10,8,null,10]
[{"$nulls":23},6,"5",2022,"200499",{"$f":"IFERROR(VLOOKUP(Tabla_SERIED_12_5[[#This Row],[IdEstablecimiento]],'[1]Establecimiento 2023'!$A$1:$E$183,3,FALSE),0)","v":"200499-Centro de Salud Familiar Rural Pan de Azúcar"},{"$f":"IFERROR(VLOOKUP(Tabla_SERIED_12_5[[#This Row],[IdEstablecimiento]],'[1]Establecimiento 2023'!$A$1:$E$183,5,FALSE),0)","v":"04102-Coquimbo"},"15900020","2022-07-14T14:44:07",17.6,null,null,17.6]
[{"$nulls":23},6,"5",2022,"200499",{"$f":"IFERROR(VLOOKUP(Tabla_SERIED_12_5[[#This Row],[IdEstablecimiento]],'[1]Establecimiento 2023'!$A$1:$E$183,3,FALSE),0)","v":"200499-Centro de Salud Familiar Rural Pan de Azúcar"},{"$f":"IFERROR(VLOOKUP(Tabla_SERIED_12_5[[#This Row],[IdEstablecimiento]],'[1]Establecimiento 2023'!$A$1:$E$183,5,FALSE),0)","v":"04102-Coquimbo"},"15900030","2022-07-14T14:44:07",4.4,null,null,4.4]
[{"$nulls":23},6,"5",2022,"200499",{"$f":"IFERROR(VLOOKUP(Tabla_SERIED_12_5[[#This Row],[IdEstablecimiento]],'[1]Establecimiento 2023'!$A$1:$E$183,3,FALSE),0)","v":"200499-Centro de Salud Familiar Rural Pan de Azúcar"},{"$f":"IFERROR(VLOOKUP(Tabla_SERIED_12_5[[#This Row],[IdEstablecimiento]],'[1]Establecimiento 2023'!$A$1:$E$183,5,FALSE),0)","v":"04102-Coquimbo"},"15900040","2022-07-14T14:44:07",4.4,null,null,4.4]
[{"$nulls":23},6,"5",2022,"200499",{"$f":"IFERROR(VLOOKUP(Tabla_SERIED_12_5[[#This Row],[IdEstablecimiento]],'[1]Establecimiento 2023'!$A$1:$E$183,3,FALSE),0)","v":"200499-Centro de Salud Familiar Rural Pan de Azúcar"},{"$f":"IFERROR(VLOOKUP(Tabla_SERIED_12_5[[#This Row],[IdEstablecimiento]],'[1]Establecimiento 2023'!$A$1:$E$183,5,FALSE),0)","v":"04102-Coquimbo"},"15050100","2022-07-14T14:44:07",302,110,192,2,5,39,29,47,66,37,50,null,14,3,10]
[{"$nulls":23},6,"5",2022,"200499",{"$f":"IFERROR(VLOOKUP(Tabla_SERIED_12_5[[#This Row],[IdEstablecimiento]],'[1]Establecimiento 2023'!$A$1:$E$183,3,FALSE),0)","v":"200499-Centro de Salud Familiar Rural Pan de Azúcar"},{"$f":"IFERROR(VLOOKUP(Tabla_SERIED_12_5[[#This Row],[IdEstablecimiento]],'[1]Establecimiento 2023'!$A$1:$E$183,5,FALSE),0)","v":"04102-Coquimbo"},"15050200","2022-07-14T14:44:07",9,6,3,null,null,6,2,null,1]
[{"$nulls":23},6,"5",2022,"200499",{"$f":"IFERROR(VLOOKUP(Tabla_SERIED_12_5[[#This Row],[IdEstablecimiento]],'[1]Establecimiento 2023'!$A$1:$E$183,3,FALSE),0)","v":"200499-Centro de Salud Familiar Rural Pan de Azúcar"},{"$f":"IFERROR(VLOOKUP(Tabla_SERIED_12_5[[#This Row],[IdEstablecimiento]],'[1]Establecimiento 2023'!$A$1:$E$183,5,FALSE),0)","v":"04102-Coquimbo"},"16090300","2022-07-14T14:44:07",365,374]
[{"$nulls":23},6,"5",2022,"200499",{"$f":"IFERROR(VLOOKUP(Tabla_SERIED_12_5[[#This Row],[IdEstablecimiento]],'[1]Establecimiento 2023'!$A$1:$E$183,3,FALSE),0)","v":"200499-Centro de Salud Familiar Rural Pan de Azúcar"},{"$f":"IFERROR(VLOOKUP(Tabla_SERIED_12_5[[#This Row],[IdEstablecimiento]],'[1]Establecimiento 2023'!$A$1:$E$183,5,FALSE),0)","v":"04102-Coquimbo"},"16200210","2022-07-14T14:44:07",40,40]
[{"$nulls":23},2,"5",2022,"105414",{"$f":"IFERROR(VLOOKUP(Tabla_SERIED_12_5[[#This Row],[IdEstablecimiento]],'[1]Establecimiento 2023'!$A$1:$E$183,3,FALSE),0)","v":"105414-Posta de Salud Rural Serón"},{"$f":"IFERROR(VLOOKUP(Tabla_SERIED_12_5[[#This Row],[IdEstablecimiento]],'[1]Establecimiento 2023'!$A$1:$E$183,5,FALSE),0)","v":"04305-Río Hurtado"},"16200210","2022-03-17T09:34:54",2,2]
[{"$nulls":23},2,"5",2022,"105414",{"$f":"IFERROR(VLOOKUP(Tabla_SERIED_12_5[[#This Row],[IdEstablecimiento]],'[1]Establecimiento 2023'!$A$1:$E$183,3,FALSE),0)","v":"105414-Posta de Salud Rural Serón"},{"$f":"IFERROR(VLOOKUP(Tabla_SERIED_12_5[[#This Row],[IdEstablecimiento]],'[1]Establecimiento 2023'!$A$1:$E$183,5,FALSE),0)","v":"04305-Río Hurtado"},"16100300","2022-03-17T09:34:54",40,14,26]
[{"$nulls":23},2,"5",2022,"105414",{"$f":"IFERROR(VLOOKUP(Tabla_SERIED_12_5[[#This Row],[IdEstablecimiento]],'[1]Establecimiento 2023'!$A$1:$E$183,3,FALSE),0)","v":"105414-Posta de Salud Rural Serón"},{"$f":"IFERROR(VLOOKUP(Tabla_SERIED_12_5[[#This Row],[IdEstablecimiento]],'[1]Establecimiento 2023'!$A$1:$E$183,5,FALSE),0)","v":"04305-Río Hurtado"},"16200220","2022-03-17T09:34:54",2,2,0]
[{"$nulls":23},2,"5",2022,"105415",{"$f":"IFERROR(VLOOKUP(Tabla_SERIED_12_5[[#This Row],[IdEstablecimiento]],'[1]Establecimiento 2023'!$A$1:$E$183,3,FALSE),0)","v":"105415-Posta de Salud Rural Barraza"},{"$f":"IFERROR(VLOOKUP(Tabla_SERIED_12_5[[#This Row],[IdEstablecimiento]],'[1]Establecimiento 2023'!$A$1:$E$183,5,FALSE),0)","v":"04301-Ovalle"},"15010100","2022-03-17T09:35:07",6,null,null,4,2]
[{"$nulls":23},2,"5",2022,"105415",{"$f":"IFERROR(VLOOKUP(Tabla_SERIED_12_5[[#This Row],[IdEstablecimiento]],'[1]Establecimiento 2023'!$A$1:$E$183,3,FALSE),0)","v":"105415-Posta de Salud Rural Barraza"},{"$f":"IFERROR(VLOOKUP(Tabla_SERIED_12_5[[#This Row],[IdEstablecimiento]],'[1]Establecimiento 2023'!$A$1:$E$183,5,FALSE),0)","v":"04301-Ovalle"},"15010200","2022-03-17T09:35:07",16,{"$nulls":4},2,6,8]
[{"$nulls":23},2,"5",2022,"105415",{"$f":"IFERROR(VLOOKUP(Tabla_SERIED_12_5[[#This Row],[IdEstablecimiento]],'[1]Establecimiento 2023'!$A$1:$E$183,3,FALSE),0)","v":"105415-Posta de Salud Rural Barraza"},{"$f":"IFERROR(VLOOKUP(Tabla_SERIED_12_5[[#This Row],[IdEstablecimiento]],'[1]Establecimiento 2023'!$A$1:$E$183,5,FALSE),0)","v":"04301-Ovalle"},"15080008","2022-03-17T09:35:07",3,{"$nulls":7},3]
[{"$nulls":23},2,"5",2022,"105415",{"$f":"IFERROR(VLOOKUP(Tabla_SERIED_12_5[[#This Row],[IdEstablecimiento]],'[1]Establecimiento 2023'!$A$1:$E$183,3,FALSE),0)","v":"105415-Posta de Salud Rural Barraza"},{"$f":"IFERROR(VLOOKUP(Tabla_SERIED_12_5[[#This Row],[IdEstablecimiento]],'[1]Establecimiento 2023'!$A$1:$E$183,5,FALSE),0)","v":"04301-Ovalle"},"15010400","2022-03-17T09:35:07",2,{"$nulls":5},2]
[{"$nulls":23},2,"5",2022,"105415",{"$f":"IFERROR(VLOOKUP(Tabla_SERIED_12_5[[#This Row],[IdEstablecimiento]],'[1]Establecimiento 2023'!$A$1:$E$183,3,FALSE),0)","v":"105415-Posta de Salud Rural Barraza"},{"$f":"IFERROR(VLOOKUP(Tabla_SERIED_12_5[[#This Row],[IdEstablecimiento]],'[1]Establecimiento 2023'!$A$1:$E$183,5,FALSE),0)","v":"04301-Ovalle"},"15010500","2022-03-17T09:35:07",2,{"$nulls":5},2]
[{"$nulls":23},5,"5",2022,"105700",{"$f":"IFERROR(VLOOKUP(Tabla_SERIED_12_5[[#This Row],[IdEstablecimiento]],'[1]Establecimiento 2023'!$A$1:$E$183,3,FALSE),0)","v":"105700-Centro Comunitario de Salud Familiar Villa el Indio"},{"$f":"IFERROR(VLOOKUP(Tabla_SERIED_12_5[[#This Row],[IdEstablecimiento]],'[1]Establecimiento 2023'!$A$1:$E$183,5,FALSE),0)","v":"04101-La Serena"},"16200210","2022-06-20T17:31:37",1,1]
[{"$nulls":23},5,"5",2022,"105700",{"$f":"IFERROR(VLOOKUP(Tabla_SERIED_12_5[[#This Row],[IdEstablecimiento]],'[1]Establecimiento 2023'!$A$1:$E$183,3,FALSE),0)","v":"105700-Centro Comunitario de Salud Familiar Villa el Indio"},{"$f":"IFERROR(VLOOKUP(Tabla_SERIED_12_5[[#This Row],[IdEstablecimiento]],'[1]Establecimiento 2023'!$A$1:$E$183,5,FALSE),0)","v":"04101-La Serena"},"16100300","2022-06-20T17:31:37",66,29,37,1,13]
[{"$nulls":23},5,"5",2022,"105700",{"$f":"IFERROR(VLOOKUP(Tabla_SERIED_12_5[[#This Row],[IdEstablecimiento]],'[1]Establecimiento 2023'!$A$1:$E$183,3,FALSE),0)","v":"105700-Centro Comunitario de Salud Familiar Villa el Indio"},{"$f":"IFERROR(VLOOKUP(Tabla_SERIED_12_5[[#This Row],[IdEstablecimiento]],'[1]Establecimiento 2023'!$A$1:$E$183,5,FALSE),0)","v":"04101-La Serena"},"16200220","2022-06-20T17:31:37",1,null,1]
[{"$nulls":23},5,"5",2022,"105701",{"$f":"IFERROR(VLOOKUP(Tabla_SERIED_12_5[[#This Row],[IdEstablecimiento]],'[1]Establecimiento 2023'!$A$1:$E$183,3,FALSE),0)","v":"105701-Centro Comunitario de Salud Familiar Villa Alemania"},{"$f":"IFERROR(VLOOKUP(Tabla_SERIED_12_5[[#This Row],[IdEstablecimiento]],'[1]Establecimiento 2023'!$A$1:$E$183,5,FALSE),0)","v":"04101-La Serena"},"15010100","2022-06-20T17:31:46",6,{"$nulls":3},6]
[{"$nulls":23},5,"5",2022,"105701",{"$f":"IFERROR(VLOOKUP(Tabla_SERIED_12_5[[#This Row],[IdEstablecimiento]],'[1]Establecimiento 2023'!$A$1:$E$183,3,FALSE),0)","v":"105701-Centro Comunitario de Salud Familiar Villa Alemania"},{"$f":"IFERROR(VLOOKUP(Tabla_SERIED_12_5[[#This Row],[IdEstablecimiento]],'[1]Establecimiento 2023'!$A$1:$E$183,5,FALSE),0)","v":"04101-La Serena"},"15010200","2022-06-20T17:31:46",46,{"$nulls":4},8,18,20]
[{"$nulls":23},5,"5",2022,"105701",{"$f":"IFERROR(VLOOKUP(Tabla_SERIED_12_5[[#This Row],[IdEstablecimiento]],'[1]Establecimiento 2023'!$A$1:$E$183,3,FALSE),0)","v":"105701-Centro Comunitario de Salud Familiar Villa Alemania"},{"$f":"IFERROR(VLOOKUP(Tabla_SERIED_12_5[[#This Row],[IdEstablecimiento]],'[1]Establecimiento 2023'!$A$1:$E$183,5,FALSE),0)","v":"04101-La Serena"},"15080008","2022-06-20T17:31:46",20,{"$nulls":7},11,null,4,null,5]
[{"$nulls":23},5,"5",2022,"105701",{"$f":"IFERROR(VLOOKUP(Tabla_SERIED_12_5[[#This Row],[IdEstablecimiento]],'[1]Establecimiento 2023'!$A$1:$E$183,3,FALSE),0)","v":"105701-Centro Comunitario de Salud Familiar Villa Alemania"},{"$f":"IFERROR(VLOOKUP(Tabla_SERIED_12_5[[#This Row],[IdEstablecimiento]],'[1]Establecimiento 2023'!$A$1:$E$183,5,FALSE),0)","v":"04101-La Serena"},"15900010","2022-06-20T17:31:46",30.4,2.4,4,24]
[{"$nulls":23},5,"5",2022,"105701",{"$f":"IFERROR(VLOOKUP(Tabla_SERIED_12_5[[#This Row],[IdEstablecimiento]],'[1]Establecimiento 2023'!$A$1:$E$183,3,FALSE),0)","v":"105701-Centro Comunitario de Salud Familiar Villa Alemania"},{"$f":"IFERROR(VLOOKUP(Tabla_SERIED_12_5[[#This Row],[IdEstablecimiento]],'[1]Establecimiento 2023'!$A$1:$E$183,5,FALSE),0)","v":"04101-La Serena"},"15900030","2022-06-20T17:31:46",7.2,2.8,null,4.4]
[{"$nulls":23},5,"5",2022,"105701",{"$f":"IFERROR(VLOOKUP(Tabla_SERIED_12_5[[#This Row],[IdEstablecimiento]],'[1]Establecimiento 2023'!$A$1:$E$183,3,FALSE),0)","v":"105701-Centro Comunitario de Salud Familiar Villa Alemania"},{"$f":"IFERROR(VLOOKUP(Tabla_SERIED_12_5[[#This Row],[IdEstablecimiento]],'[1]Establecimiento 2023'!$A$1:$E$183,5,FALSE),0)","v":"04101-La Serena"},"15050100","2022-06-20T17:31:46",54,23,31,1,1,8,3,4,9,10,11,null,2,null,5]
[{"$nulls":23},5,"5",2022,"105701",{"$f":"IFERROR(VLOOKUP(Tabla_SERIED_12_5[[#This Row],[IdEstablecimiento]],'[1]Establecimiento 2023'!$A$1:$E$183,3,FALSE),0)","v":"105701-Centro Comunitario de Salud Familiar Villa Alemania"},{"$f":"IFERROR(VLOOKUP(Tabla_SERIED_12_5[[#This Row],[IdEstablecimiento]],'[1]Establecimiento 2023'!$A$1:$E$183,5,FALSE),0)","v":"04101-La Serena"},"15900050","2022-06-20T17:31:46",2,1,1,1,null,1]
[{"$nulls":23},5,"5",2022,"105701",{"$f":"IFERROR(VLOOKUP(Tabla_SERIED_12_5[[#This Row],[IdEstablecimiento]],'[1]Establecimiento 2023'!$A$1:$E$183,3,FALSE),0)","v":"105701-Centro Comunitario de Salud Familiar Villa Alemania"},{"$f":"IFERROR(VLOOKUP(Tabla_SERIED_12_5[[#This Row],[IdEstablecimiento]],'[1]Establecimiento 2023'!$A$1:$E$183,5,FALSE),0)","v":"04101-La Serena"},"16090300","2022-06-20T17:31:46",27,27]
[{"$nulls":23},5,"5",2022,"105701",{"$f":"IFERROR(VLOOKUP(Tabla_SERIED_12_5[[#This Row],[IdEstablecimiento]],'[1]Establecimiento 2023'!$A$1:$E$183,3,FALSE),0)","v":"105701-Centro Comunitario de Salud Familiar Villa Alemania"},{"$f":"IFERROR(VLOOKUP(Tabla_SERIED_12_5[[#This Row],[IdEstablecimiento]],'[1]Establecimiento 2023'!$A$1:$E$183,5,FALSE),0)","v":"04101-La Serena"},"16090500","2022-06-20T17:31:46",3,3]
[{"$nulls":23},5,"5",2022,"105701",{"$f":"IFERROR(VLOOKUP(Tabla_SERIED_12_5[[#This Row],[IdEstablecimiento]],'[1]Establecimiento 2023'!$A$1:$E$183,3,FALSE),0)","v":"105701-Centro Comunitario de Salud Familiar Villa Alemania"},{"$f":"IFERROR(VLOOKUP(Tabla_SERIED_12_5[[#This Row],[IdEstablecimiento]],'[1]Establecimiento 2023'!$A$1:$E$183,5,FALSE),0)","v":"04101-La Serena"},"16100300","2022-06-20T17:31:46",27,8,19,null,5]
[{"$nulls":23},8,"5",2022,"105104",{"$f":"IFERROR(VLOOKUP(Tabla_SERIED_12_5[[#This Row],[IdEstablecimiento]],'[1]Establecimiento 2023'!$A$1:$E$183,3,FALSE),0)","v":"105104-Hospital de Salamanca"},{"$f":"IFERROR(VLOOKUP(Tabla_SERIED_12_5[[#This Row],[IdEstablecimiento]],'[1]Establecimiento 2023'!$A$1:$E$183,5,FALSE),0)","v":"105104-Hospital Salamanca"},"15010400","2022-09-21T07:13:31",2,{"$nulls":4},0,0,2]
[{"$nulls":23},8,"5",2022,"105104",{"$f":"IFERROR(VLOOKUP(Tabla_SERIED_12_5[[#This Row],[IdEstablecimiento]],'[1]Establecimiento 2023'!$A$1:$E$183,3,FALSE),0)","v":"105104-Hospital de Salamanca"},{"$f":"IFERROR(VLOOKUP(Tabla_SERIED_12_5[[#This Row],[IdEstablecimiento]],'[1]Establecimiento 2023'!$A$1:$E$183,5,FALSE),0)","v":"105104-Hospital Salamanca"},"15010500","2022-09-21T07:13:31",2,null,0,0,0,0,0,2]
[{"$nulls":23},8,"5",2022,"105104",{"$f":"IFERROR(VLOOKUP(Tabla_SERIED_12_5[[#This Row],[IdEstablecimiento]],'[1]Establecimiento 2023'!$A$1:$E$183,3,FALSE),0)","v":"105104-Hospital de Salamanca"},{"$f":"IFERROR(VLOOKUP(Tabla_SERIED_12_5[[#This Row],[IdEstablecimiento]],'[1]Establecimiento 2023'!$A$1:$E$183,5,FALSE),0)","v":"105104-Hospital Salamanca"},"15030100","2022-09-21T07:13:31",1.2,0,0,1.2]
[{"$nulls":23},2,"5",2022,"105325",{"$f":"IFERROR(VLOOKUP(Tabla_SERIED_12_5[[#This Row],[IdEstablecimiento]],'[1]Establecimiento 2023'!$A$1:$E$183,3,FALSE),0)","v":"105325-Centro de Salud Familiar Juan Pablo II (La Serena)"},{"$f":"IFERROR(VLOOKUP(Tabla_SERIED_12_5[[#This Row],[IdEstablecimiento]],'[1]Establecimiento 2023'!$A$1:$E$183,5,FALSE),0)","v":"04101-La Serena"},"15020200","2022-03-17T09:32:05",5,{"$nulls":4},0,1,4]
[{"$nulls":23},2,"5",2022,"105325",{"$f":"IFERROR(VLOOKUP(Tabla_SERIED_12_5[[#This Row],[IdEstablecimiento]],'[1]Establecimiento 2023'!$A$1:$E$183,3,FALSE),0)","v":"105325-Centro de Salud Familiar Juan Pablo II (La Serena)"},{"$f":"IFERROR(VLOOKUP(Tabla_SERIED_12_5[[#This Row],[IdEstablecimiento]],'[1]Establecimiento 2023'!$A$1:$E$183,5,FALSE),0)","v":"04101-La Serena"},"15060100","2022-03-17T09:32:05",4,0,4,0,0,0,0,0,1,3,0,null,0,0,0]
[{"$nulls":23},2,"5",2022,"105325",{"$f":"IFERROR(VLOOKUP(Tabla_SERIED_12_5[[#This Row],[IdEstablecimiento]],'[1]Establecimiento 2023'!$A$1:$E$183,3,FALSE),0)","v":"105325-Centro de Salud Familiar Juan Pablo II (La Serena)"},{"$f":"IFERROR(VLOOKUP(Tabla_SERIED_12_5[[#This Row],[IdEstablecimiento]],'[1]Establecimiento 2023'!$A$1:$E$183,5,FALSE),0)","v":"04101-La Serena"},"16090300","2022-03-17T09:32:05",214,214]
[{"$nulls":23},2,"5",2022,"105325",{"$f":"IFERROR(VLOOKUP(Tabla_SERIED_12_5[[#This Row],[IdEstablecimiento]],'[1]Establecimiento 2023'!$A$1:$E$183,3,FALSE),0)","v":"105325-Centro de Salud Familiar Juan Pablo II (La Serena)"},{"$f":"IFERROR(VLOOKUP(Tabla_SERIED_12_5[[#This Row],[IdEstablecimiento]],'[1]Establecimiento 2023'!$A$1:$E$183,5,FALSE),0)","v":"04101-La Serena"},"16200210","2022-03-17T09:32:05",21,21]
[{"$nulls":23},6,"5",2022,"105439",{"$f":"IFERROR(VLOOKUP(Tabla_SERIED_12_5[[#This Row],[IdEstablecimiento]],'[1]Establecimiento 2023'!$A$1:$E$183,3,FALSE),0)","v":"105439-Posta de Salud Rural Cerro Blanco"},{"$f":"IFERROR(VLOOKUP(Tabla_SERIED_12_5[[#This Row],[IdEstablecimiento]],'[1]Establecimiento 2023'!$A$1:$E$183,5,FALSE),0)","v":"04301-Ovalle"},"15010500","2022-07-14T14:14:56",2,{"$nulls":5},2]
[{"$nulls":23},6,"5",2022,"105439",{"$f":"IFERROR(VLOOKUP(Tabla_SERIED_12_5[[#This Row],[IdEstablecimiento]],'[1]Establecimiento 2023'!$A$1:$E$183,3,FALSE),0)","v":"105439-Posta de Salud Rural Cerro Blanco"},{"$f":"IFERROR(VLOOKUP(Tabla_SERIED_12_5[[#This Row],[IdEstablecimiento]],'[1]Establecimiento 2023'!$A$1:$E$183,5,FALSE),0)","v":"04301-Ovalle"},"15050100","2022-07-14T14:14:56",1,1,{"$nulls":7},1]
[{"$nulls":23},6,"5",2022,"105439",{"$f":"IFERROR(VLOOKUP(Tabla_SERIED_12_5[[#This Row],[IdEstablecimiento]],'[1]Establecimiento 2023'!$A$1:$E$183,3,FALSE),0)","v":"105439-Posta de Salud Rural Cerro Blanco"},{"$f":"IFERROR(VLOOKUP(Tabla_SERIED_12_5[[#This Row],[IdEstablecimiento]],'[1]Establecimiento 2023'!$A$1:$E$183,5,FALSE),0)","v":"04301-Ovalle"},"15050200","2022-07-14T14:14:56",1,null,1,{"$nulls":5},1]
[{"$nulls":23},6,"5",2022,"105439",{"$f":"IFERROR(VLOOKUP(Tabla_SERIED_12_5[[#This Row],[IdEstablecimiento]],'[1]Establecimiento 2023'!$A$1:$E$183,3,FALSE),0)","v":"105439-Posta de Salud Rural Cerro Blanco"},{"$f":"IFERROR(VLOOKUP(Tabla_SERIED_12_5[[#This Row],[IdEstablecimiento]],'[1]Establecimiento 2023'!$A$1:$E$183,5,FALSE),0)","v":"04301-Ovalle"},"15020100","2022-07-14T14:14:56",2,{"$nulls":3},2]
[{"$nulls":23},6,"5",2022,"105439",{"$f":"IFERROR(VLOOKUP(Tabla_SERIED_12_5[[#This Row],[IdEstablecimiento]],'[1]Establecimiento 2023'!$A$1:$E$183,3,FALSE),0)","v":"105439-Posta de Salud Rural Cerro Blanco"},{"$f":"IFERROR(VLOOKUP(Tabla_SERIED_12_5[[#This Row],[IdEstablecimiento]],'[1]Establecimiento 2023'!$A$1:$E$183,5,FALSE),0)","v":"04301-Ovalle"},"15060100","2022-07-14T14:14:56",1,null,1,{"$nulls":3},1]
[{"$nulls":23},6,"5",2022,"105439",{"$f":"IFERROR(VLOOKUP(Tabla_SERIED_12_5[[#This Row],[IdEstablecimiento]],'[1]Establecimiento 2023'!$A$1:$E$183,3,FALSE),0)","v":"105439-Posta de Salud Rural Cerro Blanco"},{"$f":"IFERROR(VLOOKUP(Tabla_SERIED_12_5[[#This Row],[IdEstablecimiento]],'[1]Establecimiento 2023'!$A$1:$E$183,5,FALSE),0)","v":"04301-Ovalle"},"16090300","2022-07-14T14:14:56",54,54]
[{"$nulls":23},6,"5",2022,"105439",{"$f":"IFERROR(VLOOKUP(Tabla_SERIED_12_5[[#This Row],[IdEstablecimiento]],'[1]Establecimiento 2023'!$A$1:$E$183,3,FALSE),0)","v":"105439-Posta de Salud Rural Cerro Blanco"},{"$f":"IFERROR(VLOOKUP(Tabla_SERIED_12_5[[#This Row],[IdEstablecimiento]],'[1]Establecimiento 2023'!$A$1:$E$183,5,FALSE),0)","v":"04301-Ovalle"},"16200210","2022-07-14T14:14:56",3,3]
[{"$nulls":23},6,"5",2022,"105439",{"$f":"IFERROR(VLOOKUP(Tabla_SERIED_12_5[[#This Row],[IdEstablecimiento]],'[1]Establecimiento 2023'!$A$1:$E$183,3,FALSE),0)","v":"105439-Posta de Salud Rural Cerro Blanco"},{"$f":"IFERROR(VLOOKUP(Tabla_SERIED_12_5[[#This Row],[IdEstablecimiento]],'[1]Establecimiento 2023'!$A$1:$E$183,5,FALSE),0)","v":"04301-Ovalle"},"16100300","2022-07-14T14:14:56",54,22,32,null,10]
[{"$nulls":23},6,"5",2022,"105439",{"$f":"IFERROR(VLOOKUP(Tabla_SERIED_12_5[[#This Row],[IdEstablecimiento]],'[1]Establecimiento 2023'!$A$1:$E$183,3,FALSE),0)","v":"105439-Posta de Salud Rural Cerro Blanco"},{"$f":"IFERROR(VLOOKUP(Tabla_SERIED_12_5[[#This Row],[IdEstablecimiento]],'[1]Establecimiento 2023'!$A$1:$E$183,5,FALSE),0)","v":"04301-Ovalle"},"16200220","2022-07-14T14:14:56",3,null,3]
[{"$nulls":23},6,"5",2022,"105439",{"$f":"IFERROR(VLOOKUP(Tabla_SERIED_12_5[[#This Row],[IdEstablecimiento]],'[1]Establecimiento 2023'!$A$1:$E$183,3,FALSE),0)","v":"105439-Posta de Salud Rural Cerro Blanco"},{"$f":"IFERROR(VLOOKUP(Tabla_SERIED_12_5[[#This Row],[IdEstablecimiento]],'[1]Establecimiento 2023'!$A$1:$E$183,5,FALSE),0)","v":"04301-Ovalle"},"16200100","2022-07-14T14:14:56",54,22,32]
[{"$nulls":23},6,"5",2022,"105439",{"$f":"IFERROR(VLOOKUP(Tabla_SERIED_12_5[[#This Row],[IdEstablecimiento]],'[1]Establecimiento 2023'!$A$1:$E$183,3,FALSE),0)","v":"105439-Posta de Salud Rural Cerro Blanco"},{"$f":"IFERROR(VLOOKUP(Tabla_SERIED_12_5[[#This Row],[IdEstablecimiento]],'[1]Establecimiento 2023'!$A$1:$E$183,5,FALSE),0)","v":"04301-Ovalle"},"16200230","2022-07-14T14:14:56",3,1,2]
[{"$nulls":23},6,"5",2022,"105440",{"$f":"IFERROR(VLOOKUP(Tabla_SERIED_12_5[[#This Row],[IdEstablecimiento]],'[1]Establecimiento 2023'!$A$1:$E$183,3,FALSE),0)","v":"105440-Posta de Salud Rural Divisadero"},{"$f":"IFERROR(VLOOKUP(Tabla_SERIED_12_5[[#This Row],[IdEstablecimiento]],'[1]Establecimiento 2023'!$A$1:$E$183,5,FALSE),0)","v":"04304-Punitaqui"},"15010200","2022-07-14T14:15:08",6,{"$nulls":6},6]
[{"$nulls":23},6,"5",2022,"105440",{"$f":"IFERROR(VLOOKUP(Tabla_SERIED_12_5[[#This Row],[IdEstablecimiento]],'[1]Establecimiento 2023'!$A$1:$E$183,3,FALSE),0)","v":"105440-Posta de Salud Rural Divisadero"},{"$f":"IFERROR(VLOOKUP(Tabla_SERIED_12_5[[#This Row],[IdEstablecimiento]],'[1]Establecimiento 2023'!$A$1:$E$183,5,FALSE),0)","v":"04304-Punitaqui"},"15050100","2022-07-14T14:15:08",3,2,1,{"$nulls":4},3]
[{"$nulls":23},6,"5",2022,"105440",{"$f":"IFERROR(VLOOKUP(Tabla_SERIED_12_5[[#This Row],[IdEstablecimiento]],'[1]Establecimiento 2023'!$A$1:$E$183,3,FALSE),0)","v":"105440-Posta de Salud Rural Divisadero"},{"$f":"IFERROR(VLOOKUP(Tabla_SERIED_12_5[[#This Row],[IdEstablecimiento]],'[1]Establecimiento 2023'!$A$1:$E$183,5,FALSE),0)","v":"04304-Punitaqui"},"16090300","2022-07-14T14:15:08",53,53]
[{"$nulls":23},6,"5",2022,"105440",{"$f":"IFERROR(VLOOKUP(Tabla_SERIED_12_5[[#This Row],[IdEstablecimiento]],'[1]Establecimiento 2023'!$A$1:$E$183,3,FALSE),0)","v":"105440-Posta de Salud Rural Divisadero"},{"$f":"IFERROR(VLOOKUP(Tabla_SERIED_12_5[[#This Row],[IdEstablecimiento]],'[1]Establecimiento 2023'!$A$1:$E$183,5,FALSE),0)","v":"04304-Punitaqui"},"16100300","2022-07-14T14:15:08",53,25,28]
[{"$nulls":23},6,"5",2022,"105441",{"$f":"IFERROR(VLOOKUP(Tabla_SERIED_12_5[[#This Row],[IdEstablecimiento]],'[1]Establecimiento 2023'!$A$1:$E$183,3,FALSE),0)","v":"105441-Posta de Salud Rural Manquehua"},{"$f":"IFERROR(VLOOKUP(Tabla_SERIED_12_5[[#This Row],[IdEstablecimiento]],'[1]Establecimiento 2023'!$A$1:$E$183,5,FALSE),0)","v":"04302-Combarbalá"},"15010100","2022-07-14T14:15:22",2,{"$nulls":3},2]
[{"$nulls":23},6,"5",2022,"105441",{"$f":"IFERROR(VLOOKUP(Tabla_SERIED_12_5[[#This Row],[IdEstablecimiento]],'[1]Establecimiento 2023'!$A$1:$E$183,3,FALSE),0)","v":"105441-Posta de Salud Rural Manquehua"},{"$f":"IFERROR(VLOOKUP(Tabla_SERIED_12_5[[#This Row],[IdEstablecimiento]],'[1]Establecimiento 2023'!$A$1:$E$183,5,FALSE),0)","v":"04302-Combarbalá"},"15010200","2022-07-14T14:15:22",14,{"$nulls":4},6,4,4]
[{"$nulls":23},6,"5",2022,"105441",{"$f":"IFERROR(VLOOKUP(Tabla_SERIED_12_5[[#This Row],[IdEstablecimiento]],'[1]Establecimiento 2023'!$A$1:$E$183,3,FALSE),0)","v":"105441-Posta de Salud Rural Manquehua"},{"$f":"IFERROR(VLOOKUP(Tabla_SERIED_12_5[[#This Row],[IdEstablecimiento]],'[1]Establecimiento 2023'!$A$1:$E$183,5,FALSE),0)","v":"04302-Combarbalá"},"15080008","2022-07-14T14:15:22",2,{"$nulls":7},2]
[{"$nulls":23},6,"5",2022,"105441",{"$f":"IFERROR(VLOOKUP(Tabla_SERIED_12_5[[#This Row],[IdEstablecimiento]],'[1]Establecimiento 2023'!$A$1:$E$183,3,FALSE),0)","v":"105441-Posta de Salud Rural Manquehua"},{"$f":"IFERROR(VLOOKUP(Tabla_SERIED_12_5[[#This Row],[IdEstablecimiento]],'[1]Establecimiento 2023'!$A$1:$E$183,5,FALSE),0)","v":"04302-Combarbalá"},"15050100","2022-07-14T14:15:22",10,5,5,{"$nulls":3},1,3,2,2,2]
[{"$nulls":23},6,"5",2022,"105441",{"$f":"IFERROR(VLOOKUP(Tabla_SERIED_12_5[[#This Row],[IdEstablecimiento]],'[1]Establecimiento 2023'!$A$1:$E$183,3,FALSE),0)","v":"105441-Posta de Salud Rural Manquehua"},{"$f":"IFERROR(VLOOKUP(Tabla_SERIED_12_5[[#This Row],[IdEstablecimiento]],'[1]Establecimiento 2023'!$A$1:$E$183,5,FALSE),0)","v":"04302-Combarbalá"},"16090300","2022-07-14T14:15:22",67,67]
[{"$nulls":23},6,"5",2022,"105441",{"$f":"IFERROR(VLOOKUP(Tabla_SERIED_12_5[[#This Row],[IdEstablecimiento]],'[1]Establecimiento 2023'!$A$1:$E$183,3,FALSE),0)","v":"105441-Posta de Salud Rural Manquehua"},{"$f":"IFERROR(VLOOKUP(Tabla_SERIED_12_5[[#This Row],[IdEstablecimiento]],'[1]Establecimiento 2023'!$A$1:$E$183,5,FALSE),0)","v":"04302-Combarbalá"},"16200210","2022-07-14T14:15:22",13,13]
[{"$nulls":23},6,"5",2022,"105441",{"$f":"IFERROR(VLOOKUP(Tabla_SERIED_12_5[[#This Row],[IdEstablecimiento]],'[1]Establecimiento 2023'!$A$1:$E$183,3,FALSE),0)","v":"105441-Posta de Salud Rural Manquehua"},{"$f":"IFERROR(VLOOKUP(Tabla_SERIED_12_5[[#This Row],[IdEstablecimiento]],'[1]Establecimiento 2023'!$A$1:$E$183,5,FALSE),0)","v":"04302-Combarbalá"},"16100300","2022-07-14T14:15:22",42,23,19]
[{"$nulls":23},6,"5",2022,"105441",{"$f":"IFERROR(VLOOKUP(Tabla_SERIED_12_5[[#This Row],[IdEstablecimiento]],'[1]Establecimiento 2023'!$A$1:$E$183,3,FALSE),0)","v":"105441-Posta de Salud Rural Manquehua"},{"$f":"IFERROR(VLOOKUP(Tabla_SERIED_12_5[[#This Row],[IdEstablecimiento]],'[1]Establecimiento 2023'!$A$1:$E$183,5,FALSE),0)","v":"04302-Combarbalá"},"16200220","2022-07-14T14:15:22",9,3,6,1]
[{"$nulls":23},6,"5",2022,"105442",{"$f":"IFERROR(VLOOKUP(Tabla_SERIED_12_5[[#This Row],[IdEstablecimiento]],'[1]Establecimiento 2023'!$A$1:$E$183,3,FALSE),0)","v":"105442-Posta de Salud Rural San Pedro de Quiles"},{"$f":"IFERROR(VLOOKUP(Tabla_SERIED_12_5[[#This Row],[IdEstablecimiento]],'[1]Establecimiento 2023'!$A$1:$E$183,5,FALSE),0)","v":"04304-Punitaqui"},"15010200","2022-07-14T14:15:35",10,{"$nulls":5},2,8]
[{"$nulls":23},6,"5",2022,"105442",{"$f":"IFERROR(VLOOKUP(Tabla_SERIED_12_5[[#This Row],[IdEstablecimiento]],'[1]Establecimiento 2023'!$A$1:$E$183,3,FALSE),0)","v":"105442-Posta de Salud Rural San Pedro de Quiles"},{"$f":"IFERROR(VLOOKUP(Tabla_SERIED_12_5[[#This Row],[IdEstablecimiento]],'[1]Establecimiento 2023'!$A$1:$E$183,5,FALSE),0)","v":"04304-Punitaqui"},"15050100","2022-07-14T14:15:35",5,3,2,{"$nulls":5},1,4]
[{"$nulls":23},6,"5",2022,"105442",{"$f":"IFERROR(VLOOKUP(Tabla_SERIED_12_5[[#This Row],[IdEstablecimiento]],'[1]Establecimiento 2023'!$A$1:$E$183,3,FALSE),0)","v":"105442-Posta de Salud Rural San Pedro de Quiles"},{"$f":"IFERROR(VLOOKUP(Tabla_SERIED_12_5[[#This Row],[IdEstablecimiento]],'[1]Establecimiento 2023'!$A$1:$E$183,5,FALSE),0)","v":"04304-Punitaqui"},"16090300","2022-07-14T14:15:35",21,21]
[{"$nulls":23},6,"5",2022,"105442",{"$f":"IFERROR(VLOOKUP(Tabla_SERIED_12_5[[#This Row],[IdEstablecimiento]],'[1]Establecimiento 2023'!$A$1:$E$183,3,FALSE),0)","v":"105442-Posta de Salud Rural San Pedro de Quiles"},{"$f":"IFERROR(VLOOKUP(Tabla_SERIED_12_5[[#This Row],[IdEstablecimiento]],'[1]Establecimiento 2023'!$A$1:$E$183,5,FALSE),0)","v":"04304-Punitaqui"},"16200210","2022-07-14T14:15:35",1,1]
[{"$nulls":23},5,"5",2022,"105700",{"$f":"IFERROR(VLOOKUP(Tabla_SERIED_12_5[[#This Row],[IdEstablecimiento]],'[1]Establecimiento 2023'!$A$1:$E$183,3,FALSE),0)","v":"105700-Centro Comunitario de Salud Familiar Villa el Indio"},{"$f":"IFERROR(VLOOKUP(Tabla_SERIED_12_5[[#This Row],[IdEstablecimiento]],'[1]Establecimiento 2023'!$A$1:$E$183,5,FALSE),0)","v":"04101-La Serena"},"15900050","2022-06-20T17:31:37",2,1,1,null,null,2]
[{"$nulls":23},5,"5",2022,"105700",{"$f":"IFERROR(VLOOKUP(Tabla_SERIED_12_5[[#This Row],[IdEstablecimiento]],'[1]Establecimiento 2023'!$A$1:$E$183,3,FALSE),0)","v":"105700-Centro Comunitario de Salud Familiar Villa el Indio"},{"$f":"IFERROR(VLOOKUP(Tabla_SERIED_12_5[[#This Row],[IdEstablecimiento]],'[1]Establecimiento 2023'!$A$1:$E$183,5,FALSE),0)","v":"04101-La Serena"},"16090300","2022-06-20T17:31:37",66,66]
[{"$nulls":23},6,"5",2022,"105106",{"$f":"IFERROR(VLOOKUP(Tabla_SERIED_12_5[[#This Row],[IdEstablecimiento]],'[1]Establecimiento 2023'!$A$1:$E$183,3,FALSE),0)","v":"105106-Hospital Dr. José Arraño (Andacollo)"},{"$f":"IFERROR(VLOOKUP(Tabla_SERIED_12_5[[#This Row],[IdEstablecimiento]],'[1]Establecimiento 2023'!$A$1:$E$183,5,FALSE),0)","v":"105106-Hospital Andacollo"},"15020200","2022-07-14T12:56:04",6,{"$nulls":4},4,2]
[{"$nulls":23},6,"5",2022,"105106",{"$f":"IFERROR(VLOOKUP(Tabla_SERIED_12_5[[#This Row],[IdEstablecimiento]],'[1]Establecimiento 2023'!$A$1:$E$183,3,FALSE),0)","v":"105106-Hospital Dr. José Arraño (Andacollo)"},{"$f":"IFERROR(VLOOKUP(Tabla_SERIED_12_5[[#This Row],[IdEstablecimiento]],'[1]Establecimiento 2023'!$A$1:$E$183,5,FALSE),0)","v":"105106-Hospital Andacollo"},"15060100","2022-07-14T12:56:04",3,2,1,{"$nulls":4},2,1]
[{"$nulls":23},6,"5",2022,"105106",{"$f":"IFERROR(VLOOKUP(Tabla_SERIED_12_5[[#This Row],[IdEstablecimiento]],'[1]Establecimiento 2023'!$A$1:$E$183,3,FALSE),0)","v":"105106-Hospital Dr. José Arraño (Andacollo)"},{"$f":"IFERROR(VLOOKUP(Tabla_SERIED_12_5[[#This Row],[IdEstablecimiento]],'[1]Establecimiento 2023'!$A$1:$E$183,5,FALSE),0)","v":"105106-Hospital Andacollo"},"16090300","2022-07-14T12:56:04",302,300]
[{"$nulls":23},6,"5",2022,"105106",{"$f":"IFERROR(VLOOKUP(Tabla_SERIED_12_5[[#This Row],[IdEstablecimiento]],'[1]Establecimiento 2023'!$A$1:$E$183,3,FALSE),0)","v":"105106-Hospital Dr. José Arraño (Andacollo)"},{"$f":"IFERROR(VLOOKUP(Tabla_SERIED_12_5[[#This Row],[IdEstablecimiento]],'[1]Establecimiento 2023'!$A$1:$E$183,5,FALSE),0)","v":"105106-Hospital Andacollo"},"16200210","2022-07-14T12:56:04",25,24]
[{"$nulls":23},6,"5",2022,"105106",{"$f":"IFERROR(VLOOKUP(Tabla_SERIED_12_5[[#This Row],[IdEstablecimiento]],'[1]Establecimiento 2023'!$A$1:$E$183,3,FALSE),0)","v":"105106-Hospital Dr. José Arraño (Andacollo)"},{"$f":"IFERROR(VLOOKUP(Tabla_SERIED_12_5[[#This Row],[IdEstablecimiento]],'[1]Establecimiento 2023'!$A$1:$E$183,5,FALSE),0)","v":"105106-Hospital Andacollo"},"16090600","2022-07-14T12:56:04",1,1]
[{"$nulls":23},6,"5",2022,"105106",{"$f":"IFERROR(VLOOKUP(Tabla_SERIED_12_5[[#This Row],[IdEstablecimiento]],'[1]Establecimiento 2023'!$A$1:$E$183,3,FALSE),0)","v":"105106-Hospital Dr. José Arraño (Andacollo)"},{"$f":"IFERROR(VLOOKUP(Tabla_SERIED_12_5[[#This Row],[IdEstablecimiento]],'[1]Establecimiento 2023'!$A$1:$E$183,5,FALSE),0)","v":"105106-Hospital Andacollo"},"16100300","2022-07-14T12:56:04",302,134,168,19,72]
[{"$nulls":23},6,"5",2022,"105106",{"$f":"IFERROR(VLOOKUP(Tabla_SERIED_12_5[[#This Row],[IdEstablecimiento]],'[1]Establecimiento 2023'!$A$1:$E$183,3,FALSE),0)","v":"105106-Hospital Dr. José Arraño (Andacollo)"},{"$f":"IFERROR(VLOOKUP(Tabla_SERIED_12_5[[#This Row],[IdEstablecimiento]],'[1]Establecimiento 2023'!$A$1:$E$183,5,FALSE),0)","v":"105106-Hospital Andacollo"},"16200220","2022-07-14T12:56:04",25,13,12,4,8]
[{"$nulls":23},6,"5",2022,"105106",{"$f":"IFERROR(VLOOKUP(Tabla_SERIED_12_5[[#This Row],[IdEstablecimiento]],'[1]Establecimiento 2023'!$A$1:$E$183,3,FALSE),0)","v":"105106-Hospital Dr. José Arraño (Andacollo)"},{"$f":"IFERROR(VLOOKUP(Tabla_SERIED_12_5[[#This Row],[IdEstablecimiento]],'[1]Establecimiento 2023'!$A$1:$E$183,5,FALSE),0)","v":"105106-Hospital Andacollo"},"16100700","2022-07-14T12:56:04",1,1,0,0,0]
[{"$nulls":23},6,"5",2022,"105106",{"$f":"IFERROR(VLOOKUP(Tabla_SERIED_12_5[[#This Row],[IdEstablecimiento]],'[1]Establecimiento 2023'!$A$1:$E$183,3,FALSE),0)","v":"105106-Hospital Dr. José Arraño (Andacollo)"},{"$f":"IFERROR(VLOOKUP(Tabla_SERIED_12_5[[#This Row],[IdEstablecimiento]],'[1]Establecimiento 2023'!$A$1:$E$183,5,FALSE),0)","v":"105106-Hospital Andacollo"},"16200100","2022-07-14T12:56:04",1,1,null,null,1]
[{"$nulls":23},6,"5",2022,"105106",{"$f":"IFERROR(VLOOKUP(Tabla_SERIED_12_5[[#This Row],[IdEstablecimiento]],'[1]Establecimiento 2023'!$A$1:$E$183,3,FALSE),0)","v":"105106-Hospital Dr. José Arraño (Andacollo)"},{"$f":"IFERROR(VLOOKUP(Tabla_SERIED_12_5[[#This Row],[IdEstablecimiento]],'[1]Establecimiento 2023'!$A$1:$E$183,5,FALSE),0)","v":"105106-Hospital Andacollo"},"16200200","2022-07-14T12:56:04",1,1]
[{"$nulls":23},6,"5",2022,"105409",{"$f":"IFERROR(VLOOKUP(Tabla_SERIED_12_5[[#This Row],[IdEstablecimiento]],'[1]Establecimiento 2023'!$A$1:$E$183,3,FALSE),0)","v":"105409-Posta de Salud Rural El Chañar"},{"$f":"IFERROR(VLOOKUP(Tabla_SERIED_12_5[[#This Row],[IdEstablecimiento]],'[1]Establecimiento 2023'!$A$1:$E$183,5,FALSE),0)","v":"04305-Río Hurtado"},"15080008","2022-07-14T14:52:09",2,{"$nulls":7},2]
[{"$nulls":23},6,"5",2022,"105409",{"$f":"IFERROR(VLOOKUP(Tabla_SERIED_12_5[[#This Row],[IdEstablecimiento]],'[1]Establecimiento 2023'!$A$1:$E$183,3,FALSE),0)","v":"105409-Posta de Salud Rural El Chañar"},{"$f":"IFERROR(VLOOKUP(Tabla_SERIED_12_5[[#This Row],[IdEstablecimiento]],'[1]Establecimiento 2023'!$A$1:$E$183,5,FALSE),0)","v":"04305-Río Hurtado"},"15050100","2022-07-14T14:52:09",3,null,3,{"$nulls":6},1,2]
[{"$nulls":23},6,"5",2022,"105409",{"$f":"IFERROR(VLOOKUP(Tabla_SERIED_12_5[[#This Row],[IdEstablecimiento]],'[1]Establecimiento 2023'!$A$1:$E$183,3,FALSE),0)","v":"105409-Posta de Salud Rural El Chañar"},{"$f":"IFERROR(VLOOKUP(Tabla_SERIED_12_5[[#This Row],[IdEstablecimiento]],'[1]Establecimiento 2023'!$A$1:$E$183,5,FALSE),0)","v":"04305-Río Hurtado"},"16090300","2022-07-14T14:52:09",18,18]
[{"$nulls":23},6,"5",2022,"105409",{"$f":"IFERROR(VLOOKUP(Tabla_SERIED_12_5[[#This Row],[IdEstablecimiento]],'[1]Establecimiento 2023'!$A$1:$E$183,3,FALSE),0)","v":"105409-Posta de Salud Rural El Chañar"},{"$f":"IFERROR(VLOOKUP(Tabla_SERIED_12_5[[#This Row],[IdEstablecimiento]],'[1]Establecimiento 2023'!$A$1:$E$183,5,FALSE),0)","v":"04305-Río Hurtado"},"16200210","2022-07-14T14:52:09",2,2]
[{"$nulls":23},6,"5",2022,"105409",{"$f":"IFERROR(VLOOKUP(Tabla_SERIED_12_5[[#This Row],[IdEstablecimiento]],'[1]Establecimiento 2023'!$A$1:$E$183,3,FALSE),0)","v":"105409-Posta de Salud Rural El Chañar"},{"$f":"IFERROR(VLOOKUP(Tabla_SERIED_12_5[[#This Row],[IdEstablecimiento]],'[1]Establecimiento 2023'!$A$1:$E$183,5,FALSE),0)","v":"04305-Río Hurtado"},"16100300","2022-07-14T14:52:09",18,6,12]
[{"$nulls":23},6,"5",2022,"105409",{"$f":"IFERROR(VLOOKUP(Tabla_SERIED_12_5[[#This Row],[IdEstablecimiento]],'[1]Establecimiento 2023'!$A$1:$E$183,3,FALSE),0)","v":"105409-Posta de Salud Rural El Chañar"},{"$f":"IFERROR(VLOOKUP(Tabla_SERIED_12_5[[#This Row],[IdEstablecimiento]],'[1]Establecimiento 2023'!$A$1:$E$183,5,FALSE),0)","v":"04305-Río Hurtado"},"16200220","2022-07-14T14:52:09",2,1,1]
[{"$nulls":23},6,"5",2022,"105410",{"$f":"IFERROR(VLOOKUP(Tabla_SERIED_12_5[[#This Row],[IdEstablecimiento]],'[1]Establecimiento 2023'!$A$1:$E$183,3,FALSE),0)","v":"105410-Posta de Salud Rural Hurtado"},{"$f":"IFERROR(VLOOKUP(Tabla_SERIED_12_5[[#This Row],[IdEstablecimiento]],'[1]Establecimiento 2023'!$A$1:$E$183,5,FALSE),0)","v":"04305-Río Hurtado"},"15010200","2022-07-14T14:52:25",8,{"$nulls":4},4,2,2]
[{"$nulls":23},7,"5",2022,"200367",{"$f":"IFERROR(VLOOKUP(Tabla_SERIED_12_5[[#This Row],[IdEstablecimiento]],'[1]Establecimiento 2023'!$A$1:$E$183,3,FALSE),0)","v":"200367-Centro Comunitario de Salud Familiar Colonia Limarí"},{"$f":"IFERROR(VLOOKUP(Tabla_SERIED_12_5[[#This Row],[IdEstablecimiento]],'[1]Establecimiento 2023'!$A$1:$E$183,5,FALSE),0)","v":"04301-Ovalle"},"15060100","2022-08-22T06:48:40",2,0,2,{"$nulls":3},2]
[{"$nulls":23},7,"5",2022,"200367",{"$f":"IFERROR(VLOOKUP(Tabla_SERIED_12_5[[#This Row],[IdEstablecimiento]],'[1]Establecimiento 2023'!$A$1:$E$183,3,FALSE),0)","v":"200367-Centro Comunitario de Salud Familiar Colonia Limarí"},{"$f":"IFERROR(VLOOKUP(Tabla_SERIED_12_5[[#This Row],[IdEstablecimiento]],'[1]Establecimiento 2023'!$A$1:$E$183,5,FALSE),0)","v":"04301-Ovalle"},"16090300","2022-08-22T06:48:40",164,164]
[{"$nulls":23},7,"5",2022,"200367",{"$f":"IFERROR(VLOOKUP(Tabla_SERIED_12_5[[#This Row],[IdEstablecimiento]],'[1]Establecimiento 2023'!$A$1:$E$183,3,FALSE),0)","v":"200367-Centro Comunitario de Salud Familiar Colonia Limarí"},{"$f":"IFERROR(VLOOKUP(Tabla_SERIED_12_5[[#This Row],[IdEstablecimiento]],'[1]Establecimiento 2023'!$A$1:$E$183,5,FALSE),0)","v":"04301-Ovalle"},"16200210","2022-08-22T06:48:40",10,10]
[{"$nulls":23},7,"5",2022,"200367",{"$f":"IFERROR(VLOOKUP(Tabla_SERIED_12_5[[#This Row],[IdEstablecimiento]],'[1]Establecimiento 2023'!$A$1:$E$183,3,FALSE),0)","v":"200367-Centro Comunitario de Salud Familiar Colonia Limarí"},{"$f":"IFERROR(VLOOKUP(Tabla_SERIED_12_5[[#This Row],[IdEstablecimiento]],'[1]Establecimiento 2023'!$A$1:$E$183,5,FALSE),0)","v":"04301-Ovalle"},"16100300","2022-08-22T06:48:40",164,76,88,3,14]
[{"$nulls":23},7,"5",2022,"200367",{"$f":"IFERROR(VLOOKUP(Tabla_SERIED_12_5[[#This Row],[IdEstablecimiento]],'[1]Establecimiento 2023'!$A$1:$E$183,3,FALSE),0)","v":"200367-Centro Comunitario de Salud Familiar Colonia Limarí"},{"$f":"IFERROR(VLOOKUP(Tabla_SERIED_12_5[[#This Row],[IdEstablecimiento]],'[1]Establecimiento 2023'!$A$1:$E$183,5,FALSE),0)","v":"04301-Ovalle"},"16200220","2022-08-22T06:48:40",10,2,8,0,1]
[{"$nulls":23},7,"5",2022,"200367",{"$f":"IFERROR(VLOOKUP(Tabla_SERIED_12_5[[#This Row],[IdEstablecimiento]],'[1]Establecimiento 2023'!$A$1:$E$183,3,FALSE),0)","v":"200367-Centro Comunitario de Salud Familiar Colonia Limarí"},{"$f":"IFERROR(VLOOKUP(Tabla_SERIED_12_5[[#This Row],[IdEstablecimiento]],'[1]Establecimiento 2023'!$A$1:$E$183,5,FALSE),0)","v":"04301-Ovalle"},"16200100","2022-08-22T06:48:40",7,4,3,0,0]
[{"$nulls":23},7,"5",2022,"200402",{"$f":"IFERROR(VLOOKUP(Tabla_SERIED_12_5[[#This Row],[IdEstablecimiento]],'[1]Establecimiento 2023'!$A$1:$E$183,3,FALSE),0)","v":"200402-Centro Comunitario de Salud Familiar Arcos de Pinamar"},{"$f":"IFERROR(VLOOKUP(Tabla_SERIED_12_5[[#This Row],[IdEstablecimiento]],'[1]Establecimiento 2023'!$A$1:$E$183,5,FALSE),0)","v":"04101-La Serena"},"15010100","2022-08-22T06:48:52",20,null,null,2,18]
[{"$nulls":23},7,"5",2022,"200402",{"$f":"IFERROR(VLOOKUP(Tabla_SERIED_12_5[[#This Row],[IdEstablecimiento]],'[1]Establecimiento 2023'!$A$1:$E$183,3,FALSE),0)","v":"200402-Centro Comunitario de Salud Familiar Arcos de Pinamar"},{"$f":"IFERROR(VLOOKUP(Tabla_SERIED_12_5[[#This Row],[IdEstablecimiento]],'[1]Establecimiento 2023'!$A$1:$E$183,5,FALSE),0)","v":"04101-La Serena"},"15010200","2022-08-22T06:48:52",70,{"$nulls":4},16,28,26]
[{"$nulls":23},7,"5",2022,"200402",{"$f":"IFERROR(VLOOKUP(Tabla_SERIED_12_5[[#This Row],[IdEstablecimiento]],'[1]Establecimiento 2023'!$A$1:$E$183,3,FALSE),0)","v":"200402-Centro Comunitario de Salud Familiar Arcos de Pinamar"},{"$f":"IFERROR(VLOOKUP(Tabla_SERIED_12_5[[#This Row],[IdEstablecimiento]],'[1]Establecimiento 2023'!$A$1:$E$183,5,FALSE),0)","v":"04101-La Serena"},"15080008","2022-08-22T06:48:52",15,{"$nulls":7},7,null,6,null,2]
[{"$nulls":23},7,"5",2022,"200402",{"$f":"IFERROR(VLOOKUP(Tabla_SERIED_12_5[[#This Row],[IdEstablecimiento]],'[1]Establecimiento 2023'!$A$1:$E$183,3,FALSE),0)","v":"200402-Centro Comunitario de Salud Familiar Arcos de Pinamar"},{"$f":"IFERROR(VLOOKUP(Tabla_SERIED_12_5[[#This Row],[IdEstablecimiento]],'[1]Establecimiento 2023'!$A$1:$E$183,5,FALSE),0)","v":"04101-La Serena"},"15900010","2022-08-22T06:48:52",20,null,4,16]
[{"$nulls":23},7,"5",2022,"200402",{"$f":"IFERROR(VLOOKUP(Tabla_SERIED_12_5[[#This Row],[IdEstablecimiento]],'[1]Establecimiento 2023'!$A$1:$E$183,3,FALSE),0)","v":"200402-Centro Comunitario de Salud Familiar Arcos de Pinamar"},{"$f":"IFERROR(VLOOKUP(Tabla_SERIED_12_5[[#This Row],[IdEstablecimiento]],'[1]Establecimiento 2023'!$A$1:$E$183,5,FALSE),0)","v":"04101-La Serena"},"15900030","2022-08-22T06:48:52",3.2,{"$nulls":3},3.2]
[{"$nulls":23},7,"5",2022,"200402",{"$f":"IFERROR(VLOOKUP(Tabla_SERIED_12_5[[#This Row],[IdEstablecimiento]],'[1]Establecimiento 2023'!$A$1:$E$183,3,FALSE),0)","v":"200402-Centro Comunitario de Salud Familiar Arcos de Pinamar"},{"$f":"IFERROR(VLOOKUP(Tabla_SERIED_12_5[[#This Row],[IdEstablecimiento]],'[1]Establecimiento 2023'!$A$1:$E$183,5,FALSE),0)","v":"04101-La Serena"},"15900040","2022-08-22T06:48:52",3.6,{"$nulls":3},3.6]
[{"$nulls":23},7,"5",2022,"200402",{"$f":"IFERROR(VLOOKUP(Tabla_SERIED_12_5[[#This Row],[IdEstablecimiento]],'[1]Establecimiento 2023'!$A$1:$E$183,3,FALSE),0)","v":"200402-Centro Comunitario de Salud Familiar Arcos de Pinamar"},{"$f":"IFERROR(VLOOKUP(Tabla_SERIED_12_5[[#This Row],[IdEstablecimiento]],'[1]Establecimiento 2023'!$A$1:$E$183,5,FALSE),0)","v":"04101-La Serena"},"15050100","2022-08-22T06:48:52",63,31,32,null,1,6,9,8,14,13,7,null,3,null,2]
[{"$nulls":23},7,"5",2022,"200402",{"$f":"IFERROR(VLOOKUP(Tabla_SERIED_12_5[[#This Row],[IdEstablecimiento]],'[1]Establecimiento 2023'!$A$1:$E$183,3,FALSE),0)","v":"200402-Centro Comunitario de Salud Familiar Arcos de Pinamar"},{"$f":"IFERROR(VLOOKUP(Tabla_SERIED_12_5[[#This Row],[IdEstablecimiento]],'[1]Establecimiento 2023'!$A$1:$E$183,5,FALSE),0)","v":"04101-La Serena"},"15900050","2022-08-22T06:48:52",3,2,1,{"$nulls":3},3]
[{"$nulls":23},7,"5",2022,"200402",{"$f":"IFERROR(VLOOKUP(Tabla_SERIED_12_5[[#This Row],[IdEstablecimiento]],'[1]Establecimiento 2023'!$A$1:$E$183,3,FALSE),0)","v":"200402-Centro Comunitario de Salud Familiar Arcos de Pinamar"},{"$f":"IFERROR(VLOOKUP(Tabla_SERIED_12_5[[#This Row],[IdEstablecimiento]],'[1]Establecimiento 2023'!$A$1:$E$183,5,FALSE),0)","v":"04101-La Serena"},"15020200","2022-08-22T06:48:52",2,{"$nulls":5},2]
[{"$nulls":23},7,"5",2022,"200402",{"$f":"IFERROR(VLOOKUP(Tabla_SERIED_12_5[[#This Row],[IdEstablecimiento]],'[1]Establecimiento 2023'!$A$1:$E$183,3,FALSE),0)","v":"200402-Centro Comunitario de Salud Familiar Arcos de Pinamar"},{"$f":"IFERROR(VLOOKUP(Tabla_SERIED_12_5[[#This Row],[IdEstablecimiento]],'[1]Establecimiento 2023'!$A$1:$E$183,5,FALSE),0)","v":"04101-La Serena"},"15060100","2022-08-22T06:48:52",1,1,{"$nulls":6},1]
[{"$nulls":23},7,"5",2022,"200402",{"$f":"IFERROR(VLOOKUP(Tabla_SERIED_12_5[[#This Row],[IdEstablecimiento]],'[1]Establecimiento 2023'!$A$1:$E$183,3,FALSE),0)","v":"200402-Centro Comunitario de Salud Familiar Arcos de Pinamar"},{"$f":"IFERROR(VLOOKUP(Tabla_SERIED_12_5[[#This Row],[IdEstablecimiento]],'[1]Establecimiento 2023'!$A$1:$E$183,5,FALSE),0)","v":"04101-La Serena"},"16090300","2022-08-22T06:48:52",41,41]
[{"$nulls":23},7,"5",2022,"200402",{"$f":"IFERROR(VLOOKUP(Tabla_SERIED_12_5[[#This Row],[IdEstablecimiento]],'[1]Establecimiento 2023'!$A$1:$E$183,3,FALSE),0)","v":"200402-Centro Comunitario de Salud Familiar Arcos de Pinamar"},{"$f":"IFERROR(VLOOKUP(Tabla_SERIED_12_5[[#This Row],[IdEstablecimiento]],'[1]Establecimiento 2023'!$A$1:$E$183,5,FALSE),0)","v":"04101-La Serena"},"16200210","2022-08-22T06:48:52",4,4]
[{"$nulls":23},7,"5",2022,"200402",{"$f":"IFERROR(VLOOKUP(Tabla_SERIED_12_5[[#This Row],[IdEstablecimiento]],'[1]Establecimiento 2023'!$A$1:$E$183,3,FALSE),0)","v":"200402-Centro Comunitario de Salud Familiar Arcos de Pinamar"},{"$f":"IFERROR(VLOOKUP(Tabla_SERIED_12_5[[#This Row],[IdEstablecimiento]],'[1]Establecimiento 2023'!$A$1:$E$183,5,FALSE),0)","v":"04101-La Serena"},"16100300","2022-08-22T06:48:52",41,18,23,2,8]
[{"$nulls":23},7,"5",2022,"200402",{"$f":"IFERROR(VLOOKUP(Tabla_SERIED_12_5[[#This Row],[IdEstablecimiento]],'[1]Establecimiento 2023'!$A$1:$E$183,3,FALSE),0)","v":"200402-Centro Comunitario de Salud Familiar Arcos de Pinamar"},{"$f":"IFERROR(VLOOKUP(Tabla_SERIED_12_5[[#This Row],[IdEstablecimiento]],'[1]Establecimiento 2023'!$A$1:$E$183,5,FALSE),0)","v":"04101-La Serena"},"16200220","2022-08-22T06:48:52",4,2,2,0,0]
[{"$nulls":23},7,"5",2022,"200494",{"$f":"IFERROR(VLOOKUP(Tabla_SERIED_12_5[[#This Row],[IdEstablecimiento]],'[1]Establecimiento 2023'!$A$1:$E$183,3,FALSE),0)","v":"200494-Centro de Salud Familiar El Sauce"},{"$f":"IFERROR(VLOOKUP(Tabla_SERIED_12_5[[#This Row],[IdEstablecimiento]],'[1]Establecimiento 2023'!$A$1:$E$183,5,FALSE),0)","v":"04102-Coquimbo"},"15010100","2022-08-22T06:49:06",132,{"$nulls":3},132]
[{"$nulls":23},4,"5",2022,"105437",{"$f":"IFERROR(VLOOKUP(Tabla_SERIED_12_5[[#This Row],[IdEstablecimiento]],'[1]Establecimiento 2023'!$A$1:$E$183,3,FALSE),0)","v":"105437-Posta de Salud Rural Chalinga"},{"$f":"IFERROR(VLOOKUP(Tabla_SERIED_12_5[[#This Row],[IdEstablecimiento]],'[1]Establecimiento 2023'!$A$1:$E$183,5,FALSE),0)","v":"04301-Ovalle"},"15900010","2022-05-18T14:57:14",7.2,null,4,3.2]
[{"$nulls":23},4,"5",2022,"105437",{"$f":"IFERROR(VLOOKUP(Tabla_SERIED_12_5[[#This Row],[IdEstablecimiento]],'[1]Establecimiento 2023'!$A$1:$E$183,3,FALSE),0)","v":"105437-Posta de Salud Rural Chalinga"},{"$f":"IFERROR(VLOOKUP(Tabla_SERIED_12_5[[#This Row],[IdEstablecimiento]],'[1]Establecimiento 2023'!$A$1:$E$183,5,FALSE),0)","v":"04301-Ovalle"},"15010400","2022-05-18T14:57:14",4,{"$nulls":5},4]
[{"$nulls":23},4,"5",2022,"105437",{"$f":"IFERROR(VLOOKUP(Tabla_SERIED_12_5[[#This Row],[IdEstablecimiento]],'[1]Establecimiento 2023'!$A$1:$E$183,3,FALSE),0)","v":"105437-Posta de Salud Rural Chalinga"},{"$f":"IFERROR(VLOOKUP(Tabla_SERIED_12_5[[#This Row],[IdEstablecimiento]],'[1]Establecimiento 2023'!$A$1:$E$183,5,FALSE),0)","v":"04301-Ovalle"},"15010500","2022-05-18T14:57:14",4,{"$nulls":5},4]
[{"$nulls":23},5,"5",2022,"105313",{"$f":"IFERROR(VLOOKUP(Tabla_SERIED_12_5[[#This Row],[IdEstablecimiento]],'[1]Establecimiento 2023'!$A$1:$E$183,3,FALSE),0)","v":"105313-Centro de Salud Familiar Dr. Emilio Schaffhauser"},{"$f":"IFERROR(VLOOKUP(Tabla_SERIED_12_5[[#This Row],[IdEstablecimiento]],'[1]Establecimiento 2023'!$A$1:$E$183,5,FALSE),0)","v":"04101-La Serena"},"15050100","2022-06-20T17:03:27",593,198,395,16,24,52,68,37,100,82,126,null,37,14,37]
[{"$nulls":23},5,"5",2022,"105313",{"$f":"IFERROR(VLOOKUP(Tabla_SERIED_12_5[[#This Row],[IdEstablecimiento]],'[1]Establecimiento 2023'!$A$1:$E$183,3,FALSE),0)","v":"105313-Centro de Salud Familiar Dr. Emilio Schaffhauser"},{"$f":"IFERROR(VLOOKUP(Tabla_SERIED_12_5[[#This Row],[IdEstablecimiento]],'[1]Establecimiento 2023'!$A$1:$E$183,5,FALSE),0)","v":"04101-La Serena"},"15050200","2022-06-20T17:03:27",6,4,2,{"$nulls":4},2,2,null,null,2]
[{"$nulls":23},5,"5",2022,"105313",{"$f":"IFERROR(VLOOKUP(Tabla_SERIED_12_5[[#This Row],[IdEstablecimiento]],'[1]Establecimiento 2023'!$A$1:$E$183,3,FALSE),0)","v":"105313-Centro de Salud Familiar Dr. Emilio Schaffhauser"},{"$f":"IFERROR(VLOOKUP(Tabla_SERIED_12_5[[#This Row],[IdEstablecimiento]],'[1]Establecimiento 2023'!$A$1:$E$183,5,FALSE),0)","v":"04101-La Serena"},"15050500","2022-06-20T17:03:27",4,2,2,null,2,2]
[{"$nulls":23},3,"5",2022,"105311",{"$f":"IFERROR(VLOOKUP(Tabla_SERIED_12_5[[#This Row],[IdEstablecimiento]],'[1]Establecimiento 2023'!$A$1:$E$183,3,FALSE),0)","v":"105311-Centro de Salud Familiar Chañaral Alto"},{"$f":"IFERROR(VLOOKUP(Tabla_SERIED_12_5[[#This Row],[IdEstablecimiento]],'[1]Establecimiento 2023'!$A$1:$E$183,5,FALSE),0)","v":"04303-Monte Patria"},"15010500","2022-04-19T08:08:42",16,{"$nulls":4},2,10,4]
[{"$nulls":23},3,"5",2022,"105311",{"$f":"IFERROR(VLOOKUP(Tabla_SERIED_12_5[[#This Row],[IdEstablecimiento]],'[1]Establecimiento 2023'!$A$1:$E$183,3,FALSE),0)","v":"105311-Centro de Salud Familiar Chañaral Alto"},{"$f":"IFERROR(VLOOKUP(Tabla_SERIED_12_5[[#This Row],[IdEstablecimiento]],'[1]Establecimiento 2023'!$A$1:$E$183,5,FALSE),0)","v":"04303-Monte Patria"},"15080009","2022-04-19T08:08:42",3,{"$nulls":8},3]
[{"$nulls":23},3,"5",2022,"105311",{"$f":"IFERROR(VLOOKUP(Tabla_SERIED_12_5[[#This Row],[IdEstablecimiento]],'[1]Establecimiento 2023'!$A$1:$E$183,3,FALSE),0)","v":"105311-Centro de Salud Familiar Chañaral Alto"},{"$f":"IFERROR(VLOOKUP(Tabla_SERIED_12_5[[#This Row],[IdEstablecimiento]],'[1]Establecimiento 2023'!$A$1:$E$183,5,FALSE),0)","v":"04303-Monte Patria"},"15050100","2022-04-19T08:08:42",104,42,62,1,1,5,10,6,27,25,17,null,8,null,4]
[{"$nulls":23},4,"5",2022,"105302",{"$f":"IFERROR(VLOOKUP(Tabla_SERIED_12_5[[#This Row],[IdEstablecimiento]],'[1]Establecimiento 2023'!$A$1:$E$183,3,FALSE),0)","v":"105302-Centro de Salud Familiar Pedro Aguirre Cerda"},{"$f":"IFERROR(VLOOKUP(Tabla_SERIED_12_5[[#This Row],[IdEstablecimiento]],'[1]Establecimiento 2023'!$A$1:$E$183,5,FALSE),0)","v":"04101-La Serena"},"15050200","2022-05-18T11:49:37",9,1,8,null,null,1,1,null,4,1,null,2]
[{"$nulls":23},2,"5",2022,"105422",{"$f":"IFERROR(VLOOKUP(Tabla_SERIED_12_5[[#This Row],[IdEstablecimiento]],'[1]Establecimiento 2023'!$A$1:$E$183,3,FALSE),0)","v":"105422-Posta de Salud Rural Hornillos"},{"$f":"IFERROR(VLOOKUP(Tabla_SERIED_12_5[[#This Row],[IdEstablecimiento]],'[1]Establecimiento 2023'!$A$1:$E$183,5,FALSE),0)","v":"04301-Ovalle"},"15010200","2022-03-17T09:36:01",14,{"$nulls":5},4,10]
[{"$nulls":23},3,"5",2022,"105308",{"$f":"IFERROR(VLOOKUP(Tabla_SERIED_12_5[[#This Row],[IdEstablecimiento]],'[1]Establecimiento 2023'!$A$1:$E$183,3,FALSE),0)","v":"105308-Centro de Salud Familiar Punitaqui"},{"$f":"IFERROR(VLOOKUP(Tabla_SERIED_12_5[[#This Row],[IdEstablecimiento]],'[1]Establecimiento 2023'!$A$1:$E$183,5,FALSE),0)","v":"04304-Punitaqui"},"16200220","2022-04-19T08:08:07",4,1,3]
[{"$nulls":23},3,"5",2022,"105309",{"$f":"IFERROR(VLOOKUP(Tabla_SERIED_12_5[[#This Row],[IdEstablecimiento]],'[1]Establecimiento 2023'!$A$1:$E$183,3,FALSE),0)","v":"105309-Centro de Salud Familiar Canela"},{"$f":"IFERROR(VLOOKUP(Tabla_SERIED_12_5[[#This Row],[IdEstablecimiento]],'[1]Establecimiento 2023'!$A$1:$E$183,5,FALSE),0)","v":"04202-Canela"},"15010100","2022-04-19T08:08:19",37,null,null,2,34,{"$nulls":3},1]
[{"$nulls":23},3,"5",2022,"105309",{"$f":"IFERROR(VLOOKUP(Tabla_SERIED_12_5[[#This Row],[IdEstablecimiento]],'[1]Establecimiento 2023'!$A$1:$E$183,3,FALSE),0)","v":"105309-Centro de Salud Familiar Canela"},{"$f":"IFERROR(VLOOKUP(Tabla_SERIED_12_5[[#This Row],[IdEstablecimiento]],'[1]Establecimiento 2023'!$A$1:$E$183,5,FALSE),0)","v":"04202-Canela"},"15010200","2022-04-19T08:08:19",221,{"$nulls":4},48,110,63]
[{"$nulls":23},3,"5",2022,"105309",{"$f":"IFERROR(VLOOKUP(Tabla_SERIED_12_5[[#This Row],[IdEstablecimiento]],'[1]Establecimiento 2023'!$A$1:$E$183,3,FALSE),0)","v":"105309-Centro de Salud Familiar Canela"},{"$f":"IFERROR(VLOOKUP(Tabla_SERIED_12_5[[#This Row],[IdEstablecimiento]],'[1]Establecimiento 2023'!$A$1:$E$183,5,FALSE),0)","v":"04202-Canela"},"15080008","2022-04-19T08:08:19",52,{"$nulls":7},22,null,22,1,7]
[{"$nulls":23},3,"5",2022,"105309",{"$f":"IFERROR(VLOOKUP(Tabla_SERIED_12_5[[#This Row],[IdEstablecimiento]],'[1]Establecimiento 2023'!$A$1:$E$183,3,FALSE),0)","v":"105309-Centro de Salud Familiar Canela"},{"$f":"IFERROR(VLOOKUP(Tabla_SERIED_12_5[[#This Row],[IdEstablecimiento]],'[1]Establecimiento 2023'!$A$1:$E$183,5,FALSE),0)","v":"04202-Canela"},"15900010","2022-04-19T08:08:19",39.2,3.2,2.4,33.6]
[{"$nulls":23},3,"5",2022,"105309",{"$f":"IFERROR(VLOOKUP(Tabla_SERIED_12_5[[#This Row],[IdEstablecimiento]],'[1]Establecimiento 2023'!$A$1:$E$183,3,FALSE),0)","v":"105309-Centro de Salud Familiar Canela"},{"$f":"IFERROR(VLOOKUP(Tabla_SERIED_12_5[[#This Row],[IdEstablecimiento]],'[1]Establecimiento 2023'!$A$1:$E$183,5,FALSE),0)","v":"04202-Canela"},"15010400","2022-04-19T08:08:19",4,{"$nulls":5},4]
[{"$nulls":23},3,"5",2022,"105309",{"$f":"IFERROR(VLOOKUP(Tabla_SERIED_12_5[[#This Row],[IdEstablecimiento]],'[1]Establecimiento 2023'!$A$1:$E$183,3,FALSE),0)","v":"105309-Centro de Salud Familiar Canela"},{"$f":"IFERROR(VLOOKUP(Tabla_SERIED_12_5[[#This Row],[IdEstablecimiento]],'[1]Establecimiento 2023'!$A$1:$E$183,5,FALSE),0)","v":"04202-Canela"},"15010500","2022-04-19T08:08:19",4,{"$nulls":5},4]
[{"$nulls":23},3,"5",2022,"105309",{"$f":"IFERROR(VLOOKUP(Tabla_SERIED_12_5[[#This Row],[IdEstablecimiento]],'[1]Establecimiento 2023'!$A$1:$E$183,3,FALSE),0)","v":"105309-Centro de Salud Familiar Canela"},{"$f":"IFERROR(VLOOKUP(Tabla_SERIED_12_5[[#This Row],[IdEstablecimiento]],'[1]Establecimiento 2023'!$A$1:$E$183,5,FALSE),0)","v":"04202-Canela"},"15030100","2022-04-19T08:08:19",2,null,2]
[{"$nulls":23},3,"5",2022,"105309",{"$f":"IFERROR(VLOOKUP(Tabla_SERIED_12_5[[#This Row],[IdEstablecimiento]],'[1]Establecimiento 2023'!$A$1:$E$183,3,FALSE),0)","v":"105309-Centro de Salud Familiar Canela"},{"$f":"IFERROR(VLOOKUP(Tabla_SERIED_12_5[[#This Row],[IdEstablecimiento]],'[1]Establecimiento 2023'!$A$1:$E$183,5,FALSE),0)","v":"04202-Canela"},"15030200","2022-04-19T08:08:19",3.6,null,null,3.6]
[{"$nulls":23},3,"5",2022,"105407",{"$f":"IFERROR(VLOOKUP(Tabla_SERIED_12_5[[#This Row],[IdEstablecimiento]],'[1]Establecimiento 2023'!$A$1:$E$183,3,FALSE),0)","v":"105407-Posta de Salud Rural Tambillo"},{"$f":"IFERROR(VLOOKUP(Tabla_SERIED_12_5[[#This Row],[IdEstablecimiento]],'[1]Establecimiento 2023'!$A$1:$E$183,5,FALSE),0)","v":"04102-Coquimbo"},"15900010","2022-04-19T08:15:27",6.4,null,null,6.4]
[{"$nulls":23},3,"5",2022,"105407",{"$f":"IFERROR(VLOOKUP(Tabla_SERIED_12_5[[#This Row],[IdEstablecimiento]],'[1]Establecimiento 2023'!$A$1:$E$183,3,FALSE),0)","v":"105407-Posta de Salud Rural Tambillo"},{"$f":"IFERROR(VLOOKUP(Tabla_SERIED_12_5[[#This Row],[IdEstablecimiento]],'[1]Establecimiento 2023'!$A$1:$E$183,5,FALSE),0)","v":"04102-Coquimbo"},"15050100","2022-04-19T08:15:27",12,4,8,null,null,2,null,null,4,1,4,null,1]
[{"$nulls":23},8,"5",2022,"105443",{"$f":"IFERROR(VLOOKUP(Tabla_SERIED_12_5[[#This Row],[IdEstablecimiento]],'[1]Establecimiento 2023'!$A$1:$E$183,3,FALSE),0)","v":"105443-Posta de Salud Rural Cárcamo"},{"$f":"IFERROR(VLOOKUP(Tabla_SERIED_12_5[[#This Row],[IdEstablecimiento]],'[1]Establecimiento 2023'!$A$1:$E$183,5,FALSE),0)","v":"04201-Illapel"},"16100300","2022-09-21T07:42:44",110,50,60]
[{"$nulls":23},8,"5",2022,"105443",{"$f":"IFERROR(VLOOKUP(Tabla_SERIED_12_5[[#This Row],[IdEstablecimiento]],'[1]Establecimiento 2023'!$A$1:$E$183,3,FALSE),0)","v":"105443-Posta de Salud Rural Cárcamo"},{"$f":"IFERROR(VLOOKUP(Tabla_SERIED_12_5[[#This Row],[IdEstablecimiento]],'[1]Establecimiento 2023'!$A$1:$E$183,5,FALSE),0)","v":"04201-Illapel"},"16200220","2022-09-21T07:42:44",6,2,4]
[{"$nulls":23},8,"5",2022,"105444",{"$f":"IFERROR(VLOOKUP(Tabla_SERIED_12_5[[#This Row],[IdEstablecimiento]],'[1]Establecimiento 2023'!$A$1:$E$183,3,FALSE),0)","v":"105444-Posta de Salud Rural Huintil"},{"$f":"IFERROR(VLOOKUP(Tabla_SERIED_12_5[[#This Row],[IdEstablecimiento]],'[1]Establecimiento 2023'!$A$1:$E$183,5,FALSE),0)","v":"04201-Illapel"},"15010200","2022-09-21T07:42:54",22,{"$nulls":4},4,6,12]
[{"$nulls":23},8,"5",2022,"105444",{"$f":"IFERROR(VLOOKUP(Tabla_SERIED_12_5[[#This Row],[IdEstablecimiento]],'[1]Establecimiento 2023'!$A$1:$E$183,3,FALSE),0)","v":"105444-Posta de Salud Rural Huintil"},{"$f":"IFERROR(VLOOKUP(Tabla_SERIED_12_5[[#This Row],[IdEstablecimiento]],'[1]Establecimiento 2023'!$A$1:$E$183,5,FALSE),0)","v":"04201-Illapel"},"15080008","2022-09-21T07:42:54",6,{"$nulls":7},4,null,null,1,1]
[{"$nulls":23},8,"5",2022,"105444",{"$f":"IFERROR(VLOOKUP(Tabla_SERIED_12_5[[#This Row],[IdEstablecimiento]],'[1]Establecimiento 2023'!$A$1:$E$183,3,FALSE),0)","v":"105444-Posta de Salud Rural Huintil"},{"$f":"IFERROR(VLOOKUP(Tabla_SERIED_12_5[[#This Row],[IdEstablecimiento]],'[1]Establecimiento 2023'!$A$1:$E$183,5,FALSE),0)","v":"04201-Illapel"},"15900010","2022-09-21T07:42:54",2.7,2.7]
[{"$nulls":23},8,"5",2022,"105444",{"$f":"IFERROR(VLOOKUP(Tabla_SERIED_12_5[[#This Row],[IdEstablecimiento]],'[1]Establecimiento 2023'!$A$1:$E$183,3,FALSE),0)","v":"105444-Posta de Salud Rural Huintil"},{"$f":"IFERROR(VLOOKUP(Tabla_SERIED_12_5[[#This Row],[IdEstablecimiento]],'[1]Establecimiento 2023'!$A$1:$E$183,5,FALSE),0)","v":"04201-Illapel"},"15050100","2022-09-21T07:42:54",18,6,12,1,{"$nulls":3},2,3,6,4,null,null,1,1]
[{"$nulls":23},8,"5",2022,"105444",{"$f":"IFERROR(VLOOKUP(Tabla_SERIED_12_5[[#This Row],[IdEstablecimiento]],'[1]Establecimiento 2023'!$A$1:$E$183,3,FALSE),0)","v":"105444-Posta de Salud Rural Huintil"},{"$f":"IFERROR(VLOOKUP(Tabla_SERIED_12_5[[#This Row],[IdEstablecimiento]],'[1]Establecimiento 2023'!$A$1:$E$183,5,FALSE),0)","v":"04201-Illapel"},"15020200","2022-09-21T07:42:54",2,{"$nulls":6},2]
[{"$nulls":23},8,"5",2022,"105444",{"$f":"IFERROR(VLOOKUP(Tabla_SERIED_12_5[[#This Row],[IdEstablecimiento]],'[1]Establecimiento 2023'!$A$1:$E$183,3,FALSE),0)","v":"105444-Posta de Salud Rural Huintil"},{"$f":"IFERROR(VLOOKUP(Tabla_SERIED_12_5[[#This Row],[IdEstablecimiento]],'[1]Establecimiento 2023'!$A$1:$E$183,5,FALSE),0)","v":"04201-Illapel"},"15060200","2022-09-21T07:42:54",1,1,{"$nulls":7},1]
[{"$nulls":23},8,"5",2022,"105444",{"$f":"IFERROR(VLOOKUP(Tabla_SERIED_12_5[[#This Row],[IdEstablecimiento]],'[1]Establecimiento 2023'!$A$1:$E$183,3,FALSE),0)","v":"105444-Posta de Salud Rural Huintil"},{"$f":"IFERROR(VLOOKUP(Tabla_SERIED_12_5[[#This Row],[IdEstablecimiento]],'[1]Establecimiento 2023'!$A$1:$E$183,5,FALSE),0)","v":"04201-Illapel"},"16090300","2022-09-21T07:42:54",58,58]
[{"$nulls":23},8,"5",2022,"105104",{"$f":"IFERROR(VLOOKUP(Tabla_SERIED_12_5[[#This Row],[IdEstablecimiento]],'[1]Establecimiento 2023'!$A$1:$E$183,3,FALSE),0)","v":"105104-Hospital de Salamanca"},{"$f":"IFERROR(VLOOKUP(Tabla_SERIED_12_5[[#This Row],[IdEstablecimiento]],'[1]Establecimiento 2023'!$A$1:$E$183,5,FALSE),0)","v":"105104-Hospital Salamanca"},"15901500","2022-09-21T07:13:31",4.5,3.6,0,0.9]
[{"$nulls":23},8,"5",2022,"105104",{"$f":"IFERROR(VLOOKUP(Tabla_SERIED_12_5[[#This Row],[IdEstablecimiento]],'[1]Establecimiento 2023'!$A$1:$E$183,3,FALSE),0)","v":"105104-Hospital de Salamanca"},{"$f":"IFERROR(VLOOKUP(Tabla_SERIED_12_5[[#This Row],[IdEstablecimiento]],'[1]Establecimiento 2023'!$A$1:$E$183,5,FALSE),0)","v":"105104-Hospital Salamanca"},"15900030","2022-09-21T07:13:31",6.4,0,3.2,3.2,0,0]
[{"$nulls":23},8,"5",2022,"105104",{"$f":"IFERROR(VLOOKUP(Tabla_SERIED_12_5[[#This Row],[IdEstablecimiento]],'[1]Establecimiento 2023'!$A$1:$E$183,3,FALSE),0)","v":"105104-Hospital de Salamanca"},{"$f":"IFERROR(VLOOKUP(Tabla_SERIED_12_5[[#This Row],[IdEstablecimiento]],'[1]Establecimiento 2023'!$A$1:$E$183,5,FALSE),0)","v":"105104-Hospital Salamanca"},"15050100","2022-09-21T07:13:31",249,102,147,3,4,29,26,23,54,42,50,null,13,1,4]
[{"$nulls":23},8,"5",2022,"105104",{"$f":"IFERROR(VLOOKUP(Tabla_SERIED_12_5[[#This Row],[IdEstablecimiento]],'[1]Establecimiento 2023'!$A$1:$E$183,3,FALSE),0)","v":"105104-Hospital de Salamanca"},{"$f":"IFERROR(VLOOKUP(Tabla_SERIED_12_5[[#This Row],[IdEstablecimiento]],'[1]Establecimiento 2023'!$A$1:$E$183,5,FALSE),0)","v":"105104-Hospital Salamanca"},"15050200","2022-09-21T07:13:31",1,1,0,0,0,0,0,0,0,1,null,0,0,0,0]
[{"$nulls":23},8,"5",2022,"105104",{"$f":"IFERROR(VLOOKUP(Tabla_SERIED_12_5[[#This Row],[IdEstablecimiento]],'[1]Establecimiento 2023'!$A$1:$E$183,3,FALSE),0)","v":"105104-Hospital de Salamanca"},{"$f":"IFERROR(VLOOKUP(Tabla_SERIED_12_5[[#This Row],[IdEstablecimiento]],'[1]Establecimiento 2023'!$A$1:$E$183,5,FALSE),0)","v":"105104-Hospital Salamanca"},"15050500","2022-09-21T07:13:31",2,2,0,1,0,1]
[{"$nulls":23},8,"5",2022,"105104",{"$f":"IFERROR(VLOOKUP(Tabla_SERIED_12_5[[#This Row],[IdEstablecimiento]],'[1]Establecimiento 2023'!$A$1:$E$183,3,FALSE),0)","v":"105104-Hospital de Salamanca"},{"$f":"IFERROR(VLOOKUP(Tabla_SERIED_12_5[[#This Row],[IdEstablecimiento]],'[1]Establecimiento 2023'!$A$1:$E$183,5,FALSE),0)","v":"105104-Hospital Salamanca"},"15900050","2022-09-21T07:13:31",2,2,0,0,1,1,0,0]
[{"$nulls":23},8,"5",2022,"105104",{"$f":"IFERROR(VLOOKUP(Tabla_SERIED_12_5[[#This Row],[IdEstablecimiento]],'[1]Establecimiento 2023'!$A$1:$E$183,3,FALSE),0)","v":"105104-Hospital de Salamanca"},{"$f":"IFERROR(VLOOKUP(Tabla_SERIED_12_5[[#This Row],[IdEstablecimiento]],'[1]Establecimiento 2023'!$A$1:$E$183,5,FALSE),0)","v":"105104-Hospital Salamanca"},"15020100","2022-09-21T07:13:31",6,2,2,2,0,0]
[{"$nulls":23},8,"5",2022,"105104",{"$f":"IFERROR(VLOOKUP(Tabla_SERIED_12_5[[#This Row],[IdEstablecimiento]],'[1]Establecimiento 2023'!$A$1:$E$183,3,FALSE),0)","v":"105104-Hospital de Salamanca"},{"$f":"IFERROR(VLOOKUP(Tabla_SERIED_12_5[[#This Row],[IdEstablecimiento]],'[1]Establecimiento 2023'!$A$1:$E$183,5,FALSE),0)","v":"105104-Hospital Salamanca"},"15060100","2022-09-21T07:13:31",3,2,1,1,1,1,0,0,0,0,0,null,0,0,0]
[{"$nulls":23},8,"5",2022,"105104",{"$f":"IFERROR(VLOOKUP(Tabla_SERIED_12_5[[#This Row],[IdEstablecimiento]],'[1]Establecimiento 2023'!$A$1:$E$183,3,FALSE),0)","v":"105104-Hospital de Salamanca"},{"$f":"IFERROR(VLOOKUP(Tabla_SERIED_12_5[[#This Row],[IdEstablecimiento]],'[1]Establecimiento 2023'!$A$1:$E$183,5,FALSE),0)","v":"105104-Hospital Salamanca"},"16090300","2022-09-21T07:13:31",387,387]
[{"$nulls":23},8,"5",2022,"105104",{"$f":"IFERROR(VLOOKUP(Tabla_SERIED_12_5[[#This Row],[IdEstablecimiento]],'[1]Establecimiento 2023'!$A$1:$E$183,3,FALSE),0)","v":"105104-Hospital de Salamanca"},{"$f":"IFERROR(VLOOKUP(Tabla_SERIED_12_5[[#This Row],[IdEstablecimiento]],'[1]Establecimiento 2023'!$A$1:$E$183,5,FALSE),0)","v":"105104-Hospital Salamanca"},"16200210","2022-09-21T07:13:31",7,7]
[{"$nulls":23},8,"5",2022,"105104",{"$f":"IFERROR(VLOOKUP(Tabla_SERIED_12_5[[#This Row],[IdEstablecimiento]],'[1]Establecimiento 2023'!$A$1:$E$183,3,FALSE),0)","v":"105104-Hospital de Salamanca"},{"$f":"IFERROR(VLOOKUP(Tabla_SERIED_12_5[[#This Row],[IdEstablecimiento]],'[1]Establecimiento 2023'!$A$1:$E$183,5,FALSE),0)","v":"105104-Hospital Salamanca"},"16100300","2022-09-21T07:13:31",387,168,219,11,72]
[{"$nulls":23},8,"5",2022,"105104",{"$f":"IFERROR(VLOOKUP(Tabla_SERIED_12_5[[#This Row],[IdEstablecimiento]],'[1]Establecimiento 2023'!$A$1:$E$183,3,FALSE),0)","v":"105104-Hospital de Salamanca"},{"$f":"IFERROR(VLOOKUP(Tabla_SERIED_12_5[[#This Row],[IdEstablecimiento]],'[1]Establecimiento 2023'!$A$1:$E$183,5,FALSE),0)","v":"105104-Hospital Salamanca"},"16200220","2022-09-21T07:13:31",7,1,6]
[{"$nulls":23},8,"5",2022,"105105",{"$f":"IFERROR(VLOOKUP(Tabla_SERIED_12_5[[#This Row],[IdEstablecimiento]],'[1]Establecimiento 2023'!$A$1:$E$183,3,FALSE),0)","v":"105105-Hospital San Juan de Dios (Combarbalá)"},{"$f":"IFERROR(VLOOKUP(Tabla_SERIED_12_5[[#This Row],[IdEstablecimiento]],'[1]Establecimiento 2023'!$A$1:$E$183,5,FALSE),0)","v":"105105-Hospital Combarbalá"},"15010100","2022-09-21T07:13:42",30,{"$nulls":3},30]
[{"$nulls":23},8,"5",2022,"105105",{"$f":"IFERROR(VLOOKUP(Tabla_SERIED_12_5[[#This Row],[IdEstablecimiento]],'[1]Establecimiento 2023'!$A$1:$E$183,3,FALSE),0)","v":"105105-Hospital San Juan de Dios (Combarbalá)"},{"$f":"IFERROR(VLOOKUP(Tabla_SERIED_12_5[[#This Row],[IdEstablecimiento]],'[1]Establecimiento 2023'!$A$1:$E$183,5,FALSE),0)","v":"105105-Hospital Combarbalá"},"15010200","2022-09-21T07:13:42",246,{"$nulls":4},52,110,84]
[{"$nulls":23},8,"5",2022,"105105",{"$f":"IFERROR(VLOOKUP(Tabla_SERIED_12_5[[#This Row],[IdEstablecimiento]],'[1]Establecimiento 2023'!$A$1:$E$183,3,FALSE),0)","v":"105105-Hospital San Juan de Dios (Combarbalá)"},{"$f":"IFERROR(VLOOKUP(Tabla_SERIED_12_5[[#This Row],[IdEstablecimiento]],'[1]Establecimiento 2023'!$A$1:$E$183,5,FALSE),0)","v":"105105-Hospital Combarbalá"},"15080008","2022-09-21T07:13:42",60,{"$nulls":7},21,null,26,3,10]
[{"$nulls":23},8,"5",2022,"105105",{"$f":"IFERROR(VLOOKUP(Tabla_SERIED_12_5[[#This Row],[IdEstablecimiento]],'[1]Establecimiento 2023'!$A$1:$E$183,3,FALSE),0)","v":"105105-Hospital San Juan de Dios (Combarbalá)"},{"$f":"IFERROR(VLOOKUP(Tabla_SERIED_12_5[[#This Row],[IdEstablecimiento]],'[1]Establecimiento 2023'!$A$1:$E$183,5,FALSE),0)","v":"105105-Hospital Combarbalá"},"15900010","2022-09-21T07:13:42",26.1,1.8,10.8,13.5]
[{"$nulls":23},8,"5",2022,"105105",{"$f":"IFERROR(VLOOKUP(Tabla_SERIED_12_5[[#This Row],[IdEstablecimiento]],'[1]Establecimiento 2023'!$A$1:$E$183,3,FALSE),0)","v":"105105-Hospital San Juan de Dios (Combarbalá)"},{"$f":"IFERROR(VLOOKUP(Tabla_SERIED_12_5[[#This Row],[IdEstablecimiento]],'[1]Establecimiento 2023'!$A$1:$E$183,5,FALSE),0)","v":"105105-Hospital Combarbalá"},"15010400","2022-09-21T07:13:42",16,{"$nulls":5},14,2]
[{"$nulls":23},5,"5",2022,"105481",{"$f":"IFERROR(VLOOKUP(Tabla_SERIED_12_5[[#This Row],[IdEstablecimiento]],'[1]Establecimiento 2023'!$A$1:$E$183,3,FALSE),0)","v":"105481-Posta de Salud Rural Tilama"},{"$f":"IFERROR(VLOOKUP(Tabla_SERIED_12_5[[#This Row],[IdEstablecimiento]],'[1]Establecimiento 2023'!$A$1:$E$183,5,FALSE),0)","v":"04203-Los Vilos"},"15050100","2022-06-20T17:24:07",2,0,2,{"$nulls":5},2]
[{"$nulls":23},5,"5",2022,"105481",{"$f":"IFERROR(VLOOKUP(Tabla_SERIED_12_5[[#This Row],[IdEstablecimiento]],'[1]Establecimiento 2023'!$A$1:$E$183,3,FALSE),0)","v":"105481-Posta de Salud Rural Tilama"},{"$f":"IFERROR(VLOOKUP(Tabla_SERIED_12_5[[#This Row],[IdEstablecimiento]],'[1]Establecimiento 2023'!$A$1:$E$183,5,FALSE),0)","v":"04203-Los Vilos"},"16090300","2022-06-20T17:24:07",0,19]
[{"$nulls":23},5,"5",2022,"105481",{"$f":"IFERROR(VLOOKUP(Tabla_SERIED_12_5[[#This Row],[IdEstablecimiento]],'[1]Establecimiento 2023'!$A$1:$E$183,3,FALSE),0)","v":"105481-Posta de Salud Rural Tilama"},{"$f":"IFERROR(VLOOKUP(Tabla_SERIED_12_5[[#This Row],[IdEstablecimiento]],'[1]Establecimiento 2023'!$A$1:$E$183,5,FALSE),0)","v":"04203-Los Vilos"},"16090500","2022-06-20T17:24:07",0,1]
[{"$nulls":23},3,"5",2022,"105436",{"$f":"IFERROR(VLOOKUP(Tabla_SERIED_12_5[[#This Row],[IdEstablecimiento]],'[1]Establecimiento 2023'!$A$1:$E$183,3,FALSE),0)","v":"105436-Posta de Salud Rural El Maitén"},{"$f":"IFERROR(VLOOKUP(Tabla_SERIED_12_5[[#This Row],[IdEstablecimiento]],'[1]Establecimiento 2023'!$A$1:$E$183,5,FALSE),0)","v":"04303-Monte Patria"},"15010100","2022-04-19T09:44:19",6,null,null,2,4]
[{"$nulls":23},3,"5",2022,"105436",{"$f":"IFERROR(VLOOKUP(Tabla_SERIED_12_5[[#This Row],[IdEstablecimiento]],'[1]Establecimiento 2023'!$A$1:$E$183,3,FALSE),0)","v":"105436-Posta de Salud Rural El Maitén"},{"$f":"IFERROR(VLOOKUP(Tabla_SERIED_12_5[[#This Row],[IdEstablecimiento]],'[1]Establecimiento 2023'!$A$1:$E$183,5,FALSE),0)","v":"04303-Monte Patria"},"15010200","2022-04-19T09:44:19",6,{"$nulls":5},4,2]
[{"$nulls":23},3,"5",2022,"105436",{"$f":"IFERROR(VLOOKUP(Tabla_SERIED_12_5[[#This Row],[IdEstablecimiento]],'[1]Establecimiento 2023'!$A$1:$E$183,3,FALSE),0)","v":"105436-Posta de Salud Rural El Maitén"},{"$f":"IFERROR(VLOOKUP(Tabla_SERIED_12_5[[#This Row],[IdEstablecimiento]],'[1]Establecimiento 2023'!$A$1:$E$183,5,FALSE),0)","v":"04303-Monte Patria"},"15080008","2022-04-19T09:44:19",2,{"$nulls":7},1,{"$nulls":3},1]
[{"$nulls":23},7,"5",2022,"105722",{"$f":"IFERROR(VLOOKUP(Tabla_SERIED_12_5[[#This Row],[IdEstablecimiento]],'[1]Establecimiento 2023'!$A$1:$E$183,3,FALSE),0)","v":"105722-Centro Comunitario de Salud Familiar San José de la Dehesa"},{"$f":"IFERROR(VLOOKUP(Tabla_SERIED_12_5[[#This Row],[IdEstablecimiento]],'[1]Establecimiento 2023'!$A$1:$E$183,5,FALSE),0)","v":"04301-Ovalle"},"15900050","2022-08-22T06:47:31",1,1,null,null,1]
[{"$nulls":23},7,"5",2022,"105722",{"$f":"IFERROR(VLOOKUP(Tabla_SERIED_12_5[[#This Row],[IdEstablecimiento]],'[1]Establecimiento 2023'!$A$1:$E$183,3,FALSE),0)","v":"105722-Centro Comunitario de Salud Familiar San José de la Dehesa"},{"$f":"IFERROR(VLOOKUP(Tabla_SERIED_12_5[[#This Row],[IdEstablecimiento]],'[1]Establecimiento 2023'!$A$1:$E$183,5,FALSE),0)","v":"04301-Ovalle"},"16090300","2022-08-22T06:47:31",119,119]
[{"$nulls":23},7,"5",2022,"105722",{"$f":"IFERROR(VLOOKUP(Tabla_SERIED_12_5[[#This Row],[IdEstablecimiento]],'[1]Establecimiento 2023'!$A$1:$E$183,3,FALSE),0)","v":"105722-Centro Comunitario de Salud Familiar San José de la Dehesa"},{"$f":"IFERROR(VLOOKUP(Tabla_SERIED_12_5[[#This Row],[IdEstablecimiento]],'[1]Establecimiento 2023'!$A$1:$E$183,5,FALSE),0)","v":"04301-Ovalle"},"16200210","2022-08-22T06:47:31",18,18]
[{"$nulls":23},7,"5",2022,"105722",{"$f":"IFERROR(VLOOKUP(Tabla_SERIED_12_5[[#This Row],[IdEstablecimiento]],'[1]Establecimiento 2023'!$A$1:$E$183,3,FALSE),0)","v":"105722-Centro Comunitario de Salud Familiar San José de la Dehesa"},{"$f":"IFERROR(VLOOKUP(Tabla_SERIED_12_5[[#This Row],[IdEstablecimiento]],'[1]Establecimiento 2023'!$A$1:$E$183,5,FALSE),0)","v":"04301-Ovalle"},"16100300","2022-08-22T06:47:31",119,60,59,2,104]
[{"$nulls":23},7,"5",2022,"105722",{"$f":"IFERROR(VLOOKUP(Tabla_SERIED_12_5[[#This Row],[IdEstablecimiento]],'[1]Establecimiento 2023'!$A$1:$E$183,3,FALSE),0)","v":"105722-Centro Comunitario de Salud Familiar San José de la Dehesa"},{"$f":"IFERROR(VLOOKUP(Tabla_SERIED_12_5[[#This Row],[IdEstablecimiento]],'[1]Establecimiento 2023'!$A$1:$E$183,5,FALSE),0)","v":"04301-Ovalle"},"16200220","2022-08-22T06:47:31",18,10,8,0,0]
[{"$nulls":23},7,"5",2022,"105723",{"$f":"IFERROR(VLOOKUP(Tabla_SERIED_12_5[[#This Row],[IdEstablecimiento]],'[1]Establecimiento 2023'!$A$1:$E$183,3,FALSE),0)","v":"105723-Centro Comunitario de Salud Familiar Limarí"},{"$f":"IFERROR(VLOOKUP(Tabla_SERIED_12_5[[#This Row],[IdEstablecimiento]],'[1]Establecimiento 2023'!$A$1:$E$183,5,FALSE),0)","v":"04301-Ovalle"},"15010100","2022-08-22T06:47:43",14,{"$nulls":3},14]
[{"$nulls":23},7,"5",2022,"105723",{"$f":"IFERROR(VLOOKUP(Tabla_SERIED_12_5[[#This Row],[IdEstablecimiento]],'[1]Establecimiento 2023'!$A$1:$E$183,3,FALSE),0)","v":"105723-Centro Comunitario de Salud Familiar Limarí"},{"$f":"IFERROR(VLOOKUP(Tabla_SERIED_12_5[[#This Row],[IdEstablecimiento]],'[1]Establecimiento 2023'!$A$1:$E$183,5,FALSE),0)","v":"04301-Ovalle"},"15010200","2022-08-22T06:47:43",104,{"$nulls":4},28,34,42]
[{"$nulls":23},7,"5",2022,"105723",{"$f":"IFERROR(VLOOKUP(Tabla_SERIED_12_5[[#This Row],[IdEstablecimiento]],'[1]Establecimiento 2023'!$A$1:$E$183,3,FALSE),0)","v":"105723-Centro Comunitario de Salud Familiar Limarí"},{"$f":"IFERROR(VLOOKUP(Tabla_SERIED_12_5[[#This Row],[IdEstablecimiento]],'[1]Establecimiento 2023'!$A$1:$E$183,5,FALSE),0)","v":"04301-Ovalle"},"15080008","2022-08-22T06:47:43",15,{"$nulls":7},12,null,2,null,1]
[{"$nulls":23},7,"5",2022,"105723",{"$f":"IFERROR(VLOOKUP(Tabla_SERIED_12_5[[#This Row],[IdEstablecimiento]],'[1]Establecimiento 2023'!$A$1:$E$183,3,FALSE),0)","v":"105723-Centro Comunitario de Salud Familiar Limarí"},{"$f":"IFERROR(VLOOKUP(Tabla_SERIED_12_5[[#This Row],[IdEstablecimiento]],'[1]Establecimiento 2023'!$A$1:$E$183,5,FALSE),0)","v":"04301-Ovalle"},"15900010","2022-08-22T06:47:43",18.5,3.6,8.5,6.4]
[{"$nulls":23},7,"5",2022,"105723",{"$f":"IFERROR(VLOOKUP(Tabla_SERIED_12_5[[#This Row],[IdEstablecimiento]],'[1]Establecimiento 2023'!$A$1:$E$183,3,FALSE),0)","v":"105723-Centro Comunitario de Salud Familiar Limarí"},{"$f":"IFERROR(VLOOKUP(Tabla_SERIED_12_5[[#This Row],[IdEstablecimiento]],'[1]Establecimiento 2023'!$A$1:$E$183,5,FALSE),0)","v":"04301-Ovalle"},"15010400","2022-08-22T06:47:43",4,{"$nulls":6},4]
[{"$nulls":23},7,"5",2022,"105723",{"$f":"IFERROR(VLOOKUP(Tabla_SERIED_12_5[[#This Row],[IdEstablecimiento]],'[1]Establecimiento 2023'!$A$1:$E$183,3,FALSE),0)","v":"105723-Centro Comunitario de Salud Familiar Limarí"},{"$f":"IFERROR(VLOOKUP(Tabla_SERIED_12_5[[#This Row],[IdEstablecimiento]],'[1]Establecimiento 2023'!$A$1:$E$183,5,FALSE),0)","v":"04301-Ovalle"},"15010500","2022-08-22T06:47:43",4,{"$nulls":6},4]
[{"$nulls":23},7,"5",2022,"105723",{"$f":"IFERROR(VLOOKUP(Tabla_SERIED_12_5[[#This Row],[IdEstablecimiento]],'[1]Establecimiento 2023'!$A$1:$E$183,3,FALSE),0)","v":"105723-Centro Comunitario de Salud Familiar Limarí"},{"$f":"IFERROR(VLOOKUP(Tabla_SERIED_12_5[[#This Row],[IdEstablecimiento]],'[1]Establecimiento 2023'!$A$1:$E$183,5,FALSE),0)","v":"04301-Ovalle"},"15900030","2022-08-22T06:47:43",4.4,null,null,4.4]
[{"$nulls":23},2,"5",2022,"105324",{"$f":"IFERROR(VLOOKUP(Tabla_SERIED_12_5[[#This Row],[IdEstablecimiento]],'[1]Establecimiento 2023'!$A$1:$E$183,3,FALSE),0)","v":"105324-Centro de Salud Familiar Sotaquí"},{"$f":"IFERROR(VLOOKUP(Tabla_SERIED_12_5[[#This Row],[IdEstablecimiento]],'[1]Establecimiento 2023'!$A$1:$E$183,5,FALSE),0)","v":"04301-Ovalle"},"15900010","2022-03-17T09:31:53",24.8,1.6,5.6,17.6]
[{"$nulls":23},2,"5",2022,"105315",{"$f":"IFERROR(VLOOKUP(Tabla_SERIED_12_5[[#This Row],[IdEstablecimiento]],'[1]Establecimiento 2023'!$A$1:$E$183,3,FALSE),0)","v":"105315-Centro de Salud Familiar Cerrillos de Tamaya"},{"$f":"IFERROR(VLOOKUP(Tabla_SERIED_12_5[[#This Row],[IdEstablecimiento]],'[1]Establecimiento 2023'!$A$1:$E$183,5,FALSE),0)","v":"04301-Ovalle"},"15900030","2022-03-17T09:30:08",3.2,{"$nulls":4},3.2]
[{"$nulls":23},2,"5",2022,"105315",{"$f":"IFERROR(VLOOKUP(Tabla_SERIED_12_5[[#This Row],[IdEstablecimiento]],'[1]Establecimiento 2023'!$A$1:$E$183,3,FALSE),0)","v":"105315-Centro de Salud Familiar Cerrillos de Tamaya"},{"$f":"IFERROR(VLOOKUP(Tabla_SERIED_12_5[[#This Row],[IdEstablecimiento]],'[1]Establecimiento 2023'!$A$1:$E$183,5,FALSE),0)","v":"04301-Ovalle"},"15050100","2022-03-17T09:30:08",175,71,104,null,5,8,17,22,34,42,29,null,10,3,5]
[{"$nulls":23},2,"5",2022,"105315",{"$f":"IFERROR(VLOOKUP(Tabla_SERIED_12_5[[#This Row],[IdEstablecimiento]],'[1]Establecimiento 2023'!$A$1:$E$183,3,FALSE),0)","v":"105315-Centro de Salud Familiar Cerrillos de Tamaya"},{"$f":"IFERROR(VLOOKUP(Tabla_SERIED_12_5[[#This Row],[IdEstablecimiento]],'[1]Establecimiento 2023'!$A$1:$E$183,5,FALSE),0)","v":"04301-Ovalle"},"15050200","2022-03-17T09:30:08",3,1,2,{"$nulls":3},1,null,null,1,null,1]
[{"$nulls":23},2,"5",2022,"105315",{"$f":"IFERROR(VLOOKUP(Tabla_SERIED_12_5[[#This Row],[IdEstablecimiento]],'[1]Establecimiento 2023'!$A$1:$E$183,3,FALSE),0)","v":"105315-Centro de Salud Familiar Cerrillos de Tamaya"},{"$f":"IFERROR(VLOOKUP(Tabla_SERIED_12_5[[#This Row],[IdEstablecimiento]],'[1]Establecimiento 2023'!$A$1:$E$183,5,FALSE),0)","v":"04301-Ovalle"},"15050500","2022-03-17T09:30:08",1,null,1,1]
[{"$nulls":23},2,"5",2022,"105315",{"$f":"IFERROR(VLOOKUP(Tabla_SERIED_12_5[[#This Row],[IdEstablecimiento]],'[1]Establecimiento 2023'!$A$1:$E$183,3,FALSE),0)","v":"105315-Centro de Salud Familiar Cerrillos de Tamaya"},{"$f":"IFERROR(VLOOKUP(Tabla_SERIED_12_5[[#This Row],[IdEstablecimiento]],'[1]Establecimiento 2023'!$A$1:$E$183,5,FALSE),0)","v":"04301-Ovalle"},"15900050","2022-03-17T09:30:08",1,null,1,{"$nulls":4},1]
[{"$nulls":23},2,"5",2022,"105315",{"$f":"IFERROR(VLOOKUP(Tabla_SERIED_12_5[[#This Row],[IdEstablecimiento]],'[1]Establecimiento 2023'!$A$1:$E$183,3,FALSE),0)","v":"105315-Centro de Salud Familiar Cerrillos de Tamaya"},{"$f":"IFERROR(VLOOKUP(Tabla_SERIED_12_5[[#This Row],[IdEstablecimiento]],'[1]Establecimiento 2023'!$A$1:$E$183,5,FALSE),0)","v":"04301-Ovalle"},"15020200","2022-03-17T09:30:08",4,{"$nulls":4},2,null,2]
[{"$nulls":23},2,"5",2022,"105315",{"$f":"IFERROR(VLOOKUP(Tabla_SERIED_12_5[[#This Row],[IdEstablecimiento]],'[1]Establecimiento 2023'!$A$1:$E$183,3,FALSE),0)","v":"105315-Centro de Salud Familiar Cerrillos de Tamaya"},{"$f":"IFERROR(VLOOKUP(Tabla_SERIED_12_5[[#This Row],[IdEstablecimiento]],'[1]Establecimiento 2023'!$A$1:$E$183,5,FALSE),0)","v":"04301-Ovalle"},"15060100","2022-03-17T09:30:08",2,null,2,{"$nulls":4},1,null,1]
[{"$nulls":23},2,"5",2022,"105315",{"$f":"IFERROR(VLOOKUP(Tabla_SERIED_12_5[[#This Row],[IdEstablecimiento]],'[1]Establecimiento 2023'!$A$1:$E$183,3,FALSE),0)","v":"105315-Centro de Salud Familiar Cerrillos de Tamaya"},{"$f":"IFERROR(VLOOKUP(Tabla_SERIED_12_5[[#This Row],[IdEstablecimiento]],'[1]Establecimiento 2023'!$A$1:$E$183,5,FALSE),0)","v":"04301-Ovalle"},"16090300","2022-03-17T09:30:08",226,226]
[{"$nulls":23},2,"5",2022,"105315",{"$f":"IFERROR(VLOOKUP(Tabla_SERIED_12_5[[#This Row],[IdEstablecimiento]],'[1]Establecimiento 2023'!$A$1:$E$183,3,FALSE),0)","v":"105315-Centro de Salud Familiar Cerrillos de Tamaya"},{"$f":"IFERROR(VLOOKUP(Tabla_SERIED_12_5[[#This Row],[IdEstablecimiento]],'[1]Establecimiento 2023'!$A$1:$E$183,5,FALSE),0)","v":"04301-Ovalle"},"16200210","2022-03-17T09:30:08",22,22]
[{"$nulls":23},2,"5",2022,"105315",{"$f":"IFERROR(VLOOKUP(Tabla_SERIED_12_5[[#This Row],[IdEstablecimiento]],'[1]Establecimiento 2023'!$A$1:$E$183,3,FALSE),0)","v":"105315-Centro de Salud Familiar Cerrillos de Tamaya"},{"$f":"IFERROR(VLOOKUP(Tabla_SERIED_12_5[[#This Row],[IdEstablecimiento]],'[1]Establecimiento 2023'!$A$1:$E$183,5,FALSE),0)","v":"04301-Ovalle"},"16100300","2022-03-17T09:30:08",226,112,114,null,51]
[{"$nulls":23},2,"5",2022,"105315",{"$f":"IFERROR(VLOOKUP(Tabla_SERIED_12_5[[#This Row],[IdEstablecimiento]],'[1]Establecimiento 2023'!$A$1:$E$183,3,FALSE),0)","v":"105315-Centro de Salud Familiar Cerrillos de Tamaya"},{"$f":"IFERROR(VLOOKUP(Tabla_SERIED_12_5[[#This Row],[IdEstablecimiento]],'[1]Establecimiento 2023'!$A$1:$E$183,5,FALSE),0)","v":"04301-Ovalle"},"16200220","2022-03-17T09:30:08",22,8,14,null,5]
[{"$nulls":23},3,"5",2022,"105440",{"$f":"IFERROR(VLOOKUP(Tabla_SERIED_12_5[[#This Row],[IdEstablecimiento]],'[1]Establecimiento 2023'!$A$1:$E$183,3,FALSE),0)","v":"105440-Posta de Salud Rural Divisadero"},{"$f":"IFERROR(VLOOKUP(Tabla_SERIED_12_5[[#This Row],[IdEstablecimiento]],'[1]Establecimiento 2023'!$A$1:$E$183,5,FALSE),0)","v":"04304-Punitaqui"},"16100300","2022-04-19T09:44:58",51,27,24,null,2]
[{"$nulls":23},3,"5",2022,"105441",{"$f":"IFERROR(VLOOKUP(Tabla_SERIED_12_5[[#This Row],[IdEstablecimiento]],'[1]Establecimiento 2023'!$A$1:$E$183,3,FALSE),0)","v":"105441-Posta de Salud Rural Manquehua"},{"$f":"IFERROR(VLOOKUP(Tabla_SERIED_12_5[[#This Row],[IdEstablecimiento]],'[1]Establecimiento 2023'!$A$1:$E$183,5,FALSE),0)","v":"04302-Combarbalá"},"15010100","2022-04-19T09:45:14",8,{"$nulls":3},8]
[{"$nulls":23},3,"5",2022,"105441",{"$f":"IFERROR(VLOOKUP(Tabla_SERIED_12_5[[#This Row],[IdEstablecimiento]],'[1]Establecimiento 2023'!$A$1:$E$183,3,FALSE),0)","v":"105441-Posta de Salud Rural Manquehua"},{"$f":"IFERROR(VLOOKUP(Tabla_SERIED_12_5[[#This Row],[IdEstablecimiento]],'[1]Establecimiento 2023'!$A$1:$E$183,5,FALSE),0)","v":"04302-Combarbalá"},"15010200","2022-04-19T09:45:14",16,{"$nulls":4},2,6,8]
[{"$nulls":23},3,"5",2022,"105441",{"$f":"IFERROR(VLOOKUP(Tabla_SERIED_12_5[[#This Row],[IdEstablecimiento]],'[1]Establecimiento 2023'!$A$1:$E$183,3,FALSE),0)","v":"105441-Posta de Salud Rural Manquehua"},{"$f":"IFERROR(VLOOKUP(Tabla_SERIED_12_5[[#This Row],[IdEstablecimiento]],'[1]Establecimiento 2023'!$A$1:$E$183,5,FALSE),0)","v":"04302-Combarbalá"},"15080008","2022-04-19T09:45:14",1,{"$nulls":7},1]
[{"$nulls":23},3,"5",2022,"105441",{"$f":"IFERROR(VLOOKUP(Tabla_SERIED_12_5[[#This Row],[IdEstablecimiento]],'[1]Establecimiento 2023'!$A$1:$E$183,3,FALSE),0)","v":"105441-Posta de Salud Rural Manquehua"},{"$f":"IFERROR(VLOOKUP(Tabla_SERIED_12_5[[#This Row],[IdEstablecimiento]],'[1]Establecimiento 2023'!$A$1:$E$183,5,FALSE),0)","v":"04302-Combarbalá"},"15050100","2022-04-19T09:45:14",13,7,6,{"$nulls":3},4,1,3,4,1]
[{"$nulls":23},2,"5",2022,"200569",{"$f":"IFERROR(VLOOKUP(Tabla_SERIED_12_5[[#This Row],[IdEstablecimiento]],'[1]Establecimiento 2023'!$A$1:$E$183,3,FALSE),0)","v":"200569-Centro de Salud Familiar Fray Jorge"},{"$f":"IFERROR(VLOOKUP(Tabla_SERIED_12_5[[#This Row],[IdEstablecimiento]],'[1]Establecimiento 2023'!$A$1:$E$183,5,FALSE),0)","v":"04301-Ovalle"},"15050100","2022-03-17T10:09:48",455,159,296,8,10,45,47,37,99,76,69,null,33,10,21]
[{"$nulls":23},2,"5",2022,"105503",{"$f":"IFERROR(VLOOKUP(Tabla_SERIED_12_5[[#This Row],[IdEstablecimiento]],'[1]Establecimiento 2023'!$A$1:$E$183,3,FALSE),0)","v":"105503-Posta de Salud Rural Tabaqueros"},{"$f":"IFERROR(VLOOKUP(Tabla_SERIED_12_5[[#This Row],[IdEstablecimiento]],'[1]Establecimiento 2023'!$A$1:$E$183,5,FALSE),0)","v":"04305-Río Hurtado"},"15010500","2022-03-17T10:01:17",2,null,null,2]
[{"$nulls":23},2,"5",2022,"105500",{"$f":"IFERROR(VLOOKUP(Tabla_SERIED_12_5[[#This Row],[IdEstablecimiento]],'[1]Establecimiento 2023'!$A$1:$E$183,3,FALSE),0)","v":"105500-Posta de Salud Rural Caleta Hornos"},{"$f":"IFERROR(VLOOKUP(Tabla_SERIED_12_5[[#This Row],[IdEstablecimiento]],'[1]Establecimiento 2023'!$A$1:$E$183,5,FALSE),0)","v":"04104-La Higuera"},"15050100","2022-06-22T11:16:10",21,8,13,2,null,1,3,6,3,1,5]
[{"$nulls":23},2,"5",2022,"105500",{"$f":"IFERROR(VLOOKUP(Tabla_SERIED_12_5[[#This Row],[IdEstablecimiento]],'[1]Establecimiento 2023'!$A$1:$E$183,3,FALSE),0)","v":"105500-Posta de Salud Rural Caleta Hornos"},{"$f":"IFERROR(VLOOKUP(Tabla_SERIED_12_5[[#This Row],[IdEstablecimiento]],'[1]Establecimiento 2023'!$A$1:$E$183,5,FALSE),0)","v":"04104-La Higuera"},"15050200","2022-06-22T11:16:10",2,1,1,{"$nulls":5},2]
[{"$nulls":23},2,"5",2022,"105500",{"$f":"IFERROR(VLOOKUP(Tabla_SERIED_12_5[[#This Row],[IdEstablecimiento]],'[1]Establecimiento 2023'!$A$1:$E$183,3,FALSE),0)","v":"105500-Posta de Salud Rural Caleta Hornos"},{"$f":"IFERROR(VLOOKUP(Tabla_SERIED_12_5[[#This Row],[IdEstablecimiento]],'[1]Establecimiento 2023'!$A$1:$E$183,5,FALSE),0)","v":"04104-La Higuera"},"16090300","2022-06-22T11:16:10",18,18]
[{"$nulls":23},1,"5",2022,"105437",{"$f":"IFERROR(VLOOKUP(Tabla_SERIED_12_5[[#This Row],[IdEstablecimiento]],'[1]Establecimiento 2023'!$A$1:$E$183,3,FALSE),0)","v":"105437-Posta de Salud Rural Chalinga"},{"$f":"IFERROR(VLOOKUP(Tabla_SERIED_12_5[[#This Row],[IdEstablecimiento]],'[1]Establecimiento 2023'!$A$1:$E$183,5,FALSE),0)","v":"04301-Ovalle"},"15050200","2022-02-16T11:04:26",3,2,1,{"$nulls":4},1,2]
[{"$nulls":23},1,"5",2022,"105437",{"$f":"IFERROR(VLOOKUP(Tabla_SERIED_12_5[[#This Row],[IdEstablecimiento]],'[1]Establecimiento 2023'!$A$1:$E$183,3,FALSE),0)","v":"105437-Posta de Salud Rural Chalinga"},{"$f":"IFERROR(VLOOKUP(Tabla_SERIED_12_5[[#This Row],[IdEstablecimiento]],'[1]Establecimiento 2023'!$A$1:$E$183,5,FALSE),0)","v":"04301-Ovalle"},"16090300","2022-02-16T11:04:26",95,95]
[{"$nulls":23},3,"5",2022,"105108",{"$f":"IFERROR(VLOOKUP(Tabla_SERIED_12_5[[#This Row],[IdEstablecimiento]],'[1]Establecimiento 2023'!$A$1:$E$183,3,FALSE),0)","v":"105108-Hospital San Pedro (Los Vilos)"},{"$f":"IFERROR(VLOOKUP(Tabla_SERIED_12_5[[#This Row],[IdEstablecimiento]],'[1]Establecimiento 2023'!$A$1:$E$183,5,FALSE),0)","v":"105108-Hospital Los Vilos"},"15901200","2022-05-18T15:48:15",2.8,null,2.8]
[{"$nulls":23},3,"5",2022,"105108",{"$f":"IFERROR(VLOOKUP(Tabla_SERIED_12_5[[#This Row],[IdEstablecimiento]],'[1]Establecimiento 2023'!$A$1:$E$183,3,FALSE),0)","v":"105108-Hospital San Pedro (Los Vilos)"},{"$f":"IFERROR(VLOOKUP(Tabla_SERIED_12_5[[#This Row],[IdEstablecimiento]],'[1]Establecimiento 2023'!$A$1:$E$183,5,FALSE),0)","v":"105108-Hospital Los Vilos"},"15901300","2022-05-18T15:48:15",3.6,null,null,3.6]
[{"$nulls":23},3,"5",2022,"105108",{"$f":"IFERROR(VLOOKUP(Tabla_SERIED_12_5[[#This Row],[IdEstablecimiento]],'[1]Establecimiento 2023'!$A$1:$E$183,3,FALSE),0)","v":"105108-Hospital San Pedro (Los Vilos)"},{"$f":"IFERROR(VLOOKUP(Tabla_SERIED_12_5[[#This Row],[IdEstablecimiento]],'[1]Establecimiento 2023'!$A$1:$E$183,5,FALSE),0)","v":"105108-Hospital Los Vilos"},"15901400","2022-05-18T15:48:15",2,null,2,null,1,1]
[{"$nulls":23},7,"5",2022,"105312",{"$f":"IFERROR(VLOOKUP(Tabla_SERIED_12_5[[#This Row],[IdEstablecimiento]],'[1]Establecimiento 2023'!$A$1:$E$183,3,FALSE),0)","v":"105312-Centro de Salud Familiar Carén"},{"$f":"IFERROR(VLOOKUP(Tabla_SERIED_12_5[[#This Row],[IdEstablecimiento]],'[1]Establecimiento 2023'!$A$1:$E$183,5,FALSE),0)","v":"04303-Monte Patria"},"16100300","2022-08-19T12:00:33",41,19,22,0,120]
[{"$nulls":23},7,"5",2022,"105312",{"$f":"IFERROR(VLOOKUP(Tabla_SERIED_12_5[[#This Row],[IdEstablecimiento]],'[1]Establecimiento 2023'!$A$1:$E$183,3,FALSE),0)","v":"105312-Centro de Salud Familiar Carén"},{"$f":"IFERROR(VLOOKUP(Tabla_SERIED_12_5[[#This Row],[IdEstablecimiento]],'[1]Establecimiento 2023'!$A$1:$E$183,5,FALSE),0)","v":"04303-Monte Patria"},"16200220","2022-08-19T12:00:33",4,2,2,1,1]
[{"$nulls":23},7,"5",2022,"105313",{"$f":"IFERROR(VLOOKUP(Tabla_SERIED_12_5[[#This Row],[IdEstablecimiento]],'[1]Establecimiento 2023'!$A$1:$E$183,3,FALSE),0)","v":"105313-Centro de Salud Familiar Dr. Emilio Schaffhauser"},{"$f":"IFERROR(VLOOKUP(Tabla_SERIED_12_5[[#This Row],[IdEstablecimiento]],'[1]Establecimiento 2023'!$A$1:$E$183,5,FALSE),0)","v":"04101-La Serena"},"15010100","2022-08-19T12:00:48",143,{"$nulls":3},124,{"$nulls":3},3,null,16]
[{"$nulls":23},7,"5",2022,"105313",{"$f":"IFERROR(VLOOKUP(Tabla_SERIED_12_5[[#This Row],[IdEstablecimiento]],'[1]Establecimiento 2023'!$A$1:$E$183,3,FALSE),0)","v":"105313-Centro de Salud Familiar Dr. Emilio Schaffhauser"},{"$f":"IFERROR(VLOOKUP(Tabla_SERIED_12_5[[#This Row],[IdEstablecimiento]],'[1]Establecimiento 2023'!$A$1:$E$183,5,FALSE),0)","v":"04101-La Serena"},"15010200","2022-08-19T12:00:48",488,{"$nulls":4},96,242,150]
[{"$nulls":23},7,"5",2022,"105313",{"$f":"IFERROR(VLOOKUP(Tabla_SERIED_12_5[[#This Row],[IdEstablecimiento]],'[1]Establecimiento 2023'!$A$1:$E$183,3,FALSE),0)","v":"105313-Centro de Salud Familiar Dr. Emilio Schaffhauser"},{"$f":"IFERROR(VLOOKUP(Tabla_SERIED_12_5[[#This Row],[IdEstablecimiento]],'[1]Establecimiento 2023'!$A$1:$E$183,5,FALSE),0)","v":"04101-La Serena"},"15080008","2022-08-19T12:00:48",235,{"$nulls":7},101,null,80,17,37]
[{"$nulls":23},3,"5",2022,"105303",{"$f":"IFERROR(VLOOKUP(Tabla_SERIED_12_5[[#This Row],[IdEstablecimiento]],'[1]Establecimiento 2023'!$A$1:$E$183,3,FALSE),0)","v":"105303-Centro de Salud Familiar San Juan"},{"$f":"IFERROR(VLOOKUP(Tabla_SERIED_12_5[[#This Row],[IdEstablecimiento]],'[1]Establecimiento 2023'!$A$1:$E$183,5,FALSE),0)","v":"04102-Coquimbo"},"15010500","2022-04-19T08:02:50",6,null,0,2,2,0,2,0]
[{"$nulls":23},3,"5",2022,"105303",{"$f":"IFERROR(VLOOKUP(Tabla_SERIED_12_5[[#This Row],[IdEstablecimiento]],'[1]Establecimiento 2023'!$A$1:$E$183,3,FALSE),0)","v":"105303-Centro de Salud Familiar San Juan"},{"$f":"IFERROR(VLOOKUP(Tabla_SERIED_12_5[[#This Row],[IdEstablecimiento]],'[1]Establecimiento 2023'!$A$1:$E$183,5,FALSE),0)","v":"04102-Coquimbo"},"15080009","2022-04-19T08:02:50",12,{"$nulls":8},12,0,0,0]
[{"$nulls":23},3,"5",2022,"105303",{"$f":"IFERROR(VLOOKUP(Tabla_SERIED_12_5[[#This Row],[IdEstablecimiento]],'[1]Establecimiento 2023'!$A$1:$E$183,3,FALSE),0)","v":"105303-Centro de Salud Familiar San Juan"},{"$f":"IFERROR(VLOOKUP(Tabla_SERIED_12_5[[#This Row],[IdEstablecimiento]],'[1]Establecimiento 2023'!$A$1:$E$183,5,FALSE),0)","v":"04102-Coquimbo"},"15050100","2022-04-19T08:02:50",481,177,304,0,0,2,55,52,127,105,92,null,26,4,18]
[{"$nulls":23},3,"5",2022,"105303",{"$f":"IFERROR(VLOOKUP(Tabla_SERIED_12_5[[#This Row],[IdEstablecimiento]],'[1]Establecimiento 2023'!$A$1:$E$183,3,FALSE),0)","v":"105303-Centro de Salud Familiar San Juan"},{"$f":"IFERROR(VLOOKUP(Tabla_SERIED_12_5[[#This Row],[IdEstablecimiento]],'[1]Establecimiento 2023'!$A$1:$E$183,5,FALSE),0)","v":"04102-Coquimbo"},"15050200","2022-04-19T08:02:50",6,1,5,0,0,0,1,0,1,0,null,4,0,0,0]
[{"$nulls":23},2,"5",2022,"105452",{"$f":"IFERROR(VLOOKUP(Tabla_SERIED_12_5[[#This Row],[IdEstablecimiento]],'[1]Establecimiento 2023'!$A$1:$E$183,3,FALSE),0)","v":"105452-Posta de Salud Rural Cuncumén(Salamanca)"},{"$f":"IFERROR(VLOOKUP(Tabla_SERIED_12_5[[#This Row],[IdEstablecimiento]],'[1]Establecimiento 2023'!$A$1:$E$183,5,FALSE),0)","v":"04204-Salamanca"},"16100300","2022-03-17T09:44:28",24,11,13]
[{"$nulls":23},2,"5",2022,"105452",{"$f":"IFERROR(VLOOKUP(Tabla_SERIED_12_5[[#This Row],[IdEstablecimiento]],'[1]Establecimiento 2023'!$A$1:$E$183,3,FALSE),0)","v":"105452-Posta de Salud Rural Cuncumén(Salamanca)"},{"$f":"IFERROR(VLOOKUP(Tabla_SERIED_12_5[[#This Row],[IdEstablecimiento]],'[1]Establecimiento 2023'!$A$1:$E$183,5,FALSE),0)","v":"04204-Salamanca"},"16200220","2022-03-17T09:44:28",7,4,3]
[{"$nulls":23},2,"5",2022,"105453",{"$f":"IFERROR(VLOOKUP(Tabla_SERIED_12_5[[#This Row],[IdEstablecimiento]],'[1]Establecimiento 2023'!$A$1:$E$183,3,FALSE),0)","v":"105453-Posta de Salud Rural Tranquilla"},{"$f":"IFERROR(VLOOKUP(Tabla_SERIED_12_5[[#This Row],[IdEstablecimiento]],'[1]Establecimiento 2023'!$A$1:$E$183,5,FALSE),0)","v":"04204-Salamanca"},"15010100","2022-03-17T09:44:41",14,null,null,4,10]
[{"$nulls":23},2,"5",2022,"105453",{"$f":"IFERROR(VLOOKUP(Tabla_SERIED_12_5[[#This Row],[IdEstablecimiento]],'[1]Establecimiento 2023'!$A$1:$E$183,3,FALSE),0)","v":"105453-Posta de Salud Rural Tranquilla"},{"$f":"IFERROR(VLOOKUP(Tabla_SERIED_12_5[[#This Row],[IdEstablecimiento]],'[1]Establecimiento 2023'!$A$1:$E$183,5,FALSE),0)","v":"04204-Salamanca"},"15010200","2022-03-17T09:44:41",79,{"$nulls":4},22,30,27]
[{"$nulls":23},2,"5",2022,"105401",{"$f":"IFERROR(VLOOKUP(Tabla_SERIED_12_5[[#This Row],[IdEstablecimiento]],'[1]Establecimiento 2023'!$A$1:$E$183,3,FALSE),0)","v":"105401-Posta de Salud Rural Las Rojas"},{"$f":"IFERROR(VLOOKUP(Tabla_SERIED_12_5[[#This Row],[IdEstablecimiento]],'[1]Establecimiento 2023'!$A$1:$E$183,5,FALSE),0)","v":"04101-La Serena"},"16100300","2022-03-17T09:32:48",41,19,22,1,26]
[{"$nulls":23},2,"5",2022,"105402",{"$f":"IFERROR(VLOOKUP(Tabla_SERIED_12_5[[#This Row],[IdEstablecimiento]],'[1]Establecimiento 2023'!$A$1:$E$183,3,FALSE),0)","v":"105402-Posta de Salud Rural El Romero"},{"$f":"IFERROR(VLOOKUP(Tabla_SERIED_12_5[[#This Row],[IdEstablecimiento]],'[1]Establecimiento 2023'!$A$1:$E$183,5,FALSE),0)","v":"04101-La Serena"},"15010100","2022-03-17T09:33:02",8,null,null,4,4]
[{"$nulls":23},2,"5",2022,"105402",{"$f":"IFERROR(VLOOKUP(Tabla_SERIED_12_5[[#This Row],[IdEstablecimiento]],'[1]Establecimiento 2023'!$A$1:$E$183,3,FALSE),0)","v":"105402-Posta de Salud Rural El Romero"},{"$f":"IFERROR(VLOOKUP(Tabla_SERIED_12_5[[#This Row],[IdEstablecimiento]],'[1]Establecimiento 2023'!$A$1:$E$183,5,FALSE),0)","v":"04101-La Serena"},"15010200","2022-03-17T09:33:02",20,{"$nulls":4},4,14,2]
[{"$nulls":23},3,"5",2022,"105303",{"$f":"IFERROR(VLOOKUP(Tabla_SERIED_12_5[[#This Row],[IdEstablecimiento]],'[1]Establecimiento 2023'!$A$1:$E$183,3,FALSE),0)","v":"105303-Centro de Salud Familiar San Juan"},{"$f":"IFERROR(VLOOKUP(Tabla_SERIED_12_5[[#This Row],[IdEstablecimiento]],'[1]Establecimiento 2023'!$A$1:$E$183,5,FALSE),0)","v":"04102-Coquimbo"},"15901300","2022-04-19T08:02:50",11.6,0,0,4.4,7.2,0,0,0]
[{"$nulls":23},3,"5",2022,"105303",{"$f":"IFERROR(VLOOKUP(Tabla_SERIED_12_5[[#This Row],[IdEstablecimiento]],'[1]Establecimiento 2023'!$A$1:$E$183,3,FALSE),0)","v":"105303-Centro de Salud Familiar San Juan"},{"$f":"IFERROR(VLOOKUP(Tabla_SERIED_12_5[[#This Row],[IdEstablecimiento]],'[1]Establecimiento 2023'!$A$1:$E$183,5,FALSE),0)","v":"04102-Coquimbo"},"15060100","2022-04-19T08:02:50",13,5,8,0,1,3,0,4,1,4,0,null,0,0,0]
[{"$nulls":23},3,"5",2022,"105303",{"$f":"IFERROR(VLOOKUP(Tabla_SERIED_12_5[[#This Row],[IdEstablecimiento]],'[1]Establecimiento 2023'!$A$1:$E$183,3,FALSE),0)","v":"105303-Centro de Salud Familiar San Juan"},{"$f":"IFERROR(VLOOKUP(Tabla_SERIED_12_5[[#This Row],[IdEstablecimiento]],'[1]Establecimiento 2023'!$A$1:$E$183,5,FALSE),0)","v":"04102-Coquimbo"},"15901400","2022-04-19T08:02:50",7,3,4,0,2,2,3,0]
[{"$nulls":23},3,"5",2022,"105303",{"$f":"IFERROR(VLOOKUP(Tabla_SERIED_12_5[[#This Row],[IdEstablecimiento]],'[1]Establecimiento 2023'!$A$1:$E$183,3,FALSE),0)","v":"105303-Centro de Salud Familiar San Juan"},{"$f":"IFERROR(VLOOKUP(Tabla_SERIED_12_5[[#This Row],[IdEstablecimiento]],'[1]Establecimiento 2023'!$A$1:$E$183,5,FALSE),0)","v":"04102-Coquimbo"},"16090300","2022-04-19T08:02:50",559,563]
[{"$nulls":23},3,"5",2022,"105303",{"$f":"IFERROR(VLOOKUP(Tabla_SERIED_12_5[[#This Row],[IdEstablecimiento]],'[1]Establecimiento 2023'!$A$1:$E$183,3,FALSE),0)","v":"105303-Centro de Salud Familiar San Juan"},{"$f":"IFERROR(VLOOKUP(Tabla_SERIED_12_5[[#This Row],[IdEstablecimiento]],'[1]Establecimiento 2023'!$A$1:$E$183,5,FALSE),0)","v":"04102-Coquimbo"},"16200210","2022-04-19T08:02:50",19,19]
[{"$nulls":23},3,"5",2022,"105303",{"$f":"IFERROR(VLOOKUP(Tabla_SERIED_12_5[[#This Row],[IdEstablecimiento]],'[1]Establecimiento 2023'!$A$1:$E$183,3,FALSE),0)","v":"105303-Centro de Salud Familiar San Juan"},{"$f":"IFERROR(VLOOKUP(Tabla_SERIED_12_5[[#This Row],[IdEstablecimiento]],'[1]Establecimiento 2023'!$A$1:$E$183,5,FALSE),0)","v":"04102-Coquimbo"},"16100300","2022-04-19T08:02:50",563,222,341,19,154]
[{"$nulls":23},3,"5",2022,"105303",{"$f":"IFERROR(VLOOKUP(Tabla_SERIED_12_5[[#This Row],[IdEstablecimiento]],'[1]Establecimiento 2023'!$A$1:$E$183,3,FALSE),0)","v":"105303-Centro de Salud Familiar San Juan"},{"$f":"IFERROR(VLOOKUP(Tabla_SERIED_12_5[[#This Row],[IdEstablecimiento]],'[1]Establecimiento 2023'!$A$1:$E$183,5,FALSE),0)","v":"04102-Coquimbo"},"16200220","2022-04-19T08:02:50",19,7,12,1,4]
[{"$nulls":23},3,"5",2022,"105304",{"$f":"IFERROR(VLOOKUP(Tabla_SERIED_12_5[[#This Row],[IdEstablecimiento]],'[1]Establecimiento 2023'!$A$1:$E$183,3,FALSE),0)","v":"105304-Centro de Salud Familiar Santa Cecilia"},{"$f":"IFERROR(VLOOKUP(Tabla_SERIED_12_5[[#This Row],[IdEstablecimiento]],'[1]Establecimiento 2023'!$A$1:$E$183,5,FALSE),0)","v":"04102-Coquimbo"},"15010100","2022-04-19T08:03:06",129,null,null,6,116,2,null,null,5]
[{"$nulls":23},2,"5",2022,"105509",{"$f":"IFERROR(VLOOKUP(Tabla_SERIED_12_5[[#This Row],[IdEstablecimiento]],'[1]Establecimiento 2023'!$A$1:$E$183,3,FALSE),0)","v":"105509-Posta de Salud Rural Gualliguaica"},{"$f":"IFERROR(VLOOKUP(Tabla_SERIED_12_5[[#This Row],[IdEstablecimiento]],'[1]Establecimiento 2023'!$A$1:$E$183,5,FALSE),0)","v":"04106-Vicuña"},"15010100","2022-03-17T10:02:51",2,{"$nulls":3},2]
[{"$nulls":23},2,"5",2022,"105509",{"$f":"IFERROR(VLOOKUP(Tabla_SERIED_12_5[[#This Row],[IdEstablecimiento]],'[1]Establecimiento 2023'!$A$1:$E$183,3,FALSE),0)","v":"105509-Posta de Salud Rural Gualliguaica"},{"$f":"IFERROR(VLOOKUP(Tabla_SERIED_12_5[[#This Row],[IdEstablecimiento]],'[1]Establecimiento 2023'!$A$1:$E$183,5,FALSE),0)","v":"04106-Vicuña"},"15010200","2022-03-17T10:02:51",2,{"$nulls":6},2]
[{"$nulls":23},5,"5",2022,"105457",{"$f":"IFERROR(VLOOKUP(Tabla_SERIED_12_5[[#This Row],[IdEstablecimiento]],'[1]Establecimiento 2023'!$A$1:$E$183,3,FALSE),0)","v":"105457-Posta de Salud Rural San Agustín (Salamanca)"},{"$f":"IFERROR(VLOOKUP(Tabla_SERIED_12_5[[#This Row],[IdEstablecimiento]],'[1]Establecimiento 2023'!$A$1:$E$183,5,FALSE),0)","v":"04204-Salamanca"},"16100300","2022-06-22T10:51:02",46,21,25,null,27]
[{"$nulls":23},5,"5",2022,"105457",{"$f":"IFERROR(VLOOKUP(Tabla_SERIED_12_5[[#This Row],[IdEstablecimiento]],'[1]Establecimiento 2023'!$A$1:$E$183,3,FALSE),0)","v":"105457-Posta de Salud Rural San Agustín (Salamanca)"},{"$f":"IFERROR(VLOOKUP(Tabla_SERIED_12_5[[#This Row],[IdEstablecimiento]],'[1]Establecimiento 2023'!$A$1:$E$183,5,FALSE),0)","v":"04204-Salamanca"},"16200220","2022-06-22T10:51:02",3,1,2,null,1]
[{"$nulls":23},5,"5",2022,"105701",{"$f":"IFERROR(VLOOKUP(Tabla_SERIED_12_5[[#This Row],[IdEstablecimiento]],'[1]Establecimiento 2023'!$A$1:$E$183,3,FALSE),0)","v":"105701-Centro Comunitario de Salud Familiar Villa Alemania"},{"$f":"IFERROR(VLOOKUP(Tabla_SERIED_12_5[[#This Row],[IdEstablecimiento]],'[1]Establecimiento 2023'!$A$1:$E$183,5,FALSE),0)","v":"04101-La Serena"},"16100600","2022-06-20T17:31:46",3,3,0]
[{"$nulls":23},5,"5",2022,"105702",{"$f":"IFERROR(VLOOKUP(Tabla_SERIED_12_5[[#This Row],[IdEstablecimiento]],'[1]Establecimiento 2023'!$A$1:$E$183,3,FALSE),0)","v":"105702-Centro Comunitario de Salud Familiar Lambert"},{"$f":"IFERROR(VLOOKUP(Tabla_SERIED_12_5[[#This Row],[IdEstablecimiento]],'[1]Establecimiento 2023'!$A$1:$E$183,5,FALSE),0)","v":"04101-La Serena"},"15010100","2022-06-20T17:31:56",20,{"$nulls":3},18,2]
[{"$nulls":23},5,"5",2022,"105492",{"$f":"IFERROR(VLOOKUP(Tabla_SERIED_12_5[[#This Row],[IdEstablecimiento]],'[1]Establecimiento 2023'!$A$1:$E$183,3,FALSE),0)","v":"105492-Posta de Salud Rural Camisa"},{"$f":"IFERROR(VLOOKUP(Tabla_SERIED_12_5[[#This Row],[IdEstablecimiento]],'[1]Establecimiento 2023'!$A$1:$E$183,5,FALSE),0)","v":"04204-Salamanca"},"16090300","2022-06-22T10:51:57",47,47]
[{"$nulls":23},8,"5",2022,"105444",{"$f":"IFERROR(VLOOKUP(Tabla_SERIED_12_5[[#This Row],[IdEstablecimiento]],'[1]Establecimiento 2023'!$A$1:$E$183,3,FALSE),0)","v":"105444-Posta de Salud Rural Huintil"},{"$f":"IFERROR(VLOOKUP(Tabla_SERIED_12_5[[#This Row],[IdEstablecimiento]],'[1]Establecimiento 2023'!$A$1:$E$183,5,FALSE),0)","v":"04201-Illapel"},"16200210","2022-09-21T07:42:54",5,5]
[{"$nulls":23},8,"5",2022,"105444",{"$f":"IFERROR(VLOOKUP(Tabla_SERIED_12_5[[#This Row],[IdEstablecimiento]],'[1]Establecimiento 2023'!$A$1:$E$183,3,FALSE),0)","v":"105444-Posta de Salud Rural Huintil"},{"$f":"IFERROR(VLOOKUP(Tabla_SERIED_12_5[[#This Row],[IdEstablecimiento]],'[1]Establecimiento 2023'!$A$1:$E$183,5,FALSE),0)","v":"04201-Illapel"},"16100300","2022-09-21T07:42:54",58,25,33]
[{"$nulls":23},8,"5",2022,"105444",{"$f":"IFERROR(VLOOKUP(Tabla_SERIED_12_5[[#This Row],[IdEstablecimiento]],'[1]Establecimiento 2023'!$A$1:$E$183,3,FALSE),0)","v":"105444-Posta de Salud Rural Huintil"},{"$f":"IFERROR(VLOOKUP(Tabla_SERIED_12_5[[#This Row],[IdEstablecimiento]],'[1]Establecimiento 2023'!$A$1:$E$183,5,FALSE),0)","v":"04201-Illapel"},"16200220","2022-09-21T07:42:54",5,2,3]
[{"$nulls":23},8,"5",2022,"105445",{"$f":"IFERROR(VLOOKUP(Tabla_SERIED_12_5[[#This Row],[IdEstablecimiento]],'[1]Establecimiento 2023'!$A$1:$E$183,3,FALSE),0)","v":"105445-Posta de Salud Rural Limáhuida"},{"$f":"IFERROR(VLOOKUP(Tabla_SERIED_12_5[[#This Row],[IdEstablecimiento]],'[1]Establecimiento 2023'!$A$1:$E$183,5,FALSE),0)","v":"04201-Illapel"},"15010100","2022-09-21T07:43:03",4,{"$nulls":3},4]
[{"$nulls":23},8,"5",2022,"105722",{"$f":"IFERROR(VLOOKUP(Tabla_SERIED_12_5[[#This Row],[IdEstablecimiento]],'[1]Establecimiento 2023'!$A$1:$E$183,3,FALSE),0)","v":"105722-Centro Comunitario de Salud Familiar San José de la Dehesa"},{"$f":"IFERROR(VLOOKUP(Tabla_SERIED_12_5[[#This Row],[IdEstablecimiento]],'[1]Establecimiento 2023'!$A$1:$E$183,5,FALSE),0)","v":"04301-Ovalle"},"15080008","2022-09-21T08:01:08",40,{"$nulls":7},15,null,22,null,3]
[{"$nulls":23},8,"5",2022,"105722",{"$f":"IFERROR(VLOOKUP(Tabla_SERIED_12_5[[#This Row],[IdEstablecimiento]],'[1]Establecimiento 2023'!$A$1:$E$183,3,FALSE),0)","v":"105722-Centro Comunitario de Salud Familiar San José de la Dehesa"},{"$f":"IFERROR(VLOOKUP(Tabla_SERIED_12_5[[#This Row],[IdEstablecimiento]],'[1]Establecimiento 2023'!$A$1:$E$183,5,FALSE),0)","v":"04301-Ovalle"},"15900010","2022-09-21T08:01:08",36.9,10.8,13.5,12.6]
[{"$nulls":23},8,"5",2022,"105722",{"$f":"IFERROR(VLOOKUP(Tabla_SERIED_12_5[[#This Row],[IdEstablecimiento]],'[1]Establecimiento 2023'!$A$1:$E$183,3,FALSE),0)","v":"105722-Centro Comunitario de Salud Familiar San José de la Dehesa"},{"$f":"IFERROR(VLOOKUP(Tabla_SERIED_12_5[[#This Row],[IdEstablecimiento]],'[1]Establecimiento 2023'!$A$1:$E$183,5,FALSE),0)","v":"04301-Ovalle"},"15010300","2022-09-21T08:01:08",2,{"$nulls":3},2]
[{"$nulls":23},8,"5",2022,"105722",{"$f":"IFERROR(VLOOKUP(Tabla_SERIED_12_5[[#This Row],[IdEstablecimiento]],'[1]Establecimiento 2023'!$A$1:$E$183,3,FALSE),0)","v":"105722-Centro Comunitario de Salud Familiar San José de la Dehesa"},{"$f":"IFERROR(VLOOKUP(Tabla_SERIED_12_5[[#This Row],[IdEstablecimiento]],'[1]Establecimiento 2023'!$A$1:$E$183,5,FALSE),0)","v":"04301-Ovalle"},"15010400","2022-09-21T08:01:08",6,{"$nulls":5},4,2]
[{"$nulls":23},8,"5",2022,"105722",{"$f":"IFERROR(VLOOKUP(Tabla_SERIED_12_5[[#This Row],[IdEstablecimiento]],'[1]Establecimiento 2023'!$A$1:$E$183,3,FALSE),0)","v":"105722-Centro Comunitario de Salud Familiar San José de la Dehesa"},{"$f":"IFERROR(VLOOKUP(Tabla_SERIED_12_5[[#This Row],[IdEstablecimiento]],'[1]Establecimiento 2023'!$A$1:$E$183,5,FALSE),0)","v":"04301-Ovalle"},"15010500","2022-09-21T08:01:08",8,{"$nulls":3},2,null,4,2]
[{"$nulls":23},8,"5",2022,"105722",{"$f":"IFERROR(VLOOKUP(Tabla_SERIED_12_5[[#This Row],[IdEstablecimiento]],'[1]Establecimiento 2023'!$A$1:$E$183,3,FALSE),0)","v":"105722-Centro Comunitario de Salud Familiar San José de la Dehesa"},{"$f":"IFERROR(VLOOKUP(Tabla_SERIED_12_5[[#This Row],[IdEstablecimiento]],'[1]Establecimiento 2023'!$A$1:$E$183,5,FALSE),0)","v":"04301-Ovalle"},"15080009","2022-09-21T08:01:08",3,{"$nulls":8},3]
[{"$nulls":23},8,"5",2022,"105722",{"$f":"IFERROR(VLOOKUP(Tabla_SERIED_12_5[[#This Row],[IdEstablecimiento]],'[1]Establecimiento 2023'!$A$1:$E$183,3,FALSE),0)","v":"105722-Centro Comunitario de Salud Familiar San José de la Dehesa"},{"$f":"IFERROR(VLOOKUP(Tabla_SERIED_12_5[[#This Row],[IdEstablecimiento]],'[1]Establecimiento 2023'!$A$1:$E$183,5,FALSE),0)","v":"04301-Ovalle"},"15900020","2022-09-21T08:01:08",0.9,0.9]
[{"$nulls":23},8,"5",2022,"105722",{"$f":"IFERROR(VLOOKUP(Tabla_SERIED_12_5[[#This Row],[IdEstablecimiento]],'[1]Establecimiento 2023'!$A$1:$E$183,3,FALSE),0)","v":"105722-Centro Comunitario de Salud Familiar San José de la Dehesa"},{"$f":"IFERROR(VLOOKUP(Tabla_SERIED_12_5[[#This Row],[IdEstablecimiento]],'[1]Establecimiento 2023'!$A$1:$E$183,5,FALSE),0)","v":"04301-Ovalle"},"15900030","2022-09-21T08:01:08",2,2]
[{"$nulls":23},8,"5",2022,"105722",{"$f":"IFERROR(VLOOKUP(Tabla_SERIED_12_5[[#This Row],[IdEstablecimiento]],'[1]Establecimiento 2023'!$A$1:$E$183,3,FALSE),0)","v":"105722-Centro Comunitario de Salud Familiar San José de la Dehesa"},{"$f":"IFERROR(VLOOKUP(Tabla_SERIED_12_5[[#This Row],[IdEstablecimiento]],'[1]Establecimiento 2023'!$A$1:$E$183,5,FALSE),0)","v":"04301-Ovalle"},"15900040","2022-09-21T08:01:08",2.4,null,null,2.4]
[{"$nulls":23},8,"5",2022,"105722",{"$f":"IFERROR(VLOOKUP(Tabla_SERIED_12_5[[#This Row],[IdEstablecimiento]],'[1]Establecimiento 2023'!$A$1:$E$183,3,FALSE),0)","v":"105722-Centro Comunitario de Salud Familiar San José de la Dehesa"},{"$f":"IFERROR(VLOOKUP(Tabla_SERIED_12_5[[#This Row],[IdEstablecimiento]],'[1]Establecimiento 2023'!$A$1:$E$183,5,FALSE),0)","v":"04301-Ovalle"},"15050100","2022-09-21T08:01:08",113,50,63,3,4,5,16,17,22,17,15,null,11,null,3]
[{"$nulls":23},8,"5",2022,"105722",{"$f":"IFERROR(VLOOKUP(Tabla_SERIED_12_5[[#This Row],[IdEstablecimiento]],'[1]Establecimiento 2023'!$A$1:$E$183,3,FALSE),0)","v":"105722-Centro Comunitario de Salud Familiar San José de la Dehesa"},{"$f":"IFERROR(VLOOKUP(Tabla_SERIED_12_5[[#This Row],[IdEstablecimiento]],'[1]Establecimiento 2023'!$A$1:$E$183,5,FALSE),0)","v":"04301-Ovalle"},"15050200","2022-09-21T08:01:08",6,3,3,1,null,null,1,null,2,1,null,1]
[{"$nulls":23},8,"5",2022,"105722",{"$f":"IFERROR(VLOOKUP(Tabla_SERIED_12_5[[#This Row],[IdEstablecimiento]],'[1]Establecimiento 2023'!$A$1:$E$183,3,FALSE),0)","v":"105722-Centro Comunitario de Salud Familiar San José de la Dehesa"},{"$f":"IFERROR(VLOOKUP(Tabla_SERIED_12_5[[#This Row],[IdEstablecimiento]],'[1]Establecimiento 2023'!$A$1:$E$183,5,FALSE),0)","v":"04301-Ovalle"},"15900050","2022-09-21T08:01:08",2,1,1,1,null,1]
[{"$nulls":23},8,"5",2022,"105722",{"$f":"IFERROR(VLOOKUP(Tabla_SERIED_12_5[[#This Row],[IdEstablecimiento]],'[1]Establecimiento 2023'!$A$1:$E$183,3,FALSE),0)","v":"105722-Centro Comunitario de Salud Familiar San José de la Dehesa"},{"$f":"IFERROR(VLOOKUP(Tabla_SERIED_12_5[[#This Row],[IdEstablecimiento]],'[1]Establecimiento 2023'!$A$1:$E$183,5,FALSE),0)","v":"04301-Ovalle"},"16090300","2022-09-21T08:01:08",140,140]
[{"$nulls":23},8,"5",2022,"105722",{"$f":"IFERROR(VLOOKUP(Tabla_SERIED_12_5[[#This Row],[IdEstablecimiento]],'[1]Establecimiento 2023'!$A$1:$E$183,3,FALSE),0)","v":"105722-Centro Comunitario de Salud Familiar San José de la Dehesa"},{"$f":"IFERROR(VLOOKUP(Tabla_SERIED_12_5[[#This Row],[IdEstablecimiento]],'[1]Establecimiento 2023'!$A$1:$E$183,5,FALSE),0)","v":"04301-Ovalle"},"16200210","2022-09-21T08:01:08",21,21]
[{"$nulls":23},8,"5",2022,"105722",{"$f":"IFERROR(VLOOKUP(Tabla_SERIED_12_5[[#This Row],[IdEstablecimiento]],'[1]Establecimiento 2023'!$A$1:$E$183,3,FALSE),0)","v":"105722-Centro Comunitario de Salud Familiar San José de la Dehesa"},{"$f":"IFERROR(VLOOKUP(Tabla_SERIED_12_5[[#This Row],[IdEstablecimiento]],'[1]Establecimiento 2023'!$A$1:$E$183,5,FALSE),0)","v":"04301-Ovalle"},"16100300","2022-09-21T08:01:08",140,70,70,3,60]
[{"$nulls":23},8,"5",2022,"105722",{"$f":"IFERROR(VLOOKUP(Tabla_SERIED_12_5[[#This Row],[IdEstablecimiento]],'[1]Establecimiento 2023'!$A$1:$E$183,3,FALSE),0)","v":"105722-Centro Comunitario de Salud Familiar San José de la Dehesa"},{"$f":"IFERROR(VLOOKUP(Tabla_SERIED_12_5[[#This Row],[IdEstablecimiento]],'[1]Establecimiento 2023'!$A$1:$E$183,5,FALSE),0)","v":"04301-Ovalle"},"16200220","2022-09-21T08:01:08",21,11,10,0,0]
[{"$nulls":23},8,"5",2022,"105723",{"$f":"IFERROR(VLOOKUP(Tabla_SERIED_12_5[[#This Row],[IdEstablecimiento]],'[1]Establecimiento 2023'!$A$1:$E$183,3,FALSE),0)","v":"105723-Centro Comunitario de Salud Familiar Limarí"},{"$f":"IFERROR(VLOOKUP(Tabla_SERIED_12_5[[#This Row],[IdEstablecimiento]],'[1]Establecimiento 2023'!$A$1:$E$183,5,FALSE),0)","v":"04301-Ovalle"},"15010100","2022-09-21T08:01:22",18,{"$nulls":3},18]
[{"$nulls":23},8,"5",2022,"105723",{"$f":"IFERROR(VLOOKUP(Tabla_SERIED_12_5[[#This Row],[IdEstablecimiento]],'[1]Establecimiento 2023'!$A$1:$E$183,3,FALSE),0)","v":"105723-Centro Comunitario de Salud Familiar Limarí"},{"$f":"IFERROR(VLOOKUP(Tabla_SERIED_12_5[[#This Row],[IdEstablecimiento]],'[1]Establecimiento 2023'!$A$1:$E$183,5,FALSE),0)","v":"04301-Ovalle"},"15010200","2022-09-21T08:01:22",90,{"$nulls":4},24,38,28]
[{"$nulls":23},8,"5",2022,"105723",{"$f":"IFERROR(VLOOKUP(Tabla_SERIED_12_5[[#This Row],[IdEstablecimiento]],'[1]Establecimiento 2023'!$A$1:$E$183,3,FALSE),0)","v":"105723-Centro Comunitario de Salud Familiar Limarí"},{"$f":"IFERROR(VLOOKUP(Tabla_SERIED_12_5[[#This Row],[IdEstablecimiento]],'[1]Establecimiento 2023'!$A$1:$E$183,5,FALSE),0)","v":"04301-Ovalle"},"15080008","2022-09-21T08:01:22",23,{"$nulls":7},12,null,10,null,1]
[{"$nulls":23},8,"5",2022,"105723",{"$f":"IFERROR(VLOOKUP(Tabla_SERIED_12_5[[#This Row],[IdEstablecimiento]],'[1]Establecimiento 2023'!$A$1:$E$183,3,FALSE),0)","v":"105723-Centro Comunitario de Salud Familiar Limarí"},{"$f":"IFERROR(VLOOKUP(Tabla_SERIED_12_5[[#This Row],[IdEstablecimiento]],'[1]Establecimiento 2023'!$A$1:$E$183,5,FALSE),0)","v":"04301-Ovalle"},"15900010","2022-09-21T08:01:22",18.8,2.7,8.9,7.2]
[{"$nulls":23},8,"5",2022,"105723",{"$f":"IFERROR(VLOOKUP(Tabla_SERIED_12_5[[#This Row],[IdEstablecimiento]],'[1]Establecimiento 2023'!$A$1:$E$183,3,FALSE),0)","v":"105723-Centro Comunitario de Salud Familiar Limarí"},{"$f":"IFERROR(VLOOKUP(Tabla_SERIED_12_5[[#This Row],[IdEstablecimiento]],'[1]Establecimiento 2023'!$A$1:$E$183,5,FALSE),0)","v":"04301-Ovalle"},"15010400","2022-09-21T08:01:22",4,{"$nulls":5},4]
[{"$nulls":23},8,"5",2022,"105723",{"$f":"IFERROR(VLOOKUP(Tabla_SERIED_12_5[[#This Row],[IdEstablecimiento]],'[1]Establecimiento 2023'!$A$1:$E$183,3,FALSE),0)","v":"105723-Centro Comunitario de Salud Familiar Limarí"},{"$f":"IFERROR(VLOOKUP(Tabla_SERIED_12_5[[#This Row],[IdEstablecimiento]],'[1]Establecimiento 2023'!$A$1:$E$183,5,FALSE),0)","v":"04301-Ovalle"},"15010500","2022-09-21T08:01:22",4,{"$nulls":5},4]
[{"$nulls":23},8,"5",2022,"105723",{"$f":"IFERROR(VLOOKUP(Tabla_SERIED_12_5[[#This Row],[IdEstablecimiento]],'[1]Establecimiento 2023'!$A$1:$E$183,3,FALSE),0)","v":"105723-Centro Comunitario de Salud Familiar Limarí"},{"$f":"IFERROR(VLOOKUP(Tabla_SERIED_12_5[[#This Row],[IdEstablecimiento]],'[1]Establecimiento 2023'!$A$1:$E$183,5,FALSE),0)","v":"04301-Ovalle"},"15900030","2022-09-21T08:01:22",4.4,null,null,4.4]
[{"$nulls":23},8,"5",2022,"105723",{"$f":"IFERROR(VLOOKUP(Tabla_SERIED_12_5[[#This Row],[IdEstablecimiento]],'[1]Establecimiento 2023'!$A$1:$E$183,3,FALSE),0)","v":"105723-Centro Comunitario de Salud Familiar Limarí"},{"$f":"IFERROR(VLOOKUP(Tabla_SERIED_12_5[[#This Row],[IdEstablecimiento]],'[1]Establecimiento 2023'!$A$1:$E$183,5,FALSE),0)","v":"04301-Ovalle"},"15900040","2022-09-21T08:01:22",4.4,null,null,4.4]
[{"$nulls":23},5,"5",2022,"200607",{"$f":"IFERROR(VLOOKUP(Tabla_SERIED_12_5[[#This Row],[IdEstablecimiento]],'[1]Establecimiento 2023'!$A$1:$E$183,3,FALSE),0)","v":"200607-Centro de Salud Familiar Lila Cortés Godoy"},{"$f":"IFERROR(VLOOKUP(Tabla_SERIED_12_5[[#This Row],[IdEstablecimiento]],'[1]Establecimiento 2023'!$A$1:$E$183,5,FALSE),0)","v":"04102-Coquimbo"},"16200220","2022-06-20T17:38:04",54,21,33,6,11]
[{"$nulls":23},5,"5",2022,"105452",{"$f":"IFERROR(VLOOKUP(Tabla_SERIED_12_5[[#This Row],[IdEstablecimiento]],'[1]Establecimiento 2023'!$A$1:$E$183,3,FALSE),0)","v":"105452-Posta de Salud Rural Cuncumén(Salamanca)"},{"$f":"IFERROR(VLOOKUP(Tabla_SERIED_12_5[[#This Row],[IdEstablecimiento]],'[1]Establecimiento 2023'!$A$1:$E$183,5,FALSE),0)","v":"04204-Salamanca"},"15010100","2022-06-22T10:49:48",2,{"$nulls":3},2]
[{"$nulls":23},5,"5",2022,"105452",{"$f":"IFERROR(VLOOKUP(Tabla_SERIED_12_5[[#This Row],[IdEstablecimiento]],'[1]Establecimiento 2023'!$A$1:$E$183,3,FALSE),0)","v":"105452-Posta de Salud Rural Cuncumén(Salamanca)"},{"$f":"IFERROR(VLOOKUP(Tabla_SERIED_12_5[[#This Row],[IdEstablecimiento]],'[1]Establecimiento 2023'!$A$1:$E$183,5,FALSE),0)","v":"04204-Salamanca"},"15010200","2022-06-22T10:49:48",26,{"$nulls":4},6,10,10]
[{"$nulls":23},5,"5",2022,"105452",{"$f":"IFERROR(VLOOKUP(Tabla_SERIED_12_5[[#This Row],[IdEstablecimiento]],'[1]Establecimiento 2023'!$A$1:$E$183,3,FALSE),0)","v":"105452-Posta de Salud Rural Cuncumén(Salamanca)"},{"$f":"IFERROR(VLOOKUP(Tabla_SERIED_12_5[[#This Row],[IdEstablecimiento]],'[1]Establecimiento 2023'!$A$1:$E$183,5,FALSE),0)","v":"04204-Salamanca"},"15080008","2022-06-22T10:49:48",8,{"$nulls":7},2,null,2,1,3]
[{"$nulls":23},5,"5",2022,"105452",{"$f":"IFERROR(VLOOKUP(Tabla_SERIED_12_5[[#This Row],[IdEstablecimiento]],'[1]Establecimiento 2023'!$A$1:$E$183,3,FALSE),0)","v":"105452-Posta de Salud Rural Cuncumén(Salamanca)"},{"$f":"IFERROR(VLOOKUP(Tabla_SERIED_12_5[[#This Row],[IdEstablecimiento]],'[1]Establecimiento 2023'!$A$1:$E$183,5,FALSE),0)","v":"04204-Salamanca"},"15900010","2022-06-22T10:49:48",6.4,null,2.4,4]
[{"$nulls":23},5,"5",2022,"105452",{"$f":"IFERROR(VLOOKUP(Tabla_SERIED_12_5[[#This Row],[IdEstablecimiento]],'[1]Establecimiento 2023'!$A$1:$E$183,3,FALSE),0)","v":"105452-Posta de Salud Rural Cuncumén(Salamanca)"},{"$f":"IFERROR(VLOOKUP(Tabla_SERIED_12_5[[#This Row],[IdEstablecimiento]],'[1]Establecimiento 2023'!$A$1:$E$183,5,FALSE),0)","v":"04204-Salamanca"},"15050100","2022-06-22T10:49:48",25,11,14,null,1,3,1,3,5,5,2,null,1,1,3]
[{"$nulls":23},5,"5",2022,"105321",{"$f":"IFERROR(VLOOKUP(Tabla_SERIED_12_5[[#This Row],[IdEstablecimiento]],'[1]Establecimiento 2023'!$A$1:$E$183,3,FALSE),0)","v":"105321-Centro de Salud Familiar Tongoy"},{"$f":"IFERROR(VLOOKUP(Tabla_SERIED_12_5[[#This Row],[IdEstablecimiento]],'[1]Establecimiento 2023'!$A$1:$E$183,5,FALSE),0)","v":"04102-Coquimbo"},"15050200","2022-06-20T17:04:50",1,0,1,{"$nulls":3},0,0,0,null,null,1]
[{"$nulls":23},5,"5",2022,"105321",{"$f":"IFERROR(VLOOKUP(Tabla_SERIED_12_5[[#This Row],[IdEstablecimiento]],'[1]Establecimiento 2023'!$A$1:$E$183,3,FALSE),0)","v":"105321-Centro de Salud Familiar Tongoy"},{"$f":"IFERROR(VLOOKUP(Tabla_SERIED_12_5[[#This Row],[IdEstablecimiento]],'[1]Establecimiento 2023'!$A$1:$E$183,5,FALSE),0)","v":"04102-Coquimbo"},"15050500","2022-06-20T17:04:50",2,1,1,2]
[{"$nulls":23},5,"5",2022,"105321",{"$f":"IFERROR(VLOOKUP(Tabla_SERIED_12_5[[#This Row],[IdEstablecimiento]],'[1]Establecimiento 2023'!$A$1:$E$183,3,FALSE),0)","v":"105321-Centro de Salud Familiar Tongoy"},{"$f":"IFERROR(VLOOKUP(Tabla_SERIED_12_5[[#This Row],[IdEstablecimiento]],'[1]Establecimiento 2023'!$A$1:$E$183,5,FALSE),0)","v":"04102-Coquimbo"},"15900050","2022-06-20T17:04:50",1,1,null,1]
[{"$nulls":23},5,"5",2022,"105321",{"$f":"IFERROR(VLOOKUP(Tabla_SERIED_12_5[[#This Row],[IdEstablecimiento]],'[1]Establecimiento 2023'!$A$1:$E$183,3,FALSE),0)","v":"105321-Centro de Salud Familiar Tongoy"},{"$f":"IFERROR(VLOOKUP(Tabla_SERIED_12_5[[#This Row],[IdEstablecimiento]],'[1]Establecimiento 2023'!$A$1:$E$183,5,FALSE),0)","v":"04102-Coquimbo"},"16090300","2022-06-20T17:04:50",130,130]
[{"$nulls":23},5,"5",2022,"105321",{"$f":"IFERROR(VLOOKUP(Tabla_SERIED_12_5[[#This Row],[IdEstablecimiento]],'[1]Establecimiento 2023'!$A$1:$E$183,3,FALSE),0)","v":"105321-Centro de Salud Familiar Tongoy"},{"$f":"IFERROR(VLOOKUP(Tabla_SERIED_12_5[[#This Row],[IdEstablecimiento]],'[1]Establecimiento 2023'!$A$1:$E$183,5,FALSE),0)","v":"04102-Coquimbo"},"16200210","2022-06-20T17:04:50",5,5]
[{"$nulls":23},5,"5",2022,"105321",{"$f":"IFERROR(VLOOKUP(Tabla_SERIED_12_5[[#This Row],[IdEstablecimiento]],'[1]Establecimiento 2023'!$A$1:$E$183,3,FALSE),0)","v":"105321-Centro de Salud Familiar Tongoy"},{"$f":"IFERROR(VLOOKUP(Tabla_SERIED_12_5[[#This Row],[IdEstablecimiento]],'[1]Establecimiento 2023'!$A$1:$E$183,5,FALSE),0)","v":"04102-Coquimbo"},"16100300","2022-06-20T17:04:50",130,53,77,2,33]
[{"$nulls":23},5,"5",2022,"105321",{"$f":"IFERROR(VLOOKUP(Tabla_SERIED_12_5[[#This Row],[IdEstablecimiento]],'[1]Establecimiento 2023'!$A$1:$E$183,3,FALSE),0)","v":"105321-Centro de Salud Familiar Tongoy"},{"$f":"IFERROR(VLOOKUP(Tabla_SERIED_12_5[[#This Row],[IdEstablecimiento]],'[1]Establecimiento 2023'!$A$1:$E$183,5,FALSE),0)","v":"04102-Coquimbo"},"16200220","2022-06-20T17:04:50",5,2,3,0]
[{"$nulls":23},5,"5",2022,"105322",{"$f":"IFERROR(VLOOKUP(Tabla_SERIED_12_5[[#This Row],[IdEstablecimiento]],'[1]Establecimiento 2023'!$A$1:$E$183,3,FALSE),0)","v":"105322-Centro de Salud Familiar Marcos Macuada"},{"$f":"IFERROR(VLOOKUP(Tabla_SERIED_12_5[[#This Row],[IdEstablecimiento]],'[1]Establecimiento 2023'!$A$1:$E$183,5,FALSE),0)","v":"04301-Ovalle"},"15010100","2022-06-20T17:05:03",192,{"$nulls":3},192]
[{"$nulls":23},4,"5",2022,"200494",{"$f":"IFERROR(VLOOKUP(Tabla_SERIED_12_5[[#This Row],[IdEstablecimiento]],'[1]Establecimiento 2023'!$A$1:$E$183,3,FALSE),0)","v":"200494-Centro de Salud Familiar El Sauce"},{"$f":"IFERROR(VLOOKUP(Tabla_SERIED_12_5[[#This Row],[IdEstablecimiento]],'[1]Establecimiento 2023'!$A$1:$E$183,5,FALSE),0)","v":"04102-Coquimbo"},"16090300","2022-05-18T15:27:44",274,274]
[{"$nulls":23},4,"5",2022,"200494",{"$f":"IFERROR(VLOOKUP(Tabla_SERIED_12_5[[#This Row],[IdEstablecimiento]],'[1]Establecimiento 2023'!$A$1:$E$183,3,FALSE),0)","v":"200494-Centro de Salud Familiar El Sauce"},{"$f":"IFERROR(VLOOKUP(Tabla_SERIED_12_5[[#This Row],[IdEstablecimiento]],'[1]Establecimiento 2023'!$A$1:$E$183,5,FALSE),0)","v":"04102-Coquimbo"},"16200210","2022-05-18T15:27:44",30,30]
[{"$nulls":23},4,"5",2022,"200494",{"$f":"IFERROR(VLOOKUP(Tabla_SERIED_12_5[[#This Row],[IdEstablecimiento]],'[1]Establecimiento 2023'!$A$1:$E$183,3,FALSE),0)","v":"200494-Centro de Salud Familiar El Sauce"},{"$f":"IFERROR(VLOOKUP(Tabla_SERIED_12_5[[#This Row],[IdEstablecimiento]],'[1]Establecimiento 2023'!$A$1:$E$183,5,FALSE),0)","v":"04102-Coquimbo"},"16100300","2022-05-18T15:27:44",274,96,178,2,94]
[{"$nulls":23},2,"5",2022,"105312",{"$f":"IFERROR(VLOOKUP(Tabla_SERIED_12_5[[#This Row],[IdEstablecimiento]],'[1]Establecimiento 2023'!$A$1:$E$183,3,FALSE),0)","v":"105312-Centro de Salud Familiar Carén"},{"$f":"IFERROR(VLOOKUP(Tabla_SERIED_12_5[[#This Row],[IdEstablecimiento]],'[1]Establecimiento 2023'!$A$1:$E$183,5,FALSE),0)","v":"04303-Monte Patria"},"15010100","2022-03-17T09:29:24",6,null,null,4,2]
[{"$nulls":23},2,"5",2022,"105312",{"$f":"IFERROR(VLOOKUP(Tabla_SERIED_12_5[[#This Row],[IdEstablecimiento]],'[1]Establecimiento 2023'!$A$1:$E$183,3,FALSE),0)","v":"105312-Centro de Salud Familiar Carén"},{"$f":"IFERROR(VLOOKUP(Tabla_SERIED_12_5[[#This Row],[IdEstablecimiento]],'[1]Establecimiento 2023'!$A$1:$E$183,5,FALSE),0)","v":"04303-Monte Patria"},"15010200","2022-03-17T09:29:24",36,{"$nulls":4},4,14,18]
[{"$nulls":23},2,"5",2022,"105312",{"$f":"IFERROR(VLOOKUP(Tabla_SERIED_12_5[[#This Row],[IdEstablecimiento]],'[1]Establecimiento 2023'!$A$1:$E$183,3,FALSE),0)","v":"105312-Centro de Salud Familiar Carén"},{"$f":"IFERROR(VLOOKUP(Tabla_SERIED_12_5[[#This Row],[IdEstablecimiento]],'[1]Establecimiento 2023'!$A$1:$E$183,5,FALSE),0)","v":"04303-Monte Patria"},"15080008","2022-03-17T09:29:24",15,{"$nulls":7},6,null,8,null,1]
[{"$nulls":23},2,"5",2022,"105312",{"$f":"IFERROR(VLOOKUP(Tabla_SERIED_12_5[[#This Row],[IdEstablecimiento]],'[1]Establecimiento 2023'!$A$1:$E$183,3,FALSE),0)","v":"105312-Centro de Salud Familiar Carén"},{"$f":"IFERROR(VLOOKUP(Tabla_SERIED_12_5[[#This Row],[IdEstablecimiento]],'[1]Establecimiento 2023'!$A$1:$E$183,5,FALSE),0)","v":"04303-Monte Patria"},"15900010","2022-03-17T09:29:24",10.4,null,4,6.4]
[{"$nulls":23},2,"5",2022,"105312",{"$f":"IFERROR(VLOOKUP(Tabla_SERIED_12_5[[#This Row],[IdEstablecimiento]],'[1]Establecimiento 2023'!$A$1:$E$183,3,FALSE),0)","v":"105312-Centro de Salud Familiar Carén"},{"$f":"IFERROR(VLOOKUP(Tabla_SERIED_12_5[[#This Row],[IdEstablecimiento]],'[1]Establecimiento 2023'!$A$1:$E$183,5,FALSE),0)","v":"04303-Monte Patria"},"15900030","2022-03-17T09:29:24",2,null,null,2]
[{"$nulls":23},2,"5",2022,"105312",{"$f":"IFERROR(VLOOKUP(Tabla_SERIED_12_5[[#This Row],[IdEstablecimiento]],'[1]Establecimiento 2023'!$A$1:$E$183,3,FALSE),0)","v":"105312-Centro de Salud Familiar Carén"},{"$f":"IFERROR(VLOOKUP(Tabla_SERIED_12_5[[#This Row],[IdEstablecimiento]],'[1]Establecimiento 2023'!$A$1:$E$183,5,FALSE),0)","v":"04303-Monte Patria"},"15050100","2022-03-17T09:29:24",35,13,22,null,1,4,1,2,7,9,6,null,4,null,1]
[{"$nulls":23},2,"5",2022,"105312",{"$f":"IFERROR(VLOOKUP(Tabla_SERIED_12_5[[#This Row],[IdEstablecimiento]],'[1]Establecimiento 2023'!$A$1:$E$183,3,FALSE),0)","v":"105312-Centro de Salud Familiar Carén"},{"$f":"IFERROR(VLOOKUP(Tabla_SERIED_12_5[[#This Row],[IdEstablecimiento]],'[1]Establecimiento 2023'!$A$1:$E$183,5,FALSE),0)","v":"04303-Monte Patria"},"15900050","2022-03-17T09:29:24",1,1,{"$nulls":3},1]
[{"$nulls":23},1,"5",2022,"105432",{"$f":"IFERROR(VLOOKUP(Tabla_SERIED_12_5[[#This Row],[IdEstablecimiento]],'[1]Establecimiento 2023'!$A$1:$E$183,3,FALSE),0)","v":"105432-Posta de Salud Rural Rapel (Monte Patria)"},{"$f":"IFERROR(VLOOKUP(Tabla_SERIED_12_5[[#This Row],[IdEstablecimiento]],'[1]Establecimiento 2023'!$A$1:$E$183,5,FALSE),0)","v":"04303-Monte Patria"},"15010200","2022-05-18T15:39:47",22,{"$nulls":4},12,10]
[{"$nulls":23},1,"5",2022,"105432",{"$f":"IFERROR(VLOOKUP(Tabla_SERIED_12_5[[#This Row],[IdEstablecimiento]],'[1]Establecimiento 2023'!$A$1:$E$183,3,FALSE),0)","v":"105432-Posta de Salud Rural Rapel (Monte Patria)"},{"$f":"IFERROR(VLOOKUP(Tabla_SERIED_12_5[[#This Row],[IdEstablecimiento]],'[1]Establecimiento 2023'!$A$1:$E$183,5,FALSE),0)","v":"04303-Monte Patria"},"15080008","2022-05-18T15:39:47",1,{"$nulls":7},1]
[{"$nulls":23},1,"5",2022,"105432",{"$f":"IFERROR(VLOOKUP(Tabla_SERIED_12_5[[#This Row],[IdEstablecimiento]],'[1]Establecimiento 2023'!$A$1:$E$183,3,FALSE),0)","v":"105432-Posta de Salud Rural Rapel (Monte Patria)"},{"$f":"IFERROR(VLOOKUP(Tabla_SERIED_12_5[[#This Row],[IdEstablecimiento]],'[1]Establecimiento 2023'!$A$1:$E$183,5,FALSE),0)","v":"04303-Monte Patria"},"15050100","2022-05-18T15:39:47",15,8,7,{"$nulls":3},3,6,5,null,1]
[{"$nulls":23},2,"5",2022,"105312",{"$f":"IFERROR(VLOOKUP(Tabla_SERIED_12_5[[#This Row],[IdEstablecimiento]],'[1]Establecimiento 2023'!$A$1:$E$183,3,FALSE),0)","v":"105312-Centro de Salud Familiar Carén"},{"$f":"IFERROR(VLOOKUP(Tabla_SERIED_12_5[[#This Row],[IdEstablecimiento]],'[1]Establecimiento 2023'!$A$1:$E$183,5,FALSE),0)","v":"04303-Monte Patria"},"16100300","2022-03-17T09:29:24",179,79,100,2]
[{"$nulls":23},2,"5",2022,"105312",{"$f":"IFERROR(VLOOKUP(Tabla_SERIED_12_5[[#This Row],[IdEstablecimiento]],'[1]Establecimiento 2023'!$A$1:$E$183,3,FALSE),0)","v":"105312-Centro de Salud Familiar Carén"},{"$f":"IFERROR(VLOOKUP(Tabla_SERIED_12_5[[#This Row],[IdEstablecimiento]],'[1]Establecimiento 2023'!$A$1:$E$183,5,FALSE),0)","v":"04303-Monte Patria"},"16200220","2022-03-17T09:29:24",7,1,6]
[{"$nulls":23},2,"5",2022,"105313",{"$f":"IFERROR(VLOOKUP(Tabla_SERIED_12_5[[#This Row],[IdEstablecimiento]],'[1]Establecimiento 2023'!$A$1:$E$183,3,FALSE),0)","v":"105313-Centro de Salud Familiar Dr. Emilio Schaffhauser"},{"$f":"IFERROR(VLOOKUP(Tabla_SERIED_12_5[[#This Row],[IdEstablecimiento]],'[1]Establecimiento 2023'!$A$1:$E$183,5,FALSE),0)","v":"04101-La Serena"},"15010100","2022-03-17T09:29:40",112,null,null,26,76,{"$nulls":3},2,null,8]
[{"$nulls":23},2,"5",2022,"105313",{"$f":"IFERROR(VLOOKUP(Tabla_SERIED_12_5[[#This Row],[IdEstablecimiento]],'[1]Establecimiento 2023'!$A$1:$E$183,3,FALSE),0)","v":"105313-Centro de Salud Familiar Dr. Emilio Schaffhauser"},{"$f":"IFERROR(VLOOKUP(Tabla_SERIED_12_5[[#This Row],[IdEstablecimiento]],'[1]Establecimiento 2023'!$A$1:$E$183,5,FALSE),0)","v":"04101-La Serena"},"15010200","2022-03-17T09:29:40",386,{"$nulls":4},78,182,126]
[{"$nulls":23},8,"5",2022,"105445",{"$f":"IFERROR(VLOOKUP(Tabla_SERIED_12_5[[#This Row],[IdEstablecimiento]],'[1]Establecimiento 2023'!$A$1:$E$183,3,FALSE),0)","v":"105445-Posta de Salud Rural Limáhuida"},{"$f":"IFERROR(VLOOKUP(Tabla_SERIED_12_5[[#This Row],[IdEstablecimiento]],'[1]Establecimiento 2023'!$A$1:$E$183,5,FALSE),0)","v":"04201-Illapel"},"15010200","2022-09-21T07:43:03",28,{"$nulls":4},10,8,10]
[{"$nulls":23},8,"5",2022,"105445",{"$f":"IFERROR(VLOOKUP(Tabla_SERIED_12_5[[#This Row],[IdEstablecimiento]],'[1]Establecimiento 2023'!$A$1:$E$183,3,FALSE),0)","v":"105445-Posta de Salud Rural Limáhuida"},{"$f":"IFERROR(VLOOKUP(Tabla_SERIED_12_5[[#This Row],[IdEstablecimiento]],'[1]Establecimiento 2023'!$A$1:$E$183,5,FALSE),0)","v":"04201-Illapel"},"15080008","2022-09-21T07:43:03",1,{"$nulls":7},1]
[{"$nulls":23},8,"5",2022,"105445",{"$f":"IFERROR(VLOOKUP(Tabla_SERIED_12_5[[#This Row],[IdEstablecimiento]],'[1]Establecimiento 2023'!$A$1:$E$183,3,FALSE),0)","v":"105445-Posta de Salud Rural Limáhuida"},{"$f":"IFERROR(VLOOKUP(Tabla_SERIED_12_5[[#This Row],[IdEstablecimiento]],'[1]Establecimiento 2023'!$A$1:$E$183,5,FALSE),0)","v":"04201-Illapel"},"15900010","2022-09-21T07:43:03",3.6,null,null,3.6]
[{"$nulls":23},8,"5",2022,"105445",{"$f":"IFERROR(VLOOKUP(Tabla_SERIED_12_5[[#This Row],[IdEstablecimiento]],'[1]Establecimiento 2023'!$A$1:$E$183,3,FALSE),0)","v":"105445-Posta de Salud Rural Limáhuida"},{"$f":"IFERROR(VLOOKUP(Tabla_SERIED_12_5[[#This Row],[IdEstablecimiento]],'[1]Establecimiento 2023'!$A$1:$E$183,5,FALSE),0)","v":"04201-Illapel"},"15010400","2022-09-21T07:43:03",2,{"$nulls":5},2]
[{"$nulls":23},8,"5",2022,"105445",{"$f":"IFERROR(VLOOKUP(Tabla_SERIED_12_5[[#This Row],[IdEstablecimiento]],'[1]Establecimiento 2023'!$A$1:$E$183,3,FALSE),0)","v":"105445-Posta de Salud Rural Limáhuida"},{"$f":"IFERROR(VLOOKUP(Tabla_SERIED_12_5[[#This Row],[IdEstablecimiento]],'[1]Establecimiento 2023'!$A$1:$E$183,5,FALSE),0)","v":"04201-Illapel"},"15010500","2022-09-21T07:43:03",2,{"$nulls":5},2]
[{"$nulls":23},8,"5",2022,"105445",{"$f":"IFERROR(VLOOKUP(Tabla_SERIED_12_5[[#This Row],[IdEstablecimiento]],'[1]Establecimiento 2023'!$A$1:$E$183,3,FALSE),0)","v":"105445-Posta de Salud Rural Limáhuida"},{"$f":"IFERROR(VLOOKUP(Tabla_SERIED_12_5[[#This Row],[IdEstablecimiento]],'[1]Establecimiento 2023'!$A$1:$E$183,5,FALSE),0)","v":"04201-Illapel"},"15080009","2022-09-21T07:43:03",3,{"$nulls":8},3]
[{"$nulls":23},8,"5",2022,"105445",{"$f":"IFERROR(VLOOKUP(Tabla_SERIED_12_5[[#This Row],[IdEstablecimiento]],'[1]Establecimiento 2023'!$A$1:$E$183,3,FALSE),0)","v":"105445-Posta de Salud Rural Limáhuida"},{"$f":"IFERROR(VLOOKUP(Tabla_SERIED_12_5[[#This Row],[IdEstablecimiento]],'[1]Establecimiento 2023'!$A$1:$E$183,5,FALSE),0)","v":"04201-Illapel"},"15050100","2022-09-21T07:43:03",18,8,10,null,null,1,2,5,4,5,1]
[{"$nulls":23},8,"5",2022,"105445",{"$f":"IFERROR(VLOOKUP(Tabla_SERIED_12_5[[#This Row],[IdEstablecimiento]],'[1]Establecimiento 2023'!$A$1:$E$183,3,FALSE),0)","v":"105445-Posta de Salud Rural Limáhuida"},{"$f":"IFERROR(VLOOKUP(Tabla_SERIED_12_5[[#This Row],[IdEstablecimiento]],'[1]Establecimiento 2023'!$A$1:$E$183,5,FALSE),0)","v":"04201-Illapel"},"15050200","2022-09-21T07:43:03",2,1,1,{"$nulls":5},1,null,null,1]
[{"$nulls":23},8,"5",2022,"105445",{"$f":"IFERROR(VLOOKUP(Tabla_SERIED_12_5[[#This Row],[IdEstablecimiento]],'[1]Establecimiento 2023'!$A$1:$E$183,3,FALSE),0)","v":"105445-Posta de Salud Rural Limáhuida"},{"$f":"IFERROR(VLOOKUP(Tabla_SERIED_12_5[[#This Row],[IdEstablecimiento]],'[1]Establecimiento 2023'!$A$1:$E$183,5,FALSE),0)","v":"04201-Illapel"},"16090300","2022-09-21T07:43:03",39,39]
[{"$nulls":23},8,"5",2022,"105445",{"$f":"IFERROR(VLOOKUP(Tabla_SERIED_12_5[[#This Row],[IdEstablecimiento]],'[1]Establecimiento 2023'!$A$1:$E$183,3,FALSE),0)","v":"105445-Posta de Salud Rural Limáhuida"},{"$f":"IFERROR(VLOOKUP(Tabla_SERIED_12_5[[#This Row],[IdEstablecimiento]],'[1]Establecimiento 2023'!$A$1:$E$183,5,FALSE),0)","v":"04201-Illapel"},"16200210","2022-09-21T07:43:03",6,6]
[{"$nulls":23},8,"5",2022,"105445",{"$f":"IFERROR(VLOOKUP(Tabla_SERIED_12_5[[#This Row],[IdEstablecimiento]],'[1]Establecimiento 2023'!$A$1:$E$183,3,FALSE),0)","v":"105445-Posta de Salud Rural Limáhuida"},{"$f":"IFERROR(VLOOKUP(Tabla_SERIED_12_5[[#This Row],[IdEstablecimiento]],'[1]Establecimiento 2023'!$A$1:$E$183,5,FALSE),0)","v":"04201-Illapel"},"16100300","2022-09-21T07:43:03",39,17,22,1,11]
[{"$nulls":23},8,"5",2022,"105445",{"$f":"IFERROR(VLOOKUP(Tabla_SERIED_12_5[[#This Row],[IdEstablecimiento]],'[1]Establecimiento 2023'!$A$1:$E$183,3,FALSE),0)","v":"105445-Posta de Salud Rural Limáhuida"},{"$f":"IFERROR(VLOOKUP(Tabla_SERIED_12_5[[#This Row],[IdEstablecimiento]],'[1]Establecimiento 2023'!$A$1:$E$183,5,FALSE),0)","v":"04201-Illapel"},"16200220","2022-09-21T07:43:03",6,3,3,3,3]
[{"$nulls":23},8,"5",2022,"105446",{"$f":"IFERROR(VLOOKUP(Tabla_SERIED_12_5[[#This Row],[IdEstablecimiento]],'[1]Establecimiento 2023'!$A$1:$E$183,3,FALSE),0)","v":"105446-Posta de Salud Rural Matancilla"},{"$f":"IFERROR(VLOOKUP(Tabla_SERIED_12_5[[#This Row],[IdEstablecimiento]],'[1]Establecimiento 2023'!$A$1:$E$183,5,FALSE),0)","v":"04201-Illapel"},"15010200","2022-09-21T07:43:14",2,{"$nulls":5},2]
[{"$nulls":23},8,"5",2022,"105446",{"$f":"IFERROR(VLOOKUP(Tabla_SERIED_12_5[[#This Row],[IdEstablecimiento]],'[1]Establecimiento 2023'!$A$1:$E$183,3,FALSE),0)","v":"105446-Posta de Salud Rural Matancilla"},{"$f":"IFERROR(VLOOKUP(Tabla_SERIED_12_5[[#This Row],[IdEstablecimiento]],'[1]Establecimiento 2023'!$A$1:$E$183,5,FALSE),0)","v":"04201-Illapel"},"15050100","2022-09-21T07:43:14",1,1,{"$nulls":6},1]
[{"$nulls":23},8,"5",2022,"105446",{"$f":"IFERROR(VLOOKUP(Tabla_SERIED_12_5[[#This Row],[IdEstablecimiento]],'[1]Establecimiento 2023'!$A$1:$E$183,3,FALSE),0)","v":"105446-Posta de Salud Rural Matancilla"},{"$f":"IFERROR(VLOOKUP(Tabla_SERIED_12_5[[#This Row],[IdEstablecimiento]],'[1]Establecimiento 2023'!$A$1:$E$183,5,FALSE),0)","v":"04201-Illapel"},"16090300","2022-09-21T07:43:14",4,4]
[{"$nulls":23},8,"5",2022,"105446",{"$f":"IFERROR(VLOOKUP(Tabla_SERIED_12_5[[#This Row],[IdEstablecimiento]],'[1]Establecimiento 2023'!$A$1:$E$183,3,FALSE),0)","v":"105446-Posta de Salud Rural Matancilla"},{"$f":"IFERROR(VLOOKUP(Tabla_SERIED_12_5[[#This Row],[IdEstablecimiento]],'[1]Establecimiento 2023'!$A$1:$E$183,5,FALSE),0)","v":"04201-Illapel"},"16200210","2022-09-21T07:43:14",3,3]
[{"$nulls":23},8,"5",2022,"105446",{"$f":"IFERROR(VLOOKUP(Tabla_SERIED_12_5[[#This Row],[IdEstablecimiento]],'[1]Establecimiento 2023'!$A$1:$E$183,3,FALSE),0)","v":"105446-Posta de Salud Rural Matancilla"},{"$f":"IFERROR(VLOOKUP(Tabla_SERIED_12_5[[#This Row],[IdEstablecimiento]],'[1]Establecimiento 2023'!$A$1:$E$183,5,FALSE),0)","v":"04201-Illapel"},"16100300","2022-09-21T07:43:14",4,3,1]
[{"$nulls":23},8,"5",2022,"105446",{"$f":"IFERROR(VLOOKUP(Tabla_SERIED_12_5[[#This Row],[IdEstablecimiento]],'[1]Establecimiento 2023'!$A$1:$E$183,3,FALSE),0)","v":"105446-Posta de Salud Rural Matancilla"},{"$f":"IFERROR(VLOOKUP(Tabla_SERIED_12_5[[#This Row],[IdEstablecimiento]],'[1]Establecimiento 2023'!$A$1:$E$183,5,FALSE),0)","v":"04201-Illapel"},"16200220","2022-09-21T07:43:14",3,1,2]
[{"$nulls":23},8,"5",2022,"105447",{"$f":"IFERROR(VLOOKUP(Tabla_SERIED_12_5[[#This Row],[IdEstablecimiento]],'[1]Establecimiento 2023'!$A$1:$E$183,3,FALSE),0)","v":"105447-Posta de Salud Rural Peralillo Illapel"},{"$f":"IFERROR(VLOOKUP(Tabla_SERIED_12_5[[#This Row],[IdEstablecimiento]],'[1]Establecimiento 2023'!$A$1:$E$183,5,FALSE),0)","v":"04201-Illapel"},"15010100","2022-09-21T07:43:25",8,{"$nulls":3},8]
[{"$nulls":23},8,"5",2022,"105447",{"$f":"IFERROR(VLOOKUP(Tabla_SERIED_12_5[[#This Row],[IdEstablecimiento]],'[1]Establecimiento 2023'!$A$1:$E$183,3,FALSE),0)","v":"105447-Posta de Salud Rural Peralillo Illapel"},{"$f":"IFERROR(VLOOKUP(Tabla_SERIED_12_5[[#This Row],[IdEstablecimiento]],'[1]Establecimiento 2023'!$A$1:$E$183,5,FALSE),0)","v":"04201-Illapel"},"15010200","2022-09-21T07:43:25",34,{"$nulls":4},2,12,20]
[{"$nulls":23},8,"5",2022,"105447",{"$f":"IFERROR(VLOOKUP(Tabla_SERIED_12_5[[#This Row],[IdEstablecimiento]],'[1]Establecimiento 2023'!$A$1:$E$183,3,FALSE),0)","v":"105447-Posta de Salud Rural Peralillo Illapel"},{"$f":"IFERROR(VLOOKUP(Tabla_SERIED_12_5[[#This Row],[IdEstablecimiento]],'[1]Establecimiento 2023'!$A$1:$E$183,5,FALSE),0)","v":"04201-Illapel"},"15080008","2022-09-21T07:43:25",5,{"$nulls":7},3,null,2]
[{"$nulls":23},8,"5",2022,"105447",{"$f":"IFERROR(VLOOKUP(Tabla_SERIED_12_5[[#This Row],[IdEstablecimiento]],'[1]Establecimiento 2023'!$A$1:$E$183,3,FALSE),0)","v":"105447-Posta de Salud Rural Peralillo Illapel"},{"$f":"IFERROR(VLOOKUP(Tabla_SERIED_12_5[[#This Row],[IdEstablecimiento]],'[1]Establecimiento 2023'!$A$1:$E$183,5,FALSE),0)","v":"04201-Illapel"},"15900010","2022-09-21T07:43:25",11.7,2.7,5.4,3.6]
[{"$nulls":23},8,"5",2022,"105447",{"$f":"IFERROR(VLOOKUP(Tabla_SERIED_12_5[[#This Row],[IdEstablecimiento]],'[1]Establecimiento 2023'!$A$1:$E$183,3,FALSE),0)","v":"105447-Posta de Salud Rural Peralillo Illapel"},{"$f":"IFERROR(VLOOKUP(Tabla_SERIED_12_5[[#This Row],[IdEstablecimiento]],'[1]Establecimiento 2023'!$A$1:$E$183,5,FALSE),0)","v":"04201-Illapel"},"15050100","2022-09-21T07:43:25",29,12,17,1,2,1,4,1,6,10,3,null,1]
[{"$nulls":23},8,"5",2022,"105447",{"$f":"IFERROR(VLOOKUP(Tabla_SERIED_12_5[[#This Row],[IdEstablecimiento]],'[1]Establecimiento 2023'!$A$1:$E$183,3,FALSE),0)","v":"105447-Posta de Salud Rural Peralillo Illapel"},{"$f":"IFERROR(VLOOKUP(Tabla_SERIED_12_5[[#This Row],[IdEstablecimiento]],'[1]Establecimiento 2023'!$A$1:$E$183,5,FALSE),0)","v":"04201-Illapel"},"16090300","2022-09-21T07:43:25",45,45]
[{"$nulls":23},8,"5",2022,"105447",{"$f":"IFERROR(VLOOKUP(Tabla_SERIED_12_5[[#This Row],[IdEstablecimiento]],'[1]Establecimiento 2023'!$A$1:$E$183,3,FALSE),0)","v":"105447-Posta de Salud Rural Peralillo Illapel"},{"$f":"IFERROR(VLOOKUP(Tabla_SERIED_12_5[[#This Row],[IdEstablecimiento]],'[1]Establecimiento 2023'!$A$1:$E$183,5,FALSE),0)","v":"04201-Illapel"},"16100300","2022-09-21T07:43:25",45,19,26]
[{"$nulls":23},8,"5",2022,"105448",{"$f":"IFERROR(VLOOKUP(Tabla_SERIED_12_5[[#This Row],[IdEstablecimiento]],'[1]Establecimiento 2023'!$A$1:$E$183,3,FALSE),0)","v":"105448-Posta de Salud Rural Santa Virginia"},{"$f":"IFERROR(VLOOKUP(Tabla_SERIED_12_5[[#This Row],[IdEstablecimiento]],'[1]Establecimiento 2023'!$A$1:$E$183,5,FALSE),0)","v":"04201-Illapel"},"15010100","2022-09-21T07:43:37",4,{"$nulls":3},4]
[{"$nulls":23},8,"5",2022,"105448",{"$f":"IFERROR(VLOOKUP(Tabla_SERIED_12_5[[#This Row],[IdEstablecimiento]],'[1]Establecimiento 2023'!$A$1:$E$183,3,FALSE),0)","v":"105448-Posta de Salud Rural Santa Virginia"},{"$f":"IFERROR(VLOOKUP(Tabla_SERIED_12_5[[#This Row],[IdEstablecimiento]],'[1]Establecimiento 2023'!$A$1:$E$183,5,FALSE),0)","v":"04201-Illapel"},"15010200","2022-09-21T07:43:37",18,{"$nulls":4},6,6,6]
[{"$nulls":23},8,"5",2022,"105448",{"$f":"IFERROR(VLOOKUP(Tabla_SERIED_12_5[[#This Row],[IdEstablecimiento]],'[1]Establecimiento 2023'!$A$1:$E$183,3,FALSE),0)","v":"105448-Posta de Salud Rural Santa Virginia"},{"$f":"IFERROR(VLOOKUP(Tabla_SERIED_12_5[[#This Row],[IdEstablecimiento]],'[1]Establecimiento 2023'!$A$1:$E$183,5,FALSE),0)","v":"04201-Illapel"},"15080008","2022-09-21T07:43:37",6,{"$nulls":7},1,null,2,null,3]
[{"$nulls":23},8,"5",2022,"105448",{"$f":"IFERROR(VLOOKUP(Tabla_SERIED_12_5[[#This Row],[IdEstablecimiento]],'[1]Establecimiento 2023'!$A$1:$E$183,3,FALSE),0)","v":"105448-Posta de Salud Rural Santa Virginia"},{"$f":"IFERROR(VLOOKUP(Tabla_SERIED_12_5[[#This Row],[IdEstablecimiento]],'[1]Establecimiento 2023'!$A$1:$E$183,5,FALSE),0)","v":"04201-Illapel"},"15900010","2022-09-21T07:43:37",7.8,null,null,7.8]
[{"$nulls":23},8,"5",2022,"105448",{"$f":"IFERROR(VLOOKUP(Tabla_SERIED_12_5[[#This Row],[IdEstablecimiento]],'[1]Establecimiento 2023'!$A$1:$E$183,3,FALSE),0)","v":"105448-Posta de Salud Rural Santa Virginia"},{"$f":"IFERROR(VLOOKUP(Tabla_SERIED_12_5[[#This Row],[IdEstablecimiento]],'[1]Establecimiento 2023'!$A$1:$E$183,5,FALSE),0)","v":"04201-Illapel"},"15900030","2022-09-21T07:43:37",2.8,null,null,2.8]
[{"$nulls":23},8,"5",2022,"105448",{"$f":"IFERROR(VLOOKUP(Tabla_SERIED_12_5[[#This Row],[IdEstablecimiento]],'[1]Establecimiento 2023'!$A$1:$E$183,3,FALSE),0)","v":"105448-Posta de Salud Rural Santa Virginia"},{"$f":"IFERROR(VLOOKUP(Tabla_SERIED_12_5[[#This Row],[IdEstablecimiento]],'[1]Establecimiento 2023'!$A$1:$E$183,5,FALSE),0)","v":"04201-Illapel"},"15050100","2022-09-21T07:43:37",19,8,11,null,null,3,2,3,3,3,1,null,1,null,3]
[{"$nulls":23},8,"5",2022,"105448",{"$f":"IFERROR(VLOOKUP(Tabla_SERIED_12_5[[#This Row],[IdEstablecimiento]],'[1]Establecimiento 2023'!$A$1:$E$183,3,FALSE),0)","v":"105448-Posta de Salud Rural Santa Virginia"},{"$f":"IFERROR(VLOOKUP(Tabla_SERIED_12_5[[#This Row],[IdEstablecimiento]],'[1]Establecimiento 2023'!$A$1:$E$183,5,FALSE),0)","v":"04201-Illapel"},"15900050","2022-09-21T07:43:37",1,1,0,null,null,1]
[{"$nulls":23},8,"5",2022,"105448",{"$f":"IFERROR(VLOOKUP(Tabla_SERIED_12_5[[#This Row],[IdEstablecimiento]],'[1]Establecimiento 2023'!$A$1:$E$183,3,FALSE),0)","v":"105448-Posta de Salud Rural Santa Virginia"},{"$f":"IFERROR(VLOOKUP(Tabla_SERIED_12_5[[#This Row],[IdEstablecimiento]],'[1]Establecimiento 2023'!$A$1:$E$183,5,FALSE),0)","v":"04201-Illapel"},"16090300","2022-09-21T07:43:37",42,42]
[{"$nulls":23},8,"5",2022,"105448",{"$f":"IFERROR(VLOOKUP(Tabla_SERIED_12_5[[#This Row],[IdEstablecimiento]],'[1]Establecimiento 2023'!$A$1:$E$183,3,FALSE),0)","v":"105448-Posta de Salud Rural Santa Virginia"},{"$f":"IFERROR(VLOOKUP(Tabla_SERIED_12_5[[#This Row],[IdEstablecimiento]],'[1]Establecimiento 2023'!$A$1:$E$183,5,FALSE),0)","v":"04201-Illapel"},"16200210","2022-09-21T07:43:37",3,3]
[{"$nulls":23},8,"5",2022,"105448",{"$f":"IFERROR(VLOOKUP(Tabla_SERIED_12_5[[#This Row],[IdEstablecimiento]],'[1]Establecimiento 2023'!$A$1:$E$183,3,FALSE),0)","v":"105448-Posta de Salud Rural Santa Virginia"},{"$f":"IFERROR(VLOOKUP(Tabla_SERIED_12_5[[#This Row],[IdEstablecimiento]],'[1]Establecimiento 2023'!$A$1:$E$183,5,FALSE),0)","v":"04201-Illapel"},"16100300","2022-09-21T07:43:37",42,19,23]
[{"$nulls":23},8,"5",2022,"105448",{"$f":"IFERROR(VLOOKUP(Tabla_SERIED_12_5[[#This Row],[IdEstablecimiento]],'[1]Establecimiento 2023'!$A$1:$E$183,3,FALSE),0)","v":"105448-Posta de Salud Rural Santa Virginia"},{"$f":"IFERROR(VLOOKUP(Tabla_SERIED_12_5[[#This Row],[IdEstablecimiento]],'[1]Establecimiento 2023'!$A$1:$E$183,5,FALSE),0)","v":"04201-Illapel"},"16200220","2022-09-21T07:43:37",3,1,2]
[{"$nulls":23},8,"5",2022,"105449",{"$f":"IFERROR(VLOOKUP(Tabla_SERIED_12_5[[#This Row],[IdEstablecimiento]],'[1]Establecimiento 2023'!$A$1:$E$183,3,FALSE),0)","v":"105449-Posta de Salud Rural Tunga Norte"},{"$f":"IFERROR(VLOOKUP(Tabla_SERIED_12_5[[#This Row],[IdEstablecimiento]],'[1]Establecimiento 2023'!$A$1:$E$183,5,FALSE),0)","v":"04201-Illapel"},"16090300","2022-09-21T07:43:49",24,24]
[{"$nulls":23},8,"5",2022,"105449",{"$f":"IFERROR(VLOOKUP(Tabla_SERIED_12_5[[#This Row],[IdEstablecimiento]],'[1]Establecimiento 2023'!$A$1:$E$183,3,FALSE),0)","v":"105449-Posta de Salud Rural Tunga Norte"},{"$f":"IFERROR(VLOOKUP(Tabla_SERIED_12_5[[#This Row],[IdEstablecimiento]],'[1]Establecimiento 2023'!$A$1:$E$183,5,FALSE),0)","v":"04201-Illapel"},"16200210","2022-09-21T07:43:49",6,6]
[{"$nulls":23},8,"5",2022,"105449",{"$f":"IFERROR(VLOOKUP(Tabla_SERIED_12_5[[#This Row],[IdEstablecimiento]],'[1]Establecimiento 2023'!$A$1:$E$183,3,FALSE),0)","v":"105449-Posta de Salud Rural Tunga Norte"},{"$f":"IFERROR(VLOOKUP(Tabla_SERIED_12_5[[#This Row],[IdEstablecimiento]],'[1]Establecimiento 2023'!$A$1:$E$183,5,FALSE),0)","v":"04201-Illapel"},"16100300","2022-09-21T07:43:49",24,10,14]
[{"$nulls":23},8,"5",2022,"105449",{"$f":"IFERROR(VLOOKUP(Tabla_SERIED_12_5[[#This Row],[IdEstablecimiento]],'[1]Establecimiento 2023'!$A$1:$E$183,3,FALSE),0)","v":"105449-Posta de Salud Rural Tunga Norte"},{"$f":"IFERROR(VLOOKUP(Tabla_SERIED_12_5[[#This Row],[IdEstablecimiento]],'[1]Establecimiento 2023'!$A$1:$E$183,5,FALSE),0)","v":"04201-Illapel"},"16200220","2022-09-21T07:43:49",6,1,5]
[{"$nulls":23},8,"5",2022,"105450",{"$f":"IFERROR(VLOOKUP(Tabla_SERIED_12_5[[#This Row],[IdEstablecimiento]],'[1]Establecimiento 2023'!$A$1:$E$183,3,FALSE),0)","v":"105450-Posta de Salud Rural Mincha Norte"},{"$f":"IFERROR(VLOOKUP(Tabla_SERIED_12_5[[#This Row],[IdEstablecimiento]],'[1]Establecimiento 2023'!$A$1:$E$183,5,FALSE),0)","v":"04202-Canela"},"15010200","2022-09-21T07:44:12",22,{"$nulls":4},0,16,6]
[{"$nulls":23},8,"5",2022,"105450",{"$f":"IFERROR(VLOOKUP(Tabla_SERIED_12_5[[#This Row],[IdEstablecimiento]],'[1]Establecimiento 2023'!$A$1:$E$183,3,FALSE),0)","v":"105450-Posta de Salud Rural Mincha Norte"},{"$f":"IFERROR(VLOOKUP(Tabla_SERIED_12_5[[#This Row],[IdEstablecimiento]],'[1]Establecimiento 2023'!$A$1:$E$183,5,FALSE),0)","v":"04202-Canela"},"15010400","2022-09-21T07:44:12",2,{"$nulls":5},2]
[{"$nulls":23},8,"5",2022,"105450",{"$f":"IFERROR(VLOOKUP(Tabla_SERIED_12_5[[#This Row],[IdEstablecimiento]],'[1]Establecimiento 2023'!$A$1:$E$183,3,FALSE),0)","v":"105450-Posta de Salud Rural Mincha Norte"},{"$f":"IFERROR(VLOOKUP(Tabla_SERIED_12_5[[#This Row],[IdEstablecimiento]],'[1]Establecimiento 2023'!$A$1:$E$183,5,FALSE),0)","v":"04202-Canela"},"15010500","2022-09-21T07:44:12",2,{"$nulls":5},2]
[{"$nulls":23},8,"5",2022,"105450",{"$f":"IFERROR(VLOOKUP(Tabla_SERIED_12_5[[#This Row],[IdEstablecimiento]],'[1]Establecimiento 2023'!$A$1:$E$183,3,FALSE),0)","v":"105450-Posta de Salud Rural Mincha Norte"},{"$f":"IFERROR(VLOOKUP(Tabla_SERIED_12_5[[#This Row],[IdEstablecimiento]],'[1]Establecimiento 2023'!$A$1:$E$183,5,FALSE),0)","v":"04202-Canela"},"15050100","2022-09-21T07:44:12",11,4,7,0,0,0,0,0,8,3,0,null,0,0,0]
[{"$nulls":23},5,"5",2022,"105492",{"$f":"IFERROR(VLOOKUP(Tabla_SERIED_12_5[[#This Row],[IdEstablecimiento]],'[1]Establecimiento 2023'!$A$1:$E$183,3,FALSE),0)","v":"105492-Posta de Salud Rural Camisa"},{"$f":"IFERROR(VLOOKUP(Tabla_SERIED_12_5[[#This Row],[IdEstablecimiento]],'[1]Establecimiento 2023'!$A$1:$E$183,5,FALSE),0)","v":"04204-Salamanca"},"16200210","2022-06-22T10:51:57",1,1]
[{"$nulls":23},5,"5",2022,"105492",{"$f":"IFERROR(VLOOKUP(Tabla_SERIED_12_5[[#This Row],[IdEstablecimiento]],'[1]Establecimiento 2023'!$A$1:$E$183,3,FALSE),0)","v":"105492-Posta de Salud Rural Camisa"},{"$f":"IFERROR(VLOOKUP(Tabla_SERIED_12_5[[#This Row],[IdEstablecimiento]],'[1]Establecimiento 2023'!$A$1:$E$183,5,FALSE),0)","v":"04204-Salamanca"},"16100300","2022-06-22T10:51:57",47,26,21]
[{"$nulls":23},5,"5",2022,"105492",{"$f":"IFERROR(VLOOKUP(Tabla_SERIED_12_5[[#This Row],[IdEstablecimiento]],'[1]Establecimiento 2023'!$A$1:$E$183,3,FALSE),0)","v":"105492-Posta de Salud Rural Camisa"},{"$f":"IFERROR(VLOOKUP(Tabla_SERIED_12_5[[#This Row],[IdEstablecimiento]],'[1]Establecimiento 2023'!$A$1:$E$183,5,FALSE),0)","v":"04204-Salamanca"},"16200220","2022-06-22T10:51:57",1,1]
[{"$nulls":23},5,"5",2022,"105300",{"$f":"IFERROR(VLOOKUP(Tabla_SERIED_12_5[[#This Row],[IdEstablecimiento]],'[1]Establecimiento 2023'!$A$1:$E$183,3,FALSE),0)","v":"105300-Centro de Salud Familiar Cardenal Caro"},{"$f":"IFERROR(VLOOKUP(Tabla_SERIED_12_5[[#This Row],[IdEstablecimiento]],'[1]Establecimiento 2023'!$A$1:$E$183,5,FALSE),0)","v":"04101-La Serena"},"15080009","2022-06-20T16:59:29",6,{"$nulls":8},6]
[{"$nulls":23},5,"5",2022,"105300",{"$f":"IFERROR(VLOOKUP(Tabla_SERIED_12_5[[#This Row],[IdEstablecimiento]],'[1]Establecimiento 2023'!$A$1:$E$183,3,FALSE),0)","v":"105300-Centro de Salud Familiar Cardenal Caro"},{"$f":"IFERROR(VLOOKUP(Tabla_SERIED_12_5[[#This Row],[IdEstablecimiento]],'[1]Establecimiento 2023'!$A$1:$E$183,5,FALSE),0)","v":"04101-La Serena"},"15030100","2022-06-20T16:59:29",2,2]
[{"$nulls":23},5,"5",2022,"105300",{"$f":"IFERROR(VLOOKUP(Tabla_SERIED_12_5[[#This Row],[IdEstablecimiento]],'[1]Establecimiento 2023'!$A$1:$E$183,3,FALSE),0)","v":"105300-Centro de Salud Familiar Cardenal Caro"},{"$f":"IFERROR(VLOOKUP(Tabla_SERIED_12_5[[#This Row],[IdEstablecimiento]],'[1]Establecimiento 2023'!$A$1:$E$183,5,FALSE),0)","v":"04101-La Serena"},"15900030","2022-06-20T16:59:29",7,null,null,7]
[{"$nulls":23},5,"5",2022,"105300",{"$f":"IFERROR(VLOOKUP(Tabla_SERIED_12_5[[#This Row],[IdEstablecimiento]],'[1]Establecimiento 2023'!$A$1:$E$183,3,FALSE),0)","v":"105300-Centro de Salud Familiar Cardenal Caro"},{"$f":"IFERROR(VLOOKUP(Tabla_SERIED_12_5[[#This Row],[IdEstablecimiento]],'[1]Establecimiento 2023'!$A$1:$E$183,5,FALSE),0)","v":"04101-La Serena"},"15050100","2022-06-20T16:59:29",445,172,273,2,9,45,36,36,101,47,108,null,42,2,17]
[{"$nulls":23},5,"5",2022,"105300",{"$f":"IFERROR(VLOOKUP(Tabla_SERIED_12_5[[#This Row],[IdEstablecimiento]],'[1]Establecimiento 2023'!$A$1:$E$183,3,FALSE),0)","v":"105300-Centro de Salud Familiar Cardenal Caro"},{"$f":"IFERROR(VLOOKUP(Tabla_SERIED_12_5[[#This Row],[IdEstablecimiento]],'[1]Establecimiento 2023'!$A$1:$E$183,5,FALSE),0)","v":"04101-La Serena"},"15050200","2022-06-20T16:59:29",2,0,2,{"$nulls":8},2]
[{"$nulls":23},5,"5",2022,"105300",{"$f":"IFERROR(VLOOKUP(Tabla_SERIED_12_5[[#This Row],[IdEstablecimiento]],'[1]Establecimiento 2023'!$A$1:$E$183,3,FALSE),0)","v":"105300-Centro de Salud Familiar Cardenal Caro"},{"$f":"IFERROR(VLOOKUP(Tabla_SERIED_12_5[[#This Row],[IdEstablecimiento]],'[1]Establecimiento 2023'!$A$1:$E$183,5,FALSE),0)","v":"04101-La Serena"},"15050500","2022-06-20T16:59:29",1,0,1,1]
[{"$nulls":23},5,"5",2022,"105300",{"$f":"IFERROR(VLOOKUP(Tabla_SERIED_12_5[[#This Row],[IdEstablecimiento]],'[1]Establecimiento 2023'!$A$1:$E$183,3,FALSE),0)","v":"105300-Centro de Salud Familiar Cardenal Caro"},{"$f":"IFERROR(VLOOKUP(Tabla_SERIED_12_5[[#This Row],[IdEstablecimiento]],'[1]Establecimiento 2023'!$A$1:$E$183,5,FALSE),0)","v":"04101-La Serena"},"15900050","2022-06-20T16:59:29",2,0,2,null,null,2]
[{"$nulls":23},5,"5",2022,"105300",{"$f":"IFERROR(VLOOKUP(Tabla_SERIED_12_5[[#This Row],[IdEstablecimiento]],'[1]Establecimiento 2023'!$A$1:$E$183,3,FALSE),0)","v":"105300-Centro de Salud Familiar Cardenal Caro"},{"$f":"IFERROR(VLOOKUP(Tabla_SERIED_12_5[[#This Row],[IdEstablecimiento]],'[1]Establecimiento 2023'!$A$1:$E$183,5,FALSE),0)","v":"04101-La Serena"},"15020100","2022-06-20T16:59:29",33,3,8,10,12]
[{"$nulls":23},5,"5",2022,"105300",{"$f":"IFERROR(VLOOKUP(Tabla_SERIED_12_5[[#This Row],[IdEstablecimiento]],'[1]Establecimiento 2023'!$A$1:$E$183,3,FALSE),0)","v":"105300-Centro de Salud Familiar Cardenal Caro"},{"$f":"IFERROR(VLOOKUP(Tabla_SERIED_12_5[[#This Row],[IdEstablecimiento]],'[1]Establecimiento 2023'!$A$1:$E$183,5,FALSE),0)","v":"04101-La Serena"},"15020200","2022-06-20T16:59:29",29,{"$nulls":4},6,10,13]
[{"$nulls":23},5,"5",2022,"105300",{"$f":"IFERROR(VLOOKUP(Tabla_SERIED_12_5[[#This Row],[IdEstablecimiento]],'[1]Establecimiento 2023'!$A$1:$E$183,3,FALSE),0)","v":"105300-Centro de Salud Familiar Cardenal Caro"},{"$f":"IFERROR(VLOOKUP(Tabla_SERIED_12_5[[#This Row],[IdEstablecimiento]],'[1]Establecimiento 2023'!$A$1:$E$183,5,FALSE),0)","v":"04101-La Serena"},"15080010","2022-06-20T16:59:29",2,{"$nulls":7},1,null,null,1]
[{"$nulls":23},5,"5",2022,"105300",{"$f":"IFERROR(VLOOKUP(Tabla_SERIED_12_5[[#This Row],[IdEstablecimiento]],'[1]Establecimiento 2023'!$A$1:$E$183,3,FALSE),0)","v":"105300-Centro de Salud Familiar Cardenal Caro"},{"$f":"IFERROR(VLOOKUP(Tabla_SERIED_12_5[[#This Row],[IdEstablecimiento]],'[1]Establecimiento 2023'!$A$1:$E$183,5,FALSE),0)","v":"04101-La Serena"},"15901200","2022-06-20T16:59:29",84.8,4,10.8,26.4,29.2,14.4]
[{"$nulls":23},5,"5",2022,"105300",{"$f":"IFERROR(VLOOKUP(Tabla_SERIED_12_5[[#This Row],[IdEstablecimiento]],'[1]Establecimiento 2023'!$A$1:$E$183,3,FALSE),0)","v":"105300-Centro de Salud Familiar Cardenal Caro"},{"$f":"IFERROR(VLOOKUP(Tabla_SERIED_12_5[[#This Row],[IdEstablecimiento]],'[1]Establecimiento 2023'!$A$1:$E$183,5,FALSE),0)","v":"04101-La Serena"},"15901300","2022-06-20T16:59:29",13.2,null,null,13.2]
[{"$nulls":23},5,"5",2022,"105300",{"$f":"IFERROR(VLOOKUP(Tabla_SERIED_12_5[[#This Row],[IdEstablecimiento]],'[1]Establecimiento 2023'!$A$1:$E$183,3,FALSE),0)","v":"105300-Centro de Salud Familiar Cardenal Caro"},{"$f":"IFERROR(VLOOKUP(Tabla_SERIED_12_5[[#This Row],[IdEstablecimiento]],'[1]Establecimiento 2023'!$A$1:$E$183,5,FALSE),0)","v":"04101-La Serena"},"15060100","2022-06-20T16:59:29",34,23,11,2,4,5,6,3,5,7,1,null,null,1]
[{"$nulls":23},11,"5",2022,"105104",{"$f":"IFERROR(VLOOKUP(Tabla_SERIED_12_5[[#This Row],[IdEstablecimiento]],'[1]Establecimiento 2023'!$A$1:$E$183,3,FALSE),0)","v":"105104-Hospital de Salamanca"},{"$f":"IFERROR(VLOOKUP(Tabla_SERIED_12_5[[#This Row],[IdEstablecimiento]],'[1]Establecimiento 2023'!$A$1:$E$183,5,FALSE),0)","v":"105104-Hospital Salamanca"},"15010100","2022-12-20T09:53:18",74,null,null,2,72,0]
[{"$nulls":23},11,"5",2022,"105104",{"$f":"IFERROR(VLOOKUP(Tabla_SERIED_12_5[[#This Row],[IdEstablecimiento]],'[1]Establecimiento 2023'!$A$1:$E$183,3,FALSE),0)","v":"105104-Hospital de Salamanca"},{"$f":"IFERROR(VLOOKUP(Tabla_SERIED_12_5[[#This Row],[IdEstablecimiento]],'[1]Establecimiento 2023'!$A$1:$E$183,5,FALSE),0)","v":"105104-Hospital Salamanca"},"15010200","2022-12-20T09:53:18",332,{"$nulls":4},58,170,104]
[{"$nulls":23},11,"5",2022,"105104",{"$f":"IFERROR(VLOOKUP(Tabla_SERIED_12_5[[#This Row],[IdEstablecimiento]],'[1]Establecimiento 2023'!$A$1:$E$183,3,FALSE),0)","v":"105104-Hospital de Salamanca"},{"$f":"IFERROR(VLOOKUP(Tabla_SERIED_12_5[[#This Row],[IdEstablecimiento]],'[1]Establecimiento 2023'!$A$1:$E$183,5,FALSE),0)","v":"105104-Hospital Salamanca"},"15080008","2022-12-20T09:53:18",89,{"$nulls":7},53,null,28,0,8]
[{"$nulls":23},11,"5",2022,"105104",{"$f":"IFERROR(VLOOKUP(Tabla_SERIED_12_5[[#This Row],[IdEstablecimiento]],'[1]Establecimiento 2023'!$A$1:$E$183,3,FALSE),0)","v":"105104-Hospital de Salamanca"},{"$f":"IFERROR(VLOOKUP(Tabla_SERIED_12_5[[#This Row],[IdEstablecimiento]],'[1]Establecimiento 2023'!$A$1:$E$183,5,FALSE),0)","v":"105104-Hospital Salamanca"},"15900010","2022-12-20T09:53:18",84.6,6.3,10.8,67.5]
[{"$nulls":23},11,"5",2022,"105104",{"$f":"IFERROR(VLOOKUP(Tabla_SERIED_12_5[[#This Row],[IdEstablecimiento]],'[1]Establecimiento 2023'!$A$1:$E$183,3,FALSE),0)","v":"105104-Hospital de Salamanca"},{"$f":"IFERROR(VLOOKUP(Tabla_SERIED_12_5[[#This Row],[IdEstablecimiento]],'[1]Establecimiento 2023'!$A$1:$E$183,5,FALSE),0)","v":"105104-Hospital Salamanca"},"15010300","2022-12-20T09:53:18",2,null,null,0,2,0]
[{"$nulls":23},11,"5",2022,"105104",{"$f":"IFERROR(VLOOKUP(Tabla_SERIED_12_5[[#This Row],[IdEstablecimiento]],'[1]Establecimiento 2023'!$A$1:$E$183,3,FALSE),0)","v":"105104-Hospital de Salamanca"},{"$f":"IFERROR(VLOOKUP(Tabla_SERIED_12_5[[#This Row],[IdEstablecimiento]],'[1]Establecimiento 2023'!$A$1:$E$183,5,FALSE),0)","v":"105104-Hospital Salamanca"},"15010400","2022-12-20T09:53:18",2,{"$nulls":4},0,0,2]
[{"$nulls":23},11,"5",2022,"105104",{"$f":"IFERROR(VLOOKUP(Tabla_SERIED_12_5[[#This Row],[IdEstablecimiento]],'[1]Establecimiento 2023'!$A$1:$E$183,3,FALSE),0)","v":"105104-Hospital de Salamanca"},{"$f":"IFERROR(VLOOKUP(Tabla_SERIED_12_5[[#This Row],[IdEstablecimiento]],'[1]Establecimiento 2023'!$A$1:$E$183,5,FALSE),0)","v":"105104-Hospital Salamanca"},"15010500","2022-12-20T09:53:18",4,null,0,0,2,0,0,2]
[{"$nulls":23},11,"5",2022,"105104",{"$f":"IFERROR(VLOOKUP(Tabla_SERIED_12_5[[#This Row],[IdEstablecimiento]],'[1]Establecimiento 2023'!$A$1:$E$183,3,FALSE),0)","v":"105104-Hospital de Salamanca"},{"$f":"IFERROR(VLOOKUP(Tabla_SERIED_12_5[[#This Row],[IdEstablecimiento]],'[1]Establecimiento 2023'!$A$1:$E$183,5,FALSE),0)","v":"105104-Hospital Salamanca"},"15900030","2022-12-20T09:53:18",4,0,0,4,0,0]
[{"$nulls":23},11,"5",2022,"105104",{"$f":"IFERROR(VLOOKUP(Tabla_SERIED_12_5[[#This Row],[IdEstablecimiento]],'[1]Establecimiento 2023'!$A$1:$E$183,3,FALSE),0)","v":"105104-Hospital de Salamanca"},{"$f":"IFERROR(VLOOKUP(Tabla_SERIED_12_5[[#This Row],[IdEstablecimiento]],'[1]Establecimiento 2023'!$A$1:$E$183,5,FALSE),0)","v":"105104-Hospital Salamanca"},"15900040","2022-12-20T09:53:18",3.6,0,0,3.6,0,0]
[{"$nulls":23},11,"5",2022,"105104",{"$f":"IFERROR(VLOOKUP(Tabla_SERIED_12_5[[#This Row],[IdEstablecimiento]],'[1]Establecimiento 2023'!$A$1:$E$183,3,FALSE),0)","v":"105104-Hospital de Salamanca"},{"$f":"IFERROR(VLOOKUP(Tabla_SERIED_12_5[[#This Row],[IdEstablecimiento]],'[1]Establecimiento 2023'!$A$1:$E$183,5,FALSE),0)","v":"105104-Hospital Salamanca"},"15050100","2022-12-20T09:53:18",309,124,185,2,3,26,36,29,85,53,53,null,14,0,8]
[{"$nulls":23},11,"5",2022,"105104",{"$f":"IFERROR(VLOOKUP(Tabla_SERIED_12_5[[#This Row],[IdEstablecimiento]],'[1]Establecimiento 2023'!$A$1:$E$183,3,FALSE),0)","v":"105104-Hospital de Salamanca"},{"$f":"IFERROR(VLOOKUP(Tabla_SERIED_12_5[[#This Row],[IdEstablecimiento]],'[1]Establecimiento 2023'!$A$1:$E$183,5,FALSE),0)","v":"105104-Hospital Salamanca"},"15050200","2022-12-20T09:53:18",2,2,0,0,0,0,1,0,0,1,null,0,0,0,0]
[{"$nulls":23},11,"5",2022,"105104",{"$f":"IFERROR(VLOOKUP(Tabla_SERIED_12_5[[#This Row],[IdEstablecimiento]],'[1]Establecimiento 2023'!$A$1:$E$183,3,FALSE),0)","v":"105104-Hospital de Salamanca"},{"$f":"IFERROR(VLOOKUP(Tabla_SERIED_12_5[[#This Row],[IdEstablecimiento]],'[1]Establecimiento 2023'!$A$1:$E$183,5,FALSE),0)","v":"105104-Hospital Salamanca"},"15900050","2022-12-20T09:53:18",2,1,1,0,0,2,0,0]
[{"$nulls":23},11,"5",2022,"105104",{"$f":"IFERROR(VLOOKUP(Tabla_SERIED_12_5[[#This Row],[IdEstablecimiento]],'[1]Establecimiento 2023'!$A$1:$E$183,3,FALSE),0)","v":"105104-Hospital de Salamanca"},{"$f":"IFERROR(VLOOKUP(Tabla_SERIED_12_5[[#This Row],[IdEstablecimiento]],'[1]Establecimiento 2023'!$A$1:$E$183,5,FALSE),0)","v":"105104-Hospital Salamanca"},"15020100","2022-12-20T09:53:18",10,2,0,4,4,0]
[{"$nulls":23},11,"5",2022,"105104",{"$f":"IFERROR(VLOOKUP(Tabla_SERIED_12_5[[#This Row],[IdEstablecimiento]],'[1]Establecimiento 2023'!$A$1:$E$183,3,FALSE),0)","v":"105104-Hospital de Salamanca"},{"$f":"IFERROR(VLOOKUP(Tabla_SERIED_12_5[[#This Row],[IdEstablecimiento]],'[1]Establecimiento 2023'!$A$1:$E$183,5,FALSE),0)","v":"105104-Hospital Salamanca"},"15020200","2022-12-20T09:53:18",8,{"$nulls":4},0,6,2]
[{"$nulls":23},11,"5",2022,"105104",{"$f":"IFERROR(VLOOKUP(Tabla_SERIED_12_5[[#This Row],[IdEstablecimiento]],'[1]Establecimiento 2023'!$A$1:$E$183,3,FALSE),0)","v":"105104-Hospital de Salamanca"},{"$f":"IFERROR(VLOOKUP(Tabla_SERIED_12_5[[#This Row],[IdEstablecimiento]],'[1]Establecimiento 2023'!$A$1:$E$183,5,FALSE),0)","v":"105104-Hospital Salamanca"},"15060100","2022-12-20T09:53:18",9,5,4,1,0,2,2,0,3,1,0,null,0,0,0]
[{"$nulls":23},11,"5",2022,"105104",{"$f":"IFERROR(VLOOKUP(Tabla_SERIED_12_5[[#This Row],[IdEstablecimiento]],'[1]Establecimiento 2023'!$A$1:$E$183,3,FALSE),0)","v":"105104-Hospital de Salamanca"},{"$f":"IFERROR(VLOOKUP(Tabla_SERIED_12_5[[#This Row],[IdEstablecimiento]],'[1]Establecimiento 2023'!$A$1:$E$183,5,FALSE),0)","v":"105104-Hospital Salamanca"},"16090300","2022-12-20T09:53:18",430,430]
[{"$nulls":23},11,"5",2022,"105104",{"$f":"IFERROR(VLOOKUP(Tabla_SERIED_12_5[[#This Row],[IdEstablecimiento]],'[1]Establecimiento 2023'!$A$1:$E$183,3,FALSE),0)","v":"105104-Hospital de Salamanca"},{"$f":"IFERROR(VLOOKUP(Tabla_SERIED_12_5[[#This Row],[IdEstablecimiento]],'[1]Establecimiento 2023'!$A$1:$E$183,5,FALSE),0)","v":"105104-Hospital Salamanca"},"16200210","2022-12-20T09:53:18",6,6]
[{"$nulls":23},11,"5",2022,"105104",{"$f":"IFERROR(VLOOKUP(Tabla_SERIED_12_5[[#This Row],[IdEstablecimiento]],'[1]Establecimiento 2023'!$A$1:$E$183,3,FALSE),0)","v":"105104-Hospital de Salamanca"},{"$f":"IFERROR(VLOOKUP(Tabla_SERIED_12_5[[#This Row],[IdEstablecimiento]],'[1]Establecimiento 2023'!$A$1:$E$183,5,FALSE),0)","v":"105104-Hospital Salamanca"},"16100300","2022-12-20T09:53:18",430,173,257,20,57]
[{"$nulls":23},11,"5",2022,"105104",{"$f":"IFERROR(VLOOKUP(Tabla_SERIED_12_5[[#This Row],[IdEstablecimiento]],'[1]Establecimiento 2023'!$A$1:$E$183,3,FALSE),0)","v":"105104-Hospital de Salamanca"},{"$f":"IFERROR(VLOOKUP(Tabla_SERIED_12_5[[#This Row],[IdEstablecimiento]],'[1]Establecimiento 2023'!$A$1:$E$183,5,FALSE),0)","v":"105104-Hospital Salamanca"},"16200220","2022-12-20T09:53:18",6,3,3,1]
[{"$nulls":23},11,"5",2022,"105105",{"$f":"IFERROR(VLOOKUP(Tabla_SERIED_12_5[[#This Row],[IdEstablecimiento]],'[1]Establecimiento 2023'!$A$1:$E$183,3,FALSE),0)","v":"105105-Hospital San Juan de Dios (Combarbalá)"},{"$f":"IFERROR(VLOOKUP(Tabla_SERIED_12_5[[#This Row],[IdEstablecimiento]],'[1]Establecimiento 2023'!$A$1:$E$183,5,FALSE),0)","v":"105105-Hospital Combarbalá"},"15010100","2022-12-20T09:53:36",24,{"$nulls":3},24]
[{"$nulls":23},11,"5",2022,"105105",{"$f":"IFERROR(VLOOKUP(Tabla_SERIED_12_5[[#This Row],[IdEstablecimiento]],'[1]Establecimiento 2023'!$A$1:$E$183,3,FALSE),0)","v":"105105-Hospital San Juan de Dios (Combarbalá)"},{"$f":"IFERROR(VLOOKUP(Tabla_SERIED_12_5[[#This Row],[IdEstablecimiento]],'[1]Establecimiento 2023'!$A$1:$E$183,5,FALSE),0)","v":"105105-Hospital Combarbalá"},"15010200","2022-12-20T09:53:36",233,{"$nulls":4},32,108,93]
[{"$nulls":23},11,"5",2022,"105105",{"$f":"IFERROR(VLOOKUP(Tabla_SERIED_12_5[[#This Row],[IdEstablecimiento]],'[1]Establecimiento 2023'!$A$1:$E$183,3,FALSE),0)","v":"105105-Hospital San Juan de Dios (Combarbalá)"},{"$f":"IFERROR(VLOOKUP(Tabla_SERIED_12_5[[#This Row],[IdEstablecimiento]],'[1]Establecimiento 2023'!$A$1:$E$183,5,FALSE),0)","v":"105105-Hospital Combarbalá"},"15080008","2022-12-20T09:53:36",67,{"$nulls":7},18,null,30,1,18]
[{"$nulls":23},11,"5",2022,"105105",{"$f":"IFERROR(VLOOKUP(Tabla_SERIED_12_5[[#This Row],[IdEstablecimiento]],'[1]Establecimiento 2023'!$A$1:$E$183,3,FALSE),0)","v":"105105-Hospital San Juan de Dios (Combarbalá)"},{"$f":"IFERROR(VLOOKUP(Tabla_SERIED_12_5[[#This Row],[IdEstablecimiento]],'[1]Establecimiento 2023'!$A$1:$E$183,5,FALSE),0)","v":"105105-Hospital Combarbalá"},"15900010","2022-12-20T09:53:36",28.8,2.7,5.4,20.7]
[{"$nulls":23},11,"5",2022,"105105",{"$f":"IFERROR(VLOOKUP(Tabla_SERIED_12_5[[#This Row],[IdEstablecimiento]],'[1]Establecimiento 2023'!$A$1:$E$183,3,FALSE),0)","v":"105105-Hospital San Juan de Dios (Combarbalá)"},{"$f":"IFERROR(VLOOKUP(Tabla_SERIED_12_5[[#This Row],[IdEstablecimiento]],'[1]Establecimiento 2023'!$A$1:$E$183,5,FALSE),0)","v":"105105-Hospital Combarbalá"},"15010400","2022-12-20T09:53:36",12,{"$nulls":5},10,2]
[{"$nulls":23},11,"5",2022,"105105",{"$f":"IFERROR(VLOOKUP(Tabla_SERIED_12_5[[#This Row],[IdEstablecimiento]],'[1]Establecimiento 2023'!$A$1:$E$183,3,FALSE),0)","v":"105105-Hospital San Juan de Dios (Combarbalá)"},{"$f":"IFERROR(VLOOKUP(Tabla_SERIED_12_5[[#This Row],[IdEstablecimiento]],'[1]Establecimiento 2023'!$A$1:$E$183,5,FALSE),0)","v":"105105-Hospital Combarbalá"},"15010500","2022-12-20T09:53:36",12,{"$nulls":5},10,2]
[{"$nulls":23},11,"5",2022,"105105",{"$f":"IFERROR(VLOOKUP(Tabla_SERIED_12_5[[#This Row],[IdEstablecimiento]],'[1]Establecimiento 2023'!$A$1:$E$183,3,FALSE),0)","v":"105105-Hospital San Juan de Dios (Combarbalá)"},{"$f":"IFERROR(VLOOKUP(Tabla_SERIED_12_5[[#This Row],[IdEstablecimiento]],'[1]Establecimiento 2023'!$A$1:$E$183,5,FALSE),0)","v":"105105-Hospital Combarbalá"},"15900040","2022-12-20T09:53:36",7.2,2.8,4.4]
[{"$nulls":23},11,"5",2022,"105105",{"$f":"IFERROR(VLOOKUP(Tabla_SERIED_12_5[[#This Row],[IdEstablecimiento]],'[1]Establecimiento 2023'!$A$1:$E$183,3,FALSE),0)","v":"105105-Hospital San Juan de Dios (Combarbalá)"},{"$f":"IFERROR(VLOOKUP(Tabla_SERIED_12_5[[#This Row],[IdEstablecimiento]],'[1]Establecimiento 2023'!$A$1:$E$183,5,FALSE),0)","v":"105105-Hospital Combarbalá"},"15050100","2022-12-20T09:53:36",194,74,120,2,2,9,12,16,54,47,18,null,15,1,18]
[{"$nulls":23},11,"5",2022,"105105",{"$f":"IFERROR(VLOOKUP(Tabla_SERIED_12_5[[#This Row],[IdEstablecimiento]],'[1]Establecimiento 2023'!$A$1:$E$183,3,FALSE),0)","v":"105105-Hospital San Juan de Dios (Combarbalá)"},{"$f":"IFERROR(VLOOKUP(Tabla_SERIED_12_5[[#This Row],[IdEstablecimiento]],'[1]Establecimiento 2023'!$A$1:$E$183,5,FALSE),0)","v":"105105-Hospital Combarbalá"},"15050200","2022-12-20T09:53:36",6,4,2,{"$nulls":5},5,1]
[{"$nulls":23},11,"5",2022,"105105",{"$f":"IFERROR(VLOOKUP(Tabla_SERIED_12_5[[#This Row],[IdEstablecimiento]],'[1]Establecimiento 2023'!$A$1:$E$183,3,FALSE),0)","v":"105105-Hospital San Juan de Dios (Combarbalá)"},{"$f":"IFERROR(VLOOKUP(Tabla_SERIED_12_5[[#This Row],[IdEstablecimiento]],'[1]Establecimiento 2023'!$A$1:$E$183,5,FALSE),0)","v":"105105-Hospital Combarbalá"},"15900050","2022-12-20T09:53:36",2,1,1,1,1]
[{"$nulls":23},11,"5",2022,"105105",{"$f":"IFERROR(VLOOKUP(Tabla_SERIED_12_5[[#This Row],[IdEstablecimiento]],'[1]Establecimiento 2023'!$A$1:$E$183,3,FALSE),0)","v":"105105-Hospital San Juan de Dios (Combarbalá)"},{"$f":"IFERROR(VLOOKUP(Tabla_SERIED_12_5[[#This Row],[IdEstablecimiento]],'[1]Establecimiento 2023'!$A$1:$E$183,5,FALSE),0)","v":"105105-Hospital Combarbalá"},"16090300","2022-12-20T09:53:36",391,391]
[{"$nulls":23},11,"5",2022,"105105",{"$f":"IFERROR(VLOOKUP(Tabla_SERIED_12_5[[#This Row],[IdEstablecimiento]],'[1]Establecimiento 2023'!$A$1:$E$183,3,FALSE),0)","v":"105105-Hospital San Juan de Dios (Combarbalá)"},{"$f":"IFERROR(VLOOKUP(Tabla_SERIED_12_5[[#This Row],[IdEstablecimiento]],'[1]Establecimiento 2023'!$A$1:$E$183,5,FALSE),0)","v":"105105-Hospital Combarbalá"},"16200210","2022-12-20T09:53:36",26,26]
[{"$nulls":23},11,"5",2022,"105105",{"$f":"IFERROR(VLOOKUP(Tabla_SERIED_12_5[[#This Row],[IdEstablecimiento]],'[1]Establecimiento 2023'!$A$1:$E$183,3,FALSE),0)","v":"105105-Hospital San Juan de Dios (Combarbalá)"},{"$f":"IFERROR(VLOOKUP(Tabla_SERIED_12_5[[#This Row],[IdEstablecimiento]],'[1]Establecimiento 2023'!$A$1:$E$183,5,FALSE),0)","v":"105105-Hospital Combarbalá"},"16100300","2022-12-20T09:53:36",391,159,232,8,48]
[{"$nulls":23},11,"5",2022,"105105",{"$f":"IFERROR(VLOOKUP(Tabla_SERIED_12_5[[#This Row],[IdEstablecimiento]],'[1]Establecimiento 2023'!$A$1:$E$183,3,FALSE),0)","v":"105105-Hospital San Juan de Dios (Combarbalá)"},{"$f":"IFERROR(VLOOKUP(Tabla_SERIED_12_5[[#This Row],[IdEstablecimiento]],'[1]Establecimiento 2023'!$A$1:$E$183,5,FALSE),0)","v":"105105-Hospital Combarbalá"},"16200220","2022-12-20T09:53:36",26,9,17,1,4]
[{"$nulls":23},11,"5",2022,"105106",{"$f":"IFERROR(VLOOKUP(Tabla_SERIED_12_5[[#This Row],[IdEstablecimiento]],'[1]Establecimiento 2023'!$A$1:$E$183,3,FALSE),0)","v":"105106-Hospital Dr. José Arraño (Andacollo)"},{"$f":"IFERROR(VLOOKUP(Tabla_SERIED_12_5[[#This Row],[IdEstablecimiento]],'[1]Establecimiento 2023'!$A$1:$E$183,5,FALSE),0)","v":"105106-Hospital Andacollo"},"15010100","2022-12-20T09:53:49",40,{"$nulls":3},40]
[{"$nulls":23},11,"5",2022,"105106",{"$f":"IFERROR(VLOOKUP(Tabla_SERIED_12_5[[#This Row],[IdEstablecimiento]],'[1]Establecimiento 2023'!$A$1:$E$183,3,FALSE),0)","v":"105106-Hospital Dr. José Arraño (Andacollo)"},{"$f":"IFERROR(VLOOKUP(Tabla_SERIED_12_5[[#This Row],[IdEstablecimiento]],'[1]Establecimiento 2023'!$A$1:$E$183,5,FALSE),0)","v":"105106-Hospital Andacollo"},"15010200","2022-12-20T09:53:49",234,{"$nulls":4},48,96,90]
[{"$nulls":23},11,"5",2022,"105106",{"$f":"IFERROR(VLOOKUP(Tabla_SERIED_12_5[[#This Row],[IdEstablecimiento]],'[1]Establecimiento 2023'!$A$1:$E$183,3,FALSE),0)","v":"105106-Hospital Dr. José Arraño (Andacollo)"},{"$f":"IFERROR(VLOOKUP(Tabla_SERIED_12_5[[#This Row],[IdEstablecimiento]],'[1]Establecimiento 2023'!$A$1:$E$183,5,FALSE),0)","v":"105106-Hospital Andacollo"},"15080008","2022-12-20T09:53:49",39,{"$nulls":7},18,null,12,5,4]
[{"$nulls":23},11,"5",2022,"105106",{"$f":"IFERROR(VLOOKUP(Tabla_SERIED_12_5[[#This Row],[IdEstablecimiento]],'[1]Establecimiento 2023'!$A$1:$E$183,3,FALSE),0)","v":"105106-Hospital Dr. José Arraño (Andacollo)"},{"$f":"IFERROR(VLOOKUP(Tabla_SERIED_12_5[[#This Row],[IdEstablecimiento]],'[1]Establecimiento 2023'!$A$1:$E$183,5,FALSE),0)","v":"105106-Hospital Andacollo"},"15900010","2022-12-20T09:53:49",72,4.5,25.2,42.3]
[{"$nulls":23},11,"5",2022,"105106",{"$f":"IFERROR(VLOOKUP(Tabla_SERIED_12_5[[#This Row],[IdEstablecimiento]],'[1]Establecimiento 2023'!$A$1:$E$183,3,FALSE),0)","v":"105106-Hospital Dr. José Arraño (Andacollo)"},{"$f":"IFERROR(VLOOKUP(Tabla_SERIED_12_5[[#This Row],[IdEstablecimiento]],'[1]Establecimiento 2023'!$A$1:$E$183,5,FALSE),0)","v":"105106-Hospital Andacollo"},"15010300","2022-12-20T09:53:49",2,{"$nulls":4},2]
[{"$nulls":23},11,"5",2022,"105106",{"$f":"IFERROR(VLOOKUP(Tabla_SERIED_12_5[[#This Row],[IdEstablecimiento]],'[1]Establecimiento 2023'!$A$1:$E$183,3,FALSE),0)","v":"105106-Hospital Dr. José Arraño (Andacollo)"},{"$f":"IFERROR(VLOOKUP(Tabla_SERIED_12_5[[#This Row],[IdEstablecimiento]],'[1]Establecimiento 2023'!$A$1:$E$183,5,FALSE),0)","v":"105106-Hospital Andacollo"},"15010400","2022-12-20T09:53:49",10,{"$nulls":5},8,2]
[{"$nulls":23},11,"5",2022,"105106",{"$f":"IFERROR(VLOOKUP(Tabla_SERIED_12_5[[#This Row],[IdEstablecimiento]],'[1]Establecimiento 2023'!$A$1:$E$183,3,FALSE),0)","v":"105106-Hospital Dr. José Arraño (Andacollo)"},{"$f":"IFERROR(VLOOKUP(Tabla_SERIED_12_5[[#This Row],[IdEstablecimiento]],'[1]Establecimiento 2023'!$A$1:$E$183,5,FALSE),0)","v":"105106-Hospital Andacollo"},"15010500","2022-12-20T09:53:49",12,{"$nulls":4},2,8,2]
[{"$nulls":23},11,"5",2022,"105106",{"$f":"IFERROR(VLOOKUP(Tabla_SERIED_12_5[[#This Row],[IdEstablecimiento]],'[1]Establecimiento 2023'!$A$1:$E$183,3,FALSE),0)","v":"105106-Hospital Dr. José Arraño (Andacollo)"},{"$f":"IFERROR(VLOOKUP(Tabla_SERIED_12_5[[#This Row],[IdEstablecimiento]],'[1]Establecimiento 2023'!$A$1:$E$183,5,FALSE),0)","v":"105106-Hospital Andacollo"},"15900030","2022-12-20T09:53:49",6.4,1.6,null,4.8]